Workbook

Sheet Combined Results
A1: Name | B1: Assignment 1 | C1: Weighting | D1: Exam | E1: Weighting | F1: Total
A2: ='Exam Marks'!A3 -> Chris Budden | B2: ='Assignment Marks'!B2 -> 0.74 | C2: 0.3 | D2: ='Exam Marks'!L3 -> 0.53333333 | E2: 0.7 | F2: =(C2*B2)+(E2*D2) -> 0.59533333
A3: ='Exam Marks'!A4 -> Jake Tyrrell | B3: ='Assignment Marks'!B3 -> 0.62 | C3: 0.3 | D3: ='Exam Marks'!L4 -> 0.45 | E3: 0.7 | F3: =(C3*B3)+(E3*D3) -> 0.501
A4: ='Exam Marks'!A5 -> Kenny Johnston | B4: ='Assignment Marks'!B4 -> 0.6 | C4: 0.3 | D4: ='Exam Marks'!L5 -> 0.28333333 | E4: 0.7 | F4: =(C4*B4)+(E4*D4) -> 0.37833333
A5: ='Exam Marks'!A6 -> Paul Austin | B5: ='Assignment Marks'!B5 -> 0.63 | C5: 0.3 | D5: ='Exam Marks'!L6 -> 0.6 | E5: 0.7 | F5: =(C5*B5)+(E5*D5) -> 0.609
A6: ='Exam Marks'!A7 -> Ralph Whittaker | B6: ='Assignment Marks'!B6 -> 0.76 | C6: 0.3 | D6: ='Exam Marks'!L7 -> 0.4 | E6: 0.7 | F6: =(C6*B6)+(E6*D6) -> 0.508

Sheet Assignment Marks
A1: Assignment Marks
A2: ='Exam Marks'!A3 -> Chris Budden | B2: 0.74
A3: ='Exam Marks'!A4 -> Jake Tyrrell | B3: 0.62
A4: ='Exam Marks'!A5 -> Kenny Johnston | B4: 0.6
A5: ='Exam Marks'!A6 -> Paul Austin | B5: 0.63
A6: ='Exam Marks'!A7 -> Ralph Whittaker | B6: 0.76

Sheet Exam Marks
A1: Exam Marking | B1: Question 1 | G1: Question 2 | J1: Question 3 | K1: Total Marks | L1: %
B2: A | C2: B | D2: C | E2: D | F2: E | G2: A | H2: B | I2: C | K2: 60
A3: Chris Budden | B3: 3 | C3: 5 | D3: 5 | E3: 2 | F3: 0 | G3: 3 | H3: 2 | I3: 0 | J3: 12 | K3: =SUM(B3:J3) -> 32 | L3: =K3/K$2 -> 0.53333333
A4: Jake Tyrrell | B4: 5 | C4: 0 | D4: 0 | E4: 2 | F4: 0 | G4: 3 | H4: 2 | I4: 0 | J4: 15 | K4: =SUM(B4:J4) -> 27 | L4: =K4/K$2 -> 0.45
A5: Kenny Johnston | B5: 5 | C5: 5 | D5: 5 | E5: 2 | F5: 0 | G5: 0 | H5: 0 | I5: 0 | J5: 0 | K5: =SUM(B5:J5) -> 17 | L5: =K5/K$2 -> 0.28333333
A6: Paul Austin | B6: 5 | C6: 5 | D6: 3 | E6: 2 | F6: 2 | G6: 3 | H6: 0 | I6: 1 | J6: 15 | K6: =SUM(B6:J6) -> 36 | L6: =K6/K$2 -> 0.6
A7: Ralph Whittaker | B7: 5 | C7: 0 | D7: 5 | E7: 2 | F7: 1 | G7: 5 | H7: 0 | I7: 3 | J7: 3 | K7: =SUM(B7:J7) -> 24 | L7: =K7/K$2 -> 0.4
