Workbook

Sheet information work sheet
A1: Number of animals held and sold each season | H1: Other costs innoculation
A2: Pigs | B2: 150 | H2: pigs | I2: £0.70 per animal every | K2: 3 months starting feb
A3: Sheep | B3: 350 | H3: sheep | I3: £1.50 per animal every | K3: 6 months starting jan
A4: Cows | B4: 215 | H4: cows | I4: £1.50 per animal every | K4: 3 months starting jan
A5: Calves | B5: 30 | H5: calves | I5: £1.25 per animal every | K5: 2 months starting feb
A7: Price of animals in pound sterling
H8: Vets fees
B9: Spring | C9: Summer | D9: Autumn | E9: Winter | H9: £250.00 in janaury increasing by 1% per month
A10: Pigs | B10: 100 | C10: 90 | D10: 80 | E10: 90
A11: Sheep | B11: 55 | C11: 50 | D11: 50 | E11: 50
A12: Cows | B12: 300 | C12: 320 | D12: 325 | E12: 335 | H12: Income
A13: Calves | B13: 150 | C13: 150 | D13: 175 | E13: 165 | H13: Cows attract a subsidy of | K13: £5 per animal per month
H14: calves attract a subsidy of | K14: £2 per animal per month
A15: Selling Costs | H15: Sheep ( not lambs) attract | K15: £0.50 per animal per month
A16: Auction Fees | C16: 0.02
A17: Transport | C17: 0.05
A18: Market Fees | C18: 0.0005
A21: Average weekly costs of keeping animals
A22: pigs | B22: 0.85
A23: sheep | B23: 0.45
A24: cows | B24: 2.75
A25: calves | B25: 1.5

Sheet SPRING
A1: Spring
B2: Income | C2: Auction | D2: Transport | E2: Market Fees | F2: Total Income
A3: Pigs | B3: ='information work sheet'!$B$2*'information work sheet'!$B$10 -> 15000 | C3: =$B$3*'information work sheet'!$C$16 -> 300 | D3: ='information work sheet'!$B$2*'information work sheet'!$C$17 -> 7.5 | E3: =$B$3*'information work sheet'!$C$18 -> 7.5 | F3: =SUM(B3:E3) -> 15315
A4: Sheep | B4: ='information work sheet'!$B$3*'information work sheet'!$B$11 -> 19250 | C4: =$B$4*'information work sheet'!$C$16 -> 385 | D4: ='information work sheet'!$B$3*'information work sheet'!$C$17 -> 17.5 | E4: =$B$4*'information work sheet'!$C$18 -> 9.625 | F4: =SUM(B4:E4) -> 19662.125
A5: Cows | B5: ='information work sheet'!$B$4*'information work sheet'!$B$12 -> 64500 | C5: =$B$5*'information work sheet'!$C$16 -> 1290 | D5: ='information work sheet'!$B$4*'information work sheet'!C17 -> 10.75 | E5: =$B$5*'information work sheet'!$C$18 -> 32.25 | F5: =SUM(F3:F4) -> 34977.125
A6: Calves | B6: ='information work sheet'!$B$5*'information work sheet'!$B$13 -> 4500 | C6: =$B$6*'information work sheet'!$C$16 -> 90 | D6: ='information work sheet'!$B$5*'information work sheet'!$C$17 -> 1.5 | E6: =$B$6*'information work sheet'!C18 -> 2.25 | F6: =SUM(B6:E6) -> 4593.75
A7: Totals | B7: =SUM(B3:B6) -> 103250 | C7: =SUM(C3:C6) -> 2065 | D7: =SUM(D3:D6) -> 37.25 | E7: =SUM(E3:E6) -> 51.625 | F7: =SUM(B7:E7) -> 105403.88

Sheet SUMMER
A1: Summer
B2: Income | C2: Auction | D2: Transport | E2: Market Fees | F2: Total Income
A3: Pigs | B3: ='information work sheet'!$B$2*'information work sheet'!$C$10 -> 13500 | C3: =$B$3*'information work sheet'!$C$16 -> 270 | D3: ='information work sheet'!$B$2*'information work sheet'!$C$17 -> 7.5 | E3: =$B$3*'information work sheet'!$C$18 -> 6.75 | F3: =SUM(B3:E3) -> 13784.25
A4: Sheep | B4: ='information work sheet'!$B$3*'information work sheet'!$C$11 -> 17500 | C4: =B4*'information work sheet'!C16 -> 350 | D4: ='information work sheet'!$B$3*'information work sheet'!$C$17 -> 17.5 | E4: =$B$4*'information work sheet'!$C$18 -> 8.75 | F4: =SUM(B4:E4) -> 17876.25
A5: Cows | B5: ='information work sheet'!$B$4*'information work sheet'!$C$12 -> 68800 | C5: =$B$5*'information work sheet'!C16 -> 1376 | D5: ='information work sheet'!$B$4*'information work sheet'!$C$17 -> 10.75 | E5: =$B$5*'information work sheet'!$C$18 -> 34.4 | F5: =SUM(B5:E5) -> 70221.15
A6: Calves | B6: ='information work sheet'!$B$5*'information work sheet'!$C$13 -> 4500 | C6: ='information work sheet'!$C$16 -> 0.02 | D6: ='information work sheet'!$B$5*'information work sheet'!$C$17 -> 1.5 | E6: =$B$6*'information work sheet'!$C$18 -> 2.25 | F6: =SUM(B6:E6) -> 4503.77
A7: Totals | B7: =SUM(B3:B6) -> 104300 | C7: =$B$7*'information work sheet'!$C$16 -> 2086 | D7: =SUM(D3:D6) -> 37.25 | E7: =SUM(E3:E6) -> 52.15 | F7: =SUM(B7:E7) -> 106475.4

Sheet AUTUMN
A1: Autumn
B2: Income | C2: Auction | D2: Transport | E2: Market Fees | F2: Total Income
A3: Pigs | B3: ='information work sheet'!$B$2*'information work sheet'!$D$10 -> 12000 | C3: =$B$3*'information work sheet'!$C$16 -> 240 | D3: ='information work sheet'!$B$2*'information work sheet'!$C$17 -> 7.5 | E3: =$B$3*'information work sheet'!$C$18 -> 6 | F3: =SUM(B3:E3) -> 12253.5
A4: Sheep | B4: ='information work sheet'!$B$3*'information work sheet'!$D$11 -> 17500 | C4: =$B$4*'information work sheet'!$C$16 -> 350 | D4: ='information work sheet'!$B$3*'information work sheet'!$C$17 -> 17.5 | E4: =$B$4*'information work sheet'!$C$18 -> 8.75 | F4: =SUM(B4:E4) -> 17876.25
A5: Cows | B5: ='information work sheet'!$B$4*'information work sheet'!$D$12 -> 69875 | C5: =$B$5*'information work sheet'!$C$16 -> 1397.5 | D5: ='information work sheet'!$B$4*'information work sheet'!$C$17 -> 10.75 | E5: =AUTUMN!$B$5*'information work sheet'!$C$18 -> 34.9375 | F5: =SUM(B5:E5) -> 71318.188
A6: Calves | B6: ='information work sheet'!$B$5*'information work sheet'!$D$13 -> 5250 | C6: =AUTUMN!$B$6*'information work sheet'!$C$16 -> 105 | D6: ='information work sheet'!$B$5*'information work sheet'!$C$17 -> 1.5 | E6: =$B$6*'information work sheet'!$C$18 -> 2.625 | F6: =SUM(B6:E6) -> 5359.125
A7: Totals | B7: =SUM(B3:B6) -> 104625 | C7: =SUM(C3:C6) -> 2092.5 | D7: =SUM(D3:D6) -> 37.25 | E7: =SUM(E3:E6) -> 52.3125 | F7: =SUM(B7:E7) -> 106807.06

Sheet WINTER
A1: Winter
B2: Income | C2: Auction | D2: Transport | E2: Market Fees | F2: Total Income
A3: Pigs | B3: ='information work sheet'!$B$2*'information work sheet'!$E$10 -> 13500 | C3: =$B$3*'information work sheet'!$C$16 -> 270 | D3: ='information work sheet'!$B$2*'information work sheet'!$C$17 -> 7.5 | E3: =$B$3*'information work sheet'!$C$18 -> 6.75 | F3: =SUM(B3:E3) -> 13784.25
A4: Sheep | B4: ='information work sheet'!$B$3*'information work sheet'!$E$11 -> 17500 | C4: =$B$4*'information work sheet'!$C$16 -> 350 | D4: ='information work sheet'!$B$3*'information work sheet'!$C$17 -> 17.5 | E4: =$B$4*'information work sheet'!$C$18 -> 8.75 | F4: =SUM(B4:E4) -> 17876.25
A5: Cows | B5: ='information work sheet'!$B$4*'information work sheet'!$E$12 -> 72025 | C5: =$B$5*'information work sheet'!$C$16 -> 1440.5 | D5: ='information work sheet'!$B$4*'information work sheet'!$C$17 -> 10.75 | E5: =$B$5*'information work sheet'!$C$18 -> 36.0125 | F5: =SUM(B5:E5) -> 73512.262
A6: Calves | B6: ='information work sheet'!$B$5*'information work sheet'!$E$13 -> 4950 | C6: =$B$6*'information work sheet'!$C$16 -> 99 | D6: ='information work sheet'!$B$5*'information work sheet'!$C$17 -> 1.5 | E6: =$B$6*'information work sheet'!$C$18 -> 2.475 | F6: =SUM(B6:E6) -> 5052.975
A7: Totals | B7: =SUM(B3:B6) -> 107975 | C7: =SUM(C3:C6) -> 2159.5 | D7: =SUM(D3:D6) -> 37.25 | E7: =SUM(E3:E6) -> 53.9875 | F7: =SUM(B7:E7) -> 110225.74

Sheet COSTING SHEET
B2: COST | C2: JANUARY | D2: FEBUARY | E2: MARCH | F2: APRIL | G2: MAY | H2: JUNE | I2: JULY | J2: AUGUST | K2: SEPTEMBER | L2: OCTOBER | M2: NOVEMBER | N2: DECEMEBER
A3: PIGS | C3: =('information work sheet'!$B$22*4)*'information work sheet'!B2 -> 510 | D3: =('information work sheet'!B22*4)*'information work sheet'!B2 -> 510 | E3: =('information work sheet'!B22*4)*'information work sheet'!B2 -> 510 | F3: =('information work sheet'!B22*4)*'information work sheet'!B2 -> 510 | G3: =('information work sheet'!B22*4)*'information work sheet'!B2 -> 510 | H3: =('information work sheet'!B22*4)*'information work sheet'!B2 -> 510 | I3: =('information work sheet'!B22*4)*'information work sheet'!B2 -> 510 | J3: =('information work sheet'!B22*4)*'information work sheet'!B2 -> 510 | K3: =('information work sheet'!B22*4)*'information work sheet'!B2 -> 510 | L3: =('information work sheet'!B22*4)*'information work sheet'!B2 -> 510 | M3: =('information work sheet'!B22*4)*'information work sheet'!B2 -> 510 | N3: =('information work sheet'!B22*4)*'information work sheet'!B2 -> 510
A4: SHEEP | C4: =('information work sheet'!B23*4)*'information work sheet'!B3 -> 630 | D4: =('information work sheet'!B23*4)*'information work sheet'!B3 -> 630 | E4: =('information work sheet'!B23*4)*'information work sheet'!B3 -> 630 | F4: =('information work sheet'!B23*4)*'information work sheet'!B3 -> 630 | G4: =('information work sheet'!B23*4)*'information work sheet'!B3 -> 630 | H4: =('information work sheet'!B23*4)*'information work sheet'!B3 -> 630 | I4: =('information work sheet'!B23*4)*'information work sheet'!B3 -> 630 | J4: =('information work sheet'!B23*4)*'information work sheet'!B3 -> 630 | K4: =('information work sheet'!B23*4)*'information work sheet'!B3 -> 630 | L4: =('information work sheet'!B23*4)*'information work sheet'!B3 -> 630 | M4: =('information work sheet'!B23*4)*'information work sheet'!B3 -> 630 | N4: =('information work sheet'!B23*4)*'information work sheet'!B3 -> 630
A5: COWS | C5: =('information work sheet'!$B$24*4)*'information work sheet'!B4 -> 2365 | D5: =('information work sheet'!B24*4)*'information work sheet'!B4 -> 2365 | E5: =('information work sheet'!B24*4)*'information work sheet'!B4 -> 2365 | F5: =('information work sheet'!B24*4)*'information work sheet'!B4 -> 2365 | G5: =('information work sheet'!B24*4)*'information work sheet'!B4 -> 2365 | H5: =('information work sheet'!B24*4)*'information work sheet'!B4 -> 2365 | I5: =('information work sheet'!B24*4)*'information work sheet'!B4 -> 2365 | J5: =('information work sheet'!B24*4)*'information work sheet'!B4 -> 2365 | K5: =('information work sheet'!B24*4)*'information work sheet'!B4 -> 2365 | L5: =('information work sheet'!B24*4)*'information work sheet'!B4 -> 2365 | M5: =('information work sheet'!B24*4)*'information work sheet'!B4 -> 2365 | N5: =('information work sheet'!B24*4)*'information work sheet'!B4 -> 2365
A6: CALVES | C6: =('information work sheet'!B25*4)*'information work sheet'!B5 -> 180 | D6: =('information work sheet'!B25*4)*'information work sheet'!B5 -> 180 | E6: =('information work sheet'!B25*4)*'information work sheet'!B5 -> 180 | F6: =('information work sheet'!B25*4)*'information work sheet'!B5 -> 180 | G6: =('information work sheet'!B25*4)*'information work sheet'!B5 -> 180 | H6: =('information work sheet'!B25*4)*'information work sheet'!B5 -> 180 | I6: =('information work sheet'!B25*4)*'information work sheet'!B5 -> 180 | J6: =('information work sheet'!B25*4)*'information work sheet'!B5 -> 180 | K6: =('information work sheet'!B25*4)*'information work sheet'!B5 -> 180 | L6: =('information work sheet'!B25*4)*'information work sheet'!B5 -> 180 | M6: =('information work sheet'!B25*4)*'information work sheet'!B5 -> 180 | N6: =('information work sheet'!B25*4)*'information work sheet'!B5 -> 180
A7: INNCULATION
A8: PIGS
A9: SHEEP
A10: COWS
A11: CALVES
A12: VETS FEES
A13: TOTAL COSTS
A14: INCOME
A15: SUBSIDY COWS
A16: SUBSIDY CALVES
A17: TOTAL INCOME
A18: BAL B/FWD | D18: 0
A19: BAL C/FWD
