Workbook
Name __RefHeading__17091_303544812: Sheet1!$E$108
Name _Toc46931869: Sheet1!$E$65
Name _Toc46931870: Sheet1!$E$78
Name _Toc46931871: Sheet1!$E$80
Name _Toc46931872: Sheet1!$E$91
Name _Toc46931873: Sheet1!$E$98

Sheet Sheet1
A1: STUDENT | B1: NAME | C1: MARIN | D1: BOCAI
D2: 1815474
D5: Jan | E5: February | F5: March | G5: April | H5: May | I5: June | J5: July | K5: August | L5: Sept | M5: Oct | N5: Nov | O5: Dec | P5: Total
D6: £ | E6: £ | F6: £ | G6: £ | H6: £ | I6: £ | J6: £ | K6: £ | L6: £ | M6: £ | N6: £ | O6: £ | P6: £
A9: Receipts :
A11: Payment on business accounts | E11: =+Sheet2!F110 -> 42503.88 | F11: =+Sheet2!G110 -> 79063.171 | G11: =+Sheet2!H110 -> 77977.499 | H11: =+Sheet2!I110 -> 79467.166 | I11: =+Sheet2!J110 -> 83948.869 | J11: =+Sheet2!K110 -> 83949.629 | K11: =+Sheet2!L110 -> 81814.307 | L11: =+Sheet2!M110 -> 141733.97 | ... O11: =+Sheet2!P110 -> 74992.084 | P11: =+SUM(D11:O11) -> 1012369
A12: Cash sales | D12: =+Sheet2!C124 -> 97800 | E12: =+Sheet2!D124 -> 99109 | F12: =+Sheet2!E124 -> 95502.5 | G12: =+Sheet2!F124 -> 101984 | H12: =+Sheet2!G124 -> 106808 | I12: =+Sheet2!H124 -> 102725 | J12: =+Sheet2!I124 -> 101269 | K12: =+Sheet2!J124 -> 240375 | ... O12: =+Sheet2!N124 -> 85928 | P12: =+SUM(D12:O12) -> 1309033.7
A13: Interest Received | E13: =+D50*0.019 -> 1475.0514 | F13: =+E50*0.019 -> 3560.4069 | G13: =+F50*0.019 -> 1505.6271 | H13: =+G50*0.019 -> 3750.1873 | I13: =+H50*0.019 -> 6575.3538 | J13: =+I50*0.019 -> 8963.0238 | K13: =+J50*0.019 -> 10901.96 | L13: =+K50*0.019 -> 14797.129 | ... O13: =+N50*0.019 -> 22753.055 | P13: =+SUM(D13:O13) -> 112329.21
A16: Total Receipts | D16: =+SUM(D11:D14) -> 97800 | E16: =+SUM(E11:E14) -> 143087.93 | F16: =+SUM(F11:F14) -> 178126.08 | G16: =+SUM(G11:G14) -> 181467.13 | H16: =+SUM(H11:H14) -> 190025.35 | I16: =+SUM(I11:I14) -> 193249.22 | J16: =+SUM(J11:J14) -> 194181.65 | K16: =+SUM(K11:K14) -> 333091.27 | ... P16: =+SUM(P11:P14) -> 2433731.9
A20: Payments :
A22: Freehold | G22: =15000/3 -> 5000 | H22: =+G22 -> 5000 | I22: =+H22 -> 5000 | P22: =+SUM(G22:O22) -> 15000
A23: Fixtures and fittings | J23: =80000/4 -> 20000 | K23: =+J23 -> 20000 | L23: =+K23 -> 20000 | M23: =+L23 -> 20000 | P23: =+SUM(D23:O23) -> 80000
A24: Hot tubs | I24: =25000*0.15 -> 3750 | K24: =25000*0.85 -> 21250
A25: Building Costs | J25: =210000/6 -> 35000 | K25: =210000/6 -> 35000 | L25: =210000/6 -> 35000 | M25: =210000/6 -> 35000 | N25: =210000/6 -> 35000 | O25: =210000/6 -> 35000 | P25: =+SUM(D25:O25) -> 210000
A26: Laundry | F26: 4500 | I26: =+F26 -> 4500 | L26: =+I26 -> 4500 | O26: =+L26 -> 4500 | P26: =+SUM(D26:O26) -> 18000
A27: Energy costs | F27: =12000/4 -> 3000 | I27: =+F27 -> 3000 | L27: =+I27 -> 3000 | O27: =+L27 -> 3000 | P27: =+SUM(D27:O27) -> 12000
A28: Payments to suppliers | D28: =+D56 -> 0 | E28: =+Sheet2!F49 -> 1166.6667 | F28: =+Sheet2!G49 -> 8606.6667 | G28: =+Sheet2!H49 -> 4166.6667 | H28: =+Sheet2!I49 -> 4166.6667 | I28: =+Sheet2!J49 -> 4166.6667 | J28: =+Sheet2!K49 -> 4966.6667 | K28: =+Sheet2!L49 -> 4666.6667 | L28: =+Sheet2!M49 -> 4666.6667 | ... O28: =+Sheet2!P49 -> 4166.6667 | P28: =+SUM(D28:O28) -> 86373.333
A29: Wages | D29: =+Sheet2!E61 -> 10285.714 | E29: =+Sheet2!F61 -> 10285.714 | F29: =+Sheet2!G61 -> 10285.714 | G29: =+Sheet2!H61 -> 10285.714 | H29: =+Sheet2!I61 -> 10285.714 | I29: =+Sheet2!J61 -> 10285.714 | J29: =+Sheet2!K61 -> 10285.714 | K29: =+Sheet2!L61 -> 10285.714 | ... O29: =+Sheet2!P61 -> 10285.714 | P29: =+SUM(D29:O29) -> 123428.57
A30: Salaries | D30: =180000/12 -> 15000 | E30: =+D30 -> 15000 | F30: =+E30 -> 15000 | G30: =+F30 -> 15000 | H30: =+G30 -> 15000 | I30: =+H30 -> 15000 | J30: =+I30 -> 15000 | K30: =+J30 -> 15000 | L30: =+K30 -> 15000 | ... O30: =+N30 -> 15000 | P30: =375000/12 -> 31250
A31: Vehicles | G31: 22000 | P31: =+SUM(D31:O31) -> 22000
A32: Petrol and diesel | D32: =3000/12 -> 250 | E32: =+D32 -> 250 | F32: =+E32 -> 250 | G32: =+F32 -> 250 | H32: =+G32 -> 250 | I32: =+H32 -> 250 | J32: =+I32 -> 250 | K32: =+J32 -> 250 | L32: =+K32 -> 250 | ... O32: =+N32 -> 250 | P32: =16400/12 -> 1366.6667
A33: Rates | D33: =75000/12 -> 6250 | E33: =75000/12 -> 6250 | F33: =75000/12 -> 6250 | G33: =75000/12 -> 6250 | H33: =75000/12 -> 6250 | I33: =75000/12 -> 6250 | J33: =75000/12 -> 6250 | K33: =75000/12 -> 6250 | ... O33: =75000/12 -> 6250 | P33: =+SUM(D33:O33) -> 75000
A34: Marketing | F34: 15000 | I34: =+F34 -> 15000 | K34: =+I34 -> 15000 | N34: =+K34 -> 15000 | P34: =+SUM(D34:O34) -> 60000
A35: Cleaning | N35: 6000 | P35: =+SUM(D35:O35) -> 6000
A36: Maintenance cost | D36: =4560/12 -> 380 | E36: =+D36 -> 380 | F36: =+E36 -> 380 | G36: =+F36 -> 380 | H36: =+G36 -> 380 | I36: =+H36 -> 380 | J36: =+I36 -> 380 | K36: =+J36 -> 380 | L36: =+K36 -> 380 | ... O36: =+N36 -> 380 | P36: =+SUM(D36:O36) -> 4560
A37: Corporation Tax | F37: 223000
A38: Overdraft Interest
A40: Total payments | D40: =+SUM(D22:D38) -> 32165.714 | E40: =+SUM(E22:E38) -> 33332.381 | F40: =+SUM(F22:F38) -> 286272.38 | G40: =+SUM(G22:G38) -> 63332.381 | H40: =+SUM(H22:H38) -> 41332.381 | I40: =+SUM(I22:I38) -> 67582.381 | J40: =+SUM(J22:J38) -> 92132.381 | K40: =+SUM(K22:K38) -> 128082.38 | ... P40: =+SUM(P22:P38) -> 744978.57
A44: Balance b / f | D44: 12000 | E44: =+D50 -> 77634.286 | F44: =+E50 -> 187389.84 | G44: =+F50 -> 79243.534 | H44: =+G50 -> 197378.28 | I44: =+H50 -> 346071.25 | J44: =+I50 -> 471738.09 | K44: =+J50 -> 573787.36 | L44: =+K50 -> 778796.25 | ... P44: =+O50 -> 1302370
A47: Net cashflow in month | D47: =+D16-D40 -> 65634.286 | E47: =+E16-E40 -> 109755.55 | F47: =+F16-F40 -> -108146.3 | G47: =+G16-G40 -> 118134.74 | H47: =+H16-H40 -> 148692.97 | I47: =+I16-I40 -> 125666.84 | J47: =+J16-J40 -> 102049.27 | K47: =+K16-K40 -> 205008.89 | ... P47: =+P16-P40 -> 1688753.3
A50: Balance c / f | D50: =+D44+D47 -> 77634.286 | E50: =+E44+E47 -> 187389.84 | F50: =+F44+F47 -> 79243.534 | G50: =+G44+G47 -> 197378.28 | H50: =+H44+H47 -> 346071.25 | I50: =+I44+I47 -> 471738.09 | J50: =+J44+J47 -> 573787.36 | K50: =+K44+K47 -> 778796.25 | ... P50: =+P44+P47 -> 2991123.3

Sheet Sheet2
A1: WORKINGS : | D1: this page is for your workings - include within your hard copy submission.
E5: Jan | F5: Feb | G5: Mar | H5: April | I5: May | J5: June | K5: July | L5: August | M5: September | N5: October | O5: November | P5: December
A9: Supplier A
A10: Toiletries | E10: =14000/12 -> 1166.6667 | F10: =+E10 -> 1166.6667 | G10: =+F10 -> 1166.6667 | H10: =+G10 -> 1166.6667 | I10: =+H10 -> 1166.6667 | J10: =+I10 -> 1166.6667 | K10: =+J10 -> 1166.6667 | L10: =+K10 -> 1166.6667 | M10: =+L10 -> 1166.6667 | ... P10: =+O10 -> 1166.6667
E15: =+E10 -> 1166.6667 | F15: =+F10 -> 1166.6667 | G15: =+G10 -> 1166.6667 | H15: =+H10 -> 1166.6667 | I15: =+I10 -> 1166.6667 | J15: =+J10 -> 1166.6667 | K15: =+K10 -> 1166.6667 | L15: =+L10 -> 1166.6667 | ... P15: =+P10 -> 1166.6667
E23: Jan | F23: Feb | G23: Mar | H23: April | I23: May | J23: June | K23: July | L23: August | M23: September | N23: October | O23: November | P23: December
A24: Supplier B
A25: In room beverages | E25: 1500 | F25: =+E25 -> 1500 | G25: =+F25 -> 1500 | H25: =+G25 -> 1500 | I25: 2000 | J25: =+I25 -> 2000 | K25: =+J25 -> 2000 | L25: =+K25 -> 2000 | M25: =+L25 -> 2000 | N25: =+H25 -> 1500 | O25: =+N25 -> 1500 | P25: =+O25 -> 1500
A26: Bundle cost | E26: =46*90 -> 4140 | I26: =+F26 -> 0
A27: Kettle trays | L27: 36000
A28: Printing and stationary | E28: =1500+(1500*0.2) -> 1800 | F28: 1500 | G28: =+F28 -> 1500 | H28: =+G28 -> 1500 | I28: =+E28 -> 1800 | J28: =+H28 -> 1500 | K28: 1500 | L28: =+I28 -> 1800 | M28: =+H28 -> 1500 | N28: =+M28 -> 1500 | O28: =+L28 -> 1800 | P28: =+N28 -> 1500
E30: =+SUM(E25:E29) -> 7440 | F30: =+SUM(F25:F29) -> 3000 | G30: =+SUM(G25:G29) -> 3000 | H30: =+SUM(H25:H29) -> 3000 | I30: =+SUM(I25:I29) -> 3800 | J30: =+SUM(J25:J29) -> 3500 | K30: =+SUM(K25:K29) -> 3500 | L30: =+SUM(L25:L29) -> 39800 | ... P30: =+SUM(P25:P29) -> 3000
A41: Supplier A
A42: (1month credit) | E42: - | F42: =+E10 -> 1166.6667 | G42: =+F10 -> 1166.6667 | H42: =+G10 -> 1166.6667 | I42: =+H10 -> 1166.6667 | J42: =+I10 -> 1166.6667 | K42: =+J10 -> 1166.6667 | L42: =+K10 -> 1166.6667 | M42: =+L10 -> 1166.6667 | ... P42: =+O10 -> 1166.6667
A44: Supplier B
A45: (no credit / 1%discount) | G45: =+E30 -> 7440 | H45: =+F30 -> 3000 | I45: =+G30 -> 3000 | J45: =+H30 -> 3000 | K45: =+I30 -> 3800 | L45: =+J30 -> 3500 | M45: =+K30 -> 3500 | N45: =+L30 -> 39800 | ... P45: =+N30 -> 3000
E47: Jan | F47: Feb | G47: Mar | H47: April | I47: May | J47: June | K47: July | L47: August | M47: September | N47: October | O47: November | P47: December
A49: Payments to | F49: =+F42+F45 -> 1166.6667 | G49: =+G42+G45 -> 8606.6667 | H49: =+H42+H45 -> 4166.6667 | I49: =+I42+I45 -> 4166.6667 | J49: =+J42+J45 -> 4166.6667 | K49: =+K42+K45 -> 4966.6667 | L49: =+L42+L45 -> 4666.6667 | M49: =+M42+M45 -> 4666.6667 | ... P49: =+P42+P45 -> 4166.6667
A50: suppliers (£)
E54: Jan | F54: Feb | G54: Mar | H54: April | I54: May | J54: June | K54: July | L54: August | M54: September | N54: October | O54: November | P54: December
A55: (2) Wages | E55: =150000/35 -> 4285.7143 | F55: =+E55 -> 4285.7143 | G55: =+F55 -> 4285.7143 | H55: =+G55 -> 4285.7143 | I55: =+H55 -> 4285.7143 | J55: =+I55 -> 4285.7143 | K55: =+J55 -> 4285.7143 | L55: =+K55 -> 4285.7143 | M55: =+L55 -> 4285.7143 | ... P55: =+O55 -> 4285.7143
A57: Zero Hour payment | E57: =+(10*60)*10 -> 6000 | F57: =+(10*60)*10 -> 6000 | G57: =+(10*60)*10 -> 6000 | H57: =+(10*60)*10 -> 6000 | I57: =+(10*60)*10 -> 6000 | J57: =+(10*60)*10 -> 6000 | K57: =+(10*60)*10 -> 6000 | L57: =+(10*60)*10 -> 6000 | ... P57: =+(10*60)*10 -> 6000
E58: =+E55 -> 4285.7143 | F58: =+E58 -> 4285.7143 | G58: =+F58 -> 4285.7143 | H58: =+G58 -> 4285.7143 | I58: =+H58 -> 4285.7143 | J58: =+I58 -> 4285.7143 | K58: =+J58 -> 4285.7143 | L58: =+K58 -> 4285.7143 | M58: =+L58 -> 4285.7143 | ... P58: =+O58 -> 4285.7143
A61: Wages paid | E61: =+E57+E58 -> 10285.714 | F61: =+F57+F58 -> 10285.714 | G61: =+G57+G58 -> 10285.714 | H61: =+H57+H58 -> 10285.714 | I61: =+I57+I58 -> 10285.714 | J61: =+J57+J58 -> 10285.714 | K61: =+K57+K58 -> 10285.714 | L61: =+L57+L58 -> 10285.714 | ... P61: =+P57+P58 -> 10285.714
A74: Cash paid
A75: % in month
A76: % next month
A83: (3) Cash received from customers
A85: (a) Credit Sales
E88: Jan | F88: Feb | G88: Mar | H88: April | I88: May | J88: June | K88: July | L88: August | M88: September | N88: October | O88: November | P88: December
A91: Total sales | E91: 195600 | F91: 198218 | G91: 191005 | H91: 203968 | I91: 213616 | J91: 205450 | K91: 202538 | L91: 480750 | M91: 223983 | N91: 200800 | O91: 175080 | P91: 171856
A93: Credit sales | E93: =+E91*0.4 -> 78240 | F93: =+F91*0.4 -> 79287.2 | G93: =+G91*0.4 -> 76402 | H93: =+H91*0.4 -> 81587.2 | I93: =+I91*0.4 -> 85446.4 | J93: =+J91*0.4 -> 82180 | K93: =+K91*0.4 -> 81015.2 | L93: =+L91*0.4 -> 192300 | M93: =+M91*0.6 -> 134389.8 | N93: =+N91*0.4 -> 80320 | O93: =+O91*0.4 -> 70032 | P93: =+P91*0.4 -> 68742.4
A95: Credit sales (£) | E95: =+E93 -> 78240 | F95: =+F93 -> 79287.2 | G95: =+G93 -> 76402 | H95: =+H93 -> 81587.2 | I95: =+I93 -> 85446.4 | J95: =+J93 -> 82180 | K95: =+K93 -> 81015.2 | L95: =+L93 -> 192300 | ... P95: =+P93 -> 68742.4
A101: Credit sales | E101: =+E93 -> 78240 | F101: =+F93 -> 79287.2 | G101: =+G93 -> 76402 | H101: =+H93 -> 81587.2 | I101: =+I93 -> 85446.4 | J101: =+J93 -> 82180 | K101: =+K93 -> 81015.2 | L101: =+L93 -> 192300 | ... P101: =+P93 -> 68742.4
A103: In one month | F103: =+E101*0.53 -> 41467.2 | G103: =+F101*0.53 -> 42022.216 | H103: =+G101*0.53 -> 40493.06 | I103: =+H101*0.53 -> 43241.216 | J103: =+I101*0.53 -> 45286.592 | K103: =+J101*0.53 -> 43555.4 | L103: =+K101*0.53 -> 42938.056 | M103: =+L101*0.53 -> 101919 | ... P103: =+O101*0.53 -> 37116.96
A104: In two month | G104: =+E101*0.46 -> 35990.4 | H104: =+F101*0.46 -> 36472.112 | I104: =+G101*0.46 -> 35144.92 | J104: =+H101*0.46 -> 37530.112 | K104: =+I101*0.46 -> 39305.344 | L104: =+J101*0.46 -> 37802.8 | M104: =+K101*0.46 -> 37266.992 | N104: =+L101*0.46 -> 88458 | ... P104: =+N101*0.46 -> 36947.2
A106: Discount 6% | F106: =-F103*0.025 -> -1036.68 | G106: =-G103*0.025 -> -1050.5554 | H106: =-H103*0.025 -> -1012.3265 | I106: =-I103*0.025 -> -1081.0304 | J106: =-J103*0.025 -> -1132.1648 | K106: =-K103*0.025 -> -1088.885 | L106: =-L103*0.025 -> -1073.4514 | M106: =-M103*0.025 -> -2547.975 | ... P106: =-P103*0.025 -> -927.924
A110: Cash received from debtors | F110: =+(F103+F104)-F106 -> 42503.88 | G110: =+(G103+G104)-G106 -> 79063.171 | H110: =+(H103+H104)-H106 -> 77977.499 | I110: =+(I103+I104)-I106 -> 79467.166 | J110: =+(J103+J104)-J106 -> 83948.869 | K110: =+(K103+K104)-K106 -> 83949.629 | L110: =+(L103+L104)-L106 -> 81814.307 | M110: =+(M103+M104)-M106 -> 141733.97 | ... P110: =+(P103+P104)-P106 -> 74992.084
A114: (b) Cash Sales
C117: Jan | D117: Feb | E117: Mar | F117: April | G117: May | H117: June | I117: July | J117: August | K117: September | L117: October | M117: November | N117: December
...

Sheet Sheet3
