Workbook

Sheet 6500
A1: Bore (m) | B1: 0.079
A2: Stroke (m) | B2: 0.0814
A3: Conrod length | B3: 0.137
A4: CR | B4: 11.6
A5: Polytropic index (com) | B5: =LN(D321/D271)/LN(C271/C321) -> 1.3269342
A6: Polytropic index (exp) | B6: =LN(D471/D421)/LN(C421/C471) -> 1.3410559
A7: R (J) | B7: 287
A8: Total work done (J) | B8: =SUM(J11:J730) -> 0.48526997
A10: Crank Angle(deg) | B10: Mean Pressure (B) | C10: Volume (cc) | D10: MP (kPa) | E10: Volume (m^3) | F10: ROC Pressure | G10: pressure gradient | H10: Temperature (K) | I10: dV (m^3) | J10: Work (j)
A11: -360 | B11: 1.097 | C11: 39.27 | D11: =B11*100 -> 109.7 | E11: =C11*0.000001 -> 3.927e-05 | F11: =D12-D11 -> 3.8 | G11: =F11/A12-A11 -> 359.98942 | H11: =(D11*C11)/(287*0.6) -> 25.016951 | I11: =E12-E11 -> 4e-08 | J11: =D11*I11 -> 4.388e-06
A12: -359 | B12: 1.135 | C12: 39.31 | D12: =B12*100 -> 113.5 | E12: =C12*0.000001 -> 3.931e-05 | F12: =D13-D12 -> 1.4 | G12: =F12/A13-A12 -> 358.99609 | H12: =(D12*C12)/(287*0.6) -> 25.909901 | I12: =E13-E12 -> 1.2e-07 | J12: =D12*I12 -> 1.362e-05
A13: -358 | B13: 1.149 | C13: 39.43 | D13: =B13*100 -> 114.9 | E13: =C13*0.000001 -> 3.943e-05 | F13: =D14-D13 -> 1.2 | G13: =F13/A14-A13 -> 357.99664 | H13: =(D13*C13)/(287*0.6) -> 26.309564 | I13: =E14-E13 -> 2e-07 | J13: =D13*I13 -> 2.298e-05
A14: -357 | B14: 1.161 | C14: 39.63 | D14: =B14*100 -> 116.1 | E14: =C14*0.000001 -> 3.963e-05 | F14: =D15-D14 -> 1.2 | G14: =F14/A15-A14 -> 356.99663 | H14: =(D14*C14)/(287*0.6) -> 26.719181 | I14: =E15-E14 -> 2.7e-07 | J14: =D14*I14 -> 3.1347e-05
A15: -356 | B15: 1.173 | C15: 39.9 | D15: =B15*100 -> 117.3 | E15: =C15*0.000001 -> 3.99e-05 | F15: =D16-D15 -> -2 | G15: =F15/A16-A15 -> 356.00563 | H15: =(D15*C15)/(287*0.6) -> 27.179268 | I15: =E16-E15 -> 3.6e-07 | J15: =D15*I15 -> 4.2228e-05
A16: -355 | B16: 1.153 | C16: 40.26 | D16: =B16*100 -> 115.3 | E16: =C16*0.000001 -> 4.026e-05 | F16: =D17-D16 -> -3.8 | G16: =F16/A17-A16 -> 355.01073 | H16: =(D16*C16)/(287*0.6) -> 26.956899 | I16: =E17-E16 -> 4.3e-07 | J16: =D16*I16 -> 4.9579e-05
A17: -354 | B17: 1.115 | C17: 40.69 | D17: =B17*100 -> 111.5 | E17: =C17*0.000001 -> 4.069e-05 | F17: =D18-D17 -> -4.6 | G17: =F17/A18-A17 -> 354.01303 | H17: =(D17*C17)/(287*0.6) -> 26.346893 | I17: =E18-E17 -> 5.1e-07 | J17: =D17*I17 -> 5.6865e-05
A18: -353 | B18: 1.069 | C18: 41.2 | D18: =B18*100 -> 106.9 | E18: =C18*0.000001 -> 4.12e-05 | F18: =D19-D18 -> -3.9 | G18: =F18/A19-A18 -> 353.01108 | H18: =(D18*C18)/(287*0.6) -> 25.576539 | I18: =E19-E18 -> 5.9e-07 | J18: =D18*I18 -> 6.3071e-05
A19: -352 | B19: 1.03 | C19: 41.79 | D19: =B19*100 -> 103 | E19: =C19*0.000001 -> 4.179e-05 | F19: =D20-D19 -> -3.1 | G19: =F19/A20-A19 -> 352.00883 | H19: =(D19*C19)/(287*0.6) -> 24.996341 | I19: =E20-E19 -> 6.6e-07 | J19: =D19*I19 -> 6.798e-05
A20: -351 | B20: 0.999 | C20: 42.45 | D20: =B20*100 -> 99.9 | E20: =C20*0.000001 -> 4.245e-05 | F20: =D21-D20 -> -6.1 | G20: =F20/A21-A20 -> 351.01743 | H20: =(D20*C20)/(287*0.6) -> 24.626916 | I20: =E21-E20 -> 7.5e-07 | J20: =D20*I20 -> 7.4925e-05
A21: -350 | B21: 0.938 | C21: 43.2 | D21: =B21*100 -> 93.8 | E21: =C21*0.000001 -> 4.32e-05 | F21: =D22-D21 -> -7.8 | G21: =F21/A22-A21 -> 350.02235 | H21: =(D21*C21)/(287*0.6) -> 23.531707 | I21: =E22-E21 -> 8.2e-07 | J21: =D21*I21 -> 7.6916e-05
A22: -349 | B22: 0.86 | C22: 44.02 | D22: =B22*100 -> 86 | E22: =C22*0.000001 -> 4.402e-05 | F22: =D23-D22 -> -7.6 | G22: =F22/A23-A22 -> 349.02184 | H22: =(D22*C22)/(287*0.6) -> 21.984437 | I22: =E23-E22 -> 8.9e-07 | J22: =D22*I22 -> 7.654e-05
... A369: -2 | B369: 38.409 | C369: 39.43 | D369: =B369*100 -> 3840.9 | E369: =C369*0.000001 -> 3.943e-05 | F369: =D370-D369 -> 205.5 | G369: =F369/A370-A369 -> -203.5 | H369: =(D369*C369)/(287*0.6) -> 879.48134 | I369: =E370-E369 -> -1.2e-07 | J369: =D369*I369 -> -0.000460908
A370: -1 | B370: 40.464 | C370: 39.31 | D370: =B370*100 -> 4046.4 | E370: =C370*0.000001 -> 3.931e-05 | F370: =D371-D370 -> 223.2 | G370: =IFERROR(F370/A371-A370,0) -> 0 | H370: =(D370*C370)/(287*0.6) -> 923.71652 | I370: =E371-E370 -> -4e-08 | J370: =D370*I370 -> -0.000161856
A371: 0 | B371: 42.696 | C371: 39.27 | D371: =B371*100 -> 4269.6 | E371: =C371*0.000001 -> 3.927e-05 | F371: =D372-D371 -> 236.6 | G371: =F371/A372-A371 -> 236.6 | H371: =(D371*C371)/(287*0.6) -> 973.67707 | I371: =E372-E371 -> 4e-08 | J371: =D371*I371 -> 0.000170784
A372: 1 | B372: 45.062 | C372: 39.31 | D372: =B372*100 -> 4506.2 | E372: =C372*0.000001 -> 3.931e-05 | F372: =D373-D372 -> 242.2 | G372: =F372/A373-A372 -> 120.1 | H372: =(D372*C372)/(287*0.6) -> 1028.6802 | I372: =E373-E372 -> 1.2e-07 | J372: =D372*I372 -> 0.000540744
A373: 2 | B373: 47.484 | C373: 39.43 | D373: =B373*100 -> 4748.4 | E373: =C373*0.000001 -> 3.943e-05 | F373: =D374-D373 -> 243.4 | G373: =F373/A374-A373 -> 79.133333 | H373: =(D373*C373)/(287*0.6) -> 1087.2788 | I373: =E374-E373 -> 2e-07 | J373: =D373*I373 -> 0.00094968
A374: 3 | B374: 49.918 | C374: 39.63 | D374: =B374*100 -> 4991.8 | E374: =C374*0.000001 -> 3.963e-05 | F374: =D375-D374 -> 237.3 | G374: =F374/A375-A374 -> 56.325 | H374: =(D374*C374)/(287*0.6) -> 1148.8097 | I374: =E375-E374 -> 2.7e-07 | J374: =D374*I374 -> 0.001347786
A375: 4 | B375: 52.291 | C375: 39.9 | D375: =B375*100 -> 5229.1 | E375: =C375*0.000001 -> 3.99e-05 | F375: =D376-D375 -> 228.8 | G375: =F375/A376-A375 -> 41.76 | H375: =(D375*C375)/(287*0.6) -> 1211.6207 | I375: =E376-E375 -> 3.6e-07 | J375: =D375*I375 -> 0.001882476
A376: 5 | B376: 54.579 | C376: 40.26 | D376: =B376*100 -> 5457.9 | E376: =C376*0.000001 -> 4.026e-05 | F376: =D377-D376 -> 216.4 | G376: =F376/A377-A376 -> 31.066667 | H376: =(D376*C376)/(287*0.6) -> 1276.0456 | I376: =E377-E376 -> 4.3e-07 | J376: =D376*I376 -> 0.002346897
A377: 6 | B377: 56.743 | C377: 40.69 | D377: =B377*100 -> 5674.3 | E377: =C377*0.000001 -> 4.069e-05 | F377: =D378-D377 -> 204 | G377: =F377/A378-A377 -> 23.142857 | H377: =(D377*C377)/(287*0.6) -> 1340.8088 | I377: =E378-E377 -> 5.1e-07 | J377: =D377*I377 -> 0.002893893
A378: 7 | B378: 58.783 | C378: 41.2 | D378: =B378*100 -> 5878.3 | E378: =C378*0.000001 -> 4.12e-05 | F378: =D379-D378 -> 187.1 | G378: =F378/A379-A378 -> 16.3875 | H378: =(D378*C378)/(287*0.6) -> 1406.4225 | I378: =E379-E378 -> 5.9e-07 | J378: =D378*I378 -> 0.003468197
A379: 8 | B379: 60.654 | C379: 41.79 | D379: =B379*100 -> 6065.4 | E379: =C379*0.000001 -> 4.179e-05 | F379: =D380-D379 -> 166.9 | G379: =F379/A380-A379 -> 10.544444 | H379: =(D379*C379)/(287*0.6) -> 1471.969 | I379: =E380-E379 -> 6.6e-07 | J379: =D379*I379 -> 0.004003164
A380: 9 | B380: 62.323 | C380: 42.45 | D380: =B380*100 -> 6232.3 | E380: =C380*0.000001 -> 4.245e-05 | F380: =D381-D380 -> 146.2 | G380: =F380/A381-A380 -> 5.62 | H380: =(D380*C380)/(287*0.6) -> 1536.3597 | I380: =E381-E380 -> 7.5e-07 | J380: =D380*I380 -> 0.004674225
A381: 10 | B381: 63.785 | C381: 43.2 | D381: =B381*100 -> 6378.5 | E381: =C381*0.000001 -> 4.32e-05 | F381: =D382-D381 -> 122.2 | G381: =F381/A382-A381 -> 1.1090909 | H381: =(D381*C381)/(287*0.6) -> 1600.1812 | I381: =E382-E381 -> 8.2e-07 | J381: =D381*I381 -> 0.00523037
A382: 11 | B382: 65.007 | C382: 44.02 | D382: =B382*100 -> 6500.7 | E382: =C382*0.000001 -> 4.402e-05 | F382: =D383-D382 -> 94.8 | G382: =F382/A383-A382 -> -3.1 | H382: =(D382*C382)/(287*0.6) -> 1661.7933 | I382: =E383-E382 -> 8.9e-07 | J382: =D382*I382 -> 0.005785623
... A729: 358 | B729: 1.045 | C729: 39.43 | D729: =B729*100 -> 104.5 | E729: =C729*0.000001 -> 3.943e-05 | F729: =D730-D729 -> 1.8 | G729: =F729/A730-A729 -> -357.99499 | H729: =(D729*C729)/(287*0.6) -> 23.928194 | I729: =E730-E729 -> -1.2e-07 | J729: =D729*I729 -> -1.254e-05
A730: 359 | B730: 1.063 | C730: 39.31 | D730: =B730*100 -> 106.3 | E730: =C730*0.000001 -> 3.931e-05 | F730: =D731-D730 -> -106.3 | G730: =IFERROR(F730/A731-A730,0) -> 0 | H730: =(D730*C730)/(287*0.6) -> 24.266278 | I730: =E731-E730 -> -3.931e-05 | J730: =D730*I730 -> -0.004178653

Sheet 5500
A1: Bore (m) | B1: 0.079
A2: Stroke (m) | B2: 0.0814
A3: Conrod length | B3: 0.137
A4: CR | B4: 11.6
A5: Polytropic index (com) | B5: =LN(D321/D271)/LN(C271/C321) -> 1.3221684
A6: Polytropic index (exp) | B6: =LN(D471/D421)/LN(C421/C471) -> 1.3388255
A7: R (J) | B7: 287
A8: Total work done (J) | B8: =SUM(J11:J730) -> 0.51682632
A10: Crank Angle(deg) | B10: Mean Pressure (B) | C10: Volume (cc) | D10: MP (kPa) | E10: Volume (m^3) | F10: ROC Pressure | G10: pressure gradient | H10: Temperature (K) | I10: dV (m^3) | J10: Work (j)
A11: -360 | B11: 0.992 | C11: 39.27 | D11: =B11*100 -> 99.2 | E11: =C11*0.000001 -> 3.927e-05 | F11: =D12-D11 -> -2 | G11: =F11/A12-A11 -> 360.00557 | H11: =(D11*C11)/(287*0.6) -> 22.622439 | I11: =E12-E11 -> 4e-08 | J11: =D11*I11 -> 3.968e-06
A12: -359 | B12: 0.972 | C12: 39.31 | D12: =B12*100 -> 97.2 | E12: =C12*0.000001 -> 3.931e-05 | F12: =D13-D12 -> -4 | G12: =F12/A13-A12 -> 359.01117 | H12: =(D12*C12)/(287*0.6) -> 22.18892 | I12: =E13-E12 -> 1.2e-07 | J12: =D12*I12 -> 1.1664e-05
A13: -358 | B13: 0.932 | C13: 39.43 | D13: =B13*100 -> 93.2 | E13: =C13*0.000001 -> 3.943e-05 | F13: =D14-D13 -> -2.7 | G13: =F13/A14-A13 -> 358.00756 | H13: =(D13*C13)/(287*0.6) -> 21.340743 | I13: =E14-E13 -> 2e-07 | J13: =D13*I13 -> 1.864e-05
A14: -357 | B14: 0.905 | C14: 39.63 | D14: =B14*100 -> 90.5 | E14: =C14*0.000001 -> 3.963e-05 | F14: =D15-D14 -> -1 | G14: =F14/A15-A14 -> 357.00281 | H14: =(D14*C14)/(287*0.6) -> 20.827613 | I14: =E15-E14 -> 2.7e-07 | J14: =D14*I14 -> 2.4435e-05
A15: -356 | B15: 0.895 | C15: 39.9 | D15: =B15*100 -> 89.5 | E15: =C15*0.000001 -> 3.99e-05 | F15: =D16-D15 -> -1.2 | G15: =F15/A16-A15 -> 356.00338 | H15: =(D15*C15)/(287*0.6) -> 20.737805 | I15: =E16-E15 -> 3.6e-07 | J15: =D15*I15 -> 3.222e-05
A16: -355 | B16: 0.883 | C16: 40.26 | D16: =B16*100 -> 88.3 | E16: =C16*0.000001 -> 4.026e-05 | F16: =D17-D16 -> -3.9 | G16: =F16/A17-A16 -> 355.01102 | H16: =(D16*C16)/(287*0.6) -> 20.644355 | I16: =E17-E16 -> 4.3e-07 | J16: =D16*I16 -> 3.7969e-05
A17: -354 | B17: 0.844 | C17: 40.69 | D17: =B17*100 -> 84.4 | E17: =C17*0.000001 -> 4.069e-05 | F17: =D18-D17 -> -4.6 | G17: =F17/A18-A17 -> 354.01303 | H17: =(D17*C17)/(287*0.6) -> 19.943298 | I17: =E18-E17 -> 5.1e-07 | J17: =D17*I17 -> 4.3044e-05
A18: -353 | B18: 0.798 | C18: 41.2 | D18: =B18*100 -> 79.8 | E18: =C18*0.000001 -> 4.12e-05 | F18: =D19-D18 -> -4.7 | G18: =F18/A19-A18 -> 353.01335 | H18: =(D18*C18)/(287*0.6) -> 19.092683 | I18: =E19-E18 -> 5.9e-07 | J18: =D18*I18 -> 4.7082e-05
A19: -352 | B19: 0.751 | C19: 41.79 | D19: =B19*100 -> 75.1 | E19: =C19*0.000001 -> 4.179e-05 | F19: =D20-D19 -> -4.7 | G19: =F19/A20-A19 -> 352.01339 | H19: =(D19*C19)/(287*0.6) -> 18.225488 | I19: =E20-E19 -> 6.6e-07 | J19: =D19*I19 -> 4.9566e-05
A20: -351 | B20: 0.704 | C20: 42.45 | D20: =B20*100 -> 70.4 | E20: =C20*0.000001 -> 4.245e-05 | F20: =D21-D20 -> -3.9 | G20: =F20/A21-A20 -> 351.01114 | H20: =(D20*C20)/(287*0.6) -> 17.354704 | I20: =E21-E20 -> 7.5e-07 | J20: =D20*I20 -> 5.28e-05
A21: -350 | B21: 0.665 | C21: 43.2 | D21: =B21*100 -> 66.5 | E21: =C21*0.000001 -> 4.32e-05 | F21: =D22-D21 -> -1.2 | G21: =F21/A22-A21 -> 350.00344 | H21: =(D21*C21)/(287*0.6) -> 16.682927 | I21: =E22-E21 -> 8.2e-07 | J21: =D21*I21 -> 5.453e-05
A22: -349 | B22: 0.653 | C22: 44.02 | D22: =B22*100 -> 65.3 | E22: =C22*0.000001 -> 4.402e-05 | F22: =D23-D22 -> 1.3 | G22: =F22/A23-A22 -> 348.99626 | H22: =(D22*C22)/(287*0.6) -> 16.692834 | I22: =E23-E22 -> 8.9e-07 | J22: =D22*I22 -> 5.8117e-05
... A369: -2 | B369: 32.807 | C369: 39.43 | D369: =B369*100 -> 3280.7 | E369: =C369*0.000001 -> 3.943e-05 | F369: =D370-D369 -> 77 | G369: =F369/A370-A369 -> -75 | H369: =(D369*C369)/(287*0.6) -> 751.2079 | I369: =E370-E369 -> -1.2e-07 | J369: =D369*I369 -> -0.000393684
A370: -1 | B370: 33.577 | C370: 39.31 | D370: =B370*100 -> 3357.7 | E370: =C370*0.000001 -> 3.931e-05 | F370: =D371-D370 -> 85.6 | G370: =IFERROR(F370/A371-A370,0) -> 0 | H370: =(D370*C370)/(287*0.6) -> 766.49934 | I370: =E371-E370 -> -4e-08 | J370: =D370*I370 -> -0.000134308
A371: 0 | B371: 34.433 | C371: 39.27 | D371: =B371*100 -> 3443.3 | E371: =C371*0.000001 -> 3.927e-05 | F371: =D372-D371 -> 97.4 | G371: =F371/A372-A371 -> 97.4 | H371: =(D371*C371)/(287*0.6) -> 785.24037 | I371: =E372-E371 -> 4e-08 | J371: =D371*I371 -> 0.000137732
A372: 1 | B372: 35.407 | C372: 39.31 | D372: =B372*100 -> 3540.7 | E372: =C372*0.000001 -> 3.931e-05 | F372: =D373-D372 -> 111.9 | G372: =F372/A373-A372 -> 54.95 | H372: =(D372*C372)/(287*0.6) -> 808.27478 | I372: =E373-E372 -> 1.2e-07 | J372: =D372*I372 -> 0.000424884
A373: 2 | B373: 36.526 | C373: 39.43 | D373: =B373*100 -> 3652.6 | E373: =C373*0.000001 -> 3.943e-05 | F373: =D374-D373 -> 130.5 | G373: =F373/A374-A373 -> 41.5 | H373: =(D373*C373)/(287*0.6) -> 836.3648 | I373: =E374-E373 -> 2e-07 | J373: =D373*I373 -> 0.00073052
A374: 3 | B374: 37.831 | C374: 39.63 | D374: =B374*100 -> 3783.1 | E374: =C374*0.000001 -> 3.963e-05 | F374: =D375-D374 -> 146.9 | G374: =F374/A375-A374 -> 33.725 | H374: =(D374*C374)/(287*0.6) -> 870.64026 | I374: =E375-E374 -> 2.7e-07 | J374: =D374*I374 -> 0.001021437
A375: 4 | B375: 39.3 | C375: 39.9 | D375: =B375*100 -> 3930 | E375: =C375*0.000001 -> 3.99e-05 | F375: =D376-D375 -> 159.9 | G375: =F375/A376-A375 -> 27.98 | H375: =(D375*C375)/(287*0.6) -> 910.60976 | I375: =E376-E375 -> 3.6e-07 | J375: =D375*I375 -> 0.0014148
A376: 5 | B376: 40.899 | C376: 40.26 | D376: =B376*100 -> 4089.9 | E376: =C376*0.000001 -> 4.026e-05 | F376: =D377-D376 -> 172.1 | G376: =F376/A377-A376 -> 23.683333 | H376: =(D376*C376)/(287*0.6) -> 956.21007 | I376: =E377-E376 -> 4.3e-07 | J376: =D376*I376 -> 0.001758657
A377: 6 | B377: 42.62 | C377: 40.69 | D377: =B377*100 -> 4262 | E377: =C377*0.000001 -> 4.069e-05 | F377: =D378-D377 -> 180.9 | G377: =F377/A378-A377 -> 19.842857 | H377: =(D377*C377)/(287*0.6) -> 1007.0893 | I377: =E378-E377 -> 5.1e-07 | J377: =D377*I377 -> 0.00217362
A378: 7 | B378: 44.429 | C378: 41.2 | D378: =B378*100 -> 4442.9 | E378: =C378*0.000001 -> 4.12e-05 | F378: =D379-D378 -> 184.5 | G378: =F378/A379-A378 -> 16.0625 | H378: =(D378*C378)/(287*0.6) -> 1062.9935 | I378: =E379-E378 -> 5.9e-07 | J378: =D378*I378 -> 0.002621311
A379: 8 | B379: 46.274 | C379: 41.79 | D379: =B379*100 -> 4627.4 | E379: =C379*0.000001 -> 4.179e-05 | F379: =D380-D379 -> 184.8 | G379: =F379/A380-A379 -> 12.533333 | H379: =(D379*C379)/(287*0.6) -> 1122.991 | I379: =E380-E379 -> 6.6e-07 | J379: =D379*I379 -> 0.003054084
A380: 9 | B380: 48.122 | C380: 42.45 | D380: =B380*100 -> 4812.2 | E380: =C380*0.000001 -> 4.245e-05 | F380: =D381-D380 -> 184 | G380: =F380/A381-A380 -> 9.4 | H380: =(D380*C380)/(287*0.6) -> 1186.2828 | I380: =E381-E380 -> 7.5e-07 | J380: =D380*I380 -> 0.00360915
A381: 10 | B381: 49.962 | C381: 43.2 | D381: =B381*100 -> 4996.2 | E381: =C381*0.000001 -> 4.32e-05 | F381: =D382-D381 -> 179.2 | G381: =F381/A382-A381 -> 6.2909091 | H381: =(D381*C381)/(287*0.6) -> 1253.4021 | I381: =E382-E381 -> 8.2e-07 | J381: =D381*I381 -> 0.004096884
A382: 11 | B382: 51.754 | C382: 44.02 | D382: =B382*100 -> 5175.4 | E382: =C382*0.000001 -> 4.402e-05 | F382: =D383-D382 -> 170 | G382: =F382/A383-A382 -> 3.1666667 | H382: =(D382*C382)/(287*0.6) -> 1323.003 | I382: =E383-E382 -> 8.9e-07 | J382: =D382*I382 -> 0.004606106
... A729: 358 | B729: 1.006 | C729: 39.43 | D729: =B729*100 -> 100.6 | E729: =C729*0.000001 -> 3.943e-05 | F729: =D730-D729 -> -0.1 | G729: =F729/A730-A729 -> -358.00028 | H729: =(D729*C729)/(287*0.6) -> 23.03518 | I729: =E730-E729 -> -1.2e-07 | J729: =D729*I729 -> -1.2072e-05
A730: 359 | B730: 1.005 | C730: 39.31 | D730: =B730*100 -> 100.5 | E730: =C730*0.000001 -> 3.931e-05 | F730: =D731-D730 -> -100.5 | G730: =IFERROR(F730/A731-A730,0) -> 0 | H730: =(D730*C730)/(287*0.6) -> 22.942247 | I730: =E731-E730 -> -3.931e-05 | J730: =D730*I730 -> -0.003950655

Sheet 4500
A1: Bore (m) | B1: 0.079
A2: Stroke (m) | B2: 0.0814
A3: Conrod length | B3: 0.137
A4: CR | B4: 11.6
A5: Polytropic index (com) | B5: =LN(D321/D271)/LN(C271/C321) -> 1.3254927
A6: Polytropic index (exp) | B6: =LN(D471/D421)/LN(C421/C471) -> 1.3286264
A7: R (J) | B7: 287
A8: Total work done (J) | B8: =SUM(J11:J730) -> 0.53348359
A10: Crank Angle(deg) | B10: Mean Pressure (B) | C10: Volume (cc) | D10: MP (kPa) | E10: Volume (m^3) | F10: ROC Pressure | G10: pressure gradient | H10: Temperature (K) | I10: dV (m^3) | J10: Work (j)
A11: -360 | B11: 0.905 | C11: 39.27 | D11: =B11*100 -> 90.5 | E11: =C11*0.000001 -> 3.927e-05 | F11: =D12-D11 -> -1.4 | G11: =F11/A12-A11 -> 360.0039 | H11: =(D11*C11)/(287*0.6) -> 20.638415 | I11: =E12-E11 -> 4e-08 | J11: =D11*I11 -> 3.62e-06
A12: -359 | B12: 0.891 | C12: 39.31 | D12: =B12*100 -> 89.1 | E12: =C12*0.000001 -> 3.931e-05 | F12: =D13-D12 -> 0 | G12: =F12/A13-A12 -> 359 | H12: =(D12*C12)/(287*0.6) -> 20.339843 | I12: =E13-E12 -> 1.2e-07 | J12: =D12*I12 -> 1.0692e-05
A13: -358 | B13: 0.891 | C13: 39.43 | D13: =B13*100 -> 89.1 | E13: =C13*0.000001 -> 3.943e-05 | F13: =D14-D13 -> -1.3 | G13: =F13/A14-A13 -> 358.00364 | H13: =(D13*C13)/(287*0.6) -> 20.401934 | I13: =E14-E13 -> 2e-07 | J13: =D13*I13 -> 1.782e-05
A14: -357 | B14: 0.878 | C14: 39.63 | D14: =B14*100 -> 87.8 | E14: =C14*0.000001 -> 3.963e-05 | F14: =D15-D14 -> -2.1 | G14: =F14/A15-A14 -> 357.0059 | H14: =(D14*C14)/(287*0.6) -> 20.206237 | I14: =E15-E14 -> 2.7e-07 | J14: =D14*I14 -> 2.3706e-05
A15: -356 | B15: 0.857 | C15: 39.9 | D15: =B15*100 -> 85.7 | E15: =C15*0.000001 -> 3.99e-05 | F15: =D16-D15 -> -2.9 | G15: =F15/A16-A15 -> 356.00817 | H15: =(D15*C15)/(287*0.6) -> 19.857317 | I15: =E16-E15 -> 3.6e-07 | J15: =D15*I15 -> 3.0852e-05
A16: -355 | B16: 0.828 | C16: 40.26 | D16: =B16*100 -> 82.8 | E16: =C16*0.000001 -> 4.026e-05 | F16: =D17-D16 -> -3.3 | G16: =F16/A17-A16 -> 355.00932 | H16: =(D16*C16)/(287*0.6) -> 19.358467 | I16: =E17-E16 -> 4.3e-07 | J16: =D16*I16 -> 3.5604e-05
A17: -354 | B17: 0.795 | C17: 40.69 | D17: =B17*100 -> 79.5 | E17: =C17*0.000001 -> 4.069e-05 | F17: =D18-D17 -> -3.2 | G17: =F17/A18-A17 -> 354.00907 | H17: =(D17*C17)/(287*0.6) -> 18.785453 | I17: =E18-E17 -> 5.1e-07 | J17: =D17*I17 -> 4.0545e-05
A18: -353 | B18: 0.763 | C18: 41.2 | D18: =B18*100 -> 76.3 | E18: =C18*0.000001 -> 4.12e-05 | F18: =D19-D18 -> -2.3 | G18: =F18/A19-A18 -> 353.00653 | H18: =(D18*C18)/(287*0.6) -> 18.255285 | I18: =E19-E18 -> 5.9e-07 | J18: =D18*I18 -> 4.5017e-05
A19: -352 | B19: 0.74 | C19: 41.79 | D19: =B19*100 -> 74 | E19: =C19*0.000001 -> 4.179e-05 | F19: =D20-D19 -> -1.2 | G19: =F19/A20-A19 -> 352.00342 | H19: =(D19*C19)/(287*0.6) -> 17.958537 | I19: =E20-E19 -> 6.6e-07 | J19: =D19*I19 -> 4.884e-05
A20: -351 | B20: 0.728 | C20: 42.45 | D20: =B20*100 -> 72.8 | E20: =C20*0.000001 -> 4.245e-05 | F20: =D21-D20 -> -0.8 | G20: =F20/A21-A20 -> 351.00229 | H20: =(D20*C20)/(287*0.6) -> 17.946341 | I20: =E21-E20 -> 7.5e-07 | J20: =D20*I20 -> 5.46e-05
A21: -350 | B21: 0.72 | C21: 43.2 | D21: =B21*100 -> 72 | E21: =C21*0.000001 -> 4.32e-05 | F21: =D22-D21 -> -1 | G21: =F21/A22-A21 -> 350.00287 | H21: =(D21*C21)/(287*0.6) -> 18.062718 | I21: =E22-E21 -> 8.2e-07 | J21: =D21*I21 -> 5.904e-05
A22: -349 | B22: 0.71 | C22: 44.02 | D22: =B22*100 -> 71 | E22: =C22*0.000001 -> 4.402e-05 | F22: =D23-D22 -> -0.7 | G22: =F22/A23-A22 -> 349.00201 | H22: =(D22*C22)/(287*0.6) -> 18.149942 | I22: =E23-E22 -> 8.9e-07 | J22: =D22*I22 -> 6.319e-05
... A369: -2 | B369: 33.414 | C369: 39.43 | D369: =B369*100 -> 3341.4 | E369: =C369*0.000001 -> 3.943e-05 | F369: =D370-D369 -> 146 | G369: =F369/A370-A369 -> -144 | H369: =(D369*C369)/(287*0.6) -> 765.10686 | I369: =E370-E369 -> -1.2e-07 | J369: =D369*I369 -> -0.000400968
A370: -1 | B370: 34.874 | C370: 39.31 | D370: =B370*100 -> 3487.4 | E370: =C370*0.000001 -> 3.931e-05 | F370: =D371-D370 -> 166.5 | G370: =IFERROR(F370/A371-A370,0) -> 0 | H370: =(D370*C370)/(287*0.6) -> 796.1074 | I370: =E371-E370 -> -4e-08 | J370: =D370*I370 -> -0.000139496
A371: 0 | B371: 36.539 | C371: 39.27 | D371: =B371*100 -> 3653.9 | E371: =C371*0.000001 -> 3.927e-05 | F371: =D372-D371 -> 185.7 | G371: =F371/A372-A371 -> 185.7 | H371: =(D371*C371)/(287*0.6) -> 833.26744 | I371: =E372-E371 -> 4e-08 | J371: =D371*I371 -> 0.000146156
A372: 1 | B372: 38.396 | C372: 39.31 | D372: =B372*100 -> 3839.6 | E372: =C372*0.000001 -> 3.931e-05 | F372: =D373-D372 -> 206 | G372: =F372/A373-A372 -> 102 | H372: =(D372*C372)/(287*0.6) -> 876.50799 | I372: =E373-E372 -> 1.2e-07 | J372: =D372*I372 -> 0.000460752
A373: 2 | B373: 40.456 | C373: 39.43 | D373: =B373*100 -> 4045.6 | E373: =C373*0.000001 -> 3.943e-05 | F373: =D374-D373 -> 224.4 | G373: =F373/A374-A373 -> 72.8 | H373: =(D373*C373)/(287*0.6) -> 926.35312 | I373: =E374-E373 -> 2e-07 | J373: =D373*I373 -> 0.00080912
A374: 3 | B374: 42.7 | C374: 39.63 | D374: =B374*100 -> 4270 | E374: =C374*0.000001 -> 3.963e-05 | F374: =D375-D374 -> 236.6 | G374: =F374/A375-A374 -> 56.15 | H374: =(D374*C374)/(287*0.6) -> 982.69512 | I374: =E375-E374 -> 2.7e-07 | J374: =D374*I374 -> 0.0011529
A375: 4 | B375: 45.066 | C375: 39.9 | D375: =B375*100 -> 4506.6 | E375: =C375*0.000001 -> 3.99e-05 | F375: =D376-D375 -> 246.5 | G375: =F375/A376-A375 -> 45.3 | H375: =(D375*C375)/(287*0.6) -> 1044.2122 | I375: =E376-E375 -> 3.6e-07 | J375: =D375*I375 -> 0.001622376
A376: 5 | B376: 47.531 | C376: 40.26 | D376: =B376*100 -> 4753.1 | E376: =C376*0.000001 -> 4.026e-05 | F376: =D377-D376 -> 251.5 | G376: =F376/A377-A376 -> 36.916667 | H376: =(D376*C376)/(287*0.6) -> 1111.2648 | I376: =E377-E376 -> 4.3e-07 | J376: =D376*I376 -> 0.002043833
A377: 6 | B377: 50.046 | C377: 40.69 | D377: =B377*100 -> 5004.6 | E377: =C377*0.000001 -> 4.069e-05 | F377: =D378-D377 -> 251.3 | G377: =F377/A378-A377 -> 29.9 | H377: =(D377*C377)/(287*0.6) -> 1182.562 | I377: =E378-E377 -> 5.1e-07 | J377: =D377*I377 -> 0.002552346
A378: 7 | B378: 52.559 | C378: 41.2 | D378: =B378*100 -> 5255.9 | E378: =C378*0.000001 -> 4.12e-05 | F378: =D379-D378 -> 248.2 | G378: =F378/A379-A378 -> 24.025 | H378: =(D378*C378)/(287*0.6) -> 1257.5092 | I378: =E379-E378 -> 5.9e-07 | J378: =D378*I378 -> 0.003100981
A379: 8 | B379: 55.041 | C379: 41.79 | D379: =B379*100 -> 5504.1 | E379: =C379*0.000001 -> 4.179e-05 | F379: =D380-D379 -> 238.1 | G379: =F379/A380-A379 -> 18.455556 | H379: =(D379*C379)/(287*0.6) -> 1335.7511 | I379: =E380-E379 -> 6.6e-07 | J379: =D379*I379 -> 0.003632706
A380: 9 | B380: 57.422 | C380: 42.45 | D380: =B380*100 -> 5742.2 | E380: =C380*0.000001 -> 4.245e-05 | F380: =D381-D380 -> 223.3 | G380: =F380/A381-A380 -> 13.33 | H380: =(D380*C380)/(287*0.6) -> 1415.5423 | I380: =E381-E380 -> 7.5e-07 | J380: =D380*I380 -> 0.00430665
A381: 10 | B381: 59.655 | C381: 43.2 | D381: =B381*100 -> 5965.5 | E381: =C381*0.000001 -> 4.32e-05 | F381: =D382-D381 -> 202.7 | G381: =F381/A382-A381 -> 8.4272727 | H381: =(D381*C381)/(287*0.6) -> 1496.5714 | I381: =E382-E381 -> 8.2e-07 | J381: =D381*I381 -> 0.00489171
A382: 11 | B382: 61.682 | C382: 44.02 | D382: =B382*100 -> 6168.2 | E382: =C382*0.000001 -> 4.402e-05 | F382: =D383-D382 -> 179.3 | G382: =F382/A383-A382 -> 3.9416667 | H382: =(D382*C382)/(287*0.6) -> 1576.7954 | I382: =E383-E382 -> 8.9e-07 | J382: =D382*I382 -> 0.005489698
... A729: 358 | B729: 0.961 | C729: 39.43 | D729: =B729*100 -> 96.1 | E729: =C729*0.000001 -> 3.943e-05 | F729: =D730-D729 -> -2.7 | G729: =F729/A730-A729 -> -358.00752 | H729: =(D729*C729)/(287*0.6) -> 22.004779 | I729: =E730-E729 -> -1.2e-07 | J729: =D729*I729 -> -1.1532e-05
A730: 359 | B730: 0.934 | C730: 39.31 | D730: =B730*100 -> 93.4 | E730: =C730*0.000001 -> 3.931e-05 | F730: =D731-D730 -> -93.4 | G730: =IFERROR(F730/A731-A730,0) -> 0 | H730: =(D730*C730)/(287*0.6) -> 21.321452 | I730: =E731-E730 -> -3.931e-05 | J730: =D730*I730 -> -0.003671554

Sheet 3500
A1: Bore (m) | B1: 0.079
A2: Stroke (m) | B2: 0.0814
A3: Conrod length | B3: 0.137
A4: CR | B4: 11.6
A5: Polytropic index (com) | B5: =LN(D321/D271)/LN(C271/C321) -> 1.3054428
A6: Polytropic index (exp) | B6: =LN(D471/D421)/LN(C421/C471) -> 1.3249962
A7: R (J) | B7: 287
A8: Total work done (J) | B8: =SUM(J11:J730) -> 0.51423727
A10: Crank Angle(deg) | B10: Mean Pressure (B) | C10: Volume (cc) | D10: MP (kPa) | E10: Volume (m^3) | F10: ROC Pressure | G10: pressure gradient | H10: Temperature (K) | I10: dV (m^3) | J10: Work (j)
A11: -360 | B11: 0.831 | C11: 39.27 | D11: =B11*100 -> 83.1 | E11: =C11*0.000001 -> 3.927e-05 | F11: =D12-D11 -> 0.3 | G11: =F11/A12-A11 -> 359.99916 | H11: =(D11*C11)/(287*0.6) -> 18.950854 | I11: =E12-E11 -> 4e-08 | J11: =D11*I11 -> 3.324e-06
A12: -359 | B12: 0.834 | C12: 39.31 | D12: =B12*100 -> 83.4 | E12: =C12*0.000001 -> 3.931e-05 | F12: =D13-D12 -> 0.3 | G12: =F12/A13-A12 -> 358.99916 | H12: =(D12*C12)/(287*0.6) -> 19.038641 | I12: =E13-E12 -> 1.2e-07 | J12: =D12*I12 -> 1.0008e-05
A13: -358 | B13: 0.837 | C13: 39.43 | D13: =B13*100 -> 83.7 | E13: =C13*0.000001 -> 3.943e-05 | F13: =D14-D13 -> 0.8 | G13: =F13/A14-A13 -> 357.99776 | H13: =(D13*C13)/(287*0.6) -> 19.165453 | I13: =E14-E13 -> 2e-07 | J13: =D13*I13 -> 1.674e-05
A14: -357 | B14: 0.845 | C14: 39.63 | D14: =B14*100 -> 84.5 | E14: =C14*0.000001 -> 3.963e-05 | F14: =D15-D14 -> 0.5 | G14: =F14/A15-A14 -> 356.9986 | H14: =(D14*C14)/(287*0.6) -> 19.446777 | I14: =E15-E14 -> 2.7e-07 | J14: =D14*I14 -> 2.2815e-05
A15: -356 | B15: 0.85 | C15: 39.9 | D15: =B15*100 -> 85 | E15: =C15*0.000001 -> 3.99e-05 | F15: =D16-D15 -> 0.2 | G15: =F15/A16-A15 -> 355.99944 | H15: =(D15*C15)/(287*0.6) -> 19.695122 | I15: =E16-E15 -> 3.6e-07 | J15: =D15*I15 -> 3.06e-05
A16: -355 | B16: 0.852 | C16: 40.26 | D16: =B16*100 -> 85.2 | E16: =C16*0.000001 -> 4.026e-05 | F16: =D17-D16 -> -0.1 | G16: =F16/A17-A16 -> 355.00028 | H16: =(D16*C16)/(287*0.6) -> 19.919582 | I16: =E17-E16 -> 4.3e-07 | J16: =D16*I16 -> 3.6636e-05
A17: -354 | B17: 0.851 | C17: 40.69 | D17: =B17*100 -> 85.1 | E17: =C17*0.000001 -> 4.069e-05 | F17: =D18-D17 -> 0.2 | G17: =F17/A18-A17 -> 353.99943 | H17: =(D17*C17)/(287*0.6) -> 20.108705 | I17: =E18-E17 -> 5.1e-07 | J17: =D17*I17 -> 4.3401e-05
A18: -353 | B18: 0.853 | C18: 41.2 | D18: =B18*100 -> 85.3 | E18: =C18*0.000001 -> 4.12e-05 | F18: =D19-D18 -> -0.3 | G18: =F18/A19-A18 -> 353.00085 | H18: =(D18*C18)/(287*0.6) -> 20.408595 | I18: =E19-E18 -> 5.9e-07 | J18: =D18*I18 -> 5.0327e-05
A19: -352 | B19: 0.85 | C19: 41.79 | D19: =B19*100 -> 85 | E19: =C19*0.000001 -> 4.179e-05 | F19: =D20-D19 -> -0.2 | G19: =F19/A20-A19 -> 352.00057 | H19: =(D19*C19)/(287*0.6) -> 20.628049 | I19: =E20-E19 -> 6.6e-07 | J19: =D19*I19 -> 5.61e-05
A20: -351 | B20: 0.848 | C20: 42.45 | D20: =B20*100 -> 84.8 | E20: =C20*0.000001 -> 4.245e-05 | F20: =D21-D20 -> -0.1 | G20: =F20/A21-A20 -> 351.00029 | H20: =(D20*C20)/(287*0.6) -> 20.90453 | I20: =E21-E20 -> 7.5e-07 | J20: =D20*I20 -> 6.36e-05
A21: -350 | B21: 0.847 | C21: 43.2 | D21: =B21*100 -> 84.7 | E21: =C21*0.000001 -> 4.32e-05 | F21: =D22-D21 -> -0.5 | G21: =F21/A22-A21 -> 350.00143 | H21: =(D21*C21)/(287*0.6) -> 21.24878 | I21: =E22-E21 -> 8.2e-07 | J21: =D21*I21 -> 6.9454e-05
A22: -349 | B22: 0.842 | C22: 44.02 | D22: =B22*100 -> 84.2 | E22: =C22*0.000001 -> 4.402e-05 | F22: =D23-D22 -> -0.8 | G22: =F22/A23-A22 -> 349.0023 | H22: =(D22*C22)/(287*0.6) -> 21.524297 | I22: =E23-E22 -> 8.9e-07 | J22: =D22*I22 -> 7.4938e-05
... A369: -2 | B369: 30.549 | C369: 39.43 | D369: =B369*100 -> 3054.9 | E369: =C369*0.000001 -> 3.943e-05 | F369: =D370-D369 -> 129.6 | G369: =F369/A370-A369 -> -127.6 | H369: =(D369*C369)/(287*0.6) -> 699.50469 | I369: =E370-E369 -> -1.2e-07 | J369: =D369*I369 -> -0.000366588
A370: -1 | B370: 31.845 | C370: 39.31 | D370: =B370*100 -> 3184.5 | E370: =C370*0.000001 -> 3.931e-05 | F370: =D371-D370 -> 151.2 | G370: =IFERROR(F370/A371-A370,0) -> 0 | H370: =(D370*C370)/(287*0.6) -> 726.96106 | I370: =E371-E370 -> -4e-08 | J370: =D370*I370 -> -0.00012738
A371: 0 | B371: 33.357 | C371: 39.27 | D371: =B371*100 -> 3335.7 | E371: =C371*0.000001 -> 3.927e-05 | F371: =D372-D371 -> 173 | G371: =F371/A372-A371 -> 173 | H371: =(D371*C371)/(287*0.6) -> 760.70232 | I371: =E372-E371 -> 4e-08 | J371: =D371*I371 -> 0.000133428
A372: 1 | B372: 35.087 | C372: 39.31 | D372: =B372*100 -> 3508.7 | E372: =C372*0.000001 -> 3.931e-05 | F372: =D373-D372 -> 197.7 | G372: =F372/A373-A372 -> 97.85 | H372: =(D372*C372)/(287*0.6) -> 800.96979 | I372: =E373-E372 -> 1.2e-07 | J372: =D372*I372 -> 0.000421044
A373: 2 | B373: 37.064 | C373: 39.43 | D373: =B373*100 -> 3706.4 | E373: =C373*0.000001 -> 3.943e-05 | F373: =D374-D373 -> 219.4 | G373: =F373/A374-A373 -> 71.133333 | H373: =(D373*C373)/(287*0.6) -> 848.68381 | I373: =E374-E373 -> 2e-07 | J373: =D373*I373 -> 0.00074128
A374: 3 | B374: 39.258 | C374: 39.63 | D374: =B374*100 -> 3925.8 | E374: =C374*0.000001 -> 3.963e-05 | F374: =D375-D374 -> 240.1 | G374: =F374/A375-A374 -> 57.025 | H374: =(D374*C374)/(287*0.6) -> 903.48115 | I374: =E375-E374 -> 2.7e-07 | J374: =D374*I374 -> 0.001059966
A375: 4 | B375: 41.659 | C375: 39.9 | D375: =B375*100 -> 4165.9 | E375: =C375*0.000001 -> 3.99e-05 | F375: =D376-D375 -> 255.9 | G375: =F375/A376-A375 -> 47.18 | H375: =(D375*C375)/(287*0.6) -> 965.26951 | I375: =E376-E375 -> 3.6e-07 | J375: =D375*I375 -> 0.001499724
A376: 5 | B376: 44.218 | C376: 40.26 | D376: =B376*100 -> 4421.8 | E376: =C376*0.000001 -> 4.026e-05 | F376: =D377-D376 -> 268.9 | G376: =F376/A377-A376 -> 39.816667 | H376: =(D376*C376)/(287*0.6) -> 1033.8076 | I376: =E377-E376 -> 4.3e-07 | J376: =D376*I376 -> 0.001901374
A377: 6 | B377: 46.907 | C377: 40.69 | D377: =B377*100 -> 4690.7 | E377: =C377*0.000001 -> 4.069e-05 | F377: =D378-D377 -> 275.6 | G377: =F377/A378-A377 -> 33.371429 | H377: =(D377*C377)/(287*0.6) -> 1108.389 | I377: =E378-E377 -> 5.1e-07 | J377: =D377*I377 -> 0.002392257
A378: 7 | B378: 49.663 | C378: 41.2 | D378: =B378*100 -> 4966.3 | E378: =C378*0.000001 -> 4.12e-05 | F378: =D379-D378 -> 275.5 | G378: =F378/A379-A378 -> 27.4375 | H378: =(D378*C378)/(287*0.6) -> 1188.2204 | I378: =E379-E378 -> 5.9e-07 | J378: =D378*I378 -> 0.002930117
A379: 8 | B379: 52.418 | C379: 41.79 | D379: =B379*100 -> 5241.8 | E379: =C379*0.000001 -> 4.179e-05 | F379: =D380-D379 -> 267.8 | G379: =F379/A380-A379 -> 21.755556 | H379: =(D379*C379)/(287*0.6) -> 1272.0954 | I379: =E380-E379 -> 6.6e-07 | J379: =D379*I379 -> 0.003459588
A380: 9 | B380: 55.096 | C380: 42.45 | D380: =B380*100 -> 5509.6 | E380: =C380*0.000001 -> 4.245e-05 | F380: =D381-D380 -> 253.4 | G380: =F380/A381-A380 -> 16.34 | H380: =(D380*C380)/(287*0.6) -> 1358.2028 | I380: =E381-E380 -> 7.5e-07 | J380: =D380*I380 -> 0.0041322
A381: 10 | B381: 57.63 | C381: 43.2 | D381: =B381*100 -> 5763 | E381: =C381*0.000001 -> 4.32e-05 | F381: =D382-D381 -> 230.6 | G381: =F381/A382-A381 -> 10.963636 | H381: =(D381*C381)/(287*0.6) -> 1445.77 | I381: =E382-E381 -> 8.2e-07 | J381: =D381*I381 -> 0.00472566
A382: 11 | B382: 59.936 | C382: 44.02 | D382: =B382*100 -> 5993.6 | E382: =C382*0.000001 -> 4.402e-05 | F382: =D383-D382 -> 201.1 | G382: =F382/A383-A382 -> 5.7583333 | H382: =(D382*C382)/(287*0.6) -> 1532.1619 | I382: =E383-E382 -> 8.9e-07 | J382: =D382*I382 -> 0.005334304
... A729: 358 | B729: 0.803 | C729: 39.43 | D729: =B729*100 -> 80.3 | E729: =C729*0.000001 -> 3.943e-05 | F729: =D730-D729 -> 1.6 | G729: =F729/A730-A729 -> -357.99554 | H729: =(D729*C729)/(287*0.6) -> 18.386928 | I729: =E730-E729 -> -1.2e-07 | J729: =D729*I729 -> -9.636e-06
A730: 359 | B730: 0.819 | C730: 39.31 | D730: =B730*100 -> 81.9 | E730: =C730*0.000001 -> 3.931e-05 | F730: =D731-D730 -> -81.9 | G730: =IFERROR(F730/A731-A730,0) -> 0 | H730: =(D730*C730)/(287*0.6) -> 18.69622 | I730: =E731-E730 -> -3.931e-05 | J730: =D730*I730 -> -0.003219489

Sheet 2500
A1: Bore (m) | B1: 0.079
A2: Stroke (m) | B2: 0.0814
A3: Conrod length | B3: 0.137
A4: CR | B4: 11.6
A5: Polytropic index (com) | B5: =LN(D321/D271)/LN(C271/C321) -> 1.3266454
A6: Polytropic index (exp) | B6: =LN(D471/D421)/LN(C421/C471) -> 1.3280707
A7: R (J) | B7: 287
A8: Total work done (J) | B8: =SUM(J11:J730) -> 0.50580778
A10: Crank Angle(deg) | B10: Mean Pressure (B) | C10: Volume (cc) | D10: MP (kPa) | E10: Volume (m^3) | F10: ROC Pressure | G10: pressure gradient | H10: Temperature (K) | I10: dV (m^3) | J10: Work (j)
A11: -360 | B11: 0.859 | C11: 39.27 | D11: =B11*100 -> 85.9 | E11: =C11*0.000001 -> 3.927e-05 | F11: =D12-D11 -> -0.4 | G11: =F11/A12-A11 -> 360.00111 | H11: =(D11*C11)/(287*0.6) -> 19.58939 | I11: =E12-E11 -> 4e-08 | J11: =D11*I11 -> 3.436e-06
A12: -359 | B12: 0.855 | C12: 39.31 | D12: =B12*100 -> 85.5 | E12: =C12*0.000001 -> 3.931e-05 | F12: =D13-D12 -> 0.4 | G12: =F12/A13-A12 -> 358.99888 | H12: =(D12*C12)/(287*0.6) -> 19.518031 | I12: =E13-E12 -> 1.2e-07 | J12: =D12*I12 -> 1.026e-05
A13: -358 | B13: 0.859 | C13: 39.43 | D13: =B13*100 -> 85.9 | E13: =C13*0.000001 -> 3.943e-05 | F13: =D14-D13 -> 0 | G13: =F13/A14-A13 -> 358 | H13: =(D13*C13)/(287*0.6) -> 19.669204 | I13: =E14-E13 -> 2e-07 | J13: =D13*I13 -> 1.718e-05
A14: -357 | B14: 0.859 | C14: 39.63 | D14: =B14*100 -> 85.9 | E14: =C14*0.000001 -> 3.963e-05 | F14: =D15-D14 -> 0.1 | G14: =F14/A15-A14 -> 356.99972 | H14: =(D14*C14)/(287*0.6) -> 19.768972 | I14: =E15-E14 -> 2.7e-07 | J14: =D14*I14 -> 2.3193e-05
A15: -356 | B15: 0.86 | C15: 39.9 | D15: =B15*100 -> 86 | E15: =C15*0.000001 -> 3.99e-05 | F15: =D16-D15 -> 1.1 | G15: =F15/A16-A15 -> 355.9969 | H15: =(D15*C15)/(287*0.6) -> 19.926829 | I15: =E16-E15 -> 3.6e-07 | J15: =D15*I15 -> 3.096e-05
A16: -355 | B16: 0.871 | C16: 40.26 | D16: =B16*100 -> 87.1 | E16: =C16*0.000001 -> 4.026e-05 | F16: =D17-D16 -> 0.5 | G16: =F16/A17-A16 -> 354.99859 | H16: =(D16*C16)/(287*0.6) -> 20.363798 | I16: =E17-E16 -> 4.3e-07 | J16: =D16*I16 -> 3.7453e-05
A17: -354 | B17: 0.876 | C17: 40.69 | D17: =B17*100 -> 87.6 | E17: =C17*0.000001 -> 4.069e-05 | F17: =D18-D17 -> 0.9 | G17: =F17/A18-A17 -> 353.99745 | H17: =(D17*C17)/(287*0.6) -> 20.699443 | I17: =E18-E17 -> 5.1e-07 | J17: =D17*I17 -> 4.4676e-05
A18: -353 | B18: 0.885 | C18: 41.2 | D18: =B18*100 -> 88.5 | E18: =C18*0.000001 -> 4.12e-05 | F18: =D19-D18 -> 0.4 | G18: =F18/A19-A18 -> 352.99886 | H18: =(D18*C18)/(287*0.6) -> 21.174216 | I18: =E19-E18 -> 5.9e-07 | J18: =D18*I18 -> 5.2215e-05
A19: -352 | B19: 0.889 | C19: 41.79 | D19: =B19*100 -> 88.9 | E19: =C19*0.000001 -> 4.179e-05 | F19: =D20-D19 -> 0.1 | G19: =F19/A20-A19 -> 351.99972 | H19: =(D19*C19)/(287*0.6) -> 21.574512 | I19: =E20-E19 -> 6.6e-07 | J19: =D19*I19 -> 5.8674e-05
A20: -351 | B20: 0.89 | C20: 42.45 | D20: =B20*100 -> 89 | E20: =C20*0.000001 -> 4.245e-05 | F20: =D21-D20 -> 0.2 | G20: =F20/A21-A20 -> 350.99943 | H20: =(D20*C20)/(287*0.6) -> 21.939895 | I20: =E21-E20 -> 7.5e-07 | J20: =D20*I20 -> 6.675e-05
A21: -350 | B21: 0.892 | C21: 43.2 | D21: =B21*100 -> 89.2 | E21: =C21*0.000001 -> 4.32e-05 | F21: =D22-D21 -> 0 | G21: =F21/A22-A21 -> 350 | H21: =(D21*C21)/(287*0.6) -> 22.3777 | I21: =E22-E21 -> 8.2e-07 | J21: =D21*I21 -> 7.3144e-05
A22: -349 | B22: 0.892 | C22: 44.02 | D22: =B22*100 -> 89.2 | E22: =C22*0.000001 -> 4.402e-05 | F22: =D23-D22 -> 0.5 | G22: =F22/A23-A22 -> 348.99856 | H22: =(D22*C22)/(287*0.6) -> 22.802462 | I22: =E23-E22 -> 8.9e-07 | J22: =D22*I22 -> 7.9388e-05
... A369: -2 | B369: 28.098 | C369: 39.43 | D369: =B369*100 -> 2809.8 | E369: =C369*0.000001 -> 3.943e-05 | F369: =D370-D369 -> 72.7 | G369: =F369/A370-A369 -> -70.7 | H369: =(D369*C369)/(287*0.6) -> 643.3822 | I369: =E370-E369 -> -1.2e-07 | J369: =D369*I369 -> -0.000337176
A370: -1 | B370: 28.825 | C370: 39.31 | D370: =B370*100 -> 2882.5 | E370: =C370*0.000001 -> 3.931e-05 | F370: =D371-D370 -> 83.1 | G370: =IFERROR(F370/A371-A370,0) -> 0 | H370: =(D370*C370)/(287*0.6) -> 658.02018 | I370: =E371-E370 -> -4e-08 | J370: =D370*I370 -> -0.0001153
A371: 0 | B371: 29.656 | C371: 39.27 | D371: =B371*100 -> 2965.6 | E371: =C371*0.000001 -> 3.927e-05 | F371: =D372-D371 -> 97.5 | G371: =F371/A372-A371 -> 97.5 | H371: =(D371*C371)/(287*0.6) -> 676.30146 | I371: =E372-E371 -> 4e-08 | J371: =D371*I371 -> 0.000118624
A372: 1 | B372: 30.631 | C372: 39.31 | D372: =B372*100 -> 3063.1 | E372: =C372*0.000001 -> 3.931e-05 | F372: =D373-D372 -> 114.1 | G372: =F372/A373-A372 -> 56.05 | H372: =(D372*C372)/(287*0.6) -> 699.24774 | I372: =E373-E372 -> 1.2e-07 | J372: =D372*I372 -> 0.000367572
A373: 2 | B373: 31.772 | C373: 39.43 | D373: =B373*100 -> 3177.2 | E373: =C373*0.000001 -> 3.943e-05 | F373: =D374-D373 -> 132.2 | G373: =F373/A374-A373 -> 42.066667 | H373: =(D373*C373)/(287*0.6) -> 727.50869 | I373: =E374-E373 -> 2e-07 | J373: =D373*I373 -> 0.00063544
A374: 3 | B374: 33.094 | C374: 39.63 | D374: =B374*100 -> 3309.4 | E374: =C374*0.000001 -> 3.963e-05 | F374: =D375-D374 -> 149.7 | G374: =F374/A375-A374 -> 34.425 | H374: =(D374*C374)/(287*0.6) -> 761.62324 | I374: =E375-E374 -> 2.7e-07 | J374: =D374*I374 -> 0.000893538
A375: 4 | B375: 34.591 | C375: 39.9 | D375: =B375*100 -> 3459.1 | E375: =C375*0.000001 -> 3.99e-05 | F375: =D376-D375 -> 169 | G375: =F375/A376-A375 -> 29.8 | H375: =(D375*C375)/(287*0.6) -> 801.49878 | I375: =E376-E375 -> 3.6e-07 | J375: =D375*I375 -> 0.001245276
A376: 5 | B376: 36.281 | C376: 40.26 | D376: =B376*100 -> 3628.1 | E376: =C376*0.000001 -> 4.026e-05 | F376: =D377-D376 -> 181.9 | G376: =F376/A377-A376 -> 25.316667 | H376: =(D376*C376)/(287*0.6) -> 848.2422 | I376: =E377-E376 -> 4.3e-07 | J376: =D376*I376 -> 0.001560083
A377: 6 | B377: 38.1 | C377: 40.69 | D377: =B377*100 -> 3810 | E377: =C377*0.000001 -> 4.069e-05 | F377: =D378-D377 -> 192.9 | G377: =F377/A378-A377 -> 21.557143 | H377: =(D377*C377)/(287*0.6) -> 900.28397 | I377: =E378-E377 -> 5.1e-07 | J377: =D377*I377 -> 0.0019431
A378: 7 | B378: 40.029 | C378: 41.2 | D378: =B378*100 -> 4002.9 | E378: =C378*0.000001 -> 4.12e-05 | F378: =D379-D378 -> 201.4 | G378: =F378/A379-A378 -> 18.175 | H378: =(D378*C378)/(287*0.6) -> 957.72056 | I378: =E379-E378 -> 5.9e-07 | J378: =D378*I378 -> 0.002361711
A379: 8 | B379: 42.043 | C379: 41.79 | D379: =B379*100 -> 4204.3 | E379: =C379*0.000001 -> 4.179e-05 | F379: =D380-D379 -> 207.2 | G379: =F379/A380-A379 -> 15.022222 | H379: =(D379*C379)/(287*0.6) -> 1020.3118 | I379: =E380-E379 -> 6.6e-07 | J379: =D379*I379 -> 0.002774838
A380: 9 | B380: 44.115 | C380: 42.45 | D380: =B380*100 -> 4411.5 | E380: =C380*0.000001 -> 4.245e-05 | F380: =D381-D380 -> 209.8 | G380: =F380/A381-A380 -> 11.98 | H380: =(D380*C380)/(287*0.6) -> 1087.5039 | I380: =E381-E380 -> 7.5e-07 | J380: =D380*I380 -> 0.003308625
A381: 10 | B381: 46.213 | C381: 43.2 | D381: =B381*100 -> 4621.3 | E381: =C381*0.000001 -> 4.32e-05 | F381: =D382-D381 -> 208.6 | G381: =F381/A382-A381 -> 8.9636364 | H381: =(D381*C381)/(287*0.6) -> 1159.3505 | I381: =E382-E381 -> 8.2e-07 | J381: =D381*I381 -> 0.003789466
A382: 11 | B382: 48.299 | C382: 44.02 | D382: =B382*100 -> 4829.9 | E382: =C382*0.000001 -> 4.402e-05 | F382: =D383-D382 -> 204.3 | G382: =F382/A383-A382 -> 6.025 | H382: =(D382*C382)/(287*0.6) -> 1234.6818 | I382: =E383-E382 -> 8.9e-07 | J382: =D382*I382 -> 0.004298611
... A729: 358 | B729: 0.859 | C729: 39.43 | D729: =B729*100 -> 85.9 | E729: =C729*0.000001 -> 3.943e-05 | F729: =D730-D729 -> -0.1 | G729: =F729/A730-A729 -> -358.00028 | H729: =(D729*C729)/(287*0.6) -> 19.669204 | I729: =E730-E729 -> -1.2e-07 | J729: =D729*I729 -> -1.0308e-05
A730: 359 | B730: 0.858 | C730: 39.31 | D730: =B730*100 -> 85.8 | E730: =C730*0.000001 -> 3.931e-05 | F730: =D731-D730 -> -85.8 | G730: =IFERROR(F730/A731-A730,0) -> 0 | H730: =(D730*C730)/(287*0.6) -> 19.586516 | I730: =E731-E730 -> -3.931e-05 | J730: =D730*I730 -> -0.003372798

Sheet 1500
A1: Bore (m) | B1: 0.079
A2: Stroke (m) | B2: 0.0814
A3: Conrod length | B3: 0.137
A4: CR | B4: 11.6
A5: Polytropic index (com) | B5: =LN(D321/D271)/LN(C271/C321) -> 1.3013966
A6: Polytropic index (exp) | B6: =LN(D471/D421)/LN(C421/C471) -> 1.3152544
A7: R (J) | B7: 287
A8: Total work done (J) | B8: =SUM(J11:J730) -> 0.44532551
A10: Crank Angle(deg) | B10: Mean Pressure (B) | C10: Volume (cc) | D10: MP (kPa) | E10: Volume (m^3) | F10: ROC Pressure | G10: pressure gradient | H10: Temperature (K) | I10: dV (m^3) | J10: Work (j)
A11: -360 | B11: 1.063 | C11: 39.27 | D11: =B11*100 -> 106.3 | E11: =C11*0.000001 -> 3.927e-05 | F11: =D12-D11 -> 0 | G11: =F11/A12-A11 -> 360 | H11: =(D11*C11)/(287*0.6) -> 24.241585 | I11: =E12-E11 -> 4e-08 | J11: =D11*I11 -> 4.252e-06
A12: -359 | B12: 1.063 | C12: 39.31 | D12: =B12*100 -> 106.3 | E12: =C12*0.000001 -> 3.931e-05 | F12: =D13-D12 -> 0.2 | G12: =F12/A13-A12 -> 358.99944 | H12: =(D12*C12)/(287*0.6) -> 24.266278 | I12: =E13-E12 -> 1.2e-07 | J12: =D12*I12 -> 1.2756e-05
A13: -358 | B13: 1.065 | C13: 39.43 | D13: =B13*100 -> 106.5 | E13: =C13*0.000001 -> 3.943e-05 | F13: =D14-D13 -> 0.7 | G13: =F13/A14-A13 -> 357.99804 | H13: =(D13*C13)/(287*0.6) -> 24.38615 | I13: =E14-E13 -> 2e-07 | J13: =D13*I13 -> 2.13e-05
A14: -357 | B14: 1.072 | C14: 39.63 | D14: =B14*100 -> 107.2 | E14: =C14*0.000001 -> 3.963e-05 | F14: =D15-D14 -> 0.7 | G14: =F14/A15-A14 -> 356.99803 | H14: =(D14*C14)/(287*0.6) -> 24.670941 | I14: =E15-E14 -> 2.7e-07 | J14: =D14*I14 -> 2.8944e-05
A15: -356 | B15: 1.079 | C15: 39.9 | D15: =B15*100 -> 107.9 | E15: =C15*0.000001 -> 3.99e-05 | F15: =D16-D15 -> 0.3 | G15: =F15/A16-A15 -> 355.99915 | H15: =(D15*C15)/(287*0.6) -> 25.00122 | I15: =E16-E15 -> 3.6e-07 | J15: =D15*I15 -> 3.8844e-05
A16: -355 | B16: 1.082 | C16: 40.26 | D16: =B16*100 -> 108.2 | E16: =C16*0.000001 -> 4.026e-05 | F16: =D17-D16 -> 0.3 | G16: =F16/A17-A16 -> 354.99915 | H16: =(D16*C16)/(287*0.6) -> 25.296934 | I16: =E17-E16 -> 4.3e-07 | J16: =D16*I16 -> 4.6526e-05
A17: -354 | B17: 1.085 | C17: 40.69 | D17: =B17*100 -> 108.5 | E17: =C17*0.000001 -> 4.069e-05 | F17: =D18-D17 -> 0.7 | G17: =F17/A18-A17 -> 353.99802 | H17: =(D17*C17)/(287*0.6) -> 25.638008 | I17: =E18-E17 -> 5.1e-07 | J17: =D17*I17 -> 5.5335e-05
A18: -353 | B18: 1.092 | C18: 41.2 | D18: =B18*100 -> 109.2 | E18: =C18*0.000001 -> 4.12e-05 | F18: =D19-D18 -> 0.3 | G18: =F18/A19-A18 -> 352.99915 | H18: =(D18*C18)/(287*0.6) -> 26.126829 | I18: =E19-E18 -> 5.9e-07 | J18: =D18*I18 -> 6.4428e-05
A19: -352 | B19: 1.095 | C19: 41.79 | D19: =B19*100 -> 109.5 | E19: =C19*0.000001 -> 4.179e-05 | F19: =D20-D19 -> 0 | G19: =F19/A20-A19 -> 352 | H19: =(D19*C19)/(287*0.6) -> 26.57378 | I19: =E20-E19 -> 6.6e-07 | J19: =D19*I19 -> 7.227e-05
A20: -351 | B20: 1.095 | C20: 42.45 | D20: =B20*100 -> 109.5 | E20: =C20*0.000001 -> 4.245e-05 | F20: =D21-D20 -> 0.4 | G20: =F20/A21-A20 -> 350.99886 | H20: =(D20*C20)/(287*0.6) -> 26.993467 | I20: =E21-E20 -> 7.5e-07 | J20: =D20*I20 -> 8.2125e-05
A21: -350 | B21: 1.099 | C21: 43.2 | D21: =B21*100 -> 109.9 | E21: =C21*0.000001 -> 4.32e-05 | F21: =D22-D21 -> -0.1 | G21: =F21/A22-A21 -> 350.00029 | H21: =(D21*C21)/(287*0.6) -> 27.570732 | I21: =E22-E21 -> 8.2e-07 | J21: =D21*I21 -> 9.0118e-05
A22: -349 | B22: 1.098 | C22: 44.02 | D22: =B22*100 -> 109.8 | E22: =C22*0.000001 -> 4.402e-05 | F22: =D23-D22 -> -0.3 | G22: =F22/A23-A22 -> 349.00086 | H22: =(D22*C22)/(287*0.6) -> 28.068502 | I22: =E23-E22 -> 8.9e-07 | J22: =D22*I22 -> 9.7722e-05
... A369: -2 | B369: 23.928 | C369: 39.43 | D369: =B369*100 -> 2392.8 | E369: =C369*0.000001 -> 3.943e-05 | F369: =D370-D369 -> 16.6 | G369: =F369/A370-A369 -> -14.6 | H369: =(D369*C369)/(287*0.6) -> 547.8984 | I369: =E370-E369 -> -1.2e-07 | J369: =D369*I369 -> -0.000287136
A370: -1 | B370: 24.094 | C370: 39.31 | D370: =B370*100 -> 2409.4 | E370: =C370*0.000001 -> 3.931e-05 | F370: =D371-D370 -> 19.9 | G370: =IFERROR(F370/A371-A370,0) -> 0 | H370: =(D370*C370)/(287*0.6) -> 550.02041 | I370: =E371-E370 -> -4e-08 | J370: =D370*I370 -> -9.6376e-05
A371: 0 | B371: 24.293 | C371: 39.27 | D371: =B371*100 -> 2429.3 | E371: =C371*0.000001 -> 3.927e-05 | F371: =D372-D371 -> 25.6 | G371: =F371/A372-A371 -> 25.6 | H371: =(D371*C371)/(287*0.6) -> 553.9989 | I371: =E372-E371 -> 4e-08 | J371: =D371*I371 -> 9.7172e-05
A372: 1 | B372: 24.549 | C372: 39.31 | D372: =B372*100 -> 2454.9 | E372: =C372*0.000001 -> 3.931e-05 | F372: =D373-D372 -> 33.3 | G372: =F372/A373-A372 -> 15.65 | H372: =(D372*C372)/(287*0.6) -> 560.4072 | I372: =E373-E372 -> 1.2e-07 | J372: =D372*I372 -> 0.000294588
A373: 2 | B373: 24.882 | C373: 39.43 | D373: =B373*100 -> 2488.2 | E373: =C373*0.000001 -> 3.943e-05 | F373: =D374-D373 -> 46.9 | G373: =F373/A374-A373 -> 13.633333 | H373: =(D373*C373)/(287*0.6) -> 569.74289 | I373: =E374-E373 -> 2e-07 | J373: =D373*I373 -> 0.00049764
A374: 3 | B374: 25.351 | C374: 39.63 | D374: =B374*100 -> 2535.1 | E374: =C374*0.000001 -> 3.963e-05 | F374: =D375-D374 -> 61.1 | G374: =F374/A375-A374 -> 12.275 | H374: =(D374*C374)/(287*0.6) -> 583.42632 | I374: =E375-E374 -> 2.7e-07 | J374: =D374*I374 -> 0.000684477
A375: 4 | B375: 25.962 | C375: 39.9 | D375: =B375*100 -> 2596.2 | E375: =C375*0.000001 -> 3.99e-05 | F375: =D376-D375 -> 79.9 | G375: =F375/A376-A375 -> 11.98 | H375: =(D375*C375)/(287*0.6) -> 601.55854 | I375: =E376-E375 -> 3.6e-07 | J375: =D375*I375 -> 0.000934632
A376: 5 | B376: 26.761 | C376: 40.26 | D376: =B376*100 -> 2676.1 | E376: =C376*0.000001 -> 4.026e-05 | F376: =D377-D376 -> 101.9 | G376: =F376/A377-A376 -> 11.983333 | H376: =(D376*C376)/(287*0.6) -> 625.66659 | I376: =E377-E376 -> 4.3e-07 | J376: =D376*I376 -> 0.001150723
A377: 6 | B377: 27.78 | C377: 40.69 | D377: =B377*100 -> 2778 | E377: =C377*0.000001 -> 4.069e-05 | F377: =D378-D377 -> 122.2 | G377: =F377/A378-A377 -> 11.457143 | H377: =(D377*C377)/(287*0.6) -> 656.42753 | I377: =E378-E377 -> 5.1e-07 | J377: =D377*I377 -> 0.00141678
A378: 7 | B378: 29.002 | C378: 41.2 | D378: =B378*100 -> 2900.2 | E378: =C378*0.000001 -> 4.12e-05 | F378: =D379-D378 -> 143.3 | G378: =F378/A379-A378 -> 10.9125 | H378: =(D378*C378)/(287*0.6) -> 693.89222 | I378: =E379-E378 -> 5.9e-07 | J378: =D378*I378 -> 0.001711118
A379: 8 | B379: 30.435 | C379: 41.79 | D379: =B379*100 -> 3043.5 | E379: =C379*0.000001 -> 4.179e-05 | F379: =D380-D379 -> 160 | G379: =F379/A380-A379 -> 9.7777778 | H379: =(D379*C379)/(287*0.6) -> 738.60549 | I379: =E380-E379 -> 6.6e-07 | J379: =D379*I379 -> 0.00200871
A380: 9 | B380: 32.035 | C380: 42.45 | D380: =B380*100 -> 3203.5 | E380: =C380*0.000001 -> 4.245e-05 | F380: =D381-D380 -> 176.5 | G380: =F380/A381-A380 -> 8.65 | H380: =(D380*C380)/(287*0.6) -> 789.71298 | I380: =E381-E380 -> 7.5e-07 | J380: =D380*I380 -> 0.002402625
A381: 10 | B381: 33.8 | C381: 43.2 | D381: =B381*100 -> 3380 | E381: =C381*0.000001 -> 4.32e-05 | F381: =D382-D381 -> 191.3 | G381: =F381/A382-A381 -> 7.3909091 | H381: =(D381*C381)/(287*0.6) -> 847.94425 | I381: =E382-E381 -> 8.2e-07 | J381: =D381*I381 -> 0.0027716
A382: 11 | B382: 35.713 | C382: 44.02 | D382: =B382*100 -> 3571.3 | E382: =C382*0.000001 -> 4.402e-05 | F382: =D383-D382 -> 204.1 | G382: =F382/A383-A382 -> 6.0083333 | H382: =(D382*C382)/(287*0.6) -> 912.94208 | I382: =E383-E382 -> 8.9e-07 | J382: =D382*I382 -> 0.003178457
... A729: 358 | B729: 1.059 | C729: 39.43 | D729: =B729*100 -> 105.9 | E729: =C729*0.000001 -> 3.943e-05 | F729: =D730-D729 -> 0.1 | G729: =F729/A730-A729 -> -357.99972 | H729: =(D729*C729)/(287*0.6) -> 24.248763 | I729: =E730-E729 -> -1.2e-07 | J729: =D729*I729 -> -1.2708e-05
A730: 359 | B730: 1.06 | C730: 39.31 | D730: =B730*100 -> 106 | E730: =C730*0.000001 -> 3.931e-05 | F730: =D731-D730 -> -106 | G730: =IFERROR(F730/A731-A730,0) -> 0 | H730: =(D730*C730)/(287*0.6) -> 24.197793 | I730: =E731-E730 -> -3.931e-05 | J730: =D730*I730 -> -0.00416686

Sheet Comparison
C1: Pressure (kPa) @ RPM | S1: Temperature (kPa) @ RPM
A2: Crank Angle(deg) | B2: Volume (cc) | C2: 6500 | D2: 5500 | E2: 4500 | F2: 3500 | G2: 2500 | H2: 1500 | S2: 6500 | T2: 5500 | U2: 4500 | V2: 3500 | W2: 2500 | X2: 1500
A3: -360 | B3: 39.27 | C3: 109.7 | D3: 99.2 | E3: 90.5 | F3: 83.1 | G3: 85.9 | H3: 106.3 | S3: 25.016951 | T3: 22.622439 | U3: 20.638415 | V3: 18.950854 | W3: 19.58939 | X3: 24.241585
A4: -359 | B4: 39.31 | C4: 113.5 | D4: 97.2 | E4: 89.1 | F4: 83.4 | G4: 85.5 | H4: 106.3 | S4: 25.909901 | T4: 22.18892 | U4: 20.339843 | V4: 19.038641 | W4: 19.518031 | X4: 24.266278
A5: -358 | B5: 39.43 | C5: 114.9 | D5: 93.2 | E5: 89.1 | F5: 83.7 | G5: 85.9 | H5: 106.5 | S5: 26.309564 | T5: 21.340743 | U5: 20.401934 | V5: 19.165453 | W5: 19.669204 | X5: 24.38615
A6: -357 | B6: 39.63 | C6: 116.1 | D6: 90.5 | E6: 87.8 | F6: 84.5 | G6: 85.9 | H6: 107.2 | S6: 26.719181 | T6: 20.827613 | U6: 20.206237 | V6: 19.446777 | W6: 19.768972 | X6: 24.670941
A7: -356 | B7: 39.9 | C7: 117.3 | D7: 89.5 | E7: 85.7 | F7: 85 | G7: 86 | H7: 107.9 | S7: 27.179268 | T7: 20.737805 | U7: 19.857317 | V7: 19.695122 | W7: 19.926829 | X7: 25.00122
A8: -355 | B8: 40.26 | C8: 115.3 | D8: 88.3 | E8: 82.8 | F8: 85.2 | G8: 87.1 | H8: 108.2 | S8: 26.956899 | T8: 20.644355 | U8: 19.358467 | V8: 19.919582 | W8: 20.363798 | X8: 25.296934
A9: -354 | B9: 40.69 | C9: 111.5 | D9: 84.4 | E9: 79.5 | F9: 85.1 | G9: 87.6 | H9: 108.5 | S9: 26.346893 | T9: 19.943298 | U9: 18.785453 | V9: 20.108705 | W9: 20.699443 | X9: 25.638008
A10: -353 | B10: 41.2 | C10: 106.9 | D10: 79.8 | E10: 76.3 | F10: 85.3 | G10: 88.5 | H10: 109.2 | S10: 25.576539 | T10: 19.092683 | U10: 18.255285 | V10: 20.408595 | W10: 21.174216 | X10: 26.126829
A11: -352 | B11: 41.79 | C11: 103 | D11: 75.1 | E11: 74 | F11: 85 | G11: 88.9 | H11: 109.5 | S11: 24.996341 | T11: 18.225488 | U11: 17.958537 | V11: 20.628049 | W11: 21.574512 | X11: 26.57378
A12: -351 | B12: 42.45 | C12: 99.9 | D12: 70.4 | E12: 72.8 | F12: 84.8 | G12: 89 | H12: 109.5 | S12: 24.626916 | T12: 17.354704 | U12: 17.946341 | V12: 20.90453 | W12: 21.939895 | X12: 26.993467
A13: -350 | B13: 43.2 | C13: 93.8 | D13: 66.5 | E13: 72 | F13: 84.7 | G13: 89.2 | H13: 109.9 | S13: 23.531707 | T13: 16.682927 | U13: 18.062718 | V13: 21.24878 | W13: 22.3777 | X13: 27.570732
A14: -349 | B14: 44.02 | C14: 86 | D14: 65.3 | E14: 71 | F14: 84.2 | G14: 89.2 | H14: 109.8 | S14: 21.984437 | T14: 16.692834 | U14: 18.149942 | V14: 21.524297 | W14: 22.802462 | X14: 28.068502
... A722: 359 | B722: 39.31 | C722: 106.3 | D722: 100.5 | E722: 93.4 | F722: 81.9 | G722: 85.8 | H722: 106 | S722: 24.266278 | T722: 22.942247 | U722: 21.321452 | V722: 18.69622 | W722: 19.586516 | X722: 24.197793

Sheet Task 3 - Model Refinement
A1: Bore (m) | B1: 0.079 | I1: RPM | J1: theta_ign (deg ATDC) | K1: Burn Duration (deg) | L1: Q_calibrated (J) | M1: Peak P Measured (kPa) | N1: Peak P Simulated (kPa) | O1: CA at Peak P Meas (deg) | P1: CA at Peak P Sim (deg) | Q1: RMSE (kPa) | R1: R² (-) | S1: Peak P Error (%) | T1: RPM | U1: Bore (m) | V1: Stroke (m) | W1: CR | X1: Poly. Index (comp) | Y1: Poly. Index (exp) | Z1: GMEP (bar) | AA1: Peak P Measured (kPa) | AB1: Max Temp (K) | AC1: Total Work (J) | AD1: MFB 50% (deg ATDC) | AE1: Burn Duration (deg) | AF1: Spark Advance (deg BTDC)
A2: Stroke (m) | B2: 0.0814 | I2: 1500 | J2: 0.84 | K2: 19.3 | L2: 595.6 | M2: 5385.8 | N2: 5385.8 | O2: 22 | P2: 16 | Q2: 353.7 | R2: 0.92 | S2: =ABS(N2-M2)/M2*100 -> 0 | T2: 1500 | U2: 0.079 | V2: 0.0814 | W2: 11.16 | X2: ='1500'!B5 -> 1.3013966 | Y2: ='1500'!B6 -> 1.3152544 | Z2: 11.036 | AA2: 5401.3 | AB2: 2454.2 | AC2: ='1500'!B8 -> 0.44532551 | AD2: 15.98 | AE2: 19.3 | AF2: -0.8
A3: Conrod length | B3: 0.137 | I3: 2500 | J3: -3.66 | K3: 24.6 | L3: 674.3 | M3: 6019.2 | N3: 6019.2 | O3: 21 | P3: 15 | Q3: 383.5 | R3: 0.9315 | S3: =ABS(N3-M3)/M3*100 -> 0 | T3: 2500 | U3: 0.079 | V3: 0.0814 | W3: 11.16 | X3: ='2500'!B5 -> 1.3266454 | Y3: ='2500'!B6 -> 1.3280707 | Z3: 12.639 | AA3: 6021.7 | AB3: 2483.1 | AC3: ='2500'!B8 -> 0.50580778 | AD3: 14.21 | AE3: 24.6 | AF3: 3.7
A4: CR | B4: 11.16 | I4: 3500 | J4: -6.37 | K4: 25.5 | L4: 712.1 | M4: 6638 | N4: 6638 | O4: 17 | P4: 13 | Q4: 354 | R4: 0.9514 | S4: =ABS(N4-M4)/M4*100 -> 0 | T4: 3500 | U4: 0.079 | V4: 0.0814 | W4: 11.16 | X4: ='3500'!B5 -> 1.3054428 | Y4: ='3500'!B6 -> 1.3249962 | Z4: 12.853 | AA4: 6647.2 | AB4: 2436.8 | AC4: ='3500'!B8 -> 0.51423727 | AD4: 10.94 | AE4: 25.5 | AF4: 6.4
A5: R (J) | B5: 287 | I5: 4500 | J5: -6.76 | K5: 28.3 | L5: 783.3 | M5: 6784.5 | N5: 6784.5 | O5: 17 | P5: 14 | Q5: 363.3 | R5: 0.953 | S5: =ABS(N5-M5)/M5*100 -> 0 | T5: 4500 | U5: 0.079 | V5: 0.0814 | W5: 11.16 | X5: ='4500'!B5 -> 1.3254927 | Y5: ='4500'!B6 -> 1.3286264 | Z5: 13.587 | AA5: 6785.5 | AB5: 2377.6 | AC5: ='4500'!B8 -> 0.53348359 | AD5: 11.69 | AE5: 28.3 | AF5: 6.8
A6: Wiebe a / m | B6: 5.0 / 2.0 | I6: 5500 | J6: -3.25 | K6: 29.9 | L6: 816 | M6: 6125.4 | N6: 6125.4 | O6: 21 | P6: 18 | Q6: 383.3 | R6: 0.9407 | S6: =ABS(N6-M6)/M6*100 -> 0 | T6: 5500 | U6: 0.079 | V6: 0.0814 | W6: 11.16 | X6: ='5500'!B5 -> 1.3221684 | Y6: ='5500'!B6 -> 1.3388255 | Z6: 13.728 | AA6: 6128 | AB6: 2281.8 | AC6: ='5500'!B8 -> 0.51682632 | AD6: 16.06 | AE6: 29.9 | AF6: 3.2
I7: 6500 | J7: -10.37 | K7: 31.5 | L7: 733.6 | M7: 6710.3 | N7: 6710.3 | O7: 15 | P7: 12 | Q7: 377.5 | R7: 0.9509 | S7: =ABS(N7-M7)/M7*100 -> 0 | T7: 6500 | U7: 0.079 | V7: 0.0814 | W7: 11.16 | X7: ='6500'!B5 -> 1.3269342 | Y7: ='6500'!B6 -> 1.3410559 | Z7: 13.119 | AA7: 6715 | AB7: 2307.4 | AC7: ='6500'!B8 -> 0.48526997 | AD7: 10.8 | AE7: 31.5 | AF7: 10.4
I9: Crank Angle(deg) | J9: MFB 1500 rpm (%) | K9: MFB 2500 rpm (%) | L9: MFB 3500 rpm (%) | M9: MFB 4500 rpm (%) | N9: MFB 5500 rpm (%) | O9: MFB 6500 rpm (%)
A10: Crank Angle(deg) | B10: Volume (cc) | C10: Measured P (kPa) | D10: Simulated P (kPa) | E10: Simulated T (K) | F10: Mass Fraction Burned (%) | G10: Residual P (kPa) | I10: -30 | J10: 0 | K10: 0 | L10: 0 | M10: 0 | N10: 0 | O10: 0
A11: -180 | B11: 438.267 | C11: 114.5 | D11: 91 | E11: 350 | F11: 0 | G11: -23.5 | I11: -29 | J11: 0 | K11: 0 | L11: 0 | M11: 0 | N11: 0 | O11: 0
A12: -179 | B12: 438.246 | C12: 113.8 | D12: 91.006 | E12: 350.01 | F12: 0 | G12: -22.794 | I12: -28 | J12: 0 | K12: 0 | L12: 0 | M12: 0 | N12: 0 | O12: 0
A13: -178 | B13: 438.182 | C13: 113.3 | D13: 91.024 | E13: 350.02 | F13: 0 | G13: -22.276 | I13: -27 | J13: 0 | K13: 0 | L13: 0 | M13: 0 | N13: 0 | O13: 0
A14: -177 | B14: 438.075 | C14: 112.7 | D14: 91.054 | E14: 350.05 | F14: 0 | G14: -21.646 | I14: -26 | J14: 0 | K14: 0 | L14: 0 | M14: 0 | N14: 0 | O14: 0
A15: -176 | B15: 437.925 | C15: 112.3 | D15: 91.096 | E15: 350.1 | F15: 0 | G15: -21.204 | I15: -25 | J15: 0 | K15: 0 | L15: 0 | M15: 0 | N15: 0 | O15: 0
A16: -175 | B16: 437.733 | C16: 111.7 | D16: 91.15 | E16: 350.15 | F16: 0 | G16: -20.55 | I16: -24 | J16: 0 | K16: 0 | L16: 0 | M16: 0 | N16: 0 | O16: 0
A17: -174 | B17: 437.498 | C17: 111.2 | D17: 91.216 | E17: 350.22 | F17: 0 | G17: -19.984 | I17: -23 | J17: 0 | K17: 0 | L17: 0 | M17: 0 | N17: 0 | O17: 0
A18: -173 | B18: 437.22 | C18: 110.7 | D18: 91.294 | E18: 350.29 | F18: 0 | G18: -19.406 | I18: -22 | J18: 0 | K18: 0 | L18: 0 | M18: 0 | N18: 0 | O18: 0
A19: -172 | B19: 436.9 | C19: 109.9 | D19: 91.385 | E19: 350.38 | F19: 0 | G19: -18.515 | I19: -21 | J19: 0 | K19: 0 | L19: 0 | M19: 0 | N19: 0 | O19: 0
A20: -171 | B20: 436.537 | C20: 109.1 | D20: 91.487 | E20: 350.48 | F20: 0 | G20: -17.613 | I20: -20 | J20: 0 | K20: 0 | L20: 0 | M20: 0 | N20: 0 | O20: 0
A21: -170 | B21: 436.131 | C21: 108.5 | D21: 91.602 | E21: 350.6 | F21: 0 | G21: -16.898 | I21: -19 | J21: 0 | K21: 0 | L21: 0 | M21: 0 | N21: 0 | O21: 0
A22: -169 | B22: 435.682 | C22: 107.9 | D22: 91.73 | E22: 350.73 | F22: 0 | G22: -16.17 | I22: -18 | J22: 0 | K22: 0 | L22: 0 | M22: 0 | N22: 0 | O22: 0
... A90: -101 | B90: 306.024 | C90: 188.4 | D90: 147.7 | E90: 396.67 | F90: 0 | G90: -40.7 | I90: 50 | J90: 100 | K90: 100 | L90: 100 | M90: 100 | N90: 100 | O90: 100
A91: -100 | B91: 302.794 | C91: 191 | D91: 149.827 | E91: 398.13 | F91: 0 | G91: -41.173
A92: -99 | B92: 299.536 | C92: 193.8 | D92: 152.027 | E92: 399.63 | F92: 0 | G92: -41.773
A93: -98 | B93: 296.251 | C93: 196.6 | D93: 154.303 | E93: 401.16 | F93: 0 | G93: -42.297
A94: -97 | B94: 292.939 | C94: 199 | D94: 156.658 | E94: 402.73 | F94: 0 | G94: -42.342
A95: -96 | B95: 289.601 | C95: 202.1 | D95: 159.096 | E95: 404.34 | F95: 0 | G95: -43.004
A96: -95 | B96: 286.239 | C96: 205.3 | D96: 161.619 | E96: 405.98 | F96: 0 | G96: -43.681
A97: -94 | B97: 282.852 | C97: 208.2 | D97: 164.231 | E97: 407.66 | F97: 0 | G97: -43.969
A98: -93 | B98: 279.443 | C98: 211.3 | D98: 166.936 | E98: 409.38 | F98: 0 | G98: -44.364
A99: -92 | B99: 276.012 | C99: 214.8 | D99: 169.738 | E99: 411.14 | F99: 0 | G99: -45.062
A100: -91 | B100: 272.559 | C100: 217.7 | D100: 172.64 | E100: 412.94 | F100: 0 | G100: -45.06
A101: -90 | B101: 269.087 | C101: 221 | D101: 175.648 | E101: 414.78 | F101: 0 | G101: -45.352
A102: -89 | B102: 265.596 | C102: 224.8 | D102: 178.764 | E102: 416.67 | F102: 0 | G102: -46.036
... A371: 180 | B371: 438.267 | C371: 223.5 | D371: 336.332 | E371: 1293.58 | F371: 100 | G371: 112.832
