Workbook
Name ____INF1: #REF!
Name ____INF1: #REF!
Name ____INF2: #REF!
Name ____INF2: #REF!
Name ___INF1: #REF!
Name ___INF1: #REF!
Name ___INF2: #REF!
Name ___INF2: #REF!
Name __INF1: #REF!
Name __INF1: #REF!
Name __INF2: #REF!
Name __INF2: #REF!
Name _bar1: #REF!
Name _bar1: #REF!
Name _boh1: #REF!
Name _boh1: #REF!
Name _foh1: #REF!
Name _foh1: #REF!
Name _INF1: #REF!
Name _INF1: #REF!
Name _INF2: #REF!
Name _INF2: #REF!
Name Accept: [0]!Accept
Name Access: '[1]KING INPUT SHEET'!$D$28
Name ADDRESS1: #REF!
Name ADDRESS1: #REF!
Name ADDRESS2: #REF!
Name ADDRESS2: #REF!
Name admin1: #REF!
Name admin1: #REF!
Name Area: [2]Indices!$D$2:$F$81
Name BASE_DATE: '[3]Master Data Sheet'!$D$41
Name Base_Date: '[4]PROJECT INPUTS'!$E$9
Name bathrooms1: #REF!
Name bathrooms1: #REF!
Name BCIS_Location: [5]Library!$H$15:$I$94
Name BCIS_TPI: [5]Library!$K$15:$L$44
Name bedroomcorridors1: #REF!
Name bedroomcorridors1: #REF!
Name bedrooms1: #REF!
Name bedrooms1: #REF!
Name Beds: [6]DATA!$F$13
Name BlockABath: '[7]Block A - Data'!$H$54
Name BlockAens: '[7]Block A - Data'!$H$55
Name BlockAGIA: '[7]Block A - Data'!$E$31
Name BlockANIA: '[7]Block A - Data'!$G$31
Name BlockAUnits: '[7]Block A - Data'!$H$49
Name BlockBbath: '[7]Block B - Data'!$H$56
Name BlockBens: '[7]Block B - Data'!$H$57
Name BlockBGIA: '[7]Block B - Data'!$E$31
Name BlockBNIA: '[7]Block B - Data'!$G$31
Name BlockBUnits: '[7]Block B - Data'!$H$51
Name BlockCBath: '[7]Block C - Data'!$H$55
Name BlockCEns: '[7]Block C - Data'!$H$56
Name BlockCGIA: '[7]Block C - Data'!$E$31
Name BlockCNIA: '[7]Block C - Data'!$G$31
Name BlockCUnits: '[7]Block C - Data'!$H$50
Name BlockDBath: '[7]Block D - Data'!$H$60
Name BlockDEns: '[7]Block D - Data'!$H$61
Name BlockDGIA: '[7]Block D - Data'!$E$35

Sheet Front

Sheet Status
B2: NRM1 Feasibility Cost Plan
B4: Monday 06/02/2023
B12: Document Status
B13: Revision | C13: Date | D13: Status | E13: Prepared by | F13: Checked by | G13: Authorised by
B23: DISCLAIMER
B25: This document and its contents have been prepared and are intended solely for [Ace Capital Projects Ltd] information and use in relation to [Jayne Pierson School of Fashion, Art & Design]
B26: Faithful+Gould assumes no responsibility to any other party in respect of or arising out of or in connection with this document and/or its contents.
B28: COPYRIGHT
B30: The copyright of this document is vested in Faithful+Gould. This document may not be reproduced in whole or in part without their express written permission.

Sheet Information Used
B1: Information Used & Assumptions
B3: 1 | C3: Information Used
C5: All measures have been under taken using the software app Quickscale
B10: 2 | C10: General Assumptions;
C12: External Works is excluded unless specifically identified within the cost plan.
C13: External wall build up specified by client.
C14: Costs are based upon the information as provided.
C15: We have assumed a project bank account will be required for this scheme.
C16: We have assumed that the area of works will be decanted for the project. No allowance is made for throughways or dealing with building occupants.
C17: The exact nature of specification for internal doors, screens, folding partitions and finishes is assumed.
C18: All costs are provisional awaiting design development.
C19: All base costs are based on Q42024
B21: 3 | C21: General Notes and Exclusions;
C23: All included costs are subject to variation following design development.
C24: A risk allowance of 10% is included for this estimate.
C25: VAT is excluded from the estimate.
C26: Works will be undertaken in a single phase.
C27: Local Authority Fees
C28: Building Regulation fees
C29: Acquisition & associated legal

Sheet Summary Original
B2: Project details: | C2: Jayne Pierson, School of Fashion, Art & Design | G2: Arts Council Contribution @15% | H2: =E28/100*15 -> 2942249.8
G3: Jayne Pierson Contribution @5% | H3: =E28/100*5 -> 980749.93
B4: Description: | C4: Phase 2 of Port Talbot College
B6: Building Works Cost
B8: Based on GIFA of: 3041m2
C10: Group Element | D10: Element Type | E10: Total | F10: £/m2
C12: Group element 0 | D12: ='NRM1 CP template '!C15 -> FACILITATING WORKS | E12: ='NRM1 CP template '!K15 -> 1861500 | F12: =E12/3041 -> 612.13417
C13: Group element 1 | D13: ='NRM1 CP template '!C33 -> SUBSTRUCTURE | E13: ='NRM1 CP template '!K33 -> 964885.69 | F13: =E13/3041 -> 317.29224
C14: Group element 2 | D14: ='NRM1 CP template '!C48 -> SUPERSTRUCTURE | E14: ='NRM1 CP template '!K48 -> 2699457 | F14: =E14/3041 -> 887.68727
C15: Group element 3 | D15: ='NRM1 CP template '!C109 -> INTENAL FINISHES | E15: ='NRM1 CP template '!K109 -> 528711.96 | F15: =E15/3041 -> 173.86122
C16: Group element 4 | D16: ='NRM1 CP template '!C130 -> FITTINGS AND FURNISHINGS | E16: ='NRM1 CP template '!K130 -> 980000 | F16: =E16/3041 -> 322.26241
C17: Group element 5 | D17: ='NRM1 CP template '!C152 -> SERVICES | E17: ='NRM1 CP template '!K152 -> 2273241.9 | F17: =E17/3041 -> 747.53106
C18: Group element 8 | D18: ='NRM1 CP template '!C247 -> EXTERNAL WORKS | E18: ='NRM1 CP template '!K247 -> 418824.29 | F18: =E18/3041 -> 137.72584
C19: Group element 9 | D19: MAIN CONTRACTORS PRELIMINARIES | E19: ='NRM1 CP template '!K284 -> 3162938.4 | F19: =E19/3041 -> 1040.0981
B21: Works cost estimate (sub total A) | E21: =SUM(E12:E19) -> 12889559 | F21: =E21/3041 -> 4238.5923
C24: Current TPI | D24: 1.24
C25: Forecasted 2024 Q1 TPI | D25: 2.22
E26: =(E21/D24)*D25 -> 23076469 | F26: =F21/D24*D25 -> 7588.4476
C27: Wales Location Factor | D27: 0.85
E28: =E26*D27 -> 19614999 | F28: =F26*D27 -> 6450.1804
B29: Project Constraints-Provisional sums
B30: Demolition and site clearence | E30: 100000 | F30: =E30/3041 -> 32.88392
B31: Building Serveys | E31: 50000 | F31: =E31/3041 -> 16.44196
B32: Knotweed treatment | E32: 30000 | F32: =E32/3041 -> 9.8651759
B33: Land surveys | E33: 5000 | F33: =E33/3041 -> 1.644196
B34: Tower Crane | E34: =2500*52 -> 130000 | F34: =E34/3041 -> 42.749096
B35: Traffic management | E35: =450*52 -> 23400 | F35: =E35/3041 -> 7.6948372
B36: External services-overhead cable removal | E36: 80000 | F36: =E36/3041 -> 26.307136
E37: =SUM(E30:E36)*0.85 -> 355640 | F37: =SUM(F30:F36)*0.85 -> 116.94837
B38: Project design team fees and other development costs (sub total B)
B40: ='NRM1 CP template '!C272 -> 0HP | C40: ='NRM1 CP template '!C273 -> 12 % of the overall build cost | E40: ='NRM1 CP template '!J273 -> 1167194.5 | F40: =E40/3041 -> 383.8193
B41: ='NRM1 CP template '!C275 -> Waste Costs | C41: ='NRM1 CP template '!C276 -> 10% of the overall build cost | E41: ='NRM1 CP template '!J275 -> 972662.09 | F41: =E41/3041 -> 319.84942
B42: ='NRM1 CP template '!C278 -> Maintinance Costs | C42: ='NRM1 CP template '!C279 -> 5% of the overall build cost | E42: ='NRM1 CP template '!J279 -> 48633.104 | F42: =E42/3041 -> 15.992471
B43: ='NRM1 CP template '!C282 -> Whole Life Costing | C43: ='NRM1 CP template '!C283 -> 10% of the overall cost | E43: ='NRM1 CP template '!J283 -> 972662.09 | F43: =E43/3041 -> 319.84942
E44: =SUM(E40:E43)*0.85 -> 2686979 | F44: =SUM(F40:F43)*0.85 -> 883.58402
B46: Base cost estimate A + B (sub total C) | E46: =E28+E37+E44 -> 22657618 | F46: =F28+F37+F44 -> 7450.7128
C48: Group element 13
C50: Design Contingency | D50: Risk allowance @ 2.5% | E50: =E46*2.5% -> 566440.44 | F50: =E50*0.85 -> 481474.38
C51: Construction Risk | D51: Risk allowance @ 2.5% | E51: =E46*2.5% -> 566440.44 | F51: =E51*0.85 -> 481474.38
C52: Employers Change Risk | D52: Risk allowance @ 2.50% | E52: =E46*2.5% -> 566440.44 | F52: =E52*0.85 -> 481474.38
...

Sheet NRM1 CP template 
C2: Feasibility Cost Plan
C3: NRM 1 phaseologies
C4: Estimate Cost Plan | D4: Jayne Peirson, School of Fashion, Art and Design
D7: Forecasted 2024 Q1 TPI | G7: 2.22
D9: Wales Location Factor | G9: 0.85
A10: Ref. | C10: Element | D10: Timesing | E10: Quantity | G10: Unit | I10: Rate | J10: Sub-Total | K10: Group-Total
I11: £ | J11: £ | K11: £
C12: GIFA | F12: 3041 | G12: m2
A15: 0 | C15: FACILITATING WORKS | K15: =SUM(J19:J31) -> 1861500
C18: Preliminaries | F18: 3041 | G18: GIFA
C19: to include managment Cost, site establishment, site supervision & Contingency | I19: =500 -> 500 | J19: =F18*I19 -> 1520500
C21: Temporary Works
C22: Provisional Sum | F22: 88 | G22: wks | I22: =2000 -> 2000 | J22: =F22*I22 -> 176000
C24: 278 Works
C25: Access Road to site | F25: 50 | G25: m | I25: =1500 -> 1500 | J25: =F25*I25 -> 75000
C27: Services | G27: m
C28: Mains Electrical and Gas Services | F28: 200 | I28: =300 -> 300 | J28: =F28*I28 -> 60000
C29: Water mains & Domestic cold water system | F29: 200 | I29: =150 -> 150 | J29: =F29*I29 -> 30000
A33: 1 | B33: 1 | C33: SUBSTRUCTURE | K33: =SUM(J33:J47) -> 964885.69
A34: 1.1 | C34: Foundations
C36: 'Excavation to form levels | F36: item | I36: 40000 | J36: =I36 -> 40000
C38: Excavate and disposal to formation level | F38: item | I38: 50000 | J38: =I38 -> 50000
C40: Plain strip foundations to ground-floor external walls, including concrete, brickwork, DPC etc | F40: =3041/3 -> 1013.6667 | G40: m2 | I40: =300 -> 300 | J40: =I40*F40 -> 304100
C42: Plain strip foundations to ground-floor internal walls, including concrete, brickwork, DPC etc | F42: 180 | G42: m | I42: =270 -> 270 | J42: =I42*F42 -> 48600
C44: Ground-floor slab; assumed 225 mm deep beam and block floor; structural screed; damp-proof membrane; insulation | F44: 3041 | G44: m2 | I44: =150 -> 150 | J44: =I44*F44 -> 456150
C46: Allowance for groundfloor steel work for curtain wall system | G46: item | I46: =J46 -> 66035.694 | J46: =(49000/4258)*3041*(2.22)*(0.85) -> 66035.694 | K46: To front Elevation
A48: 2 | C48: SUPERSTRUCTURE | K48: =SUM(J51:J108) -> 2699457
A49: 2.1 | C49: Frame
C51: Structural timber frame | F51: 750 | G51: m2 | I51: =140 -> 140 | J51: =F51*I51 -> 105000
C53: Cavity wall; facing brick outer skin; insulation; plasterboard on stud inner skin; emulsion (U-value = 0.30 W/m2K) machine-made facings; PC £550.00/1000 | F53: 600 | G53: m2 | I53: =210 -> 210 | J53: =F53*I53 -> 126000
C55: Cavity wall construction, timber cladding system, insulation, 100 mm medium-density load-bearing blockwork inner leaf | F55: 1640 | G55: m2 | I55: =330 -> 330 | J55: =I55*F55 -> 541200
A57: 2.2 | C57: Upper Floors
C59: 200 mm in situ reinforced concrete upper floors | F59: =2027-280 -> 1747 | G59: m2 | I59: =115 -> 115 | J59: =I59*F59 -> 200905
A62: 2.3 | C62: Roof
C63: Landscaped roofs Polyester-based elastomeric bitumen waterproofing and vapour equalization layer, copper lined bitumen membrane root barrier and waterproofing layer, separation and slip layers, protection layer, 50 mm thick drainage board, filter fleece, insulation board, Sedum vegetation blanket
C64: extensive (low maintenance – herbs, grasses, mosses and drought tolerant succulents such as Sedum) | F64: 3041 | G64: m2 | I64: =200 -> 200 | J64: =I64*F64 -> 608200
C66: 2.3.5 Rooflights/Patent Glazing and Glazed Roofs Rooflights individual polycarbonate rooflights; rectangular; fixed light | F66: 120 | G66: m2 | I66: =60 -> 60 | J66: =F66*I66 -> 7200
C68: Extra over allowance for green roof coverings to podium roof | G68: item | I68: 50000 | J68: =I68 -> 50000
A70: 2.5 | C70: Stairs & Ramps
C71: Internal steel staircase and balustrade with concrete finish for main staircase. | G71: item | I71: =34000 -> 34000 | J71: =I71 -> 34000
...

Sheet Forecast
C3: Forecast Cash Flow
C4: *Excludes Maintanence and LLC costing
C5: *5% rentention not included, to be added
E6: Q1 2025 | F6: Q2 2025 | G6: Q3 2025 | H6: Q4 2025 | J6: Q1 2026 | K6: Q2 2026 | L6: Q3 2026 | M6: Q4 2025
C7: Item Description | D7: Total Amount Due | E7: Jan-March | F7: April-June | G7: July-Sept | H7: Oct-Dec | J7: Jan-March | K7: April-June | L7: July-Sept | M7: Oct-Dec | N7: Total
C8: ='Summary Original'!D12 -> FACILITATING WORKS | D8: ='Summary Original'!E12 -> 1861500 | E8: =D8/4 -> 465375 | F8: =D8/4 -> 465375 | G8: =D8/4 -> 465375 | H8: =G8/4 -> 116343.75 | J8: =H8/2 -> 58171.875 | K8: =J8/2 -> 29085.938 | L8: 261773.44 | N8: =E8+F8+G8+H8+J8+K8+L8 -> 1861500
C9: ='Summary Original'!D13 -> SUBSTRUCTURE | D9: ='Summary Original'!E13 -> 964885.69 | E9: =D9/3 -> 321628.56 | F9: =D9-E9 -> 643257.13 | G9: 0 | H9: 0 | J9: 0 | K9: 0 | L9: 0 | N9: =E9+F9+G9+H9+J9+K9+L9 -> 964885.69
C10: ='Summary Original'!D14 -> SUPERSTRUCTURE | D10: ='Summary Original'!E14 -> 2699457 | E10: 0 | F10: 0 | G10: =D10/4 -> 674864.25 | H10: =D10/2 -> 1349728.5 | J10: =D10-G10-H10 -> 674864.25 | K10: 0 | L10: 0 | N10: =E10+F10+G10+H10+J10+K10+L10 -> 2699457
C11: ='Summary Original'!D15 -> INTENAL FINISHES | D11: ='Summary Original'!E15 -> 528711.96 | E11: 0 | F11: 0 | G11: 0 | H11: =D11/8 -> 66088.995 | J11: =D11/6 -> 88118.66 | K11: =D11/4 -> 132177.99 | L11: =D11-H11-J11-K11 -> 242326.32 | N11: =E11+F11+G11+H11+J11+K11+L11 -> 528711.96
C12: ='Summary Original'!D16 -> FITTINGS AND FURNISHINGS | D12: ='Summary Original'!E16 -> 980000 | E12: =0 -> 0 | F12: 0 | G12: 0 | H12: =D12/8 -> 122500 | J12: =D12/6 -> 163333.33 | K12: =D12/2 -> 490000 | L12: =D12-H12-J12-K12 -> 204166.67 | N12: =E12+F12+G12+H12+J12+K12+L12 -> 980000
C13: ='Summary Original'!D17 -> SERVICES | D13: ='Summary Original'!E17 -> 2273241.9 | E13: =D13/8 -> 284155.24 | F13: =D13/6 -> 378873.66 | G13: 0 | H13: 0 | J13: =D13/4 -> 568310.49 | K13: =D13-E13-F13-J13 -> 1041902.6 | N13: =E13+F13+G13+H13+J13+K13+L13 -> 2273241.9
C14: ='Summary Original'!D18 -> EXTERNAL WORKS | D14: ='Summary Original'!E18 -> 418824.29 | F14: 0 | G14: 0 | H14: 0 | J14: =D14/2 -> 209412.14 | K14: =D14/6 -> 69804.048 | L14: =D14-J14-K14 -> 139608.1 | N14: =E14+F14+G14+H14+J14+K14+L14 -> 418824.29
C15: ='Summary Original'!D19 -> MAIN CONTRACTORS PRELIMINARIES | D15: ='Summary Original'!E19 -> 3162938.4 | E15: =D15/7 -> 451848.34 | F15: =E15 -> 451848.34 | G15: =F15 -> 451848.34 | H15: =G15 -> 451848.34 | I15: =H15/7 -> 64549.763 | J15: =H15 -> 451848.34 | K15: =J15 -> 451848.34 | L15: =K15 -> 451848.34 | M15: =L15 -> 451848.34 | N15: =E15+F15+G15+H15+J15+K15+L15 -> 3162938.4
C16: PROJECT CONSTRAINTS | D16: ='Summary Original'!E37 -> 355640 | E16: =D16/7 -> 50805.714 | F16: =E16 -> 50805.714 | G16: =F16 -> 50805.714 | H16: =G16 -> 50805.714 | J16: =H16 -> 50805.714 | K16: =J16 -> 50805.714 | L16: =K16 -> 50805.714 | N16: =E16+F16+G16+H16+J16+K16+L16 -> 355640
C17: RISK ALLOWANCE | D17: ='Summary Original'!E55 -> 2265761.8 | E17: =D17/7 -> 323680.25 | F17: =E17 -> 323680.25 | G17: =F17 -> 323680.25 | H17: =G17 -> 323680.25 | J17: =H17 -> 323680.25 | K17: =J17 -> 323680.25 | L17: =K17 -> 323680.25 | N17: =E17+F17+G17+H17+J17+K17+L17 -> 2265761.8
C18: ='Summary Original'!B40 -> 0HP | D18: ='Summary Original'!E40 -> 1167194.5 | E18: =D18/7 -> 166742.07 | F18: =E18 -> 166742.07 | G18: =F18 -> 166742.07 | H18: =G18 -> 166742.07 | J18: =H18 -> 166742.07 | K18: =J18 -> 166742.07 | L18: =K18 -> 166742.07 | N18: =E18+F18+G18+H18+J18+K18+L18 -> 1167194.5
C19: WASTE COST | D19: ='Summary Original'!E41 -> 972662.09 | E19: =D19/7 -> 138951.73 | F19: =E19 -> 138951.73 | G19: =F19 -> 138951.73 | H19: =G19 -> 138951.73 | J19: =H19 -> 138951.73 | K19: =J19 -> 138951.73 | L19: =K19 -> 138951.73 | N19: =E19+F19+G19+H19+J19+K19+L19 -> 972662.09
D20: =SUM(D8:D19) -> 17650818 | E20: =SUM(E8:E19) -> 2203186.9 | F20: =SUM(F8:F19) -> 2619533.9 | G20: =SUM(G8:G19) -> 2272267.4 | H20: =SUM(H8:H19) -> 2786689.4 | I20: =SUM(I8:I19) -> 64549.763 | J20: =SUM(J8:J19) -> 2894238.9 | K20: =SUM(K8:K19) -> 2894998.6 | ... N20: =SUM(N8:N19) -> 17650818
C21: Monthly Contributions
C22: Arts Council Contribution @15% | D22: =D20*0.15 -> 2647622.6 | E22: =E20*0.15 -> 330478.04 | F22: =F20*0.15 -> 392930.08 | G22: =G20*0.15 -> 340840.1 | H22: =H20*0.15 -> 418003.4 | I22: =I20*0.15 -> 9682.4644 | J22: =J20*0.15 -> 434135.83 | K22: =K20*0.15 -> 434249.8 | ... N22: =N20*0.15 -> 2647622.6
C23: Jayne Pierson Contribution @5% | D23: =D20*0.05 -> 882540.88 | E23: =E20*0.05 -> 110159.35 | F23: =F20*0.05 -> 130976.69 | G23: =G20*0.05 -> 113613.37 | H23: =H20*0.05 -> 139334.47 | I23: =I20*0.05 -> 3227.4881 | J23: =J20*0.05 -> 144711.94 | K23: =K20*0.05 -> 144749.93 | ... N23: =N20*0.05 -> 882540.88
C24: Total Monthly Payments | D24: =D20-D22-D23 -> 14120654 | E24: =E20-E22-E23 -> 1762549.5 | F24: =F20-F22-F23 -> 2095627.1 | G24: =G20-G22-G23 -> 1817813.9 | H24: =H20-H22-H23 -> 2229351.5 | I24: =I20-I22-I23 -> 51639.81 | J24: =J20-J22-J23 -> 2315391.1 | K24: =K20-K22-K23 -> 2315998.9 | ... N24: =N20-N22-N23 -> 14120654
C28: Monthly Estimated Interim Payments | D28: Totals | E28: x4 Monthly Payments | F28: x4 Monthly Payments | G28: x4 Monthly Payments | H28: x4 Monthly Payments | I28: x4 Monthly Payments | J28: x4 Monthly Payments | K28: x4 Monthly Payments | L28: x4 Monthly Payments | M28: x4 Monthly Payments | N28: x4 Monthly Payments
C29: Clients Contribution Estimated Interim Payments | D29: =D20 -> 17650818 | E29: =E20/4 -> 550796.73 | F29: =F20/4 -> 654883.47 | G29: =G20/4 -> 568066.84 | H29: =H20/4 -> 696672.34 | I29: =I20/4 -> 16137.441 | J29: =J20/4 -> 723559.71 | K29: =K20/4 -> 723749.66 | L29: =L20/4 -> 494975.66 | ... N29: =N20/4 -> 4412704.4
C30: =C22 -> Arts Council Contribution @15% | D30: =D22 -> 2647622.6 | E30: =E22/4 -> 82619.509 | F30: =F22/4 -> 98232.521 | G30: =G22/4 -> 85210.026 | H30: =H22/4 -> 104500.85 | I30: =I22/4 -> 2420.6161 | J30: =J22/4 -> 108533.96 | K30: =K22/4 -> 108562.45 | L30: =L22/4 -> 74246.348 | ... N30: =N22/4 -> 661905.66
C31: =C23 -> Jayne Pierson Contribution @5% | D31: =D23 -> 882540.88 | E31: =E23/4 -> 27539.836 | F31: =F23/4 -> 32744.174 | G31: =G23/4 -> 28403.342 | H31: =H23/4 -> 34833.617 | I31: =I23/4 -> 806.87203 | J31: =J23/4 -> 36177.986 | K31: =K23/4 -> 36187.483 | L31: =L23/4 -> 24748.783 | ... N31: =N23/4 -> 220635.22
D32: =SUM(D29:D31) -> 21180981 | E32: =SUM(E29:E31) -> 660956.07 | F32: =SUM(F29:F31) -> 785860.17 | G32: =SUM(G29:G31) -> 681680.21 | H32: =SUM(H29:H31) -> 836006.81 | I32: =SUM(I29:I31) -> 19364.929 | J32: =SUM(J29:J31) -> 868271.66 | K32: =SUM(K29:K31) -> 868499.59 | ... N32: =SUM(N29:N31) -> 5295245.3
C33: 0.05 | D33: =D32/100*0.05 -> 10590.491 | E33: =E32/100*0.05 -> 330.47804 | F33: =F32/100*0.05 -> 392.93008 | G33: =G32/100*0.05 -> 340.8401 | H33: =H32/100*0.05 -> 418.0034 | I33: =I32/100*0.05 -> 9.6824644 | J33: =J32/100*0.05 -> 434.13583 | K33: =K32/100*0.05 -> 434.2498 | ... N33: =N32/100*0.05 -> 2647.6226
C34: Minus 5% Retention | D34: =D32-D33 -> 21170391 | E34: =E32-E33 -> 660625.6 | F34: =F32-F33 -> 785467.24 | G34: =G32-G33 -> 681339.37 | H34: =H32-H33 -> 835588.8 | I34: =I32-I33 -> 19355.246 | J34: =J32-J33 -> 867837.52 | K34: =K32-K33 -> 868065.34 | ... N34: =N32-N33 -> 5292597.7

Sheet Material Costing Comparisons
C5: OPTION 1 (Concept Design) | H5: OPTION 2 | M5: OPTION 3
B6: Item | C6: Material Description | D6: Qty/m2 | E6: Cost/ unit | F6: Total | H6: Material Description | I6: Qty | J6: Cost/ unit | K6: Total | M6: Material Description | N6: Qty | O6: Cost/ unit | P6: Total
B8: FOUNDATION | C8: Strip Foundations with200mm concrete slab | D8: 4021 | E8: ='NRM1 CP template '!I40 -> 300 | F8: =D8*E8 -> 1206300 | H8: Piled foundations; RC ground bearing slab 200mm | I8: =D8 -> 4021 | J8: 490 | K8: =I8*J8 -> 1970290 | M8: Concrete pad foundations | N8: =D8 -> 4021 | O8: 500 | P8: =N8*O8 -> 2010500
B9: FRAME | C9: Timber | D9: 2240 | E9: ='NRM1 CP template '!I51 -> 140 | F9: =D9*E9 -> 313600 | H9: Steel frame | I9: =D9 -> 2240 | J9: 490 | K9: =I9*J9 -> 1097600 | M9: Concrete frame 300 mm × 600 mm | N9: =D9 -> 2240 | O9: 235 | P9: =N9*O9 -> 526400
B10: INTERNAL WALLS | C10: Timber Stud Partion | D10: 2881 | E10: ='NRM1 CP template '!I91 -> 80 | F10: =D10*E10 -> 230480 | H10: Metal stud partion | I10: =D10 -> 2881 | J10: 85 | K10: =I10*J10 -> 244885 | M10: Concrete partitions Reinforced concrete walls; C25 strength150mm thick | N10: =D10 -> 2881 | O10: 200 | P10: =N10*O10 -> 576200
B11: ROOF | C11: Landscaped DPM | D11: 4021 | E11: ='NRM1 CP template '!I64 -> 200 | F11: =D11*E11 -> 804200 | H11: Kalzip embossed aluminium standing seam roof | I11: =D11 -> 4021 | J11: 100 | K11: =I11*J11 -> 402100 | M11: Reinforced concrete roof slab; 300 mm thick | N11: =D11 -> 4021 | O11: 180 | P11: =N11*O11 -> 723780
E12: Total | F12: =SUM(F8:F11) -> 2554580 | K12: =SUM(K8:K11) -> 3714875 | P12: =SUM(P8:P11) -> 3836880
