Workbook

Sheet Main
A1: Engine Simulator
A2: Last updated: 20/01/2020 Matt
A4: Calculated values on this worksheet are in orange, values in black need to be entered manually
A5: Real starting point combustion preassure (P1) required for calculation of simulation model, as found in Copy_real_6500RPM sheet
A6: Other worksheets use data from this one for their calculations
B27: Value | C27: Units | D27: Abbriviation | E27: Notes
A28: General settings
A29: Name | B29: Sigma 1.6
A30: Compression Ratio | B30: 11.16 | C30: (ratio :1) | D30: CR
A31: Conrod leght | B31: 0.137 | C31: m | D31: l
A32: Stroke | B32: 0.0814 | C32: m
A33: Bore | B33: 0.079 | C33: m
A34: Lambada | B34: 0.9
A35: VE | B35: 90 | C35: %
A36: Air & atomized fuel density | B36: 1.225 | C36: kg/m^3 | E36: air value for 15 deg c at 1 bar
A37: Calorific value of fuel [LHV only] | B37: 43.4 | C37: MJ/kg | E37: lower heating value
A38: Combustion eff | B38: 90 | C38: %
A39: Gamma | B39: 1.27 | E39: Owen: 1.25. Changes sim peak, adjust alonside 'a'
A40: n compression | B40: 1.3044
A41: n expansion | B41: 1.2922
A44: Basic MFB settings (based on real data and assumptions for 0% and 100%)
A45: MFB (ratio) | B45: CA (AV deg) | C45: notes
A46: 0 | B46: -15 | C46: 6500 RPM assumed based on non combustion model vs real data delta
A47: 0.02 | B47: =Copy_real_6500RPM!M74 -> -7.373 | C47: 6500 RPM
A48: 0.05 | B48: =Copy_real_6500RPM!M81 -> -4.541 | C48: 6500 RPM
A49: 0.1 | B49: =Copy_real_6500RPM!M88 -> -1.766 | C49: 6500 RPM
A50: 0.5 | B50: =Copy_real_6500RPM!M95 -> 10.802 | C50: 6500 RPM
A51: 0.9 | B51: =Copy_real_6500RPM!M102 -> 24.101 | C51: 6500 RPM
A52: 1 | B52: 36 | C52: 6500 RPM assumed
A54: Advanced MFB settings (take values from matlab)
A55: Weibie function parameters
A57: m= | B57: 1.5 | C57: //Start of combustion gradient
A58: Combustion start (deg) | B58: =B46 -> -15
A59: Combustion end (deg) | B59: =B52 -> 36
A60: a= | B60: 1.77 | C60: //End of combustion gradient
A61: adjust a and m in conjunction with gamma
A63: Usefull calculated values
A64: Swept volume | B64: =B32*(PI()*(B33/2)^2) -> 0.00039899593 | C64: m^3
A65: Vc | B65: =B64/(B30-1) -> 3.9271253e-05 | C65: m^3
A66: Crank radius | B66: =B32/2 -> 0.0407 | C66: m

Sheet Combustion model V1
A1: AFR | B1: =Main!B34*14.7 -> 13.23 | C1: Ratio
A2: Swept volume | B2: =PI()*(Main!B33/2)^2*Main!B32 -> 0.00039899593 | C2: m^3 | F2: DEBUG for finding gamma
A3: Total mass | B3: =(Main!B36*B2)*(Main!B35/100) -> 0.00043989302 | C3: kg | F3: sim max preassure | G3: =MAX(E9:E209) -> 66.992646
A4: Mass of air | B4: =B3*((B1)/(B1+1)) -> 0.00040897994 | C4: kg | F4: real max preassure | G4: =MAX(Copy_real_6500RPM!C13:'Copy_real_6500RPM'!C732) -> 67.103
A5: Mass of fuel | B5: =B3*(1/(B1+1)) -> 3.0913072e-05 | C5: kg
A6: Q total | B6: =(B5*Main!B37*(Main!B38/100))*10^6 -> 1207.4646 | C6: J
B7: 1207
A8: CA (deg) | B8: dMFB | C8: dQr (J) (per deg) | D8: P2 n=compression (bar) | E8: P2 n=expansion (bar)
A9: -100 | B9: ='Weibie function & advanced MFB'!C2 -> 0 | C9: =(($B$5*B9)*Main!$B$37*(Main!$B$38/100))*10^6 -> 0 | D9: =(((Copy_real_6500RPM!$C$272*10^5)*(('Geometry calc'!C262/'Geometry calc'!C263)^Main!$B$40))+((C9*(Main!$B$39-1))/('Geometry calc'!C263)))*10^-5 -> 2.0643735 | E9: =(((Copy_real_6500RPM!$C$272*10^5)*(('Geometry calc'!C262/'Geometry calc'!C263)^Main!$B$40))+((C9*(Main!$B$39-1))/('Geometry calc'!C263)))*10^-5 -> 2.0643735
A10: -99 | B10: ='Weibie function & advanced MFB'!C3 -> 0 | C10: =(($B$5*B10)*Main!$B$37*(Main!$B$38/100))*10^6 -> 0 | D10: =(((D9*10^5)*(('Geometry calc'!C262/'Geometry calc'!C263)^Main!$B$40))+((C9*(Main!$B$39-1))/('Geometry calc'!C263)))*10^-5 -> 2.0931425 | E10: =(((D9*10^5)*(('Geometry calc'!C262/'Geometry calc'!C263)^Main!$B$40))+((C9*(Main!$B$39-1))/('Geometry calc'!C263)))*10^-5 -> 2.0931425
A11: -98 | B11: ='Weibie function & advanced MFB'!C4 -> 0 | C11: =(($B$5*B11)*Main!$B$37*(Main!$B$38/100))*10^6 -> 0 | D11: =(((D10*10^5)*(('Geometry calc'!C263/'Geometry calc'!C264)^Main!$B$40))+((C10*(Main!$B$39-1))/('Geometry calc'!C264)))*10^-5 -> 2.1228884 | E11: =(((D10*10^5)*(('Geometry calc'!C263/'Geometry calc'!C264)^Main!$B$40))+((C10*(Main!$B$39-1))/('Geometry calc'!C264)))*10^-5 -> 2.1228884
A12: -97 | B12: ='Weibie function & advanced MFB'!C5 -> 0 | C12: =(($B$5*B12)*Main!$B$37*(Main!$B$38/100))*10^6 -> 0 | D12: =(((D11*10^5)*(('Geometry calc'!C264/'Geometry calc'!C265)^Main!$B$40))+((C11*(Main!$B$39-1))/('Geometry calc'!C265)))*10^-5 -> 2.1536493 | E12: =(((D11*10^5)*(('Geometry calc'!C264/'Geometry calc'!C265)^Main!$B$40))+((C11*(Main!$B$39-1))/('Geometry calc'!C265)))*10^-5 -> 2.1536493
A13: -96 | B13: ='Weibie function & advanced MFB'!C6 -> 0 | C13: =(($B$5*B13)*Main!$B$37*(Main!$B$38/100))*10^6 -> 0 | D13: =(((D12*10^5)*(('Geometry calc'!C265/'Geometry calc'!C266)^Main!$B$40))+((C12*(Main!$B$39-1))/('Geometry calc'!C266)))*10^-5 -> 2.1854651 | E13: =(((D12*10^5)*(('Geometry calc'!C265/'Geometry calc'!C266)^Main!$B$40))+((C12*(Main!$B$39-1))/('Geometry calc'!C266)))*10^-5 -> 2.1854651
A14: -95 | B14: ='Weibie function & advanced MFB'!C7 -> 0 | C14: =(($B$5*B14)*Main!$B$37*(Main!$B$38/100))*10^6 -> 0 | D14: =(((D13*10^5)*(('Geometry calc'!C266/'Geometry calc'!C267)^Main!$B$40))+((C13*(Main!$B$39-1))/('Geometry calc'!C267)))*10^-5 -> 2.2183777 | E14: =(((D13*10^5)*(('Geometry calc'!C266/'Geometry calc'!C267)^Main!$B$40))+((C13*(Main!$B$39-1))/('Geometry calc'!C267)))*10^-5 -> 2.2183777
A15: -94 | B15: ='Weibie function & advanced MFB'!C8 -> 0 | C15: =(($B$5*B15)*Main!$B$37*(Main!$B$38/100))*10^6 -> 0 | D15: =(((D14*10^5)*(('Geometry calc'!C267/'Geometry calc'!C268)^Main!$B$40))+((C14*(Main!$B$39-1))/('Geometry calc'!C268)))*10^-5 -> 2.2524308 | E15: =(((D14*10^5)*(('Geometry calc'!C267/'Geometry calc'!C268)^Main!$B$40))+((C14*(Main!$B$39-1))/('Geometry calc'!C268)))*10^-5 -> 2.2524308
A16: -93 | B16: ='Weibie function & advanced MFB'!C9 -> 0 | C16: =(($B$5*B16)*Main!$B$37*(Main!$B$38/100))*10^6 -> 0 | D16: =(((D15*10^5)*(('Geometry calc'!C268/'Geometry calc'!C269)^Main!$B$40))+((C15*(Main!$B$39-1))/('Geometry calc'!C269)))*10^-5 -> 2.2876704 | E16: =(((D15*10^5)*(('Geometry calc'!C268/'Geometry calc'!C269)^Main!$B$40))+((C15*(Main!$B$39-1))/('Geometry calc'!C269)))*10^-5 -> 2.2876704
A17: -92 | B17: ='Weibie function & advanced MFB'!C10 -> 0 | C17: =(($B$5*B17)*Main!$B$37*(Main!$B$38/100))*10^6 -> 0 | D17: =(((D16*10^5)*(('Geometry calc'!C269/'Geometry calc'!C270)^Main!$B$40))+((C16*(Main!$B$39-1))/('Geometry calc'!C270)))*10^-5 -> 2.3241447 | E17: =(((D16*10^5)*(('Geometry calc'!C269/'Geometry calc'!C270)^Main!$B$40))+((C16*(Main!$B$39-1))/('Geometry calc'!C270)))*10^-5 -> 2.3241447
A18: -91 | B18: ='Weibie function & advanced MFB'!C11 -> 0 | C18: =(($B$5*B18)*Main!$B$37*(Main!$B$38/100))*10^6 -> 0 | D18: =(((D17*10^5)*(('Geometry calc'!C270/'Geometry calc'!C271)^Main!$B$40))+((C17*(Main!$B$39-1))/('Geometry calc'!C271)))*10^-5 -> 2.3619044 | E18: =(((D17*10^5)*(('Geometry calc'!C270/'Geometry calc'!C271)^Main!$B$40))+((C17*(Main!$B$39-1))/('Geometry calc'!C271)))*10^-5 -> 2.3619044
A19: -90 | B19: ='Weibie function & advanced MFB'!C12 -> 0 | C19: =(($B$5*B19)*Main!$B$37*(Main!$B$38/100))*10^6 -> 0 | D19: =(((D18*10^5)*(('Geometry calc'!C271/'Geometry calc'!C272)^Main!$B$40))+((C18*(Main!$B$39-1))/('Geometry calc'!C272)))*10^-5 -> 2.4010026 | E19: =(((D18*10^5)*(('Geometry calc'!C271/'Geometry calc'!C272)^Main!$B$40))+((C18*(Main!$B$39-1))/('Geometry calc'!C272)))*10^-5 -> 2.4010026
A20: -89 | B20: ='Weibie function & advanced MFB'!C13 -> 0 | C20: =(($B$5*B20)*Main!$B$37*(Main!$B$38/100))*10^6 -> 0 | D20: =(((D19*10^5)*(('Geometry calc'!C272/'Geometry calc'!C273)^Main!$B$40))+((C19*(Main!$B$39-1))/('Geometry calc'!C273)))*10^-5 -> 2.441495 | E20: =(((D19*10^5)*(('Geometry calc'!C272/'Geometry calc'!C273)^Main!$B$40))+((C19*(Main!$B$39-1))/('Geometry calc'!C273)))*10^-5 -> 2.441495
A21: -88 | B21: ='Weibie function & advanced MFB'!C14 -> 0 | C21: =(($B$5*B21)*Main!$B$37*(Main!$B$38/100))*10^6 -> 0 | D21: =(((D20*10^5)*(('Geometry calc'!C273/'Geometry calc'!C274)^Main!$B$40))+((C20*(Main!$B$39-1))/('Geometry calc'!C274)))*10^-5 -> 2.4834401 | E21: =(((D20*10^5)*(('Geometry calc'!C273/'Geometry calc'!C274)^Main!$B$40))+((C20*(Main!$B$39-1))/('Geometry calc'!C274)))*10^-5 -> 2.4834401
... A93: -16 | B93: ='Weibie function & advanced MFB'!C86 -> 0 | C93: =(($B$5*B93)*Main!$B$37*(Main!$B$38/100))*10^6 -> 0 | D93: =(((D92*10^5)*(('Geometry calc'!C345/'Geometry calc'!C346)^Main!$B$40))+((C92*(Main!$B$39-1))/('Geometry calc'!C346)))*10^-5 -> 21.634168 | E93: =(((D92*10^5)*(('Geometry calc'!C345/'Geometry calc'!C346)^Main!$B$40))+((C92*(Main!$B$39-1))/('Geometry calc'!C346)))*10^-5 -> 21.634168
A94: -15 | B94: ='Weibie function & advanced MFB'!C87 -> 0 | C94: =(($B$5*B94)*Main!$B$37*(Main!$B$38/100))*10^6 -> 0 | D94: =(((D93*10^5)*(('Geometry calc'!C346/'Geometry calc'!C347)^Main!$B$40))+((C93*(Main!$B$39-1))/('Geometry calc'!C347)))*10^-5 -> 22.365544 | E94: =(((D93*10^5)*(('Geometry calc'!C346/'Geometry calc'!C347)^Main!$B$41))+((C93*(Main!$B$39-1))/('Geometry calc'!C347)))*10^-5 -> 22.35859
A95: -14 | B95: ='Weibie function & advanced MFB'!C88 -> 0 | C95: =(($B$5*B95)*Main!$B$37*(Main!$B$38/100))*10^6 -> 0 | D95: =(((D94*10^5)*(('Geometry calc'!C347/'Geometry calc'!C348)^Main!$B$40))+((C94*(Main!$B$39-1))/('Geometry calc'!C348)))*10^-5 -> 23.095362 | E95: =(((D94*10^5)*(('Geometry calc'!C347/'Geometry calc'!C348)^Main!$B$41))+((C94*(Main!$B$39-1))/('Geometry calc'!C348)))*10^-5 -> 23.088427
A96: -13 | B96: ='Weibie function & advanced MFB'!C89 -> 0.0012868041 | C96: =(($B$5*B96)*Main!$B$37*(Main!$B$38/100))*10^6 -> 1.5537704 | D96: =(((D95*10^5)*(('Geometry calc'!C348/'Geometry calc'!C349)^Main!$B$40))+((C95*(Main!$B$39-1))/('Geometry calc'!C349)))*10^-5 -> 23.818936 | E96: =(((D95*10^5)*(('Geometry calc'!C348/'Geometry calc'!C349)^Main!$B$41))+((C95*(Main!$B$39-1))/('Geometry calc'!C349)))*10^-5 -> 23.812065
A97: -12 | B97: ='Weibie function & advanced MFB'!C90 -> 0.0022552067 | C97: =(($B$5*B97)*Main!$B$37*(Main!$B$38/100))*10^6 -> 2.7230822 | D97: =(((D96*10^5)*(('Geometry calc'!C349/'Geometry calc'!C350)^Main!$B$40))+((C96*(Main!$B$39-1))/('Geometry calc'!C350)))*10^-5 -> 24.622549 | E97: =(((D96*10^5)*(('Geometry calc'!C349/'Geometry calc'!C350)^Main!$B$41))+((C96*(Main!$B$39-1))/('Geometry calc'!C350)))*10^-5 -> 24.61579
A98: -11 | B98: ='Weibie function & advanced MFB'!C91 -> 0.0037154762 | C98: =(($B$5*B98)*Main!$B$37*(Main!$B$38/100))*10^6 -> 4.486306 | D98: =(((D97*10^5)*(('Geometry calc'!C350/'Geometry calc'!C351)^Main!$B$40))+((C97*(Main!$B$39-1))/('Geometry calc'!C351)))*10^-5 -> 25.484069 | E98: =(((D97*10^5)*(('Geometry calc'!C350/'Geometry calc'!C351)^Main!$B$41))+((C97*(Main!$B$39-1))/('Geometry calc'!C351)))*10^-5 -> 25.477452
A99: -10 | B99: ='Weibie function & advanced MFB'!C92 -> 0.0053864365 | C99: =(($B$5*B99)*Main!$B$37*(Main!$B$38/100))*10^6 -> 6.5039314 | D99: =(((D98*10^5)*(('Geometry calc'!C351/'Geometry calc'!C352)^Main!$B$40))+((C98*(Main!$B$39-1))/('Geometry calc'!C352)))*10^-5 -> 26.438472 | E99: =(((D98*10^5)*(('Geometry calc'!C351/'Geometry calc'!C352)^Main!$B$41))+((C98*(Main!$B$39-1))/('Geometry calc'!C352)))*10^-5 -> 26.432036
A100: -9 | B100: ='Weibie function & advanced MFB'!C93 -> 0.0072281785 | C100: =(($B$5*B100)*Main!$B$37*(Main!$B$38/100))*10^6 -> 8.7277697 | D100: =(((D99*10^5)*(('Geometry calc'!C352/'Geometry calc'!C353)^Main!$B$40))+((C99*(Main!$B$39-1))/('Geometry calc'!C353)))*10^-5 -> 27.501649 | E100: =(((D99*10^5)*(('Geometry calc'!C352/'Geometry calc'!C353)^Main!$B$41))+((C99*(Main!$B$39-1))/('Geometry calc'!C353)))*10^-5 -> 27.495432
A101: -8 | B101: ='Weibie function & advanced MFB'!C94 -> 0.0092062616 | C101: =(($B$5*B101)*Main!$B$37*(Main!$B$38/100))*10^6 -> 11.116235 | D101: =(((D100*10^5)*(('Geometry calc'!C353/'Geometry calc'!C354)^Main!$B$40))+((C100*(Main!$B$39-1))/('Geometry calc'!C354)))*10^-5 -> 28.686453 | E101: =(((D100*10^5)*(('Geometry calc'!C353/'Geometry calc'!C354)^Main!$B$41))+((C100*(Main!$B$39-1))/('Geometry calc'!C354)))*10^-5 -> 28.680497
A102: -7 | B102: ='Weibie function & advanced MFB'!C95 -> 0.011288529 | C102: =(($B$5*B102)*Main!$B$37*(Main!$B$38/100))*10^6 -> 13.630499 | D102: =(((D101*10^5)*(('Geometry calc'!C354/'Geometry calc'!C355)^Main!$B$40))+((C101*(Main!$B$39-1))/('Geometry calc'!C355)))*10^-5 -> 30.002534 | E102: =(((D101*10^5)*(('Geometry calc'!C354/'Geometry calc'!C355)^Main!$B$41))+((C101*(Main!$B$39-1))/('Geometry calc'!C355)))*10^-5 -> 29.996885
A103: -6 | B103: ='Weibie function & advanced MFB'!C96 -> 0.01344369 | C103: =(($B$5*B103)*Main!$B$37*(Main!$B$38/100))*10^6 -> 16.23278 | D103: =(((D102*10^5)*(('Geometry calc'!C355/'Geometry calc'!C356)^Main!$B$40))+((C102*(Main!$B$39-1))/('Geometry calc'!C356)))*10^-5 -> 31.455997 | E103: =(((D102*10^5)*(('Geometry calc'!C355/'Geometry calc'!C356)^Main!$B$41))+((C102*(Main!$B$39-1))/('Geometry calc'!C356)))*10^-5 -> 31.45071
A104: -5 | B104: ='Weibie function & advanced MFB'!C97 -> 0.015640709 | C104: =(($B$5*B104)*Main!$B$37*(Main!$B$38/100))*10^6 -> 18.885602 | D104: =(((D103*10^5)*(('Geometry calc'!C356/'Geometry calc'!C357)^Main!$B$40))+((C103*(Main!$B$39-1))/('Geometry calc'!C357)))*10^-5 -> 33.049032 | E104: =(((D103*10^5)*(('Geometry calc'!C356/'Geometry calc'!C357)^Main!$B$41))+((C103*(Main!$B$39-1))/('Geometry calc'!C357)))*10^-5 -> 33.044168
A105: -4 | B105: ='Weibie function & advanced MFB'!C98 -> 0.017848612 | C105: =(($B$5*B105)*Main!$B$37*(Main!$B$38/100))*10^6 -> 21.551567 | D105: =(((D104*10^5)*(('Geometry calc'!C357/'Geometry calc'!C358)^Main!$B$40))+((C104*(Main!$B$39-1))/('Geometry calc'!C358)))*10^-5 -> 34.779571 | E105: =(((D104*10^5)*(('Geometry calc'!C357/'Geometry calc'!C358)^Main!$B$41))+((C104*(Main!$B$39-1))/('Geometry calc'!C358)))*10^-5 -> 34.775202
... A209: 100 | B209: ='Weibie function & advanced MFB'!C202 -> 9.6589403e-15 | C209: =(($B$5*B209)*Main!$B$37*(Main!$B$38/100))*10^6 -> 1.1662828e-11 | D209: =(((D208*10^5)*(('Geometry calc'!C461/'Geometry calc'!C462)^Main!$B$40))+((C208*(Main!$B$39-1))/('Geometry calc'!C462)))*10^-5 -> 8.3384024 | E209: =(((D208*10^5)*(('Geometry calc'!C461/'Geometry calc'!C462)^Main!$B$41))+((C208*(Main!$B$39-1))/('Geometry calc'!C462)))*10^-5 -> 8.3395244

Sheet Non combustion model
A1: Preassure
A2: start and end at 100 deg CA due to making sure valves are closed at that point. Combustion start was found from delta value, used for when making assumptions for MFB. Delta also shows preassure due to combustion
A3: 6500RPM
A4: n compression | B4: =Main!B40 -> 1.3044 | G4: DEBUG
A5: P1 @ -101deg CA (Pa) | B5: =(Copy_real_6500RPM!C272)*10^5 -> 203600 | G5: =MAX(D8:D208) -> 45.3749
A7: CA | B7: P2 (Pa) | C7: P2 (bar) | D7: Delta real v.s sim (bar)
A8: -100 | B8: =$B$5*('Geometry calc'!C262/'Geometry calc'!C263)^'Non combustion model'!$B$4 -> 206437.35 | C8: =B8*10^-5 -> 2.0643735 | D8: =Copy_real_6500RPM!C273-'Non combustion model'!C8 -> -0.003373535
A9: -99 | B9: =B8*('Geometry calc'!C263/'Geometry calc'!C264)^'Non combustion model'!$B$4 -> 209371.06 | C9: =B9*10^-5 -> 2.0937106 | D9: =Copy_real_6500RPM!C274-'Non combustion model'!C9 -> -0.0017105971
A10: -98 | B10: =B9*('Geometry calc'!C264/'Geometry calc'!C265)^'Non combustion model'!$B$4 -> 212404.87 | C10: =B10*10^-5 -> 2.1240487 | D10: =Copy_real_6500RPM!C275-'Non combustion model'!C10 -> -0.011048728
A11: -97 | B11: =B10*('Geometry calc'!C265/'Geometry calc'!C266)^'Non combustion model'!$B$4 -> 215542.73 | C11: =B11*10^-5 -> 2.1554273 | D11: =Copy_real_6500RPM!C276-'Non combustion model'!C11 -> -0.0074272677
A12: -96 | B12: =B11*('Geometry calc'!C266/'Geometry calc'!C267)^'Non combustion model'!$B$4 -> 218788.74 | C12: =B12*10^-5 -> 2.1878874 | D12: =Copy_real_6500RPM!C277-'Non combustion model'!C12 -> -0.0028874488
A13: -95 | B13: =B12*('Geometry calc'!C267/'Geometry calc'!C268)^'Non combustion model'!$B$4 -> 222147.25 | C13: =B13*10^-5 -> 2.2214725 | D13: =Copy_real_6500RPM!C278-'Non combustion model'!C13 -> -0.00047250258
A14: -94 | B14: =B13*('Geometry calc'!C268/'Geometry calc'!C269)^'Non combustion model'!$B$4 -> 225622.78 | C14: =B14*10^-5 -> 2.2562278 | D14: =Copy_real_6500RPM!C279-'Non combustion model'!C14 -> -0.004227767
A15: -93 | B15: =B14*('Geometry calc'!C269/'Geometry calc'!C270)^'Non combustion model'!$B$4 -> 229220.08 | C15: =B15*10^-5 -> 2.2922008 | D15: =Copy_real_6500RPM!C280-'Non combustion model'!C15 -> -0.026200803
A16: -92 | B16: =B15*('Geometry calc'!C270/'Geometry calc'!C271)^'Non combustion model'!$B$4 -> 232944.15 | C16: =B16*10^-5 -> 2.3294415 | D16: =Copy_real_6500RPM!C281-'Non combustion model'!C16 -> -0.035441517
A17: -91 | B17: =B16*('Geometry calc'!C271/'Geometry calc'!C272)^'Non combustion model'!$B$4 -> 236800.23 | C17: =B17*10^-5 -> 2.3680023 | D17: =Copy_real_6500RPM!C282-'Non combustion model'!C17 -> -0.052002292
A18: -90 | B18: =B17*('Geometry calc'!C272/'Geometry calc'!C273)^'Non combustion model'!$B$4 -> 240793.81 | C18: =B18*10^-5 -> 2.4079381 | D18: =Copy_real_6500RPM!C283-'Non combustion model'!C18 -> -0.047938126
A19: -89 | B19: =B18*('Geometry calc'!C273/'Geometry calc'!C274)^'Non combustion model'!$B$4 -> 244930.68 | C19: =B19*10^-5 -> 2.4493068 | D19: =Copy_real_6500RPM!C284-'Non combustion model'!C19 -> -0.034306781
A20: -88 | B20: =B19*('Geometry calc'!C274/'Geometry calc'!C275)^'Non combustion model'!$B$4 -> 249216.89 | C20: =B20*10^-5 -> 2.4921689 | D20: =Copy_real_6500RPM!C285-'Non combustion model'!C20 -> -0.021168934
... A208: 100 | B208: =B207*('Geometry calc'!C462/'Geometry calc'!C463)^'Non combustion model'!$B$4 -> 206437.35 | C208: =B208*10^-5 -> 2.0643735 | D208: =Copy_real_6500RPM!C473-'Non combustion model'!C208 -> 5.8806265

Sheet Geometry calc
A2: Crank angle (/deg) | B2: s (m) | C2: Volume (Vs+Vc) (m^3)
A3: -360 | B3: =Main!$B$66*(1+(Main!$B$31/Main!$B$66)-(COS(RADIANS(A3)))-SQRT(((Main!$B$31/Main!$B$66)^2)-((SIN(RADIANS(A3)))^2))) -> 0 | C3: =(B3*PI()*(Main!$B$33/2)^2)+Main!$B$65 -> 3.9271253e-05
A4: -359 | B4: =Main!$B$66*(1+(Main!$B$31/Main!$B$66)-(COS(RADIANS(A4)))-SQRT(((Main!$B$31/Main!$B$66)^2)-((SIN(RADIANS(A4)))^2))) -> 8.0402227e-06 | C4: =(B4*PI()*(Main!$B$33/2)^2)+Main!$B$65 -> 3.9310664e-05
A5: -358 | B5: =Main!$B$66*(1+(Main!$B$31/Main!$B$66)-(COS(RADIANS(A5)))-SQRT(((Main!$B$31/Main!$B$66)^2)-((SIN(RADIANS(A5)))^2))) -> 3.2156908e-05 | C5: =(B5*PI()*(Main!$B$33/2)^2)+Main!$B$65 -> 3.9428876e-05
A6: -357 | B6: =Main!$B$66*(1+(Main!$B$31/Main!$B$66)-(COS(RADIANS(A6)))-SQRT(((Main!$B$31/Main!$B$66)^2)-((SIN(RADIANS(A6)))^2))) -> 7.2338107e-05 | C6: =(B6*PI()*(Main!$B$33/2)^2)+Main!$B$65 -> 3.9625831e-05
A7: -356 | B7: =Main!$B$66*(1+(Main!$B$31/Main!$B$66)-(COS(RADIANS(A7)))-SQRT(((Main!$B$31/Main!$B$66)^2)-((SIN(RADIANS(A7)))^2))) -> 0.00012856392 | C7: =(B7*PI()*(Main!$B$33/2)^2)+Main!$B$65 -> 3.9901431e-05
A8: -355 | B8: =Main!$B$66*(1+(Main!$B$31/Main!$B$66)-(COS(RADIANS(A8)))-SQRT(((Main!$B$31/Main!$B$66)^2)-((SIN(RADIANS(A8)))^2))) -> 0.00020080649 | C8: =(B8*PI()*(Main!$B$33/2)^2)+Main!$B$65 -> 4.025554e-05
A9: -354 | B9: =Main!$B$66*(1+(Main!$B$31/Main!$B$66)-(COS(RADIANS(A9)))-SQRT(((Main!$B$31/Main!$B$66)^2)-((SIN(RADIANS(A9)))^2))) -> 0.00028903005 | C9: =(B9*PI()*(Main!$B$33/2)^2)+Main!$B$65 -> 4.0687983e-05
A10: -353 | B10: =Main!$B$66*(1+(Main!$B$31/Main!$B$66)-(COS(RADIANS(A10)))-SQRT(((Main!$B$31/Main!$B$66)^2)-((SIN(RADIANS(A10)))^2))) -> 0.00039319091 | C10: =(B10*PI()*(Main!$B$33/2)^2)+Main!$B$65 -> 4.1198545e-05
A11: -352 | B11: =Main!$B$66*(1+(Main!$B$31/Main!$B$66)-(COS(RADIANS(A11)))-SQRT(((Main!$B$31/Main!$B$66)^2)-((SIN(RADIANS(A11)))^2))) -> 0.00051323752 | C11: =(B11*PI()*(Main!$B$33/2)^2)+Main!$B$65 -> 4.1786974e-05
A12: -351 | B12: =Main!$B$66*(1+(Main!$B$31/Main!$B$66)-(COS(RADIANS(A12)))-SQRT(((Main!$B$31/Main!$B$66)^2)-((SIN(RADIANS(A12)))^2))) -> 0.00064911048 | C12: =(B12*PI()*(Main!$B$33/2)^2)+Main!$B$65 -> 4.2452979e-05
A13: -350 | B13: =Main!$B$66*(1+(Main!$B$31/Main!$B$66)-(COS(RADIANS(A13)))-SQRT(((Main!$B$31/Main!$B$66)^2)-((SIN(RADIANS(A13)))^2))) -> 0.00080074256 | C13: =(B13*PI()*(Main!$B$33/2)^2)+Main!$B$65 -> 4.3196229e-05
A14: -349 | B14: =Main!$B$66*(1+(Main!$B$31/Main!$B$66)-(COS(RADIANS(A14)))-SQRT(((Main!$B$31/Main!$B$66)^2)-((SIN(RADIANS(A14)))^2))) -> 0.00096805879 | C14: =(B14*PI()*(Main!$B$33/2)^2)+Main!$B$65 -> 4.4016358e-05
... A722: 359 | B722: =Main!$B$66*(1+(Main!$B$31/Main!$B$66)-(COS(RADIANS(A722)))-SQRT(((Main!$B$31/Main!$B$66)^2)-((SIN(RADIANS(A722)))^2))) -> 8.0402227e-06 | C722: =(B722*PI()*(Main!$B$33/2)^2)+Main!$B$65 -> 3.9310664e-05

Sheet Weibie function & advanced MFB
A1: MFB (ratio) | B1: CA (deg) | C1: dMFB
A2: 0 | B2: -100 | C2: 0
A3: 0 | B3: -99 | C3: =A3-A2 -> 0
A4: 0 | B4: -98 | C4: =A4-A3 -> 0
A5: 0 | B5: -97 | C5: =A5-A4 -> 0
A6: 0 | B6: -96 | C6: =A6-A5 -> 0
A7: 0 | B7: -95 | C7: =A7-A6 -> 0
A8: 0 | B8: -94 | C8: =A8-A7 -> 0
A9: 0 | B9: -93 | C9: =A9-A8 -> 0
A10: 0 | B10: -92 | C10: =A10-A9 -> 0
A11: 0 | B11: -91 | C11: =A11-A10 -> 0
A12: 0 | B12: -90 | C12: =A12-A11 -> 0
A13: 0 | B13: -89 | C13: =A13-A12 -> 0
A14: 0 | B14: -88 | C14: =A14-A13 -> 0
... A86: 0 | B86: -16 | C86: =A86-A85 -> 0
A87: =1-EXP(-Main!$B$56*(((B87-Main!$B$58))/(Main!$B$59))^(Main!$B$57+1)) -> 0 | B87: -15 | C87: 0
A88: =1-EXP(-Main!$B$56*(((B88-Main!$B$58))/(Main!$B$59))^(Main!$B$57+1)) -> 0 | B88: -14 | C88: =A88-A87 -> 0
A89: =1-EXP(-Main!$B$60*(((B89-Main!$B$58))/(Main!$B$59))^(Main!$B$57+1)) -> 0.0012868041 | B89: -13 | C89: =A89-A88 -> 0.0012868041
A90: =1-EXP(-Main!$B$60*(((B90-Main!$B$58))/(Main!$B$59))^(Main!$B$57+1)) -> 0.0035420108 | B90: -12 | C90: =A90-A89 -> 0.0022552067
A91: =1-EXP(-Main!$B$60*(((B91-Main!$B$58))/(Main!$B$59))^(Main!$B$57+1)) -> 0.0072574869 | B91: -11 | C91: =A91-A90 -> 0.0037154762
A92: =1-EXP(-Main!$B$60*(((B92-Main!$B$58))/(Main!$B$59))^(Main!$B$57+1)) -> 0.012643923 | B92: -10 | C92: =A92-A91 -> 0.0053864365
A93: =1-EXP(-Main!$B$60*(((B93-Main!$B$58))/(Main!$B$59))^(Main!$B$57+1)) -> 0.019872102 | B93: -9 | C93: =A93-A92 -> 0.0072281785
A94: =1-EXP(-Main!$B$60*(((B94-Main!$B$58))/(Main!$B$59))^(Main!$B$57+1)) -> 0.029078364 | B94: -8 | C94: =A94-A93 -> 0.0092062616
A95: =1-EXP(-Main!$B$60*(((B95-Main!$B$58))/(Main!$B$59))^(Main!$B$57+1)) -> 0.040366892 | B95: -7 | C95: =A95-A94 -> 0.011288529
A96: =1-EXP(-Main!$B$60*(((B96-Main!$B$58))/(Main!$B$59))^(Main!$B$57+1)) -> 0.053810582 | B96: -6 | C96: =A96-A95 -> 0.01344369
A97: =1-EXP(-Main!$B$60*(((B97-Main!$B$58))/(Main!$B$59))^(Main!$B$57+1)) -> 0.069451291 | B97: -5 | C97: =A97-A96 -> 0.015640709
A98: =1-EXP(-Main!$B$60*(((B98-Main!$B$58))/(Main!$B$59))^(Main!$B$57+1)) -> 0.087299903 | B98: -4 | C98: =A98-A97 -> 0.017848612
A99: =1-EXP(-Main!$B$60*(((B99-Main!$B$58))/(Main!$B$59))^(Main!$B$57+1)) -> 0.10733647 | B99: -3 | C99: =A99-A98 -> 0.020036565
A100: =1-EXP(-Main!$B$60*(((B100-Main!$B$58))/(Main!$B$59))^(Main!$B$57+1)) -> 0.12951057 | B100: -2 | C100: =A100-A99 -> 0.0221741
... A202: =1-EXP(-Main!$B$60*(((B202-Main!$B$58))/(Main!$B$59))^(Main!$B$57+1)) -> 1 | B202: 100 | C202: =A202-A201 -> 9.6589403e-15

Sheet Copy_real_6500RPM
A1: LUCID | B1: MEAN | C1: CYCLE | D1: PRESSURE | E1: DATA | F1: FILE | K1: LUCID | L1: STATISTICS | M1: DATA | N1: FILE
A2: D:\4mlc509\0084.016 | K2: D:\4mlc509\0084.016
A3: 37658 | B3: 0.60069444 | K3: 37658 | L3: 0.60069444
A4: Leistungsmesssung | B4: Lambda | C4: 0.9 | D4: FKI4=2 | E4: EBP= | F4: 35 | G4: kpa | H4: 6500 | I4: rpm | K4: Leistungsmesssung | L4: Lambda | M4: 0.9 | N4: FKI4=2 | O4: EBP= | P4: 35 | Q4: kpa | R4: 6500 | S4: rpm
A5: 4mlc509 | K5: 4mlc509 | L5: ,0084,016, | M5: 6501.6, | N5: -40
A6: BORE(m) | B6: STROKE(m) | C6: CONROD(m) | D6: COM.RATIO | E6: NCYCLES | F6: NCYLS | G6: VOLUME | K6: BORE(m) | L6: STROKE(m) | M6: CONROD(m) | N6: COM.RATIO | O6: NCYCLES | P6: NCYLS | Q6: HRMOD
A7: 0.079 | B7: 0.0814 | C7: 0.137 | D7: 11.16 | E7: 300 | F7: 4 | G7: 1 | K7: 0.079 | L7: 0.0814 | M7: 0.137 | N7: 11.16 | O7: 300 | P7: 4 | Q7: 1
A8: I-FILE | B8: DATA | K8: I-FILE | L8: DATA
A10: NUMBER | B10: OF | C10: READINGS | D10: 720 | K10: NAME | L10: UNITS | M10: ENGINE | N10: CYL_1 | O10: CYL_2 | P10: CYL_3 | Q10: CYL_4
K11: PMAX_AV | L11: bar | M11: 67.15 | N11: 72.627 | O11: 55.827 | P11: 71.367 | Q11: 68.78
A12: C.A.(DEG) | B12: VOL(CC) | C12: MEAN(B) | D12: CYL_1 | E12: CYL_2 | F12: CYL_3 | G12: CYL_4 | K12: PMAX_ME | L12: bar | M12: 67.914 | N12: 73.653 | O12: 55.826 | P12: 72.394 | Q12: 69.782
A13: -360 | B13: 39.27 | C13: 1.097 | D13: 0.902 | E13: 0.942 | F13: 0.914 | G13: 1.629 | K13: PMAX_SD | L13: bar | M13: 9.034 | N13: 6.498 | O13: 0.177 | P13: 6.672 | Q13: 6.1
A14: -359 | B14: 39.31 | C14: 1.135 | D14: 0.892 | E14: 0.932 | F14: 0.908 | G14: 1.806 | K14: PMAX_MX | L14: bar | M14: 89.033 | N14: 87.327 | O14: 56.28 | P14: 89.033 | Q14: 85.893
A15: -358 | B15: 39.43 | C15: 1.149 | D15: 0.878 | E15: 0.914 | F15: 0.891 | G15: 1.913 | K15: PMAX_MN | L15: bar | M15: 52.107 | N15: 55.46 | O15: 55.38 | P15: 52.107 | Q15: 53.653
A16: -357 | B16: 39.63 | C16: 1.161 | D16: 0.866 | E16: 0.898 | F16: 0.877 | G16: 2.004 | K16: PMAX_CV | L16: % | M16: 13.302 | N16: 8.823 | O16: 0.317 | P16: 9.217 | Q16: 8.742
A17: -356 | B17: 39.9 | C17: 1.173 | D17: 0.86 | E17: 0.871 | F17: 0.875 | G17: 2.085 | K17: PMAX_LV | L17: % | M17: 76.725 | N17: 75.299 | O17: 99.201 | P17: 71.977 | Q17: 76.887
A18: -355 | B18: 40.26 | C18: 1.153 | D18: 0.852 | E18: 0.841 | F18: 0.854 | G18: 2.066 | K18: APMAXAV | L18: CA_deg | M18: 15.55 | N18: 14.2 | O18: 17.8 | P18: 15.6 | Q18: 14.6
A19: -354 | B19: 40.69 | C19: 1.115 | D19: 0.841 | E19: 0.824 | F19: 0.847 | G19: 1.949 | K19: APMAXME | L19: CA_deg | M19: 13.315 | N19: 14.517 | O19: 7.682 | P19: 16.014 | Q19: 15.049
A20: -353 | B20: 41.2 | C20: 1.069 | D20: 0.831 | E20: 0.809 | F20: 0.837 | G20: 1.797 | K20: APMAXSD | L20: CA_deg | M20: 4.08 | N20: 2.23 | O20: 2.838 | P20: 2.258 | Q20: 2.241
A21: -352 | B21: 41.79 | C21: 1.03 | D21: 0.829 | E21: 0.788 | F21: 0.808 | G21: 1.696 | K21: APMAXMX | L21: CA_deg | M21: 22.6 | N21: 21.2 | O21: 17.2 | P21: 22.6 | Q21: 21.8
A22: -351 | B22: 42.45 | C22: 0.999 | D22: 0.82 | E22: 0.767 | F22: 0.798 | G22: 1.609 | K22: APMAXMN | L22: CA_deg | M22: 2.396 | N22: 9.8 | O22: 2.396 | P22: 11 | Q22: 9.2
A23: -350 | B23: 43.2 | C23: 0.938 | D23: 0.81 | E23: 0.748 | F23: 0.78 | G23: 1.413 | K23: APMAXCV | L23: % | M23: 30.643 | N23: 15.363 | O23: 36.945 | P23: 14.102 | Q23: 14.891
A24: -349 | B24: 44.02 | C24: 0.86 | D24: 0.804 | E24: 0.732 | F24: 0.767 | G24: 1.138 | K24: APMAXLV | L24: % | M24: 17.994 | N24: 67.509 | O24: 31.191 | P24: 68.69 | Q24: 61.135
... A252: -121 | B252: 363.66 | C252: 1.596 | D252: 1.608 | E252: 1.578 | F252: 1.615 | G252: 1.582 | K252: 0_CONTR | L252: - | M252: 123.45 | N252: 123.45 | O252: 123.45 | P252: 123.45 | Q252: 123.45
A253: -120 | B253: 361.13 | C253: 1.594 | D253: 1.604 | E253: 1.586 | F253: 1.621 | G253: 1.562
A254: -119 | B254: 358.56 | C254: 1.633 | D254: 1.658 | E254: 1.612 | F254: 1.64 | G254: 1.624
A255: -118 | B255: 355.95 | C255: 1.664 | D255: 1.667 | E255: 1.634 | F255: 1.651 | G255: 1.702
A256: -117 | B256: 353.3 | C256: 1.694 | D256: 1.664 | E256: 1.65 | F256: 1.668 | G256: 1.793
A257: -116 | B257: 350.61 | C257: 1.725 | D257: 1.696 | E257: 1.676 | F257: 1.711 | G257: 1.815
A258: -115 | B258: 347.89 | C258: 1.728 | D258: 1.706 | E258: 1.703 | F258: 1.69 | G258: 1.814
A259: -114 | B259: 345.12 | C259: 1.77 | D259: 1.715 | E259: 1.711 | F259: 1.758 | G259: 1.895
A260: -113 | B260: 342.32 | C260: 1.791 | D260: 1.748 | E260: 1.721 | F260: 1.758 | G260: 1.937
A261: -112 | B261: 339.49 | C261: 1.804 | D261: 1.76 | E261: 1.743 | F261: 1.787 | G261: 1.924
A262: -111 | B262: 336.61 | C262: 1.83 | D262: 1.791 | E262: 1.766 | F262: 1.818 | G262: 1.944
A263: -110 | B263: 333.71 | C263: 1.848 | D263: 1.815 | E263: 1.779 | F263: 1.84 | G263: 1.958
A264: -109 | B264: 330.76 | C264: 1.876 | D264: 1.817 | E264: 1.805 | F264: 1.856 | G264: 2.026
... A732: 359 | B732: 39.31 | C732: 1.063 | D732: 0.923 | E732: 0.957 | F732: 0.927 | G732: 1.446
