Workbook

Sheet Engine Properties
A1: Make | B1: Yamaha
A2: Model | B2: YZ 125 | E2: SI Units
A3: Capacity | B3: =E3*1000000 -> 124.81705 | C3: cm3 | E3: =PI()*0.25*E4^2*E5 -> 0.00012481705 | F3: m3
A4: Bore | B4: 54 | C4: mm | E4: =B4/1000 -> 0.054 | F4: m
A5: Stroke | B5: 54.5 | C5: mm | E5: =B5/1000 -> 0.0545 | F5: m
A6: Rod Length | B6: 103 | C6: mm | E6: =B6/1000 -> 0.103 | F6: m
A7: Transfer port timing | B7: 129 | C7: deg
A8: Exhaust port timing | B8: 192 | C8: deg
A9: Power valve Timing | C9: deg
A10: Compression Ratio | B10: 13
A11: Head Volume | B11: =E11*100^3 -> 10.401421 | C11: cm3 | E11: =(E12*E5)/(B10-1) -> 1.0401421e-05 | F11: m3
A12: Piston Area | B12: =E12*100^2 -> 22.90221 | C12: cm2 | E12: =PI()*0.25*E4^2 -> 0.002290221 | F12: m2
A14: fuel air ratio | B14: 1.2

Sheet 5000
A1: Head design | B1: Hgh squish | H1: Head design | I1: low squish
A2: RPM site | B2: 5000 | H2: RPM site | I2: 5000 | J2: peak measured temp
A3: Test No_ | B3: 1 | C3: mep | D3: 6.2849502 | E3: fmep | F3: =D3-D5 -> -0.57271907 | H3: Test No_ | I3: 2 | J3: mep | K3: 6.4833168 | L3: fmep | M3: =K3-K5 -> -0.17569673
A4: Actual RPM | B4: 5047 | C4: average pressure | D4: 10.685329 | E4: Break thermal efficiency | F4: =D5/D3 -> 1.0911255 | H4: Actual RPM | I4: 4981 | J4: average pressure | K4: 10.657058 | L4: Break thermal efficiency | M4: =K5/K3 -> 1.0270998
A5: Power KW | B5: 7.2 | C5: bmep | D5: =((B5*60*1000)/('Engine Properties'!$E$3*B4))/100000 -> 6.8576693 | E5: Temp Sq | F5: 1578.4368 | G5: K | H5: Power KW | I5: 6.9 | J5: bmep | K5: =((I5*60*1000)/('Engine Properties'!$E$3*I4))/100000 -> 6.6590135 | L5: Temp Sq | M5: 3008.4794 | N5: K
E6: Temp | F6: 2963.1114 | G6: K | L6: Temp | M6: 4463.8632 | N6: K
A7: Crank Angle | B7: Pressure Bar | E7: Crank Angle | F7: -8.5846 | H7: Crank Angle | I7: Pressure Bar | L7: Crank Angle | M7: -4.6233143
A8: -178.5 | B8: 0.040841245 | E8: mfb | F8: 78 | H8: -178.5 | I8: 0.059464976 | L8: mfb | M8: 68
A9: -177.5 | B9: 0.045013626 | H9: -177.5 | I9: 0.020426927
A10: -176.5 | B10: 0.047440293 | H10: -176.5 | I10: 0.011777171
A11: -175.5 | B11: 0.040234578 | H11: -175.5 | I11: 0.044587902
A12: -174.5 | B12: 0.031134578 | H12: -174.5 | I12: 0.051411317
A13: -173.5 | B13: 0.03531934 | H13: -173.5 | I13: 0.065654244
A14: -172.5 | B14: 0.046214578 | H14: -172.5 | I14: 0.06316839
A15: -171.5 | B15: 0.055921245 | H15: -171.5 | I15: 0.082991805
A16: -170.5 | B16: 0.057790769 | H16: -170.5 | I16: 0.10215571
A17: -169.5 | B17: 0.073502197 | H17: -169.5 | I17: 0.10339863
A18: -168.5 | B18: 0.10852791 | H18: -168.5 | I18: 0.12261327
A19: -167.5 | B19: 0.12000505 | H19: -167.5 | I19: 0.14425034
A20: -166.5 | B20: 0.13691248 | H20: -166.5 | I20: 0.16347766
... A367: 180.5 | B367: 0.020054555 | H367: 180.5 | I367: 0.035423378

Sheet 5500
A1: Head design | B1: High squish | H1: Head design | I1: low squish
A2: RPM site | B2: 5500 | H2: RPM site | I2: 5500
A3: Test No_ | B3: 1 | C3: mep | D3: 6.6440101 | E3: fmep | F3: =D3-D5 -> 0.25679487 | H3: Test No_ | I3: 2 | J3: mep | K3: 6.544137 | L3: fmep | M3: =K3-K5 -> 0.40264224
A4: Actual RPM | B4: 5494 | C4: average pressure | D4: 9.6434958 | E4: Break thermal efficiency | F4: =D5/D3 -> 0.96134942 | H4: Actual RPM | I4: 5479 | J4: average pressure | K4: 9.5793157 | L4: Break thermal efficiency | M4: =K5/K3 -> 0.93847283
A5: Power KW | B5: 7.3 | C5: bmep | D5: =((B5*60*1000)/('Engine Properties'!$E$3*B4))/100000 -> 6.3872152 | E5: Temp Sq | F5: 1851.0222 | G5: K | H5: Power KW | I5: 7 | J5: bmep | K5: =((I5*60*1000)/('Engine Properties'!$E$3*I4))/100000 -> 6.1414948 | L5: Temp Sq | M5: 2990.6825 | N5: K
E6: Temp | F6: 3462.7941 | G6: K | L6: Temp | M6: 4436.6967 | N6: K
A7: Crank Angle | B7: Pressure Bar | E7: Crank Angle | F7: -5.1509714 | H7: Crank Angle | I7: Pressure Bar | L7: Crank Angle | M7: 6.6051714
A8: -178.5 | B8: 0.40775061 | E8: mfb | F8: 82 | H8: -178.5 | I8: 0.40266928 | L8: mfb | M8: 74
A9: -177.5 | B9: 0.4071967 | H9: -177.5 | I9: 0.40101319
A10: -176.5 | B10: 0.40443843 | H10: -176.5 | I10: 0.40598145
A11: -175.5 | B11: 0.400578 | H11: -175.5 | I11: 0.41426189
A12: -174.5 | B12: 0.41051339 | H12: -174.5 | I12: 0.40818693
A13: -173.5 | B13: 0.42044878 | H13: -173.5 | I13: 0.40156258
A14: -172.5 | B14: 0.41272 | H14: -172.5 | I14: 0.40045815
A15: -171.5 | B15: 0.40885278 | H15: -171.5 | I15: 0.40542641
A16: -170.5 | B16: 0.40609678 | H16: -170.5 | I16: 0.39329006
A17: -169.5 | B17: 0.40168243 | H17: -169.5 | I17: 0.38004476
A18: -168.5 | B18: 0.3922953 | H18: -168.5 | I18: 0.38059302
A19: -167.5 | B19: 0.38732817 | H19: -167.5 | I19: 0.34195363
A20: -166.5 | B20: 0.405544 | H20: -166.5 | I20: 0.35188789
... A367: 180.5 | B367: 0.38938369 | H367: 180.5 | I367: 0.37764204

Sheet 6000
A1: Head design | B1: high squish | H1: Head design | I1: low squish
A2: RPM site | B2: 6000 | H2: RPM site | I2: 6000
A3: Test No_ | B3: 1 | C3: mep | D3: 7.1222813 | E3: fmep | F3: =D3-D5 -> 0.75956028 | H3: Test No_ | J3: mep | K3: 7.2089639 | L3: fmep | M3: =K3-K5 -> 0.8797002
A4: Actual RPM | B4: 6044 | C4: average pressure | D4: 8.9447572 | E4: Break thermal efficiency | F4: =D5/D3 -> 0.89335435 | H4: Actual RPM | I4: 6000 | J4: average pressure | K4: 9.0567216 | L4: Break thermal efficiency | M4: =K5/K3 -> 0.87797134
A5: Power KW | B5: 8 | C5: bmep | D5: =((B5*60*1000)/('Engine Properties'!$E$3*B4))/100000 -> 6.362721 | E5: Temp Sq | F5: 1509.8763 | G5: K | H5: Power KW | I5: 7.9 | J5: bmep | K5: =((I5*60*1000)/('Engine Properties'!$E$3*I4))/100000 -> 6.3292637 | L5: Temp Sq | M5: 3002.4995 | N5: K
E6: Temp | F6: 2837.2834 | G6: K | L6: Temp | M6: 4454.7453 | N6: K
A7: Crank Angle | B7: Pressure Bar | E7: Crank Angle | F7: -2.6083429 | H7: Crank Angle | I7: Pressure Bar | L7: Crank Angle | M7: 5.6428571
A8: -178.5 | B8: 0.52522863 | E8: mfb | F8: 66 | H8: -178.5 | I8: 0.47906853 | L8: mfb | M8: 70
A9: -177.5 | B9: 0.52423349 | H9: -177.5 | I9: 0.46840645
A10: -176.5 | B10: 0.51925678 | H10: -176.5 | I10: 0.45977757
A11: -175.5 | B11: 0.51377741 | H11: -175.5 | I11: 0.46028301
A12: -174.5 | B12: 0.49734643 | H12: -174.5 | I12: 0.46129805
A13: -173.5 | B13: 0.50183169 | H13: -173.5 | I13: 0.45774541
A14: -172.5 | B14: 0.50282784 | H14: -172.5 | I14: 0.45774125
A15: -171.5 | B15: 0.48539969 | H15: -171.5 | I15: 0.45114037
A16: -170.5 | B16: 0.48091953 | H16: -170.5 | I16: 0.44606309
A17: -169.5 | B17: 0.47942784 | H17: -169.5 | I17: 0.45114141
A18: -168.5 | B18: 0.4814222 | H18: -168.5 | I18: 0.45266605
A19: -167.5 | B19: 0.47992439 | H19: -167.5 | I19: 0.45063597
A20: -166.5 | B20: 0.47445012 | H20: -166.5 | I20: 0.44911133
... A367: 180.5 | B367: 0.50133033 | H367: 180.5 | I367: 0.4552321

Sheet 6500
A1: Head design | B1: high squish | H1: Head design | I1: low squish
A2: RPM site | B2: 6500 | H2: RPM site | I2: 6500
A3: Test No_ | B3: 1 | C3: mep | D3: 7.855864 | E3: fmep | F3: =D3-D5 -> 0.93396826 | H3: Test No_ | I3: 2 | J3: mep | K3: 7.8828245 | L3: fmep | M3: =K3-K5 -> 0.85349587
A4: Actual RPM | B4: 6528 | C4: average pressure | D4: 9.4741769 | E4: Break thermal efficiency | F4: =D5/D3 -> 0.88111196 | H4: Actual RPM | I4: 6565 | J4: average pressure | K4: 10.114639 | L4: Break thermal efficiency | M4: =K5/K3 -> 0.89172715
A5: Power KW | B5: 9.4 | C5: bmep | D5: =((B5*60*1000)/('Engine Properties'!$E$3*B4))/100000 -> 6.9218958 | E5: Temp Sq | F5: 1761.7209 | G5: K | H5: Power KW | I5: 9.6 | J5: bmep | K5: =((I5*60*1000)/('Engine Properties'!$E$3*I4))/100000 -> 7.0293287 | L5: Temp Sq | M5: 3335.5538 | N5: K
E6: Temp | F6: 3300.0182 | G6: K | L6: Temp | M6: 4949.1082 | N6: K
A7: Crank Angle | B7: Pressure Bar | E7: Crank Angle | F7: -0.61908571 | H7: Crank Angle | I7: Pressure Bar | L7: Crank Angle | M7: -1.7508571
A8: -178.5 | B8: 0.31702613 | E8: mfb | F8: 56 | H8: -178.5 | I8: 0.32362021 | L8: mfb | M8: 52
A9: -177.5 | B9: 0.29994744 | H9: -177.5 | I9: 0.31117284
A10: -176.5 | B10: 0.28240453 | H10: -176.5 | I10: 0.30419974
A11: -175.5 | B11: 0.27501581 | H11: -175.5 | I11: 0.32112727
A12: -174.5 | B12: 0.26993777 | H12: -174.5 | I12: 0.33108578
A13: -173.5 | B13: 0.27640562 | H13: -173.5 | I13: 0.32959307
A14: -172.5 | B14: 0.28656075 | H14: -172.5 | I14: 0.32660562
A15: -171.5 | B15: 0.27640373 | H15: -171.5 | I15: 0.32261793
A16: -170.5 | B16: 0.27548002 | H16: -170.5 | I16: 0.30967299
A17: -169.5 | B17: 0.27870875 | H17: -169.5 | I17: 0.30270601
A18: -168.5 | B18: 0.27271268 | H18: -168.5 | I18: 0.30370319
A19: -167.5 | B19: 0.26532962 | H19: -167.5 | I19: 0.29424123
A20: -166.5 | B20: 0.24963035 | H20: -166.5 | I20: 0.28030217
... A367: 180.5 | B367: 0.30530266 | H367: 180.5 | I367: 0.2976773

Sheet 7000
A1: Head design | B1: high squish | H1: Head design | I1: low squish
A2: RPM site | B2: 7000 | H2: RPM site | I2: 7000
A3: Test No_ | B3: 1 | C3: mep | D3: 8.6209198 | E3: fmep | F3: =D3-D5 -> 1.0068907 | H3: Test No_ | I3: 2 | J3: mep | K3: 8.3737089 | L3: fmep | M3: =K3-K5 -> 0.95501988
A4: Actual RPM | B4: 7071 | C4: average pressure | D4: 10.105946 | E4: Break thermal efficiency | F4: =D5/D3 -> 0.8832038 | H4: Actual RPM | I4: 6998 | J4: average pressure | K4: 10.795845 | L4: Break thermal efficiency | M4: =K5/K3 -> 0.88595019
A5: Power KW | B5: 11.2 | C5: bmep | D5: =((B5*60*1000)/('Engine Properties'!$E$3*B4))/100000 -> 7.6140291 | E5: Temp Sq | F5: 1770.9524 | G5: K | H5: Power KW | I5: 10.8 | J5: bmep | K5: =((I5*60*1000)/('Engine Properties'!$E$3*I4))/100000 -> 7.418689 | L5: Temp Sq | M5: 4077.3383 | N5: K
E6: Temp | F6: 3317.1938 | G6: K | L6: Temp | M6: 6027.2921 | N6: K
A7: Crank Angle | B7: Pressure Bar | E7: Crank Angle | F7: -1.9243429 | H7: Crank Angle | I7: Pressure Bar | L7: Crank Angle | M7: -6.6979429
A8: -178.5 | B8: 0.20073363 | E8: mfb | F8: 51 | H8: -178.5 | I8: 0.15456972 | L8: mfb | M8: 38
A9: -177.5 | B9: 0.22053417 | H9: -177.5 | I9: 0.16103271
A10: -176.5 | B10: 0.22397234 | H10: -176.5 | I10: 0.15629718
A11: -175.5 | B11: 0.22741756 | H11: -175.5 | I11: 0.15841684
A12: -174.5 | B12: 0.23258583 | H12: -174.5 | I12: 0.16230274
A13: -173.5 | B13: 0.22871315 | H13: -173.5 | I13: 0.14771542
A14: -172.5 | B14: 0.18394908 | H14: -172.5 | I14: 0.14126301
A15: -171.5 | B15: 0.18179593 | H15: -171.5 | I15: 0.15197589
A16: -170.5 | B16: 0.21321363 | H16: -170.5 | I16: 0.1579982
A17: -169.5 | B17: 0.20847898 | H17: -169.5 | I17: 0.1709365
A18: -168.5 | B18: 0.206332 | H18: -168.5 | I18: 0.18107124
A19: -167.5 | B19: 0.20891614 | H19: -167.5 | I19: 0.19310248
A20: -166.5 | B20: 0.20805241 | H20: -166.5 | I20: 0.20491007
... A367: 180.5 | B367: 0.15810579 | H367: 180.5 | I367: 0.12251482

Sheet 7500
A1: Head design | B1: high squish | H1: Head design | I1: low squish
A2: RPM site | B2: 7500 | H2: RPM site | I2: 7500
A3: Test No_ | B3: test 1 | C3: mep | D3: 9.3479735 | E3: fmep | F3: =D3-D5 -> 1.0522794 | H3: Test No_ | I3: 2 | J3: mep | K3: 9.1458871 | L3: fmep | M3: =K3-K5 -> 0.99401728
A4: Actual RPM | B4: 7533 | C4: average pressure | D4: 10.753647 | E4: Break thermal efficiency | F4: =D5/D3 -> 0.88743235 | H4: Actual RPM | I4: 7489 | J4: average pressure | K4: 11.611157 | L4: Break thermal efficiency | M4: =K5/K3 -> 0.89131538
A5: Power KW | B5: 13 | C5: bmep | D5: =((B5*60*1000)/('Engine Properties'!$E$3*B4))/100000 -> 8.2956942 | E5: Temp Sq | F5: 1756.2306 | G5: K | H5: Power KW | I5: 12.7 | J5: bmep | K5: =((I5*60*1000)/('Engine Properties'!$E$3*I4))/100000 -> 8.1518699 | L5: Temp Sq | M5: 5499.7048 | N5: K
E6: Temp | F6: 3289.8602 | G6: K | L6: Temp | M6: 8098.5427 | N6: K
A7: Crank Angle | B7: Pressure Bar | E7: Crank Angle | F7: 0.5 | H7: Crank Angle | I7: Pressure Bar | L7: Crank Angle | M7: -3.9934
A8: -178.5 | B8: -0.018963046 | E8: mfb | F8: 59 | H8: -178.5 | I8: -0.069723344 | L8: mfb | M8: 50
A9: -177.5 | B9: -0.019359236 | H9: -177.5 | I9: -0.068559534
A10: -176.5 | B10: -0.015719236 | H10: -176.5 | I10: -0.064118899
A11: -175.5 | B11: -0.0060290773 | H11: -175.5 | I11: -0.066496042
A12: -174.5 | B12: 0.00085473221 | H12: -174.5 | I12: -0.064061122
A13: -173.5 | B13: 0.013763939 | H13: -173.5 | I13: -0.053578582
A14: -172.5 | B14: 0.030271875 | H14: -172.5 | I14: -0.046744296
A15: -171.5 | B15: 0.022182986 | H15: -171.5 | I15: -0.038283979
A16: -170.5 | B16: 0.016529018 | H16: -170.5 | I16: -0.033851598
A17: -169.5 | B17: 0.008448383 | H17: -169.5 | I17: -0.033075725
A18: -168.5 | B18: -0.018566855 | H18: -168.5 | I18: -0.064102392
A19: -167.5 | B19: -0.029858284 | H19: -167.5 | I19: -0.078204296
A20: -166.5 | B20: -0.026201776 | H20: -166.5 | I20: -0.067721757
... A367: 180.5 | B367: -0.034614328 | H367: 180.5 | I367: -0.097335757

Sheet 8000
A1: Head design | B1: high squish | H1: Head design | I1: low squish
A2: RPM site | B2: 8000 | H2: RPM site | I2: 8000
A3: Test No_ | B3: test 1 | C3: mep | D3: 10.167503 | E3: fmep | F3: =D3-D5 -> 1.2286755 | H3: Test No_ | J3: mep | K3: 10.348643 | L3: fmep | M3: =K3-K5 -> 1.8033369
A4: Actual RPM | B4: 7959 | C4: average pressure | D4: 11.349304 | E4: Break thermal efficiency | F4: =D5/D3 -> 0.87915661 | H4: Actual RPM | I4: 7988 | J4: average pressure | K4: 12.238892 | L4: Break thermal efficiency | M4: =K5/K3 -> 0.8257417
A5: Power KW | B5: 14.8 | C5: bmep | D5: =((B5*60*1000)/('Engine Properties'!$E$3*B4))/100000 -> 8.9388275 | E5: Temp Sq | F5: 1985.71 | G5: K | H5: Power KW | I5: 14.2 | J5: bmep | K5: =((I5*60*1000)/('Engine Properties'!$E$3*I4))/100000 -> 8.5453063 | L5: Temp Sq | M5: 4059.6113 | N5: K
E6: Temp | F6: 3711.1259 | G6: K | L6: Temp | M6: 6001.1612 | N6: K
A7: Crank Angle | B7: Pressure Bar | E7: Crank Angle | F7: 0.89795 | H7: Crank Angle | I7: Pressure Bar | L7: Crank Angle | M7: -3.8934
A8: -178.5 | B8: 0.024715897 | E8: mfb | F8: 70 | H8: -178.5 | I8: -0.028911231 | L8: mfb | M8: 42
A9: -177.5 | B9: 0.0087751282 | H9: -177.5 | I9: -0.065465077
A10: -176.5 | B10: -0.0097941026 | H10: -176.5 | I10: -0.10401277
A11: -175.5 | B11: -0.023224103 | H11: -175.5 | I11: -0.13167738
A12: -174.5 | B12: -0.057655641 | H12: -174.5 | I12: -0.14725431
A13: -173.5 | B13: -0.074237179 | H13: -173.5 | I13: -0.17631738
A14: -172.5 | B14: -0.097213333 | H14: -172.5 | I14: -0.20803892
A15: -171.5 | B15: -0.10997641 | H15: -171.5 | I15: -0.21413123
A16: -170.5 | B16: -0.1061841 | H16: -170.5 | I16: -0.21685892
A17: -169.5 | B17: -0.10044333 | H17: -169.5 | I17: -0.215502
A18: -168.5 | B18: -0.076839487 | H18: -168.5 | I18: -0.22562354
A19: -167.5 | B19: -0.06662641 | H19: -167.5 | I19: -0.22493123
A20: -166.5 | B20: -0.041688718 | H20: -166.5 | I20: -0.23175738
... A367: 180.5 | B367: -0.0025288394 | H367: 180.5 | I367: -0.020678235

Sheet 8500
A1: Head design | B1: high squish | H1: Head design | I1: low squish
A2: RPM site | B2: 8500 | H2: RPM site | I2: 8500
A3: Test No_ | B3: 1 | C3: mep | D3: 10.849684 | E3: fmep | F3: =D3-D5 -> 1.8379178 | H3: Test No_ | J3: mep | K3: 11.473039 | L3: fmep | M3: =K3-K5 -> 2.3615162
A4: Actual RPM | B4: 8428 | C4: average pressure | D4: 11.122873 | E4: Break thermal efficiency | F4: =D5/D3 -> 0.83060172 | H4: Actual RPM | I4: 8494 | J4: average pressure | K4: 12.507187 | L4: Break thermal efficiency | M4: =K5/K3 -> 0.7941682
A5: Power KW | B5: 15.8 | C5: bmep | D5: =((B5*60*1000)/('Engine Properties'!$E$3*B4))/100000 -> 9.011766 | E5: Temp Sq | F5: 1793.0618 | G5: K | H5: Power KW | I5: 16.1 | J5: bmep | K5: =((I5*60*1000)/('Engine Properties'!$E$3*I4))/100000 -> 9.1115228 | L5: Temp Sq | M5: 4542.463 | N5: K
E6: Temp | F6: 3356.4312 | G6: K | L6: Temp | M6: 6699.0448 | N6: K
A7: Crank Angle | B7: Pressure Bar | E7: Crank Angle | F7: 5.5568 | H7: Crank Angle | I7: Pressure Bar | L7: Crank Angle | M7: 0.5
A8: -178.5 | B8: -0.19305878 | E8: mfb | F8: 82 | H8: -178.5 | I8: -0.13714436 | L8: mfb | M8: 46
A9: -177.5 | B9: -0.18514756 | H9: -177.5 | I9: -0.14213293
A10: -176.5 | B10: -0.17789561 | H10: -176.5 | I10: -0.15657151
A11: -175.5 | B11: -0.16033171 | H11: -175.5 | I11: -0.16663865
A12: -174.5 | B12: -0.15668707 | H12: -174.5 | I12: -0.16221579
A13: -173.5 | B13: -0.18159 | H13: -173.5 | I13: -0.16096865
A14: -172.5 | B14: -0.17492268 | H14: -172.5 | I14: -0.17794008
A15: -171.5 | B15: -0.18093073 | H15: -171.5 | I15: -0.18606579
A16: -170.5 | B16: -0.21309805 | H16: -170.5 | I16: -0.12201279
A17: -169.5 | B17: -0.22039976 | H17: -169.5 | I17: -0.13711993
A18: -168.5 | B18: -0.22766415 | H18: -168.5 | I18: -0.21184436
A19: -167.5 | B19: -0.24708146 | H19: -167.5 | I19: -0.21621579
A20: -166.5 | B20: -0.23919512 | H20: -166.5 | I20: -0.23128436
... A367: 180.5 | B367: -0.20344288 | H367: 180.5 | I367: -0.16164236

Sheet 9000
A1: Head design | B1: High Squish | H1: Head design | I1: low squish
A2: RPM site | B2: 9000 | H2: RPM site | I2: 9000
A3: Test No_ | C3: mep | D3: 11.187248 | E3: fmep | F3: =D3-D5 -> 1.8256718 | H3: Test No_ | J3: mep | K3: 12.391308 | L3: fmep | M3: =K3-K5 -> 2.8835941
A4: Actual RPM | B4: 8986 | C4: average pressure | D4: 11.048817 | E4: Break thermal efficiency | F4: =D5/D3 -> 0.83680779 | H4: Actual RPM | I4: 8949 | J4: average pressure | K4: 12.684825 | L4: Break thermal efficiency | M4: =K5/K3 -> 0.76728896
A5: Power KW | B5: 17.5 | C5: bmep | D5: =((B5*60*1000)/('Engine Properties'!$E$3*B4))/100000 -> 9.3615763 | E5: Temp Sq | F5: 2069.9654 | G5: K | H5: Power KW | I5: 17.7 | J5: bmep | K5: =((I5*60*1000)/('Engine Properties'!$E$3*I4))/100000 -> 9.5077139 | L5: Temp Sq | M5: 3541.5514 | N5: K
E6: Temp | F6: 3865.692 | G6: K | L6: Temp | M6: 5246.4512 | N6: K
A7: Crank Angle | B7: Pressure Bar | E7: Crank Angle | F7: 9.0367 | H7: Crank Angle | I7: Pressure Bar | L7: Crank Angle | M7: 8.10665
A8: -178.5 | B8: -0.28397559 | E8: mfb | F8: 75 | H8: -178.5 | I8: -0.16859693 | L8: mfb | M8: 67
A9: -177.5 | B9: -0.26186014 | H9: -177.5 | I9: -0.15817367
A10: -176.5 | B10: -0.2568065 | H10: -176.5 | I10: -0.17169879
A11: -175.5 | B11: -0.25851036 | H11: -175.5 | I11: -0.19260809
A12: -174.5 | B12: -0.23703241 | H12: -174.5 | I12: -0.18884065
A13: -173.5 | B13: -0.22341309 | H13: -173.5 | I13: -0.19189228
A14: -172.5 | B14: -0.24773082 | H14: -172.5 | I14: -0.20417414
A15: -171.5 | B15: -0.26587059 | H15: -171.5 | I15: -0.20413647
A16: -170.5 | B16: -0.3009215 | H16: -170.5 | I16: -0.20723833
A17: -169.5 | B17: -0.33153309 | H17: -169.5 | I17: -0.20294344
A18: -168.5 | B18: -0.32418445 | H18: -168.5 | I18: -0.21400716
A19: -167.5 | B19: -0.32703582 | H19: -167.5 | I19: -0.22319972
A20: -166.5 | B20: -0.34686786 | H20: -166.5 | I20: -0.23795553
... A367: 180.5 | B367: -0.32356561 | H367: 180.5 | I367: -0.20844605

Sheet 9500
A1: Head design | B1: high squish | H1: Head design | I1: low squish
A2: RPM site | B2: 9500 | H2: RPM site | I2: 9500
A3: Test No_ | C3: mep | D3: 11.323241 | E3: fmep | F3: =D3-D5 -> 1.5108885 | H3: Test No_ | J3: mep | K3: 12.713135 | L3: fmep | M3: =K3-K5 -> 2.7320834
A4: Actual RPM | B4: 9455 | C4: average pressure | D4: 11.195713 | E4: Break thermal efficiency | F4: =D5/D3 -> 0.86656748 | H4: Actual RPM | I4: 9536 | J4: average pressure | K4: 12.192726 | L4: Break thermal efficiency | M4: =K5/K3 -> 0.78509758
A5: Power KW | B5: 19.3 | C5: bmep | D5: =((B5*60*1000)/('Engine Properties'!$E$3*B4))/100000 -> 9.8123521 | E5: Temp Sq | F5: 2271.7903 | G5: K | H5: Power KW | I5: 19.8 | J5: bmep | K5: =((I5*60*1000)/('Engine Properties'!$E$3*I4))/100000 -> 9.9810515 | L5: Temp Sq | M5: 3570.5278 | N5: K
E6: Temp | F6: 4237.2859 | G6: K | L6: Temp | M6: 5289.8699 | N6: K
A7: Crank Angle | B7: Pressure Bar | E7: Crank Angle | F7: 13.737 | H7: Crank Angle | I7: Pressure Bar | L7: Crank Angle | M7: 8.1288
A8: -178.5 | B8: -0.4910447 | E8: mfb | F8: 78 | H8: -178.5 | I8: -0.879972 | L8: mfb | M8: 59
A9: -177.5 | B9: -0.47045622 | H9: -177.5 | I9: -0.87824635
A10: -176.5 | B10: -0.4466747 | H10: -176.5 | I10: -0.86617852
A11: -175.5 | B11: -0.44019991 | H11: -175.5 | I11: -0.85699852
A12: -174.5 | B12: -0.43310426 | H12: -174.5 | I12: -0.8380633
A13: -173.5 | B13: -0.41629643 | H13: -173.5 | I13: -0.82605417
A14: -172.5 | B14: -0.40881274 | H14: -172.5 | I14: -0.82151113
A15: -171.5 | B15: -0.40505426 | H15: -171.5 | I15: -0.82436374
A16: -170.5 | B16: -0.38987622 | H16: -170.5 | I16: -0.8369833
A17: -169.5 | B17: -0.39852404 | H17: -169.5 | I17: -0.84502461
A18: -168.5 | B18: -0.42342535 | H18: -168.5 | I18: -0.84383896
A19: -167.5 | B19: -0.42883578 | H19: -167.5 | I19: -0.85072983
A20: -166.5 | B20: -0.43317078 | H20: -166.5 | I20: -0.85650548
... A367: 180.5 | B367: -0.5115648 | H367: 180.5 | I367: -0.88831719

Sheet 10000
A1: Head design | B1: high squish | H1: Head design | I1: low squish
A2: RPM site | B2: 10000 | H2: RPM site | I2: 10000
A3: Test No_ | C3: mep | D3: 11.033215 | E3: fmep | F3: =D3-D5 -> 1.0763989 | H3: Test No_ | J3: mep | K3: 11.911748 | L3: fmep | M3: =K3-K5 -> 1.6677162
A4: Actual RPM | B4: 10042 | C4: average pressure | D4: 11.32103 | E4: Break thermal efficiency | F4: =D5/D3 -> 0.90244014 | H4: Actual RPM | I4: 10042 | J4: average pressure | K4: 12.236008 | L4: Break thermal efficiency | M4: =K5/K3 -> 0.85999399
A5: Power KW | B5: 20.8 | C5: bmep | D5: =((B5*60*1000)/('Engine Properties'!$E$3*B4))/100000 -> 9.9568156 | E5: Temp Sq | F5: 1914.6293 | G5: K | H5: Power KW | I5: 21.4 | J5: bmep | K5: =((I5*60*1000)/('Engine Properties'!$E$3*I4))/100000 -> 10.244031 | L5: Temp Sq | M5: 3982.9013 | N5: K
E6: Temp | F6: 3580.9914 | G6: K | L6: Temp | M6: 5887.8422 | N6: K
A7: Crank Angle | B7: Pressure Bar | E7: Crank Angle | F7: 13.5546 | H7: Crank Angle | I7: Pressure Bar | L7: Crank Angle | M7: 14.5588
A8: -178.5 | B8: -0.55576763 | E8: mfb | F8: 61 | H8: -178.5 | I8: -0.73918555 | L8: mfb | M8: 60
A9: -177.5 | B9: -0.57507478 | H9: -177.5 | I9: -0.74619453
A10: -176.5 | B10: -0.556236 | H10: -176.5 | I10: -0.76987739
A11: -175.5 | B11: -0.56129437 | H11: -175.5 | I11: -0.76338637
A12: -174.5 | B12: -0.54657722 | H12: -174.5 | I12: -0.73699249
A13: -173.5 | B13: -0.53540927 | H13: -173.5 | I13: -0.73755453
A14: -172.5 | B14: -0.56997478 | H14: -172.5 | I14: -0.75366637
A15: -171.5 | B15: -0.58014355 | H15: -171.5 | I15: -0.75369943
A16: -170.5 | B16: -0.57915478 | H16: -170.5 | I16: -0.74403453
A17: -169.5 | B17: -0.56743518 | H17: -169.5 | I17: -0.73703657
A18: -168.5 | B18: -0.55370682 | H18: -168.5 | I18: -0.72953167
A19: -167.5 | B19: -0.54662927 | H19: -167.5 | I19: -0.71548065
A20: -166.5 | B20: -0.54356927 | H20: -166.5 | I20: -0.71219657
... A367: 180.5 | B367: -0.54523859 | H367: 180.5 | I367: -0.75762708

Sheet 10500
A1: Head design | B1: high squish | H1: Head design | I1: low squish
A2: RPM site | B2: 10500 | H2: RPM site | I2: 10500
A3: Test No_ | C3: mep | D3: 10.33116 | E3: fmep | F3: =D3-D5 -> 0.56951815 | H3: Test No_ | J3: mep | K3: 11.248909 | L3: fmep | M3: =K3-K5 -> 1.1418321
A4: Actual RPM | B4: 10489 | C4: average pressure | D4: 11.000572 | E4: Break thermal efficiency | F4: =D5/D3 -> 0.94487375 | H4: Actual RPM | I4: 10511 | J4: average pressure | K4: 11.630811 | L4: Break thermal efficiency | M4: =K5/K3 -> 0.89849397
A5: Power KW | B5: 21.3 | C5: bmep | D5: =((B5*60*1000)/('Engine Properties'!$E$3*B4))/100000 -> 9.7616418 | E5: Temp Sq | F5: 1699.6536 | G5: K | H5: Power KW | I5: 22.1 | J5: bmep | K5: =((I5*60*1000)/('Engine Properties'!$E$3*I4))/100000 -> 10.107077 | L5: Temp Sq | M5: 3830.2827 | N5: K
E6: Temp | F6: 3184.9447 | G6: K | L6: Temp | M6: 5668.9144 | N6: K
A7: Crank Angle | B7: Pressure Bar | E7: Crank Angle | F7: 31.44255 | H7: Crank Angle | I7: Pressure Bar | L7: Crank Angle | M7: 14.68985
A8: -178.5 | B8: -0.72490308 | E8: mfb | F8: 92 | H8: -178.5 | I8: -1.1615846 | L8: mfb | M8: 44
A9: -177.5 | B9: -0.73023308 | H9: -177.5 | I9: -1.1615956
A10: -176.5 | B10: -0.73803308 | H10: -176.5 | I10: -1.1911854
A11: -175.5 | B11: -0.73852308 | H11: -175.5 | I11: -1.2051372
A12: -174.5 | B12: -0.72924308 | H12: -174.5 | I12: -1.2008393
A13: -173.5 | B13: -0.71066308 | H13: -173.5 | I13: -1.2239931
A14: -172.5 | B14: -0.75219308 | H14: -172.5 | I14: -1.2073005
A15: -171.5 | B15: -0.77177308 | H15: -171.5 | I15: -1.2045675
A16: -170.5 | B16: -0.76395308 | H16: -170.5 | I16: -1.227145
A17: -169.5 | B17: -0.75663308 | H17: -169.5 | I17: -1.235267
A18: -168.5 | B18: -0.76540308 | H18: -168.5 | I18: -1.237967
A19: -167.5 | B19: -0.80149308 | H19: -167.5 | I19: -1.2132262
A20: -166.5 | B20: -0.82055308 | H20: -166.5 | I20: -1.2057544
... A367: 180.5 | B367: -0.72010369 | H367: 180.5 | I367: -1.1777079

Sheet 11000
A1: Head design | B1: high squish | H1: Head design | I1: low squish
A2: RPM site | B2: 11000 | H2: RPM site | I2: 11000
A3: Test No_ | C3: mep | D3: 9.0877339 | E3: fmep | F3: =D3-D5 -> -0.40527981 | H3: Test No_ | J3: mep | K3: 10.088199 | L3: fmep | M3: =K3-K5 -> 0.44431937
A4: Actual RPM | B4: 11039 | C4: average pressure | D4: 10.641253 | E4: Break thermal efficiency | F4: =D5/D3 -> 1.0445964 | H4: Actual RPM | I4: 10966 | J4: average pressure | K4: 11.439388 | L4: Break thermal efficiency | M4: =K5/K3 -> 0.95595652
A5: Power KW | B5: 21.8 | C5: bmep | D5: =((B5*60*1000)/('Engine Properties'!$E$3*B4))/100000 -> 9.4930137 | H5: Power KW | I5: 22 | J5: bmep | K5: =((I5*60*1000)/('Engine Properties'!$E$3*I4))/100000 -> 9.6438797 | L5: Temp Sq | M5: 3266.3243 | N5: K
L6: Temp | M6: 4848.5141 | N6: K
A7: Crank Angle | B7: Pressure Bar | H7: Crank Angle | I7: Pressure Bar | L7: Crank Angle | M7: 17.4973
A8: -178.5 | B8: -0.72145355 | H8: -178.5 | I8: -1.231613 | L8: mfb | M8: 44
A9: -177.5 | B9: -0.71866298 | H9: -177.5 | I9: -1.220618
A10: -176.5 | B10: -0.77455128 | H10: -176.5 | I10: -1.195658
A11: -175.5 | B11: -0.80788411 | H11: -175.5 | I11: -1.224983
A12: -174.5 | B12: -0.82338619 | H12: -174.5 | I12: -1.254353
A13: -173.5 | B13: -0.84925185 | H13: -173.5 | I13: -1.252853
A14: -172.5 | B14: -0.8422177 | H14: -172.5 | I14: -1.268963
A15: -171.5 | B15: -0.83986977 | H15: -171.5 | I15: -1.294598
A16: -170.5 | B16: -0.8656777 | H16: -170.5 | I16: -1.323158
A17: -169.5 | B17: -0.86235789 | H17: -169.5 | I17: -1.323143
A18: -168.5 | B18: -0.88300808 | H18: -168.5 | I18: -1.337048
A19: -167.5 | B19: -0.91309808 | H19: -167.5 | I19: -1.307003
A20: -166.5 | B20: -0.90185883 | H20: -166.5 | I20: -1.256468
... A367: 180.5 | B367: -0.75006388 | H367: 180.5 | I367: -1.2420764

Sheet 11500
A1: Head design | B1: high squish | H1: Head design | I1: low squish
A2: RPM site | B2: 11500 | H2: RPM site | I2: 11500
A3: Test No_ | C3: mep | D3: 9.1661054 | E3: fmep | F3: =D3-D5 -> -0.22604527 | H3: Test No_ | J3: mep | K3: 10.099115 | L3: fmep | M3: =K3-K5 -> 0.18510313
A4: Actual RPM | B4: 11567 | C4: average pressure | D4: 11.144118 | E4: Break thermal efficiency | F4: =D5/D3 -> 1.024661 | H4: Actual RPM | I4: 11443 | J4: average pressure | K4: 12.036046 | L4: Break thermal efficiency | M4: =K5/K3 -> 0.98167135
A5: Power KW | B5: 22.6 | C5: bmep | D5: =((B5*60*1000)/('Engine Properties'!$E$3*B4))/100000 -> 9.3921507 | E5: Temp Sq | F5: 1583.7726 | G5: K | H5: Power KW | I5: 23.6 | J5: bmep | K5: =((I5*60*1000)/('Engine Properties'!$E$3*I4))/100000 -> 9.9140123 | L5: Temp Sq | M5: 1486.7246 | N5: K
E6: Temp | F6: 2972.9265 | G6: K | L6: Temp | M6: 2220.9634 | N6: K
A7: Crank Angle | B7: Pressure Bar | E7: Crank Angle | F7: 25.9474 | H7: Crank Angle | I7: Pressure Bar | L7: Crank Angle | M7: -6.93795
A8: -178.5 | B8: -0.79447849 | E8: mfb | F8: 77 | H8: -178.5 | I8: -1.0811169 | L8: mfb | M8: 0
A9: -177.5 | B9: -0.82787868 | H9: -177.5 | I9: -1.073094
A10: -176.5 | B10: -0.86403094 | H10: -176.5 | I10: -1.0679254
A11: -175.5 | B11: -0.85506264 | H11: -175.5 | I11: -1.0476851
A12: -174.5 | B12: -0.82687792 | H12: -174.5 | I12: -1.0519472
A13: -173.5 | B13: -0.85272434 | H13: -173.5 | I13: -1.0792365
A14: -172.5 | B14: -0.85601528 | H14: -172.5 | I14: -1.0923797
A15: -171.5 | B15: -0.85790132 | H15: -171.5 | I15: -1.1065258
A16: -170.5 | B16: -0.91429962 | H16: -170.5 | I16: -1.1159854
A17: -169.5 | B17: -0.97447 | H17: -169.5 | I17: -1.1305558
A18: -168.5 | B18: -0.93779811 | H18: -168.5 | I18: -1.1502947
A19: -167.5 | B19: -0.92084302 | H19: -167.5 | I19: -1.1521944
A20: -166.5 | B20: -0.94950887 | H20: -166.5 | I20: -1.1366886
... A367: 180.5 | B367: -0.79106893 | H367: 180.5 | I367: -1.1063253

Sheet 12000
A1: Head design | B1: High Squish | H1: Head design | I1: Low Squish
A2: RPM site | B2: 12000 | H2: RPM site | I2: 12000
A3: Test No_ | C3: mep | D3: 8.9377596 | E3: fmep | F3: =D3-D5 -> -0.28197842 | H3: Test No_ | J3: mep | K3: 9.5836224 | L3: fmep | M3: =K3-K5 -> 0.198609
A4: Actual RPM | B4: 12044 | C4: average pressure | D4: 10.780591 | E4: Break thermal efficiency | F4: =D5/D3 -> 1.0315491 | H4: Actual RPM | I4: 12088 | J4: average pressure | K4: 11.370337 | L4: Break thermal efficiency | M4: =K5/K3 -> 0.97927621
A5: Power KW | B5: 23.1 | C5: bmep | D5: =((B5*60*1000)/('Engine Properties'!$E$3*B4))/100000 -> 9.219738 | E5: Temp Sq | F5: 1582.2202 | G5: K | H5: Power KW | I5: 23.6 | J5: bmep | K5: =((I5*60*1000)/('Engine Properties'!$E$3*I4))/100000 -> 9.3850134 | L5: Temp Sq | M5: 6246.583 | N5: K
E6: Temp | F6: 2970.0311 | G6: K | L6: Temp | M6: 9198.3517 | N6: K
A7: Crank Angle | B7: Pressure Bar | E7: Crank Angle | F7: 27.599 | H7: Crank Angle | I7: Pressure Bar | L7: Crank Angle | M7: 19.8408
A8: -178.5 | B8: -0.88637911 | E8: mfb | F8: 78 | H8: -178.5 | I8: -1.3067379 | L8: mfb | M8: 47
A9: -177.5 | B9: -0.89499899 | H9: -177.5 | I9: -1.3193105
A10: -176.5 | B10: -0.85633483 | H10: -176.5 | I10: -1.3497853
A11: -175.5 | B11: -0.74858502 | H11: -175.5 | I11: -1.3819036
A12: -174.5 | B12: -0.73871652 | H12: -174.5 | I12: -1.403034
A13: -173.5 | B13: -0.8589499 | H13: -173.5 | I13: -1.4201966
A14: -172.5 | B14: -0.82976295 | H14: -172.5 | I14: -1.4081992
A15: -171.5 | B15: -0.87869833 | H15: -171.5 | I15: -1.3607027
A16: -170.5 | B16: -0.95642145 | H16: -170.5 | I16: -1.3383162
A17: -169.5 | B17: -0.98429383 | H17: -169.5 | I17: -1.3457236
A18: -168.5 | B18: -1.0353642 | H18: -168.5 | I18: -1.3388679
A19: -167.5 | B19: -0.97309845 | H19: -167.5 | I19: -1.3451953
A20: -166.5 | B20: -1.0469508 | H20: -166.5 | I20: -1.3635201
... A367: 180.5 | B367: -0.93207825 | H367: 180.5 | I367: -1.3031794

Sheet 12500
A1: Head design | B1: High Squish | H1: Head design | I1: Low Squish
A2: RPM site | B2: 12500 | H2: RPM site | I2: 12500
A3: Test No_ | C3: mep | D3: 4.6868466 | E3: fmep | F3: =D3-D5 -> -0.28914125 | H3: Test No_ | J3: mep | K3: 6.5222434 | L3: fmep | M3: =K3-K5 -> 0.072423119
A4: Actual RPM | B4: 12462 | C4: average pressure | D4: 6.2760602 | E4: Break thermal efficiency | F4: =D5/D3 -> 1.0616921 | H4: Actual RPM | I4: 12521 | J4: average pressure | K4: 8.5522152 | L4: Break thermal efficiency | M4: =K5/K3 -> 0.98889598
A5: Power KW | B5: 12.9 | C5: bmep | D5: =((B5*60*1000)/('Engine Properties'!$E$3*B4))/100000 -> 4.9759878 | H5: Power KW | I5: 16.8 | J5: bmep | K5: =((I5*60*1000)/('Engine Properties'!$E$3*I4))/100000 -> 6.4498203 | L5: Temp Sq | M5: 2884.3788 | N5: K
L6: Temp | M6: 4280.2774 | N6: K
A7: Crank Angle | B7: Pressure Bar | H7: Crank Angle | I7: Pressure Bar | L7: Crank Angle | M7: 33.68065
A8: -178.5 | B8: 0.60251304 | H8: -178.5 | I8: 0.15497143 | L8: mfb | M8: 68
A9: -177.5 | B9: 0.63416279 | H9: -177.5 | I9: 0.17701224
A10: -176.5 | B10: 0.50601785 | H10: -176.5 | I10: 0.19288163
A11: -175.5 | B11: 0.61911354 | H11: -175.5 | I11: 0.19431429
A12: -174.5 | B12: 0.66632785 | H12: -174.5 | I12: 0.18494694
A13: -173.5 | B13: 0.67306835 | H13: -173.5 | I13: 0.15772653
A14: -172.5 | B14: 0.67047054 | H14: -172.5 | I14: 0.12433469
A15: -171.5 | B15: 0.62896929 | H15: -171.5 | I15: 0.11144082
A16: -170.5 | B16: 0.6891546 | H16: -170.5 | I16: 0.1191551
A17: -169.5 | B17: 0.6601016 | H17: -169.5 | I17: 0.11673061
A18: -168.5 | B18: 0.65543085 | H18: -168.5 | I18: 0.10273469
A19: -167.5 | B19: 0.64350217 | H19: -167.5 | I19: 0.091493878
A20: -166.5 | B20: 0.65128179 | H20: -166.5 | I20: 0.084991837
... A367: 180.5 | B367: 0.48274114 | H367: 180.5 | I367: 0.13672462
