Workbook

Sheet Student Feedback
B3: MARKING CRITERIA and STUDENT FEEDBACK
B5: This section details the assessment criteria. The extent to which these are demonstrated by you determines your mark. The
B6: marks available for each criterion are shown. Lecturers will use the space provided to comment on the achievement of the
B7: task(s), including those areas in which you have performed well and areas that would benefit from development/improvement.
B9: Common Assessment Criteria Applied | J9: Marks Available | K9: Marks Awarded
B10: 1. Research-informed Literature
B11: Extent of research and/or own reading, selection of credible sources, application of appropriate referencing conventions.
B12: With regards to referencing, all elements point to the implementation of coding for web app development | J12: =IF('Marking Criteria'!D67 = 0, 0, 'Marking Criteria'!D67) -> 10 | K12: =IF('Marking Criteria'!H67= 0, "0", 'Marking Criteria'!H67) -> 5
B18: 2. Knowledge and Understanding of Subject
B19: Extent of knowledge and understanding of concepts and underlying principles associated with the discipline.
B20: If the student had put more time into the design of the app, this would have scored better. However, it would be fair to comment that the student does have a good understanding on developing a application for a end user. There is elements of design (however, this was from the final product - so implementation before design). Data analysis techniques have been utilised and a test plan has been identified. | J20: =IF('Marking Criteria'!D68 = 0, "", 'Marking Criteria'!D68) -> 15 | K20: =IF('Marking Criteria'!H68 = 0, "", 'Marking Criteria'!H68) -> 8
B26: 3. Analysis
B27: Analysis, evaluation and synthesis; logic, argument and judgement; analytical reflection; organisation of ideas and evidence
B28: From the requirements of the app, the student has had a good attempt is working out the requirements of the system. Attempts at project management/version control for the analysis is also present. | J28: =IF('Marking Criteria'!D69 = 0, "", 'Marking Criteria'!D69) -> 15 | K28: =IF('Marking Criteria'!H69 = 0, "", 'Marking Criteria'!H69) -> 8
B34: 4. Practical Application and Deployment
B35: Deployment of methods, materials, tools and techniques; application of concepts; formulation of innovative and creative solutions to solve problems.
B36: The only issue with the application is one of substance. However, for what was developed there is a basis for a good web app that should reflect the needs of the end user. The student has utilised a number of web based technologies i.e. Bootstrap, plugins (JQuery) and developed the app with PHP/MySQL (for data management). Basic data validation is carried out on data elements with the app. User account are encrypted and access levels identified. Evaluation criteria is also provided and is valid Test plan has been executed to a good level and documented appropriately. Conclusions are also valid and furture improvements provided. If the student did put more time into this project, it would have scored higher. Strangely enough he has done all the hard work in getting the app to its current state | J36: =IF('Marking Criteria'!D70 = 0, "", 'Marking Criteria'!D70) -> 40 | K36: =IF('Marking Criteria'!H70 = 0, "", 'Marking Criteria'!H70) -> 23
B42: 5. Skills for Professional Practice
B43: Attributes in professional practice: individual and collaborative working; deployment of appropriate media; presentation and organisation.
B44: Quality of report, reflect what has been developed. Basic maintenance document has also been provided that shows a code listing. User guide also included | J44: =IF('Marking Criteria'!D71= 0, "", 'Marking Criteria'!D71) -> 10 | K44: =IF('Marking Criteria'!H71 = 0, "", 'Marking Criteria'!H71) -> 5
B50: Viva Voce | J50: 10 | K50: 6
B52: Assignment Mark (Assessment marks are subject to ratification at the Exam | H52: Late Submission Penalties (tick if appropriate) | J52: =IF(I53="Y",0,'Marking Criteria'!M66) -> 49
B53: Board. These comments and marks are to give feedback on module work and are for | H53: Up to one week late
B54: guidance only until they are confirmed. ) | H54: 1st/2nd/3rd attempt? | I54: 1st

Sheet Marking Criteria
B8: Assignment Marking Agreement Form (not to be seen by students)
C9: Marking scheme | I9: Marks available | J9: 1st marker | K9: 2nd marker (Sample 2nd Marking) | L9: 3rd marker (if required) | M9: ß AGREED MARK AWARDED | N9: Error ?
B10: 1 | C10: Research Informed Literature
N11: =IF(J11>I11,"*",IF(K11>I11,"*",IF(L11>I11,"*"," ")))
C12: Quality of literature review | I12: 10 | J12: 4 | K12: 5 | N12: =IF(J12>I12,"*",IF(K12>I12,"*",IF(L12>I12,"*"," ")))
N13: =IF(J13>I13,"*",IF(K13>I13,"*",IF(L13>I13,"*"," ")))
N14: =IF(J14>I14,"*",IF(K14>I14,"*",IF(L14>I14,"*"," ")))
N15: =IF(J15>I15,"*",IF(K15>I15,"*",IF(L15>I15,"*"," ")))
N16: =IF(J16>I16,"*",IF(K16>I16,"*",IF(L16>I16,"*"," ")))
N17: =IF(J17>I17,"*",IF(K17>I17,"*",IF(L17>I17,"*"," ")))
N18: =IF(J18>I18,"*",IF(K18>I18,"*",IF(L18>I18,"*"," ")))
B19: 2 | C19: Knowledge and Understanding of subject | N19: =IF(J19>I19,"*",IF(K19>I19,"*",IF(L19>I19,"*"," ")))
N20: =IF(J20>I20,"*",IF(K20>I20,"*",IF(L20>I20,"*"," ")))
C21: Design process for chosen application | I21: 5 | J21: 2 | K21: 2 | N21: =IF(J21>I21,"*",IF(K21>I21,"*",IF(L21>I21,"*"," ")))
N22: =IF(J22>I22,"*",IF(K22>I22,"*",IF(L22>I22,"*"," ")))
C23: Data Analysis techniques for chosen application | I23: 3 | J23: 1 | K23: 1 | N23: =IF(J23>I23,"*",IF(K23>I23,"*",IF(L23>I23,"*"," ")))
N24: =IF(J24>I24,"*",IF(K24>I24,"*",IF(L24>I24,"*"," ")))
C25: Choice/Use of development platform/development language/DBMS and other related development issues | I25: 5 | J25: 3 | K25: 3 | N25: =IF(J25>I25,"*",IF(K25>I25,"*",IF(L25>I25,"*"," ")))
N26: =IF(J26>I26,"*",IF(K26>I26,"*",IF(L26>I26,"*"," ")))
C27: Generation of test plan/test data and identification of test strategies | I27: 2 | J27: 2 | K27: 2 | N27: =IF(J27>I27,"*",IF(K27>I27,"*",IF(L27>I27,"*"," ")))
N28: =IF(J28>I28,"*",IF(K28>I28,"*",IF(L28>I28,"*"," ")))
N29: =IF(J29>I29,"*",IF(K29>I29,"*",IF(L29>I29,"*"," ")))
N30: =IF(J30>I30,"*",IF(K30>I30,"*",IF(L30>I30,"*"," ")))
N31: =IF(J31>I31,"*",IF(K31>I31,"*",IF(L31>I31,"*"," ")))
N32: =IF(J32>I32,"*",IF(K32>I32,"*",IF(L32>I32,"*"," ")))
B33: 3 | C33: Analysis | N33: =IF(J33>I33,"*",IF(K33>I33,"*",IF(L33>I33,"*"," ")))
N34: =IF(J34>I34,"*",IF(K34>I34,"*",IF(L34>I34,"*"," ")))
C35: Background to the identified problem. | I35: 3 | J35: 1 | K35: 1 | N35: =IF(J35>I35,"*",IF(K35>I35,"*",IF(L35>I35,"*"," ")))
N36: =IF(J36>I36,"*",IF(K36>I36,"*",IF(L36>I36,"*"," ")))
C37: Investigation and Analysis (using appropriate analysis techniques). | I37: 10 | J37: 5 | K37: 6 | N37: =IF(J37>I37,"*",IF(K37>I37,"*",IF(L37>I37,"*"," ")))
N38: =IF(J38>I38,"*",IF(K38>I38,"*",IF(L38>I38,"*"," ")))
C39: Project aims, limitations and assumptions | I39: 2 | J39: 1 | K39: 1 | N39: =IF(J39>I39,"*",IF(K39>I39,"*",IF(L39>I39,"*"," ")))
N40: =IF(J40>I40,"*",IF(K40>I40,"*",IF(L40>I40,"*"," ")))
N41: =IF(J41>I41,"*",IF(K41>I41,"*",IF(L41>I41,"*"," ")))
N42: =IF(J42>I42,"*",IF(K42>I42,"*",IF(L42>I42,"*"," ")))
N43: =IF(J43>I43,"*",IF(K43>I43,"*",IF(L43>I43,"*"," ")))
B44: 4 | C44: Practical Application and Deployment | N44: =IF(J44>I44,"*",IF(K44>I44,"*",IF(L44>I44,"*"," ")))
N45: =IF(J45>I45,"*",IF(K45>I45,"*",IF(L45>I45,"*"," ")))
C46: Design document that reflects project aims/limitations and assumptions | I46: 10 | J46: 4 | K46: 4 | N46: =IF(J46>I46,"*",IF(K46>I46,"*",IF(L46>I46,"*"," ")))
N47: =IF(J47>I47,"*",IF(K47>I47,"*",IF(L47>I47,"*"," ")))
...
