Workbook

Sheet Student Feedback
B3: MARKING CRITERIA and STUDENT FEEDBACK
B5: This section details the assessment criteria. The extent to which these are demonstrated by you determines your mark. The
B6: marks available for each criterion are shown. Lecturers will use the space provided to comment on the achievement of the
B7: task(s), including those areas in which you have performed well and areas that would benefit from development/improvement.
B9: Common Assessment Criteria Applied | J9: Marks Available | K9: Marks Awarded
B10: 1. Research-informed Literature
B11: Extent of research and/or own reading, selection of credible sources, application of appropriate referencing conventions.
B12: With regards to referencing, all elements point to the implementation of coding for web app development | J12: =IF('Marking Criteria'!D67 = 0, 0, 'Marking Criteria'!D67) -> 10 | K12: =IF('Marking Criteria'!H67= 0, "0", 'Marking Criteria'!H67) -> 5
B18: 2. Knowledge and Understanding of Subject
B19: Extent of knowledge and understanding of concepts and underlying principles associated with the discipline.
B20: If the student had put more time into the design of the app, this would have scored better. However, it would be fair to comment that the student does have a good understanding on developing a application for a end user. There is elements of design (however, this was from the final product - so implementation before design). Data analysis techniques have been utilised and a test plan has been identified. | J20: =IF('Marking Criteria'!D68 = 0, "", 'Marking Criteria'!D68) -> 15 | K20: =IF('Marking Criteria'!H68 = 0, "", 'Marking Criteria'!H68) -> 8
B26: 3. Analysis
B27: Analysis, evaluation and synthesis; logic, argument and judgement; analytical reflection; organisation of ideas and evidence
B28: From the requirements of the app, the student has had a good attempt is working out the requirements of the system. Attempts at project management/version control for the analysis is also present. | J28: =IF('Marking Criteria'!D69 = 0, "", 'Marking Criteria'!D69) -> 15 | K28: =IF('Marking Criteria'!H69 = 0, "", 'Marking Criteria'!H69) -> 8
B34: 4. Practical Application and Deployment
B35: Deployment of methods, materials, tools and techniques; application of concepts; formulation of innovative and creative solutions to solve problems.
B36: The only issue with the application is one of substance. However, for what was developed there is a basis for a good web app that should reflect the needs of the end user. The student has utilised a number of web based technologies i.e. Bootstrap, plugins (JQuery) and developed the app with PHP/MySQL (for data management). Basic data validation is carried out on data elements with the app. User account are encrypted and access levels identified. Evaluation criteria is also provided and is valid Test plan has been executed to a good level and documented appropriately. Conclusions are also valid and furture improvements provided. If the student did put more time into this project, it would have scored higher. Strangely enough he has done all the hard work in getting the app to its current state | J36: =IF('Marking Criteria'!D70 = 0, "", 'Marking Criteria'!D70) -> 40 | K36: =IF('Marking Criteria'!H70 = 0, "", 'Marking Criteria'!H70) -> 23
B42: 5. Skills for Professional Practice
B43: Attributes in professional practice: individual and collaborative working; deployment of appropriate media; presentation and organisation.
B44: Quality of report, reflect what has been developed. Basic maintenance document has also been provided that shows a code listing. User guide also included | J44: =IF('Marking Criteria'!D71= 0, "", 'Marking Criteria'!D71) -> 10 | K44: =IF('Marking Criteria'!H71 = 0, "", 'Marking Criteria'!H71) -> 5
B50: Viva Voce | J50: 10 | K50: 6
B52: Assignment Mark (Assessment marks are subject to ratification at the Exam | H52: Late Submission Penalties (tick if appropriate) | J52: =IF(I53="Y",0,'Marking Criteria'!M66) -> 49
B53: Board. These comments and marks are to give feedback on module work and are for | H53: Up to one week late
B54: guidance only until they are confirmed. ) | H54: 1st/2nd/3rd attempt? | I54: 1st

Sheet Marking Criteria
B8: Assignment Marking Agreement Form (not to be seen by students)
C9: Marking scheme | I9: Marks available | J9: 1st marker | K9: 2nd marker (Sample 2nd Marking) | L9: 3rd marker (if required) | M9: ß AGREED MARK AWARDED | N9: Error ?
B10: 1 | C10: Research Informed Literature
N11: =IF(J11>I11,"*",IF(K11>I11,"*",IF(L11>I11,"*"," ")))
C12: Quality of literature review | I12: 10 | J12: 4 | K12: 5 | N12: =IF(J12>I12,"*",IF(K12>I12,"*",IF(L12>I12,"*"," ")))
N13: =IF(J13>I13,"*",IF(K13>I13,"*",IF(L13>I13,"*"," ")))
N14: =IF(J14>I14,"*",IF(K14>I14,"*",IF(L14>I14,"*"," ")))
N15: =IF(J15>I15,"*",IF(K15>I15,"*",IF(L15>I15,"*"," ")))
N16: =IF(J16>I16,"*",IF(K16>I16,"*",IF(L16>I16,"*"," ")))
N17: =IF(J17>I17,"*",IF(K17>I17,"*",IF(L17>I17,"*"," ")))
N18: =IF(J18>I18,"*",IF(K18>I18,"*",IF(L18>I18,"*"," ")))
B19: 2 | C19: Knowledge and Understanding of subject | N19: =IF(J19>I19,"*",IF(K19>I19,"*",IF(L19>I19,"*"," ")))
N20: =IF(J20>I20,"*",IF(K20>I20,"*",IF(L20>I20,"*"," ")))
C21: Design process for chosen application | I21: 5 | J21: 2 | K21: 2 | N21: =IF(J21>I21,"*",IF(K21>I21,"*",IF(L21>I21,"*"," ")))
N22: =IF(J22>I22,"*",IF(K22>I22,"*",IF(L22>I22,"*"," ")))
C23: Data Analysis techniques for chosen application | I23: 3 | J23: 1 | K23: 1 | N23: =IF(J23>I23,"*",IF(K23>I23,"*",IF(L23>I23,"*"," ")))
N24: =IF(J24>I24,"*",IF(K24>I24,"*",IF(L24>I24,"*"," ")))
C25: Choice/Use of development platform/development language/DBMS and other related development issues | I25: 5 | J25: 3 | K25: 3 | N25: =IF(J25>I25,"*",IF(K25>I25,"*",IF(L25>I25,"*"," ")))
N26: =IF(J26>I26,"*",IF(K26>I26,"*",IF(L26>I26,"*"," ")))
C27: Generation of test plan/test data and identification of test strategies | I27: 2 | J27: 2 | K27: 2 | N27: =IF(J27>I27,"*",IF(K27>I27,"*",IF(L27>I27,"*"," ")))
N28: =IF(J28>I28,"*",IF(K28>I28,"*",IF(L28>I28,"*"," ")))
N29: =IF(J29>I29,"*",IF(K29>I29,"*",IF(L29>I29,"*"," ")))
N30: =IF(J30>I30,"*",IF(K30>I30,"*",IF(L30>I30,"*"," ")))
N31: =IF(J31>I31,"*",IF(K31>I31,"*",IF(L31>I31,"*"," ")))
N32: =IF(J32>I32,"*",IF(K32>I32,"*",IF(L32>I32,"*"," ")))
B33: 3 | C33: Analysis | N33: =IF(J33>I33,"*",IF(K33>I33,"*",IF(L33>I33,"*"," ")))
N34: =IF(J34>I34,"*",IF(K34>I34,"*",IF(L34>I34,"*"," ")))
C35: Background to the identified problem. | I35: 3 | J35: 1 | K35: 1 | N35: =IF(J35>I35,"*",IF(K35>I35,"*",IF(L35>I35,"*"," ")))
N36: =IF(J36>I36,"*",IF(K36>I36,"*",IF(L36>I36,"*"," ")))
C37: Investigation and Analysis (using appropriate analysis techniques). | I37: 10 | J37: 5 | K37: 6 | N37: =IF(J37>I37,"*",IF(K37>I37,"*",IF(L37>I37,"*"," ")))
N38: =IF(J38>I38,"*",IF(K38>I38,"*",IF(L38>I38,"*"," ")))
C39: Project aims, limitations and assumptions | I39: 2 | J39: 1 | K39: 1 | N39: =IF(J39>I39,"*",IF(K39>I39,"*",IF(L39>I39,"*"," ")))
N40: =IF(J40>I40,"*",IF(K40>I40,"*",IF(L40>I40,"*"," ")))
N41: =IF(J41>I41,"*",IF(K41>I41,"*",IF(L41>I41,"*"," ")))
N42: =IF(J42>I42,"*",IF(K42>I42,"*",IF(L42>I42,"*"," ")))
N43: =IF(J43>I43,"*",IF(K43>I43,"*",IF(L43>I43,"*"," ")))
B44: 4 | C44: Practical Application and Deployment | N44: =IF(J44>I44,"*",IF(K44>I44,"*",IF(L44>I44,"*"," ")))
N45: =IF(J45>I45,"*",IF(K45>I45,"*",IF(L45>I45,"*"," ")))
C46: Design document that reflects project aims/limitations and assumptions | I46: 10 | J46: 4 | K46: 4 | N46: =IF(J46>I46,"*",IF(K46>I46,"*",IF(L46>I46,"*"," ")))
N47: =IF(J47>I47,"*",IF(K47>I47,"*",IF(L47>I47,"*"," ")))
C48: Development of chosen application against project aims/limitations and assumptions | I48: 20 | J48: 13 | K48: 13 | N48: =IF(J48>I48,"*",IF(K48>I48,"*",IF(L48>I48,"*"," ")))
N49: =IF(J49>I49,"*",IF(K49>I49,"*",IF(L49>I49,"*"," ")))
C50: Execution of test plan with chosen strategies | I50: 5 | J50: 3 | K50: 3 | N50: =IF(J50>I50,"*",IF(K50>I50,"*",IF(L50>I50,"*"," ")))
N51: =IF(J51>I51,"*",IF(K51>I51,"*",IF(L51>I51,"*"," ")))
C52: Conclusions/Recommendations | I52: 5 | J52: 3 | K52: 3 | N52: =IF(J52>I52,"*",IF(K52>I52,"*",IF(L52>I52,"*"," ")))
N53: =IF(J53>I53,"*",IF(K53>I53,"*",IF(L53>I53,"*"," ")))
N54: =IF(J54>I54,"*",IF(K54>I54,"*",IF(L54>I54,"*"," ")))
N55: =IF(J55>I55,"*",IF(K55>I55,"*",IF(L55>I55,"*"," ")))
N56: =IF(J56>I56,"*",IF(K56>I56,"*",IF(L56>I56,"*"," ")))
N57: =IF(J57>I57,"*",IF(K57>I57,"*",IF(L57>I57,"*"," ")))
B58: 5 | C58: Skills for Professional Practice | N58: =IF(J58>I58,"*",IF(K58>I58,"*",IF(L58>I58,"*"," ")))
N59: =IF(J59>I59,"*",IF(K59>I59,"*",IF(L59>I59,"*"," ")))
C60: Written and presentational quality of report | I60: 7 | J60: 4 | K60: 4 | N60: =IF(J60>I60,"*",IF(K60>I60,"*",IF(L60>I60,"*"," ")))
N61: =IF(J61>I61,"*",IF(K61>I61,"*",IF(L61>I61,"*"," ")))
C62: Maintenance documentation of development i.e. annotated listing etc. | I62: 3 | J62: 1 | K62: 1 | N62: =IF(J62>I62,"*",IF(K62>I62,"*",IF(L62>I62,"*"," ")))
N63: =IF(J63>I63,"*",IF(K63>I63,"*",IF(L63>I63,"*"," ")))
N64: =IF(J64>I64,"*",IF(K64>I64,"*",IF(L64>I64,"*"," ")))
C66: Totals | I66: =SUM(I11:I65) -> 90 | J66: =SUM(J11:J65) -> 47 | K66: =SUM(K11:K65) -> 49 | L66: =SUM(L11:L65) -> 0 | M66: =IF(L66<>0, L66,IF(K66<>0,K66,IF(J66<>0,J66,0))) -> 49
C67: Sec1 | D67: =SUM(I11:I18) -> 10 | E67: =SUM(J11:J18) -> 4 | F67: =SUM(K11:K18) -> 5 | G67: =SUM(L11:L18) -> 0 | H67: =IF(G67>0,G67,IF(F67>0,F67,IF(E67>0,E67,0))) -> 5
C68: Sec2 | D68: =SUM(I20:I32) -> 15 | E68: =SUM(J20:J32) -> 8 | F68: =SUM(K20:K32) -> 8 | G68: =SUM(L20:L32) -> 0 | H68: =IF(G68>0,G68,IF(F68>0,F68,IF(E68>0,E68,0))) -> 8
C69: Sec3 | D69: =SUM(I34:I43) -> 15 | E69: =SUM(J34:J43) -> 7 | F69: =SUM(K34:K43) -> 8 | G69: =SUM(L34:L43) -> 0 | H69: =IF(G69>0,G69,IF(F69>0,F69,IF(E69>0,E69,0))) -> 8
C70: Sec4 | D70: =SUM(I45:I57) -> 40 | E70: =SUM(J45:J57) -> 23 | F70: =SUM(K45:K57) -> 23 | G70: =SUM(L45:L57) -> 0 | H70: =IF(G70>0,G70,IF(F70>0,F70,IF(E70>0,E70,0))) -> 23
C71: Sec5 | D71: =SUM(I59:I65) -> 10 | E71: =SUM(J59:J65) -> 5 | F71: =SUM(K59:K65) -> 5 | G71: =SUM(L59:L65) -> 0 | H71: =IF(G71>0,G71,IF(F71>0,F71,IF(E71>0,E71,0))) -> 5
C72: Viva Voce | I72: 10 | J72: 6 | K72: 6 | L72: 0 | M72: =IF(L72<>0, L72,IF(K72<>0,K72,IF(J72<>0,J72,0))) -> 6
B73: 1st Marker Name | E73: Paul John | H73: 1st Marker Signature | J73: Paul John
B74: 2nd Marker Name | E74: Claire West | H74: 2nd Marker Signature | J74: Claire West
B75: 3rd Marker Name | H75: 3rd Marker Signature
B76: Reasons for awarding the final mark where there is more than one marker
B77: Type 1: second (or double) as sampling or moderation has been used
B79: Notes:
B80: 1 | C80: The 3rd marker may be used where there is more than a 10 percentage point difference (in the TOTAL mark) between markers 1 and 2 OR when it is not possible to get agreement between markers 1 and 2. Reasons must be given where an agreed mark is given.
B81: 2 | C81: This form is for internal use only and is NOT to be returned to the student. The final agreed marks must be transferred to the student feedback sheet in the assignment specification.
B82: 3 | C82: The external examiner MUST be shown this form.
