Workbook
Name ____INF1: #REF!
Name ____INF1: #REF!
Name ____INF2: #REF!
Name ____INF2: #REF!
Name ___INF1: #REF!
Name ___INF1: #REF!
Name ___INF2: #REF!
Name ___INF2: #REF!
Name __INF1: #REF!
Name __INF1: #REF!
Name __INF2: #REF!
Name __INF2: #REF!
Name _bar1: #REF!
Name _bar1: #REF!
Name _boh1: #REF!
Name _boh1: #REF!
Name _foh1: #REF!
Name _foh1: #REF!
Name _INF1: #REF!
Name _INF1: #REF!
Name _INF2: #REF!
Name _INF2: #REF!
Name Accept: [0]!Accept
Name Access: '[1]KING INPUT SHEET'!$D$28
Name ADDRESS1: #REF!
Name ADDRESS1: #REF!
Name ADDRESS2: #REF!
Name ADDRESS2: #REF!
Name admin1: #REF!
Name admin1: #REF!
Name Area: [2]Indices!$D$2:$F$81
Name BASE_DATE: '[3]Master Data Sheet'!$D$41
Name Base_Date: '[4]PROJECT INPUTS'!$E$9
Name bathrooms1: #REF!
Name bathrooms1: #REF!
Name BCIS_Location: [5]Library!$H$15:$I$94
Name BCIS_TPI: [5]Library!$K$15:$L$44
Name bedroomcorridors1: #REF!
Name bedroomcorridors1: #REF!
Name bedrooms1: #REF!
Name bedrooms1: #REF!
Name Beds: [6]DATA!$F$13
Name BlockABath: '[7]Block A - Data'!$H$54
Name BlockAens: '[7]Block A - Data'!$H$55
Name BlockAGIA: '[7]Block A - Data'!$E$31
Name BlockANIA: '[7]Block A - Data'!$G$31
Name BlockAUnits: '[7]Block A - Data'!$H$49
Name BlockBbath: '[7]Block B - Data'!$H$56
Name BlockBens: '[7]Block B - Data'!$H$57
Name BlockBGIA: '[7]Block B - Data'!$E$31
Name BlockBNIA: '[7]Block B - Data'!$G$31
Name BlockBUnits: '[7]Block B - Data'!$H$51
Name BlockCBath: '[7]Block C - Data'!$H$55
Name BlockCEns: '[7]Block C - Data'!$H$56
Name BlockCGIA: '[7]Block C - Data'!$E$31
Name BlockCNIA: '[7]Block C - Data'!$G$31
Name BlockCUnits: '[7]Block C - Data'!$H$50
Name BlockDBath: '[7]Block D - Data'!$H$60
Name BlockDEns: '[7]Block D - Data'!$H$61
Name BlockDGIA: '[7]Block D - Data'!$E$35

Sheet Front

Sheet Status
B2: NRM1 Elemental Cost Plan Template
B4: 10th April 2024
B12: Document Status
B13: Revision | C13: Date | D13: Status | E13: Prepared by | F13: Checked by | G13: Authorised by
B14: Rev A | C14: =C15-14 -> 45322 | E14: James Lloyd
B15: Rev C | C15: =C16-28 -> 45336 | E15: James Lloyd
B16: Rev D | C16: =C17-14 -> 45364 | E16: James Lloyd
B17: Rev E | C17: =C18-7 -> 45378 | E17: James Lloyd
B18: Rev F | C18: =C19-7 -> 45385 | E18: James Lloyd
B19: Rev G | C19: 45392 | E19: James Lloyd
B22: DISCLAIMER
B24: This document and its contents have been prepared and are intended solely for Ace Capital Projects Ltd information and use in relation to 'National Steel Museum of Wales - Amgueddfa Dur Cymru'
B25: Blueprint Construction assumes no responsibility to any other party in respect of or arising out of or in connection with this document and/or its contents.
B27: COPYRIGHT
B29: The copyright of this document is vested in Blueprint Construction. This document may not be reproduced in whole or in part without their express written permission.

Sheet Information Used
B4: Information Used & Assumptions
B6: 1 | C6: Information Used
C8: Design Drawings;
C9: 2nr Drawings issued as part of 'Issue 01 - Concept and Masterplan'
C10: Concept design of the full Cultural Quarter proposal and visualisations of the Museum
C11: 8nr Drawings issued as part of 'Issue 02 - Schedule of Accommodation, Context and Plans'
C12: Initial Concept Sketches, Levels -1 through to Level 3 and Schedule of Accommodation
C13: 10nr Drawings issued as part of 'Issue 03 - Plans, Sections and Elevations'
C14: Revised Levels -1 through to Level 3, Elevations and 2nr Sections
C15: 10nr Drawings issued as part of 'Issue 04 - Technical Details'
C16: Structural Drawings, External End Product Visualisation and Updated detailed sections for Roof, Windows, Wall Cladding and Wall Compositions
B18: 2 | C18: General Assumptions;
C20: Extent of External Works is assumed in lieu of updated drawings and specifications. This includes the Corteen Steel Structure and the Boardwalk along the River Afon (Provisionally priced for the time being).
C21: Costs are based upon the information as provided.
C22: We have assumed a project bank account will not be required for this scheme.
C23: We have assumed that the area of works will be decanted for the project. No allowance is made for throughways or dealing with building occupants.
C24: The exact nature of specification for internal doors, screens, folding partitions and finishes is assumed.
C25: All costs are provisional awaiting design development.
C26: All base costs are based on Q42022
B28: 3 | C28: General Notes and Exclusions;
C30: All included costs are subject to variation following design development.
C31: Land Costs
C32: A risk allowance of 10% is included for this estimate.
C33: VAT is excluded from the estimate.
C34: Works will be undertaken in a single phase.
C35: Local Authority Fees
C36: Building Regulation Fees
C37: Party Wall Awards
C38: Acquisition and Associated Legals

Sheet Summary Original
B2: Project details: National Steel Museum of Wales - Amgueddfa Dur Cymru
B4: Building Works Estimate
B6: Based on GIA of: 2,345m2 | H6: 2345
C8: Group Element | D8: Element Type | E8: Total | F8: £/m2
C10: Group element 0 | D10: FACILITATING WORKS | E10: ='NRM1 CP template '!J10 -> 344850 | F10: =E10/H6 -> 147.05757
C11: Group element 1 | D11: ='NRM1 CP template '!B20 -> SUBSTRUCTURE | E11: ='NRM1 CP template '!J20 -> 407548.9 | F11: =E11/H6 -> 173.79484
C12: Group element 2 | D12: ='NRM1 CP template '!B44 -> SUPERSTRUCTURE | E12: ='NRM1 CP template '!J44 -> 3813509.9 | F12: =E12/H6 -> 1626.2302
C13: Group element 3 | D13: ='NRM1 CP template '!B130 -> INTERNAL FINISHES | E13: ='NRM1 CP template '!J130 -> 426782.35 | F13: =E13/H6 -> 181.99674
C14: Group element 4 | D14: ='NRM1 CP template '!B156 -> FITTINGS AND FURNISHINGS | E14: ='NRM1 CP template '!J156 -> 77002.75 | F14: =E14/H6 -> 32.836994
C15: Group element 5 | D15: ='NRM1 CP template '!B168 -> SERVICES | E15: ='NRM1 CP template '!J168 -> 2030888.2 | F15: =E15/H6 -> 866.05043
C16: Group element 8 | D16: EXTERNAL WORKS | E16: ='NRM1 CP template '!J252 -> 1059294.3 | F16: =E16/H6 -> 451.72464
C17: Group element 9 | D17: ='NRM1 CP template '!B286 -> MAIN CONTRACTOR'S PRELIMINARIES | E17: ='NRM1 CP template '!J286 -> 2221000 | F17: =E17/H6 -> 947.12154
B19: Works cost estimate (sub total A) | E19: =SUM(E9:E18) -> 10380876 | F19: =E19/189 -> 54925.272
B21: Prov Sums (sub total B)
C23: Café & Restaurant Fittings, Furniture & Equipment Fit-Out | E23: 82000
C24: Museum Fittings, Furniture & Equipment Fit-Out | E24: 275000
E26: =SUM(E23:E24) -> 357000
B28: Base cost estimate A + B (sub total C) | E28: =E19+E26 -> 10737876 | F28: =F19 -> 54925.272
C30: Design Contingency | D30: Risk allowance @ 1.25% | E30: =E28*1.25% -> 134223.46 | F30: =E30/H6 -> 57.238147
C31: Construction Risk | D31: Risk allowance @ 2.5% | E31: =E28*2.5% -> 268446.91 | F31: =E31/H6 -> 114.47629
C32: Employers Change Risk | D32: Risk allowance @ 2.5% | E32: =E28*2.5% -> 268446.91 | F32: =E32/H6 -> 114.47629
C33: Other Mis. Risk | D33: Risk allowance @ 2.5% | E33: =E28*2.5% -> 268446.91 | F33: =E33/H6 -> 114.47629
B35: Total Risk allowances (sub total D) | E35: =SUM(E30:E34) -> 939564.19 | F35: =E35/H6 -> 400.66703
B37: Total Construction Cost (C + D) | E37: =E28+E35 -> 11677441 | F37: =E37/H6 -> 4979.7188

Sheet NRM1 CP template 
A2: Cost Plan for National Steel Museum of Wales - Amgueddfa Dur Cymru
A3: NRM 1 phaseologies
A4: Elemental Cost Plan
A7: Ref. | B7: Element | C7: Timesing | D7: Quantity | F7: Unit | H7: Rate | I7: Sub-Total | J7: Group-Total | K7: Notes
H8: £ | I8: £ | J8: £
A10: 0 | B10: Facilitating Works | J10: =SUM(I10:I19) -> 344850
A12: 0.01 | B12: Facilitating Works
A14: 0.01.2 | B14: Demolition Works of Existing Builidng | E14: 3 | F14: nr | H14: 55440 | I14: =E14*H14 -> 166320 | K14: As per Feasibility Study Estimate
A16: 0.01.2 | B16: Site Faciliting Work to Enable Works | E16: 1 | F16: nr | H16: 118690 | I16: =E16*H16 -> 118690 | K16: As per Feasibility Study Estimate
A18: 0.01.3 | B18: New Road Layout and Associated Infrastructure | E18: 1 | F18: nr | H18: 59840 | I18: =E18*H18 -> 59840 | K18: As per Feasibility Study Estimate
A20: 1 | B20: SUBSTRUCTURE | J20: =SUM(I20:I43) -> 407548.9
A22: 1.01 | B22: Foundations
A24: 1.01.1 | B24: Trench fill; machine excavation; disposal; plain in situ concrete 20.00N/mm² (1:2:4) trench fill, 300mm high cavity masonry in cement mortar (1:3); pitch polymer dampproof membrane; with 3 courses of 140mm block outer skin up to FFL | E24: 125 | F24: m | H24: 264 | I24: =E24*H24 -> 33000 | K24: Architects and Builders Spons Pg. 150
A26: 1.01.2 | B26: Enabling works; excavate to form piling mat; supply and lay imported hardcore - recycled brick and similar to form piling mat | E26: 465 | F26: m³ | H26: 15.4 | I26: =E26*H26 -> 7161 | K26: Architects and Builders Spons Pg. 151
A28: 1.01.2 | B28: Enabling works; Provision of plant (1 nr rig); including bringing to and removing from site; maintenance, erection and dismantling at each pile position | E28: 1 | F28: item | H28: 26400 | I28: =E28*H28 -> 26400 | K28: Architects and Builders Spons Pg. 151
A30: 1.01.2 | B30: Supply and install concrete Continuous Flight Auger (CFA) piles; cart away inactive spoil; 900 mm dia. Reinforced concrete CFA piles | E30: 600 | F30: m | H30: 264 | I30: =E30*H30 -> 158400 | K30: Architects and Builders Spons Pg. 151
A32: 1.01.2 | B32: Pile testing; using tension piles as reaction; typical loading test 1000kN to 2000kN | E32: 1 | F32: nr | H32: 10890 | I32: =E32*H32 -> 10890 | K32: Architects and Builders Spons Pg. 152
A34: 1.01.2 | B34: Pile testing; integrity testing; minimum 20 per visit | E34: 120 | F34: nr | H34: 21.67 | I34: =E34*H34 -> 2600.4 | K34: Architects and Builders Spons Pg. 152
A36: 1.01.2 | B36: Excavate pit in firm ground by machine; partial backfill; partial disposal; support; compaction; cut off pile and prepare reinforcement, formwork; reinforced in situ concrete cap 25N/mm²; reinforcement at 50kg/m²; up to 300mm x 300mm x 1000mm pile | E36: 120 | F36: nr | H36: 407 | I36: =E36*H36 -> 48840 | K36: Architects and Builders Spons Pg. 152
A38: 1.01.2 | B38: Concrete lift pits; Excavate and disposal; reinforced concrete floor and walls; bitumen tanking as necessary; 1.80 m × 2.50 m × 1.60 m deep pit −13 person lift / 1000 kg | E38: 2 | F38: nr | H38: 4730 | I38: =E38*H38 -> 9460 | K38: Architects and Builders Spons Pg. 152
A40: 1.01.3 | B40: Ground Floor Construction; Mechanical excavation to reduce levels, disposal, level and compact, hardcore bed blinded with sand, 1200 gauge polythene damp-proof membrane, in situ concrete 20.00 N/mm² – 20 mm aggregate (1:2:4); 250 mm thick concrete slab with 1 layer of A393 fabric reinforcement | E40: 465 | F40: m2 | H40: 154 | I40: =E40*H40 -> 71610 | K40: Architects and Builders Spons Pg. 153
A42: 1.01.5 | B42: Reinforced concrete basement walls; 200 mm thick waterproof reinforced concrete | E42: 75 | F42: m2 | H42: 522.5 | I42: =E42*H42 -> 39187.5 | K42: Architects and Builders Spons Pg. 154
A44: 2 | B44: SUPERSTRUCTURE | J44: =SUM(I44:I129) -> 3813509.9
A46: 2.01 | B46: Frame
A48: 2.01.1 | B48: Museum steel frame; composite beam and slab floors; Suspended slab; permanent steel shuttering with 130 mm thick concrete; no coverings or finishes | E48: 2345 | F48: m2 | H48: 220 | I48: =E48*H48 -> 515900 | K48: Architects and Builders Spons Pg. 154
A50: 2.01.1 | B50: 2nr Fire Escape Stairwell Towers (3-stories) steel frame; composite beam and slab floors; Suspended slab; permanent steel shuttering with 130 mm thick concrete; no coverings or finishes | E50: 800 | F50: m2 | H50: 220 | I50: =E50*H50 -> 176000 | K50: Architects and Builders Spons Pg. 154
A52: 2.01.1 | B52: Fire protection to steelwork; Sprayed mineral fibre; gross surface area; 90 minute protection | E52: 2345 | F52: m2 | H52: 42.9 | I52: =E52*H52 -> 100600.5 | K52: Architects and Builders Spons Pg. 154
A54: 2.01.1 | B54: Extra over allowance for phased works to install Bessemer Convertor during steel construction | E54: 1 | F54: item | H54: 176000 | I54: 145000 | K54: Architects and Builders Spons Pg. 154
A56: 2.02 | B56: Upper Floors
A58: 2.02.1 | B58: Composite steel and concrete upper floors (Note 40mm Ecoscreed thermal on top of concrete deck); A142 mesh reinforcement; TAT Slimdek SD225 steel decking 1.25mm thick; 130mm reinforced concrete | E58: 1870 | F58: m2 | H58: 132 | I58: =E58*H58 -> 246840 | K58: Architects and Builders Spons Pg. 157
A60: 2.03 | B60: Roof
A62: 2.03.1 | B62: Metal Decking; galvanised steel roof decking; insulation; three layer felt roofing and chippings; 70mm tick steel decking (U-Value 0.25W/m²K) | E62: 629 | F62: m2 | H62: 77 | I62: =E62*H62 -> 48433 | K62: Architects and Builders Spons Pg. 157
A64: 2.03.2 | B64: Roof coverings; welsh slates; flat | E64: 412 | F64: m2 | H64: 379.5 | I64: =E64*H64 -> 156354 | K64: Architects and Builders Spons Pg. 158
A66: 2.03.4 | B66: Roof drainage items; bespoke pressed galvanised gutter; screws to be fixed into concrete wall panel with stainless steel concrete screws | E66: 1 | F66: item | H66: 12650 | I66: =E66*H66 -> 12650
A68: 2.03.5 | B68: Rooflights; individual polycarbonate rooflights; rectangular; electric opening | E68: 210 | F68: m2 | H68: 1485 | I68: =E68*H68 -> 311850 | K68: Architects and Builders Spons Pg. 161
A70: 2.03.6 | B70: Flat roof feature; roof walkways 600mm x 600mm x 50mm precast concrete slabs on support system; pedestrian access | E70: 176 | F70: m2 | H70: 75.9 | I70: =E70*H70 -> 13358.4 | K70: Architects and Builders Spons Pg. 161
A72: 2.04 | B72: Stairs & Ramps
A74: 2.04.1 | B74: Heavy duty cast iron staircase; perforated treads; no risers; balustrades and hand rails; decorated | E74: 6 | F74: nr | H74: 7260 | I74: =E74*H74 -> 43560 | K74: Architects and Builders Spons Pg. 162
A76: 2.04.1 | B76: Feature metal staircases; galvanised finish perforated treads; no risers; decorated; 3m rise; dogleg | E76: 5 | F76: nr | H76: 14300 | I76: =E76*H76 -> 71500 | K76: Architects and Builders Spons Pg. 162
A78: 2.04.2 | B78: Finishes to treads and riser; including nosings etc.; vinyl or rubber | E78: 220 | F78: m | H78: 82.5 | I78: =E78*H78 -> 18150 | K78: Architects and Builders Spons Pg. 163
...
