Workbook

Sheet Specifications and Reduced mass
B2: ACEA7007-Hybrid Powertrain and Control
B3: Series Hybrid Vehicle(CW1)
B5: Renegade Data/ Test Specifications | D5: Gear Ratios | E5: Input | F5: Output | G5: Ratio | H5: Overall Ratio | I5: Top Speed(km/hr) | J5: Top Speed (m/s)
B6: Engine Speed(Max)(RPM) | C6: 6500 | D6: 1st | E6: 11 | F6: 29 | G6: =F6/E6 -> 2.6363636 | H6: =G10*G9*G6 -> 22.729221 | I6: =C6*C13/(H6*2652) -> 27.389809 | J6: =I6/3.6 -> 7.6082803
B7: Torque(Max) | C7: 22 | D7: 2nd | E7: 15 | F7: 29 | G7: =F7/E7 -> 1.9333333 | H7: =G10*G9*G7 -> 16.668095 | I7: =C6*C13/(H7*2652) -> 37.34974 | J7: =I7/3.6 -> 10.374928
B8: Power Developed | C8: 18000 W | D8: 3rd | E8: 21 | F8: 31 | G8: =F8/E8 -> 1.4761905 | H8: =G9*G10*G8 -> 12.726871 | I8: =C6*C13/(H8*2652) -> 48.916111 | J8: =I8/3.6 -> 13.587809
B9: Frontal Area (Tyre+Body)(m^2) | C9: 1.151 | D9: Final Drive | E9: 15 | F9: 51 | G9: =F9/E9 -> 3.4 | H9: NA | I9: NA | J9: NA
B10: Coefficient of Drag | C10: 0.95 | D10: Primary Drive | E10: 28 | F10: 71 | G10: =F10/E10 -> 2.5357143 | H10: NA | I10: NA | J10: NA
B11: Air Density | C11: 1.167
B12: Front Wheel Radius (mm) | C12: 304.8 | D12: Forces Acting(N) | E12: Aero Drag (N) | F12: Rolling resistance (Asphalt)(N) | G12: Rolling resistance (Gravel)(N) | H12: Rolling resistance (Sand)(N) | I12: Rolling resistance (Mud)(N) | J12: Rolling resistance (Loose Soil )(N) | K12: Gradient Resistance(Sector 2)
B13: Rear wheel Radius (mm) | C13: 254 | D13: Gear 1 | E13: =0.5*C11*C10*C9*J6^2 -> 36.932848 | F13: =C18*C17*9.81 -> 103.005 | G13: =$C$19*9.81*$C$17 -> 128.75625 | H13: =C$20*9.81*C$17 -> 1545.075 | I13: =C$21*9.81*C$17 -> 1030.05 | J13: =9.81*C$22*C$17 -> 515.025 | K13: 2163.96
B14: Driver + Passenger (kg) | C14: 144 | D14: Gear 2 | E14: =0.5*C11*C10*C9*J7^2 -> 68.676784 | F14: 103 | G14: =$C$19*9.81*$C$17 -> 128.75625 | H14: =C$20*9.81*C$17 -> 1545.075 | I14: =C$21*9.81*C$17 -> 1030.05 | J14: =9.81*C$22*C$17 -> 515.025 | K14: 2163.96
B15: Fuel + Oil(kg) | C15: 16.11 | D15: Gear 3 | E15: =0.5*C11*C10*C9*J8^2 -> 117.79819 | F15: 103 | G15: =$C$19*9.81*$C$17 -> 128.75625 | H15: =C$20*9.81*C$17 -> 1545.075 | I15: =C$21*9.81*C$17 -> 1030.05 | J15: =9.81*C$22*C$17 -> 515.025 | K15: 2163.96
B16: Kerb Weight(Kg) | C16: 345 | D16: Total Resistance(N) | F16: Total Resistance Sector 1 | G16: Total Resistance Sector 2 | H16: Total Resistance Sector 3 | I16: Total Resistance Sector 4 | J16: Total Resistance Sector 5
B17: Test Mass(kg) | C17: 525 | D17: Gear 1 | F17: =E13+F13 -> 139.93785 | G17: =E$13+G$13+K$13 -> 2329.6491 | H17: =E13+H13 -> 1582.0078 | I17: =E13+I13 -> 1066.9828 | J17: =E13+J13 -> 551.95785
B18: μR(Asphalt) | C18: 0.02 | D18: Gear 2 | F18: =E14+F14 -> 171.67678 | G18: =E14+G14+K14 -> 2361.393 | H18: =E14+H14 -> 1613.7518 | I18: =E14+I14 -> 1098.7268 | J18: =E14+J14 -> 583.70178
B19: μR(Gravel) | C19: 0.025 | D19: Gear 3 | F19: =E15+F15 -> 220.79819 | G19: =E15+G15+K15 -> 2410.5144 | H19: =E15+H15 -> 1662.8732 | I19: =E15+I15 -> 1147.8482 | J19: =E15+J15 -> 632.82319
B20: μR(Sand) | C20: 0.3 | D20: Power Required(W) | F20: Sector 1 | G20: Sector 2 | H20: Sector 3 | I20: Sector 4 | J20: Sector 5
B21: μR(Mud) | C21: 0.2 | D21: Gear 1 | F21: =F17*J6 -> 1064.6864 | G21: =G$17*J$6 -> 17724.623 | H21: =H17*J6 -> 12036.359 | I21: =J6*I17 -> 8117.9046 | J21: =J17*J6 -> 4199.45
B22: μR(Loose Soil) | C22: 0.1 | D22: Gear 2 | F22: =F18*J7 -> 1781.1342 | G22: =G18*J7 -> 24499.282 | H22: =H18*J7 -> 16742.558 | I22: =I18*J7 -> 11399.211 | J22: =J7*J18 -> 6055.8638
B23: Wheelbase (mm) | C23: 1940 | D23: Gear 3 | F23: =F19*J8 -> 3000.1636 | G23: =G19*J8 -> 32753.609 | H23: =J8*H19 -> 22594.803 | I23: =I19*J8 -> 15596.741 | J23: =J8*J19 -> 8598.6804
B24: Height of COG from Ground(mm) | C24: 488
B25: Distance of COG from Front Wheel Centre | C25: 1070
B26: Distance of COG from Rear Wheel Centre | C26: 870 | E26: Radius (m) | F26: Inertia (Kgm^2) | G26: Transmission Ratio | H26: Velocity Ratio | I26: Crankshaft(Velocity Ratio) | J26: Gearbox (Velocity Ratio )
B27: Angle of Buggy Lifted ( Degrees) | C27: 18 | D27: Front Wheel | E27: 0.304 | F27: 1.25 | G27: - | H27: =1/E27 -> 3.2894737 | I27: - | J27: -
B28: Angle of Buggy Lifted (Radians) | C28: =C27*(PI()/180) -> 0.31415927 | D28: Rear Wheel | E28: 0.254 | F28: 0.87 | G28: - | H28: =1/E28 -> 3.9370079 | I28: - | J28: -
B29: Load on Rear Wheel (Kg) | C29: 207 | D29: Crankshaft | F29: 0.06 | G29: 2.536 | H29: - | I29: - | J29: -
B30: Load on Rear Wheel Lifted (Kg) | C30: 193 | D30: Gearbox Output Shaft | F30: 0.02 | G30: 3.4 | H30: =(1/E28)*G30 -> 13.385827 | I30: - | J30: -
B31: YCOG | C31: =(C29*C23)/C17 -> 764.91429 | D31: Gearbox Input Shaft(Gear 1) | F31: 0.05 | G31: 2.636 | H31: =G30*G31*1/E28 -> 35.285039 | I31: =G31*G30*G29*1/E28 -> 89.48286 | J31: =G6*G30*1/E28 -> 35.289907
B32: XCOG | C32: =(C23*(C29-C30))/(C16*TAN(C28))+279.4 -> 521.68952 | D32: Gearbox Input Shaft(Gear 2) | F32: 0.05 | G32: 1.933 | H32: =G32*G30*1/E28 -> 25.874803 | I32: =G32*G30*G29*1/E28 -> 65.618501 | J32: ='[1]Reduced mass'!$D$9 -> 20.041667
B33: Fastest Velocity in 10 Meter | C33: =SQRT('Lap Simulation'!Q5^2+2*$C$38*'Lap Simulation'!$N$6) -> 1.980075 | D33: Gearbox Input Shaft(Gear 3) | F33: 0.05 | G33: 1.476 | H33: =G33*G30*1/E28 -> 19.75748 | I33: =G33*G30*G29*1/E28 -> 50.10497 | J33: =G8*G30*1/E28 -> 19.76003
B34: Speed 6500 rpm (1st) | C34: =I6 -> 27.389809
B35: Drive Torque at Shaft | C35: =C7*0.97*G6 -> 56.26
B36: Drive Torque at Rear Wheels | C36: =G9*0.94*C35 -> 179.80696
B37: Force | C37: =(C36/0.254) -> 707.90142
B38: Acceleration | C38: =C37/(C15+C16) -> 1.9603484
B39: Tyre Mass(kg) | C39: 10.2
B40: Wheel Mass(kg) | C40: 6.4
B41: Total Mass of assembly(kg) | C41: =C40+C39 -> 16.6
B42: Kfront | C42: =C12*0.9/1000 -> 0.27432
...

Sheet Acceleration & Deceleration
B4: RPM | C4: Power (W) | D4: HP | E4: Torque(Nm) | F4: Gear 1-Velocity (km/hr) | G4: Gear 2-Velocity(km/hr) | H4: Gear 3-Velocity (km/hr) | I4: Driving Force Gear 1(N) | J4: Driving Force Gear 2(N) | K4: Driving Force Gear 3(N) | L4: Acceleration Gear 1(m/s^2) | M4: Acceleration Gear 2(m/s^2) | N4: Acceleration Gear 3(m/s^2) | O4: Acceleration Force G1 (N) | P4: Acceleration Force G2 (N) | Q4: Acceleration Force G3 (N)
B6: 1000 | C6: 507 | D6: 0.68 | E6: 4.89 | F6: 4.21 | G6: 5.74 | H6: 7.52 | I6: =(C6)/(F6/3.6) -> 433.53919 | J6: =(C6)/(G6/3.6) -> 317.97909 | K6: =(C6)/(H6/3.6) -> 242.71277 | L6: ='Acceleration & Deceleration'!$I$6/'Specifications and Reduced mass'!$C$47 -> 0.64081202 | M6: ='Acceleration & Deceleration'!$J$6/'Specifications and Reduced mass'!$C$48 -> 0.49672444 | N6: ='Acceleration & Deceleration'!$J$6/'Specifications and Reduced mass'!$C$49 -> 0.51081416 | O6: =L6*'Specifications and Reduced mass'!$C$17 -> 336.42631 | P6: =M6*'Specifications and Reduced mass'!$C$17 -> 260.78033 | Q6: =N6*'Specifications and Reduced mass'!$C$17 -> 268.17744
B7: 1500 | C7: 1163 | D7: 1.56 | E7: 7.44 | F7: 6.31 | G7: 8.61 | H7: 11.28 | I7: =(C7)/(F7/3.6) -> 663.51823 | J7: =(C7)/(G7/3.6) -> 486.27178 | K7: =(C7)/(H7/3.6) -> 371.17021 | L7: ='Acceleration & Deceleration'!$I$6/'Specifications and Reduced mass'!$C$47 -> 0.64081202 | M7: ='Acceleration & Deceleration'!$J$6/'Specifications and Reduced mass'!$C$48 -> 0.49672444 | N7: ='Acceleration & Deceleration'!$J$6/'Specifications and Reduced mass'!$C$49 -> 0.51081416 | O7: =L7*'Specifications and Reduced mass'!$C$17 -> 336.42631 | P7: =M7*'Specifications and Reduced mass'!$C$17 -> 260.78033 | Q7: =N7*'Specifications and Reduced mass'!$C$17 -> 268.17744
B8: 2000 | C8: 2431 | D8: 3.26 | E8: 11.67 | F8: 8.42 | G8: 11.48 | H8: 15.04 | I8: =(C8)/(F8/3.6) -> 1039.3824 | J8: =(C8)/(G8/3.6) -> 762.33449 | K8: =(C8)/(H8/3.6) -> 581.8883 | L8: ='Acceleration & Deceleration'!$I$6/'Specifications and Reduced mass'!$C$47 -> 0.64081202 | M8: ='Acceleration & Deceleration'!$J$6/'Specifications and Reduced mass'!$C$48 -> 0.49672444 | N8: ='Acceleration & Deceleration'!$J$6/'Specifications and Reduced mass'!$C$49 -> 0.51081416 | O8: =L8*'Specifications and Reduced mass'!$C$17 -> 336.42631 | P8: =M8*'Specifications and Reduced mass'!$C$17 -> 260.78033 | Q8: =N8*'Specifications and Reduced mass'!$C$17 -> 268.17744
B9: 2500 | C9: 3909 | D9: 5.24 | E9: 14.98 | F9: 10.52 | G9: 14.35 | H9: 18.8 | I9: =(C9)/(F9/3.6) -> 1337.6806 | J9: =(C9)/(G9/3.6) -> 980.65505 | K9: =(C9)/(H9/3.6) -> 748.53191 | L9: ='Acceleration & Deceleration'!$I$6/'Specifications and Reduced mass'!$C$47 -> 0.64081202 | M9: ='Acceleration & Deceleration'!$J$6/'Specifications and Reduced mass'!$C$48 -> 0.49672444 | N9: ='Acceleration & Deceleration'!$J$6/'Specifications and Reduced mass'!$C$49 -> 0.51081416 | O9: =L9*'Specifications and Reduced mass'!$C$17 -> 336.42631 | P9: =M9*'Specifications and Reduced mass'!$C$17 -> 260.78033 | Q9: =N9*'Specifications and Reduced mass'!$C$17 -> 268.17744
B10: 3000 | C10: 5348 | D10: 7.17 | E10: 17.07 | F10: 12.63 | G10: 17.22 | H10: 22.56 | I10: =(C10)/(F10/3.6) -> 1524.3705 | J10: =(C10)/(G10/3.6) -> 1118.0488 | K10: =(C10)/(H10/3.6) -> 853.40426 | L10: ='Acceleration & Deceleration'!$I$6/'Specifications and Reduced mass'!$C$47 -> 0.64081202 | M10: ='Acceleration & Deceleration'!$J$6/'Specifications and Reduced mass'!$C$48 -> 0.49672444 | N10: ='Acceleration & Deceleration'!$J$6/'Specifications and Reduced mass'!$C$49 -> 0.51081416 | O10: =L10*'Specifications and Reduced mass'!$C$17 -> 336.42631 | P10: =M10*'Specifications and Reduced mass'!$C$17 -> 260.78033 | Q10: =N10*'Specifications and Reduced mass'!$C$17 -> 268.17744
B11: 3500 | C11: 6878 | D11: 9.22 | E11: 18.81 | F11: 14.73 | G11: 20.1 | H11: 26.32 | I11: =(C11)/(F11/3.6) -> 1680.9776 | J11: =(C11)/(G11/3.6) -> 1231.8806 | K11: =(C11)/(H11/3.6) -> 940.75988 | L11: ='Acceleration & Deceleration'!$I$6/'Specifications and Reduced mass'!$C$47 -> 0.64081202 | M11: ='Acceleration & Deceleration'!$J$6/'Specifications and Reduced mass'!$C$48 -> 0.49672444 | N11: ='Acceleration & Deceleration'!$J$6/'Specifications and Reduced mass'!$C$49 -> 0.51081416 | O11: =L11*'Specifications and Reduced mass'!$C$17 -> 336.42631 | P11: =M11*'Specifications and Reduced mass'!$C$17 -> 260.78033 | Q11: =N11*'Specifications and Reduced mass'!$C$17 -> 268.17744
B12: 4000 | C12: 8101 | D12: 10.86 | E12: 19.41 | F12: 16.84 | G12: 22.96 | H12: 30.08 | I12: =(C12)/(F12/3.6) -> 1731.8052 | J12: =(C12)/(G12/3.6) -> 1270.1916 | K12: =(C12)/(H12/3.6) -> 969.53457 | L12: ='Acceleration & Deceleration'!$I$6/'Specifications and Reduced mass'!$C$47 -> 0.64081202 | M12: ='Acceleration & Deceleration'!$J$6/'Specifications and Reduced mass'!$C$48 -> 0.49672444 | N12: ='Acceleration & Deceleration'!$J$6/'Specifications and Reduced mass'!$C$49 -> 0.51081416 | O12: =L12*'Specifications and Reduced mass'!$C$17 -> 336.42631 | P12: =M12*'Specifications and Reduced mass'!$C$17 -> 260.78033 | Q12: =N12*'Specifications and Reduced mass'!$C$17 -> 268.17744
B13: 4500 | C13: 10302 | D13: 13.81 | E13: 21.23 | F13: 18.94 | G13: 25.83 | H13: 33.84 | I13: =(C13)/(F13/3.6) -> 1958.1415 | J13: =(C13)/(G13/3.6) -> 1435.8188 | K13: =(C13)/(H13/3.6) -> 1095.9574 | L13: ='Acceleration & Deceleration'!$I$6/'Specifications and Reduced mass'!$C$47 -> 0.64081202 | M13: ='Acceleration & Deceleration'!$J$6/'Specifications and Reduced mass'!$C$48 -> 0.49672444 | N13: ='Acceleration & Deceleration'!$J$6/'Specifications and Reduced mass'!$C$49 -> 0.51081416 | O13: =L13*'Specifications and Reduced mass'!$C$17 -> 336.42631 | P13: =M13*'Specifications and Reduced mass'!$C$17 -> 260.78033 | Q13: =N13*'Specifications and Reduced mass'!$C$17 -> 268.17744
B14: 5000 | C14: 11383 | D14: 15.26 | E14: 21.79 | F14: 21.09 | G14: 28.7 | H14: 37.6 | I14: =(C14)/(F14/3.6) -> 1943.0441 | J14: =(C14)/(G14/3.6) -> 1427.8328 | K14: =(C14)/(H14/3.6) -> 1089.8617 | L14: ='Acceleration & Deceleration'!$I$6/'Specifications and Reduced mass'!$C$47 -> 0.64081202 | M14: ='Acceleration & Deceleration'!$J$6/'Specifications and Reduced mass'!$C$48 -> 0.49672444 | N14: ='Acceleration & Deceleration'!$J$6/'Specifications and Reduced mass'!$C$49 -> 0.51081416 | O14: =L14*'Specifications and Reduced mass'!$C$17 -> 336.42631 | P14: =M14*'Specifications and Reduced mass'!$C$17 -> 260.78033 | Q14: =N14*'Specifications and Reduced mass'!$C$17 -> 268.17744
B15: 5500 | C15: 12637 | D15: 16.94 | E15: 22 | F15: 23.15 | G15: 31.58 | H15: 41.36 | I15: =(C15)/(F15/3.6) -> 1965.149 | J15: =(C15)/(G15/3.6) -> 1440.57 | K15: =(C15)/(H15/3.6) -> 1099.9323 | L15: ='Acceleration & Deceleration'!$I$6/'Specifications and Reduced mass'!$C$47 -> 0.64081202 | M15: ='Acceleration & Deceleration'!$J$6/'Specifications and Reduced mass'!$C$48 -> 0.49672444 | N15: ='Acceleration & Deceleration'!$J$6/'Specifications and Reduced mass'!$C$49 -> 0.51081416 | O15: =L15*'Specifications and Reduced mass'!$C$17 -> 336.42631 | P15: =M15*'Specifications and Reduced mass'!$C$17 -> 260.78033 | Q15: =N15*'Specifications and Reduced mass'!$C$17 -> 268.17744
B16: 6000 | C16: 13025 | D16: 17.32 | E16: 19.77 | F16: 25.26 | G16: 34.45 | H16: 45.12 | I16: =(C16)/(F16/3.6) -> 1856.2945 | J16: =(C16)/(G16/3.6) -> 1361.103 | K16: =(C16)/(H16/3.6) -> 1039.2287 | L16: ='Acceleration & Deceleration'!$I$6/'Specifications and Reduced mass'!$C$47 -> 0.64081202 | M16: ='Acceleration & Deceleration'!$J$6/'Specifications and Reduced mass'!$C$48 -> 0.49672444 | N16: ='Acceleration & Deceleration'!$J$6/'Specifications and Reduced mass'!$C$49 -> 0.51081416 | O16: =L16*'Specifications and Reduced mass'!$C$17 -> 336.42631 | P16: =M16*'Specifications and Reduced mass'!$C$17 -> 260.78033 | Q16: =N16*'Specifications and Reduced mass'!$C$17 -> 268.17744
B17: 6500 | C17: 13428 | D17: 18 | E17: 15.64 | F17: 27.36 | G17: 37.32 | H17: 48.88 | I17: =(C17)/(F17/3.6) -> 1766.8421 | J17: =(C17)/(G17/3.6) -> 1295.3055 | K17: =(C17)/(H17/3.6) -> 988.9689 | L17: ='Acceleration & Deceleration'!$I$6/'Specifications and Reduced mass'!$C$47 -> 0.64081202 | M17: ='Acceleration & Deceleration'!$J$6/'Specifications and Reduced mass'!$C$48 -> 0.49672444 | N17: ='Acceleration & Deceleration'!$J$6/'Specifications and Reduced mass'!$C$49 -> 0.51081416 | O17: =L17*'Specifications and Reduced mass'!$C$17 -> 336.42631 | P17: =M17*'Specifications and Reduced mass'!$C$17 -> 260.78033 | Q17: =N17*'Specifications and Reduced mass'!$C$17 -> 268.17744
S18: Traction Limited Acceleration(Sector 5)
B19: Wheelie Limited Acceleration | G19: Traction Limited Acceleration(Sector 1) | J19: Traction Limited Acceleration(Sector 2) | M19: Traction Limited Acceleration(Sector 3) | P19: Traction Limited Acceleration(Sector 4) | R19: Gear1 | S19: Gear2 | T19: Gear3
B20: RPM | C20: Gear 1 | D20: Gear 2 | E20: Gear3 | F20: Gear1 | G20: Gear2 | H20: Gear3 | I20: Gear1 | J20: Gear2 | K20: Gear3 | L20: Gear1 | M20: Gear2 | N20: Gear3 | O20: Gear1 | P20: Gear2 | Q20: Gear3 | R20: =(((('Specifications and Reduced mass'!$C$22)*(('Specifications and Reduced mass'!$C$17)/('Specifications and Reduced mass'!$C$47))*(((('Specifications and Reduced mass'!$C$23)/1000)-(('Specifications and Reduced mass'!$C$26)/1000))/(('Specifications and Reduced mass'!$C$23)/1000)))/((1)-(('Specifications and Reduced mass'!$C$22)*((('Specifications and Reduced mass'!$C$31)/1000)/(('Specifications and Reduced mass'!$C$23)/1000)))-(('Net Resistance '!F6)/('Specifications and Reduced mass'!$C$47)))))*9.81 -> 0.43766061 | S20: =(((('Specifications and Reduced mass'!$C$22)*(('Specifications and Reduced mass'!$C$17)/('Specifications and Reduced mass'!$C$48))*(((('Specifications and Reduced mass'!$C$23)/1000)-(('Specifications and Reduced mass'!$C$26)/1000))/(('Specifications and Reduced mass'!$C$23)/1000)))/((1)-(('Specifications and Reduced mass'!$C$22)*((('Specifications and Reduced mass'!$C$31)/1000)/(('Specifications and Reduced mass'!$C$23)/1000)))-(('Net Resistance '!G6)/('Specifications and Reduced mass'!$C$48)))))*9.81 -> 0.4631073 | T20: =(((('Specifications and Reduced mass'!$C$22)*(('Specifications and Reduced mass'!$C$17)/('Specifications and Reduced mass'!$C$49))*(((('Specifications and Reduced mass'!$C$23)/1000)-(('Specifications and Reduced mass'!$C$26)/1000))/(('Specifications and Reduced mass'!$C$23)/1000)))/((1)-(('Specifications and Reduced mass'!$C$22)*((('Specifications and Reduced mass'!$C$31)/1000)/(('Specifications and Reduced mass'!$C$23)/1000)))-(('Net Resistance '!H6)/('Specifications and Reduced mass'!$C$49)))))*9.81 -> 0.47715437
B21: 1000 | C21: =(('Specifications and Reduced mass'!$C$17/'Specifications and Reduced mass'!$C$47))*9.81*((('Specifications and Reduced mass'!$C$32/1000)/((('Specifications and Reduced mass'!$C$31/1000)))-(('Net Resistance '!F6)/('Specifications and Reduced mass'!$C$47)))) -> 5.1826132 | D21: =(('Specifications and Reduced mass'!$C$17/'Specifications and Reduced mass'!$C$48))*9.81*((('Specifications and Reduced mass'!$C$32/1000)/((('Specifications and Reduced mass'!$C$31/1000)))-(('Net Resistance '!G6)/('Specifications and Reduced mass'!$C$48)))) -> 5.4678572 | E21: =(('Specifications and Reduced mass'!$C$17/'Specifications and Reduced mass'!$C$49))*9.81*((('Specifications and Reduced mass'!$C$32/1000)/((('Specifications and Reduced mass'!$C$31/1000)))-(('Net Resistance '!H6)/('Specifications and Reduced mass'!$C$49)))) -> 5.6078204 | F21: =(((('Specifications and Reduced mass'!$C$18)*(('Specifications and Reduced mass'!$C$17)/('Specifications and Reduced mass'!$C$47))*(((('Specifications and Reduced mass'!$C$23)/1000)-(('Specifications and Reduced mass'!$C$26)/1000))/(('Specifications and Reduced mass'!$C$23)/1000)))/((1)-(('Specifications and Reduced mass'!$C$18)*((('Specifications and Reduced mass'!$C$31)/1000)/(('Specifications and Reduced mass'!$C$23)/1000)))-(('Net Resistance '!F6)/('Specifications and Reduced mass'!$C$47)))))*9.81 -> 0.08474572 | G21: =(((('Specifications and Reduced mass'!$C$18)*(('Specifications and Reduced mass'!$C$17)/('Specifications and Reduced mass'!$C$48))*(((('Specifications and Reduced mass'!$C$23)/1000)-(('Specifications and Reduced mass'!$C$26)/1000))/(('Specifications and Reduced mass'!$C$23)/1000)))/((1)-(('Specifications and Reduced mass'!$C$18)*((('Specifications and Reduced mass'!$C$31)/1000)/(('Specifications and Reduced mass'!$C$23)/1000)))-(('Net Resistance '!G6)/('Specifications and Reduced mass'!$C$48)))))*9.81 -> 0.089669569 | H21: =(((('Specifications and Reduced mass'!$C$18)*(('Specifications and Reduced mass'!$C$17)/('Specifications and Reduced mass'!$C$49))*(((('Specifications and Reduced mass'!$C$23)/1000)-(('Specifications and Reduced mass'!$C$26)/1000))/(('Specifications and Reduced mass'!$C$23)/1000)))/((1)-(('Specifications and Reduced mass'!$C$18)*((('Specifications and Reduced mass'!$C$31)/1000)/(('Specifications and Reduced mass'!$C$23)/1000)))-(('Net Resistance '!H6)/('Specifications and Reduced mass'!$C$49)))))*9.81 -> 0.092383813 | I21: =(((('Specifications and Reduced mass'!$C$19)*(('Specifications and Reduced mass'!$C$17)/('Specifications and Reduced mass'!$C$47))*(((('Specifications and Reduced mass'!$C$23)/1000)-(('Specifications and Reduced mass'!$C$26)/1000))/(('Specifications and Reduced mass'!$C$23)/1000)))/((1)-(('Specifications and Reduced mass'!$C$19)*((('Specifications and Reduced mass'!$C$31)/1000)/(('Specifications and Reduced mass'!$C$23)/1000)))-(('Net Resistance '!F6)/('Specifications and Reduced mass'!$C$47)))))*9.81 -> 0.10614333 | J21: =(((('Specifications and Reduced mass'!$C$19)*(('Specifications and Reduced mass'!$C$17)/('Specifications and Reduced mass'!$C$48))*(((('Specifications and Reduced mass'!$C$23)/1000)-(('Specifications and Reduced mass'!$C$26)/1000))/(('Specifications and Reduced mass'!$C$23)/1000)))/((1)-(('Specifications and Reduced mass'!$C$19)*((('Specifications and Reduced mass'!$C$31)/1000)/(('Specifications and Reduced mass'!$C$23)/1000)))-(('Net Resistance '!G6)/('Specifications and Reduced mass'!$C$48)))))*9.81 -> 0.11231067 | K21: =(((('Specifications and Reduced mass'!$C$19)*(('Specifications and Reduced mass'!$C$17)/('Specifications and Reduced mass'!$C$49))*(((('Specifications and Reduced mass'!$C$23)/1000)-(('Specifications and Reduced mass'!$C$26)/1000))/(('Specifications and Reduced mass'!$C$23)/1000)))/((1)-(('Specifications and Reduced mass'!$C$19)*((('Specifications and Reduced mass'!$C$31)/1000)/(('Specifications and Reduced mass'!$C$23)/1000)))-(('Net Resistance '!H6)/('Specifications and Reduced mass'!$C$49)))))*9.81 -> 0.11571068 | L21: =(((('Specifications and Reduced mass'!$C$20)*(('Specifications and Reduced mass'!$C$17)/('Specifications and Reduced mass'!$C$47))*(((('Specifications and Reduced mass'!$C$23)/1000)-(('Specifications and Reduced mass'!$C$26)/1000))/(('Specifications and Reduced mass'!$C$23)/1000)))/((1)-(('Specifications and Reduced mass'!$C$20)*((('Specifications and Reduced mass'!$C$31)/1000)/(('Specifications and Reduced mass'!$C$23)/1000)))-(('Net Resistance '!F6)/('Specifications and Reduced mass'!$C$47)))))*9.81 -> 1.4305733 | M21: =(((('Specifications and Reduced mass'!$C$20)*(('Specifications and Reduced mass'!$C$17)/('Specifications and Reduced mass'!$C$48))*(((('Specifications and Reduced mass'!$C$23)/1000)-(('Specifications and Reduced mass'!$C$26)/1000))/(('Specifications and Reduced mass'!$C$23)/1000)))/((1)-(('Specifications and Reduced mass'!$C$20)*((('Specifications and Reduced mass'!$C$31)/1000)/(('Specifications and Reduced mass'!$C$23)/1000)))-(('Net Resistance '!G6)/('Specifications and Reduced mass'!$C$48)))))*9.81 -> 1.5139159 | N21: =(((('Specifications and Reduced mass'!$C$20)*(('Specifications and Reduced mass'!$C$17)/('Specifications and Reduced mass'!$C$49))*(((('Specifications and Reduced mass'!$C$23)/1000)-(('Specifications and Reduced mass'!$C$26)/1000))/(('Specifications and Reduced mass'!$C$23)/1000)))/((1)-(('Specifications and Reduced mass'!$C$20)*((('Specifications and Reduced mass'!$C$31)/1000)/(('Specifications and Reduced mass'!$C$23)/1000)))-(('Net Resistance '!H6)/('Specifications and Reduced mass'!$C$49)))))*9.81 -> 1.5601039 | O21: =(((('Specifications and Reduced mass'!$C$21)*(('Specifications and Reduced mass'!$C$17)/('Specifications and Reduced mass'!$C$47))*(((('Specifications and Reduced mass'!$C$23)/1000)-(('Specifications and Reduced mass'!$C$26)/1000))/(('Specifications and Reduced mass'!$C$23)/1000)))/((1)-(('Specifications and Reduced mass'!$C$21)*((('Specifications and Reduced mass'!$C$31)/1000)/(('Specifications and Reduced mass'!$C$23)/1000)))-(('Net Resistance '!F6)/('Specifications and Reduced mass'!$C$47)))))*9.81 -> 0.91283835 | P21: =(((('Specifications and Reduced mass'!$C$21)*(('Specifications and Reduced mass'!$C$17)/('Specifications and Reduced mass'!$C$48))*(((('Specifications and Reduced mass'!$C$23)/1000)-(('Specifications and Reduced mass'!$C$26)/1000))/(('Specifications and Reduced mass'!$C$23)/1000)))/((1)-(('Specifications and Reduced mass'!$C$21)*((('Specifications and Reduced mass'!$C$31)/1000)/(('Specifications and Reduced mass'!$C$23)/1000)))-(('Net Resistance '!G6)/('Specifications and Reduced mass'!$C$48)))))*9.81 -> 0.96596359 | Q21: =(((('Specifications and Reduced mass'!$C$21)*(('Specifications and Reduced mass'!$C$17)/('Specifications and Reduced mass'!$C$49))*(((('Specifications and Reduced mass'!$C$23)/1000)-(('Specifications and Reduced mass'!$C$26)/1000))/(('Specifications and Reduced mass'!$C$23)/1000)))/((1)-(('Specifications and Reduced mass'!$C$21)*((('Specifications and Reduced mass'!$C$31)/1000)/(('Specifications and Reduced mass'!$C$23)/1000)))-(('Net Resistance '!H6)/('Specifications and Reduced mass'!$C$49)))))*9.81 -> 0.9953451 | R21: =(((('Specifications and Reduced mass'!$C$22)*(('Specifications and Reduced mass'!$C$17)/('Specifications and Reduced mass'!$C$47))*(((('Specifications and Reduced mass'!$C$23)/1000)-(('Specifications and Reduced mass'!$C$26)/1000))/(('Specifications and Reduced mass'!$C$23)/1000)))/((1)-(('Specifications and Reduced mass'!$C$22)*((('Specifications and Reduced mass'!$C$31)/1000)/(('Specifications and Reduced mass'!$C$23)/1000)))-(('Net Resistance '!F7)/('Specifications and Reduced mass'!$C$47)))))*9.81 -> 0.43834592 | S21: =(((('Specifications and Reduced mass'!$C$22)*(('Specifications and Reduced mass'!$C$17)/('Specifications and Reduced mass'!$C$48))*(((('Specifications and Reduced mass'!$C$23)/1000)-(('Specifications and Reduced mass'!$C$26)/1000))/(('Specifications and Reduced mass'!$C$23)/1000)))/((1)-(('Specifications and Reduced mass'!$C$22)*((('Specifications and Reduced mass'!$C$31)/1000)/(('Specifications and Reduced mass'!$C$23)/1000)))-(('Net Resistance '!G7)/('Specifications and Reduced mass'!$C$48)))))*9.81 -> 0.46454723 | T21: =(((('Specifications and Reduced mass'!$C$22)*(('Specifications and Reduced mass'!$C$17)/('Specifications and Reduced mass'!$C$49))*(((('Specifications and Reduced mass'!$C$23)/1000)-(('Specifications and Reduced mass'!$C$26)/1000))/(('Specifications and Reduced mass'!$C$23)/1000)))/((1)-(('Specifications and Reduced mass'!$C$22)*((('Specifications and Reduced mass'!$C$31)/1000)/(('Specifications and Reduced mass'!$C$23)/1000)))-(('Net Resistance '!H7)/('Specifications and Reduced mass'!$C$49)))))*9.81 -> 0.47978746
B22: 1500 | C22: =(('Specifications and Reduced mass'!$C$17/'Specifications and Reduced mass'!$C$47))*9.81*((('Specifications and Reduced mass'!$C$32/1000)/((('Specifications and Reduced mass'!$C$31/1000)))-(('Net Resistance '!F7)/('Specifications and Reduced mass'!$C$47)))) -> 5.1711955 | D22: =(('Specifications and Reduced mass'!$C$17/'Specifications and Reduced mass'!$C$48))*9.81*((('Specifications and Reduced mass'!$C$32/1000)/((('Specifications and Reduced mass'!$C$31/1000)))-(('Net Resistance '!G7)/('Specifications and Reduced mass'!$C$48)))) -> 5.4439624 | E22: =(('Specifications and Reduced mass'!$C$17/'Specifications and Reduced mass'!$C$49))*9.81*((('Specifications and Reduced mass'!$C$32/1000)/((('Specifications and Reduced mass'!$C$31/1000)))-(('Net Resistance '!H7)/('Specifications and Reduced mass'!$C$49)))) -> 5.5643967 | F22: =(((('Specifications and Reduced mass'!$C$18)*(('Specifications and Reduced mass'!$C$17)/('Specifications and Reduced mass'!$C$47))*(((('Specifications and Reduced mass'!$C$23)/1000)-(('Specifications and Reduced mass'!$C$26)/1000))/(('Specifications and Reduced mass'!$C$23)/1000)))/((1)-(('Specifications and Reduced mass'!$C$18)*((('Specifications and Reduced mass'!$C$31)/1000)/(('Specifications and Reduced mass'!$C$23)/1000)))-(('Net Resistance '!F7)/('Specifications and Reduced mass'!$C$47)))))*9.81 -> 0.084874189 | G22: =(((('Specifications and Reduced mass'!$C$18)*(('Specifications and Reduced mass'!$C$17)/('Specifications and Reduced mass'!$C$48))*(((('Specifications and Reduced mass'!$C$23)/1000)-(('Specifications and Reduced mass'!$C$26)/1000))/(('Specifications and Reduced mass'!$C$23)/1000)))/((1)-(('Specifications and Reduced mass'!$C$18)*((('Specifications and Reduced mass'!$C$31)/1000)/(('Specifications and Reduced mass'!$C$23)/1000)))-(('Net Resistance '!G7)/('Specifications and Reduced mass'!$C$48)))))*9.81 -> 0.089939465 | H22: =(((('Specifications and Reduced mass'!$C$18)*(('Specifications and Reduced mass'!$C$17)/('Specifications and Reduced mass'!$C$49))*(((('Specifications and Reduced mass'!$C$23)/1000)-(('Specifications and Reduced mass'!$C$26)/1000))/(('Specifications and Reduced mass'!$C$23)/1000)))/((1)-(('Specifications and Reduced mass'!$C$18)*((('Specifications and Reduced mass'!$C$31)/1000)/(('Specifications and Reduced mass'!$C$23)/1000)))-(('Net Resistance '!H7)/('Specifications and Reduced mass'!$C$49)))))*9.81 -> 0.092877253 | I22: =(((('Specifications and Reduced mass'!$C$19)*(('Specifications and Reduced mass'!$C$17)/('Specifications and Reduced mass'!$C$47))*(((('Specifications and Reduced mass'!$C$23)/1000)-(('Specifications and Reduced mass'!$C$26)/1000))/(('Specifications and Reduced mass'!$C$23)/1000)))/((1)-(('Specifications and Reduced mass'!$C$19)*((('Specifications and Reduced mass'!$C$31)/1000)/(('Specifications and Reduced mass'!$C$23)/1000)))-(('Net Resistance '!F7)/('Specifications and Reduced mass'!$C$47)))))*9.81 -> 0.10630456 | J22: =(((('Specifications and Reduced mass'!$C$19)*(('Specifications and Reduced mass'!$C$17)/('Specifications and Reduced mass'!$C$48))*(((('Specifications and Reduced mass'!$C$23)/1000)-(('Specifications and Reduced mass'!$C$26)/1000))/(('Specifications and Reduced mass'!$C$23)/1000)))/((1)-(('Specifications and Reduced mass'!$C$19)*((('Specifications and Reduced mass'!$C$31)/1000)/(('Specifications and Reduced mass'!$C$23)/1000)))-(('Net Resistance '!G7)/('Specifications and Reduced mass'!$C$48)))))*9.81 -> 0.11264939 | K22: =(((('Specifications and Reduced mass'!$C$19)*(('Specifications and Reduced mass'!$C$17)/('Specifications and Reduced mass'!$C$49))*(((('Specifications and Reduced mass'!$C$23)/1000)-(('Specifications and Reduced mass'!$C$26)/1000))/(('Specifications and Reduced mass'!$C$23)/1000)))/((1)-(('Specifications and Reduced mass'!$C$19)*((('Specifications and Reduced mass'!$C$31)/1000)/(('Specifications and Reduced mass'!$C$23)/1000)))-(('Net Resistance '!H7)/('Specifications and Reduced mass'!$C$49)))))*9.81 -> 0.11632995 | L22: =(((('Specifications and Reduced mass'!$C$20)*(('Specifications and Reduced mass'!$C$17)/('Specifications and Reduced mass'!$C$47))*(((('Specifications and Reduced mass'!$C$23)/1000)-(('Specifications and Reduced mass'!$C$26)/1000))/(('Specifications and Reduced mass'!$C$23)/1000)))/((1)-(('Specifications and Reduced mass'!$C$20)*((('Specifications and Reduced mass'!$C$31)/1000)/(('Specifications and Reduced mass'!$C$23)/1000)))-(('Net Resistance '!F7)/('Specifications and Reduced mass'!$C$47)))))*9.81 -> 1.4330144 | M22: =(((('Specifications and Reduced mass'!$C$20)*(('Specifications and Reduced mass'!$C$17)/('Specifications and Reduced mass'!$C$48))*(((('Specifications and Reduced mass'!$C$23)/1000)-(('Specifications and Reduced mass'!$C$26)/1000))/(('Specifications and Reduced mass'!$C$23)/1000)))/((1)-(('Specifications and Reduced mass'!$C$20)*((('Specifications and Reduced mass'!$C$31)/1000)/(('Specifications and Reduced mass'!$C$23)/1000)))-(('Net Resistance '!G7)/('Specifications and Reduced mass'!$C$48)))))*9.81 -> 1.5190467 | N22: =(((('Specifications and Reduced mass'!$C$20)*(('Specifications and Reduced mass'!$C$17)/('Specifications and Reduced mass'!$C$49))*(((('Specifications and Reduced mass'!$C$23)/1000)-(('Specifications and Reduced mass'!$C$26)/1000))/(('Specifications and Reduced mass'!$C$23)/1000)))/((1)-(('Specifications and Reduced mass'!$C$20)*((('Specifications and Reduced mass'!$C$31)/1000)/(('Specifications and Reduced mass'!$C$23)/1000)))-(('Net Resistance '!H7)/('Specifications and Reduced mass'!$C$49)))))*9.81 -> 1.5694914 | O22: =(((('Specifications and Reduced mass'!$C$21)*(('Specifications and Reduced mass'!$C$17)/('Specifications and Reduced mass'!$C$47))*(((('Specifications and Reduced mass'!$C$23)/1000)-(('Specifications and Reduced mass'!$C$26)/1000))/(('Specifications and Reduced mass'!$C$23)/1000)))/((1)-(('Specifications and Reduced mass'!$C$21)*((('Specifications and Reduced mass'!$C$31)/1000)/(('Specifications and Reduced mass'!$C$23)/1000)))-(('Net Resistance '!F7)/('Specifications and Reduced mass'!$C$47)))))*9.81 -> 0.91432909 | P22: =(((('Specifications and Reduced mass'!$C$21)*(('Specifications and Reduced mass'!$C$17)/('Specifications and Reduced mass'!$C$48))*(((('Specifications and Reduced mass'!$C$23)/1000)-(('Specifications and Reduced mass'!$C$26)/1000))/(('Specifications and Reduced mass'!$C$23)/1000)))/((1)-(('Specifications and Reduced mass'!$C$21)*((('Specifications and Reduced mass'!$C$31)/1000)/(('Specifications and Reduced mass'!$C$23)/1000)))-(('Net Resistance '!G7)/('Specifications and Reduced mass'!$C$48)))))*9.81 -> 0.96909636 | Q22: =(((('Specifications and Reduced mass'!$C$21)*(('Specifications and Reduced mass'!$C$17)/('Specifications and Reduced mass'!$C$49))*(((('Specifications and Reduced mass'!$C$23)/1000)-(('Specifications and Reduced mass'!$C$26)/1000))/(('Specifications and Reduced mass'!$C$23)/1000)))/((1)-(('Specifications and Reduced mass'!$C$21)*((('Specifications and Reduced mass'!$C$31)/1000)/(('Specifications and Reduced mass'!$C$23)/1000)))-(('Net Resistance '!H7)/('Specifications and Reduced mass'!$C$49)))))*9.81 -> 1.0010753 | R22: =(((('Specifications and Reduced mass'!$C$22)*(('Specifications and Reduced mass'!$C$17)/('Specifications and Reduced mass'!$C$47))*(((('Specifications and Reduced mass'!$C$23)/1000)-(('Specifications and Reduced mass'!$C$26)/1000))/(('Specifications and Reduced mass'!$C$23)/1000)))/((1)-(('Specifications and Reduced mass'!$C$22)*((('Specifications and Reduced mass'!$C$31)/1000)/(('Specifications and Reduced mass'!$C$23)/1000)))-(('Net Resistance '!F8)/('Specifications and Reduced mass'!$C$47)))))*9.81 -> 0.43932473 | S22: =(((('Specifications and Reduced mass'!$C$22)*(('Specifications and Reduced mass'!$C$17)/('Specifications and Reduced mass'!$C$48))*(((('Specifications and Reduced mass'!$C$23)/1000)-(('Specifications and Reduced mass'!$C$26)/1000))/(('Specifications and Reduced mass'!$C$23)/1000)))/((1)-(('Specifications and Reduced mass'!$C$22)*((('Specifications and Reduced mass'!$C$31)/1000)/(('Specifications and Reduced mass'!$C$23)/1000)))-(('Net Resistance '!G8)/('Specifications and Reduced mass'!$C$48)))))*9.81 -> 0.46660551 | T22: =(((('Specifications and Reduced mass'!$C$22)*(('Specifications and Reduced mass'!$C$17)/('Specifications and Reduced mass'!$C$49))*(((('Specifications and Reduced mass'!$C$23)/1000)-(('Specifications and Reduced mass'!$C$26)/1000))/(('Specifications and Reduced mass'!$C$23)/1000)))/((1)-(('Specifications and Reduced mass'!$C$22)*((('Specifications and Reduced mass'!$C$31)/1000)/(('Specifications and Reduced mass'!$C$23)/1000)))-(('Net Resistance '!H8)/('Specifications and Reduced mass'!$C$49)))))*9.81 -> 0.48356135
B23: 2000 | C23: =(('Specifications and Reduced mass'!$C$17/'Specifications and Reduced mass'!$C$47))*9.81*((('Specifications and Reduced mass'!$C$32/1000)/((('Specifications and Reduced mass'!$C$31/1000)))-(('Net Resistance '!F8)/('Specifications and Reduced mass'!$C$47)))) -> 5.1549499 | D23: =(('Specifications and Reduced mass'!$C$17/'Specifications and Reduced mass'!$C$48))*9.81*((('Specifications and Reduced mass'!$C$32/1000)/((('Specifications and Reduced mass'!$C$31/1000)))-(('Net Resistance '!G8)/('Specifications and Reduced mass'!$C$48)))) -> 5.4100627 | E23: =(('Specifications and Reduced mass'!$C$17/'Specifications and Reduced mass'!$C$49))*9.81*((('Specifications and Reduced mass'!$C$32/1000)/((('Specifications and Reduced mass'!$C$31/1000)))-(('Net Resistance '!H8)/('Specifications and Reduced mass'!$C$49)))) -> 5.5029844 | F23: =(((('Specifications and Reduced mass'!$C$18)*(('Specifications and Reduced mass'!$C$17)/('Specifications and Reduced mass'!$C$47))*(((('Specifications and Reduced mass'!$C$23)/1000)-(('Specifications and Reduced mass'!$C$26)/1000))/(('Specifications and Reduced mass'!$C$23)/1000)))/((1)-(('Specifications and Reduced mass'!$C$18)*((('Specifications and Reduced mass'!$C$31)/1000)/(('Specifications and Reduced mass'!$C$23)/1000)))-(('Net Resistance '!F8)/('Specifications and Reduced mass'!$C$47)))))*9.81 -> 0.085057655 | G23: =(((('Specifications and Reduced mass'!$C$18)*(('Specifications and Reduced mass'!$C$17)/('Specifications and Reduced mass'!$C$48))*(((('Specifications and Reduced mass'!$C$23)/1000)-(('Specifications and Reduced mass'!$C$26)/1000))/(('Specifications and Reduced mass'!$C$23)/1000)))/((1)-(('Specifications and Reduced mass'!$C$18)*((('Specifications and Reduced mass'!$C$31)/1000)/(('Specifications and Reduced mass'!$C$23)/1000)))-(('Net Resistance '!G8)/('Specifications and Reduced mass'!$C$48)))))*9.81 -> 0.090325167 | H23: =(((('Specifications and Reduced mass'!$C$18)*(('Specifications and Reduced mass'!$C$17)/('Specifications and Reduced mass'!$C$49))*(((('Specifications and Reduced mass'!$C$23)/1000)-(('Specifications and Reduced mass'!$C$26)/1000))/(('Specifications and Reduced mass'!$C$23)/1000)))/((1)-(('Specifications and Reduced mass'!$C$18)*((('Specifications and Reduced mass'!$C$31)/1000)/(('Specifications and Reduced mass'!$C$23)/1000)))-(('Net Resistance '!H8)/('Specifications and Reduced mass'!$C$49)))))*9.81 -> 0.093584172 | I23: =(((('Specifications and Reduced mass'!$C$19)*(('Specifications and Reduced mass'!$C$17)/('Specifications and Reduced mass'!$C$47))*(((('Specifications and Reduced mass'!$C$23)/1000)-(('Specifications and Reduced mass'!$C$26)/1000))/(('Specifications and Reduced mass'!$C$23)/1000)))/((1)-(('Specifications and Reduced mass'!$C$19)*((('Specifications and Reduced mass'!$C$31)/1000)/(('Specifications and Reduced mass'!$C$23)/1000)))-(('Net Resistance '!F8)/('Specifications and Reduced mass'!$C$47)))))*9.81 -> 0.10653481 | J23: =(((('Specifications and Reduced mass'!$C$19)*(('Specifications and Reduced mass'!$C$17)/('Specifications and Reduced mass'!$C$48))*(((('Specifications and Reduced mass'!$C$23)/1000)-(('Specifications and Reduced mass'!$C$26)/1000))/(('Specifications and Reduced mass'!$C$23)/1000)))/((1)-(('Specifications and Reduced mass'!$C$19)*((('Specifications and Reduced mass'!$C$31)/1000)/(('Specifications and Reduced mass'!$C$23)/1000)))-(('Net Resistance '!G8)/('Specifications and Reduced mass'!$C$48)))))*9.81 -> 0.11313346 | K23: =(((('Specifications and Reduced mass'!$C$19)*(('Specifications and Reduced mass'!$C$17)/('Specifications and Reduced mass'!$C$49))*(((('Specifications and Reduced mass'!$C$23)/1000)-(('Specifications and Reduced mass'!$C$26)/1000))/(('Specifications and Reduced mass'!$C$23)/1000)))/((1)-(('Specifications and Reduced mass'!$C$19)*((('Specifications and Reduced mass'!$C$31)/1000)/(('Specifications and Reduced mass'!$C$23)/1000)))-(('Net Resistance '!H8)/('Specifications and Reduced mass'!$C$49)))))*9.81 -> 0.11721717 | L23: =(((('Specifications and Reduced mass'!$C$20)*(('Specifications and Reduced mass'!$C$17)/('Specifications and Reduced mass'!$C$47))*(((('Specifications and Reduced mass'!$C$23)/1000)-(('Specifications and Reduced mass'!$C$26)/1000))/(('Specifications and Reduced mass'!$C$23)/1000)))/((1)-(('Specifications and Reduced mass'!$C$20)*((('Specifications and Reduced mass'!$C$31)/1000)/(('Specifications and Reduced mass'!$C$23)/1000)))-(('Net Resistance '!F8)/('Specifications and Reduced mass'!$C$47)))))*9.81 -> 1.436502 | M23: =(((('Specifications and Reduced mass'!$C$20)*(('Specifications and Reduced mass'!$C$17)/('Specifications and Reduced mass'!$C$48))*(((('Specifications and Reduced mass'!$C$23)/1000)-(('Specifications and Reduced mass'!$C$26)/1000))/(('Specifications and Reduced mass'!$C$23)/1000)))/((1)-(('Specifications and Reduced mass'!$C$20)*((('Specifications and Reduced mass'!$C$31)/1000)/(('Specifications and Reduced mass'!$C$23)/1000)))-(('Net Resistance '!G8)/('Specifications and Reduced mass'!$C$48)))))*9.81 -> 1.5263857 | N23: =(((('Specifications and Reduced mass'!$C$20)*(('Specifications and Reduced mass'!$C$17)/('Specifications and Reduced mass'!$C$49))*(((('Specifications and Reduced mass'!$C$23)/1000)-(('Specifications and Reduced mass'!$C$26)/1000))/(('Specifications and Reduced mass'!$C$23)/1000)))/((1)-(('Specifications and Reduced mass'!$C$20)*((('Specifications and Reduced mass'!$C$31)/1000)/(('Specifications and Reduced mass'!$C$23)/1000)))-(('Net Resistance '!H8)/('Specifications and Reduced mass'!$C$49)))))*9.81 -> 1.5829623 | O23: =(((('Specifications and Reduced mass'!$C$21)*(('Specifications and Reduced mass'!$C$17)/('Specifications and Reduced mass'!$C$47))*(((('Specifications and Reduced mass'!$C$23)/1000)-(('Specifications and Reduced mass'!$C$26)/1000))/(('Specifications and Reduced mass'!$C$23)/1000)))/((1)-(('Specifications and Reduced mass'!$C$21)*((('Specifications and Reduced mass'!$C$31)/1000)/(('Specifications and Reduced mass'!$C$23)/1000)))-(('Net Resistance '!F8)/('Specifications and Reduced mass'!$C$47)))))*9.81 -> 0.9164586 | P23: =(((('Specifications and Reduced mass'!$C$21)*(('Specifications and Reduced mass'!$C$17)/('Specifications and Reduced mass'!$C$48))*(((('Specifications and Reduced mass'!$C$23)/1000)-(('Specifications and Reduced mass'!$C$26)/1000))/(('Specifications and Reduced mass'!$C$23)/1000)))/((1)-(('Specifications and Reduced mass'!$C$21)*((('Specifications and Reduced mass'!$C$31)/1000)/(('Specifications and Reduced mass'!$C$23)/1000)))-(('Net Resistance '!G8)/('Specifications and Reduced mass'!$C$48)))))*9.81 -> 0.97357587 | Q23: =(((('Specifications and Reduced mass'!$C$21)*(('Specifications and Reduced mass'!$C$17)/('Specifications and Reduced mass'!$C$49))*(((('Specifications and Reduced mass'!$C$23)/1000)-(('Specifications and Reduced mass'!$C$26)/1000))/(('Specifications and Reduced mass'!$C$23)/1000)))/((1)-(('Specifications and Reduced mass'!$C$21)*((('Specifications and Reduced mass'!$C$31)/1000)/(('Specifications and Reduced mass'!$C$23)/1000)))-(('Net Resistance '!H8)/('Specifications and Reduced mass'!$C$49)))))*9.81 -> 1.0092928 | R23: =(((('Specifications and Reduced mass'!$C$22)*(('Specifications and Reduced mass'!$C$17)/('Specifications and Reduced mass'!$C$47))*(((('Specifications and Reduced mass'!$C$23)/1000)-(('Specifications and Reduced mass'!$C$26)/1000))/(('Specifications and Reduced mass'!$C$23)/1000)))/((1)-(('Specifications and Reduced mass'!$C$22)*((('Specifications and Reduced mass'!$C$31)/1000)/(('Specifications and Reduced mass'!$C$23)/1000)))-(('Net Resistance '!F9)/('Specifications and Reduced mass'!$C$47)))))*9.81 -> 0.44059106 | S23: =(((('Specifications and Reduced mass'!$C$22)*(('Specifications and Reduced mass'!$C$17)/('Specifications and Reduced mass'!$C$48))*(((('Specifications and Reduced mass'!$C$23)/1000)-(('Specifications and Reduced mass'!$C$26)/1000))/(('Specifications and Reduced mass'!$C$23)/1000)))/((1)-(('Specifications and Reduced mass'!$C$22)*((('Specifications and Reduced mass'!$C$31)/1000)/(('Specifications and Reduced mass'!$C$23)/1000)))-(('Net Resistance '!G9)/('Specifications and Reduced mass'!$C$48)))))*9.81 -> 0.46924489 | T23: =(((('Specifications and Reduced mass'!$C$22)*(('Specifications and Reduced mass'!$C$17)/('Specifications and Reduced mass'!$C$49))*(((('Specifications and Reduced mass'!$C$23)/1000)-(('Specifications and Reduced mass'!$C$26)/1000))/(('Specifications and Reduced mass'!$C$23)/1000)))/((1)-(('Specifications and Reduced mass'!$C$22)*((('Specifications and Reduced mass'!$C$31)/1000)/(('Specifications and Reduced mass'!$C$23)/1000)))-(('Net Resistance '!H9)/('Specifications and Reduced mass'!$C$49)))))*9.81 -> 0.48845346
B24: 2500 | C24: =(('Specifications and Reduced mass'!$C$17/'Specifications and Reduced mass'!$C$47))*9.81*((('Specifications and Reduced mass'!$C$32/1000)/((('Specifications and Reduced mass'!$C$31/1000)))-(('Net Resistance '!F9)/('Specifications and Reduced mass'!$C$47)))) -> 5.1340392 | D24: =(('Specifications and Reduced mass'!$C$17/'Specifications and Reduced mass'!$C$48))*9.81*((('Specifications and Reduced mass'!$C$32/1000)/((('Specifications and Reduced mass'!$C$31/1000)))-(('Net Resistance '!G9)/('Specifications and Reduced mass'!$C$48)))) -> 5.3670273 | E24: =(('Specifications and Reduced mass'!$C$17/'Specifications and Reduced mass'!$C$49))*9.81*((('Specifications and Reduced mass'!$C$32/1000)/((('Specifications and Reduced mass'!$C$31/1000)))-(('Net Resistance '!H9)/('Specifications and Reduced mass'!$C$49)))) -> 5.4247876 | F24: =(((('Specifications and Reduced mass'!$C$18)*(('Specifications and Reduced mass'!$C$17)/('Specifications and Reduced mass'!$C$47))*(((('Specifications and Reduced mass'!$C$23)/1000)-(('Specifications and Reduced mass'!$C$26)/1000))/(('Specifications and Reduced mass'!$C$23)/1000)))/((1)-(('Specifications and Reduced mass'!$C$18)*((('Specifications and Reduced mass'!$C$31)/1000)/(('Specifications and Reduced mass'!$C$23)/1000)))-(('Net Resistance '!F9)/('Specifications and Reduced mass'!$C$47)))))*9.81 -> 0.085294973 | G24: =(((('Specifications and Reduced mass'!$C$18)*(('Specifications and Reduced mass'!$C$17)/('Specifications and Reduced mass'!$C$48))*(((('Specifications and Reduced mass'!$C$23)/1000)-(('Specifications and Reduced mass'!$C$26)/1000))/(('Specifications and Reduced mass'!$C$23)/1000)))/((1)-(('Specifications and Reduced mass'!$C$18)*((('Specifications and Reduced mass'!$C$31)/1000)/(('Specifications and Reduced mass'!$C$23)/1000)))-(('Net Resistance '!G9)/('Specifications and Reduced mass'!$C$48)))))*9.81 -> 0.090819604 | H24: =(((('Specifications and Reduced mass'!$C$18)*(('Specifications and Reduced mass'!$C$17)/('Specifications and Reduced mass'!$C$49))*(((('Specifications and Reduced mass'!$C$23)/1000)-(('Specifications and Reduced mass'!$C$26)/1000))/(('Specifications and Reduced mass'!$C$23)/1000)))/((1)-(('Specifications and Reduced mass'!$C$18)*((('Specifications and Reduced mass'!$C$31)/1000)/(('Specifications and Reduced mass'!$C$23)/1000)))-(('Net Resistance '!H9)/('Specifications and Reduced mass'!$C$49)))))*9.81 -> 0.094500025 | I24: =(((('Specifications and Reduced mass'!$C$19)*(('Specifications and Reduced mass'!$C$17)/('Specifications and Reduced mass'!$C$47))*(((('Specifications and Reduced mass'!$C$23)/1000)-(('Specifications and Reduced mass'!$C$26)/1000))/(('Specifications and Reduced mass'!$C$23)/1000)))/((1)-(('Specifications and Reduced mass'!$C$19)*((('Specifications and Reduced mass'!$C$31)/1000)/(('Specifications and Reduced mass'!$C$23)/1000)))-(('Net Resistance '!F9)/('Specifications and Reduced mass'!$C$47)))))*9.81 -> 0.10683264 | J24: =(((('Specifications and Reduced mass'!$C$19)*(('Specifications and Reduced mass'!$C$17)/('Specifications and Reduced mass'!$C$48))*(((('Specifications and Reduced mass'!$C$23)/1000)-(('Specifications and Reduced mass'!$C$26)/1000))/(('Specifications and Reduced mass'!$C$23)/1000)))/((1)-(('Specifications and Reduced mass'!$C$19)*((('Specifications and Reduced mass'!$C$31)/1000)/(('Specifications and Reduced mass'!$C$23)/1000)))-(('Net Resistance '!G9)/('Specifications and Reduced mass'!$C$48)))))*9.81 -> 0.113754 | K24: =(((('Specifications and Reduced mass'!$C$19)*(('Specifications and Reduced mass'!$C$17)/('Specifications and Reduced mass'!$C$49))*(((('Specifications and Reduced mass'!$C$23)/1000)-(('Specifications and Reduced mass'!$C$26)/1000))/(('Specifications and Reduced mass'!$C$23)/1000)))/((1)-(('Specifications and Reduced mass'!$C$19)*((('Specifications and Reduced mass'!$C$31)/1000)/(('Specifications and Reduced mass'!$C$23)/1000)))-(('Net Resistance '!H9)/('Specifications and Reduced mass'!$C$49)))))*9.81 -> 0.11836665 | L24: =(((('Specifications and Reduced mass'!$C$20)*(('Specifications and Reduced mass'!$C$17)/('Specifications and Reduced mass'!$C$47))*(((('Specifications and Reduced mass'!$C$23)/1000)-(('Specifications and Reduced mass'!$C$26)/1000))/(('Specifications and Reduced mass'!$C$23)/1000)))/((1)-(('Specifications and Reduced mass'!$C$20)*((('Specifications and Reduced mass'!$C$31)/1000)/(('Specifications and Reduced mass'!$C$23)/1000)))-(('Net Resistance '!F9)/('Specifications and Reduced mass'!$C$47)))))*9.81 -> 1.4410162 | M24: =(((('Specifications and Reduced mass'!$C$20)*(('Specifications and Reduced mass'!$C$17)/('Specifications and Reduced mass'!$C$48))*(((('Specifications and Reduced mass'!$C$23)/1000)-(('Specifications and Reduced mass'!$C$26)/1000))/(('Specifications and Reduced mass'!$C$23)/1000)))/((1)-(('Specifications and Reduced mass'!$C$20)*((('Specifications and Reduced mass'!$C$31)/1000)/(('Specifications and Reduced mass'!$C$23)/1000)))-(('Net Resistance '!G9)/('Specifications and Reduced mass'!$C$48)))))*9.81 -> 1.5358053 | N24: =(((('Specifications and Reduced mass'!$C$20)*(('Specifications and Reduced mass'!$C$17)/('Specifications and Reduced mass'!$C$49))*(((('Specifications and Reduced mass'!$C$23)/1000)-(('Specifications and Reduced mass'!$C$26)/1000))/(('Specifications and Reduced mass'!$C$23)/1000)))/((1)-(('Specifications and Reduced mass'!$C$20)*((('Specifications and Reduced mass'!$C$31)/1000)/(('Specifications and Reduced mass'!$C$23)/1000)))-(('Net Resistance '!H9)/('Specifications and Reduced mass'!$C$49)))))*9.81 -> 1.6004533 | O24: =(((('Specifications and Reduced mass'!$C$21)*(('Specifications and Reduced mass'!$C$17)/('Specifications and Reduced mass'!$C$47))*(((('Specifications and Reduced mass'!$C$23)/1000)-(('Specifications and Reduced mass'!$C$26)/1000))/(('Specifications and Reduced mass'!$C$23)/1000)))/((1)-(('Specifications and Reduced mass'!$C$21)*((('Specifications and Reduced mass'!$C$31)/1000)/(('Specifications and Reduced mass'!$C$23)/1000)))-(('Net Resistance '!F9)/('Specifications and Reduced mass'!$C$47)))))*9.81 -> 0.91921426 | P24: =(((('Specifications and Reduced mass'!$C$21)*(('Specifications and Reduced mass'!$C$17)/('Specifications and Reduced mass'!$C$48))*(((('Specifications and Reduced mass'!$C$23)/1000)-(('Specifications and Reduced mass'!$C$26)/1000))/(('Specifications and Reduced mass'!$C$23)/1000)))/((1)-(('Specifications and Reduced mass'!$C$21)*((('Specifications and Reduced mass'!$C$31)/1000)/(('Specifications and Reduced mass'!$C$23)/1000)))-(('Net Resistance '!G9)/('Specifications and Reduced mass'!$C$48)))))*9.81 -> 0.97932257 | Q24: =(((('Specifications and Reduced mass'!$C$21)*(('Specifications and Reduced mass'!$C$17)/('Specifications and Reduced mass'!$C$49))*(((('Specifications and Reduced mass'!$C$23)/1000)-(('Specifications and Reduced mass'!$C$26)/1000))/(('Specifications and Reduced mass'!$C$23)/1000)))/((1)-(('Specifications and Reduced mass'!$C$21)*((('Specifications and Reduced mass'!$C$31)/1000)/(('Specifications and Reduced mass'!$C$23)/1000)))-(('Net Resistance '!H9)/('Specifications and Reduced mass'!$C$49)))))*9.81 -> 1.0199536 | R24: =(((('Specifications and Reduced mass'!$C$22)*(('Specifications and Reduced mass'!$C$17)/('Specifications and Reduced mass'!$C$47))*(((('Specifications and Reduced mass'!$C$23)/1000)-(('Specifications and Reduced mass'!$C$26)/1000))/(('Specifications and Reduced mass'!$C$23)/1000)))/((1)-(('Specifications and Reduced mass'!$C$22)*((('Specifications and Reduced mass'!$C$31)/1000)/(('Specifications and Reduced mass'!$C$23)/1000)))-(('Net Resistance '!F10)/('Specifications and Reduced mass'!$C$47)))))*9.81 -> 0.44214985 | S24: =(((('Specifications and Reduced mass'!$C$22)*(('Specifications and Reduced mass'!$C$17)/('Specifications and Reduced mass'!$C$48))*(((('Specifications and Reduced mass'!$C$23)/1000)-(('Specifications and Reduced mass'!$C$26)/1000))/(('Specifications and Reduced mass'!$C$23)/1000)))/((1)-(('Specifications and Reduced mass'!$C$22)*((('Specifications and Reduced mass'!$C$31)/1000)/(('Specifications and Reduced mass'!$C$23)/1000)))-(('Net Resistance '!G10)/('Specifications and Reduced mass'!$C$48)))))*9.81 -> 0.4725082 | T24: =(((('Specifications and Reduced mass'!$C$22)*(('Specifications and Reduced mass'!$C$17)/('Specifications and Reduced mass'!$C$49))*(((('Specifications and Reduced mass'!$C$23)/1000)-(('Specifications and Reduced mass'!$C$26)/1000))/(('Specifications and Reduced mass'!$C$23)/1000)))/((1)-(('Specifications and Reduced mass'!$C$22)*((('Specifications and Reduced mass'!$C$31)/1000)/(('Specifications and Reduced mass'!$C$23)/1000)))-(('Net Resistance '!H10)/('Specifications and Reduced mass'!$C$49)))))*9.81 -> 0.49463075
