Workbook

Sheet Specifications and Reduced mass
B2: ACEA7007-Hybrid Powertrain and Control
B3: Series Hybrid Vehicle(CW1)
B5: Renegade Data/ Test Specifications | D5: Gear Ratios | E5: Input | F5: Output | G5: Ratio | H5: Overall Ratio | I5: Top Speed(km/hr) | J5: Top Speed (m/s)
B6: Engine Speed(Max)(RPM) | C6: 6500 | D6: 1st | E6: 11 | F6: 29 | G6: =F6/E6 -> 2.6363636 | H6: =G10*G9*G6 -> 22.729221 | I6: =C6*C13/(H6*2652) -> 27.389809 | J6: =I6/3.6 -> 7.6082803
B7: Torque(Max) | C7: 22 | D7: 2nd | E7: 15 | F7: 29 | G7: =F7/E7 -> 1.9333333 | H7: =G10*G9*G7 -> 16.668095 | I7: =C6*C13/(H7*2652) -> 37.34974 | J7: =I7/3.6 -> 10.374928
B8: Power Developed | C8: 18000 W | D8: 3rd | E8: 21 | F8: 31 | G8: =F8/E8 -> 1.4761905 | H8: =G9*G10*G8 -> 12.726871 | I8: =C6*C13/(H8*2652) -> 48.916111 | J8: =I8/3.6 -> 13.587809
B9: Frontal Area (Tyre+Body)(m^2) | C9: 1.151 | D9: Final Drive | E9: 15 | F9: 51 | G9: =F9/E9 -> 3.4 | H9: NA | I9: NA | J9: NA
B10: Coefficient of Drag | C10: 0.95 | D10: Primary Drive | E10: 28 | F10: 71 | G10: =F10/E10 -> 2.5357143 | H10: NA | I10: NA | J10: NA
B11: Air Density | C11: 1.167
B12: Front Wheel Radius (mm) | C12: 304.8 | D12: Forces Acting(N) | E12: Aero Drag (N) | F12: Rolling resistance (Asphalt)(N) | G12: Rolling resistance (Gravel)(N) | H12: Rolling resistance (Sand)(N) | I12: Rolling resistance (Mud)(N) | J12: Rolling resistance (Loose Soil )(N) | K12: Gradient Resistance(Sector 2)
B13: Rear wheel Radius (mm) | C13: 254 | D13: Gear 1 | E13: =0.5*C11*C10*C9*J6^2 -> 36.932848 | F13: =C18*C17*9.81 -> 103.005 | G13: =$C$19*9.81*$C$17 -> 128.75625 | H13: =C$20*9.81*C$17 -> 1545.075 | I13: =C$21*9.81*C$17 -> 1030.05 | J13: =9.81*C$22*C$17 -> 515.025 | K13: 2163.96
B14: Driver + Passenger (kg) | C14: 144 | D14: Gear 2 | E14: =0.5*C11*C10*C9*J7^2 -> 68.676784 | F14: 103 | G14: =$C$19*9.81*$C$17 -> 128.75625 | H14: =C$20*9.81*C$17 -> 1545.075 | I14: =C$21*9.81*C$17 -> 1030.05 | J14: =9.81*C$22*C$17 -> 515.025 | K14: 2163.96
B15: Fuel + Oil(kg) | C15: 16.11 | D15: Gear 3 | E15: =0.5*C11*C10*C9*J8^2 -> 117.79819 | F15: 103 | G15: =$C$19*9.81*$C$17 -> 128.75625 | H15: =C$20*9.81*C$17 -> 1545.075 | I15: =C$21*9.81*C$17 -> 1030.05 | J15: =9.81*C$22*C$17 -> 515.025 | K15: 2163.96
B16: Kerb Weight(Kg) | C16: 345 | D16: Total Resistance(N) | F16: Total Resistance Sector 1 | G16: Total Resistance Sector 2 | H16: Total Resistance Sector 3 | I16: Total Resistance Sector 4 | J16: Total Resistance Sector 5
B17: Test Mass(kg) | C17: 525 | D17: Gear 1 | F17: =E13+F13 -> 139.93785 | G17: =E$13+G$13+K$13 -> 2329.6491 | H17: =E13+H13 -> 1582.0078 | I17: =E13+I13 -> 1066.9828 | J17: =E13+J13 -> 551.95785
B18: μR(Asphalt) | C18: 0.02 | D18: Gear 2 | F18: =E14+F14 -> 171.67678 | G18: =E14+G14+K14 -> 2361.393 | H18: =E14+H14 -> 1613.7518 | I18: =E14+I14 -> 1098.7268 | J18: =E14+J14 -> 583.70178
B19: μR(Gravel) | C19: 0.025 | D19: Gear 3 | F19: =E15+F15 -> 220.79819 | G19: =E15+G15+K15 -> 2410.5144 | H19: =E15+H15 -> 1662.8732 | I19: =E15+I15 -> 1147.8482 | J19: =E15+J15 -> 632.82319
B20: μR(Sand) | C20: 0.3 | D20: Power Required(W) | F20: Sector 1 | G20: Sector 2 | H20: Sector 3 | I20: Sector 4 | J20: Sector 5
B21: μR(Mud) | C21: 0.2 | D21: Gear 1 | F21: =F17*J6 -> 1064.6864 | G21: =G$17*J$6 -> 17724.623 | H21: =H17*J6 -> 12036.359 | I21: =J6*I17 -> 8117.9046 | J21: =J17*J6 -> 4199.45
B22: μR(Loose Soil) | C22: 0.1 | D22: Gear 2 | F22: =F18*J7 -> 1781.1342 | G22: =G18*J7 -> 24499.282 | H22: =H18*J7 -> 16742.558 | I22: =I18*J7 -> 11399.211 | J22: =J7*J18 -> 6055.8638
B23: Wheelbase (mm) | C23: 1940 | D23: Gear 3 | F23: =F19*J8 -> 3000.1636 | G23: =G19*J8 -> 32753.609 | H23: =J8*H19 -> 22594.803 | I23: =I19*J8 -> 15596.741 | J23: =J8*J19 -> 8598.6804
B24: Height of COG from Ground(mm) | C24: 488
B25: Distance of COG from Front Wheel Centre | C25: 1070
B26: Distance of COG from Rear Wheel Centre | C26: 870 | E26: Radius (m) | F26: Inertia (Kgm^2) | G26: Transmission Ratio | H26: Velocity Ratio | I26: Crankshaft(Velocity Ratio) | J26: Gearbox (Velocity Ratio )
B27: Angle of Buggy Lifted ( Degrees) | C27: 18 | D27: Front Wheel | E27: 0.304 | F27: 1.25 | G27: - | H27: =1/E27 -> 3.2894737 | I27: - | J27: -
B28: Angle of Buggy Lifted (Radians) | C28: =C27*(PI()/180) -> 0.31415927 | D28: Rear Wheel | E28: 0.254 | F28: 0.87 | G28: - | H28: =1/E28 -> 3.9370079 | I28: - | J28: -
B29: Load on Rear Wheel (Kg) | C29: 207 | D29: Crankshaft | F29: 0.06 | G29: 2.536 | H29: - | I29: - | J29: -
B30: Load on Rear Wheel Lifted (Kg) | C30: 193 | D30: Gearbox Output Shaft | F30: 0.02 | G30: 3.4 | H30: =(1/E28)*G30 -> 13.385827 | I30: - | J30: -
B31: YCOG | C31: =(C29*C23)/C17 -> 764.91429 | D31: Gearbox Input Shaft(Gear 1) | F31: 0.05 | G31: 2.636 | H31: =G30*G31*1/E28 -> 35.285039 | I31: =G31*G30*G29*1/E28 -> 89.48286 | J31: =G6*G30*1/E28 -> 35.289907
B32: XCOG | C32: =(C23*(C29-C30))/(C16*TAN(C28))+279.4 -> 521.68952 | D32: Gearbox Input Shaft(Gear 2) | F32: 0.05 | G32: 1.933 | H32: =G32*G30*1/E28 -> 25.874803 | I32: =G32*G30*G29*1/E28 -> 65.618501 | J32: ='[1]Reduced mass'!$D$9 -> 20.041667
B33: Fastest Velocity in 10 Meter | C33: =SQRT('Lap Simulation'!Q5^2+2*$C$38*'Lap Simulation'!$N$6) -> 1.980075 | D33: Gearbox Input Shaft(Gear 3) | F33: 0.05 | G33: 1.476 | H33: =G33*G30*1/E28 -> 19.75748 | I33: =G33*G30*G29*1/E28 -> 50.10497 | J33: =G8*G30*1/E28 -> 19.76003
B34: Speed 6500 rpm (1st) | C34: =I6 -> 27.389809
B35: Drive Torque at Shaft | C35: =C7*0.97*G6 -> 56.26
B36: Drive Torque at Rear Wheels | C36: =G9*0.94*C35 -> 179.80696
B37: Force | C37: =(C36/0.254) -> 707.90142
B38: Acceleration | C38: =C37/(C15+C16) -> 1.9603484
B39: Tyre Mass(kg) | C39: 10.2
B40: Wheel Mass(kg) | C40: 6.4
B41: Total Mass of assembly(kg) | C41: =C40+C39 -> 16.6
B42: Kfront | C42: =C12*0.9/1000 -> 0.27432
B43: Speed 6500 rpm (1st) | C43: =C13*0.9/1000 -> 0.2286
B44: Inertia Front | C44: =C41*C42^2 -> 1.2491743
B45: Inertia Rear | C45: =C41*C43^2 -> 0.86748214
B46: Inertia Engine | C46: 0.17
B47: Reduced Mass - Gear 1 | C47: =540+(4*((C45/0.245^2)+C46*(G6^2/0.245^2))) -> 676.5466
B48: Reduced Mass - Gear 2 | C48: =540+(4*((C45/0.245^2)+C46*(G7^2/0.245^2))) -> 640.15189
B49: Reduced Mass - Gear 3 | C49: =540+(4*((C45/0.245^2)+C46*(G8^2/0.245^2))) -> 622.49467

Sheet Acceleration & Deceleration
B4: RPM | C4: Power (W) | D4: HP | E4: Torque(Nm) | F4: Gear 1-Velocity (km/hr) | G4: Gear 2-Velocity(km/hr) | H4: Gear 3-Velocity (km/hr) | I4: Driving Force Gear 1(N) | J4: Driving Force Gear 2(N) | K4: Driving Force Gear 3(N) | L4: Acceleration Gear 1(m/s^2) | M4: Acceleration Gear 2(m/s^2) | N4: Acceleration Gear 3(m/s^2) | O4: Acceleration Force G1 (N) | P4: Acceleration Force G2 (N) | Q4: Acceleration Force G3 (N)
B6: 1000 | C6: 507 | D6: 0.68 | E6: 4.89 | F6: 4.21 | G6: 5.74 | H6: 7.52 | I6: =(C6)/(F6/3.6) -> 433.53919 | J6: =(C6)/(G6/3.6) -> 317.97909 | K6: =(C6)/(H6/3.6) -> 242.71277 | L6: ='Acceleration & Deceleration'!$I$6/'Specifications and Reduced mass'!$C$47 -> 0.64081202 | M6: ='Acceleration & Deceleration'!$J$6/'Specifications and Reduced mass'!$C$48 -> 0.49672444 | N6: ='Acceleration & Deceleration'!$J$6/'Specifications and Reduced mass'!$C$49 -> 0.51081416 | O6: =L6*'Specifications and Reduced mass'!$C$17 -> 336.42631 | P6: =M6*'Specifications and Reduced mass'!$C$17 -> 260.78033 | Q6: =N6*'Specifications and Reduced mass'!$C$17 -> 268.17744
B7: 1500 | C7: 1163 | D7: 1.56 | E7: 7.44 | F7: 6.31 | G7: 8.61 | H7: 11.28 | I7: =(C7)/(F7/3.6) -> 663.51823 | J7: =(C7)/(G7/3.6) -> 486.27178 | K7: =(C7)/(H7/3.6) -> 371.17021 | L7: ='Acceleration & Deceleration'!$I$6/'Specifications and Reduced mass'!$C$47 -> 0.64081202 | M7: ='Acceleration & Deceleration'!$J$6/'Specifications and Reduced mass'!$C$48 -> 0.49672444 | N7: ='Acceleration & Deceleration'!$J$6/'Specifications and Reduced mass'!$C$49 -> 0.51081416 | O7: =L7*'Specifications and Reduced mass'!$C$17 -> 336.42631 | P7: =M7*'Specifications and Reduced mass'!$C$17 -> 260.78033 | Q7: =N7*'Specifications and Reduced mass'!$C$17 -> 268.17744
B8: 2000 | C8: 2431 | D8: 3.26 | E8: 11.67 | F8: 8.42 | G8: 11.48 | H8: 15.04 | I8: =(C8)/(F8/3.6) -> 1039.3824 | J8: =(C8)/(G8/3.6) -> 762.33449 | K8: =(C8)/(H8/3.6) -> 581.8883 | L8: ='Acceleration & Deceleration'!$I$6/'Specifications and Reduced mass'!$C$47 -> 0.64081202 | M8: ='Acceleration & Deceleration'!$J$6/'Specifications and Reduced mass'!$C$48 -> 0.49672444 | N8: ='Acceleration & Deceleration'!$J$6/'Specifications and Reduced mass'!$C$49 -> 0.51081416 | O8: =L8*'Specifications and Reduced mass'!$C$17 -> 336.42631 | P8: =M8*'Specifications and Reduced mass'!$C$17 -> 260.78033 | Q8: =N8*'Specifications and Reduced mass'!$C$17 -> 268.17744
B9: 2500 | C9: 3909 | D9: 5.24 | E9: 14.98 | F9: 10.52 | G9: 14.35 | H9: 18.8 | I9: =(C9)/(F9/3.6) -> 1337.6806 | J9: =(C9)/(G9/3.6) -> 980.65505 | K9: =(C9)/(H9/3.6) -> 748.53191 | L9: ='Acceleration & Deceleration'!$I$6/'Specifications and Reduced mass'!$C$47 -> 0.64081202 | M9: ='Acceleration & Deceleration'!$J$6/'Specifications and Reduced mass'!$C$48 -> 0.49672444 | N9: ='Acceleration & Deceleration'!$J$6/'Specifications and Reduced mass'!$C$49 -> 0.51081416 | O9: =L9*'Specifications and Reduced mass'!$C$17 -> 336.42631 | P9: =M9*'Specifications and Reduced mass'!$C$17 -> 260.78033 | Q9: =N9*'Specifications and Reduced mass'!$C$17 -> 268.17744
B10: 3000 | C10: 5348 | D10: 7.17 | E10: 17.07 | F10: 12.63 | G10: 17.22 | H10: 22.56 | I10: =(C10)/(F10/3.6) -> 1524.3705 | J10: =(C10)/(G10/3.6) -> 1118.0488 | K10: =(C10)/(H10/3.6) -> 853.40426 | L10: ='Acceleration & Deceleration'!$I$6/'Specifications and Reduced mass'!$C$47 -> 0.64081202 | M10: ='Acceleration & Deceleration'!$J$6/'Specifications and Reduced mass'!$C$48 -> 0.49672444 | N10: ='Acceleration & Deceleration'!$J$6/'Specifications and Reduced mass'!$C$49 -> 0.51081416 | O10: =L10*'Specifications and Reduced mass'!$C$17 -> 336.42631 | P10: =M10*'Specifications and Reduced mass'!$C$17 -> 260.78033 | Q10: =N10*'Specifications and Reduced mass'!$C$17 -> 268.17744
B11: 3500 | C11: 6878 | D11: 9.22 | E11: 18.81 | F11: 14.73 | G11: 20.1 | H11: 26.32 | I11: =(C11)/(F11/3.6) -> 1680.9776 | J11: =(C11)/(G11/3.6) -> 1231.8806 | K11: =(C11)/(H11/3.6) -> 940.75988 | L11: ='Acceleration & Deceleration'!$I$6/'Specifications and Reduced mass'!$C$47 -> 0.64081202 | M11: ='Acceleration & Deceleration'!$J$6/'Specifications and Reduced mass'!$C$48 -> 0.49672444 | N11: ='Acceleration & Deceleration'!$J$6/'Specifications and Reduced mass'!$C$49 -> 0.51081416 | O11: =L11*'Specifications and Reduced mass'!$C$17 -> 336.42631 | P11: =M11*'Specifications and Reduced mass'!$C$17 -> 260.78033 | Q11: =N11*'Specifications and Reduced mass'!$C$17 -> 268.17744
B12: 4000 | C12: 8101 | D12: 10.86 | E12: 19.41 | F12: 16.84 | G12: 22.96 | H12: 30.08 | I12: =(C12)/(F12/3.6) -> 1731.8052 | J12: =(C12)/(G12/3.6) -> 1270.1916 | K12: =(C12)/(H12/3.6) -> 969.53457 | L12: ='Acceleration & Deceleration'!$I$6/'Specifications and Reduced mass'!$C$47 -> 0.64081202 | M12: ='Acceleration & Deceleration'!$J$6/'Specifications and Reduced mass'!$C$48 -> 0.49672444 | N12: ='Acceleration & Deceleration'!$J$6/'Specifications and Reduced mass'!$C$49 -> 0.51081416 | O12: =L12*'Specifications and Reduced mass'!$C$17 -> 336.42631 | P12: =M12*'Specifications and Reduced mass'!$C$17 -> 260.78033 | Q12: =N12*'Specifications and Reduced mass'!$C$17 -> 268.17744
B13: 4500 | C13: 10302 | D13: 13.81 | E13: 21.23 | F13: 18.94 | G13: 25.83 | H13: 33.84 | I13: =(C13)/(F13/3.6) -> 1958.1415 | J13: =(C13)/(G13/3.6) -> 1435.8188 | K13: =(C13)/(H13/3.6) -> 1095.9574 | L13: ='Acceleration & Deceleration'!$I$6/'Specifications and Reduced mass'!$C$47 -> 0.64081202 | M13: ='Acceleration & Deceleration'!$J$6/'Specifications and Reduced mass'!$C$48 -> 0.49672444 | N13: ='Acceleration & Deceleration'!$J$6/'Specifications and Reduced mass'!$C$49 -> 0.51081416 | O13: =L13*'Specifications and Reduced mass'!$C$17 -> 336.42631 | P13: =M13*'Specifications and Reduced mass'!$C$17 -> 260.78033 | Q13: =N13*'Specifications and Reduced mass'!$C$17 -> 268.17744
B14: 5000 | C14: 11383 | D14: 15.26 | E14: 21.79 | F14: 21.09 | G14: 28.7 | H14: 37.6 | I14: =(C14)/(F14/3.6) -> 1943.0441 | J14: =(C14)/(G14/3.6) -> 1427.8328 | K14: =(C14)/(H14/3.6) -> 1089.8617 | L14: ='Acceleration & Deceleration'!$I$6/'Specifications and Reduced mass'!$C$47 -> 0.64081202 | M14: ='Acceleration & Deceleration'!$J$6/'Specifications and Reduced mass'!$C$48 -> 0.49672444 | N14: ='Acceleration & Deceleration'!$J$6/'Specifications and Reduced mass'!$C$49 -> 0.51081416 | O14: =L14*'Specifications and Reduced mass'!$C$17 -> 336.42631 | P14: =M14*'Specifications and Reduced mass'!$C$17 -> 260.78033 | Q14: =N14*'Specifications and Reduced mass'!$C$17 -> 268.17744
B15: 5500 | C15: 12637 | D15: 16.94 | E15: 22 | F15: 23.15 | G15: 31.58 | H15: 41.36 | I15: =(C15)/(F15/3.6) -> 1965.149 | J15: =(C15)/(G15/3.6) -> 1440.57 | K15: =(C15)/(H15/3.6) -> 1099.9323 | L15: ='Acceleration & Deceleration'!$I$6/'Specifications and Reduced mass'!$C$47 -> 0.64081202 | M15: ='Acceleration & Deceleration'!$J$6/'Specifications and Reduced mass'!$C$48 -> 0.49672444 | N15: ='Acceleration & Deceleration'!$J$6/'Specifications and Reduced mass'!$C$49 -> 0.51081416 | O15: =L15*'Specifications and Reduced mass'!$C$17 -> 336.42631 | P15: =M15*'Specifications and Reduced mass'!$C$17 -> 260.78033 | Q15: =N15*'Specifications and Reduced mass'!$C$17 -> 268.17744
B16: 6000 | C16: 13025 | D16: 17.32 | E16: 19.77 | F16: 25.26 | G16: 34.45 | H16: 45.12 | I16: =(C16)/(F16/3.6) -> 1856.2945 | J16: =(C16)/(G16/3.6) -> 1361.103 | K16: =(C16)/(H16/3.6) -> 1039.2287 | L16: ='Acceleration & Deceleration'!$I$6/'Specifications and Reduced mass'!$C$47 -> 0.64081202 | M16: ='Acceleration & Deceleration'!$J$6/'Specifications and Reduced mass'!$C$48 -> 0.49672444 | N16: ='Acceleration & Deceleration'!$J$6/'Specifications and Reduced mass'!$C$49 -> 0.51081416 | O16: =L16*'Specifications and Reduced mass'!$C$17 -> 336.42631 | P16: =M16*'Specifications and Reduced mass'!$C$17 -> 260.78033 | Q16: =N16*'Specifications and Reduced mass'!$C$17 -> 268.17744
B17: 6500 | C17: 13428 | D17: 18 | E17: 15.64 | F17: 27.36 | G17: 37.32 | H17: 48.88 | I17: =(C17)/(F17/3.6) -> 1766.8421 | J17: =(C17)/(G17/3.6) -> 1295.3055 | K17: =(C17)/(H17/3.6) -> 988.9689 | L17: ='Acceleration & Deceleration'!$I$6/'Specifications and Reduced mass'!$C$47 -> 0.64081202 | M17: ='Acceleration & Deceleration'!$J$6/'Specifications and Reduced mass'!$C$48 -> 0.49672444 | N17: ='Acceleration & Deceleration'!$J$6/'Specifications and Reduced mass'!$C$49 -> 0.51081416 | O17: =L17*'Specifications and Reduced mass'!$C$17 -> 336.42631 | P17: =M17*'Specifications and Reduced mass'!$C$17 -> 260.78033 | Q17: =N17*'Specifications and Reduced mass'!$C$17 -> 268.17744
S18: Traction Limited Acceleration(Sector 5)
B19: Wheelie Limited Acceleration | G19: Traction Limited Acceleration(Sector 1) | J19: Traction Limited Acceleration(Sector 2) | M19: Traction Limited Acceleration(Sector 3) | P19: Traction Limited Acceleration(Sector 4) | R19: Gear1 | S19: Gear2 | T19: Gear3
B20: RPM | C20: Gear 1 | D20: Gear 2 | E20: Gear3 | F20: Gear1 | G20: Gear2 | H20: Gear3 | I20: Gear1 | J20: Gear2 | K20: Gear3 | L20: Gear1 | M20: Gear2 | N20: Gear3 | O20: Gear1 | P20: Gear2 | Q20: Gear3 | R20: =(((('Specifications and Reduced mass'!$C$22)*(('Specifications and Reduced mass'!$C$17)/('Specifications and Reduced mass'!$C$47))*(((('Specifications and Reduced mass'!$C$23)/1000)-(('Specifications and Reduced mass'!$C$26)/1000))/(('Specifications and Reduced mass'!$C$23)/1000)))/((1)-(('Specifications and Reduced mass'!$C$22)*((('Specifications and Reduced mass'!$C$31)/1000)/(('Specifications and Reduced mass'!$C$23)/1000)))-(('Net Resistance '!F6)/('Specifications and Reduced mass'!$C$47)))))*9.81 -> 0.43766061 | S20: =(((('Specifications and Reduced mass'!$C$22)*(('Specifications and Reduced mass'!$C$17)/('Specifications and Reduced mass'!$C$48))*(((('Specifications and Reduced mass'!$C$23)/1000)-(('Specifications and Reduced mass'!$C$26)/1000))/(('Specifications and Reduced mass'!$C$23)/1000)))/((1)-(('Specifications and Reduced mass'!$C$22)*((('Specifications and Reduced mass'!$C$31)/1000)/(('Specifications and Reduced mass'!$C$23)/1000)))-(('Net Resistance '!G6)/('Specifications and Reduced mass'!$C$48)))))*9.81 -> 0.4631073 | T20: =(((('Specifications and Reduced mass'!$C$22)*(('Specifications and Reduced mass'!$C$17)/('Specifications and Reduced mass'!$C$49))*(((('Specifications and Reduced mass'!$C$23)/1000)-(('Specifications and Reduced mass'!$C$26)/1000))/(('Specifications and Reduced mass'!$C$23)/1000)))/((1)-(('Specifications and Reduced mass'!$C$22)*((('Specifications and Reduced mass'!$C$31)/1000)/(('Specifications and Reduced mass'!$C$23)/1000)))-(('Net Resistance '!H6)/('Specifications and Reduced mass'!$C$49)))))*9.81 -> 0.47715437
B21: 1000 | C21: =(('Specifications and Reduced mass'!$C$17/'Specifications and Reduced mass'!$C$47))*9.81*((('Specifications and Reduced mass'!$C$32/1000)/((('Specifications and Reduced mass'!$C$31/1000)))-(('Net Resistance '!F6)/('Specifications and Reduced mass'!$C$47)))) -> 5.1826132 | D21: =(('Specifications and Reduced mass'!$C$17/'Specifications and Reduced mass'!$C$48))*9.81*((('Specifications and Reduced mass'!$C$32/1000)/((('Specifications and Reduced mass'!$C$31/1000)))-(('Net Resistance '!G6)/('Specifications and Reduced mass'!$C$48)))) -> 5.4678572 | E21: =(('Specifications and Reduced mass'!$C$17/'Specifications and Reduced mass'!$C$49))*9.81*((('Specifications and Reduced mass'!$C$32/1000)/((('Specifications and Reduced mass'!$C$31/1000)))-(('Net Resistance '!H6)/('Specifications and Reduced mass'!$C$49)))) -> 5.6078204 | F21: =(((('Specifications and Reduced mass'!$C$18)*(('Specifications and Reduced mass'!$C$17)/('Specifications and Reduced mass'!$C$47))*(((('Specifications and Reduced mass'!$C$23)/1000)-(('Specifications and Reduced mass'!$C$26)/1000))/(('Specifications and Reduced mass'!$C$23)/1000)))/((1)-(('Specifications and Reduced mass'!$C$18)*((('Specifications and Reduced mass'!$C$31)/1000)/(('Specifications and Reduced mass'!$C$23)/1000)))-(('Net Resistance '!F6)/('Specifications and Reduced mass'!$C$47)))))*9.81 -> 0.08474572 | G21: =(((('Specifications and Reduced mass'!$C$18)*(('Specifications and Reduced mass'!$C$17)/('Specifications and Reduced mass'!$C$48))*(((('Specifications and Reduced mass'!$C$23)/1000)-(('Specifications and Reduced mass'!$C$26)/1000))/(('Specifications and Reduced mass'!$C$23)/1000)))/((1)-(('Specifications and Reduced mass'!$C$18)*((('Specifications and Reduced mass'!$C$31)/1000)/(('Specifications and Reduced mass'!$C$23)/1000)))-(('Net Resistance '!G6)/('Specifications and Reduced mass'!$C$48)))))*9.81 -> 0.089669569 | H21: =(((('Specifications and Reduced mass'!$C$18)*(('Specifications and Reduced mass'!$C$17)/('Specifications and Reduced mass'!$C$49))*(((('Specifications and Reduced mass'!$C$23)/1000)-(('Specifications and Reduced mass'!$C$26)/1000))/(('Specifications and Reduced mass'!$C$23)/1000)))/((1)-(('Specifications and Reduced mass'!$C$18)*((('Specifications and Reduced mass'!$C$31)/1000)/(('Specifications and Reduced mass'!$C$23)/1000)))-(('Net Resistance '!H6)/('Specifications and Reduced mass'!$C$49)))))*9.81 -> 0.092383813 | I21: =(((('Specifications and Reduced mass'!$C$19)*(('Specifications and Reduced mass'!$C$17)/('Specifications and Reduced mass'!$C$47))*(((('Specifications and Reduced mass'!$C$23)/1000)-(('Specifications and Reduced mass'!$C$26)/1000))/(('Specifications and Reduced mass'!$C$23)/1000)))/((1)-(('Specifications and Reduced mass'!$C$19)*((('Specifications and Reduced mass'!$C$31)/1000)/(('Specifications and Reduced mass'!$C$23)/1000)))-(('Net Resistance '!F6)/('Specifications and Reduced mass'!$C$47)))))*9.81 -> 0.10614333 | J21: =(((('Specifications and Reduced mass'!$C$19)*(('Specifications and Reduced mass'!$C$17)/('Specifications and Reduced mass'!$C$48))*(((('Specifications and Reduced mass'!$C$23)/1000)-(('Specifications and Reduced mass'!$C$26)/1000))/(('Specifications and Reduced mass'!$C$23)/1000)))/((1)-(('Specifications and Reduced mass'!$C$19)*((('Specifications and Reduced mass'!$C$31)/1000)/(('Specifications and Reduced mass'!$C$23)/1000)))-(('Net Resistance '!G6)/('Specifications and Reduced mass'!$C$48)))))*9.81 -> 0.11231067 | K21: =(((('Specifications and Reduced mass'!$C$19)*(('Specifications and Reduced mass'!$C$17)/('Specifications and Reduced mass'!$C$49))*(((('Specifications and Reduced mass'!$C$23)/1000)-(('Specifications and Reduced mass'!$C$26)/1000))/(('Specifications and Reduced mass'!$C$23)/1000)))/((1)-(('Specifications and Reduced mass'!$C$19)*((('Specifications and Reduced mass'!$C$31)/1000)/(('Specifications and Reduced mass'!$C$23)/1000)))-(('Net Resistance '!H6)/('Specifications and Reduced mass'!$C$49)))))*9.81 -> 0.11571068 | L21: =(((('Specifications and Reduced mass'!$C$20)*(('Specifications and Reduced mass'!$C$17)/('Specifications and Reduced mass'!$C$47))*(((('Specifications and Reduced mass'!$C$23)/1000)-(('Specifications and Reduced mass'!$C$26)/1000))/(('Specifications and Reduced mass'!$C$23)/1000)))/((1)-(('Specifications and Reduced mass'!$C$20)*((('Specifications and Reduced mass'!$C$31)/1000)/(('Specifications and Reduced mass'!$C$23)/1000)))-(('Net Resistance '!F6)/('Specifications and Reduced mass'!$C$47)))))*9.81 -> 1.4305733 | M21: =(((('Specifications and Reduced mass'!$C$20)*(('Specifications and Reduced mass'!$C$17)/('Specifications and Reduced mass'!$C$48))*(((('Specifications and Reduced mass'!$C$23)/1000)-(('Specifications and Reduced mass'!$C$26)/1000))/(('Specifications and Reduced mass'!$C$23)/1000)))/((1)-(('Specifications and Reduced mass'!$C$20)*((('Specifications and Reduced mass'!$C$31)/1000)/(('Specifications and Reduced mass'!$C$23)/1000)))-(('Net Resistance '!G6)/('Specifications and Reduced mass'!$C$48)))))*9.81 -> 1.5139159 | N21: =(((('Specifications and Reduced mass'!$C$20)*(('Specifications and Reduced mass'!$C$17)/('Specifications and Reduced mass'!$C$49))*(((('Specifications and Reduced mass'!$C$23)/1000)-(('Specifications and Reduced mass'!$C$26)/1000))/(('Specifications and Reduced mass'!$C$23)/1000)))/((1)-(('Specifications and Reduced mass'!$C$20)*((('Specifications and Reduced mass'!$C$31)/1000)/(('Specifications and Reduced mass'!$C$23)/1000)))-(('Net Resistance '!H6)/('Specifications and Reduced mass'!$C$49)))))*9.81 -> 1.5601039 | O21: =(((('Specifications and Reduced mass'!$C$21)*(('Specifications and Reduced mass'!$C$17)/('Specifications and Reduced mass'!$C$47))*(((('Specifications and Reduced mass'!$C$23)/1000)-(('Specifications and Reduced mass'!$C$26)/1000))/(('Specifications and Reduced mass'!$C$23)/1000)))/((1)-(('Specifications and Reduced mass'!$C$21)*((('Specifications and Reduced mass'!$C$31)/1000)/(('Specifications and Reduced mass'!$C$23)/1000)))-(('Net Resistance '!F6)/('Specifications and Reduced mass'!$C$47)))))*9.81 -> 0.91283835 | P21: =(((('Specifications and Reduced mass'!$C$21)*(('Specifications and Reduced mass'!$C$17)/('Specifications and Reduced mass'!$C$48))*(((('Specifications and Reduced mass'!$C$23)/1000)-(('Specifications and Reduced mass'!$C$26)/1000))/(('Specifications and Reduced mass'!$C$23)/1000)))/((1)-(('Specifications and Reduced mass'!$C$21)*((('Specifications and Reduced mass'!$C$31)/1000)/(('Specifications and Reduced mass'!$C$23)/1000)))-(('Net Resistance '!G6)/('Specifications and Reduced mass'!$C$48)))))*9.81 -> 0.96596359 | Q21: =(((('Specifications and Reduced mass'!$C$21)*(('Specifications and Reduced mass'!$C$17)/('Specifications and Reduced mass'!$C$49))*(((('Specifications and Reduced mass'!$C$23)/1000)-(('Specifications and Reduced mass'!$C$26)/1000))/(('Specifications and Reduced mass'!$C$23)/1000)))/((1)-(('Specifications and Reduced mass'!$C$21)*((('Specifications and Reduced mass'!$C$31)/1000)/(('Specifications and Reduced mass'!$C$23)/1000)))-(('Net Resistance '!H6)/('Specifications and Reduced mass'!$C$49)))))*9.81 -> 0.9953451 | R21: =(((('Specifications and Reduced mass'!$C$22)*(('Specifications and Reduced mass'!$C$17)/('Specifications and Reduced mass'!$C$47))*(((('Specifications and Reduced mass'!$C$23)/1000)-(('Specifications and Reduced mass'!$C$26)/1000))/(('Specifications and Reduced mass'!$C$23)/1000)))/((1)-(('Specifications and Reduced mass'!$C$22)*((('Specifications and Reduced mass'!$C$31)/1000)/(('Specifications and Reduced mass'!$C$23)/1000)))-(('Net Resistance '!F7)/('Specifications and Reduced mass'!$C$47)))))*9.81 -> 0.43834592 | S21: =(((('Specifications and Reduced mass'!$C$22)*(('Specifications and Reduced mass'!$C$17)/('Specifications and Reduced mass'!$C$48))*(((('Specifications and Reduced mass'!$C$23)/1000)-(('Specifications and Reduced mass'!$C$26)/1000))/(('Specifications and Reduced mass'!$C$23)/1000)))/((1)-(('Specifications and Reduced mass'!$C$22)*((('Specifications and Reduced mass'!$C$31)/1000)/(('Specifications and Reduced mass'!$C$23)/1000)))-(('Net Resistance '!G7)/('Specifications and Reduced mass'!$C$48)))))*9.81 -> 0.46454723 | T21: =(((('Specifications and Reduced mass'!$C$22)*(('Specifications and Reduced mass'!$C$17)/('Specifications and Reduced mass'!$C$49))*(((('Specifications and Reduced mass'!$C$23)/1000)-(('Specifications and Reduced mass'!$C$26)/1000))/(('Specifications and Reduced mass'!$C$23)/1000)))/((1)-(('Specifications and Reduced mass'!$C$22)*((('Specifications and Reduced mass'!$C$31)/1000)/(('Specifications and Reduced mass'!$C$23)/1000)))-(('Net Resistance '!H7)/('Specifications and Reduced mass'!$C$49)))))*9.81 -> 0.47978746
B22: 1500 | C22: =(('Specifications and Reduced mass'!$C$17/'Specifications and Reduced mass'!$C$47))*9.81*((('Specifications and Reduced mass'!$C$32/1000)/((('Specifications and Reduced mass'!$C$31/1000)))-(('Net Resistance '!F7)/('Specifications and Reduced mass'!$C$47)))) -> 5.1711955 | D22: =(('Specifications and Reduced mass'!$C$17/'Specifications and Reduced mass'!$C$48))*9.81*((('Specifications and Reduced mass'!$C$32/1000)/((('Specifications and Reduced mass'!$C$31/1000)))-(('Net Resistance '!G7)/('Specifications and Reduced mass'!$C$48)))) -> 5.4439624 | E22: =(('Specifications and Reduced mass'!$C$17/'Specifications and Reduced mass'!$C$49))*9.81*((('Specifications and Reduced mass'!$C$32/1000)/((('Specifications and Reduced mass'!$C$31/1000)))-(('Net Resistance '!H7)/('Specifications and Reduced mass'!$C$49)))) -> 5.5643967 | F22: =(((('Specifications and Reduced mass'!$C$18)*(('Specifications and Reduced mass'!$C$17)/('Specifications and Reduced mass'!$C$47))*(((('Specifications and Reduced mass'!$C$23)/1000)-(('Specifications and Reduced mass'!$C$26)/1000))/(('Specifications and Reduced mass'!$C$23)/1000)))/((1)-(('Specifications and Reduced mass'!$C$18)*((('Specifications and Reduced mass'!$C$31)/1000)/(('Specifications and Reduced mass'!$C$23)/1000)))-(('Net Resistance '!F7)/('Specifications and Reduced mass'!$C$47)))))*9.81 -> 0.084874189 | G22: =(((('Specifications and Reduced mass'!$C$18)*(('Specifications and Reduced mass'!$C$17)/('Specifications and Reduced mass'!$C$48))*(((('Specifications and Reduced mass'!$C$23)/1000)-(('Specifications and Reduced mass'!$C$26)/1000))/(('Specifications and Reduced mass'!$C$23)/1000)))/((1)-(('Specifications and Reduced mass'!$C$18)*((('Specifications and Reduced mass'!$C$31)/1000)/(('Specifications and Reduced mass'!$C$23)/1000)))-(('Net Resistance '!G7)/('Specifications and Reduced mass'!$C$48)))))*9.81 -> 0.089939465 | H22: =(((('Specifications and Reduced mass'!$C$18)*(('Specifications and Reduced mass'!$C$17)/('Specifications and Reduced mass'!$C$49))*(((('Specifications and Reduced mass'!$C$23)/1000)-(('Specifications and Reduced mass'!$C$26)/1000))/(('Specifications and Reduced mass'!$C$23)/1000)))/((1)-(('Specifications and Reduced mass'!$C$18)*((('Specifications and Reduced mass'!$C$31)/1000)/(('Specifications and Reduced mass'!$C$23)/1000)))-(('Net Resistance '!H7)/('Specifications and Reduced mass'!$C$49)))))*9.81 -> 0.092877253 | I22: =(((('Specifications and Reduced mass'!$C$19)*(('Specifications and Reduced mass'!$C$17)/('Specifications and Reduced mass'!$C$47))*(((('Specifications and Reduced mass'!$C$23)/1000)-(('Specifications and Reduced mass'!$C$26)/1000))/(('Specifications and Reduced mass'!$C$23)/1000)))/((1)-(('Specifications and Reduced mass'!$C$19)*((('Specifications and Reduced mass'!$C$31)/1000)/(('Specifications and Reduced mass'!$C$23)/1000)))-(('Net Resistance '!F7)/('Specifications and Reduced mass'!$C$47)))))*9.81 -> 0.10630456 | J22: =(((('Specifications and Reduced mass'!$C$19)*(('Specifications and Reduced mass'!$C$17)/('Specifications and Reduced mass'!$C$48))*(((('Specifications and Reduced mass'!$C$23)/1000)-(('Specifications and Reduced mass'!$C$26)/1000))/(('Specifications and Reduced mass'!$C$23)/1000)))/((1)-(('Specifications and Reduced mass'!$C$19)*((('Specifications and Reduced mass'!$C$31)/1000)/(('Specifications and Reduced mass'!$C$23)/1000)))-(('Net Resistance '!G7)/('Specifications and Reduced mass'!$C$48)))))*9.81 -> 0.11264939 | K22: =(((('Specifications and Reduced mass'!$C$19)*(('Specifications and Reduced mass'!$C$17)/('Specifications and Reduced mass'!$C$49))*(((('Specifications and Reduced mass'!$C$23)/1000)-(('Specifications and Reduced mass'!$C$26)/1000))/(('Specifications and Reduced mass'!$C$23)/1000)))/((1)-(('Specifications and Reduced mass'!$C$19)*((('Specifications and Reduced mass'!$C$31)/1000)/(('Specifications and Reduced mass'!$C$23)/1000)))-(('Net Resistance '!H7)/('Specifications and Reduced mass'!$C$49)))))*9.81 -> 0.11632995 | L22: =(((('Specifications and Reduced mass'!$C$20)*(('Specifications and Reduced mass'!$C$17)/('Specifications and Reduced mass'!$C$47))*(((('Specifications and Reduced mass'!$C$23)/1000)-(('Specifications and Reduced mass'!$C$26)/1000))/(('Specifications and Reduced mass'!$C$23)/1000)))/((1)-(('Specifications and Reduced mass'!$C$20)*((('Specifications and Reduced mass'!$C$31)/1000)/(('Specifications and Reduced mass'!$C$23)/1000)))-(('Net Resistance '!F7)/('Specifications and Reduced mass'!$C$47)))))*9.81 -> 1.4330144 | M22: =(((('Specifications and Reduced mass'!$C$20)*(('Specifications and Reduced mass'!$C$17)/('Specifications and Reduced mass'!$C$48))*(((('Specifications and Reduced mass'!$C$23)/1000)-(('Specifications and Reduced mass'!$C$26)/1000))/(('Specifications and Reduced mass'!$C$23)/1000)))/((1)-(('Specifications and Reduced mass'!$C$20)*((('Specifications and Reduced mass'!$C$31)/1000)/(('Specifications and Reduced mass'!$C$23)/1000)))-(('Net Resistance '!G7)/('Specifications and Reduced mass'!$C$48)))))*9.81 -> 1.5190467 | N22: =(((('Specifications and Reduced mass'!$C$20)*(('Specifications and Reduced mass'!$C$17)/('Specifications and Reduced mass'!$C$49))*(((('Specifications and Reduced mass'!$C$23)/1000)-(('Specifications and Reduced mass'!$C$26)/1000))/(('Specifications and Reduced mass'!$C$23)/1000)))/((1)-(('Specifications and Reduced mass'!$C$20)*((('Specifications and Reduced mass'!$C$31)/1000)/(('Specifications and Reduced mass'!$C$23)/1000)))-(('Net Resistance '!H7)/('Specifications and Reduced mass'!$C$49)))))*9.81 -> 1.5694914 | O22: =(((('Specifications and Reduced mass'!$C$21)*(('Specifications and Reduced mass'!$C$17)/('Specifications and Reduced mass'!$C$47))*(((('Specifications and Reduced mass'!$C$23)/1000)-(('Specifications and Reduced mass'!$C$26)/1000))/(('Specifications and Reduced mass'!$C$23)/1000)))/((1)-(('Specifications and Reduced mass'!$C$21)*((('Specifications and Reduced mass'!$C$31)/1000)/(('Specifications and Reduced mass'!$C$23)/1000)))-(('Net Resistance '!F7)/('Specifications and Reduced mass'!$C$47)))))*9.81 -> 0.91432909 | P22: =(((('Specifications and Reduced mass'!$C$21)*(('Specifications and Reduced mass'!$C$17)/('Specifications and Reduced mass'!$C$48))*(((('Specifications and Reduced mass'!$C$23)/1000)-(('Specifications and Reduced mass'!$C$26)/1000))/(('Specifications and Reduced mass'!$C$23)/1000)))/((1)-(('Specifications and Reduced mass'!$C$21)*((('Specifications and Reduced mass'!$C$31)/1000)/(('Specifications and Reduced mass'!$C$23)/1000)))-(('Net Resistance '!G7)/('Specifications and Reduced mass'!$C$48)))))*9.81 -> 0.96909636 | Q22: =(((('Specifications and Reduced mass'!$C$21)*(('Specifications and Reduced mass'!$C$17)/('Specifications and Reduced mass'!$C$49))*(((('Specifications and Reduced mass'!$C$23)/1000)-(('Specifications and Reduced mass'!$C$26)/1000))/(('Specifications and Reduced mass'!$C$23)/1000)))/((1)-(('Specifications and Reduced mass'!$C$21)*((('Specifications and Reduced mass'!$C$31)/1000)/(('Specifications and Reduced mass'!$C$23)/1000)))-(('Net Resistance '!H7)/('Specifications and Reduced mass'!$C$49)))))*9.81 -> 1.0010753 | R22: =(((('Specifications and Reduced mass'!$C$22)*(('Specifications and Reduced mass'!$C$17)/('Specifications and Reduced mass'!$C$47))*(((('Specifications and Reduced mass'!$C$23)/1000)-(('Specifications and Reduced mass'!$C$26)/1000))/(('Specifications and Reduced mass'!$C$23)/1000)))/((1)-(('Specifications and Reduced mass'!$C$22)*((('Specifications and Reduced mass'!$C$31)/1000)/(('Specifications and Reduced mass'!$C$23)/1000)))-(('Net Resistance '!F8)/('Specifications and Reduced mass'!$C$47)))))*9.81 -> 0.43932473 | S22: =(((('Specifications and Reduced mass'!$C$22)*(('Specifications and Reduced mass'!$C$17)/('Specifications and Reduced mass'!$C$48))*(((('Specifications and Reduced mass'!$C$23)/1000)-(('Specifications and Reduced mass'!$C$26)/1000))/(('Specifications and Reduced mass'!$C$23)/1000)))/((1)-(('Specifications and Reduced mass'!$C$22)*((('Specifications and Reduced mass'!$C$31)/1000)/(('Specifications and Reduced mass'!$C$23)/1000)))-(('Net Resistance '!G8)/('Specifications and Reduced mass'!$C$48)))))*9.81 -> 0.46660551 | T22: =(((('Specifications and Reduced mass'!$C$22)*(('Specifications and Reduced mass'!$C$17)/('Specifications and Reduced mass'!$C$49))*(((('Specifications and Reduced mass'!$C$23)/1000)-(('Specifications and Reduced mass'!$C$26)/1000))/(('Specifications and Reduced mass'!$C$23)/1000)))/((1)-(('Specifications and Reduced mass'!$C$22)*((('Specifications and Reduced mass'!$C$31)/1000)/(('Specifications and Reduced mass'!$C$23)/1000)))-(('Net Resistance '!H8)/('Specifications and Reduced mass'!$C$49)))))*9.81 -> 0.48356135
B23: 2000 | C23: =(('Specifications and Reduced mass'!$C$17/'Specifications and Reduced mass'!$C$47))*9.81*((('Specifications and Reduced mass'!$C$32/1000)/((('Specifications and Reduced mass'!$C$31/1000)))-(('Net Resistance '!F8)/('Specifications and Reduced mass'!$C$47)))) -> 5.1549499 | D23: =(('Specifications and Reduced mass'!$C$17/'Specifications and Reduced mass'!$C$48))*9.81*((('Specifications and Reduced mass'!$C$32/1000)/((('Specifications and Reduced mass'!$C$31/1000)))-(('Net Resistance '!G8)/('Specifications and Reduced mass'!$C$48)))) -> 5.4100627 | E23: =(('Specifications and Reduced mass'!$C$17/'Specifications and Reduced mass'!$C$49))*9.81*((('Specifications and Reduced mass'!$C$32/1000)/((('Specifications and Reduced mass'!$C$31/1000)))-(('Net Resistance '!H8)/('Specifications and Reduced mass'!$C$49)))) -> 5.5029844 | F23: =(((('Specifications and Reduced mass'!$C$18)*(('Specifications and Reduced mass'!$C$17)/('Specifications and Reduced mass'!$C$47))*(((('Specifications and Reduced mass'!$C$23)/1000)-(('Specifications and Reduced mass'!$C$26)/1000))/(('Specifications and Reduced mass'!$C$23)/1000)))/((1)-(('Specifications and Reduced mass'!$C$18)*((('Specifications and Reduced mass'!$C$31)/1000)/(('Specifications and Reduced mass'!$C$23)/1000)))-(('Net Resistance '!F8)/('Specifications and Reduced mass'!$C$47)))))*9.81 -> 0.085057655 | G23: =(((('Specifications and Reduced mass'!$C$18)*(('Specifications and Reduced mass'!$C$17)/('Specifications and Reduced mass'!$C$48))*(((('Specifications and Reduced mass'!$C$23)/1000)-(('Specifications and Reduced mass'!$C$26)/1000))/(('Specifications and Reduced mass'!$C$23)/1000)))/((1)-(('Specifications and Reduced mass'!$C$18)*((('Specifications and Reduced mass'!$C$31)/1000)/(('Specifications and Reduced mass'!$C$23)/1000)))-(('Net Resistance '!G8)/('Specifications and Reduced mass'!$C$48)))))*9.81 -> 0.090325167 | H23: =(((('Specifications and Reduced mass'!$C$18)*(('Specifications and Reduced mass'!$C$17)/('Specifications and Reduced mass'!$C$49))*(((('Specifications and Reduced mass'!$C$23)/1000)-(('Specifications and Reduced mass'!$C$26)/1000))/(('Specifications and Reduced mass'!$C$23)/1000)))/((1)-(('Specifications and Reduced mass'!$C$18)*((('Specifications and Reduced mass'!$C$31)/1000)/(('Specifications and Reduced mass'!$C$23)/1000)))-(('Net Resistance '!H8)/('Specifications and Reduced mass'!$C$49)))))*9.81 -> 0.093584172 | I23: =(((('Specifications and Reduced mass'!$C$19)*(('Specifications and Reduced mass'!$C$17)/('Specifications and Reduced mass'!$C$47))*(((('Specifications and Reduced mass'!$C$23)/1000)-(('Specifications and Reduced mass'!$C$26)/1000))/(('Specifications and Reduced mass'!$C$23)/1000)))/((1)-(('Specifications and Reduced mass'!$C$19)*((('Specifications and Reduced mass'!$C$31)/1000)/(('Specifications and Reduced mass'!$C$23)/1000)))-(('Net Resistance '!F8)/('Specifications and Reduced mass'!$C$47)))))*9.81 -> 0.10653481 | J23: =(((('Specifications and Reduced mass'!$C$19)*(('Specifications and Reduced mass'!$C$17)/('Specifications and Reduced mass'!$C$48))*(((('Specifications and Reduced mass'!$C$23)/1000)-(('Specifications and Reduced mass'!$C$26)/1000))/(('Specifications and Reduced mass'!$C$23)/1000)))/((1)-(('Specifications and Reduced mass'!$C$19)*((('Specifications and Reduced mass'!$C$31)/1000)/(('Specifications and Reduced mass'!$C$23)/1000)))-(('Net Resistance '!G8)/('Specifications and Reduced mass'!$C$48)))))*9.81 -> 0.11313346 | K23: =(((('Specifications and Reduced mass'!$C$19)*(('Specifications and Reduced mass'!$C$17)/('Specifications and Reduced mass'!$C$49))*(((('Specifications and Reduced mass'!$C$23)/1000)-(('Specifications and Reduced mass'!$C$26)/1000))/(('Specifications and Reduced mass'!$C$23)/1000)))/((1)-(('Specifications and Reduced mass'!$C$19)*((('Specifications and Reduced mass'!$C$31)/1000)/(('Specifications and Reduced mass'!$C$23)/1000)))-(('Net Resistance '!H8)/('Specifications and Reduced mass'!$C$49)))))*9.81 -> 0.11721717 | L23: =(((('Specifications and Reduced mass'!$C$20)*(('Specifications and Reduced mass'!$C$17)/('Specifications and Reduced mass'!$C$47))*(((('Specifications and Reduced mass'!$C$23)/1000)-(('Specifications and Reduced mass'!$C$26)/1000))/(('Specifications and Reduced mass'!$C$23)/1000)))/((1)-(('Specifications and Reduced mass'!$C$20)*((('Specifications and Reduced mass'!$C$31)/1000)/(('Specifications and Reduced mass'!$C$23)/1000)))-(('Net Resistance '!F8)/('Specifications and Reduced mass'!$C$47)))))*9.81 -> 1.436502 | M23: =(((('Specifications and Reduced mass'!$C$20)*(('Specifications and Reduced mass'!$C$17)/('Specifications and Reduced mass'!$C$48))*(((('Specifications and Reduced mass'!$C$23)/1000)-(('Specifications and Reduced mass'!$C$26)/1000))/(('Specifications and Reduced mass'!$C$23)/1000)))/((1)-(('Specifications and Reduced mass'!$C$20)*((('Specifications and Reduced mass'!$C$31)/1000)/(('Specifications and Reduced mass'!$C$23)/1000)))-(('Net Resistance '!G8)/('Specifications and Reduced mass'!$C$48)))))*9.81 -> 1.5263857 | N23: =(((('Specifications and Reduced mass'!$C$20)*(('Specifications and Reduced mass'!$C$17)/('Specifications and Reduced mass'!$C$49))*(((('Specifications and Reduced mass'!$C$23)/1000)-(('Specifications and Reduced mass'!$C$26)/1000))/(('Specifications and Reduced mass'!$C$23)/1000)))/((1)-(('Specifications and Reduced mass'!$C$20)*((('Specifications and Reduced mass'!$C$31)/1000)/(('Specifications and Reduced mass'!$C$23)/1000)))-(('Net Resistance '!H8)/('Specifications and Reduced mass'!$C$49)))))*9.81 -> 1.5829623 | O23: =(((('Specifications and Reduced mass'!$C$21)*(('Specifications and Reduced mass'!$C$17)/('Specifications and Reduced mass'!$C$47))*(((('Specifications and Reduced mass'!$C$23)/1000)-(('Specifications and Reduced mass'!$C$26)/1000))/(('Specifications and Reduced mass'!$C$23)/1000)))/((1)-(('Specifications and Reduced mass'!$C$21)*((('Specifications and Reduced mass'!$C$31)/1000)/(('Specifications and Reduced mass'!$C$23)/1000)))-(('Net Resistance '!F8)/('Specifications and Reduced mass'!$C$47)))))*9.81 -> 0.9164586 | P23: =(((('Specifications and Reduced mass'!$C$21)*(('Specifications and Reduced mass'!$C$17)/('Specifications and Reduced mass'!$C$48))*(((('Specifications and Reduced mass'!$C$23)/1000)-(('Specifications and Reduced mass'!$C$26)/1000))/(('Specifications and Reduced mass'!$C$23)/1000)))/((1)-(('Specifications and Reduced mass'!$C$21)*((('Specifications and Reduced mass'!$C$31)/1000)/(('Specifications and Reduced mass'!$C$23)/1000)))-(('Net Resistance '!G8)/('Specifications and Reduced mass'!$C$48)))))*9.81 -> 0.97357587 | Q23: =(((('Specifications and Reduced mass'!$C$21)*(('Specifications and Reduced mass'!$C$17)/('Specifications and Reduced mass'!$C$49))*(((('Specifications and Reduced mass'!$C$23)/1000)-(('Specifications and Reduced mass'!$C$26)/1000))/(('Specifications and Reduced mass'!$C$23)/1000)))/((1)-(('Specifications and Reduced mass'!$C$21)*((('Specifications and Reduced mass'!$C$31)/1000)/(('Specifications and Reduced mass'!$C$23)/1000)))-(('Net Resistance '!H8)/('Specifications and Reduced mass'!$C$49)))))*9.81 -> 1.0092928 | R23: =(((('Specifications and Reduced mass'!$C$22)*(('Specifications and Reduced mass'!$C$17)/('Specifications and Reduced mass'!$C$47))*(((('Specifications and Reduced mass'!$C$23)/1000)-(('Specifications and Reduced mass'!$C$26)/1000))/(('Specifications and Reduced mass'!$C$23)/1000)))/((1)-(('Specifications and Reduced mass'!$C$22)*((('Specifications and Reduced mass'!$C$31)/1000)/(('Specifications and Reduced mass'!$C$23)/1000)))-(('Net Resistance '!F9)/('Specifications and Reduced mass'!$C$47)))))*9.81 -> 0.44059106 | S23: =(((('Specifications and Reduced mass'!$C$22)*(('Specifications and Reduced mass'!$C$17)/('Specifications and Reduced mass'!$C$48))*(((('Specifications and Reduced mass'!$C$23)/1000)-(('Specifications and Reduced mass'!$C$26)/1000))/(('Specifications and Reduced mass'!$C$23)/1000)))/((1)-(('Specifications and Reduced mass'!$C$22)*((('Specifications and Reduced mass'!$C$31)/1000)/(('Specifications and Reduced mass'!$C$23)/1000)))-(('Net Resistance '!G9)/('Specifications and Reduced mass'!$C$48)))))*9.81 -> 0.46924489 | T23: =(((('Specifications and Reduced mass'!$C$22)*(('Specifications and Reduced mass'!$C$17)/('Specifications and Reduced mass'!$C$49))*(((('Specifications and Reduced mass'!$C$23)/1000)-(('Specifications and Reduced mass'!$C$26)/1000))/(('Specifications and Reduced mass'!$C$23)/1000)))/((1)-(('Specifications and Reduced mass'!$C$22)*((('Specifications and Reduced mass'!$C$31)/1000)/(('Specifications and Reduced mass'!$C$23)/1000)))-(('Net Resistance '!H9)/('Specifications and Reduced mass'!$C$49)))))*9.81 -> 0.48845346
B24: 2500 | C24: =(('Specifications and Reduced mass'!$C$17/'Specifications and Reduced mass'!$C$47))*9.81*((('Specifications and Reduced mass'!$C$32/1000)/((('Specifications and Reduced mass'!$C$31/1000)))-(('Net Resistance '!F9)/('Specifications and Reduced mass'!$C$47)))) -> 5.1340392 | D24: =(('Specifications and Reduced mass'!$C$17/'Specifications and Reduced mass'!$C$48))*9.81*((('Specifications and Reduced mass'!$C$32/1000)/((('Specifications and Reduced mass'!$C$31/1000)))-(('Net Resistance '!G9)/('Specifications and Reduced mass'!$C$48)))) -> 5.3670273 | E24: =(('Specifications and Reduced mass'!$C$17/'Specifications and Reduced mass'!$C$49))*9.81*((('Specifications and Reduced mass'!$C$32/1000)/((('Specifications and Reduced mass'!$C$31/1000)))-(('Net Resistance '!H9)/('Specifications and Reduced mass'!$C$49)))) -> 5.4247876 | F24: =(((('Specifications and Reduced mass'!$C$18)*(('Specifications and Reduced mass'!$C$17)/('Specifications and Reduced mass'!$C$47))*(((('Specifications and Reduced mass'!$C$23)/1000)-(('Specifications and Reduced mass'!$C$26)/1000))/(('Specifications and Reduced mass'!$C$23)/1000)))/((1)-(('Specifications and Reduced mass'!$C$18)*((('Specifications and Reduced mass'!$C$31)/1000)/(('Specifications and Reduced mass'!$C$23)/1000)))-(('Net Resistance '!F9)/('Specifications and Reduced mass'!$C$47)))))*9.81 -> 0.085294973 | G24: =(((('Specifications and Reduced mass'!$C$18)*(('Specifications and Reduced mass'!$C$17)/('Specifications and Reduced mass'!$C$48))*(((('Specifications and Reduced mass'!$C$23)/1000)-(('Specifications and Reduced mass'!$C$26)/1000))/(('Specifications and Reduced mass'!$C$23)/1000)))/((1)-(('Specifications and Reduced mass'!$C$18)*((('Specifications and Reduced mass'!$C$31)/1000)/(('Specifications and Reduced mass'!$C$23)/1000)))-(('Net Resistance '!G9)/('Specifications and Reduced mass'!$C$48)))))*9.81 -> 0.090819604 | H24: =(((('Specifications and Reduced mass'!$C$18)*(('Specifications and Reduced mass'!$C$17)/('Specifications and Reduced mass'!$C$49))*(((('Specifications and Reduced mass'!$C$23)/1000)-(('Specifications and Reduced mass'!$C$26)/1000))/(('Specifications and Reduced mass'!$C$23)/1000)))/((1)-(('Specifications and Reduced mass'!$C$18)*((('Specifications and Reduced mass'!$C$31)/1000)/(('Specifications and Reduced mass'!$C$23)/1000)))-(('Net Resistance '!H9)/('Specifications and Reduced mass'!$C$49)))))*9.81 -> 0.094500025 | I24: =(((('Specifications and Reduced mass'!$C$19)*(('Specifications and Reduced mass'!$C$17)/('Specifications and Reduced mass'!$C$47))*(((('Specifications and Reduced mass'!$C$23)/1000)-(('Specifications and Reduced mass'!$C$26)/1000))/(('Specifications and Reduced mass'!$C$23)/1000)))/((1)-(('Specifications and Reduced mass'!$C$19)*((('Specifications and Reduced mass'!$C$31)/1000)/(('Specifications and Reduced mass'!$C$23)/1000)))-(('Net Resistance '!F9)/('Specifications and Reduced mass'!$C$47)))))*9.81 -> 0.10683264 | J24: =(((('Specifications and Reduced mass'!$C$19)*(('Specifications and Reduced mass'!$C$17)/('Specifications and Reduced mass'!$C$48))*(((('Specifications and Reduced mass'!$C$23)/1000)-(('Specifications and Reduced mass'!$C$26)/1000))/(('Specifications and Reduced mass'!$C$23)/1000)))/((1)-(('Specifications and Reduced mass'!$C$19)*((('Specifications and Reduced mass'!$C$31)/1000)/(('Specifications and Reduced mass'!$C$23)/1000)))-(('Net Resistance '!G9)/('Specifications and Reduced mass'!$C$48)))))*9.81 -> 0.113754 | K24: =(((('Specifications and Reduced mass'!$C$19)*(('Specifications and Reduced mass'!$C$17)/('Specifications and Reduced mass'!$C$49))*(((('Specifications and Reduced mass'!$C$23)/1000)-(('Specifications and Reduced mass'!$C$26)/1000))/(('Specifications and Reduced mass'!$C$23)/1000)))/((1)-(('Specifications and Reduced mass'!$C$19)*((('Specifications and Reduced mass'!$C$31)/1000)/(('Specifications and Reduced mass'!$C$23)/1000)))-(('Net Resistance '!H9)/('Specifications and Reduced mass'!$C$49)))))*9.81 -> 0.11836665 | L24: =(((('Specifications and Reduced mass'!$C$20)*(('Specifications and Reduced mass'!$C$17)/('Specifications and Reduced mass'!$C$47))*(((('Specifications and Reduced mass'!$C$23)/1000)-(('Specifications and Reduced mass'!$C$26)/1000))/(('Specifications and Reduced mass'!$C$23)/1000)))/((1)-(('Specifications and Reduced mass'!$C$20)*((('Specifications and Reduced mass'!$C$31)/1000)/(('Specifications and Reduced mass'!$C$23)/1000)))-(('Net Resistance '!F9)/('Specifications and Reduced mass'!$C$47)))))*9.81 -> 1.4410162 | M24: =(((('Specifications and Reduced mass'!$C$20)*(('Specifications and Reduced mass'!$C$17)/('Specifications and Reduced mass'!$C$48))*(((('Specifications and Reduced mass'!$C$23)/1000)-(('Specifications and Reduced mass'!$C$26)/1000))/(('Specifications and Reduced mass'!$C$23)/1000)))/((1)-(('Specifications and Reduced mass'!$C$20)*((('Specifications and Reduced mass'!$C$31)/1000)/(('Specifications and Reduced mass'!$C$23)/1000)))-(('Net Resistance '!G9)/('Specifications and Reduced mass'!$C$48)))))*9.81 -> 1.5358053 | N24: =(((('Specifications and Reduced mass'!$C$20)*(('Specifications and Reduced mass'!$C$17)/('Specifications and Reduced mass'!$C$49))*(((('Specifications and Reduced mass'!$C$23)/1000)-(('Specifications and Reduced mass'!$C$26)/1000))/(('Specifications and Reduced mass'!$C$23)/1000)))/((1)-(('Specifications and Reduced mass'!$C$20)*((('Specifications and Reduced mass'!$C$31)/1000)/(('Specifications and Reduced mass'!$C$23)/1000)))-(('Net Resistance '!H9)/('Specifications and Reduced mass'!$C$49)))))*9.81 -> 1.6004533 | O24: =(((('Specifications and Reduced mass'!$C$21)*(('Specifications and Reduced mass'!$C$17)/('Specifications and Reduced mass'!$C$47))*(((('Specifications and Reduced mass'!$C$23)/1000)-(('Specifications and Reduced mass'!$C$26)/1000))/(('Specifications and Reduced mass'!$C$23)/1000)))/((1)-(('Specifications and Reduced mass'!$C$21)*((('Specifications and Reduced mass'!$C$31)/1000)/(('Specifications and Reduced mass'!$C$23)/1000)))-(('Net Resistance '!F9)/('Specifications and Reduced mass'!$C$47)))))*9.81 -> 0.91921426 | P24: =(((('Specifications and Reduced mass'!$C$21)*(('Specifications and Reduced mass'!$C$17)/('Specifications and Reduced mass'!$C$48))*(((('Specifications and Reduced mass'!$C$23)/1000)-(('Specifications and Reduced mass'!$C$26)/1000))/(('Specifications and Reduced mass'!$C$23)/1000)))/((1)-(('Specifications and Reduced mass'!$C$21)*((('Specifications and Reduced mass'!$C$31)/1000)/(('Specifications and Reduced mass'!$C$23)/1000)))-(('Net Resistance '!G9)/('Specifications and Reduced mass'!$C$48)))))*9.81 -> 0.97932257 | Q24: =(((('Specifications and Reduced mass'!$C$21)*(('Specifications and Reduced mass'!$C$17)/('Specifications and Reduced mass'!$C$49))*(((('Specifications and Reduced mass'!$C$23)/1000)-(('Specifications and Reduced mass'!$C$26)/1000))/(('Specifications and Reduced mass'!$C$23)/1000)))/((1)-(('Specifications and Reduced mass'!$C$21)*((('Specifications and Reduced mass'!$C$31)/1000)/(('Specifications and Reduced mass'!$C$23)/1000)))-(('Net Resistance '!H9)/('Specifications and Reduced mass'!$C$49)))))*9.81 -> 1.0199536 | R24: =(((('Specifications and Reduced mass'!$C$22)*(('Specifications and Reduced mass'!$C$17)/('Specifications and Reduced mass'!$C$47))*(((('Specifications and Reduced mass'!$C$23)/1000)-(('Specifications and Reduced mass'!$C$26)/1000))/(('Specifications and Reduced mass'!$C$23)/1000)))/((1)-(('Specifications and Reduced mass'!$C$22)*((('Specifications and Reduced mass'!$C$31)/1000)/(('Specifications and Reduced mass'!$C$23)/1000)))-(('Net Resistance '!F10)/('Specifications and Reduced mass'!$C$47)))))*9.81 -> 0.44214985 | S24: =(((('Specifications and Reduced mass'!$C$22)*(('Specifications and Reduced mass'!$C$17)/('Specifications and Reduced mass'!$C$48))*(((('Specifications and Reduced mass'!$C$23)/1000)-(('Specifications and Reduced mass'!$C$26)/1000))/(('Specifications and Reduced mass'!$C$23)/1000)))/((1)-(('Specifications and Reduced mass'!$C$22)*((('Specifications and Reduced mass'!$C$31)/1000)/(('Specifications and Reduced mass'!$C$23)/1000)))-(('Net Resistance '!G10)/('Specifications and Reduced mass'!$C$48)))))*9.81 -> 0.4725082 | T24: =(((('Specifications and Reduced mass'!$C$22)*(('Specifications and Reduced mass'!$C$17)/('Specifications and Reduced mass'!$C$49))*(((('Specifications and Reduced mass'!$C$23)/1000)-(('Specifications and Reduced mass'!$C$26)/1000))/(('Specifications and Reduced mass'!$C$23)/1000)))/((1)-(('Specifications and Reduced mass'!$C$22)*((('Specifications and Reduced mass'!$C$31)/1000)/(('Specifications and Reduced mass'!$C$23)/1000)))-(('Net Resistance '!H10)/('Specifications and Reduced mass'!$C$49)))))*9.81 -> 0.49463075
B25: 3000 | C25: =(('Specifications and Reduced mass'!$C$17/'Specifications and Reduced mass'!$C$47))*9.81*((('Specifications and Reduced mass'!$C$32/1000)/((('Specifications and Reduced mass'!$C$31/1000)))-(('Net Resistance '!F10)/('Specifications and Reduced mass'!$C$47)))) -> 5.1084635 | D25: =(('Specifications and Reduced mass'!$C$17/'Specifications and Reduced mass'!$C$48))*9.81*((('Specifications and Reduced mass'!$C$32/1000)/((('Specifications and Reduced mass'!$C$31/1000)))-(('Net Resistance '!G10)/('Specifications and Reduced mass'!$C$48)))) -> 5.3144834 | E25: =(('Specifications and Reduced mass'!$C$17/'Specifications and Reduced mass'!$C$49))*9.81*((('Specifications and Reduced mass'!$C$32/1000)/((('Specifications and Reduced mass'!$C$31/1000)))-(('Net Resistance '!H10)/('Specifications and Reduced mass'!$C$49)))) -> 5.3282579 | F25: =(((('Specifications and Reduced mass'!$C$18)*(('Specifications and Reduced mass'!$C$17)/('Specifications and Reduced mass'!$C$47))*(((('Specifications and Reduced mass'!$C$23)/1000)-(('Specifications and Reduced mass'!$C$26)/1000))/(('Specifications and Reduced mass'!$C$23)/1000)))/((1)-(('Specifications and Reduced mass'!$C$18)*((('Specifications and Reduced mass'!$C$31)/1000)/(('Specifications and Reduced mass'!$C$23)/1000)))-(('Net Resistance '!F10)/('Specifications and Reduced mass'!$C$47)))))*9.81 -> 0.085587042 | G25: =(((('Specifications and Reduced mass'!$C$18)*(('Specifications and Reduced mass'!$C$17)/('Specifications and Reduced mass'!$C$48))*(((('Specifications and Reduced mass'!$C$23)/1000)-(('Specifications and Reduced mass'!$C$26)/1000))/(('Specifications and Reduced mass'!$C$23)/1000)))/((1)-(('Specifications and Reduced mass'!$C$18)*((('Specifications and Reduced mass'!$C$31)/1000)/(('Specifications and Reduced mass'!$C$23)/1000)))-(('Net Resistance '!G10)/('Specifications and Reduced mass'!$C$48)))))*9.81 -> 0.091430675 | H25: =(((('Specifications and Reduced mass'!$C$18)*(('Specifications and Reduced mass'!$C$17)/('Specifications and Reduced mass'!$C$49))*(((('Specifications and Reduced mass'!$C$23)/1000)-(('Specifications and Reduced mass'!$C$26)/1000))/(('Specifications and Reduced mass'!$C$23)/1000)))/((1)-(('Specifications and Reduced mass'!$C$18)*((('Specifications and Reduced mass'!$C$31)/1000)/(('Specifications and Reduced mass'!$C$23)/1000)))-(('Net Resistance '!H10)/('Specifications and Reduced mass'!$C$49)))))*9.81 -> 0.095655622 | I25: =(((('Specifications and Reduced mass'!$C$19)*(('Specifications and Reduced mass'!$C$17)/('Specifications and Reduced mass'!$C$47))*(((('Specifications and Reduced mass'!$C$23)/1000)-(('Specifications and Reduced mass'!$C$26)/1000))/(('Specifications and Reduced mass'!$C$23)/1000)))/((1)-(('Specifications and Reduced mass'!$C$19)*((('Specifications and Reduced mass'!$C$31)/1000)/(('Specifications and Reduced mass'!$C$23)/1000)))-(('Net Resistance '!F10)/('Specifications and Reduced mass'!$C$47)))))*9.81 -> 0.1071992 | J25: =(((('Specifications and Reduced mass'!$C$19)*(('Specifications and Reduced mass'!$C$17)/('Specifications and Reduced mass'!$C$48))*(((('Specifications and Reduced mass'!$C$23)/1000)-(('Specifications and Reduced mass'!$C$26)/1000))/(('Specifications and Reduced mass'!$C$23)/1000)))/((1)-(('Specifications and Reduced mass'!$C$19)*((('Specifications and Reduced mass'!$C$31)/1000)/(('Specifications and Reduced mass'!$C$23)/1000)))-(('Net Resistance '!G10)/('Specifications and Reduced mass'!$C$48)))))*9.81 -> 0.11452094 | K25: =(((('Specifications and Reduced mass'!$C$19)*(('Specifications and Reduced mass'!$C$17)/('Specifications and Reduced mass'!$C$49))*(((('Specifications and Reduced mass'!$C$23)/1000)-(('Specifications and Reduced mass'!$C$26)/1000))/(('Specifications and Reduced mass'!$C$23)/1000)))/((1)-(('Specifications and Reduced mass'!$C$19)*((('Specifications and Reduced mass'!$C$31)/1000)/(('Specifications and Reduced mass'!$C$23)/1000)))-(('Net Resistance '!H10)/('Specifications and Reduced mass'!$C$49)))))*9.81 -> 0.1198171 | L25: =(((('Specifications and Reduced mass'!$C$20)*(('Specifications and Reduced mass'!$C$17)/('Specifications and Reduced mass'!$C$47))*(((('Specifications and Reduced mass'!$C$23)/1000)-(('Specifications and Reduced mass'!$C$26)/1000))/(('Specifications and Reduced mass'!$C$23)/1000)))/((1)-(('Specifications and Reduced mass'!$C$20)*((('Specifications and Reduced mass'!$C$31)/1000)/(('Specifications and Reduced mass'!$C$23)/1000)))-(('Net Resistance '!F10)/('Specifications and Reduced mass'!$C$47)))))*9.81 -> 1.4465762 | M25: =(((('Specifications and Reduced mass'!$C$20)*(('Specifications and Reduced mass'!$C$17)/('Specifications and Reduced mass'!$C$48))*(((('Specifications and Reduced mass'!$C$23)/1000)-(('Specifications and Reduced mass'!$C$26)/1000))/(('Specifications and Reduced mass'!$C$23)/1000)))/((1)-(('Specifications and Reduced mass'!$C$20)*((('Specifications and Reduced mass'!$C$31)/1000)/(('Specifications and Reduced mass'!$C$23)/1000)))-(('Net Resistance '!G10)/('Specifications and Reduced mass'!$C$48)))))*9.81 -> 1.5474649 | N25: =(((('Specifications and Reduced mass'!$C$20)*(('Specifications and Reduced mass'!$C$17)/('Specifications and Reduced mass'!$C$49))*(((('Specifications and Reduced mass'!$C$23)/1000)-(('Specifications and Reduced mass'!$C$26)/1000))/(('Specifications and Reduced mass'!$C$23)/1000)))/((1)-(('Specifications and Reduced mass'!$C$20)*((('Specifications and Reduced mass'!$C$31)/1000)/(('Specifications and Reduced mass'!$C$23)/1000)))-(('Net Resistance '!H10)/('Specifications and Reduced mass'!$C$49)))))*9.81 -> 1.6225854 | O25: =(((('Specifications and Reduced mass'!$C$21)*(('Specifications and Reduced mass'!$C$17)/('Specifications and Reduced mass'!$C$47))*(((('Specifications and Reduced mass'!$C$23)/1000)-(('Specifications and Reduced mass'!$C$26)/1000))/(('Specifications and Reduced mass'!$C$23)/1000)))/((1)-(('Specifications and Reduced mass'!$C$21)*((('Specifications and Reduced mass'!$C$31)/1000)/(('Specifications and Reduced mass'!$C$23)/1000)))-(('Net Resistance '!F10)/('Specifications and Reduced mass'!$C$47)))))*9.81 -> 0.92260729 | P25: =(((('Specifications and Reduced mass'!$C$21)*(('Specifications and Reduced mass'!$C$17)/('Specifications and Reduced mass'!$C$48))*(((('Specifications and Reduced mass'!$C$23)/1000)-(('Specifications and Reduced mass'!$C$26)/1000))/(('Specifications and Reduced mass'!$C$23)/1000)))/((1)-(('Specifications and Reduced mass'!$C$21)*((('Specifications and Reduced mass'!$C$31)/1000)/(('Specifications and Reduced mass'!$C$23)/1000)))-(('Net Resistance '!G10)/('Specifications and Reduced mass'!$C$48)))))*9.81 -> 0.98643163 | Q25: =(((('Specifications and Reduced mass'!$C$21)*(('Specifications and Reduced mass'!$C$17)/('Specifications and Reduced mass'!$C$49))*(((('Specifications and Reduced mass'!$C$23)/1000)-(('Specifications and Reduced mass'!$C$26)/1000))/(('Specifications and Reduced mass'!$C$23)/1000)))/((1)-(('Specifications and Reduced mass'!$C$21)*((('Specifications and Reduced mass'!$C$31)/1000)/(('Specifications and Reduced mass'!$C$23)/1000)))-(('Net Resistance '!H10)/('Specifications and Reduced mass'!$C$49)))))*9.81 -> 1.0334285 | R25: =(((('Specifications and Reduced mass'!$C$22)*(('Specifications and Reduced mass'!$C$17)/('Specifications and Reduced mass'!$C$47))*(((('Specifications and Reduced mass'!$C$23)/1000)-(('Specifications and Reduced mass'!$C$26)/1000))/(('Specifications and Reduced mass'!$C$23)/1000)))/((1)-(('Specifications and Reduced mass'!$C$22)*((('Specifications and Reduced mass'!$C$31)/1000)/(('Specifications and Reduced mass'!$C$23)/1000)))-(('Net Resistance '!F11)/('Specifications and Reduced mass'!$C$47)))))*9.81 -> 0.44397207 | S25: =(((('Specifications and Reduced mass'!$C$22)*(('Specifications and Reduced mass'!$C$17)/('Specifications and Reduced mass'!$C$48))*(((('Specifications and Reduced mass'!$C$23)/1000)-(('Specifications and Reduced mass'!$C$26)/1000))/(('Specifications and Reduced mass'!$C$23)/1000)))/((1)-(('Specifications and Reduced mass'!$C$22)*((('Specifications and Reduced mass'!$C$31)/1000)/(('Specifications and Reduced mass'!$C$23)/1000)))-(('Net Resistance '!G11)/('Specifications and Reduced mass'!$C$48)))))*9.81 -> 0.47647621 | T25: =(((('Specifications and Reduced mass'!$C$22)*(('Specifications and Reduced mass'!$C$17)/('Specifications and Reduced mass'!$C$49))*(((('Specifications and Reduced mass'!$C$23)/1000)-(('Specifications and Reduced mass'!$C$26)/1000))/(('Specifications and Reduced mass'!$C$23)/1000)))/((1)-(('Specifications and Reduced mass'!$C$22)*((('Specifications and Reduced mass'!$C$31)/1000)/(('Specifications and Reduced mass'!$C$23)/1000)))-(('Net Resistance '!H11)/('Specifications and Reduced mass'!$C$49)))))*9.81 -> 0.50206152
B26: 3500 | C26: =(('Specifications and Reduced mass'!$C$17/'Specifications and Reduced mass'!$C$47))*9.81*((('Specifications and Reduced mass'!$C$32/1000)/((('Specifications and Reduced mass'!$C$31/1000)))-(('Net Resistance '!F11)/('Specifications and Reduced mass'!$C$47)))) -> 5.0787935 | D26: =(('Specifications and Reduced mass'!$C$17/'Specifications and Reduced mass'!$C$48))*9.81*((('Specifications and Reduced mass'!$C$32/1000)/((('Specifications and Reduced mass'!$C$31/1000)))-(('Net Resistance '!G11)/('Specifications and Reduced mass'!$C$48)))) -> 5.2515625 | E26: =(('Specifications and Reduced mass'!$C$17/'Specifications and Reduced mass'!$C$49))*9.81*((('Specifications and Reduced mass'!$C$32/1000)/((('Specifications and Reduced mass'!$C$31/1000)))-(('Net Resistance '!H11)/('Specifications and Reduced mass'!$C$49)))) -> 5.2152879 | F26: =(((('Specifications and Reduced mass'!$C$18)*(('Specifications and Reduced mass'!$C$17)/('Specifications and Reduced mass'!$C$47))*(((('Specifications and Reduced mass'!$C$23)/1000)-(('Specifications and Reduced mass'!$C$26)/1000))/(('Specifications and Reduced mass'!$C$23)/1000)))/((1)-(('Specifications and Reduced mass'!$C$18)*((('Specifications and Reduced mass'!$C$31)/1000)/(('Specifications and Reduced mass'!$C$23)/1000)))-(('Net Resistance '!F11)/('Specifications and Reduced mass'!$C$47)))))*9.81 -> 0.085928384 | G26: =(((('Specifications and Reduced mass'!$C$18)*(('Specifications and Reduced mass'!$C$17)/('Specifications and Reduced mass'!$C$48))*(((('Specifications and Reduced mass'!$C$23)/1000)-(('Specifications and Reduced mass'!$C$26)/1000))/(('Specifications and Reduced mass'!$C$23)/1000)))/((1)-(('Specifications and Reduced mass'!$C$18)*((('Specifications and Reduced mass'!$C$31)/1000)/(('Specifications and Reduced mass'!$C$23)/1000)))-(('Net Resistance '!G11)/('Specifications and Reduced mass'!$C$48)))))*9.81 -> 0.092173333 | H26: =(((('Specifications and Reduced mass'!$C$18)*(('Specifications and Reduced mass'!$C$17)/('Specifications and Reduced mass'!$C$49))*(((('Specifications and Reduced mass'!$C$23)/1000)-(('Specifications and Reduced mass'!$C$26)/1000))/(('Specifications and Reduced mass'!$C$23)/1000)))/((1)-(('Specifications and Reduced mass'!$C$18)*((('Specifications and Reduced mass'!$C$31)/1000)/(('Specifications and Reduced mass'!$C$23)/1000)))-(('Net Resistance '!H11)/('Specifications and Reduced mass'!$C$49)))))*9.81 -> 0.097044444 | I26: =(((('Specifications and Reduced mass'!$C$19)*(('Specifications and Reduced mass'!$C$17)/('Specifications and Reduced mass'!$C$47))*(((('Specifications and Reduced mass'!$C$23)/1000)-(('Specifications and Reduced mass'!$C$26)/1000))/(('Specifications and Reduced mass'!$C$23)/1000)))/((1)-(('Specifications and Reduced mass'!$C$19)*((('Specifications and Reduced mass'!$C$31)/1000)/(('Specifications and Reduced mass'!$C$23)/1000)))-(('Net Resistance '!F11)/('Specifications and Reduced mass'!$C$47)))))*9.81 -> 0.1076276 | J26: =(((('Specifications and Reduced mass'!$C$19)*(('Specifications and Reduced mass'!$C$17)/('Specifications and Reduced mass'!$C$48))*(((('Specifications and Reduced mass'!$C$23)/1000)-(('Specifications and Reduced mass'!$C$26)/1000))/(('Specifications and Reduced mass'!$C$23)/1000)))/((1)-(('Specifications and Reduced mass'!$C$19)*((('Specifications and Reduced mass'!$C$31)/1000)/(('Specifications and Reduced mass'!$C$23)/1000)))-(('Net Resistance '!G11)/('Specifications and Reduced mass'!$C$48)))))*9.81 -> 0.11545306 | K26: =(((('Specifications and Reduced mass'!$C$19)*(('Specifications and Reduced mass'!$C$17)/('Specifications and Reduced mass'!$C$49))*(((('Specifications and Reduced mass'!$C$23)/1000)-(('Specifications and Reduced mass'!$C$26)/1000))/(('Specifications and Reduced mass'!$C$23)/1000)))/((1)-(('Specifications and Reduced mass'!$C$19)*((('Specifications and Reduced mass'!$C$31)/1000)/(('Specifications and Reduced mass'!$C$23)/1000)))-(('Net Resistance '!H11)/('Specifications and Reduced mass'!$C$49)))))*9.81 -> 0.12156038 | L26: =(((('Specifications and Reduced mass'!$C$20)*(('Specifications and Reduced mass'!$C$17)/('Specifications and Reduced mass'!$C$47))*(((('Specifications and Reduced mass'!$C$23)/1000)-(('Specifications and Reduced mass'!$C$26)/1000))/(('Specifications and Reduced mass'!$C$23)/1000)))/((1)-(('Specifications and Reduced mass'!$C$20)*((('Specifications and Reduced mass'!$C$31)/1000)/(('Specifications and Reduced mass'!$C$23)/1000)))-(('Net Resistance '!F11)/('Specifications and Reduced mass'!$C$47)))))*9.81 -> 1.4530802 | M26: =(((('Specifications and Reduced mass'!$C$20)*(('Specifications and Reduced mass'!$C$17)/('Specifications and Reduced mass'!$C$48))*(((('Specifications and Reduced mass'!$C$23)/1000)-(('Specifications and Reduced mass'!$C$26)/1000))/(('Specifications and Reduced mass'!$C$23)/1000)))/((1)-(('Specifications and Reduced mass'!$C$20)*((('Specifications and Reduced mass'!$C$31)/1000)/(('Specifications and Reduced mass'!$C$23)/1000)))-(('Net Resistance '!G11)/('Specifications and Reduced mass'!$C$48)))))*9.81 -> 1.5616623 | N26: =(((('Specifications and Reduced mass'!$C$20)*(('Specifications and Reduced mass'!$C$17)/('Specifications and Reduced mass'!$C$49))*(((('Specifications and Reduced mass'!$C$23)/1000)-(('Specifications and Reduced mass'!$C$26)/1000))/(('Specifications and Reduced mass'!$C$23)/1000)))/((1)-(('Specifications and Reduced mass'!$C$20)*((('Specifications and Reduced mass'!$C$31)/1000)/(('Specifications and Reduced mass'!$C$23)/1000)))-(('Net Resistance '!H11)/('Specifications and Reduced mass'!$C$49)))))*9.81 -> 1.649277 | O26: =(((('Specifications and Reduced mass'!$C$21)*(('Specifications and Reduced mass'!$C$17)/('Specifications and Reduced mass'!$C$47))*(((('Specifications and Reduced mass'!$C$23)/1000)-(('Specifications and Reduced mass'!$C$26)/1000))/(('Specifications and Reduced mass'!$C$23)/1000)))/((1)-(('Specifications and Reduced mass'!$C$21)*((('Specifications and Reduced mass'!$C$31)/1000)/(('Specifications and Reduced mass'!$C$23)/1000)))-(('Net Resistance '!F11)/('Specifications and Reduced mass'!$C$47)))))*9.81 -> 0.92657501 | P26: =(((('Specifications and Reduced mass'!$C$21)*(('Specifications and Reduced mass'!$C$17)/('Specifications and Reduced mass'!$C$48))*(((('Specifications and Reduced mass'!$C$23)/1000)-(('Specifications and Reduced mass'!$C$26)/1000))/(('Specifications and Reduced mass'!$C$23)/1000)))/((1)-(('Specifications and Reduced mass'!$C$21)*((('Specifications and Reduced mass'!$C$31)/1000)/(('Specifications and Reduced mass'!$C$23)/1000)))-(('Net Resistance '!G11)/('Specifications and Reduced mass'!$C$48)))))*9.81 -> 0.99508167 | Q26: =(((('Specifications and Reduced mass'!$C$21)*(('Specifications and Reduced mass'!$C$17)/('Specifications and Reduced mass'!$C$49))*(((('Specifications and Reduced mass'!$C$23)/1000)-(('Specifications and Reduced mass'!$C$26)/1000))/(('Specifications and Reduced mass'!$C$23)/1000)))/((1)-(('Specifications and Reduced mass'!$C$21)*((('Specifications and Reduced mass'!$C$31)/1000)/(('Specifications and Reduced mass'!$C$23)/1000)))-(('Net Resistance '!H11)/('Specifications and Reduced mass'!$C$49)))))*9.81 -> 1.0496576 | R26: =(((('Specifications and Reduced mass'!$C$22)*(('Specifications and Reduced mass'!$C$17)/('Specifications and Reduced mass'!$C$47))*(((('Specifications and Reduced mass'!$C$23)/1000)-(('Specifications and Reduced mass'!$C$26)/1000))/(('Specifications and Reduced mass'!$C$23)/1000)))/((1)-(('Specifications and Reduced mass'!$C$22)*((('Specifications and Reduced mass'!$C$31)/1000)/(('Specifications and Reduced mass'!$C$23)/1000)))-(('Net Resistance '!F12)/('Specifications and Reduced mass'!$C$47)))))*9.81 -> 0.44613006 | S26: =(((('Specifications and Reduced mass'!$C$22)*(('Specifications and Reduced mass'!$C$17)/('Specifications and Reduced mass'!$C$48))*(((('Specifications and Reduced mass'!$C$23)/1000)-(('Specifications and Reduced mass'!$C$26)/1000))/(('Specifications and Reduced mass'!$C$23)/1000)))/((1)-(('Specifications and Reduced mass'!$C$22)*((('Specifications and Reduced mass'!$C$31)/1000)/(('Specifications and Reduced mass'!$C$23)/1000)))-(('Net Resistance '!G12)/('Specifications and Reduced mass'!$C$48)))))*9.81 -> 0.48107888 | T26: =(((('Specifications and Reduced mass'!$C$22)*(('Specifications and Reduced mass'!$C$17)/('Specifications and Reduced mass'!$C$49))*(((('Specifications and Reduced mass'!$C$23)/1000)-(('Specifications and Reduced mass'!$C$26)/1000))/(('Specifications and Reduced mass'!$C$23)/1000)))/((1)-(('Specifications and Reduced mass'!$C$22)*((('Specifications and Reduced mass'!$C$31)/1000)/(('Specifications and Reduced mass'!$C$23)/1000)))-(('Net Resistance '!H12)/('Specifications and Reduced mass'!$C$49)))))*9.81 -> 0.51284504
B27: 4000 | C27: =(('Specifications and Reduced mass'!$C$17/'Specifications and Reduced mass'!$C$47))*9.81*((('Specifications and Reduced mass'!$C$32/1000)/((('Specifications and Reduced mass'!$C$31/1000)))-(('Net Resistance '!F12)/('Specifications and Reduced mass'!$C$47)))) -> 5.0439696 | D27: =(('Specifications and Reduced mass'!$C$17/'Specifications and Reduced mass'!$C$48))*9.81*((('Specifications and Reduced mass'!$C$32/1000)/((('Specifications and Reduced mass'!$C$31/1000)))-(('Net Resistance '!G12)/('Specifications and Reduced mass'!$C$48)))) -> 5.1798781 | E27: =(('Specifications and Reduced mass'!$C$17/'Specifications and Reduced mass'!$C$49))*9.81*((('Specifications and Reduced mass'!$C$32/1000)/((('Specifications and Reduced mass'!$C$31/1000)))-(('Net Resistance '!H12)/('Specifications and Reduced mass'!$C$49)))) -> 5.0571686 | F27: =(((('Specifications and Reduced mass'!$C$18)*(('Specifications and Reduced mass'!$C$17)/('Specifications and Reduced mass'!$C$47))*(((('Specifications and Reduced mass'!$C$23)/1000)-(('Specifications and Reduced mass'!$C$26)/1000))/(('Specifications and Reduced mass'!$C$23)/1000)))/((1)-(('Specifications and Reduced mass'!$C$18)*((('Specifications and Reduced mass'!$C$31)/1000)/(('Specifications and Reduced mass'!$C$23)/1000)))-(('Net Resistance '!F12)/('Specifications and Reduced mass'!$C$47)))))*9.81 -> 0.086332508 | G27: =(((('Specifications and Reduced mass'!$C$18)*(('Specifications and Reduced mass'!$C$17)/('Specifications and Reduced mass'!$C$48))*(((('Specifications and Reduced mass'!$C$23)/1000)-(('Specifications and Reduced mass'!$C$26)/1000))/(('Specifications and Reduced mass'!$C$23)/1000)))/((1)-(('Specifications and Reduced mass'!$C$18)*((('Specifications and Reduced mass'!$C$31)/1000)/(('Specifications and Reduced mass'!$C$23)/1000)))-(('Net Resistance '!G12)/('Specifications and Reduced mass'!$C$48)))))*9.81 -> 0.093034269 | H27: =(((('Specifications and Reduced mass'!$C$18)*(('Specifications and Reduced mass'!$C$17)/('Specifications and Reduced mass'!$C$49))*(((('Specifications and Reduced mass'!$C$23)/1000)-(('Specifications and Reduced mass'!$C$26)/1000))/(('Specifications and Reduced mass'!$C$23)/1000)))/((1)-(('Specifications and Reduced mass'!$C$18)*((('Specifications and Reduced mass'!$C$31)/1000)/(('Specifications and Reduced mass'!$C$23)/1000)))-(('Net Resistance '!H12)/('Specifications and Reduced mass'!$C$49)))))*9.81 -> 0.099057451 | I27: =(((('Specifications and Reduced mass'!$C$19)*(('Specifications and Reduced mass'!$C$17)/('Specifications and Reduced mass'!$C$47))*(((('Specifications and Reduced mass'!$C$23)/1000)-(('Specifications and Reduced mass'!$C$26)/1000))/(('Specifications and Reduced mass'!$C$23)/1000)))/((1)-(('Specifications and Reduced mass'!$C$19)*((('Specifications and Reduced mass'!$C$31)/1000)/(('Specifications and Reduced mass'!$C$23)/1000)))-(('Net Resistance '!F12)/('Specifications and Reduced mass'!$C$47)))))*9.81 -> 0.1081348 | J27: =(((('Specifications and Reduced mass'!$C$19)*(('Specifications and Reduced mass'!$C$17)/('Specifications and Reduced mass'!$C$48))*(((('Specifications and Reduced mass'!$C$23)/1000)-(('Specifications and Reduced mass'!$C$26)/1000))/(('Specifications and Reduced mass'!$C$23)/1000)))/((1)-(('Specifications and Reduced mass'!$C$19)*((('Specifications and Reduced mass'!$C$31)/1000)/(('Specifications and Reduced mass'!$C$23)/1000)))-(('Net Resistance '!G12)/('Specifications and Reduced mass'!$C$48)))))*9.81 -> 0.11653367 | K27: =(((('Specifications and Reduced mass'!$C$19)*(('Specifications and Reduced mass'!$C$17)/('Specifications and Reduced mass'!$C$49))*(((('Specifications and Reduced mass'!$C$23)/1000)-(('Specifications and Reduced mass'!$C$26)/1000))/(('Specifications and Reduced mass'!$C$23)/1000)))/((1)-(('Specifications and Reduced mass'!$C$19)*((('Specifications and Reduced mass'!$C$31)/1000)/(('Specifications and Reduced mass'!$C$23)/1000)))-(('Net Resistance '!H12)/('Specifications and Reduced mass'!$C$49)))))*9.81 -> 0.12408733 | L27: =(((('Specifications and Reduced mass'!$C$20)*(('Specifications and Reduced mass'!$C$17)/('Specifications and Reduced mass'!$C$47))*(((('Specifications and Reduced mass'!$C$23)/1000)-(('Specifications and Reduced mass'!$C$26)/1000))/(('Specifications and Reduced mass'!$C$23)/1000)))/((1)-(('Specifications and Reduced mass'!$C$20)*((('Specifications and Reduced mass'!$C$31)/1000)/(('Specifications and Reduced mass'!$C$23)/1000)))-(('Net Resistance '!F12)/('Specifications and Reduced mass'!$C$47)))))*9.81 -> 1.4607891 | M27: =(((('Specifications and Reduced mass'!$C$20)*(('Specifications and Reduced mass'!$C$17)/('Specifications and Reduced mass'!$C$48))*(((('Specifications and Reduced mass'!$C$23)/1000)-(('Specifications and Reduced mass'!$C$26)/1000))/(('Specifications and Reduced mass'!$C$23)/1000)))/((1)-(('Specifications and Reduced mass'!$C$20)*((('Specifications and Reduced mass'!$C$31)/1000)/(('Specifications and Reduced mass'!$C$23)/1000)))-(('Net Resistance '!G12)/('Specifications and Reduced mass'!$C$48)))))*9.81 -> 1.5781579 | N27: =(((('Specifications and Reduced mass'!$C$20)*(('Specifications and Reduced mass'!$C$17)/('Specifications and Reduced mass'!$C$49))*(((('Specifications and Reduced mass'!$C$23)/1000)-(('Specifications and Reduced mass'!$C$26)/1000))/(('Specifications and Reduced mass'!$C$23)/1000)))/((1)-(('Specifications and Reduced mass'!$C$20)*((('Specifications and Reduced mass'!$C$31)/1000)/(('Specifications and Reduced mass'!$C$23)/1000)))-(('Net Resistance '!H12)/('Specifications and Reduced mass'!$C$49)))))*9.81 -> 1.6881457 | O27: =(((('Specifications and Reduced mass'!$C$21)*(('Specifications and Reduced mass'!$C$17)/('Specifications and Reduced mass'!$C$47))*(((('Specifications and Reduced mass'!$C$23)/1000)-(('Specifications and Reduced mass'!$C$26)/1000))/(('Specifications and Reduced mass'!$C$23)/1000)))/((1)-(('Specifications and Reduced mass'!$C$21)*((('Specifications and Reduced mass'!$C$31)/1000)/(('Specifications and Reduced mass'!$C$23)/1000)))-(('Net Resistance '!F12)/('Specifications and Reduced mass'!$C$47)))))*9.81 -> 0.93127572 | P27: =(((('Specifications and Reduced mass'!$C$21)*(('Specifications and Reduced mass'!$C$17)/('Specifications and Reduced mass'!$C$48))*(((('Specifications and Reduced mass'!$C$23)/1000)-(('Specifications and Reduced mass'!$C$26)/1000))/(('Specifications and Reduced mass'!$C$23)/1000)))/((1)-(('Specifications and Reduced mass'!$C$21)*((('Specifications and Reduced mass'!$C$31)/1000)/(('Specifications and Reduced mass'!$C$23)/1000)))-(('Net Resistance '!G12)/('Specifications and Reduced mass'!$C$48)))))*9.81 -> 1.0051232 | Q27: =(((('Specifications and Reduced mass'!$C$21)*(('Specifications and Reduced mass'!$C$17)/('Specifications and Reduced mass'!$C$49))*(((('Specifications and Reduced mass'!$C$23)/1000)-(('Specifications and Reduced mass'!$C$26)/1000))/(('Specifications and Reduced mass'!$C$23)/1000)))/((1)-(('Specifications and Reduced mass'!$C$21)*((('Specifications and Reduced mass'!$C$31)/1000)/(('Specifications and Reduced mass'!$C$23)/1000)))-(('Net Resistance '!H12)/('Specifications and Reduced mass'!$C$49)))))*9.81 -> 1.073248 | R27: =(((('Specifications and Reduced mass'!$C$22)*(('Specifications and Reduced mass'!$C$17)/('Specifications and Reduced mass'!$C$47))*(((('Specifications and Reduced mass'!$C$23)/1000)-(('Specifications and Reduced mass'!$C$26)/1000))/(('Specifications and Reduced mass'!$C$23)/1000)))/((1)-(('Specifications and Reduced mass'!$C$22)*((('Specifications and Reduced mass'!$C$31)/1000)/(('Specifications and Reduced mass'!$C$23)/1000)))-(('Net Resistance '!F13)/('Specifications and Reduced mass'!$C$47)))))*9.81 -> 0.44860267 | S27: =(((('Specifications and Reduced mass'!$C$22)*(('Specifications and Reduced mass'!$C$17)/('Specifications and Reduced mass'!$C$48))*(((('Specifications and Reduced mass'!$C$23)/1000)-(('Specifications and Reduced mass'!$C$26)/1000))/(('Specifications and Reduced mass'!$C$23)/1000)))/((1)-(('Specifications and Reduced mass'!$C$22)*((('Specifications and Reduced mass'!$C$31)/1000)/(('Specifications and Reduced mass'!$C$23)/1000)))-(('Net Resistance '!G13)/('Specifications and Reduced mass'!$C$48)))))*9.81 -> 0.48647469 | T27: =(((('Specifications and Reduced mass'!$C$22)*(('Specifications and Reduced mass'!$C$17)/('Specifications and Reduced mass'!$C$49))*(((('Specifications and Reduced mass'!$C$23)/1000)-(('Specifications and Reduced mass'!$C$26)/1000))/(('Specifications and Reduced mass'!$C$23)/1000)))/((1)-(('Specifications and Reduced mass'!$C$22)*((('Specifications and Reduced mass'!$C$31)/1000)/(('Specifications and Reduced mass'!$C$23)/1000)))-(('Net Resistance '!H13)/('Specifications and Reduced mass'!$C$49)))))*9.81 -> 0.52143469
B28: 4500 | C28: =(('Specifications and Reduced mass'!$C$17/'Specifications and Reduced mass'!$C$47))*9.81*((('Specifications and Reduced mass'!$C$32/1000)/((('Specifications and Reduced mass'!$C$31/1000)))-(('Net Resistance '!F13)/('Specifications and Reduced mass'!$C$47)))) -> 5.0044807 | D28: =(('Specifications and Reduced mass'!$C$17/'Specifications and Reduced mass'!$C$48))*9.81*((('Specifications and Reduced mass'!$C$32/1000)/((('Specifications and Reduced mass'!$C$31/1000)))-(('Net Resistance '!G13)/('Specifications and Reduced mass'!$C$48)))) -> 5.0975681 | E28: =(('Specifications and Reduced mass'!$C$17/'Specifications and Reduced mass'!$C$49))*9.81*((('Specifications and Reduced mass'!$C$32/1000)/((('Specifications and Reduced mass'!$C$31/1000)))-(('Net Resistance '!H13)/('Specifications and Reduced mass'!$C$49)))) -> 4.9358976 | F28: =(((('Specifications and Reduced mass'!$C$18)*(('Specifications and Reduced mass'!$C$17)/('Specifications and Reduced mass'!$C$47))*(((('Specifications and Reduced mass'!$C$23)/1000)-(('Specifications and Reduced mass'!$C$26)/1000))/(('Specifications and Reduced mass'!$C$23)/1000)))/((1)-(('Specifications and Reduced mass'!$C$18)*((('Specifications and Reduced mass'!$C$31)/1000)/(('Specifications and Reduced mass'!$C$23)/1000)))-(('Net Resistance '!F13)/('Specifications and Reduced mass'!$C$47)))))*9.81 -> 0.086795392 | G28: =(((('Specifications and Reduced mass'!$C$18)*(('Specifications and Reduced mass'!$C$17)/('Specifications and Reduced mass'!$C$48))*(((('Specifications and Reduced mass'!$C$23)/1000)-(('Specifications and Reduced mass'!$C$26)/1000))/(('Specifications and Reduced mass'!$C$23)/1000)))/((1)-(('Specifications and Reduced mass'!$C$18)*((('Specifications and Reduced mass'!$C$31)/1000)/(('Specifications and Reduced mass'!$C$23)/1000)))-(('Net Resistance '!G13)/('Specifications and Reduced mass'!$C$48)))))*9.81 -> 0.094042868 | H28: =(((('Specifications and Reduced mass'!$C$18)*(('Specifications and Reduced mass'!$C$17)/('Specifications and Reduced mass'!$C$49))*(((('Specifications and Reduced mass'!$C$23)/1000)-(('Specifications and Reduced mass'!$C$26)/1000))/(('Specifications and Reduced mass'!$C$23)/1000)))/((1)-(('Specifications and Reduced mass'!$C$18)*((('Specifications and Reduced mass'!$C$31)/1000)/(('Specifications and Reduced mass'!$C$23)/1000)))-(('Net Resistance '!H13)/('Specifications and Reduced mass'!$C$49)))))*9.81 -> 0.10065885 | I28: =(((('Specifications and Reduced mass'!$C$19)*(('Specifications and Reduced mass'!$C$17)/('Specifications and Reduced mass'!$C$47))*(((('Specifications and Reduced mass'!$C$23)/1000)-(('Specifications and Reduced mass'!$C$26)/1000))/(('Specifications and Reduced mass'!$C$23)/1000)))/((1)-(('Specifications and Reduced mass'!$C$19)*((('Specifications and Reduced mass'!$C$31)/1000)/(('Specifications and Reduced mass'!$C$23)/1000)))-(('Net Resistance '!F13)/('Specifications and Reduced mass'!$C$47)))))*9.81 -> 0.10871577 | J28: =(((('Specifications and Reduced mass'!$C$19)*(('Specifications and Reduced mass'!$C$17)/('Specifications and Reduced mass'!$C$48))*(((('Specifications and Reduced mass'!$C$23)/1000)-(('Specifications and Reduced mass'!$C$26)/1000))/(('Specifications and Reduced mass'!$C$23)/1000)))/((1)-(('Specifications and Reduced mass'!$C$19)*((('Specifications and Reduced mass'!$C$31)/1000)/(('Specifications and Reduced mass'!$C$23)/1000)))-(('Net Resistance '!G13)/('Specifications and Reduced mass'!$C$48)))))*9.81 -> 0.11779968 | K28: =(((('Specifications and Reduced mass'!$C$19)*(('Specifications and Reduced mass'!$C$17)/('Specifications and Reduced mass'!$C$49))*(((('Specifications and Reduced mass'!$C$23)/1000)-(('Specifications and Reduced mass'!$C$26)/1000))/(('Specifications and Reduced mass'!$C$23)/1000)))/((1)-(('Specifications and Reduced mass'!$C$19)*((('Specifications and Reduced mass'!$C$31)/1000)/(('Specifications and Reduced mass'!$C$23)/1000)))-(('Net Resistance '!H13)/('Specifications and Reduced mass'!$C$49)))))*9.81 -> 0.12609774 | L28: =(((('Specifications and Reduced mass'!$C$20)*(('Specifications and Reduced mass'!$C$17)/('Specifications and Reduced mass'!$C$47))*(((('Specifications and Reduced mass'!$C$23)/1000)-(('Specifications and Reduced mass'!$C$26)/1000))/(('Specifications and Reduced mass'!$C$23)/1000)))/((1)-(('Specifications and Reduced mass'!$C$20)*((('Specifications and Reduced mass'!$C$31)/1000)/(('Specifications and Reduced mass'!$C$23)/1000)))-(('Net Resistance '!F13)/('Specifications and Reduced mass'!$C$47)))))*9.81 -> 1.4696301 | M28: =(((('Specifications and Reduced mass'!$C$20)*(('Specifications and Reduced mass'!$C$17)/('Specifications and Reduced mass'!$C$48))*(((('Specifications and Reduced mass'!$C$23)/1000)-(('Specifications and Reduced mass'!$C$26)/1000))/(('Specifications and Reduced mass'!$C$23)/1000)))/((1)-(('Specifications and Reduced mass'!$C$20)*((('Specifications and Reduced mass'!$C$31)/1000)/(('Specifications and Reduced mass'!$C$23)/1000)))-(('Net Resistance '!G13)/('Specifications and Reduced mass'!$C$48)))))*9.81 -> 1.5975337 | N28: =(((('Specifications and Reduced mass'!$C$20)*(('Specifications and Reduced mass'!$C$17)/('Specifications and Reduced mass'!$C$49))*(((('Specifications and Reduced mass'!$C$23)/1000)-(('Specifications and Reduced mass'!$C$26)/1000))/(('Specifications and Reduced mass'!$C$23)/1000)))/((1)-(('Specifications and Reduced mass'!$C$20)*((('Specifications and Reduced mass'!$C$31)/1000)/(('Specifications and Reduced mass'!$C$23)/1000)))-(('Net Resistance '!H13)/('Specifications and Reduced mass'!$C$49)))))*9.81 -> 1.7192206 | O28: =(((('Specifications and Reduced mass'!$C$21)*(('Specifications and Reduced mass'!$C$17)/('Specifications and Reduced mass'!$C$47))*(((('Specifications and Reduced mass'!$C$23)/1000)-(('Specifications and Reduced mass'!$C$26)/1000))/(('Specifications and Reduced mass'!$C$23)/1000)))/((1)-(('Specifications and Reduced mass'!$C$21)*((('Specifications and Reduced mass'!$C$31)/1000)/(('Specifications and Reduced mass'!$C$23)/1000)))-(('Net Resistance '!F13)/('Specifications and Reduced mass'!$C$47)))))*9.81 -> 0.93666416 | P28: =(((('Specifications and Reduced mass'!$C$21)*(('Specifications and Reduced mass'!$C$17)/('Specifications and Reduced mass'!$C$48))*(((('Specifications and Reduced mass'!$C$23)/1000)-(('Specifications and Reduced mass'!$C$26)/1000))/(('Specifications and Reduced mass'!$C$23)/1000)))/((1)-(('Specifications and Reduced mass'!$C$21)*((('Specifications and Reduced mass'!$C$31)/1000)/(('Specifications and Reduced mass'!$C$23)/1000)))-(('Net Resistance '!G13)/('Specifications and Reduced mass'!$C$48)))))*9.81 -> 1.0169061 | Q28: =(((('Specifications and Reduced mass'!$C$21)*(('Specifications and Reduced mass'!$C$17)/('Specifications and Reduced mass'!$C$49))*(((('Specifications and Reduced mass'!$C$23)/1000)-(('Specifications and Reduced mass'!$C$26)/1000))/(('Specifications and Reduced mass'!$C$23)/1000)))/((1)-(('Specifications and Reduced mass'!$C$21)*((('Specifications and Reduced mass'!$C$31)/1000)/(('Specifications and Reduced mass'!$C$23)/1000)))-(('Net Resistance '!H13)/('Specifications and Reduced mass'!$C$49)))))*9.81 -> 1.0920719 | R28: =(((('Specifications and Reduced mass'!$C$22)*(('Specifications and Reduced mass'!$C$17)/('Specifications and Reduced mass'!$C$47))*(((('Specifications and Reduced mass'!$C$23)/1000)-(('Specifications and Reduced mass'!$C$26)/1000))/(('Specifications and Reduced mass'!$C$23)/1000)))/((1)-(('Specifications and Reduced mass'!$C$22)*((('Specifications and Reduced mass'!$C$31)/1000)/(('Specifications and Reduced mass'!$C$23)/1000)))-(('Net Resistance '!F14)/('Specifications and Reduced mass'!$C$47)))))*9.81 -> 0.45145208 | S28: =(((('Specifications and Reduced mass'!$C$22)*(('Specifications and Reduced mass'!$C$17)/('Specifications and Reduced mass'!$C$48))*(((('Specifications and Reduced mass'!$C$23)/1000)-(('Specifications and Reduced mass'!$C$26)/1000))/(('Specifications and Reduced mass'!$C$23)/1000)))/((1)-(('Specifications and Reduced mass'!$C$22)*((('Specifications and Reduced mass'!$C$31)/1000)/(('Specifications and Reduced mass'!$C$23)/1000)))-(('Net Resistance '!G14)/('Specifications and Reduced mass'!$C$48)))))*9.81 -> 0.49257093 | T28: =(((('Specifications and Reduced mass'!$C$22)*(('Specifications and Reduced mass'!$C$17)/('Specifications and Reduced mass'!$C$49))*(((('Specifications and Reduced mass'!$C$23)/1000)-(('Specifications and Reduced mass'!$C$26)/1000))/(('Specifications and Reduced mass'!$C$23)/1000)))/((1)-(('Specifications and Reduced mass'!$C$22)*((('Specifications and Reduced mass'!$C$31)/1000)/(('Specifications and Reduced mass'!$C$23)/1000)))-(('Net Resistance '!H14)/('Specifications and Reduced mass'!$C$49)))))*9.81 -> 0.53372765
B29: 5000 | C29: =(('Specifications and Reduced mass'!$C$17/'Specifications and Reduced mass'!$C$47))*9.81*((('Specifications and Reduced mass'!$C$32/1000)/((('Specifications and Reduced mass'!$C$31/1000)))-(('Net Resistance '!F14)/('Specifications and Reduced mass'!$C$47)))) -> 4.9595106 | D29: =(('Specifications and Reduced mass'!$C$17/'Specifications and Reduced mass'!$C$48))*9.81*((('Specifications and Reduced mass'!$C$32/1000)/((('Specifications and Reduced mass'!$C$31/1000)))-(('Net Resistance '!G14)/('Specifications and Reduced mass'!$C$48)))) -> 5.0067431 | E29: =(('Specifications and Reduced mass'!$C$17/'Specifications and Reduced mass'!$C$49))*9.81*((('Specifications and Reduced mass'!$C$32/1000)/((('Specifications and Reduced mass'!$C$31/1000)))-(('Net Resistance '!H14)/('Specifications and Reduced mass'!$C$49)))) -> 4.7691329 | F29: =(((('Specifications and Reduced mass'!$C$18)*(('Specifications and Reduced mass'!$C$17)/('Specifications and Reduced mass'!$C$47))*(((('Specifications and Reduced mass'!$C$23)/1000)-(('Specifications and Reduced mass'!$C$26)/1000))/(('Specifications and Reduced mass'!$C$23)/1000)))/((1)-(('Specifications and Reduced mass'!$C$18)*((('Specifications and Reduced mass'!$C$31)/1000)/(('Specifications and Reduced mass'!$C$23)/1000)))-(('Net Resistance '!F14)/('Specifications and Reduced mass'!$C$47)))))*9.81 -> 0.08732861 | G29: =(((('Specifications and Reduced mass'!$C$18)*(('Specifications and Reduced mass'!$C$17)/('Specifications and Reduced mass'!$C$48))*(((('Specifications and Reduced mass'!$C$23)/1000)-(('Specifications and Reduced mass'!$C$26)/1000))/(('Specifications and Reduced mass'!$C$23)/1000)))/((1)-(('Specifications and Reduced mass'!$C$18)*((('Specifications and Reduced mass'!$C$31)/1000)/(('Specifications and Reduced mass'!$C$23)/1000)))-(('Net Resistance '!G14)/('Specifications and Reduced mass'!$C$48)))))*9.81 -> 0.095181495 | H29: =(((('Specifications and Reduced mass'!$C$18)*(('Specifications and Reduced mass'!$C$17)/('Specifications and Reduced mass'!$C$49))*(((('Specifications and Reduced mass'!$C$23)/1000)-(('Specifications and Reduced mass'!$C$26)/1000))/(('Specifications and Reduced mass'!$C$23)/1000)))/((1)-(('Specifications and Reduced mass'!$C$18)*((('Specifications and Reduced mass'!$C$31)/1000)/(('Specifications and Reduced mass'!$C$23)/1000)))-(('Net Resistance '!H14)/('Specifications and Reduced mass'!$C$49)))))*9.81 -> 0.10294747 | I29: =(((('Specifications and Reduced mass'!$C$19)*(('Specifications and Reduced mass'!$C$17)/('Specifications and Reduced mass'!$C$47))*(((('Specifications and Reduced mass'!$C$23)/1000)-(('Specifications and Reduced mass'!$C$26)/1000))/(('Specifications and Reduced mass'!$C$23)/1000)))/((1)-(('Specifications and Reduced mass'!$C$19)*((('Specifications and Reduced mass'!$C$31)/1000)/(('Specifications and Reduced mass'!$C$23)/1000)))-(('Net Resistance '!F14)/('Specifications and Reduced mass'!$C$47)))))*9.81 -> 0.10938502 | J29: =(((('Specifications and Reduced mass'!$C$19)*(('Specifications and Reduced mass'!$C$17)/('Specifications and Reduced mass'!$C$48))*(((('Specifications and Reduced mass'!$C$23)/1000)-(('Specifications and Reduced mass'!$C$26)/1000))/(('Specifications and Reduced mass'!$C$23)/1000)))/((1)-(('Specifications and Reduced mass'!$C$19)*((('Specifications and Reduced mass'!$C$31)/1000)/(('Specifications and Reduced mass'!$C$23)/1000)))-(('Net Resistance '!G14)/('Specifications and Reduced mass'!$C$48)))))*9.81 -> 0.11922896 | K29: =(((('Specifications and Reduced mass'!$C$19)*(('Specifications and Reduced mass'!$C$17)/('Specifications and Reduced mass'!$C$49))*(((('Specifications and Reduced mass'!$C$23)/1000)-(('Specifications and Reduced mass'!$C$26)/1000))/(('Specifications and Reduced mass'!$C$23)/1000)))/((1)-(('Specifications and Reduced mass'!$C$19)*((('Specifications and Reduced mass'!$C$31)/1000)/(('Specifications and Reduced mass'!$C$23)/1000)))-(('Net Resistance '!H14)/('Specifications and Reduced mass'!$C$49)))))*9.81 -> 0.12897114 | L29: =(((('Specifications and Reduced mass'!$C$20)*(('Specifications and Reduced mass'!$C$17)/('Specifications and Reduced mass'!$C$47))*(((('Specifications and Reduced mass'!$C$23)/1000)-(('Specifications and Reduced mass'!$C$26)/1000))/(('Specifications and Reduced mass'!$C$23)/1000)))/((1)-(('Specifications and Reduced mass'!$C$20)*((('Specifications and Reduced mass'!$C$31)/1000)/(('Specifications and Reduced mass'!$C$23)/1000)))-(('Net Resistance '!F14)/('Specifications and Reduced mass'!$C$47)))))*9.81 -> 1.4798297 | M29: =(((('Specifications and Reduced mass'!$C$20)*(('Specifications and Reduced mass'!$C$17)/('Specifications and Reduced mass'!$C$48))*(((('Specifications and Reduced mass'!$C$23)/1000)-(('Specifications and Reduced mass'!$C$26)/1000))/(('Specifications and Reduced mass'!$C$23)/1000)))/((1)-(('Specifications and Reduced mass'!$C$20)*((('Specifications and Reduced mass'!$C$31)/1000)/(('Specifications and Reduced mass'!$C$23)/1000)))-(('Net Resistance '!G14)/('Specifications and Reduced mass'!$C$48)))))*9.81 -> 1.6194737 | N29: =(((('Specifications and Reduced mass'!$C$20)*(('Specifications and Reduced mass'!$C$17)/('Specifications and Reduced mass'!$C$49))*(((('Specifications and Reduced mass'!$C$23)/1000)-(('Specifications and Reduced mass'!$C$26)/1000))/(('Specifications and Reduced mass'!$C$23)/1000)))/((1)-(('Specifications and Reduced mass'!$C$20)*((('Specifications and Reduced mass'!$C$31)/1000)/(('Specifications and Reduced mass'!$C$23)/1000)))-(('Net Resistance '!H14)/('Specifications and Reduced mass'!$C$49)))))*9.81 -> 1.7638698 | O29: =(((('Specifications and Reduced mass'!$C$21)*(('Specifications and Reduced mass'!$C$17)/('Specifications and Reduced mass'!$C$47))*(((('Specifications and Reduced mass'!$C$23)/1000)-(('Specifications and Reduced mass'!$C$26)/1000))/(('Specifications and Reduced mass'!$C$23)/1000)))/((1)-(('Specifications and Reduced mass'!$C$21)*((('Specifications and Reduced mass'!$C$31)/1000)/(('Specifications and Reduced mass'!$C$23)/1000)))-(('Net Resistance '!F14)/('Specifications and Reduced mass'!$C$47)))))*9.81 -> 0.942877 | P29: =(((('Specifications and Reduced mass'!$C$21)*(('Specifications and Reduced mass'!$C$17)/('Specifications and Reduced mass'!$C$48))*(((('Specifications and Reduced mass'!$C$23)/1000)-(('Specifications and Reduced mass'!$C$26)/1000))/(('Specifications and Reduced mass'!$C$23)/1000)))/((1)-(('Specifications and Reduced mass'!$C$21)*((('Specifications and Reduced mass'!$C$31)/1000)/(('Specifications and Reduced mass'!$C$23)/1000)))-(('Net Resistance '!G14)/('Specifications and Reduced mass'!$C$48)))))*9.81 -> 1.0302326 | Q29: =(((('Specifications and Reduced mass'!$C$21)*(('Specifications and Reduced mass'!$C$17)/('Specifications and Reduced mass'!$C$49))*(((('Specifications and Reduced mass'!$C$23)/1000)-(('Specifications and Reduced mass'!$C$26)/1000))/(('Specifications and Reduced mass'!$C$23)/1000)))/((1)-(('Specifications and Reduced mass'!$C$21)*((('Specifications and Reduced mass'!$C$31)/1000)/(('Specifications and Reduced mass'!$C$23)/1000)))-(('Net Resistance '!H14)/('Specifications and Reduced mass'!$C$49)))))*9.81 -> 1.1190625 | R29: =(((('Specifications and Reduced mass'!$C$22)*(('Specifications and Reduced mass'!$C$17)/('Specifications and Reduced mass'!$C$47))*(((('Specifications and Reduced mass'!$C$23)/1000)-(('Specifications and Reduced mass'!$C$26)/1000))/(('Specifications and Reduced mass'!$C$23)/1000)))/((1)-(('Specifications and Reduced mass'!$C$22)*((('Specifications and Reduced mass'!$C$31)/1000)/(('Specifications and Reduced mass'!$C$23)/1000)))-(('Net Resistance '!F15)/('Specifications and Reduced mass'!$C$47)))))*9.81 -> 0.45453384 | S29: =(((('Specifications and Reduced mass'!$C$22)*(('Specifications and Reduced mass'!$C$17)/('Specifications and Reduced mass'!$C$48))*(((('Specifications and Reduced mass'!$C$23)/1000)-(('Specifications and Reduced mass'!$C$26)/1000))/(('Specifications and Reduced mass'!$C$23)/1000)))/((1)-(('Specifications and Reduced mass'!$C$22)*((('Specifications and Reduced mass'!$C$31)/1000)/(('Specifications and Reduced mass'!$C$23)/1000)))-(('Net Resistance '!G15)/('Specifications and Reduced mass'!$C$48)))))*9.81 -> 0.49958095 | T29: =(((('Specifications and Reduced mass'!$C$22)*(('Specifications and Reduced mass'!$C$17)/('Specifications and Reduced mass'!$C$49))*(((('Specifications and Reduced mass'!$C$23)/1000)-(('Specifications and Reduced mass'!$C$26)/1000))/(('Specifications and Reduced mass'!$C$23)/1000)))/((1)-(('Specifications and Reduced mass'!$C$22)*((('Specifications and Reduced mass'!$C$31)/1000)/(('Specifications and Reduced mass'!$C$23)/1000)))-(('Net Resistance '!H15)/('Specifications and Reduced mass'!$C$49)))))*9.81 -> 0.54786364
B30: 5500 | C30: =(('Specifications and Reduced mass'!$C$17/'Specifications and Reduced mass'!$C$47))*9.81*((('Specifications and Reduced mass'!$C$32/1000)/((('Specifications and Reduced mass'!$C$31/1000)))-(('Net Resistance '!F15)/('Specifications and Reduced mass'!$C$47)))) -> 4.9115079 | D30: =(('Specifications and Reduced mass'!$C$17/'Specifications and Reduced mass'!$C$48))*9.81*((('Specifications and Reduced mass'!$C$32/1000)/((('Specifications and Reduced mass'!$C$31/1000)))-(('Net Resistance '!G15)/('Specifications and Reduced mass'!$C$48)))) -> 4.905044 | E30: =(('Specifications and Reduced mass'!$C$17/'Specifications and Reduced mass'!$C$49))*9.81*((('Specifications and Reduced mass'!$C$32/1000)/((('Specifications and Reduced mass'!$C$31/1000)))-(('Net Resistance '!H15)/('Specifications and Reduced mass'!$C$49)))) -> 4.5866166 | F30: =(((('Specifications and Reduced mass'!$C$18)*(('Specifications and Reduced mass'!$C$17)/('Specifications and Reduced mass'!$C$47))*(((('Specifications and Reduced mass'!$C$23)/1000)-(('Specifications and Reduced mass'!$C$26)/1000))/(('Specifications and Reduced mass'!$C$23)/1000)))/((1)-(('Specifications and Reduced mass'!$C$18)*((('Specifications and Reduced mass'!$C$31)/1000)/(('Specifications and Reduced mass'!$C$23)/1000)))-(('Net Resistance '!F15)/('Specifications and Reduced mass'!$C$47)))))*9.81 -> 0.08790506 | G30: =(((('Specifications and Reduced mass'!$C$18)*(('Specifications and Reduced mass'!$C$17)/('Specifications and Reduced mass'!$C$48))*(((('Specifications and Reduced mass'!$C$23)/1000)-(('Specifications and Reduced mass'!$C$26)/1000))/(('Specifications and Reduced mass'!$C$23)/1000)))/((1)-(('Specifications and Reduced mass'!$C$18)*((('Specifications and Reduced mass'!$C$31)/1000)/(('Specifications and Reduced mass'!$C$23)/1000)))-(('Net Resistance '!G15)/('Specifications and Reduced mass'!$C$48)))))*9.81 -> 0.096489615 | H30: =(((('Specifications and Reduced mass'!$C$18)*(('Specifications and Reduced mass'!$C$17)/('Specifications and Reduced mass'!$C$49))*(((('Specifications and Reduced mass'!$C$23)/1000)-(('Specifications and Reduced mass'!$C$26)/1000))/(('Specifications and Reduced mass'!$C$23)/1000)))/((1)-(('Specifications and Reduced mass'!$C$18)*((('Specifications and Reduced mass'!$C$31)/1000)/(('Specifications and Reduced mass'!$C$23)/1000)))-(('Net Resistance '!H15)/('Specifications and Reduced mass'!$C$49)))))*9.81 -> 0.10557459 | I30: =(((('Specifications and Reduced mass'!$C$19)*(('Specifications and Reduced mass'!$C$17)/('Specifications and Reduced mass'!$C$47))*(((('Specifications and Reduced mass'!$C$23)/1000)-(('Specifications and Reduced mass'!$C$26)/1000))/(('Specifications and Reduced mass'!$C$23)/1000)))/((1)-(('Specifications and Reduced mass'!$C$19)*((('Specifications and Reduced mass'!$C$31)/1000)/(('Specifications and Reduced mass'!$C$23)/1000)))-(('Net Resistance '!F15)/('Specifications and Reduced mass'!$C$47)))))*9.81 -> 0.11010856 | J30: =(((('Specifications and Reduced mass'!$C$19)*(('Specifications and Reduced mass'!$C$17)/('Specifications and Reduced mass'!$C$48))*(((('Specifications and Reduced mass'!$C$23)/1000)-(('Specifications and Reduced mass'!$C$26)/1000))/(('Specifications and Reduced mass'!$C$23)/1000)))/((1)-(('Specifications and Reduced mass'!$C$19)*((('Specifications and Reduced mass'!$C$31)/1000)/(('Specifications and Reduced mass'!$C$23)/1000)))-(('Net Resistance '!G15)/('Specifications and Reduced mass'!$C$48)))))*9.81 -> 0.12087109 | K30: =(((('Specifications and Reduced mass'!$C$19)*(('Specifications and Reduced mass'!$C$17)/('Specifications and Reduced mass'!$C$49))*(((('Specifications and Reduced mass'!$C$23)/1000)-(('Specifications and Reduced mass'!$C$26)/1000))/(('Specifications and Reduced mass'!$C$23)/1000)))/((1)-(('Specifications and Reduced mass'!$C$19)*((('Specifications and Reduced mass'!$C$31)/1000)/(('Specifications and Reduced mass'!$C$23)/1000)))-(('Net Resistance '!H15)/('Specifications and Reduced mass'!$C$49)))))*9.81 -> 0.13226988 | L30: =(((('Specifications and Reduced mass'!$C$20)*(('Specifications and Reduced mass'!$C$17)/('Specifications and Reduced mass'!$C$47))*(((('Specifications and Reduced mass'!$C$23)/1000)-(('Specifications and Reduced mass'!$C$26)/1000))/(('Specifications and Reduced mass'!$C$23)/1000)))/((1)-(('Specifications and Reduced mass'!$C$20)*((('Specifications and Reduced mass'!$C$31)/1000)/(('Specifications and Reduced mass'!$C$23)/1000)))-(('Net Resistance '!F15)/('Specifications and Reduced mass'!$C$47)))))*9.81 -> 1.4908744 | M30: =(((('Specifications and Reduced mass'!$C$20)*(('Specifications and Reduced mass'!$C$17)/('Specifications and Reduced mass'!$C$48))*(((('Specifications and Reduced mass'!$C$23)/1000)-(('Specifications and Reduced mass'!$C$26)/1000))/(('Specifications and Reduced mass'!$C$23)/1000)))/((1)-(('Specifications and Reduced mass'!$C$20)*((('Specifications and Reduced mass'!$C$31)/1000)/(('Specifications and Reduced mass'!$C$23)/1000)))-(('Net Resistance '!G15)/('Specifications and Reduced mass'!$C$48)))))*9.81 -> 1.6447667 | N30: =(((('Specifications and Reduced mass'!$C$20)*(('Specifications and Reduced mass'!$C$17)/('Specifications and Reduced mass'!$C$49))*(((('Specifications and Reduced mass'!$C$23)/1000)-(('Specifications and Reduced mass'!$C$26)/1000))/(('Specifications and Reduced mass'!$C$23)/1000)))/((1)-(('Specifications and Reduced mass'!$C$20)*((('Specifications and Reduced mass'!$C$31)/1000)/(('Specifications and Reduced mass'!$C$23)/1000)))-(('Net Resistance '!H15)/('Specifications and Reduced mass'!$C$49)))))*9.81 -> 1.8154721 | O30: =(((('Specifications and Reduced mass'!$C$21)*(('Specifications and Reduced mass'!$C$17)/('Specifications and Reduced mass'!$C$47))*(((('Specifications and Reduced mass'!$C$23)/1000)-(('Specifications and Reduced mass'!$C$26)/1000))/(('Specifications and Reduced mass'!$C$23)/1000)))/((1)-(('Specifications and Reduced mass'!$C$21)*((('Specifications and Reduced mass'!$C$31)/1000)/(('Specifications and Reduced mass'!$C$23)/1000)))-(('Net Resistance '!F15)/('Specifications and Reduced mass'!$C$47)))))*9.81 -> 0.94960038 | P30: =(((('Specifications and Reduced mass'!$C$21)*(('Specifications and Reduced mass'!$C$17)/('Specifications and Reduced mass'!$C$48))*(((('Specifications and Reduced mass'!$C$23)/1000)-(('Specifications and Reduced mass'!$C$26)/1000))/(('Specifications and Reduced mass'!$C$23)/1000)))/((1)-(('Specifications and Reduced mass'!$C$21)*((('Specifications and Reduced mass'!$C$31)/1000)/(('Specifications and Reduced mass'!$C$23)/1000)))-(('Net Resistance '!G15)/('Specifications and Reduced mass'!$C$48)))))*9.81 -> 1.0455755 | Q30: =(((('Specifications and Reduced mass'!$C$21)*(('Specifications and Reduced mass'!$C$17)/('Specifications and Reduced mass'!$C$49))*(((('Specifications and Reduced mass'!$C$23)/1000)-(('Specifications and Reduced mass'!$C$26)/1000))/(('Specifications and Reduced mass'!$C$23)/1000)))/((1)-(('Specifications and Reduced mass'!$C$21)*((('Specifications and Reduced mass'!$C$31)/1000)/(('Specifications and Reduced mass'!$C$23)/1000)))-(('Net Resistance '!H15)/('Specifications and Reduced mass'!$C$49)))))*9.81 -> 1.1501741 | R30: =(((('Specifications and Reduced mass'!$C$22)*(('Specifications and Reduced mass'!$C$17)/('Specifications and Reduced mass'!$C$47))*(((('Specifications and Reduced mass'!$C$23)/1000)-(('Specifications and Reduced mass'!$C$26)/1000))/(('Specifications and Reduced mass'!$C$23)/1000)))/((1)-(('Specifications and Reduced mass'!$C$22)*((('Specifications and Reduced mass'!$C$31)/1000)/(('Specifications and Reduced mass'!$C$23)/1000)))-(('Net Resistance '!F16)/('Specifications and Reduced mass'!$C$47)))))*9.81 -> 0.45801744 | S30: =(((('Specifications and Reduced mass'!$C$22)*(('Specifications and Reduced mass'!$C$17)/('Specifications and Reduced mass'!$C$48))*(((('Specifications and Reduced mass'!$C$23)/1000)-(('Specifications and Reduced mass'!$C$26)/1000))/(('Specifications and Reduced mass'!$C$23)/1000)))/((1)-(('Specifications and Reduced mass'!$C$22)*((('Specifications and Reduced mass'!$C$31)/1000)/(('Specifications and Reduced mass'!$C$23)/1000)))-(('Net Resistance '!G16)/('Specifications and Reduced mass'!$C$48)))))*9.81 -> 0.5074963 | T30: =(((('Specifications and Reduced mass'!$C$22)*(('Specifications and Reduced mass'!$C$17)/('Specifications and Reduced mass'!$C$49))*(((('Specifications and Reduced mass'!$C$23)/1000)-(('Specifications and Reduced mass'!$C$26)/1000))/(('Specifications and Reduced mass'!$C$23)/1000)))/((1)-(('Specifications and Reduced mass'!$C$22)*((('Specifications and Reduced mass'!$C$31)/1000)/(('Specifications and Reduced mass'!$C$23)/1000)))-(('Net Resistance '!H16)/('Specifications and Reduced mass'!$C$49)))))*9.81 -> 0.56439804
B31: 6000 | C31: =(('Specifications and Reduced mass'!$C$17/'Specifications and Reduced mass'!$C$47))*9.81*((('Specifications and Reduced mass'!$C$32/1000)/((('Specifications and Reduced mass'!$C$31/1000)))-(('Net Resistance '!F16)/('Specifications and Reduced mass'!$C$47)))) -> 4.858024 | D31: =(('Specifications and Reduced mass'!$C$17/'Specifications and Reduced mass'!$C$48))*9.81*((('Specifications and Reduced mass'!$C$32/1000)/((('Specifications and Reduced mass'!$C$31/1000)))-(('Net Resistance '!G16)/('Specifications and Reduced mass'!$C$48)))) -> 4.7935877 | E31: =(('Specifications and Reduced mass'!$C$17/'Specifications and Reduced mass'!$C$49))*9.81*((('Specifications and Reduced mass'!$C$32/1000)/((('Specifications and Reduced mass'!$C$31/1000)))-(('Net Resistance '!H16)/('Specifications and Reduced mass'!$C$49)))) -> 4.3847345 | F31: =(((('Specifications and Reduced mass'!$C$18)*(('Specifications and Reduced mass'!$C$17)/('Specifications and Reduced mass'!$C$47))*(((('Specifications and Reduced mass'!$C$23)/1000)-(('Specifications and Reduced mass'!$C$26)/1000))/(('Specifications and Reduced mass'!$C$23)/1000)))/((1)-(('Specifications and Reduced mass'!$C$18)*((('Specifications and Reduced mass'!$C$31)/1000)/(('Specifications and Reduced mass'!$C$23)/1000)))-(('Net Resistance '!F16)/('Specifications and Reduced mass'!$C$47)))))*9.81 -> 0.088556364 | G31: =(((('Specifications and Reduced mass'!$C$18)*(('Specifications and Reduced mass'!$C$17)/('Specifications and Reduced mass'!$C$48))*(((('Specifications and Reduced mass'!$C$23)/1000)-(('Specifications and Reduced mass'!$C$26)/1000))/(('Specifications and Reduced mass'!$C$23)/1000)))/((1)-(('Specifications and Reduced mass'!$C$18)*((('Specifications and Reduced mass'!$C$31)/1000)/(('Specifications and Reduced mass'!$C$23)/1000)))-(('Net Resistance '!G16)/('Specifications and Reduced mass'!$C$48)))))*9.81 -> 0.097965165 | H31: =(((('Specifications and Reduced mass'!$C$18)*(('Specifications and Reduced mass'!$C$17)/('Specifications and Reduced mass'!$C$49))*(((('Specifications and Reduced mass'!$C$23)/1000)-(('Specifications and Reduced mass'!$C$26)/1000))/(('Specifications and Reduced mass'!$C$23)/1000)))/((1)-(('Specifications and Reduced mass'!$C$18)*((('Specifications and Reduced mass'!$C$31)/1000)/(('Specifications and Reduced mass'!$C$23)/1000)))-(('Net Resistance '!H16)/('Specifications and Reduced mass'!$C$49)))))*9.81 -> 0.10864117 | I31: =(((('Specifications and Reduced mass'!$C$19)*(('Specifications and Reduced mass'!$C$17)/('Specifications and Reduced mass'!$C$47))*(((('Specifications and Reduced mass'!$C$23)/1000)-(('Specifications and Reduced mass'!$C$26)/1000))/(('Specifications and Reduced mass'!$C$23)/1000)))/((1)-(('Specifications and Reduced mass'!$C$19)*((('Specifications and Reduced mass'!$C$31)/1000)/(('Specifications and Reduced mass'!$C$23)/1000)))-(('Net Resistance '!F16)/('Specifications and Reduced mass'!$C$47)))))*9.81 -> 0.11092607 | J31: =(((('Specifications and Reduced mass'!$C$19)*(('Specifications and Reduced mass'!$C$17)/('Specifications and Reduced mass'!$C$48))*(((('Specifications and Reduced mass'!$C$23)/1000)-(('Specifications and Reduced mass'!$C$26)/1000))/(('Specifications and Reduced mass'!$C$23)/1000)))/((1)-(('Specifications and Reduced mass'!$C$19)*((('Specifications and Reduced mass'!$C$31)/1000)/(('Specifications and Reduced mass'!$C$23)/1000)))-(('Net Resistance '!G16)/('Specifications and Reduced mass'!$C$48)))))*9.81 -> 0.12272353 | K31: =(((('Specifications and Reduced mass'!$C$19)*(('Specifications and Reduced mass'!$C$17)/('Specifications and Reduced mass'!$C$49))*(((('Specifications and Reduced mass'!$C$23)/1000)-(('Specifications and Reduced mass'!$C$26)/1000))/(('Specifications and Reduced mass'!$C$23)/1000)))/((1)-(('Specifications and Reduced mass'!$C$19)*((('Specifications and Reduced mass'!$C$31)/1000)/(('Specifications and Reduced mass'!$C$23)/1000)))-(('Net Resistance '!H16)/('Specifications and Reduced mass'!$C$49)))))*9.81 -> 0.1361209 | L31: =(((('Specifications and Reduced mass'!$C$20)*(('Specifications and Reduced mass'!$C$17)/('Specifications and Reduced mass'!$C$47))*(((('Specifications and Reduced mass'!$C$23)/1000)-(('Specifications and Reduced mass'!$C$26)/1000))/(('Specifications and Reduced mass'!$C$23)/1000)))/((1)-(('Specifications and Reduced mass'!$C$20)*((('Specifications and Reduced mass'!$C$31)/1000)/(('Specifications and Reduced mass'!$C$23)/1000)))-(('Net Resistance '!F16)/('Specifications and Reduced mass'!$C$47)))))*9.81 -> 1.503376 | M31: =(((('Specifications and Reduced mass'!$C$20)*(('Specifications and Reduced mass'!$C$17)/('Specifications and Reduced mass'!$C$48))*(((('Specifications and Reduced mass'!$C$23)/1000)-(('Specifications and Reduced mass'!$C$26)/1000))/(('Specifications and Reduced mass'!$C$23)/1000)))/((1)-(('Specifications and Reduced mass'!$C$20)*((('Specifications and Reduced mass'!$C$31)/1000)/(('Specifications and Reduced mass'!$C$23)/1000)))-(('Net Resistance '!G16)/('Specifications and Reduced mass'!$C$48)))))*9.81 -> 1.6734096 | N31: =(((('Specifications and Reduced mass'!$C$20)*(('Specifications and Reduced mass'!$C$17)/('Specifications and Reduced mass'!$C$49))*(((('Specifications and Reduced mass'!$C$23)/1000)-(('Specifications and Reduced mass'!$C$26)/1000))/(('Specifications and Reduced mass'!$C$23)/1000)))/((1)-(('Specifications and Reduced mass'!$C$20)*((('Specifications and Reduced mass'!$C$31)/1000)/(('Specifications and Reduced mass'!$C$23)/1000)))-(('Net Resistance '!H16)/('Specifications and Reduced mass'!$C$49)))))*9.81 -> 1.8761841 | O31: =(((('Specifications and Reduced mass'!$C$21)*(('Specifications and Reduced mass'!$C$17)/('Specifications and Reduced mass'!$C$47))*(((('Specifications and Reduced mass'!$C$23)/1000)-(('Specifications and Reduced mass'!$C$26)/1000))/(('Specifications and Reduced mass'!$C$23)/1000)))/((1)-(('Specifications and Reduced mass'!$C$21)*((('Specifications and Reduced mass'!$C$31)/1000)/(('Specifications and Reduced mass'!$C$23)/1000)))-(('Net Resistance '!F16)/('Specifications and Reduced mass'!$C$47)))))*9.81 -> 0.95720533 | P31: =(((('Specifications and Reduced mass'!$C$21)*(('Specifications and Reduced mass'!$C$17)/('Specifications and Reduced mass'!$C$48))*(((('Specifications and Reduced mass'!$C$23)/1000)-(('Specifications and Reduced mass'!$C$26)/1000))/(('Specifications and Reduced mass'!$C$23)/1000)))/((1)-(('Specifications and Reduced mass'!$C$21)*((('Specifications and Reduced mass'!$C$31)/1000)/(('Specifications and Reduced mass'!$C$23)/1000)))-(('Net Resistance '!G16)/('Specifications and Reduced mass'!$C$48)))))*9.81 -> 1.0629239 | Q31: =(((('Specifications and Reduced mass'!$C$21)*(('Specifications and Reduced mass'!$C$17)/('Specifications and Reduced mass'!$C$49))*(((('Specifications and Reduced mass'!$C$23)/1000)-(('Specifications and Reduced mass'!$C$26)/1000))/(('Specifications and Reduced mass'!$C$23)/1000)))/((1)-(('Specifications and Reduced mass'!$C$21)*((('Specifications and Reduced mass'!$C$31)/1000)/(('Specifications and Reduced mass'!$C$23)/1000)))-(('Net Resistance '!H16)/('Specifications and Reduced mass'!$C$49)))))*9.81 -> 1.1866656 | R31: =(((('Specifications and Reduced mass'!$C$22)*(('Specifications and Reduced mass'!$C$17)/('Specifications and Reduced mass'!$C$47))*(((('Specifications and Reduced mass'!$C$23)/1000)-(('Specifications and Reduced mass'!$C$26)/1000))/(('Specifications and Reduced mass'!$C$23)/1000)))/((1)-(('Specifications and Reduced mass'!$C$22)*((('Specifications and Reduced mass'!$C$31)/1000)/(('Specifications and Reduced mass'!$C$23)/1000)))-(('Net Resistance '!F17)/('Specifications and Reduced mass'!$C$47)))))*9.81 -> 0.46179523 | S31: =(((('Specifications and Reduced mass'!$C$22)*(('Specifications and Reduced mass'!$C$17)/('Specifications and Reduced mass'!$C$48))*(((('Specifications and Reduced mass'!$C$23)/1000)-(('Specifications and Reduced mass'!$C$26)/1000))/(('Specifications and Reduced mass'!$C$23)/1000)))/((1)-(('Specifications and Reduced mass'!$C$22)*((('Specifications and Reduced mass'!$C$31)/1000)/(('Specifications and Reduced mass'!$C$23)/1000)))-(('Net Resistance '!G17)/('Specifications and Reduced mass'!$C$48)))))*9.81 -> 0.51627364 | T31: =(((('Specifications and Reduced mass'!$C$22)*(('Specifications and Reduced mass'!$C$17)/('Specifications and Reduced mass'!$C$49))*(((('Specifications and Reduced mass'!$C$23)/1000)-(('Specifications and Reduced mass'!$C$26)/1000))/(('Specifications and Reduced mass'!$C$23)/1000)))/((1)-(('Specifications and Reduced mass'!$C$22)*((('Specifications and Reduced mass'!$C$31)/1000)/(('Specifications and Reduced mass'!$C$23)/1000)))-(('Net Resistance '!H17)/('Specifications and Reduced mass'!$C$49)))))*9.81 -> 0.58354871
B32: 6500 | C32: =(('Specifications and Reduced mass'!$C$17/'Specifications and Reduced mass'!$C$47))*9.81*((('Specifications and Reduced mass'!$C$32/1000)/((('Specifications and Reduced mass'!$C$31/1000)))-(('Net Resistance '!F17)/('Specifications and Reduced mass'!$C$47)))) -> 4.8009355 | D32: =(('Specifications and Reduced mass'!$C$17/'Specifications and Reduced mass'!$C$48))*9.81*((('Specifications and Reduced mass'!$C$32/1000)/((('Specifications and Reduced mass'!$C$31/1000)))-(('Net Resistance '!G17)/('Specifications and Reduced mass'!$C$48)))) -> 4.6739902 | E32: =(('Specifications and Reduced mass'!$C$17/'Specifications and Reduced mass'!$C$49))*9.81*((('Specifications and Reduced mass'!$C$32/1000)/((('Specifications and Reduced mass'!$C$31/1000)))-(('Net Resistance '!H17)/('Specifications and Reduced mass'!$C$49)))) -> 4.1652072 | F32: =(((('Specifications and Reduced mass'!$C$18)*(('Specifications and Reduced mass'!$C$17)/('Specifications and Reduced mass'!$C$47))*(((('Specifications and Reduced mass'!$C$23)/1000)-(('Specifications and Reduced mass'!$C$26)/1000))/(('Specifications and Reduced mass'!$C$23)/1000)))/((1)-(('Specifications and Reduced mass'!$C$18)*((('Specifications and Reduced mass'!$C$31)/1000)/(('Specifications and Reduced mass'!$C$23)/1000)))-(('Net Resistance '!F17)/('Specifications and Reduced mass'!$C$47)))))*9.81 -> 0.089262297 | G32: =(((('Specifications and Reduced mass'!$C$18)*(('Specifications and Reduced mass'!$C$17)/('Specifications and Reduced mass'!$C$48))*(((('Specifications and Reduced mass'!$C$23)/1000)-(('Specifications and Reduced mass'!$C$26)/1000))/(('Specifications and Reduced mass'!$C$23)/1000)))/((1)-(('Specifications and Reduced mass'!$C$18)*((('Specifications and Reduced mass'!$C$31)/1000)/(('Specifications and Reduced mass'!$C$23)/1000)))-(('Net Resistance '!G17)/('Specifications and Reduced mass'!$C$48)))))*9.81 -> 0.099599529 | H32: =(((('Specifications and Reduced mass'!$C$18)*(('Specifications and Reduced mass'!$C$17)/('Specifications and Reduced mass'!$C$49))*(((('Specifications and Reduced mass'!$C$23)/1000)-(('Specifications and Reduced mass'!$C$26)/1000))/(('Specifications and Reduced mass'!$C$23)/1000)))/((1)-(('Specifications and Reduced mass'!$C$18)*((('Specifications and Reduced mass'!$C$31)/1000)/(('Specifications and Reduced mass'!$C$23)/1000)))-(('Net Resistance '!H17)/('Specifications and Reduced mass'!$C$49)))))*9.81 -> 0.11218456 | I32: =(((('Specifications and Reduced mass'!$C$19)*(('Specifications and Reduced mass'!$C$17)/('Specifications and Reduced mass'!$C$47))*(((('Specifications and Reduced mass'!$C$23)/1000)-(('Specifications and Reduced mass'!$C$26)/1000))/(('Specifications and Reduced mass'!$C$23)/1000)))/((1)-(('Specifications and Reduced mass'!$C$19)*((('Specifications and Reduced mass'!$C$31)/1000)/(('Specifications and Reduced mass'!$C$23)/1000)))-(('Net Resistance '!F17)/('Specifications and Reduced mass'!$C$47)))))*9.81 -> 0.11181218 | J32: =(((('Specifications and Reduced mass'!$C$19)*(('Specifications and Reduced mass'!$C$17)/('Specifications and Reduced mass'!$C$48))*(((('Specifications and Reduced mass'!$C$23)/1000)-(('Specifications and Reduced mass'!$C$26)/1000))/(('Specifications and Reduced mass'!$C$23)/1000)))/((1)-(('Specifications and Reduced mass'!$C$19)*((('Specifications and Reduced mass'!$C$31)/1000)/(('Specifications and Reduced mass'!$C$23)/1000)))-(('Net Resistance '!G17)/('Specifications and Reduced mass'!$C$48)))))*9.81 -> 0.12477548 | K32: =(((('Specifications and Reduced mass'!$C$19)*(('Specifications and Reduced mass'!$C$17)/('Specifications and Reduced mass'!$C$49))*(((('Specifications and Reduced mass'!$C$23)/1000)-(('Specifications and Reduced mass'!$C$26)/1000))/(('Specifications and Reduced mass'!$C$23)/1000)))/((1)-(('Specifications and Reduced mass'!$C$19)*((('Specifications and Reduced mass'!$C$31)/1000)/(('Specifications and Reduced mass'!$C$23)/1000)))-(('Net Resistance '!H17)/('Specifications and Reduced mass'!$C$49)))))*9.81 -> 0.14057134 | L32: =(((('Specifications and Reduced mass'!$C$20)*(('Specifications and Reduced mass'!$C$17)/('Specifications and Reduced mass'!$C$47))*(((('Specifications and Reduced mass'!$C$23)/1000)-(('Specifications and Reduced mass'!$C$26)/1000))/(('Specifications and Reduced mass'!$C$23)/1000)))/((1)-(('Specifications and Reduced mass'!$C$20)*((('Specifications and Reduced mass'!$C$31)/1000)/(('Specifications and Reduced mass'!$C$23)/1000)))-(('Net Resistance '!F17)/('Specifications and Reduced mass'!$C$47)))))*9.81 -> 1.5169536 | M32: =(((('Specifications and Reduced mass'!$C$20)*(('Specifications and Reduced mass'!$C$17)/('Specifications and Reduced mass'!$C$48))*(((('Specifications and Reduced mass'!$C$23)/1000)-(('Specifications and Reduced mass'!$C$26)/1000))/(('Specifications and Reduced mass'!$C$23)/1000)))/((1)-(('Specifications and Reduced mass'!$C$20)*((('Specifications and Reduced mass'!$C$31)/1000)/(('Specifications and Reduced mass'!$C$23)/1000)))-(('Net Resistance '!G17)/('Specifications and Reduced mass'!$C$48)))))*9.81 -> 1.7052755 | N32: =(((('Specifications and Reduced mass'!$C$20)*(('Specifications and Reduced mass'!$C$17)/('Specifications and Reduced mass'!$C$49))*(((('Specifications and Reduced mass'!$C$23)/1000)-(('Specifications and Reduced mass'!$C$26)/1000))/(('Specifications and Reduced mass'!$C$23)/1000)))/((1)-(('Specifications and Reduced mass'!$C$20)*((('Specifications and Reduced mass'!$C$31)/1000)/(('Specifications and Reduced mass'!$C$23)/1000)))-(('Net Resistance '!H17)/('Specifications and Reduced mass'!$C$49)))))*9.81 -> 1.9469849 | O32: =(((('Specifications and Reduced mass'!$C$21)*(('Specifications and Reduced mass'!$C$17)/('Specifications and Reduced mass'!$C$47))*(((('Specifications and Reduced mass'!$C$23)/1000)-(('Specifications and Reduced mass'!$C$26)/1000))/(('Specifications and Reduced mass'!$C$23)/1000)))/((1)-(('Specifications and Reduced mass'!$C$21)*((('Specifications and Reduced mass'!$C$31)/1000)/(('Specifications and Reduced mass'!$C$23)/1000)))-(('Net Resistance '!F17)/('Specifications and Reduced mass'!$C$47)))))*9.81 -> 0.96545838 | P32: =(((('Specifications and Reduced mass'!$C$21)*(('Specifications and Reduced mass'!$C$17)/('Specifications and Reduced mass'!$C$48))*(((('Specifications and Reduced mass'!$C$23)/1000)-(('Specifications and Reduced mass'!$C$26)/1000))/(('Specifications and Reduced mass'!$C$23)/1000)))/((1)-(('Specifications and Reduced mass'!$C$21)*((('Specifications and Reduced mass'!$C$31)/1000)/(('Specifications and Reduced mass'!$C$23)/1000)))-(('Net Resistance '!G17)/('Specifications and Reduced mass'!$C$48)))))*9.81 -> 1.0821914 | Q32: =(((('Specifications and Reduced mass'!$C$21)*(('Specifications and Reduced mass'!$C$17)/('Specifications and Reduced mass'!$C$49))*(((('Specifications and Reduced mass'!$C$23)/1000)-(('Specifications and Reduced mass'!$C$26)/1000))/(('Specifications and Reduced mass'!$C$23)/1000)))/((1)-(('Specifications and Reduced mass'!$C$21)*((('Specifications and Reduced mass'!$C$31)/1000)/(('Specifications and Reduced mass'!$C$23)/1000)))-(('Net Resistance '!H17)/('Specifications and Reduced mass'!$C$49)))))*9.81 -> 1.2290686
B34: Longitudinal Flip Deceleration | G34: Traction Limited Deceleration
B35: RPM | C35: Gear 1 | D35: Gear 2 | E35: Gear3 | F35: Sector 1 | G35: Sector 2 | H35: Sector 3 | I35: Sector 4 | J35: Sector 5
B36: 1000 | C36: =((-((('Specifications and Reduced mass'!$C$23/1000))-('Specifications and Reduced mass'!$C$26/1000))/(('Specifications and Reduced mass'!$C$31/1000)))-(('Net Resistance '!F6)/(('Specifications and Reduced mass'!$C$17)*9.81)))*9.81 -> -13.724293 | D36: =((-((('Specifications and Reduced mass'!$C$23/1000))-('Specifications and Reduced mass'!$C$26/1000))/(('Specifications and Reduced mass'!$C$31/1000)))-(('Net Resistance '!G6)/(('Specifications and Reduced mass'!$C$17)*9.81)))*9.81 -> -13.725634 | E36: =((-((('Specifications and Reduced mass'!$C$23/1000))-('Specifications and Reduced mass'!$C$26/1000))/(('Specifications and Reduced mass'!$C$31/1000)))-(('Net Resistance '!H6)/(('Specifications and Reduced mass'!$C$17)*9.81)))*9.81 -> -13.727722 | F36: =-('Specifications and Reduced mass'!$C$18*9.81) -> -0.1962 | G36: =-('Specifications and Reduced mass'!$C$19*9.81) -> -0.24525 | H36: =-('Specifications and Reduced mass'!$C$20)*9.81 -> -2.943 | I36: =-('Specifications and Reduced mass'!$C$21*9.81) -> -1.962 | J36: =-('Specifications and Reduced mass'!$C$22*9.81) -> -0.981
B37: 1500 | C37: =((-((('Specifications and Reduced mass'!$C$23/1000))-('Specifications and Reduced mass'!$C$26/1000))/(('Specifications and Reduced mass'!$C$31/1000)))-(('Net Resistance '!F7)/(('Specifications and Reduced mass'!$C$17)*9.81)))*9.81 -> -13.726226 | D37: =((-((('Specifications and Reduced mass'!$C$23/1000))-('Specifications and Reduced mass'!$C$26/1000))/(('Specifications and Reduced mass'!$C$31/1000)))-(('Net Resistance '!G7)/(('Specifications and Reduced mass'!$C$17)*9.81)))*9.81 -> -13.729255 | E37: =((-((('Specifications and Reduced mass'!$C$23/1000))-('Specifications and Reduced mass'!$C$26/1000))/(('Specifications and Reduced mass'!$C$31/1000)))-(('Net Resistance '!H7)/(('Specifications and Reduced mass'!$C$17)*9.81)))*9.81 -> -13.733945 | F37: =-('Specifications and Reduced mass'!$C$18*9.81) -> -0.1962 | G37: =-('Specifications and Reduced mass'!$C$19*9.81) -> -0.24525 | H37: =-('Specifications and Reduced mass'!$C$20)*9.81 -> -2.943 | I37: =-('Specifications and Reduced mass'!$C$21*9.81) -> -1.962 | J37: =-('Specifications and Reduced mass'!$C$22*9.81) -> -0.981
B38: 2000 | C38: =((-((('Specifications and Reduced mass'!$C$23/1000))-('Specifications and Reduced mass'!$C$26/1000))/(('Specifications and Reduced mass'!$C$31/1000)))-(('Net Resistance '!F8)/(('Specifications and Reduced mass'!$C$17)*9.81)))*9.81 -> -13.728976 | D38: =((-((('Specifications and Reduced mass'!$C$23/1000))-('Specifications and Reduced mass'!$C$26/1000))/(('Specifications and Reduced mass'!$C$31/1000)))-(('Net Resistance '!G8)/(('Specifications and Reduced mass'!$C$17)*9.81)))*9.81 -> -13.734393 | E38: =((-((('Specifications and Reduced mass'!$C$23/1000))-('Specifications and Reduced mass'!$C$26/1000))/(('Specifications and Reduced mass'!$C$31/1000)))-(('Net Resistance '!H8)/(('Specifications and Reduced mass'!$C$17)*9.81)))*9.81 -> -13.742746 | F38: =-('Specifications and Reduced mass'!$C$18*9.81) -> -0.1962 | G38: =-('Specifications and Reduced mass'!$C$19*9.81) -> -0.24525 | H38: =-('Specifications and Reduced mass'!$C$20)*9.81 -> -2.943 | I38: =-('Specifications and Reduced mass'!$C$21*9.81) -> -1.962 | J38: =-('Specifications and Reduced mass'!$C$22*9.81) -> -0.981
B39: 2500 | C39: =((-((('Specifications and Reduced mass'!$C$23/1000))-('Specifications and Reduced mass'!$C$26/1000))/(('Specifications and Reduced mass'!$C$31/1000)))-(('Net Resistance '!F9)/(('Specifications and Reduced mass'!$C$17)*9.81)))*9.81 -> -13.732516 | D39: =((-((('Specifications and Reduced mass'!$C$23/1000))-('Specifications and Reduced mass'!$C$26/1000))/(('Specifications and Reduced mass'!$C$31/1000)))-(('Net Resistance '!G9)/(('Specifications and Reduced mass'!$C$17)*9.81)))*9.81 -> -13.740915 | E39: =((-((('Specifications and Reduced mass'!$C$23/1000))-('Specifications and Reduced mass'!$C$26/1000))/(('Specifications and Reduced mass'!$C$31/1000)))-(('Net Resistance '!H9)/(('Specifications and Reduced mass'!$C$17)*9.81)))*9.81 -> -13.753953 | F39: =-('Specifications and Reduced mass'!$C$18*9.81) -> -0.1962 | G39: =-('Specifications and Reduced mass'!$C$19*9.81) -> -0.24525 | H39: =-('Specifications and Reduced mass'!$C$20)*9.81 -> -2.943 | I39: =-('Specifications and Reduced mass'!$C$21*9.81) -> -1.962 | J39: =-('Specifications and Reduced mass'!$C$22*9.81) -> -0.981
B40: 3000 | C40: =((-((('Specifications and Reduced mass'!$C$23/1000))-('Specifications and Reduced mass'!$C$26/1000))/(('Specifications and Reduced mass'!$C$31/1000)))-(('Net Resistance '!F10)/(('Specifications and Reduced mass'!$C$17)*9.81)))*9.81 -> -13.736846 | D40: =((-((('Specifications and Reduced mass'!$C$23/1000))-('Specifications and Reduced mass'!$C$26/1000))/(('Specifications and Reduced mass'!$C$31/1000)))-(('Net Resistance '!G10)/(('Specifications and Reduced mass'!$C$17)*9.81)))*9.81 -> -13.748879 | E40: =((-((('Specifications and Reduced mass'!$C$23/1000))-('Specifications and Reduced mass'!$C$26/1000))/(('Specifications and Reduced mass'!$C$31/1000)))-(('Net Resistance '!H10)/(('Specifications and Reduced mass'!$C$17)*9.81)))*9.81 -> -13.767787 | F40: =-('Specifications and Reduced mass'!$C$18*9.81) -> -0.1962 | G40: =-('Specifications and Reduced mass'!$C$19*9.81) -> -0.24525 | H40: =-('Specifications and Reduced mass'!$C$20)*9.81 -> -2.943 | I40: =-('Specifications and Reduced mass'!$C$21*9.81) -> -1.962 | J40: =-('Specifications and Reduced mass'!$C$22*9.81) -> -0.981
B41: 3500 | C41: =((-((('Specifications and Reduced mass'!$C$23/1000))-('Specifications and Reduced mass'!$C$26/1000))/(('Specifications and Reduced mass'!$C$31/1000)))-(('Net Resistance '!F11)/(('Specifications and Reduced mass'!$C$17)*9.81)))*9.81 -> -13.741868 | D41: =((-((('Specifications and Reduced mass'!$C$23/1000))-('Specifications and Reduced mass'!$C$26/1000))/(('Specifications and Reduced mass'!$C$31/1000)))-(('Net Resistance '!G11)/(('Specifications and Reduced mass'!$C$17)*9.81)))*9.81 -> -13.758415 | E41: =((-((('Specifications and Reduced mass'!$C$23/1000))-('Specifications and Reduced mass'!$C$26/1000))/(('Specifications and Reduced mass'!$C$31/1000)))-(('Net Resistance '!H11)/(('Specifications and Reduced mass'!$C$17)*9.81)))*9.81 -> -13.783977 | F41: =-('Specifications and Reduced mass'!$C$18*9.81) -> -0.1962 | G41: =-('Specifications and Reduced mass'!$C$19*9.81) -> -0.24525 | H41: =-('Specifications and Reduced mass'!$C$20)*9.81 -> -2.943 | I41: =-('Specifications and Reduced mass'!$C$21*9.81) -> -1.962 | J41: =-('Specifications and Reduced mass'!$C$22*9.81) -> -0.981
B42: 4000 | C42: =((-((('Specifications and Reduced mass'!$C$23/1000))-('Specifications and Reduced mass'!$C$26/1000))/(('Specifications and Reduced mass'!$C$31/1000)))-(('Net Resistance '!F12)/(('Specifications and Reduced mass'!$C$17)*9.81)))*9.81 -> -13.747763 | D42: =((-((('Specifications and Reduced mass'!$C$23/1000))-('Specifications and Reduced mass'!$C$26/1000))/(('Specifications and Reduced mass'!$C$31/1000)))-(('Net Resistance '!G12)/(('Specifications and Reduced mass'!$C$17)*9.81)))*9.81 -> -13.769279 | E42: =((-((('Specifications and Reduced mass'!$C$23/1000))-('Specifications and Reduced mass'!$C$26/1000))/(('Specifications and Reduced mass'!$C$31/1000)))-(('Net Resistance '!H12)/(('Specifications and Reduced mass'!$C$17)*9.81)))*9.81 -> -13.806637 | F42: =-('Specifications and Reduced mass'!$C$18*9.81) -> -0.1962 | G42: =-('Specifications and Reduced mass'!$C$19*9.81) -> -0.24525 | H42: =-('Specifications and Reduced mass'!$C$20)*9.81 -> -2.943 | I42: =-('Specifications and Reduced mass'!$C$21*9.81) -> -1.962 | J42: =-('Specifications and Reduced mass'!$C$22*9.81) -> -0.981
B43: 4500 | C43: =((-((('Specifications and Reduced mass'!$C$23/1000))-('Specifications and Reduced mass'!$C$26/1000))/(('Specifications and Reduced mass'!$C$31/1000)))-(('Net Resistance '!F13)/(('Specifications and Reduced mass'!$C$17)*9.81)))*9.81 -> -13.754448 | D43: =((-((('Specifications and Reduced mass'!$C$23/1000))-('Specifications and Reduced mass'!$C$26/1000))/(('Specifications and Reduced mass'!$C$31/1000)))-(('Net Resistance '!G13)/(('Specifications and Reduced mass'!$C$17)*9.81)))*9.81 -> -13.781754 | E43: =((-((('Specifications and Reduced mass'!$C$23/1000))-('Specifications and Reduced mass'!$C$26/1000))/(('Specifications and Reduced mass'!$C$31/1000)))-(('Net Resistance '!H13)/(('Specifications and Reduced mass'!$C$17)*9.81)))*9.81 -> -13.824017 | F43: =-('Specifications and Reduced mass'!$C$18*9.81) -> -0.1962 | G43: =-('Specifications and Reduced mass'!$C$19*9.81) -> -0.24525 | H43: =-('Specifications and Reduced mass'!$C$20)*9.81 -> -2.943 | I43: =-('Specifications and Reduced mass'!$C$21*9.81) -> -1.962 | J43: =-('Specifications and Reduced mass'!$C$22*9.81) -> -0.981
B44: 5000 | C44: =((-((('Specifications and Reduced mass'!$C$23/1000))-('Specifications and Reduced mass'!$C$26/1000))/(('Specifications and Reduced mass'!$C$31/1000)))-(('Net Resistance '!F14)/(('Specifications and Reduced mass'!$C$17)*9.81)))*9.81 -> -13.76206 | D44: =((-((('Specifications and Reduced mass'!$C$23/1000))-('Specifications and Reduced mass'!$C$26/1000))/(('Specifications and Reduced mass'!$C$31/1000)))-(('Net Resistance '!G14)/(('Specifications and Reduced mass'!$C$17)*9.81)))*9.81 -> -13.795519 | E44: =((-((('Specifications and Reduced mass'!$C$23/1000))-('Specifications and Reduced mass'!$C$26/1000))/(('Specifications and Reduced mass'!$C$31/1000)))-(('Net Resistance '!H14)/(('Specifications and Reduced mass'!$C$17)*9.81)))*9.81 -> -13.847916 | F44: =-('Specifications and Reduced mass'!$C$18*9.81) -> -0.1962 | G44: =-('Specifications and Reduced mass'!$C$19*9.81) -> -0.24525 | H44: =-('Specifications and Reduced mass'!$C$20)*9.81 -> -2.943 | I44: =-('Specifications and Reduced mass'!$C$21*9.81) -> -1.962 | J44: =-('Specifications and Reduced mass'!$C$22*9.81) -> -0.981
B45: 5500 | C45: =((-((('Specifications and Reduced mass'!$C$23/1000))-('Specifications and Reduced mass'!$C$26/1000))/(('Specifications and Reduced mass'!$C$31/1000)))-(('Net Resistance '!F15)/(('Specifications and Reduced mass'!$C$17)*9.81)))*9.81 -> -13.770186 | D45: =((-((('Specifications and Reduced mass'!$C$23/1000))-('Specifications and Reduced mass'!$C$26/1000))/(('Specifications and Reduced mass'!$C$31/1000)))-(('Net Resistance '!G15)/(('Specifications and Reduced mass'!$C$17)*9.81)))*9.81 -> -13.810933 | E45: =((-((('Specifications and Reduced mass'!$C$23/1000))-('Specifications and Reduced mass'!$C$26/1000))/(('Specifications and Reduced mass'!$C$31/1000)))-(('Net Resistance '!H15)/(('Specifications and Reduced mass'!$C$17)*9.81)))*9.81 -> -13.874073 | F45: =-('Specifications and Reduced mass'!$C$18*9.81) -> -0.1962 | G45: =-('Specifications and Reduced mass'!$C$19*9.81) -> -0.24525 | H45: =-('Specifications and Reduced mass'!$C$20)*9.81 -> -2.943 | I45: =-('Specifications and Reduced mass'!$C$21*9.81) -> -1.962 | J45: =-('Specifications and Reduced mass'!$C$22*9.81) -> -0.981
B46: 6000 | C46: =((-((('Specifications and Reduced mass'!$C$23/1000))-('Specifications and Reduced mass'!$C$26/1000))/(('Specifications and Reduced mass'!$C$31/1000)))-(('Net Resistance '!F16)/(('Specifications and Reduced mass'!$C$17)*9.81)))*9.81 -> -13.77924 | D46: =((-((('Specifications and Reduced mass'!$C$23/1000))-('Specifications and Reduced mass'!$C$26/1000))/(('Specifications and Reduced mass'!$C$31/1000)))-(('Net Resistance '!G16)/(('Specifications and Reduced mass'!$C$17)*9.81)))*9.81 -> -13.827825 | E46: =((-((('Specifications and Reduced mass'!$C$23/1000))-('Specifications and Reduced mass'!$C$26/1000))/(('Specifications and Reduced mass'!$C$31/1000)))-(('Net Resistance '!H16)/(('Specifications and Reduced mass'!$C$17)*9.81)))*9.81 -> -13.903005 | F46: =-('Specifications and Reduced mass'!$C$18*9.81) -> -0.1962 | G46: =-('Specifications and Reduced mass'!$C$19*9.81) -> -0.24525 | H46: =-('Specifications and Reduced mass'!$C$20)*9.81 -> -2.943 | I46: =-('Specifications and Reduced mass'!$C$21*9.81) -> -1.962 | J46: =-('Specifications and Reduced mass'!$C$22*9.81) -> -0.981
B47: 6500 | C47: =((-((('Specifications and Reduced mass'!$C$23/1000))-('Specifications and Reduced mass'!$C$26/1000))/(('Specifications and Reduced mass'!$C$31/1000)))-(('Net Resistance '!F17)/(('Specifications and Reduced mass'!$C$17)*9.81)))*9.81 -> -13.788904 | D47: =((-((('Specifications and Reduced mass'!$C$23/1000))-('Specifications and Reduced mass'!$C$26/1000))/(('Specifications and Reduced mass'!$C$31/1000)))-(('Net Resistance '!G17)/(('Specifications and Reduced mass'!$C$17)*9.81)))*9.81 -> -13.845951 | E47: =((-((('Specifications and Reduced mass'!$C$23/1000))-('Specifications and Reduced mass'!$C$26/1000))/(('Specifications and Reduced mass'!$C$31/1000)))-(('Net Resistance '!H17)/(('Specifications and Reduced mass'!$C$17)*9.81)))*9.81 -> -13.934466 | F47: =-('Specifications and Reduced mass'!$C$18*9.81) -> -0.1962 | G47: =-('Specifications and Reduced mass'!$C$19*9.81) -> -0.24525 | H47: =-('Specifications and Reduced mass'!$C$20)*9.81 -> -2.943 | I47: =-('Specifications and Reduced mass'!$C$21*9.81) -> -1.962 | J47: =-('Specifications and Reduced mass'!$C$22*9.81) -> -0.981

Sheet Net Resistance 
B3: Aerodynamic Drag force acting on each Gear
B4: RPM | C4: Gear 1-Velocity (m/s) | D4: Gear 2-Velocity(m/s) | E4: Gear 3-Velocity (m/s) | F4: Aero Drag Gear 1(N) | G4: Aero Drag Gear 2(N) | H4: Aero Drag Gear 3(N)
B6: 1000 | C6: 1.14 | D6: 1.55 | E6: 2.03 | F6: =0.5*'Specifications and Reduced mass'!C11*'Specifications and Reduced mass'!C10*'Specifications and Reduced mass'!C9*'Net Resistance '!C6^2 -> 0.82918129 | G6: =0.5*'Specifications and Reduced mass'!C11*'Specifications and Reduced mass'!C10*'Specifications and Reduced mass'!C9*'Net Resistance '!D6^2 -> 1.5328625 | H6: =0.5*'Specifications and Reduced mass'!C11*'Specifications and Reduced mass'!C10*'Specifications and Reduced mass'!C9*'Net Resistance '!E6^2 -> 2.6292499
B7: 1500 | C7: 1.7 | D7: 2.32 | E7: 3.04 | F7: =0.5*'Specifications and Reduced mass'!C11*'Specifications and Reduced mass'!C10*'Specifications and Reduced mass'!C9*'Net Resistance '!C7^2 -> 1.8439011 | G7: =0.5*'Specifications and Reduced mass'!C11*'Specifications and Reduced mass'!C10*'Specifications and Reduced mass'!C9*'Net Resistance '!D7^2 -> 3.4341223 | H7: =0.5*'Specifications and Reduced mass'!C11*'Specifications and Reduced mass'!C10*'Specifications and Reduced mass'!C9*'Net Resistance '!E7^2 -> 5.8964003
B8: 2000 | C8: 2.27 | D8: 3.1 | E8: 4.06 | F8: =0.5*'Specifications and Reduced mass'!C11*'Specifications and Reduced mass'!C10*'Specifications and Reduced mass'!C9*'Net Resistance '!C8^2 -> 3.2876949 | G8: =0.5*'Specifications and Reduced mass'!C11*'Specifications and Reduced mass'!C10*'Specifications and Reduced mass'!C9*'Net Resistance '!D8^2 -> 6.1314498 | H8: =0.5*'Specifications and Reduced mass'!C11*'Specifications and Reduced mass'!C10*'Specifications and Reduced mass'!C9*'Net Resistance '!E8^2 -> 10.517
B9: 2500 | C9: 2.84 | D9: 3.87 | E9: 5.07 | F9: =0.5*'Specifications and Reduced mass'!C11*'Specifications and Reduced mass'!C10*'Specifications and Reduced mass'!C9*'Net Resistance '!C9^2 -> 5.1460792 | G9: =0.5*'Specifications and Reduced mass'!C11*'Specifications and Reduced mass'!C10*'Specifications and Reduced mass'!C9*'Net Resistance '!D9^2 -> 9.5556827 | H9: =0.5*'Specifications and Reduced mass'!C11*'Specifications and Reduced mass'!C10*'Specifications and Reduced mass'!C9*'Net Resistance '!E9^2 -> 16.400448
B10: 3000 | C10: 3.41 | D10: 4.64 | E10: 6.09 | F10: =0.5*'Specifications and Reduced mass'!C11*'Specifications and Reduced mass'!C10*'Specifications and Reduced mass'!C9*'Net Resistance '!C10^2 -> 7.4190543 | G10: =0.5*'Specifications and Reduced mass'!C11*'Specifications and Reduced mass'!C10*'Specifications and Reduced mass'!C9*'Net Resistance '!D10^2 -> 13.736489 | H10: =0.5*'Specifications and Reduced mass'!C11*'Specifications and Reduced mass'!C10*'Specifications and Reduced mass'!C9*'Net Resistance '!E10^2 -> 23.663249
B11: 3500 | C11: 3.97 | D11: 5.42 | E11: 7.1 | F11: =0.5*'Specifications and Reduced mass'!C11*'Specifications and Reduced mass'!C10*'Specifications and Reduced mass'!C9*'Net Resistance '!C11^2 -> 10.055897 | G11: =0.5*'Specifications and Reduced mass'!C11*'Specifications and Reduced mass'!C10*'Specifications and Reduced mass'!C9*'Net Resistance '!D11^2 -> 18.742968 | H11: =0.5*'Specifications and Reduced mass'!C11*'Specifications and Reduced mass'!C10*'Specifications and Reduced mass'!C9*'Net Resistance '!E11^2 -> 32.162995
B12: 4000 | C12: 4.54 | D12: 6.19 | E12: 8.31 | F12: =0.5*'Specifications and Reduced mass'!C11*'Specifications and Reduced mass'!C10*'Specifications and Reduced mass'!C9*'Net Resistance '!C12^2 -> 13.150779 | G12: =0.5*'Specifications and Reduced mass'!C11*'Specifications and Reduced mass'!C10*'Specifications and Reduced mass'!C9*'Net Resistance '!D12^2 -> 24.446748 | H12: =0.5*'Specifications and Reduced mass'!C11*'Specifications and Reduced mass'!C10*'Specifications and Reduced mass'!C9*'Net Resistance '!E12^2 -> 44.059731
B13: 4500 | C13: 5.11 | D13: 6.97 | E13: 9.13 | F13: =0.5*'Specifications and Reduced mass'!C11*'Specifications and Reduced mass'!C10*'Specifications and Reduced mass'!C9*'Net Resistance '!C13^2 -> 16.660253 | G13: =0.5*'Specifications and Reduced mass'!C11*'Specifications and Reduced mass'!C10*'Specifications and Reduced mass'!C9*'Net Resistance '!D13^2 -> 30.995978 | H13: =0.5*'Specifications and Reduced mass'!C11*'Specifications and Reduced mass'!C10*'Specifications and Reduced mass'!C9*'Net Resistance '!E13^2 -> 53.184042
B14: 5000 | C14: 5.69 | D14: 7.74 | E14: 10.15 | F14: =0.5*'Specifications and Reduced mass'!C11*'Specifications and Reduced mass'!C10*'Specifications and Reduced mass'!C9*'Net Resistance '!C14^2 -> 20.656861 | G14: =0.5*'Specifications and Reduced mass'!C11*'Specifications and Reduced mass'!C10*'Specifications and Reduced mass'!C9*'Net Resistance '!D14^2 -> 38.222731 | H14: =0.5*'Specifications and Reduced mass'!C11*'Specifications and Reduced mass'!C10*'Specifications and Reduced mass'!C9*'Net Resistance '!E14^2 -> 65.731247
B15: 5500 | C15: 6.25 | D15: 8.52 | E15: 11.16 | F15: =0.5*'Specifications and Reduced mass'!C11*'Specifications and Reduced mass'!C10*'Specifications and Reduced mass'!C9*'Net Resistance '!C15^2 -> 24.922972 | G15: =0.5*'Specifications and Reduced mass'!C11*'Specifications and Reduced mass'!C10*'Specifications and Reduced mass'!C9*'Net Resistance '!D15^2 -> 46.314713 | H15: =0.5*'Specifications and Reduced mass'!C11*'Specifications and Reduced mass'!C10*'Specifications and Reduced mass'!C9*'Net Resistance '!E15^2 -> 79.463589
B16: 6000 | C16: 6.82 | D16: 9.3 | E16: 12.18 | F16: =0.5*'Specifications and Reduced mass'!C11*'Specifications and Reduced mass'!C10*'Specifications and Reduced mass'!C9*'Net Resistance '!C16^2 -> 29.676217 | G16: =0.5*'Specifications and Reduced mass'!C11*'Specifications and Reduced mass'!C10*'Specifications and Reduced mass'!C9*'Net Resistance '!D16^2 -> 55.183048 | H16: =0.5*'Specifications and Reduced mass'!C11*'Specifications and Reduced mass'!C10*'Specifications and Reduced mass'!C9*'Net Resistance '!E16^2 -> 94.652996
B17: 6500 | C17: 7.38 | D17: 10.07 | E17: 13.2 | F17: =0.5*'Specifications and Reduced mass'!C11*'Specifications and Reduced mass'!C10*'Specifications and Reduced mass'!C9*'Net Resistance '!C17^2 -> 34.749816 | G17: =0.5*'Specifications and Reduced mass'!C11*'Specifications and Reduced mass'!C10*'Specifications and Reduced mass'!C9*'Net Resistance '!D17^2 -> 64.699173 | H17: =0.5*'Specifications and Reduced mass'!C11*'Specifications and Reduced mass'!C10*'Specifications and Reduced mass'!C9*'Net Resistance '!E17^2 -> 111.17001
B19: Total Resistance Forces at every sector for each gear
B20: RPM | C20: Sector 1 - Gear 1 | D20: Sector 1 - Gear 2 | E20: Sector 1 - Gear 3 | F20: Sector 2 - Gear 1 | G20: Sector 2 - Gear 2 | H20: Sector 2 - Gear 3 | I20: Sector 3 - Gear 1 | J20: Sector 3 - Gear 2 | K20: Sector 3 - Gear 3 | L20: Sector 4 - Gear 1 | M20: Sector 4 - Gear 2 | N20: Sector 4 - Gear 3 | O20: Sector 5 - Gear 1 | P20: Sector 5 - Gear 2 | Q20: Sector 5 - Gear 3
B21: 1000 | C21: =F6+'Specifications and Reduced mass'!$F$13+'Acceleration & Deceleration'!O6 -> 440.26049 | D21: =G6+'Specifications and Reduced mass'!$F$13+'Acceleration & Deceleration'!P6 -> 365.3182 | E21: =H6+'Specifications and Reduced mass'!$F$13+'Acceleration & Deceleration'!Q6 -> 373.81169 | F21: =F6+'Specifications and Reduced mass'!$G$13+'Specifications and Reduced mass'!$K$13+'Acceleration & Deceleration'!O6 -> 2629.9717 | G21: =G6+'Specifications and Reduced mass'!G$13+'Specifications and Reduced mass'!K$13+'Acceleration & Deceleration'!P6 -> 2555.0294 | H21: =H6+'Specifications and Reduced mass'!G$13+'Specifications and Reduced mass'!K$13+'Acceleration & Deceleration'!Q6 -> 2563.5229 | I21: =F6+'Specifications and Reduced mass'!$H$13+'Acceleration & Deceleration'!O6 -> 1882.3305 | J21: =G6+'Specifications and Reduced mass'!$H$13+'Acceleration & Deceleration'!P6 -> 1807.3882 | K21: =H6+'Specifications and Reduced mass'!$H$13+'Acceleration & Deceleration'!Q6 -> 1815.8817 | L21: =F6+'Specifications and Reduced mass'!$I$13+'Acceleration & Deceleration'!O6 -> 1367.3055 | M21: =G6+'Specifications and Reduced mass'!$I$13+'Acceleration & Deceleration'!P6 -> 1292.3632 | N21: =H6+'Specifications and Reduced mass'!$I$13+'Acceleration & Deceleration'!Q6 -> 1300.8567 | O21: =F6+'Specifications and Reduced mass'!$J$13+'Acceleration & Deceleration'!O6 -> 852.28049 | P21: =G6+'Specifications and Reduced mass'!$J$13+'Acceleration & Deceleration'!P6 -> 777.3382 | Q21: =H6+'Specifications and Reduced mass'!$J$13+'Acceleration & Deceleration'!Q6 -> 785.83169
B22: 1500 | C22: =F7+'Specifications and Reduced mass'!$F$13+'Acceleration & Deceleration'!O7 -> 441.27521 | D22: =G7+'Specifications and Reduced mass'!$F$13+'Acceleration & Deceleration'!P7 -> 367.21946 | E22: =H7+'Specifications and Reduced mass'!$F$13+'Acceleration & Deceleration'!Q7 -> 377.07884 | F22: =F7+'Specifications and Reduced mass'!$G$13+'Specifications and Reduced mass'!$K$13+'Acceleration & Deceleration'!O7 -> 2630.9865 | G22: =G7+'Specifications and Reduced mass'!G$13+'Specifications and Reduced mass'!K$13+'Acceleration & Deceleration'!P7 -> 2556.9307 | H22: =H7+'Specifications and Reduced mass'!G$13+'Specifications and Reduced mass'!K$13+'Acceleration & Deceleration'!Q7 -> 2566.7901 | I22: =F7+'Specifications and Reduced mass'!$H$13+'Acceleration & Deceleration'!O7 -> 1883.3452 | J22: =G7+'Specifications and Reduced mass'!$H$13+'Acceleration & Deceleration'!P7 -> 1809.2895 | K22: =H7+'Specifications and Reduced mass'!$H$13+'Acceleration & Deceleration'!Q7 -> 1819.1488 | L22: =F7+'Specifications and Reduced mass'!$I$13+'Acceleration & Deceleration'!O7 -> 1368.3202 | M22: =G7+'Specifications and Reduced mass'!$I$13+'Acceleration & Deceleration'!P7 -> 1294.2645 | N22: =H7+'Specifications and Reduced mass'!$I$13+'Acceleration & Deceleration'!Q7 -> 1304.1238 | O22: =F7+'Specifications and Reduced mass'!$J$13 -> 516.8689 | P22: =G7+'Specifications and Reduced mass'!$J$13+'Acceleration & Deceleration'!P7 -> 779.23946 | Q22: =H7+'Specifications and Reduced mass'!$J$13+'Acceleration & Deceleration'!Q7 -> 789.09884
B23: 2000 | C23: =F8+'Specifications and Reduced mass'!$F$13+'Acceleration & Deceleration'!O8 -> 442.71901 | D23: =G8+'Specifications and Reduced mass'!$F$13+'Acceleration & Deceleration'!P8 -> 369.91678 | E23: =H8+'Specifications and Reduced mass'!$F$13+'Acceleration & Deceleration'!Q8 -> 381.69944 | F23: =F8+'Specifications and Reduced mass'!$G$13+'Specifications and Reduced mass'!$K$13+'Acceleration & Deceleration'!O8 -> 2632.4303 | G23: =G8+'Specifications and Reduced mass'!G$13+'Specifications and Reduced mass'!K$13+'Acceleration & Deceleration'!P8 -> 2559.628 | H23: =H8+'Specifications and Reduced mass'!G$13+'Specifications and Reduced mass'!K$13+'Acceleration & Deceleration'!Q8 -> 2571.4107 | I23: =F8+'Specifications and Reduced mass'!$H$13+'Acceleration & Deceleration'!O8 -> 1884.789 | J23: =G8+'Specifications and Reduced mass'!$H$13+'Acceleration & Deceleration'!P8 -> 1811.9868 | K23: =H8+'Specifications and Reduced mass'!$H$13+'Acceleration & Deceleration'!Q8 -> 1823.7694 | L23: =F8+'Specifications and Reduced mass'!$I$13+'Acceleration & Deceleration'!O8 -> 1369.764 | M23: =G8+'Specifications and Reduced mass'!$I$13+'Acceleration & Deceleration'!P8 -> 1296.9618 | N23: =H8+'Specifications and Reduced mass'!$I$13+'Acceleration & Deceleration'!Q8 -> 1308.7444 | O23: =F8+'Specifications and Reduced mass'!$J$13 -> 518.31269 | P23: =G8+'Specifications and Reduced mass'!$J$13+'Acceleration & Deceleration'!P8 -> 781.93678 | Q23: =H8+'Specifications and Reduced mass'!$J$13+'Acceleration & Deceleration'!Q8 -> 793.71944
B24: 2500 | C24: =F9+'Specifications and Reduced mass'!$F$13+'Acceleration & Deceleration'!O9 -> 444.57739 | D24: =G9+'Specifications and Reduced mass'!$F$13+'Acceleration & Deceleration'!P9 -> 373.34102 | E24: =H9+'Specifications and Reduced mass'!$F$13+'Acceleration & Deceleration'!Q9 -> 387.58288 | F24: =F9+'Specifications and Reduced mass'!$G$13+'Specifications and Reduced mass'!$K$13+'Acceleration & Deceleration'!O9 -> 2634.2886 | G24: =G9+'Specifications and Reduced mass'!G$13+'Specifications and Reduced mass'!K$13+'Acceleration & Deceleration'!P9 -> 2563.0523 | H24: =H9+'Specifications and Reduced mass'!G$13+'Specifications and Reduced mass'!K$13+'Acceleration & Deceleration'!Q9 -> 2577.2941 | I24: =F9+'Specifications and Reduced mass'!$H$13+'Acceleration & Deceleration'!O9 -> 1886.6474 | J24: =G9+'Specifications and Reduced mass'!$H$13+'Acceleration & Deceleration'!P9 -> 1815.411 | K24: =H9+'Specifications and Reduced mass'!$H$13+'Acceleration & Deceleration'!Q9 -> 1829.6529 | L24: =F9+'Specifications and Reduced mass'!$I$13+'Acceleration & Deceleration'!O9 -> 1371.6224 | M24: =G9+'Specifications and Reduced mass'!$I$13+'Acceleration & Deceleration'!P9 -> 1300.386 | N24: =H9+'Specifications and Reduced mass'!$I$13+'Acceleration & Deceleration'!Q9 -> 1314.6279 | O24: =F9+'Specifications and Reduced mass'!$J$13 -> 520.17108 | P24: =G9+'Specifications and Reduced mass'!$J$13+'Acceleration & Deceleration'!P9 -> 785.36102 | Q24: =H9+'Specifications and Reduced mass'!$J$13+'Acceleration & Deceleration'!Q9 -> 799.60288
B25: 3000 | C25: =F10+'Specifications and Reduced mass'!$F$13+'Acceleration & Deceleration'!O10 -> 446.85037 | D25: =G10+'Specifications and Reduced mass'!$F$13+'Acceleration & Deceleration'!P10 -> 377.52182 | E25: =H10+'Specifications and Reduced mass'!$F$13+'Acceleration & Deceleration'!Q10 -> 394.84568 | F25: =F10+'Specifications and Reduced mass'!$G$13+'Specifications and Reduced mass'!$K$13+'Acceleration & Deceleration'!O10 -> 2636.5616 | G25: =G10+'Specifications and Reduced mass'!G$13+'Specifications and Reduced mass'!K$13+'Acceleration & Deceleration'!P10 -> 2567.2331 | H25: =H10+'Specifications and Reduced mass'!G$13+'Specifications and Reduced mass'!K$13+'Acceleration & Deceleration'!Q10 -> 2584.5569 | I25: =F10+'Specifications and Reduced mass'!$H$13+'Acceleration & Deceleration'!O10 -> 1888.9204 | J25: =G10+'Specifications and Reduced mass'!$H$13+'Acceleration & Deceleration'!P10 -> 1819.5918 | K25: =H10+'Specifications and Reduced mass'!$H$13+'Acceleration & Deceleration'!Q10 -> 1836.9157 | L25: =F10+'Specifications and Reduced mass'!$I$13+'Acceleration & Deceleration'!O10 -> 1373.8954 | M25: =G10+'Specifications and Reduced mass'!$I$13+'Acceleration & Deceleration'!P10 -> 1304.5668 | N25: =H10+'Specifications and Reduced mass'!$I$13+'Acceleration & Deceleration'!Q10 -> 1321.8907 | O25: =F10+'Specifications and Reduced mass'!$J$13 -> 522.44405 | P25: =G10+'Specifications and Reduced mass'!$J$13+'Acceleration & Deceleration'!P10 -> 789.54182 | Q25: =H10+'Specifications and Reduced mass'!$J$13+'Acceleration & Deceleration'!Q10 -> 806.86568
B26: 3500 | C26: =F11+'Specifications and Reduced mass'!$F$13+'Acceleration & Deceleration'!O11 -> 449.48721 | D26: =G11+'Specifications and Reduced mass'!$F$13+'Acceleration & Deceleration'!P11 -> 382.5283 | E26: =H11+'Specifications and Reduced mass'!$F$13+'Acceleration & Deceleration'!Q11 -> 403.34543 | F26: =F11+'Specifications and Reduced mass'!$G$13+'Specifications and Reduced mass'!$K$13+'Acceleration & Deceleration'!O11 -> 2639.1985 | G26: =G11+'Specifications and Reduced mass'!G$13+'Specifications and Reduced mass'!K$13+'Acceleration & Deceleration'!P11 -> 2572.2396 | H26: =H11+'Specifications and Reduced mass'!G$13+'Specifications and Reduced mass'!K$13+'Acceleration & Deceleration'!Q11 -> 2593.0567 | I26: =F11+'Specifications and Reduced mass'!$H$13+'Acceleration & Deceleration'!O11 -> 1891.5572 | J26: =G11+'Specifications and Reduced mass'!$H$13+'Acceleration & Deceleration'!P11 -> 1824.5983 | K26: =H11+'Specifications and Reduced mass'!$H$13+'Acceleration & Deceleration'!Q11 -> 1845.4154 | L26: =F11+'Specifications and Reduced mass'!$I$13+'Acceleration & Deceleration'!O11 -> 1376.5322 | M26: =G11+'Specifications and Reduced mass'!$I$13+'Acceleration & Deceleration'!P11 -> 1309.5733 | N26: =H11+'Specifications and Reduced mass'!$I$13+'Acceleration & Deceleration'!Q11 -> 1330.3904 | O26: =F11+'Specifications and Reduced mass'!$J$13 -> 525.0809 | P26: =G11+'Specifications and Reduced mass'!$J$13+'Acceleration & Deceleration'!P11 -> 794.5483 | Q26: =H11+'Specifications and Reduced mass'!$J$13+'Acceleration & Deceleration'!Q11 -> 815.36543
B27: 4000 | C27: =F12+'Specifications and Reduced mass'!$F$13+'Acceleration & Deceleration'!O12 -> 452.58209 | D27: =G12+'Specifications and Reduced mass'!$F$13+'Acceleration & Deceleration'!P12 -> 388.23208 | E27: =H12+'Specifications and Reduced mass'!$F$13+'Acceleration & Deceleration'!Q12 -> 415.24217 | F27: =F12+'Specifications and Reduced mass'!$G$13+'Specifications and Reduced mass'!$K$13+'Acceleration & Deceleration'!O12 -> 2642.2933 | G27: =G12+'Specifications and Reduced mass'!G$13+'Specifications and Reduced mass'!K$13+'Acceleration & Deceleration'!P12 -> 2577.9433 | H27: =H12+'Specifications and Reduced mass'!G$13+'Specifications and Reduced mass'!K$13+'Acceleration & Deceleration'!Q12 -> 2604.9534 | I27: =F12+'Specifications and Reduced mass'!$H$13+'Acceleration & Deceleration'!O12 -> 1894.6521 | J27: =G12+'Specifications and Reduced mass'!$H$13+'Acceleration & Deceleration'!P12 -> 1830.3021 | K27: =H12+'Specifications and Reduced mass'!$H$13+'Acceleration & Deceleration'!Q12 -> 1857.3122 | L27: =F12+'Specifications and Reduced mass'!$I$13+'Acceleration & Deceleration'!O12 -> 1379.6271 | M27: =G12+'Specifications and Reduced mass'!$I$13+'Acceleration & Deceleration'!P12 -> 1315.2771 | N27: =H12+'Specifications and Reduced mass'!$I$13+'Acceleration & Deceleration'!Q12 -> 1342.2872 | O27: =F12+'Specifications and Reduced mass'!$J$13 -> 528.17578 | P27: =G12+'Specifications and Reduced mass'!$J$13+'Acceleration & Deceleration'!P12 -> 800.25208 | Q27: =H12+'Specifications and Reduced mass'!$J$13+'Acceleration & Deceleration'!Q12 -> 827.26217
B28: 4500 | C28: =F13+'Specifications and Reduced mass'!$F$13+'Acceleration & Deceleration'!O13 -> 456.09156 | D28: =G13+'Specifications and Reduced mass'!$F$13+'Acceleration & Deceleration'!P13 -> 394.78131 | E28: =H13+'Specifications and Reduced mass'!$F$13+'Acceleration & Deceleration'!Q13 -> 424.36648 | F28: =F13+'Specifications and Reduced mass'!$G$13+'Specifications and Reduced mass'!$K$13+'Acceleration & Deceleration'!O13 -> 2645.8028 | G28: =G13+'Specifications and Reduced mass'!G$13+'Specifications and Reduced mass'!K$13+'Acceleration & Deceleration'!P13 -> 2584.4926 | H28: =H13+'Specifications and Reduced mass'!G$13+'Specifications and Reduced mass'!K$13+'Acceleration & Deceleration'!Q13 -> 2614.0777 | I28: =F13+'Specifications and Reduced mass'!$H$13+'Acceleration & Deceleration'!O13 -> 1898.1616 | J28: =G13+'Specifications and Reduced mass'!$H$13+'Acceleration & Deceleration'!P13 -> 1836.8513 | K28: =H13+'Specifications and Reduced mass'!$H$13+'Acceleration & Deceleration'!Q13 -> 1866.4365 | L28: =F13+'Specifications and Reduced mass'!$I$13+'Acceleration & Deceleration'!O13 -> 1383.1366 | M28: =G13+'Specifications and Reduced mass'!$I$13+'Acceleration & Deceleration'!P13 -> 1321.8263 | N28: =H13+'Specifications and Reduced mass'!$I$13+'Acceleration & Deceleration'!Q13 -> 1351.4115 | O28: =F13+'Specifications and Reduced mass'!$J$13 -> 531.68525 | P28: =G13+'Specifications and Reduced mass'!$J$13+'Acceleration & Deceleration'!P13 -> 806.80131 | Q28: =H13+'Specifications and Reduced mass'!$J$13+'Acceleration & Deceleration'!Q13 -> 836.38648
B29: 5000 | C29: =F14+'Specifications and Reduced mass'!$F$13+'Acceleration & Deceleration'!O14 -> 460.08817 | D29: =G14+'Specifications and Reduced mass'!$F$13+'Acceleration & Deceleration'!P14 -> 402.00806 | E29: =H14+'Specifications and Reduced mass'!$F$13+'Acceleration & Deceleration'!Q14 -> 436.91368 | F29: =F14+'Specifications and Reduced mass'!$G$13+'Specifications and Reduced mass'!$K$13+'Acceleration & Deceleration'!O14 -> 2649.7994 | G29: =G14+'Specifications and Reduced mass'!G$13+'Specifications and Reduced mass'!K$13+'Acceleration & Deceleration'!P14 -> 2591.7193 | H29: =H14+'Specifications and Reduced mass'!G$13+'Specifications and Reduced mass'!K$13+'Acceleration & Deceleration'!Q14 -> 2626.6249 | I29: =F14+'Specifications and Reduced mass'!$H$13+'Acceleration & Deceleration'!O14 -> 1902.1582 | J29: =G14+'Specifications and Reduced mass'!$H$13+'Acceleration & Deceleration'!P14 -> 1844.0781 | K29: =H14+'Specifications and Reduced mass'!$H$13+'Acceleration & Deceleration'!Q14 -> 1878.9837 | L29: =F14+'Specifications and Reduced mass'!$I$13+'Acceleration & Deceleration'!O14 -> 1387.1332 | M29: =G14+'Specifications and Reduced mass'!$I$13+'Acceleration & Deceleration'!P14 -> 1329.0531 | N29: =H14+'Specifications and Reduced mass'!$I$13+'Acceleration & Deceleration'!Q14 -> 1363.9587 | O29: =F14+'Specifications and Reduced mass'!$J$13 -> 535.68186 | P29: =G14+'Specifications and Reduced mass'!$J$13+'Acceleration & Deceleration'!P14 -> 814.02806 | Q29: =H14+'Specifications and Reduced mass'!$J$13+'Acceleration & Deceleration'!Q14 -> 848.93368
B30: 5500 | C30: =F15+'Specifications and Reduced mass'!$F$13+'Acceleration & Deceleration'!O15 -> 464.35428 | D30: =G15+'Specifications and Reduced mass'!$F$13+'Acceleration & Deceleration'!P15 -> 410.10005 | E30: =H15+'Specifications and Reduced mass'!$F$13+'Acceleration & Deceleration'!Q15 -> 450.64602 | F30: =F15+'Specifications and Reduced mass'!$G$13+'Specifications and Reduced mass'!$K$13+'Acceleration & Deceleration'!O15 -> 2654.0655 | G30: =G15+'Specifications and Reduced mass'!G$13+'Specifications and Reduced mass'!K$13+'Acceleration & Deceleration'!P15 -> 2599.8113 | H30: =H15+'Specifications and Reduced mass'!G$13+'Specifications and Reduced mass'!K$13+'Acceleration & Deceleration'!Q15 -> 2640.3573 | I30: =F15+'Specifications and Reduced mass'!$H$13+'Acceleration & Deceleration'!O15 -> 1906.4243 | J30: =G15+'Specifications and Reduced mass'!$H$13+'Acceleration & Deceleration'!P15 -> 1852.17 | K30: =H15+'Specifications and Reduced mass'!$H$13+'Acceleration & Deceleration'!Q15 -> 1892.716 | L30: =F15+'Specifications and Reduced mass'!$I$13+'Acceleration & Deceleration'!O15 -> 1391.3993 | M30: =G15+'Specifications and Reduced mass'!$I$13+'Acceleration & Deceleration'!P15 -> 1337.145 | N30: =H15+'Specifications and Reduced mass'!$I$13+'Acceleration & Deceleration'!Q15 -> 1377.691 | O30: =F15+'Specifications and Reduced mass'!$J$13 -> 539.94797 | P30: =G15+'Specifications and Reduced mass'!$J$13+'Acceleration & Deceleration'!P15 -> 822.12005 | Q30: =H15+'Specifications and Reduced mass'!$J$13+'Acceleration & Deceleration'!Q15 -> 862.66602
B31: 6000 | C31: =F16+'Specifications and Reduced mass'!$F$13+'Acceleration & Deceleration'!O16 -> 469.10753 | D31: =G16+'Specifications and Reduced mass'!$F$13+'Acceleration & Deceleration'!P16 -> 418.96838 | E31: =H16+'Specifications and Reduced mass'!$F$13+'Acceleration & Deceleration'!Q16 -> 465.83543 | F31: =F16+'Specifications and Reduced mass'!$G$13+'Specifications and Reduced mass'!$K$13+'Acceleration & Deceleration'!O16 -> 2658.8188 | G31: =G16+'Specifications and Reduced mass'!G$13+'Specifications and Reduced mass'!K$13+'Acceleration & Deceleration'!P16 -> 2608.6796 | H31: =H16+'Specifications and Reduced mass'!G$13+'Specifications and Reduced mass'!K$13+'Acceleration & Deceleration'!Q16 -> 2655.5467 | I31: =F16+'Specifications and Reduced mass'!$H$13+'Acceleration & Deceleration'!O16 -> 1911.1775 | J31: =G16+'Specifications and Reduced mass'!$H$13+'Acceleration & Deceleration'!P16 -> 1861.0384 | K31: =H16+'Specifications and Reduced mass'!$H$13+'Acceleration & Deceleration'!Q16 -> 1907.9054 | L31: =F16+'Specifications and Reduced mass'!$I$13+'Acceleration & Deceleration'!O16 -> 1396.1525 | M31: =G16+'Specifications and Reduced mass'!$I$13+'Acceleration & Deceleration'!P16 -> 1346.0134 | N31: =H16+'Specifications and Reduced mass'!$I$13+'Acceleration & Deceleration'!Q16 -> 1392.8804 | O31: =F16+'Specifications and Reduced mass'!$J$13 -> 544.70122 | P31: =G16+'Specifications and Reduced mass'!$J$13+'Acceleration & Deceleration'!P16 -> 830.98838 | Q31: =H16+'Specifications and Reduced mass'!$J$13+'Acceleration & Deceleration'!Q16 -> 877.85543
B32: 6500 | C32: =F17+'Specifications and Reduced mass'!$F$13+'Acceleration & Deceleration'!O17 -> 474.18113 | D32: =G17+'Specifications and Reduced mass'!$F$13+'Acceleration & Deceleration'!P17 -> 428.48451 | E32: =H17+'Specifications and Reduced mass'!$F$13+'Acceleration & Deceleration'!Q17 -> 482.35245 | F32: =F17+'Specifications and Reduced mass'!$G$13+'Specifications and Reduced mass'!$K$13+'Acceleration & Deceleration'!O17 -> 2663.8924 | G32: =G17+'Specifications and Reduced mass'!G$13+'Specifications and Reduced mass'!K$13+'Acceleration & Deceleration'!P17 -> 2618.1958 | H32: =H17+'Specifications and Reduced mass'!G$13+'Specifications and Reduced mass'!K$13+'Acceleration & Deceleration'!Q17 -> 2672.0637 | I32: =F17+'Specifications and Reduced mass'!$H$13+'Acceleration & Deceleration'!O17 -> 1916.2511 | J32: =G17+'Specifications and Reduced mass'!$H$13+'Acceleration & Deceleration'!P17 -> 1870.5545 | K32: =H17+'Specifications and Reduced mass'!$H$13+'Acceleration & Deceleration'!Q17 -> 1924.4224 | L32: =F17+'Specifications and Reduced mass'!$I$13+'Acceleration & Deceleration'!O17 -> 1401.2261 | M32: =G17+'Specifications and Reduced mass'!$I$13+'Acceleration & Deceleration'!P17 -> 1355.5295 | N32: =H17+'Specifications and Reduced mass'!$I$13+'Acceleration & Deceleration'!Q17 -> 1409.3974 | O32: =F17+'Specifications and Reduced mass'!$J$13 -> 549.77482 | P32: =G17+'Specifications and Reduced mass'!$J$13+'Acceleration & Deceleration'!P17 -> 840.50451 | Q32: =H17+'Specifications and Reduced mass'!$J$13+'Acceleration & Deceleration'!Q17 -> 894.37245
B34: Power Required on wheels at every Sector
B35: RPM | C35: Sector 1 - Gear 1 | D35: Sector 1 - Gear 2 | E35: Sector 1 - Gear 3 | F35: Sector 2 - Gear 1 | G35: Sector 2 - Gear 2 | H35: Sector 2 - Gear 3 | I35: Sector 3 - Gear1 | J35: Sector 3 - Gear 2 | K35: Sector 3 - Gear 3 | L35: Sector 4 - Gear 1 | M35: Sector 4 - Gear 2 | N35: Sector 4 - Gear 3 | O35: Sector 5 - Gear 1 | P35: Sector 5 - Gear 2 | Q35: Sector 5 - G3
B36: 1000 | C36: =C21*C6 -> 501.89696 | D36: =D21*D6 -> 566.2432 | E36: =E21*E6 -> 758.83772 | F36: =F21*C6 -> 2998.1678 | G36: =G21*D6 -> 3960.2956 | H36: =H21*E6 -> 5203.9516 | I36: =I21*C6 -> 2145.8568 | J36: =J21*D6 -> 2801.4517 | K36: =K21*E6 -> 3686.2398 | L36: =L21*C6 -> 1558.7283 | M36: =M21*D6 -> 2003.163 | N36: =N21*E6 -> 2640.7391 | O36: =O21*C6 -> 971.59976 | P36: =P21*D6 -> 1204.8742 | Q36: =Q21*E6 -> 1595.2383
B37: 1500 | C37: =C22*C7 -> 750.16786 | D37: =D22*D7 -> 851.94914 | E37: =E22*E7 -> 1146.3197 | F37: =F22*C7 -> 4472.677 | G37: =G22*D7 -> 5932.0792 | H37: =H22*E7 -> 7803.0419 | I37: =I22*C7 -> 3201.6869 | J37: =J22*D7 -> 4197.5515 | K37: =K22*E7 -> 5530.2125 | L37: =L22*C7 -> 2326.1444 | M37: =M22*D7 -> 3002.6935 | N37: =N22*E7 -> 3964.5365 | O37: =O22*C7 -> 878.67713 | P37: =P22*D7 -> 1807.8355 | Q37: =Q22*E7 -> 2398.8605
B38: 2000 | C38: =C23*C8 -> 1004.9721 | D38: =D23*D8 -> 1146.742 | E38: =E23*E8 -> 1549.6997 | F38: =F23*C8 -> 5975.6167 | G38: =G23*D8 -> 7934.8469 | H38: =H23*E8 -> 10439.927 | I38: =I23*C8 -> 4278.471 | J38: =J23*D8 -> 5617.159 | K38: =K23*E8 -> 7404.5039 | L38: =L23*C8 -> 3109.3643 | M38: =M23*D8 -> 4020.5815 | N38: =N23*E8 -> 5313.5024 | O38: =O23*C8 -> 1176.5698 | P38: =P23*D8 -> 2424.004 | Q38: =Q23*E8 -> 3222.5009
B39: 2500 | C39: =C24*C9 -> 1262.5998 | D39: =D24*D9 -> 1444.8297 | E39: =E24*E9 -> 1965.0452 | F39: =F24*C9 -> 7481.3797 | G39: =G24*D9 -> 9919.0123 | H39: =H24*E9 -> 13066.881 | I39: =I24*C9 -> 5358.0786 | J39: =J24*D9 -> 7025.6406 | K39: =K24*E9 -> 9276.3401 | L39: =L24*C9 -> 3895.4076 | M39: =M24*D9 -> 5032.4939 | N39: =N24*E9 -> 6665.1634 | O39: =O24*C9 -> 1477.2859 | P39: =P24*D9 -> 3039.3471 | Q39: =Q24*E9 -> 4053.9866
B40: 3000 | C40: =C25*C10 -> 1523.7597 | D40: =D25*D10 -> 1751.7013 | E40: =E25*E10 -> 2404.6102 | F40: =F25*C10 -> 8990.6751 | G40: =G25*D10 -> 11911.961 | H40: =H25*E10 -> 15739.952 | I40: =I25*C10 -> 6441.2184 | J40: =J25*D10 -> 8442.9061 | K40: =K25*E10 -> 11186.817 | L40: =L25*C10 -> 4684.9832 | M40: =M25*D10 -> 6053.1901 | N40: =N25*E10 -> 8050.3143 | O40: =O25*C10 -> 1781.5342 | P40: =P25*D10 -> 3663.4741 | Q40: =Q25*E10 -> 4913.812
B41: 3500 | C41: =C26*C11 -> 1784.4642 | D41: =D26*D11 -> 2073.3034 | E41: =E26*E11 -> 2863.7526 | F41: =F26*C11 -> 10477.618 | G41: =G26*D11 -> 13941.538 | H41: =H26*E11 -> 18410.702 | I41: =I26*C11 -> 7509.4821 | J41: =J26*D11 -> 9889.3228 | K41: =K26*E11 -> 13102.45 | L41: =L26*C11 -> 5464.8329 | M41: =M26*D11 -> 7097.8873 | N41: =N26*E11 -> 9445.7721 | O41: =O26*C11 -> 2084.5712 | P41: =P26*D11 -> 4306.4518 | Q41: =Q26*E11 -> 5789.0946
B42: 4000 | C42: =C27*C12 -> 2054.7227 | D42: =D27*D12 -> 2403.1566 | E42: =E27*E12 -> 3450.6624 | F42: =F27*C12 -> 11996.012 | G42: =G27*D12 -> 15957.469 | H42: =H27*E12 -> 21647.163 | I42: =I27*C12 -> 8601.7205 | J42: =J27*D12 -> 11329.57 | K42: =K27*E12 -> 15434.264 | L42: =L27*C12 -> 6263.507 | M42: =M27*D12 -> 8141.5651 | N42: =N27*E12 -> 11154.406 | O42: =O27*C12 -> 2397.918 | P42: =P27*D12 -> 4953.5604 | Q42: =Q27*E12 -> 6874.5486
B43: 4500 | C43: =C28*C13 -> 2330.6279 | D43: =D28*D13 -> 2751.6257 | E43: =E28*E13 -> 3874.4659 | F43: =F28*C13 -> 13520.052 | G43: =G28*D13 -> 18013.913 | H43: =H28*E13 -> 23866.53 | I43: =I28*C13 -> 9699.6056 | J43: =J28*D13 -> 12802.854 | K43: =K28*E13 -> 17040.565 | L43: =L28*C13 -> 7067.8278 | M43: =M28*D13 -> 9213.1294 | N43: =N28*E13 -> 12338.387 | O43: =O28*C13 -> 2716.9116 | P43: =P28*D13 -> 5623.4051 | Q43: =Q28*E13 -> 7636.2085
B44: 5000 | C44: =C29*C14 -> 2617.9017 | D44: =D29*D14 -> 3111.5424 | E44: =E29*E14 -> 4434.6739 | F44: =F29*C14 -> 15077.359 | G44: =G29*D14 -> 20059.907 | H44: =H29*E14 -> 26660.243 | I44: =I29*C14 -> 10823.28 | J44: =J29*D14 -> 14273.164 | K44: =K29*E14 -> 19071.684 | L44: =L29*C14 -> 7892.7877 | M44: =M29*D14 -> 10286.871 | N44: =N29*E14 -> 13844.181 | O44: =O29*C14 -> 3048.0298 | P44: =P29*D14 -> 6300.5772 | Q44: =Q29*E14 -> 8616.6769
B45: 5500 | C45: =C30*C15 -> 2902.2143 | D45: =D30*D15 -> 3494.0524 | E45: =E30*E15 -> 5029.2096 | F45: =F30*C15 -> 16587.91 | G45: =G30*D15 -> 22150.392 | H45: =H30*E15 -> 29466.387 | I45: =I30*C15 -> 11915.152 | J45: =J30*D15 -> 15780.489 | K45: =K30*E15 -> 21122.711 | L45: =L30*C15 -> 8696.2455 | M45: =M30*D15 -> 11392.476 | N45: =N30*E15 -> 15375.032 | O45: =O30*C15 -> 3374.6748 | P45: =P30*D15 -> 7004.4628 | Q45: =Q30*E15 -> 9627.3528
B46: 6000 | C46: =C31*C16 -> 3199.3133 | D46: =D31*D16 -> 3896.4059 | E46: =E31*E16 -> 5673.8756 | F46: =F31*C16 -> 18133.144 | G46: =G31*D16 -> 24260.721 | H46: =H31*E16 -> 32344.559 | I46: =I31*C16 -> 13034.231 | J46: =J31*D16 -> 17307.657 | K46: =K31*E16 -> 23238.288 | L46: =L31*C16 -> 9521.7602 | M46: =M31*D16 -> 12517.924 | N46: =N31*E16 -> 16965.284 | O46: =O31*C16 -> 3714.8623 | P46: =P31*D16 -> 7728.1919 | Q46: =Q31*E16 -> 10692.279
B47: 6500 | C47: =C32*C17 -> 3499.4567 | D47: =D32*D17 -> 4314.839 | E47: =E32*E17 -> 6367.0523 | F47: =F32*C17 -> 19659.526 | G47: =G32*D17 -> 26365.231 | H47: =H32*E17 -> 35271.241 | I47: =I32*C17 -> 14141.933 | J47: =J32*D17 -> 18836.484 | K47: =K32*E17 -> 25402.376 | L47: =L32*C17 -> 10341.049 | M47: =M32*D17 -> 13650.182 | N47: =N32*E17 -> 18604.046 | O47: =O32*C17 -> 4057.3381 | P47: =P32*D17 -> 8463.8804 | Q47: =Q32*E17 -> 11805.716

Sheet Lap Simulation
A2: Lap Simulation
G3: Renegade Dx-10C Dual Purpose Circuit Data
A4: TRACK LAYOUT | B4: Rr Coeficient | C4: Start | D4: End | E4: Length | G4: RPM | H4: Power(HP) | I4: Power(kw) | J4: Torque(Nm) | K4: BSFC | L4: Gear | M4: Sector | N4: Distance | O4: Time(s) | P4: Speed (Kmph) | Q4: Speed (m/s) | R4: Acceleration(m/s^2) | S4: Aero Drag(N) | T4: Rolling Resistance(N) | U4: Driving Force(N) | V4: Available Acceleration(m/s) | W4: Linear Inertia | X4: Angular Velocity(Wheel) | Y4: GEAR | Z4: Reduced Mass | AA4: Kinetic Energy(KJ) | AB4: Gradient change | AC4: Gradient force | AD4: Gradient(rads)
A5: SECTOR 1-TARMAC | B5: 0.02 | C5: C12 Exit | D5: C3 Exit | E5: 424 | G5: 1000 | H5: 0.68 | I5: =H5*0.7457 -> 0.507076 | J5: =(9548.8*I5)/G5 -> 4.8419673 | K5: 709.8937 | L5: 1 | M5: 1 | N5: 0 | O5: 0 | P5: 0 | Q5: 0 | R5: =IF(Y5=1,(U5/Z5),IF(Y5=2,0,IF(Y5=3,(1.2*(-U5/Z5))))) -> 0.89409424 | S5: =0.5*1.167*0.95*1.151*Q5^2 -> 0 | T5: =IF(M5=1,'Specifications and Reduced mass'!$F$13,IF(M5=2,'Specifications and Reduced mass'!$G$13,IF(M5=3,'Specifications and Reduced mass'!$H$13,IF(M5=4,'Specifications and Reduced mass'!$I$13,IF(M5=5,'Specifications and Reduced mass'!$J$13))))) -> 103.005 | U5: ='Specifications and Reduced mass'!$C$37-'Lap Simulation'!S5-'Lap Simulation'!T5-'Lap Simulation'!AC5 -> 604.89642 | V5: =U5/Z5 -> 0.89409424 | W5: =0.5*359.61*'Lap Simulation'!Q5^2 -> 0 | X5: =Q5/0.254 -> 0 | Y5: =IF(Q5<7.608,1,IF(Q5<10.375,2,IF(Q5>10.375,3))) -> 1 | Z5: =IF(Y5=1,'Specifications and Reduced mass'!$C$47,IF(Y5=2,'Specifications and Reduced mass'!$C$48,IF(Y5=3,'Specifications and Reduced mass'!$C$49))) -> 676.5466 | AA5: =(0.5*Z5*Q5^2)/1000 -> 0 | AB5: 0 | AC5: =Q5*9.81*TAN(AB5) -> 0 | AD5: 0
A6: SECTOR 2-GRAVEL | B6: 0.025 | C6: C3 Exit | D6: C5 Exit | E6: 243 | G6: 1200 | H6: 1.03 | I6: =H6*0.7457 -> 0.768071 | J6: =(9548.8*I6)/G6 -> 6.111797 | K6: 738.1738 | L6: 1 | M6: 1 | N6: 1 | O6: =$N$6/Q6 -> 0.74781359 | P6: =Q6*3.6 -> 4.8140339 | Q6: =MIN(13.2,(SQRT((Q5^2)+2*R5*$N$6))) -> 1.3372316 | R6: =IF(Y6=1,(U6/Z6),IF(Y6=2,0,IF(Y6=3,(1.2*(-U6/Z6))))) -> 0.89240786 | S6: =0.5*1.167*0.95*1.151*Q6^2 -> 1.1409145 | T6: =IF(M6=1,'Specifications and Reduced mass'!$F$13,IF(M6=2,'Specifications and Reduced mass'!$G$13,IF(M6=3,'Specifications and Reduced mass'!$H$13,IF(M6=4,'Specifications and Reduced mass'!$I$13,IF(M6=5,'Specifications and Reduced mass'!$J$13))))) -> 103.005 | U6: ='Specifications and Reduced mass'!$C$37-'Lap Simulation'!S6-'Lap Simulation'!T6-'Lap Simulation'!AC6 -> 603.7555 | V6: =U6/Z6 -> 0.89240786 | W6: =0.5*359.61*'Lap Simulation'!Q6^2 -> 321.52523 | X6: =Q6/0.254 -> 5.2646915 | Y6: =IF(Q6<7.608,1,IF(Q6<10.375,2,IF(Q6>10.375,3))) -> 1 | Z6: =IF(Y6=1,'Specifications and Reduced mass'!$C$47,IF(Y6=2,'Specifications and Reduced mass'!$C$48,IF(Y6=3,'Specifications and Reduced mass'!$C$49))) -> 676.5466 | AA6: =(0.5*Z6*Q6^2)/1000 -> 0.60489642 | AB6: 0 | AC6: =Q6*9.81*TAN(AB6) -> 0 | AD6: 0
A7: SECTOR 3-WETSOIL | B7: 0.2 | C7: C5 Exit | D7: C8 Exit | E7: 301 | G7: 1400 | H7: 1.39 | I7: =H7*0.7457 -> 1.036523 | J7: =(9548.8*I7)/G7 -> 7.0696792 | K7: 698.9772 | L7: 1 | M7: 1 | N7: =N6+1 -> 2 | O7: =($N$6/Q7)+O6 -> 1.2768472 | P7: =Q7*3.6 -> 6.8048611 | Q7: =MIN(13.2,(SQRT((Q6^2)+2*R6*$N$6))) -> 1.8902392 | R7: =IF(Y7=1,(U7/Z7),IF(Y7=2,0,IF(Y7=3,(1.2*(-U7/Z7))))) -> 0.89072466 | S7: =0.5*1.167*0.95*1.151*Q7^2 -> 2.279677 | T7: =IF(M7=1,'Specifications and Reduced mass'!$F$13,IF(M7=2,'Specifications and Reduced mass'!$G$13,IF(M7=3,'Specifications and Reduced mass'!$H$13,IF(M7=4,'Specifications and Reduced mass'!$I$13,IF(M7=5,'Specifications and Reduced mass'!$J$13))))) -> 103.005 | U7: ='Specifications and Reduced mass'!$C$37-'Lap Simulation'!S7-'Lap Simulation'!T7-'Lap Simulation'!AC7 -> 602.61674 | V7: =U7/Z7 -> 0.89072466 | W7: =0.5*359.61*'Lap Simulation'!Q7^2 -> 642.44402 | X7: =Q7/0.254 -> 7.4418866 | Y7: 1 | Z7: =IF(Y7=1,'Specifications and Reduced mass'!$C$47,IF(Y7=2,'Specifications and Reduced mass'!$C$48,IF(Y7=3,'Specifications and Reduced mass'!$C$49))) -> 676.5466 | AA7: =(0.5*Z7*Q7^2)/1000 -> 1.2086519 | AB7: 0 | AC7: =Q7*9.81*TAN(AB7) -> 0 | AD7: 0
A8: SECTOR 4-MUD | B8: 0.3 | C8: C8 Exit | D8: C9 Exit | E8: 75 | G8: 1900 | H8: 2.92 | I8: =H8*0.7457 -> 2.177444 | J8: =(9548.8*I8)/G8 -> 10.943146 | K8: 671.425 | L8: 1 | M8: 1 | N8: =N7+1 -> 3 | O8: =($N$6/Q8)+O7 -> 1.709005 | P8: =Q8*3.6 -> 8.3302892 | Q8: =MIN(13.2,(SQRT((Q7^2)+2*R7*$N$6))) -> 2.3139692 | R8: =IF(Y8=1,(U8/Z8),IF(Y8=2,0,IF(Y8=3,(1.2*(-U8/Z8))))) -> 0.88904464 | S8: =0.5*1.167*0.95*1.151*Q8^2 -> 3.4162917 | T8: =IF(M8=1,'Specifications and Reduced mass'!$F$13,IF(M8=2,'Specifications and Reduced mass'!$G$13,IF(M8=3,'Specifications and Reduced mass'!$H$13,IF(M8=4,'Specifications and Reduced mass'!$I$13,IF(M8=5,'Specifications and Reduced mass'!$J$13))))) -> 103.005 | U8: ='Specifications and Reduced mass'!$C$37-'Lap Simulation'!S8-'Lap Simulation'!T8-'Lap Simulation'!AC8 -> 601.48013 | V8: =U8/Z8 -> 0.88904464 | W8: =0.5*359.61*'Lap Simulation'!Q8^2 -> 962.75752 | X8: =Q8/0.254 -> 9.110115 | Y8: 1 | Z8: =IF(Y8=1,'Specifications and Reduced mass'!$C$47,IF(Y8=2,'Specifications and Reduced mass'!$C$48,IF(Y8=3,'Specifications and Reduced mass'!$C$49))) -> 676.5466 | AA8: =(0.5*Z8*Q8^2)/1000 -> 1.8112687 | AB8: 0 | AC8: 0 | AD8: 0
A9: SECTOR 5-LOOSESOIL | B9: 0.1 | C9: C9 Exit | D9: C12 Exit | E9: 243 | G9: 2300 | H9: 4.24 | I9: =H9*0.7457 -> 3.161768 | J9: =(9548.8*I9)/G9 -> 13.126561 | K9: 537.86 | L9: 1 | M9: 1 | N9: =N8+1 -> 4 | O9: =($N$6/Q9)+O8 -> 2.0834412 | P9: =Q9*3.6 -> 9.6144555 | Q9: =MIN(13.2,(SQRT((Q8^2)+2*R8*$N$6))) -> 2.6706821 | R9: =IF(Y9=1,(U9/Z9),IF(Y9=2,0,IF(Y9=3,(1.2*(-U9/Z9))))) -> 0.88736778 | S9: =0.5*1.167*0.95*1.151*Q9^2 -> 4.5507626 | T9: =IF(M9=1,'Specifications and Reduced mass'!$F$13,IF(M9=2,'Specifications and Reduced mass'!$G$13,IF(M9=3,'Specifications and Reduced mass'!$H$13,IF(M9=4,'Specifications and Reduced mass'!$I$13,IF(M9=5,'Specifications and Reduced mass'!$J$13))))) -> 103.005 | U9: ='Specifications and Reduced mass'!$C$37-'Lap Simulation'!S9-'Lap Simulation'!T9-'Lap Simulation'!AC9 -> 600.34565 | V9: =U9/Z9 -> 0.88736778 | W9: =0.5*359.61*'Lap Simulation'!Q9^2 -> 1282.4669 | X9: =Q9/0.254 -> 10.514496 | Y9: 1 | Z9: =IF(Y9=1,'Specifications and Reduced mass'!$C$47,IF(Y9=2,'Specifications and Reduced mass'!$C$48,IF(Y9=3,'Specifications and Reduced mass'!$C$49))) -> 676.5466 | AA9: =(0.5*Z9*Q9^2)/1000 -> 2.4127488 | AB9: 0 | AC9: 0 | AD9: 0
G10: 2500 | H10: 5.24 | I10: =H10*0.7457 -> 3.907468 | J10: =(9548.8*I10)/G10 -> 14.924652 | K10: 519.9 | L10: 1 | M10: 1 | N10: =N9+1 -> 5 | O10: =($N$6/Q10)+O9 -> 2.418505 | P10: =Q10*3.6 -> 10.744223 | Q10: =MIN(13.2,(SQRT((Q9^2)+2*R9*$N$6))) -> 2.9845064 | R10: =IF(Y10=1,(U10/Z10),IF(Y10=2,0,IF(Y10=3,(1.2*(-U10/Z10))))) -> 0.88569409 | S10: =0.5*1.167*0.95*1.151*Q10^2 -> 5.6830937 | T10: =IF(M10=1,'Specifications and Reduced mass'!$F$13,IF(M10=2,'Specifications and Reduced mass'!$G$13,IF(M10=3,'Specifications and Reduced mass'!$H$13,IF(M10=4,'Specifications and Reduced mass'!$I$13,IF(M10=5,'Specifications and Reduced mass'!$J$13))))) -> 103.005 | U10: ='Specifications and Reduced mass'!$C$37-'Lap Simulation'!S10-'Lap Simulation'!T10-'Lap Simulation'!AC10 -> 599.21332 | V10: =U10/Z10 -> 0.88569409 | W10: =0.5*359.61*'Lap Simulation'!Q10^2 -> 1601.5732 | X10: =Q10/0.254 -> 11.750025 | Y10: 1 | Z10: =IF(Y10=1,'Specifications and Reduced mass'!$C$47,IF(Y10=2,'Specifications and Reduced mass'!$C$48,IF(Y10=3,'Specifications and Reduced mass'!$C$49))) -> 676.5466 | AA10: =(0.5*Z10*Q10^2)/1000 -> 3.0130944 | AB10: 0 | AC10: 0 | AD10: 0
G11: 2700 | H11: 5.93 | I11: =H11*0.7457 -> 4.422001 | J11: =(9548.8*I11)/G11 -> 15.638816 | K11: 516.02 | L11: 1 | M11: 1 | N11: =N10+1 -> 6 | O11: =($N$6/Q11)+O10 -> 2.7245191 | P11: =Q11*3.6 -> 11.764162 | Q11: =MIN(13.2,(SQRT((Q10^2)+2*R10*$N$6))) -> 3.2678229 | R11: =IF(Y11=1,(U11/Z11),IF(Y11=2,0,IF(Y11=3,(1.2*(-U11/Z11))))) -> 0.88402355 | S11: =0.5*1.167*0.95*1.151*Q11^2 -> 6.8132891 | T11: =IF(M11=1,'Specifications and Reduced mass'!$F$13,IF(M11=2,'Specifications and Reduced mass'!$G$13,IF(M11=3,'Specifications and Reduced mass'!$H$13,IF(M11=4,'Specifications and Reduced mass'!$I$13,IF(M11=5,'Specifications and Reduced mass'!$J$13))))) -> 103.005 | U11: ='Specifications and Reduced mass'!$C$37-'Lap Simulation'!S11-'Lap Simulation'!T11-'Lap Simulation'!AC11 -> 598.08313 | V11: =U11/Z11 -> 0.88402355 | W11: =0.5*359.61*'Lap Simulation'!Q11^2 -> 1920.0776 | X11: =Q11/0.254 -> 12.865445 | Y11: 1 | Z11: =IF(Y11=1,'Specifications and Reduced mass'!$C$47,IF(Y11=2,'Specifications and Reduced mass'!$C$48,IF(Y11=3,'Specifications and Reduced mass'!$C$49))) -> 676.5466 | AA11: =(0.5*Z11*Q11^2)/1000 -> 3.6123078 | AB11: 0 | AC11: 0 | AD11: 0
G12: 3000 | H12: 7.17 | I12: =H12*0.7457 -> 5.346669 | J12: =(9548.8*I12)/G12 -> 17.018091 | K12: 504.2 | L12: 1 | M12: 1 | N12: =N11+1 -> 7 | O12: =($N$6/Q12)+O11 -> 3.0079666 | P12: =Q12*3.6 -> 12.700764 | Q12: =MIN(13.2,(SQRT((Q11^2)+2*R11*$N$6))) -> 3.52799 | R12: =IF(Y12=1,(U12/Z12),IF(Y12=2,0,IF(Y12=3,(1.2*(-U12/Z12))))) -> 0.88235617 | S12: =0.5*1.167*0.95*1.151*Q12^2 -> 7.9413528 | T12: =IF(M12=1,'Specifications and Reduced mass'!$F$13,IF(M12=2,'Specifications and Reduced mass'!$G$13,IF(M12=3,'Specifications and Reduced mass'!$H$13,IF(M12=4,'Specifications and Reduced mass'!$I$13,IF(M12=5,'Specifications and Reduced mass'!$J$13))))) -> 103.005 | U12: ='Specifications and Reduced mass'!$C$37-'Lap Simulation'!S12-'Lap Simulation'!T12-'Lap Simulation'!AC12 -> 596.95506 | V12: =U12/Z12 -> 0.88235617 | W12: =0.5*359.61*'Lap Simulation'!Q12^2 -> 2237.9814 | X12: =Q12/0.254 -> 13.889725 | Y12: 1 | Z12: =IF(Y12=1,'Specifications and Reduced mass'!$C$47,IF(Y12=2,'Specifications and Reduced mass'!$C$48,IF(Y12=3,'Specifications and Reduced mass'!$C$49))) -> 676.5466 | AA12: =(0.5*Z12*Q12^2)/1000 -> 4.2103909 | AB12: 0 | AC12: 0 | AD12: 0
G13: 3200 | H13: 8.03 | I13: =H13*0.7457 -> 5.987971 | J13: =(9548.8*I13)/G13 -> 17.868105 | K13: 498.7 | L13: 1 | M13: 1 | N13: =N12+1 -> 8 | O13: =($N$6/Q13)+O12 -> 3.2732324 | P13: =Q13*3.6 -> 13.571296 | Q13: =MIN(13.2,(SQRT((Q12^2)+2*R12*$N$6))) -> 3.7698045 | R13: =IF(Y13=1,(U13/Z13),IF(Y13=2,0,IF(Y13=3,(1.2*(-U13/Z13))))) -> 0.88069193 | S13: =0.5*1.167*0.95*1.151*Q13^2 -> 9.0672888 | T13: =IF(M13=1,'Specifications and Reduced mass'!$F$13,IF(M13=2,'Specifications and Reduced mass'!$G$13,IF(M13=3,'Specifications and Reduced mass'!$H$13,IF(M13=4,'Specifications and Reduced mass'!$I$13,IF(M13=5,'Specifications and Reduced mass'!$J$13))))) -> 103.005 | U13: ='Specifications and Reduced mass'!$C$37-'Lap Simulation'!S13-'Lap Simulation'!T13-'Lap Simulation'!AC13 -> 595.82913 | V13: =U13/Z13 -> 0.88069193 | W13: =0.5*359.61*'Lap Simulation'!Q13^2 -> 2555.2855 | X13: =Q13/0.254 -> 14.84175 | Y13: 1 | Z13: =IF(Y13=1,'Specifications and Reduced mass'!$C$47,IF(Y13=2,'Specifications and Reduced mass'!$C$48,IF(Y13=3,'Specifications and Reduced mass'!$C$49))) -> 676.5466 | AA13: =(0.5*Z13*Q13^2)/1000 -> 4.807346 | AB13: 0 | AC13: 0 | AD13: 0
G14: 3400 | H14: 8.96 | I14: =H14*0.7457 -> 6.681472 | J14: =(9548.8*I14)/G14 -> 18.764718 | K14: 493.2 | L14: 1 | M14: 1 | N14: =N13+1 -> 9 | O14: =($N$6/Q14)+O13 -> 3.5234451 | P14: =Q14*3.6 -> 14.387759 | Q14: =MIN(13.2,(SQRT((Q13^2)+2*R13*$N$6))) -> 3.9965998 | R14: =IF(Y14=1,(U14/Z14),IF(Y14=2,0,IF(Y14=3,(1.2*(-U14/Z14))))) -> 0.87903083 | S14: =0.5*1.167*0.95*1.151*Q14^2 -> 10.191101 | T14: =IF(M14=1,'Specifications and Reduced mass'!$F$13,IF(M14=2,'Specifications and Reduced mass'!$G$13,IF(M14=3,'Specifications and Reduced mass'!$H$13,IF(M14=4,'Specifications and Reduced mass'!$I$13,IF(M14=5,'Specifications and Reduced mass'!$J$13))))) -> 103.005 | U14: ='Specifications and Reduced mass'!$C$37-'Lap Simulation'!S14-'Lap Simulation'!T14-'Lap Simulation'!AC14 -> 594.70532 | V14: =U14/Z14 -> 0.87903083 | W14: =0.5*359.61*'Lap Simulation'!Q14^2 -> 2871.9911 | X14: =Q14/0.254 -> 15.734645 | Y14: 1 | Z14: =IF(Y14=1,'Specifications and Reduced mass'!$C$47,IF(Y14=2,'Specifications and Reduced mass'!$C$48,IF(Y14=3,'Specifications and Reduced mass'!$C$49))) -> 676.5466 | AA14: =(0.5*Z14*Q14^2)/1000 -> 5.4031751 | AB14: 0 | AC14: 0 | AD14: 0
G15: 3600 | H15: 9.64 | I15: =H15*0.7457 -> 7.188548 | J15: =(9548.8*I15)/G15 -> 19.067224 | K15: 487.6 | L15: 1 | M15: 1 | N15: =N14+1 -> 10 | O15: =($N$6/Q15)+O14 -> 3.7609294 | P15: =Q15*3.6 -> 15.158895 | Q15: =MIN(13.2,(SQRT((Q14^2)+2*R14*$N$6))) -> 4.2108041 | R15: =IF(Y15=1,(U15/Z15),IF(Y15=2,0,IF(Y15=3,(1.2*(-U15/Z15))))) -> 0.87737286 | S15: =0.5*1.167*0.95*1.151*Q15^2 -> 11.312794 | T15: =IF(M15=1,'Specifications and Reduced mass'!$F$13,IF(M15=2,'Specifications and Reduced mass'!$G$13,IF(M15=3,'Specifications and Reduced mass'!$H$13,IF(M15=4,'Specifications and Reduced mass'!$I$13,IF(M15=5,'Specifications and Reduced mass'!$J$13))))) -> 103.005 | U15: ='Specifications and Reduced mass'!$C$37-'Lap Simulation'!S15-'Lap Simulation'!T15-'Lap Simulation'!AC15 -> 593.58362 | V15: =U15/Z15 -> 0.87737286 | W15: =0.5*359.61*'Lap Simulation'!Q15^2 -> 3188.0994 | X15: =Q15/0.254 -> 16.577969 | Y15: 1 | Z15: =IF(Y15=1,'Specifications and Reduced mass'!$C$47,IF(Y15=2,'Specifications and Reduced mass'!$C$48,IF(Y15=3,'Specifications and Reduced mass'!$C$49))) -> 676.5466 | AA15: =(0.5*Z15*Q15^2)/1000 -> 5.9978804 | AB15: 0 | AC15: 0 | AD15: 0
G16: 3800 | H16: 10.07 | I16: =H16*0.7457 -> 7.509199 | J16: =(9548.8*I16)/G16 -> 18.869431 | K16: 488.4 | L16: 1 | M16: 1 | N16: =N15+1 -> 11 | O16: =($N$6/Q16)+O15 -> 3.9874684 | P16: =Q16*3.6 -> 15.891306 | Q16: =MIN(13.2,(SQRT((Q15^2)+2*R15*$N$6))) -> 4.4142516 | R16: =IF(Y16=1,(U16/Z16),IF(Y16=2,0,IF(Y16=3,(1.2*(-U16/Z16))))) -> 0.87571802 | S16: =0.5*1.167*0.95*1.151*Q16^2 -> 12.432371 | T16: =IF(M16=1,'Specifications and Reduced mass'!$F$13,IF(M16=2,'Specifications and Reduced mass'!$G$13,IF(M16=3,'Specifications and Reduced mass'!$H$13,IF(M16=4,'Specifications and Reduced mass'!$I$13,IF(M16=5,'Specifications and Reduced mass'!$J$13))))) -> 103.005 | U16: ='Specifications and Reduced mass'!$C$37-'Lap Simulation'!S16-'Lap Simulation'!T16-'Lap Simulation'!AC16 -> 592.46405 | V16: =U16/Z16 -> 0.87571802 | W16: =0.5*359.61*'Lap Simulation'!Q16^2 -> 3503.6114 | X16: =Q16/0.254 -> 17.378943 | Y16: 1 | Z16: =IF(Y16=1,'Specifications and Reduced mass'!$C$47,IF(Y16=2,'Specifications and Reduced mass'!$C$48,IF(Y16=3,'Specifications and Reduced mass'!$C$49))) -> 676.5466 | AA16: =(0.5*Z16*Q16^2)/1000 -> 6.591464 | AB16: 0 | AC16: 0 | AD16: 0
G17: 3900 | H17: 10.28 | I17: =H17*0.7457 -> 7.665796 | J17: =(9548.8*I17)/G17 -> 18.769014 | K17: 488.4 | L17: 1 | M17: 1 | N17: =N16+1 -> 12 | O17: =($N$6/Q17)+O16 -> 4.204465 | P17: =Q17*3.6 -> 16.590124 | Q17: =MIN(13.2,(SQRT((Q16^2)+2*R16*$N$6))) -> 4.6083677 | R17: =IF(Y17=1,(U17/Z17),IF(Y17=2,0,IF(Y17=3,(1.2*(-U17/Z17))))) -> 0.8740663 | S17: =0.5*1.167*0.95*1.151*Q17^2 -> 13.549836 | T17: =IF(M17=1,'Specifications and Reduced mass'!$F$13,IF(M17=2,'Specifications and Reduced mass'!$G$13,IF(M17=3,'Specifications and Reduced mass'!$H$13,IF(M17=4,'Specifications and Reduced mass'!$I$13,IF(M17=5,'Specifications and Reduced mass'!$J$13))))) -> 103.005 | U17: ='Specifications and Reduced mass'!$C$37-'Lap Simulation'!S17-'Lap Simulation'!T17-'Lap Simulation'!AC17 -> 591.34658 | V17: =U17/Z17 -> 0.8740663 | W17: =0.5*359.61*'Lap Simulation'!Q17^2 -> 3818.5284 | X17: =Q17/0.254 -> 18.14318 | Y17: 1 | Z17: =IF(Y17=1,'Specifications and Reduced mass'!$C$47,IF(Y17=2,'Specifications and Reduced mass'!$C$48,IF(Y17=3,'Specifications and Reduced mass'!$C$49))) -> 676.5466 | AA17: =(0.5*Z17*Q17^2)/1000 -> 7.1839281 | AB17: 0 | AC17: 0 | AD17: 0
G18: 4000 | H18: 10.86 | I18: =H18*0.7457 -> 8.098302 | J18: =(9548.8*I18)/G18 -> 19.332267 | K18: 482.7 | L18: 1 | M18: 1 | N18: =N17+1 -> 13 | O18: =($N$6/Q18)+O17 -> 4.4130465 | P18: =Q18*3.6 -> 17.259432 | Q18: =MIN(13.2,(SQRT((Q17^2)+2*R17*$N$6))) -> 4.7942868 | R18: =IF(Y18=1,(U18/Z18),IF(Y18=2,0,IF(Y18=3,(1.2*(-U18/Z18))))) -> 0.87241769 | S18: =0.5*1.167*0.95*1.151*Q18^2 -> 14.665194 | T18: =IF(M18=1,'Specifications and Reduced mass'!$F$13,IF(M18=2,'Specifications and Reduced mass'!$G$13,IF(M18=3,'Specifications and Reduced mass'!$H$13,IF(M18=4,'Specifications and Reduced mass'!$I$13,IF(M18=5,'Specifications and Reduced mass'!$J$13))))) -> 103.005 | U18: ='Specifications and Reduced mass'!$C$37-'Lap Simulation'!S18-'Lap Simulation'!T18-'Lap Simulation'!AC18 -> 590.23122 | V18: =U18/Z18 -> 0.87241769 | W18: =0.5*359.61*'Lap Simulation'!Q18^2 -> 4132.8513 | X18: =Q18/0.254 -> 18.875145 | Y18: 1 | Z18: =IF(Y18=1,'Specifications and Reduced mass'!$C$47,IF(Y18=2,'Specifications and Reduced mass'!$C$48,IF(Y18=3,'Specifications and Reduced mass'!$C$49))) -> 676.5466 | AA18: =(0.5*Z18*Q18^2)/1000 -> 7.7752747 | AB18: 0 | AC18: 0 | AD18: 0
G19: 4200 | H19: 12.04 | I19: =H19*0.7457 -> 8.978228 | J19: =(9548.8*I19)/G19 -> 20.412215 | K19: 479.7 | L19: 1 | M19: 1 | N19: =N18+1 -> 14 | O19: =($N$6/Q19)+O18 -> 4.6141353 | P19: =Q19*3.6 -> 17.902544 | Q19: =MIN(13.2,(SQRT((Q18^2)+2*R18*$N$6))) -> 4.9729288 | R19: =IF(Y19=1,(U19/Z19),IF(Y19=2,0,IF(Y19=3,(1.2*(-U19/Z19))))) -> 0.8707722 | S19: =0.5*1.167*0.95*1.151*Q19^2 -> 15.778448 | T19: =IF(M19=1,'Specifications and Reduced mass'!$F$13,IF(M19=2,'Specifications and Reduced mass'!$G$13,IF(M19=3,'Specifications and Reduced mass'!$H$13,IF(M19=4,'Specifications and Reduced mass'!$I$13,IF(M19=5,'Specifications and Reduced mass'!$J$13))))) -> 103.005 | U19: ='Specifications and Reduced mass'!$C$37-'Lap Simulation'!S19-'Lap Simulation'!T19-'Lap Simulation'!AC19 -> 589.11797 | V19: =U19/Z19 -> 0.8707722 | W19: =0.5*359.61*'Lap Simulation'!Q19^2 -> 4446.5815 | X19: =Q19/0.254 -> 19.57846 | Y19: 1 | Z19: =IF(Y19=1,'Specifications and Reduced mass'!$C$47,IF(Y19=2,'Specifications and Reduced mass'!$C$48,IF(Y19=3,'Specifications and Reduced mass'!$C$49))) -> 676.5466 | AA19: =(0.5*Z19*Q19^2)/1000 -> 8.3655059 | AB19: 0 | AC19: 0 | AD19: 0
G20: 4300 | H20: 12.63 | I20: =H20*0.7457 -> 9.418191 | J20: =(9548.8*I20)/G20 -> 20.914517 | K20: 491.4 | L20: 1 | M20: 1 | N20: =N19+1 -> 15 | O20: =($N$6/Q20)+O19 -> 4.8084968 | P20: =Q20*3.6 -> 18.522189 | Q20: =MIN(13.2,(SQRT((Q19^2)+2*R19*$N$6))) -> 5.1450525 | R20: =IF(Y20=1,(U20/Z20),IF(Y20=2,0,IF(Y20=3,(1.2*(-U20/Z20))))) -> 0.86912981 | S20: =0.5*1.167*0.95*1.151*Q20^2 -> 16.889602 | T20: =IF(M20=1,'Specifications and Reduced mass'!$F$13,IF(M20=2,'Specifications and Reduced mass'!$G$13,IF(M20=3,'Specifications and Reduced mass'!$H$13,IF(M20=4,'Specifications and Reduced mass'!$I$13,IF(M20=5,'Specifications and Reduced mass'!$J$13))))) -> 103.005 | U20: ='Specifications and Reduced mass'!$C$37-'Lap Simulation'!S20-'Lap Simulation'!T20-'Lap Simulation'!AC20 -> 588.00682 | V20: =U20/Z20 -> 0.86912981 | W20: =0.5*359.61*'Lap Simulation'!Q20^2 -> 4759.7199 | X20: =Q20/0.254 -> 20.256112 | Y20: 1 | Z20: =IF(Y20=1,'Specifications and Reduced mass'!$C$47,IF(Y20=2,'Specifications and Reduced mass'!$C$48,IF(Y20=3,'Specifications and Reduced mass'!$C$49))) -> 676.5466 | AA20: =(0.5*Z20*Q20^2)/1000 -> 8.9546238 | AB20: 0 | AC20: 0 | AD20: 0
G21: 4400 | H21: 13.22 | I21: =H21*0.7457 -> 9.858154 | J21: =(9548.8*I21)/G21 -> 21.393987 | K21: 483.6 | L21: 1 | M21: 1 | N21: =N20+1 -> 16 | O21: =($N$6/Q21)+O20 -> 4.9967749 | P21: =Q21*3.6 -> 19.120652 | Q21: =MIN(13.2,(SQRT((Q20^2)+2*R20*$N$6))) -> 5.3112922 | R21: =IF(Y21=1,(U21/Z21),IF(Y21=2,0,IF(Y21=3,(1.2*(-U21/Z21))))) -> 0.86749052 | S21: =0.5*1.167*0.95*1.151*Q21^2 -> 17.998661 | T21: =IF(M21=1,'Specifications and Reduced mass'!$F$13,IF(M21=2,'Specifications and Reduced mass'!$G$13,IF(M21=3,'Specifications and Reduced mass'!$H$13,IF(M21=4,'Specifications and Reduced mass'!$I$13,IF(M21=5,'Specifications and Reduced mass'!$J$13))))) -> 103.005 | U21: ='Specifications and Reduced mass'!$C$37-'Lap Simulation'!S21-'Lap Simulation'!T21-'Lap Simulation'!AC21 -> 586.89776 | V21: =U21/Z21 -> 0.86749052 | W21: =0.5*359.61*'Lap Simulation'!Q21^2 -> 5072.2676 | X21: =Q21/0.254 -> 20.910599 | Y21: 1 | Z21: =IF(Y21=1,'Specifications and Reduced mass'!$C$47,IF(Y21=2,'Specifications and Reduced mass'!$C$48,IF(Y21=3,'Specifications and Reduced mass'!$C$49))) -> 676.5466 | AA21: =(0.5*Z21*Q21^2)/1000 -> 9.5426307 | AB21: 0 | AC21: 0 | AD21: 0
... G25: 4900 | H25: 14.97 | I25: =H25*0.7457 -> 11.163129 | J25: =(9548.8*I25)/G25 -> 21.753977 | K25: 483.6 | L25: 1 | M25: 1 | N25: =N24+1 -> 20 | O25: =($N$6/Q25)+O24 -> 5.698931 | P25: =Q25*3.6 -> 21.337446 | Q25: =MIN(13.2,(SQRT((Q24^2)+2*R24*$N$6))) -> 5.9270684 | R25: =IF(Y25=1,(U25/Z25),IF(Y25=2,0,IF(Y25=3,(1.2*(-U25/Z25))))) -> 0.8609642 | S25: =0.5*1.167*0.95*1.151*Q25^2 -> 22.414015 | T25: =IF(M25=1,'Specifications and Reduced mass'!$F$13,IF(M25=2,'Specifications and Reduced mass'!$G$13,IF(M25=3,'Specifications and Reduced mass'!$H$13,IF(M25=4,'Specifications and Reduced mass'!$I$13,IF(M25=5,'Specifications and Reduced mass'!$J$13))))) -> 103.005 | U25: ='Specifications and Reduced mass'!$C$37-'Lap Simulation'!S25-'Lap Simulation'!T25-'Lap Simulation'!AC25 -> 582.4824 | V25: =U25/Z25 -> 0.8609642 | W25: =0.5*359.61*'Lap Simulation'!Q25^2 -> 6316.5748 | X25: =Q25/0.254 -> 23.334915 | Y25: 1 | Z25: =IF(Y25=1,'Specifications and Reduced mass'!$C$47,IF(Y25=2,'Specifications and Reduced mass'!$C$48,IF(Y25=3,'Specifications and Reduced mass'!$C$49))) -> 676.5466 | AA25: =(0.5*Z25*Q25^2)/1000 -> 11.883588 | AB25: 0 | AC25: 0 | AD25: 0
A26: Straight | G26: 5000 | H26: 15.26 | I26: =H26*0.7457 -> 11.379382 | J26: =(9548.8*I26)/G26 -> 21.731889 | K26: 470.6 | L26: 1 | M26: 1 | N26: =N25+1 -> 21 | O26: =($N$6/Q26)+O25 -> 5.8636597 | P26: =Q26*3.6 -> 21.854126 | Q26: =MIN(13.2,(SQRT((Q25^2)+2*R25*$N$6))) -> 6.0705904 | R26: =IF(Y26=1,(U26/Z26),IF(Y26=2,0,IF(Y26=3,(1.2*(-U26/Z26))))) -> 0.85934031 | S26: =0.5*1.167*0.95*1.151*Q26^2 -> 23.512654 | T26: =IF(M26=1,'Specifications and Reduced mass'!$F$13,IF(M26=2,'Specifications and Reduced mass'!$G$13,IF(M26=3,'Specifications and Reduced mass'!$H$13,IF(M26=4,'Specifications and Reduced mass'!$I$13,IF(M26=5,'Specifications and Reduced mass'!$J$13))))) -> 103.005 | U26: ='Specifications and Reduced mass'!$C$37-'Lap Simulation'!S26-'Lap Simulation'!T26-'Lap Simulation'!AC26 -> 581.38376 | V26: =U26/Z26 -> 0.85934031 | W26: =0.5*359.61*'Lap Simulation'!Q26^2 -> 6626.1861 | X26: =Q26/0.254 -> 23.899962 | Y26: 1 | Z26: =IF(Y26=1,'Specifications and Reduced mass'!$C$47,IF(Y26=2,'Specifications and Reduced mass'!$C$48,IF(Y26=3,'Specifications and Reduced mass'!$C$49))) -> 676.5466 | AA26: =(0.5*Z26*Q26^2)/1000 -> 12.466071 | AB26: 0 | AC26: 0 | AD26: 0
A27: Braking Zone | G27: 5200 | H27: 15.92 | I27: =H27*0.7457 -> 11.871544 | J27: =(9548.8*I27)/G27 -> 21.799808 | K27: 470.6 | L27: 1 | M27: 1 | N27: =N26+1 -> 22 | O27: =($N$6/Q27)+O26 -> 6.0246764 | P27: =Q27*3.6 -> 22.357927 | Q27: =MIN(13.2,(SQRT((Q26^2)+2*R26*$N$6))) -> 6.2105353 | R27: =IF(Y27=1,(U27/Z27),IF(Y27=2,0,IF(Y27=3,(1.2*(-U27/Z27))))) -> 0.85771948 | S27: =0.5*1.167*0.95*1.151*Q27^2 -> 24.609221 | T27: =IF(M27=1,'Specifications and Reduced mass'!$F$13,IF(M27=2,'Specifications and Reduced mass'!$G$13,IF(M27=3,'Specifications and Reduced mass'!$H$13,IF(M27=4,'Specifications and Reduced mass'!$I$13,IF(M27=5,'Specifications and Reduced mass'!$J$13))))) -> 103.005 | U27: ='Specifications and Reduced mass'!$C$37-'Lap Simulation'!S27-'Lap Simulation'!T27-'Lap Simulation'!AC27 -> 580.2872 | V27: =U27/Z27 -> 0.85771948 | W27: =0.5*359.61*'Lap Simulation'!Q27^2 -> 6935.2135 | X27: =Q27/0.254 -> 24.450926 | Y27: 1 | Z27: =IF(Y27=1,'Specifications and Reduced mass'!$C$47,IF(Y27=2,'Specifications and Reduced mass'!$C$48,IF(Y27=3,'Specifications and Reduced mass'!$C$49))) -> 676.5466 | AA27: =(0.5*Z27*Q27^2)/1000 -> 13.047454 | AB27: 0 | AC27: 0 | AD27: 0
A28: Corner | G28: 5300 | H28: 16.25 | I28: =H28*0.7457 -> 12.117625 | J28: =(9548.8*I28)/G28 -> 21.831845 | K28: 470.6 | L28: 1 | M28: 1 | N28: =N27+1 -> 23 | O28: =($N$6/Q28)+O27 -> 6.1822276 | P28: =Q28*3.6 -> 22.849704 | Q28: =MIN(13.2,(SQRT((Q27^2)+2*R27*$N$6))) -> 6.3471401 | R28: =IF(Y28=1,(U28/Z28),IF(Y28=2,0,IF(Y28=3,(1.2*(-U28/Z28))))) -> 0.85610171 | S28: =0.5*1.167*0.95*1.151*Q28^2 -> 25.703719 | T28: =IF(M28=1,'Specifications and Reduced mass'!$F$13,IF(M28=2,'Specifications and Reduced mass'!$G$13,IF(M28=3,'Specifications and Reduced mass'!$H$13,IF(M28=4,'Specifications and Reduced mass'!$I$13,IF(M28=5,'Specifications and Reduced mass'!$J$13))))) -> 103.005 | U28: ='Specifications and Reduced mass'!$C$37-'Lap Simulation'!S28-'Lap Simulation'!T28-'Lap Simulation'!AC28 -> 579.1927 | V28: =U28/Z28 -> 0.85610171 | W28: =0.5*359.61*'Lap Simulation'!Q28^2 -> 7243.658 | X28: =Q28/0.254 -> 24.988741 | Y28: 1 | Z28: =IF(Y28=1,'Specifications and Reduced mass'!$C$47,IF(Y28=2,'Specifications and Reduced mass'!$C$48,IF(Y28=3,'Specifications and Reduced mass'!$C$49))) -> 676.5466 | AA28: =(0.5*Z28*Q28^2)/1000 -> 13.627742 | AB28: 0 | AC28: 0 | AD28: 0
A29: STRAIGHT/BRAKING ZONE/CORNER | B29: Distance (m) | C29: Corner Radius(m) | D29: Radians | G29: 5400 | H29: 16.58 | I29: =H29*0.7457 -> 12.363706 | J29: =(9548.8*I29)/G29 -> 21.862696 | K29: 470.6 | L29: 1 | M29: 1 | N29: =N28+1 -> 24 | O29: =($N$6/Q29)+O28 -> 6.336534 | P29: =Q29*3.6 -> 23.33022 | Q29: =MIN(13.2,(SQRT((Q28^2)+2*R28*$N$6))) -> 6.4806166 | R29: =IF(Y29=1,(U29/Z29),IF(Y29=2,0,IF(Y29=3,(1.2*(-U29/Z29))))) -> 0.85448699 | S29: =0.5*1.167*0.95*1.151*Q29^2 -> 26.796153 | T29: =IF(M29=1,'Specifications and Reduced mass'!$F$13,IF(M29=2,'Specifications and Reduced mass'!$G$13,IF(M29=3,'Specifications and Reduced mass'!$H$13,IF(M29=4,'Specifications and Reduced mass'!$I$13,IF(M29=5,'Specifications and Reduced mass'!$J$13))))) -> 103.005 | U29: ='Specifications and Reduced mass'!$C$37-'Lap Simulation'!S29-'Lap Simulation'!T29-'Lap Simulation'!AC29 -> 578.10026 | V29: =U29/Z29 -> 0.85448699 | W29: =0.5*359.61*'Lap Simulation'!Q29^2 -> 7551.5207 | X29: =Q29/0.254 -> 25.514238 | Y29: 1 | Z29: =IF(Y29=1,'Specifications and Reduced mass'!$C$47,IF(Y29=2,'Specifications and Reduced mass'!$C$48,IF(Y29=3,'Specifications and Reduced mass'!$C$49))) -> 676.5466 | AA29: =(0.5*Z29*Q29^2)/1000 -> 14.206934 | AB29: 0 | AC29: 0 | AD29: 0
A30: S1 (SECTOR1) | B30: 127 | C30: - | D30: - | G30: 5500 | H30: 16.94 | I30: =H30*0.7457 -> 12.632158 | J30: =(9548.8*I30)/G30 -> 21.931264 | K30: 443.8 | L30: 1 | M30: 1 | N30: =N29+1 -> 25 | O30: =($N$6/Q30)+O29 -> 6.4877935 | P30: =Q30*3.6 -> 23.800157 | Q30: =MIN(13.2,(SQRT((Q29^2)+2*R29*$N$6))) -> 6.6111546 | R30: =IF(Y30=1,(U30/Z30),IF(Y30=2,0,IF(Y30=3,(1.2*(-U30/Z30))))) -> 0.85287531 | S30: =0.5*1.167*0.95*1.151*Q30^2 -> 27.886526 | T30: =IF(M30=1,'Specifications and Reduced mass'!$F$13,IF(M30=2,'Specifications and Reduced mass'!$G$13,IF(M30=3,'Specifications and Reduced mass'!$H$13,IF(M30=4,'Specifications and Reduced mass'!$I$13,IF(M30=5,'Specifications and Reduced mass'!$J$13))))) -> 103.005 | U30: ='Specifications and Reduced mass'!$C$37-'Lap Simulation'!S30-'Lap Simulation'!T30-'Lap Simulation'!AC30 -> 577.00989 | V30: =U30/Z30 -> 0.85287531 | W30: =0.5*359.61*'Lap Simulation'!Q30^2 -> 7858.8028 | X30: =Q30/0.254 -> 26.028168 | Y30: 1 | Z30: =IF(Y30=1,'Specifications and Reduced mass'!$C$47,IF(Y30=2,'Specifications and Reduced mass'!$C$48,IF(Y30=3,'Specifications and Reduced mass'!$C$49))) -> 676.5466 | AA30: =(0.5*Z30*Q30^2)/1000 -> 14.785035 | AB30: 0 | AC30: 0 | AD30: 0
A31: B1 | B31: 20 | C31: - | D31: - | G31: 5600 | H31: 17.05 | I31: =H31*0.7457 -> 12.714185 | J31: =(9548.8*I31)/G31 -> 21.679502 | K31: 443.8 | L31: 1 | M31: 1 | N31: =N30+1 -> 26 | O31: =($N$6/Q31)+O30 -> 6.6361851 | P31: =Q31*3.6 -> 24.260131 | Q31: =MIN(13.2,(SQRT((Q30^2)+2*R30*$N$6))) -> 6.7389254 | R31: =IF(Y31=1,(U31/Z31),IF(Y31=2,0,IF(Y31=3,(1.2*(-U31/Z31))))) -> 0.85126668 | S31: =0.5*1.167*0.95*1.151*Q31^2 -> 28.974843 | T31: =IF(M31=1,'Specifications and Reduced mass'!$F$13,IF(M31=2,'Specifications and Reduced mass'!$G$13,IF(M31=3,'Specifications and Reduced mass'!$H$13,IF(M31=4,'Specifications and Reduced mass'!$I$13,IF(M31=5,'Specifications and Reduced mass'!$J$13))))) -> 103.005 | U31: ='Specifications and Reduced mass'!$C$37-'Lap Simulation'!S31-'Lap Simulation'!T31-'Lap Simulation'!AC31 -> 575.92157 | V31: =U31/Z31 -> 0.85126668 | W31: =0.5*359.61*'Lap Simulation'!Q31^2 -> 8165.5053 | X31: =Q31/0.254 -> 26.531202 | Y31: 1 | Z31: =IF(Y31=1,'Specifications and Reduced mass'!$C$47,IF(Y31=2,'Specifications and Reduced mass'!$C$48,IF(Y31=3,'Specifications and Reduced mass'!$C$49))) -> 676.5466 | AA31: =(0.5*Z31*Q31^2)/1000 -> 15.362044 | AB31: 0 | AC31: 0 | AD31: 0
A32: C1 | B32: =C32*D32 -> 62.8 | C32: 80 | D32: 0.785 | G32: 5700 | H32: 17.11 | I32: =H32*0.7457 -> 12.758927 | J32: =(9548.8*I32)/G32 -> 21.374113 | K32: 443.8 | L32: 1 | M32: 1 | N32: =N31+1 -> 27 | O32: =($N$6/Q32)+O31 -> 6.7818709 | P32: =Q32*3.6 -> 24.710702 | Q32: =MIN(13.2,(SQRT((Q31^2)+2*R31*$N$6))) -> 6.864084 | R32: =IF(Y32=1,(U32/Z32),IF(Y32=2,0,IF(Y32=3,(1.2*(-U32/Z32))))) -> 0.84966108 | S32: =0.5*1.167*0.95*1.151*Q32^2 -> 30.061107 | T32: =IF(M32=1,'Specifications and Reduced mass'!$F$13,IF(M32=2,'Specifications and Reduced mass'!$G$13,IF(M32=3,'Specifications and Reduced mass'!$H$13,IF(M32=4,'Specifications and Reduced mass'!$I$13,IF(M32=5,'Specifications and Reduced mass'!$J$13))))) -> 103.005 | U32: ='Specifications and Reduced mass'!$C$37-'Lap Simulation'!S32-'Lap Simulation'!T32-'Lap Simulation'!AC32 -> 574.83531 | V32: =U32/Z32 -> 0.84966108 | W32: =0.5*359.61*'Lap Simulation'!Q32^2 -> 8471.6293 | X32: =Q32/0.254 -> 27.023953 | Y32: 1 | Z32: =IF(Y32=1,'Specifications and Reduced mass'!$C$47,IF(Y32=2,'Specifications and Reduced mass'!$C$48,IF(Y32=3,'Specifications and Reduced mass'!$C$49))) -> 676.5466 | AA32: =(0.5*Z32*Q32^2)/1000 -> 15.937966 | AB32: 0 | AC32: 0 | AD32: 0
A33: S2 | B33: 60 | C33: - | D33: - | G33: 5800 | H33: 17.18 | I33: =H33*0.7457 -> 12.811126 | J33: =(9548.8*I33)/G33 -> 21.091531 | K33: 443.8 | L33: 1 | M33: 1 | N33: =N32+1 -> 28 | O33: =($N$6/Q33)+O32 -> 6.9249986 | P33: =Q33*3.6 -> 25.152376 | Q33: =MIN(13.2,(SQRT((Q32^2)+2*R32*$N$6))) -> 6.9867712 | R33: =IF(Y33=1,(U33/Z33),IF(Y33=2,0,IF(Y33=3,(1.2*(-U33/Z33))))) -> 0.8480585 | S33: =0.5*1.167*0.95*1.151*Q33^2 -> 31.145322 | T33: =IF(M33=1,'Specifications and Reduced mass'!$F$13,IF(M33=2,'Specifications and Reduced mass'!$G$13,IF(M33=3,'Specifications and Reduced mass'!$H$13,IF(M33=4,'Specifications and Reduced mass'!$I$13,IF(M33=5,'Specifications and Reduced mass'!$J$13))))) -> 103.005 | U33: ='Specifications and Reduced mass'!$C$37-'Lap Simulation'!S33-'Lap Simulation'!T33-'Lap Simulation'!AC33 -> 573.7511 | V33: =U33/Z33 -> 0.8480585 | W33: =0.5*359.61*'Lap Simulation'!Q33^2 -> 8777.1759 | X33: =Q33/0.254 -> 27.506973 | Y33: 1 | Z33: =IF(Y33=1,'Specifications and Reduced mass'!$C$47,IF(Y33=2,'Specifications and Reduced mass'!$C$48,IF(Y33=3,'Specifications and Reduced mass'!$C$49))) -> 676.5466 | AA33: =(0.5*Z33*Q33^2)/1000 -> 16.512801 | AB33: 0 | AC33: 0 | AD33: 0
A34: B2 | B34: 8 | C34: - | D34: - | G34: 5900 | H34: 17.24 | I34: =H34*0.7457 -> 12.855868 | J34: =(9548.8*I34)/G34 -> 20.80646 | K34: 469.1 | L34: 1 | M34: 1 | N34: =N33+1 -> 29 | O34: =($N$6/Q34)+O33 -> 7.0657026 | P34: =Q34*3.6 -> 25.585615 | Q34: =MIN(13.2,(SQRT((Q33^2)+2*R33*$N$6))) -> 7.1071153 | R34: =IF(Y34=1,(U34/Z34),IF(Y34=2,0,IF(Y34=3,(1.2*(-U34/Z34))))) -> 0.84645895 | S34: =0.5*1.167*0.95*1.151*Q34^2 -> 32.227492 | T34: =IF(M34=1,'Specifications and Reduced mass'!$F$13,IF(M34=2,'Specifications and Reduced mass'!$G$13,IF(M34=3,'Specifications and Reduced mass'!$H$13,IF(M34=4,'Specifications and Reduced mass'!$I$13,IF(M34=5,'Specifications and Reduced mass'!$J$13))))) -> 103.005 | U34: ='Specifications and Reduced mass'!$C$37-'Lap Simulation'!S34-'Lap Simulation'!T34-'Lap Simulation'!AC34 -> 572.66892 | V34: =U34/Z34 -> 0.84645895 | W34: =0.5*359.61*'Lap Simulation'!Q34^2 -> 9082.1462 | X34: =Q34/0.254 -> 27.980769 | Y34: 1 | Z34: =IF(Y34=1,'Specifications and Reduced mass'!$C$47,IF(Y34=2,'Specifications and Reduced mass'!$C$48,IF(Y34=3,'Specifications and Reduced mass'!$C$49))) -> 676.5466 | AA34: =(0.5*Z34*Q34^2)/1000 -> 17.086552 | AB34: 0 | AC34: 0 | AD34: 0
A35: C2 | B35: =C35*D35 -> 40.014 | C35: 54 | D35: 0.741 | G35: 6000 | H35: 17.32 | I35: =H35*0.7457 -> 12.915524 | J35: =(9548.8*I35)/G35 -> 20.554626 | K35: 469.1 | L35: 1 | M35: 1 | N35: =N34+1 -> 30 | O35: =($N$6/Q35)+O34 -> 7.2041065 | P35: =Q35*3.6 -> 26.010842 | Q35: =MIN(13.2,(SQRT((Q34^2)+2*R34*$N$6))) -> 7.225234 | R35: =IF(Y35=1,(U35/Z35),IF(Y35=2,0,IF(Y35=3,(1.2*(-U35/Z35))))) -> 0.84486242 | S35: =0.5*1.167*0.95*1.151*Q35^2 -> 33.307622 | T35: =IF(M35=1,'Specifications and Reduced mass'!$F$13,IF(M35=2,'Specifications and Reduced mass'!$G$13,IF(M35=3,'Specifications and Reduced mass'!$H$13,IF(M35=4,'Specifications and Reduced mass'!$I$13,IF(M35=5,'Specifications and Reduced mass'!$J$13))))) -> 103.005 | U35: ='Specifications and Reduced mass'!$C$37-'Lap Simulation'!S35-'Lap Simulation'!T35-'Lap Simulation'!AC35 -> 571.5888 | V35: =U35/Z35 -> 0.84486242 | W35: =0.5*359.61*'Lap Simulation'!Q35^2 -> 9386.5413 | X35: =Q35/0.254 -> 28.445803 | Y35: 1 | Z35: =IF(Y35=1,'Specifications and Reduced mass'!$C$47,IF(Y35=2,'Specifications and Reduced mass'!$C$48,IF(Y35=3,'Specifications and Reduced mass'!$C$49))) -> 676.5466 | AA35: =(0.5*Z35*Q35^2)/1000 -> 17.659221 | AB35: 0 | AC35: 0 | AD35: 0
