Workbook

Sheet Dynamic Data
B2: Ducati Panigale 1199 | E2: Low Speed Run
B3: Kerb Mass (kg) | C3: 188 | E3: dt (s) | F3: 40.99
B4: Test Mass (kg) | C4: =C3+25+75 -> 288 | E4: dv (m/s) (Decceleration) | F4: =F7-F9 -> 23.938889
B5: Power (W) | C5: 140500 | E5: Resistance (N) | F5: =(F4/F3)*C$4 -> 168.19712
B6: Power/Mass Ratio (W/kg) | C6: =C5/C3 -> 747.34043 | E6: V1 (km/h) | F6: 93.56
B7: Max Velocity (mph) | C7: 185 | E7: V1 (m/s) | F7: =F6*1000/3600 -> 25.988889
B8: Max Velocity (km/h) | C8: 297.72 | E8: V2 (Km/h) | F8: 7.38
B9: Max Velocity (m/s) | C9: =C8*(1000/3600) -> 82.7 | E9: V2 (m/s) | F9: =F8*1000/3600 -> 2.05
B10: Rolling Resistance Coefficient | C10: 0.02
B11: Coefficient of Aerodynamic Drag | C11: =(2*C12)/(C21*C13*C14^2) -> 0.69583316 | E11: High Speed Run
B12: Aero Resistance (N) | C12: =F$14-F$5 -> 218.28564 | E12: dt (s) | F12: 20.3
B13: Frontal Area (m²) | C13: 0.48 | E13: dv (m/s) (Decceleration) | F13: =F16-F18 -> 27.241667
B14: Mean Velocity (m/s) | C14: =AVERAGE(F16,F18) -> 32.665278 | E14: Resistance (N) | F14: =(F13/F12)*C$4 -> 386.48276
B15: Rolling Resistance | C15: =C10*C4*9.81 -> 56.5056 | E15: V1 (km/h) | F15: 166.63
B16: Wheel Mass (kg) | C16: 10 | E16: V1 (m/s) | F16: =F15*1000/3600 -> 46.286111
B17: Wheel Radius (m) | C17: 0.323 | E17: V2 (Km/h) | F17: 68.56
B18: Rotational Inertia Factor | C18: =C16*C17^2 -> 1.04329 | E18: V2 (m/s) | F18: =F17*1000/3600 -> 19.044444
B20: Enviromental Values
B21: Air Density (Kg/m³) | C21: 1.225

Sheet KERS System Values
B1: Component Specifications
B3: Energy (kJ) | E3: Motor Generator Unit (MGU)
B4: Total Tractive Energy | C4: =MAX(Calculations!S:S) -> 4158.5212 | E4: Max Power Rating (kW) | F4: =B26*1 -> 5.2895631
B5: Total Braking Energy | C5: =MAX(Calculations!T:T) -> 404.02769 | E5: Average RPM Range | F5: 6000
B6: Total Energy Losses | C6: =C4-C5 -> 3754.4936 | E6: Torque (Nm) | F6: =((B26*1000)/((2*PI()*F5)/60)) -> 8.4186011
E7: Efficiency (89.5%) | F7: 0.895
B8: Braking Events | E8: Invertor Unit
B9: Total Braking Time (s) | C9: =COUNTIF(Calculations!Q2:Q1802, ">0") -> 342 | E9: Efficiency (90%) | F9: 0.9
B10: Braking Events | C10: {=SUM(IF((Calculations!Q2:Q1802>0)*(Calculations!Q1:Q1801=0),1,0))} -> 47 | E10: Energy Storage System (ESS)
B11: Average Braking Event Period (s) | C11: =C9/C10 -> 7.2765957 | E11: Max Capacity (kJ) | F11: =C12 -> 38.490012
B12: Maximum Braking Energy (kJ) | C12: =MAX(Calculations!R:R) -> 38.490012 | E12: Efficiency (95%) | F12: 0.95
E13: Overall Efficiency (%)
B14: Supercapacitor Values | E14: =(F12*F9*F7)^2 -> 0.5855693
B15: Max Voltage (V) | C15: 100
B16: Min Voltage (V) | C16: 50 | E16: MGU System Ratings (Safety Margin)
B17: Average Voltage (V) | C17: =(C15+C16)/2 -> 75 | E17: Power (kW) | F17: =F4*1.2 -> 6.3474757
B18: System Current (I) | C18: =B26*1000/C17 -> 70.527508 | E18: Torque (Nm) | F18: =F6*1.2 -> 10.102321
B19: Capacitance (F) | C19: =(2*(C12*1000))/(C15^2-C16^2) -> 10.264003 | E19: Voltage (V) | F19: =C15*1.2 -> 120
B20: Max Cell Voltage (V) | C20: 2.7 | E20: Current (I) | F20: =C18*1.2 -> 84.63301
B21: Required Cells | C21: =ROUNDUP((C15/C20),0.1) -> 38
B22: Cell Capacitance (F) | C22: =C21*C19 -> 390.03212 | E22: Invertor System Ratings (Safety Margin)
B23: Energy Storage (kJ) | C23: =(0.5*C19*(C15^2-C16^2))/1000 -> 38.490012 | E23: Power (kW) | F23: =(B26/F9)*1.3 -> 7.64048
E24: Voltage (V) | F24: =C15*1.2 -> 120
B25: Power Required (kW) | E25: Current (I) | F25: =C18*1.2 -> 84.63301
B26: =C12/C11 -> 5.2895631
B27: Generated Energy (kJ) | E27: ESS System Ratings (Safety Margin)
B28: =C12*E14 -> 22.53857 | E28: Power (kW) | F28: =(B26/F12)*1.2 -> 6.6815534
E29: Capacitance (F) | F29: =C19*1.2 -> 12.316804
E30: Voltage (V) | F30: =C15*1.2 -> 120
E31: Current (I) | F31: =C18*1.2 -> 84.63301

Sheet Calculations
A1: Phase | B1: Total Time Elapsed (s) | C1: Phase Time Elapsed (s) | D1: Vehicle Speed (m/s) | E1: Vehicle Acceleration (m/s²) | F1: Acceleration Forces (N) | G1: Drag Forces (N) | H1: Rolling Resistance (N) | I1: Total Forces (N) | J1: Accelerating Forces (N) | K1: Braking Forces (N) | L1: Driving Power (kW) | M1: Tractive Power (kW) | N1: Braking Power (kW) | O1: Driving Energy (kJ) | P1: Tractive Energy (kJ) | Q1: Braking Energy (kJ) | R1: Total Braking Energy (Per Event) (kJ) | S1: Cumulative Tractive Energy (kJ) | T1: Cumulative Braking Energy (kJ) | U1: Energy Returnted to Wheel
A2: Low | B2: 0 | C2: 0 | D2: 0 | E2: 0 | F2: ='Dynamic Data'!C$4*E2 -> 0 | G2: =(0.5*'Dynamic Data'!C$21*'Dynamic Data'!C$11*'Dynamic Data'!C$13*D2^2) -> 0 | H2: ='Dynamic Data'!C$15 -> 56.5056 | I2: ='Dynamic Data'!C$15+G2+F2 -> 56.5056 | J2: =IF(I2 > 0, I2,) -> 56.5056 | K2: =IF(I2 <= 0, I2,)*-1 -> 0 | L2: =(D2/1000)*(('Dynamic Data'!C$4*9.81*'Dynamic Data'!C$10)+(0.5*'Dynamic Data'!C$21*'Dynamic Data'!C$11*'Dynamic Data'!C$13*D2^2)+('Dynamic Data'!C$4*'Dynamic Data'!C$18*E2)) -> 0 | M2: =IF(L2 > 0, L2,) -> 0 | N2: =ABS(IF(L2 <= 0, L2,)) -> 0 | O2: =(B3 - B2) * (L3 + L2) / 2 -> 0 | P2: =IF(O2 >= 0, O2,) -> 0 | Q2: =ABS(IF(O2 <= 0, O2,)) -> 0 | S2: =SUM($P$2:P2) -> 0 | T2: =SUM($Q$2:Q2) -> 0 | U2: =T2*'KERS System Values'!E$14 -> 0
A3: Low | B3: 1 | C3: 1 | D3: 0 | E3: 0 | F3: ='Dynamic Data'!C$4*E3 -> 0 | G3: =(0.5*'Dynamic Data'!C$21*'Dynamic Data'!C$11*'Dynamic Data'!C$13*D3^2) -> 0 | H3: ='Dynamic Data'!C$15 -> 56.5056 | I3: ='Dynamic Data'!C$15+G3+F3 -> 56.5056 | J3: =IF(I3 > 0, I3,) -> 56.5056 | K3: =IF(I3 <= 0, I3,)*-1 -> 0 | L3: =(D3/1000)*(('Dynamic Data'!C$4*9.81*'Dynamic Data'!C$10)+(0.5*'Dynamic Data'!C$21*'Dynamic Data'!C$11*'Dynamic Data'!C$13*D3^2)+('Dynamic Data'!C$4*'Dynamic Data'!C$18*E3)) -> 0 | M3: =IF(L3 > 0, L3,) -> 0 | N3: =ABS(IF(L3 <= 0, L3,)) -> 0 | O3: =(B4 - B3) * (L4 + L3) / 2 -> 0 | P3: =IF(O3 >= 0, O3,) -> 0 | Q3: =ABS(IF(O3 <= 0, O3,)) -> 0 | S3: =SUM($P$2:P3) -> 0 | T3: =SUM($Q$2:Q3) -> 0 | U3: =T3*'KERS System Values'!E$14 -> 0
A4: Low | B4: 2 | C4: 2 | D4: 0 | E4: 0 | F4: ='Dynamic Data'!C$4*E4 -> 0 | G4: =(0.5*'Dynamic Data'!C$21*'Dynamic Data'!C$11*'Dynamic Data'!C$13*D4^2) -> 0 | H4: ='Dynamic Data'!C$15 -> 56.5056 | I4: ='Dynamic Data'!C$15+G4+F4 -> 56.5056 | J4: =IF(I4 > 0, I4,) -> 56.5056 | K4: =IF(I4 <= 0, I4,)*-1 -> 0 | L4: =(D4/1000)*(('Dynamic Data'!C$4*9.81*'Dynamic Data'!C$10)+(0.5*'Dynamic Data'!C$21*'Dynamic Data'!C$11*'Dynamic Data'!C$13*D4^2)+('Dynamic Data'!C$4*'Dynamic Data'!C$18*E4)) -> 0 | M4: =IF(L4 > 0, L4,) -> 0 | N4: =ABS(IF(L4 <= 0, L4,)) -> 0 | O4: =(B5 - B4) * (L5 + L4) / 2 -> 0 | P4: =IF(O4 >= 0, O4,) -> 0 | Q4: =ABS(IF(O4 <= 0, O4,)) -> 0 | S4: =SUM($P$2:P4) -> 0 | T4: =SUM($Q$2:Q4) -> 0 | U4: =T4*'KERS System Values'!E$14 -> 0
A5: Low | B5: 3 | C5: 3 | D5: 0 | E5: 0 | F5: ='Dynamic Data'!C$4*E5 -> 0 | G5: =(0.5*'Dynamic Data'!C$21*'Dynamic Data'!C$11*'Dynamic Data'!C$13*D5^2) -> 0 | H5: ='Dynamic Data'!C$15 -> 56.5056 | I5: ='Dynamic Data'!C$15+G5+F5 -> 56.5056 | J5: =IF(I5 > 0, I5,) -> 56.5056 | K5: =IF(I5 <= 0, I5,)*-1 -> 0 | L5: =(D5/1000)*(('Dynamic Data'!C$4*9.81*'Dynamic Data'!C$10)+(0.5*'Dynamic Data'!C$21*'Dynamic Data'!C$11*'Dynamic Data'!C$13*D5^2)+('Dynamic Data'!C$4*'Dynamic Data'!C$18*E5)) -> 0 | M5: =IF(L5 > 0, L5,) -> 0 | N5: =ABS(IF(L5 <= 0, L5,)) -> 0 | O5: =(B6 - B5) * (L6 + L5) / 2 -> 0 | P5: =IF(O5 >= 0, O5,) -> 0 | Q5: =ABS(IF(O5 <= 0, O5,)) -> 0 | S5: =SUM($P$2:P5) -> 0 | T5: =SUM($Q$2:Q5) -> 0 | U5: =T5*'KERS System Values'!E$14 -> 0
A6: Low | B6: 4 | C6: 4 | D6: 0 | E6: 0 | F6: ='Dynamic Data'!C$4*E6 -> 0 | G6: =(0.5*'Dynamic Data'!C$21*'Dynamic Data'!C$11*'Dynamic Data'!C$13*D6^2) -> 0 | H6: ='Dynamic Data'!C$15 -> 56.5056 | I6: ='Dynamic Data'!C$15+G6+F6 -> 56.5056 | J6: =IF(I6 > 0, I6,) -> 56.5056 | K6: =IF(I6 <= 0, I6,)*-1 -> 0 | L6: =(D6/1000)*(('Dynamic Data'!C$4*9.81*'Dynamic Data'!C$10)+(0.5*'Dynamic Data'!C$21*'Dynamic Data'!C$11*'Dynamic Data'!C$13*D6^2)+('Dynamic Data'!C$4*'Dynamic Data'!C$18*E6)) -> 0 | M6: =IF(L6 > 0, L6,) -> 0 | N6: =ABS(IF(L6 <= 0, L6,)) -> 0 | O6: =(B7 - B6) * (L7 + L6) / 2 -> 0 | P6: =IF(O6 >= 0, O6,) -> 0 | Q6: =ABS(IF(O6 <= 0, O6,)) -> 0 | S6: =SUM($P$2:P6) -> 0 | T6: =SUM($Q$2:Q6) -> 0 | U6: =T6*'KERS System Values'!E$14 -> 0
A7: Low | B7: 5 | C7: 5 | D7: 0 | E7: 0 | F7: ='Dynamic Data'!C$4*E7 -> 0 | G7: =(0.5*'Dynamic Data'!C$21*'Dynamic Data'!C$11*'Dynamic Data'!C$13*D7^2) -> 0 | H7: ='Dynamic Data'!C$15 -> 56.5056 | I7: ='Dynamic Data'!C$15+G7+F7 -> 56.5056 | J7: =IF(I7 > 0, I7,) -> 56.5056 | K7: =IF(I7 <= 0, I7,)*-1 -> 0 | L7: =(D7/1000)*(('Dynamic Data'!C$4*9.81*'Dynamic Data'!C$10)+(0.5*'Dynamic Data'!C$21*'Dynamic Data'!C$11*'Dynamic Data'!C$13*D7^2)+('Dynamic Data'!C$4*'Dynamic Data'!C$18*E7)) -> 0 | M7: =IF(L7 > 0, L7,) -> 0 | N7: =ABS(IF(L7 <= 0, L7,)) -> 0 | O7: =(B8 - B7) * (L8 + L7) / 2 -> 0 | P7: =IF(O7 >= 0, O7,) -> 0 | Q7: =ABS(IF(O7 <= 0, O7,)) -> 0 | S7: =SUM($P$2:P7) -> 0 | T7: =SUM($Q$2:Q7) -> 0 | U7: =T7*'KERS System Values'!E$14 -> 0
A8: Low | B8: 6 | C8: 6 | D8: 0 | E8: 0 | F8: ='Dynamic Data'!C$4*E8 -> 0 | G8: =(0.5*'Dynamic Data'!C$21*'Dynamic Data'!C$11*'Dynamic Data'!C$13*D8^2) -> 0 | H8: ='Dynamic Data'!C$15 -> 56.5056 | I8: ='Dynamic Data'!C$15+G8+F8 -> 56.5056 | J8: =IF(I8 > 0, I8,) -> 56.5056 | K8: =IF(I8 <= 0, I8,)*-1 -> 0 | L8: =(D8/1000)*(('Dynamic Data'!C$4*9.81*'Dynamic Data'!C$10)+(0.5*'Dynamic Data'!C$21*'Dynamic Data'!C$11*'Dynamic Data'!C$13*D8^2)+('Dynamic Data'!C$4*'Dynamic Data'!C$18*E8)) -> 0 | M8: =IF(L8 > 0, L8,) -> 0 | N8: =ABS(IF(L8 <= 0, L8,)) -> 0 | O8: =(B9 - B8) * (L9 + L8) / 2 -> 0 | P8: =IF(O8 >= 0, O8,) -> 0 | Q8: =ABS(IF(O8 <= 0, O8,)) -> 0 | S8: =SUM($P$2:P8) -> 0 | T8: =SUM($Q$2:Q8) -> 0 | U8: =T8*'KERS System Values'!E$14 -> 0
A9: Low | B9: 7 | C9: 7 | D9: 0 | E9: 0 | F9: ='Dynamic Data'!C$4*E9 -> 0 | G9: =(0.5*'Dynamic Data'!C$21*'Dynamic Data'!C$11*'Dynamic Data'!C$13*D9^2) -> 0 | H9: ='Dynamic Data'!C$15 -> 56.5056 | I9: ='Dynamic Data'!C$15+G9+F9 -> 56.5056 | J9: =IF(I9 > 0, I9,) -> 56.5056 | K9: =IF(I9 <= 0, I9,)*-1 -> 0 | L9: =(D9/1000)*(('Dynamic Data'!C$4*9.81*'Dynamic Data'!C$10)+(0.5*'Dynamic Data'!C$21*'Dynamic Data'!C$11*'Dynamic Data'!C$13*D9^2)+('Dynamic Data'!C$4*'Dynamic Data'!C$18*E9)) -> 0 | M9: =IF(L9 > 0, L9,) -> 0 | N9: =ABS(IF(L9 <= 0, L9,)) -> 0 | O9: =(B10 - B9) * (L10 + L9) / 2 -> 0 | P9: =IF(O9 >= 0, O9,) -> 0 | Q9: =ABS(IF(O9 <= 0, O9,)) -> 0 | S9: =SUM($P$2:P9) -> 0 | T9: =SUM($Q$2:Q9) -> 0 | U9: =T9*'KERS System Values'!E$14 -> 0
A10: Low | B10: 8 | C10: 8 | D10: 0 | E10: 0 | F10: ='Dynamic Data'!C$4*E10 -> 0 | G10: =(0.5*'Dynamic Data'!C$21*'Dynamic Data'!C$11*'Dynamic Data'!C$13*D10^2) -> 0 | H10: ='Dynamic Data'!C$15 -> 56.5056 | I10: ='Dynamic Data'!C$15+G10+F10 -> 56.5056 | J10: =IF(I10 > 0, I10,) -> 56.5056 | K10: =IF(I10 <= 0, I10,)*-1 -> 0 | L10: =(D10/1000)*(('Dynamic Data'!C$4*9.81*'Dynamic Data'!C$10)+(0.5*'Dynamic Data'!C$21*'Dynamic Data'!C$11*'Dynamic Data'!C$13*D10^2)+('Dynamic Data'!C$4*'Dynamic Data'!C$18*E10)) -> 0 | M10: =IF(L10 > 0, L10,) -> 0 | N10: =ABS(IF(L10 <= 0, L10,)) -> 0 | O10: =(B11 - B10) * (L11 + L10) / 2 -> 0 | P10: =IF(O10 >= 0, O10,) -> 0 | Q10: =ABS(IF(O10 <= 0, O10,)) -> 0 | S10: =SUM($P$2:P10) -> 0 | T10: =SUM($Q$2:Q10) -> 0 | U10: =T10*'KERS System Values'!E$14 -> 0
A11: Low | B11: 9 | C11: 9 | D11: 0 | E11: 0 | F11: ='Dynamic Data'!C$4*E11 -> 0 | G11: =(0.5*'Dynamic Data'!C$21*'Dynamic Data'!C$11*'Dynamic Data'!C$13*D11^2) -> 0 | H11: ='Dynamic Data'!C$15 -> 56.5056 | I11: ='Dynamic Data'!C$15+G11+F11 -> 56.5056 | J11: =IF(I11 > 0, I11,) -> 56.5056 | K11: =IF(I11 <= 0, I11,)*-1 -> 0 | L11: =(D11/1000)*(('Dynamic Data'!C$4*9.81*'Dynamic Data'!C$10)+(0.5*'Dynamic Data'!C$21*'Dynamic Data'!C$11*'Dynamic Data'!C$13*D11^2)+('Dynamic Data'!C$4*'Dynamic Data'!C$18*E11)) -> 0 | M11: =IF(L11 > 0, L11,) -> 0 | N11: =ABS(IF(L11 <= 0, L11,)) -> 0 | O11: =(B12 - B11) * (L12 + L11) / 2 -> 0 | P11: =IF(O11 >= 0, O11,) -> 0 | Q11: =ABS(IF(O11 <= 0, O11,)) -> 0 | S11: =SUM($P$2:P11) -> 0 | T11: =SUM($Q$2:Q11) -> 0 | U11: =T11*'KERS System Values'!E$14 -> 0
A12: Low | B12: 10 | C12: 10 | D12: 0 | E12: 0 | F12: ='Dynamic Data'!C$4*E12 -> 0 | G12: =(0.5*'Dynamic Data'!C$21*'Dynamic Data'!C$11*'Dynamic Data'!C$13*D12^2) -> 0 | H12: ='Dynamic Data'!C$15 -> 56.5056 | I12: ='Dynamic Data'!C$15+G12+F12 -> 56.5056 | J12: =IF(I12 > 0, I12,) -> 56.5056 | K12: =IF(I12 <= 0, I12,)*-1 -> 0 | L12: =(D12/1000)*(('Dynamic Data'!C$4*9.81*'Dynamic Data'!C$10)+(0.5*'Dynamic Data'!C$21*'Dynamic Data'!C$11*'Dynamic Data'!C$13*D12^2)+('Dynamic Data'!C$4*'Dynamic Data'!C$18*E12)) -> 0 | M12: =IF(L12 > 0, L12,) -> 0 | N12: =ABS(IF(L12 <= 0, L12,)) -> 0 | O12: =(B13 - B12) * (L13 + L12) / 2 -> 0 | P12: =IF(O12 >= 0, O12,) -> 0 | Q12: =ABS(IF(O12 <= 0, O12,)) -> 0 | S12: =SUM($P$2:P12) -> 0 | T12: =SUM($Q$2:Q12) -> 0 | U12: =T12*'KERS System Values'!E$14 -> 0
A13: Low | B13: 11 | C13: 11 | D13: 0 | E13: 0.027777778 | F13: ='Dynamic Data'!C$4*E13 -> 8 | G13: =(0.5*'Dynamic Data'!C$21*'Dynamic Data'!C$11*'Dynamic Data'!C$13*D13^2) -> 0 | H13: ='Dynamic Data'!C$15 -> 56.5056 | I13: ='Dynamic Data'!C$15+G13+F13 -> 64.5056 | J13: =IF(I13 > 0, I13,) -> 64.5056 | K13: =IF(I13 <= 0, I13,)*-1 -> 0 | L13: =(D13/1000)*(('Dynamic Data'!C$4*9.81*'Dynamic Data'!C$10)+(0.5*'Dynamic Data'!C$21*'Dynamic Data'!C$11*'Dynamic Data'!C$13*D13^2)+('Dynamic Data'!C$4*'Dynamic Data'!C$18*E13)) -> 0 | M13: =IF(L13 > 0, L13,) -> 0 | N13: =ABS(IF(L13 <= 0, L13,)) -> 0 | O13: =(B14 - B13) * (L14 + L13) / 2 -> 0.0035402764 | P13: =IF(O13 >= 0, O13,) -> 0.0035402764 | Q13: =ABS(IF(O13 <= 0, O13,)) -> 0 | S13: =SUM($P$2:P13) -> 0.0035402764 | T13: =SUM($Q$2:Q13) -> 0 | U13: =T13*'KERS System Values'!E$14 -> 0
... A48: Low | B48: 46 | C48: 46 | D48: 5.6666667 | E48: -0.19444444 | F48: ='Dynamic Data'!C$4*E48 -> -56 | G48: =(0.5*'Dynamic Data'!C$21*'Dynamic Data'!C$11*'Dynamic Data'!C$13*D48^2) -> 6.5691289 | H48: ='Dynamic Data'!C$15 -> 56.5056 | I48: ='Dynamic Data'!C$15+G48+F48 -> 7.0747289 | J48: =IF(I48 > 0, I48,) -> 7.0747289 | K48: =IF(I48 <= 0, I48,)*-1 -> 0 | L48: =(D48/1000)*(('Dynamic Data'!C$4*9.81*'Dynamic Data'!C$10)+(0.5*'Dynamic Data'!C$21*'Dynamic Data'!C$11*'Dynamic Data'!C$13*D48^2)+('Dynamic Data'!C$4*'Dynamic Data'!C$18*E48)) -> 0.02635277 | M48: =IF(L48 > 0, L48,) -> 0.02635277 | N48: =ABS(IF(L48 <= 0, L48,)) -> 0 | O48: =(B49 - B48) * (L49 + L48) / 2 -> -0.043577591 | P48: =IF(O48 >= 0, O48,) -> 0 | Q48: =ABS(IF(O48 <= 0, O48,)) -> 0.043577591 | S48: =SUM($P$2:P48) -> 37.10028 | T48: =SUM($Q$2:Q48) -> 11.002567 | U48: =T48*'KERS System Values'!E$14 -> 6.4427652
A49: Low | B49: 47 | C49: 47 | D49: 5.4166667 | E49: -0.27777778 | F49: ='Dynamic Data'!C$4*E49 -> -80 | G49: =(0.5*'Dynamic Data'!C$21*'Dynamic Data'!C$11*'Dynamic Data'!C$13*D49^2) -> 6.0022858 | H49: ='Dynamic Data'!C$15 -> 56.5056 | I49: ='Dynamic Data'!C$15+G49+F49 -> -17.492114 | J49: =IF(I49 > 0, I49,) -> 0 | K49: =IF(I49 <= 0, I49,)*-1 -> 17.492114 | L49: =(D49/1000)*(('Dynamic Data'!C$4*9.81*'Dynamic Data'!C$10)+(0.5*'Dynamic Data'!C$21*'Dynamic Data'!C$11*'Dynamic Data'!C$13*D49^2)+('Dynamic Data'!C$4*'Dynamic Data'!C$18*E49)) -> -0.11350795 | M49: =IF(L49 > 0, L49,) -> 0 | N49: =ABS(IF(L49 <= 0, L49,)) -> 0.11350795 | O49: =(B50 - B49) * (L50 + L49) / 2 -> -0.079993981 | P49: =IF(O49 >= 0, O49,) -> 0 | Q49: =ABS(IF(O49 <= 0, O49,)) -> 0.079993981 | R49: =SUM(Q38:Q49) -> 11.082561 | S49: =SUM($P$2:P49) -> 37.10028 | T49: =SUM($Q$2:Q49) -> 11.082561 | U49: =T49*'KERS System Values'!E$14 -> 6.4896072
A50: Low | B50: 48 | C50: 48 | D50: 5.1111111 | E50: -0.23611111 | F50: ='Dynamic Data'!C$4*E50 -> -68 | G50: =(0.5*'Dynamic Data'!C$21*'Dynamic Data'!C$11*'Dynamic Data'!C$13*D50^2) -> 5.3442048 | H50: ='Dynamic Data'!C$15 -> 56.5056 | I50: ='Dynamic Data'!C$15+G50+F50 -> -6.1501952 | J50: =IF(I50 > 0, I50,) -> 0 | K50: =IF(I50 <= 0, I50,)*-1 -> 6.1501952 | L50: =(D50/1000)*(('Dynamic Data'!C$4*9.81*'Dynamic Data'!C$10)+(0.5*'Dynamic Data'!C$21*'Dynamic Data'!C$11*'Dynamic Data'!C$13*D50^2)+('Dynamic Data'!C$4*'Dynamic Data'!C$18*E50)) -> -0.046480011 | M50: =IF(L50 > 0, L50,) -> 0 | N50: =ABS(IF(L50 <= 0, L50,)) -> 0.046480011 | O50: =(B51 - B50) * (L51 + L50) / 2 -> 0.066916976 | P50: =IF(O50 >= 0, O50,) -> 0.066916976 | Q50: =ABS(IF(O50 <= 0, O50,)) -> 0 | S50: =SUM($P$2:P50) -> 37.167197 | T50: =SUM($Q$2:Q50) -> 11.082561 | U50: =T50*'KERS System Values'!E$14 -> 6.4896072
A51: Low | B51: 49 | C51: 49 | D51: 4.9444444 | E51: -0.083333333 | F51: ='Dynamic Data'!C$4*E51 -> -24 | G51: =(0.5*'Dynamic Data'!C$21*'Dynamic Data'!C$11*'Dynamic Data'!C$13*D51^2) -> 5.0013524 | H51: ='Dynamic Data'!C$15 -> 56.5056 | I51: ='Dynamic Data'!C$15+G51+F51 -> 37.506952 | J51: =IF(I51 > 0, I51,) -> 37.506952 | K51: =IF(I51 <= 0, I51,)*-1 -> 0 | L51: =(D51/1000)*(('Dynamic Data'!C$4*9.81*'Dynamic Data'!C$10)+(0.5*'Dynamic Data'!C$21*'Dynamic Data'!C$11*'Dynamic Data'!C$13*D51^2)+('Dynamic Data'!C$4*'Dynamic Data'!C$18*E51)) -> 0.18031396 | M51: =IF(L51 > 0, L51,) -> 0.18031396 | N51: =ABS(IF(L51 <= 0, L51,)) -> 0 | O51: =(B52 - B51) * (L52 + L51) / 2 -> 0.20094792 | P51: =IF(O51 >= 0, O51,) -> 0.20094792 | Q51: =ABS(IF(O51 <= 0, O51,)) -> 0 | S51: =SUM($P$2:P51) -> 37.368145 | T51: =SUM($Q$2:Q51) -> 11.082561 | U51: =T51*'KERS System Values'!E$14 -> 6.4896072
A52: Low | B52: 50 | C52: 50 | D52: 4.9444444 | E52: -0.055555556 | F52: ='Dynamic Data'!C$4*E52 -> -16 | G52: =(0.5*'Dynamic Data'!C$21*'Dynamic Data'!C$11*'Dynamic Data'!C$13*D52^2) -> 5.0013524 | H52: ='Dynamic Data'!C$15 -> 56.5056 | I52: ='Dynamic Data'!C$15+G52+F52 -> 45.506952 | J52: =IF(I52 > 0, I52,) -> 45.506952 | K52: =IF(I52 <= 0, I52,)*-1 -> 0 | L52: =(D52/1000)*(('Dynamic Data'!C$4*9.81*'Dynamic Data'!C$10)+(0.5*'Dynamic Data'!C$21*'Dynamic Data'!C$11*'Dynamic Data'!C$13*D52^2)+('Dynamic Data'!C$4*'Dynamic Data'!C$18*E52)) -> 0.22158188 | M52: =IF(L52 > 0, L52,) -> 0.22158188 | N52: =ABS(IF(L52 <= 0, L52,)) -> 0 | O52: =(B53 - B52) * (L53 + L52) / 2 -> 0.047107756 | P52: =IF(O52 >= 0, O52,) -> 0.047107756 | Q52: =ABS(IF(O52 <= 0, O52,)) -> 0 | S52: =SUM($P$2:P52) -> 37.415253 | T52: =SUM($Q$2:Q52) -> 11.082561 | U52: =T52*'KERS System Values'!E$14 -> 6.4896072
A53: Low | B53: 51 | C53: 51 | D53: 4.8333333 | E53: -0.29166667 | F53: ='Dynamic Data'!C$4*E53 -> -84 | G53: =(0.5*'Dynamic Data'!C$21*'Dynamic Data'!C$11*'Dynamic Data'!C$13*D53^2) -> 4.7790981 | H53: ='Dynamic Data'!C$15 -> 56.5056 | I53: ='Dynamic Data'!C$15+G53+F53 -> -22.715302 | J53: =IF(I53 > 0, I53,) -> 0 | K53: =IF(I53 <= 0, I53,)*-1 -> 22.715302 | L53: =(D53/1000)*(('Dynamic Data'!C$4*9.81*'Dynamic Data'!C$10)+(0.5*'Dynamic Data'!C$21*'Dynamic Data'!C$11*'Dynamic Data'!C$13*D53^2)+('Dynamic Data'!C$4*'Dynamic Data'!C$18*E53)) -> -0.12736637 | M53: =IF(L53 > 0, L53,) -> 0 | N53: =ABS(IF(L53 <= 0, L53,)) -> 0.12736637 | O53: =(B54 - B53) * (L54 + L53) / 2 -> -0.32327703 | P53: =IF(O53 >= 0, O53,) -> 0 | Q53: =ABS(IF(O53 <= 0, O53,)) -> 0.32327703 | S53: =SUM($P$2:P53) -> 37.415253 | T53: =SUM($Q$2:Q53) -> 11.405838 | U53: =T53*'KERS System Values'!E$14 -> 6.6789083
A54: Low | B54: 52 | C54: 52 | D54: 4.3611111 | E54: -0.59722222 | F54: ='Dynamic Data'!C$4*E54 -> -172 | G54: =(0.5*'Dynamic Data'!C$21*'Dynamic Data'!C$11*'Dynamic Data'!C$13*D54^2) -> 3.8908703 | H54: ='Dynamic Data'!C$15 -> 56.5056 | I54: ='Dynamic Data'!C$15+G54+F54 -> -111.60353 | J54: =IF(I54 > 0, I54,) -> 0 | K54: =IF(I54 <= 0, I54,)*-1 -> 111.60353 | L54: =(D54/1000)*(('Dynamic Data'!C$4*9.81*'Dynamic Data'!C$10)+(0.5*'Dynamic Data'!C$21*'Dynamic Data'!C$11*'Dynamic Data'!C$13*D54^2)+('Dynamic Data'!C$4*'Dynamic Data'!C$18*E54)) -> -0.5191877 | M54: =IF(L54 > 0, L54,) -> 0 | N54: =ABS(IF(L54 <= 0, L54,)) -> 0.5191877 | O54: =(B55 - B54) * (L55 + L54) / 2 -> -0.42519837 | P54: =IF(O54 >= 0, O54,) -> 0 | Q54: =ABS(IF(O54 <= 0, O54,)) -> 0.42519837 | S54: =SUM($P$2:P54) -> 37.415253 | T54: =SUM($Q$2:Q54) -> 11.831036 | U54: =T54*'KERS System Values'!E$14 -> 6.9278914
A55: Low | B55: 53 | C55: 53 | D55: 3.6388889 | E55: -0.5 | F55: ='Dynamic Data'!C$4*E55 -> -144 | G55: =(0.5*'Dynamic Data'!C$21*'Dynamic Data'!C$11*'Dynamic Data'!C$13*D55^2) -> 2.7088817 | H55: ='Dynamic Data'!C$15 -> 56.5056 | I55: ='Dynamic Data'!C$15+G55+F55 -> -84.785518 | J55: =IF(I55 > 0, I55,) -> 0 | K55: =IF(I55 <= 0, I55,)*-1 -> 84.785518 | L55: =(D55/1000)*(('Dynamic Data'!C$4*9.81*'Dynamic Data'!C$10)+(0.5*'Dynamic Data'!C$21*'Dynamic Data'!C$11*'Dynamic Data'!C$13*D55^2)+('Dynamic Data'!C$4*'Dynamic Data'!C$18*E55)) -> -0.33120904 | M55: =IF(L55 > 0, L55,) -> 0 | N55: =ABS(IF(L55 <= 0, L55,)) -> 0.33120904 | O55: =(B56 - B55) * (L56 + L55) / 2 -> -0.14390529 | P55: =IF(O55 >= 0, O55,) -> 0 | Q55: =ABS(IF(O55 <= 0, O55,)) -> 0.14390529 | R55: =SUM(Q53:Q55) -> 0.8923807 | S55: =SUM($P$2:P55) -> 37.415253 | T55: =SUM($Q$2:Q55) -> 11.974941 | U55: =T55*'KERS System Values'!E$14 -> 7.012158
A56: Low | B56: 54 | C56: 54 | D56: 3.3611111 | E56: -0.15277778 | F56: ='Dynamic Data'!C$4*E56 -> -44 | G56: =(0.5*'Dynamic Data'!C$21*'Dynamic Data'!C$11*'Dynamic Data'!C$13*D56^2) -> 2.3110971 | H56: ='Dynamic Data'!C$15 -> 56.5056 | I56: ='Dynamic Data'!C$15+G56+F56 -> 14.816697 | J56: =IF(I56 > 0, I56,) -> 14.816697 | K56: =IF(I56 <= 0, I56,)*-1 -> 0 | L56: =(D56/1000)*(('Dynamic Data'!C$4*9.81*'Dynamic Data'!C$10)+(0.5*'Dynamic Data'!C$21*'Dynamic Data'!C$11*'Dynamic Data'!C$13*D56^2)+('Dynamic Data'!C$4*'Dynamic Data'!C$18*E56)) -> 0.043398455 | M56: =IF(L56 > 0, L56,) -> 0.043398455 | N56: =ABS(IF(L56 <= 0, L56,)) -> 0 | O56: =(B57 - B56) * (L57 + L56) / 2 -> 0.11270839 | P56: =IF(O56 >= 0, O56,) -> 0.11270839 | Q56: =ABS(IF(O56 <= 0, O56,)) -> 0 | S56: =SUM($P$2:P56) -> 37.527961 | T56: =SUM($Q$2:Q56) -> 11.974941 | U56: =T56*'KERS System Values'!E$14 -> 7.012158
A57: Low | B57: 55 | C57: 55 | D57: 3.3333333 | E57: -0.013888889 | F57: ='Dynamic Data'!C$4*E57 -> -4 | G57: =(0.5*'Dynamic Data'!C$21*'Dynamic Data'!C$11*'Dynamic Data'!C$13*D57^2) -> 2.273055 | H57: ='Dynamic Data'!C$15 -> 56.5056 | I57: ='Dynamic Data'!C$15+G57+F57 -> 54.778655 | J57: =IF(I57 > 0, I57,) -> 54.778655 | K57: =IF(I57 <= 0, I57,)*-1 -> 0 | L57: =(D57/1000)*(('Dynamic Data'!C$4*9.81*'Dynamic Data'!C$10)+(0.5*'Dynamic Data'!C$21*'Dynamic Data'!C$11*'Dynamic Data'!C$13*D57^2)+('Dynamic Data'!C$4*'Dynamic Data'!C$18*E57)) -> 0.18201832 | M57: =IF(L57 > 0, L57,) -> 0.18201832 | N57: =ABS(IF(L57 <= 0, L57,)) -> 0 | O57: =(B58 - B57) * (L58 + L57) / 2 -> 0.18897358 | P57: =IF(O57 >= 0, O57,) -> 0.18897358 | Q57: =ABS(IF(O57 <= 0, O57,)) -> 0 | S57: =SUM($P$2:P57) -> 37.716935 | T57: =SUM($Q$2:Q57) -> 11.974941 | U57: =T57*'KERS System Values'!E$14 -> 7.012158
A58: Low | B58: 56 | C58: 56 | D58: 3.3333333 | E58: 0 | F58: ='Dynamic Data'!C$4*E58 -> 0 | G58: =(0.5*'Dynamic Data'!C$21*'Dynamic Data'!C$11*'Dynamic Data'!C$13*D58^2) -> 2.273055 | H58: ='Dynamic Data'!C$15 -> 56.5056 | I58: ='Dynamic Data'!C$15+G58+F58 -> 58.778655 | J58: =IF(I58 > 0, I58,) -> 58.778655 | K58: =IF(I58 <= 0, I58,)*-1 -> 0 | L58: =(D58/1000)*(('Dynamic Data'!C$4*9.81*'Dynamic Data'!C$10)+(0.5*'Dynamic Data'!C$21*'Dynamic Data'!C$11*'Dynamic Data'!C$13*D58^2)+('Dynamic Data'!C$4*'Dynamic Data'!C$18*E58)) -> 0.19592885 | M58: =IF(L58 > 0, L58,) -> 0.19592885 | N58: =ABS(IF(L58 <= 0, L58,)) -> 0 | O58: =(B59 - B58) * (L59 + L58) / 2 -> 0.21679465 | P58: =IF(O58 >= 0, O58,) -> 0.21679465 | Q58: =ABS(IF(O58 <= 0, O58,)) -> 0 | S58: =SUM($P$2:P58) -> 37.93373 | T58: =SUM($Q$2:Q58) -> 11.974941 | U58: =T58*'KERS System Values'!E$14 -> 7.012158
A59: Low | B59: 57 | C59: 57 | D59: 3.3333333 | E59: 0.041666667 | F59: ='Dynamic Data'!C$4*E59 -> 12 | G59: =(0.5*'Dynamic Data'!C$21*'Dynamic Data'!C$11*'Dynamic Data'!C$13*D59^2) -> 2.273055 | H59: ='Dynamic Data'!C$15 -> 56.5056 | I59: ='Dynamic Data'!C$15+G59+F59 -> 70.778655 | J59: =IF(I59 > 0, I59,) -> 70.778655 | K59: =IF(I59 <= 0, I59,)*-1 -> 0 | L59: =(D59/1000)*(('Dynamic Data'!C$4*9.81*'Dynamic Data'!C$10)+(0.5*'Dynamic Data'!C$21*'Dynamic Data'!C$11*'Dynamic Data'!C$13*D59^2)+('Dynamic Data'!C$4*'Dynamic Data'!C$18*E59)) -> 0.23766045 | M59: =IF(L59 > 0, L59,) -> 0.23766045 | N59: =ABS(IF(L59 <= 0, L59,)) -> 0 | O59: =(B60 - B59) * (L60 + L59) / 2 -> 0.26221523 | P59: =IF(O59 >= 0, O59,) -> 0.26221523 | Q59: =ABS(IF(O59 <= 0, O59,)) -> 0 | S59: =SUM($P$2:P59) -> 38.195945 | T59: =SUM($Q$2:Q59) -> 11.974941 | U59: =T59*'KERS System Values'!E$14 -> 7.012158
A60: Low | B60: 58 | C60: 58 | D60: 3.4166667 | E60: 0.083333333 | F60: ='Dynamic Data'!C$4*E60 -> 24 | G60: =(0.5*'Dynamic Data'!C$21*'Dynamic Data'!C$11*'Dynamic Data'!C$13*D60^2) -> 2.3881284 | H60: ='Dynamic Data'!C$15 -> 56.5056 | I60: ='Dynamic Data'!C$15+G60+F60 -> 82.893728 | J60: =IF(I60 > 0, I60,) -> 82.893728 | K60: =IF(I60 <= 0, I60,)*-1 -> 0 | L60: =(D60/1000)*(('Dynamic Data'!C$4*9.81*'Dynamic Data'!C$10)+(0.5*'Dynamic Data'!C$21*'Dynamic Data'!C$11*'Dynamic Data'!C$13*D60^2)+('Dynamic Data'!C$4*'Dynamic Data'!C$18*E60)) -> 0.28677002 | M60: =IF(L60 > 0, L60,) -> 0.28677002 | N60: =ABS(IF(L60 <= 0, L60,)) -> 0 | O60: =(B61 - B60) * (L61 + L60) / 2 -> 0.4219281 | P60: =IF(O60 >= 0, O60,) -> 0.4219281 | Q60: =ABS(IF(O60 <= 0, O60,)) -> 0 | S60: =SUM($P$2:P60) -> 38.617873 | T60: =SUM($Q$2:Q60) -> 11.974941 | U60: =T60*'KERS System Values'!E$14 -> 7.012158
A61: Low | B61: 59 | C61: 59 | D61: 3.5 | E61: 0.33333333 | F61: ='Dynamic Data'!C$4*E61 -> 96 | G61: =(0.5*'Dynamic Data'!C$21*'Dynamic Data'!C$11*'Dynamic Data'!C$13*D61^2) -> 2.5060431 | H61: ='Dynamic Data'!C$15 -> 56.5056 | I61: ='Dynamic Data'!C$15+G61+F61 -> 155.01164 | J61: =IF(I61 > 0, I61,) -> 155.01164 | K61: =IF(I61 <= 0, I61,)*-1 -> 0 | L61: =(D61/1000)*(('Dynamic Data'!C$4*9.81*'Dynamic Data'!C$10)+(0.5*'Dynamic Data'!C$21*'Dynamic Data'!C$11*'Dynamic Data'!C$13*D61^2)+('Dynamic Data'!C$4*'Dynamic Data'!C$18*E61)) -> 0.55708619 | M61: =IF(L61 > 0, L61,) -> 0.55708619 | N61: =ABS(IF(L61 <= 0, L61,)) -> 0 | O61: =(B62 - B61) * (L62 + L61) / 2 -> 0.63091827 | P61: =IF(O61 >= 0, O61,) -> 0.63091827 | Q61: =ABS(IF(O61 <= 0, O61,)) -> 0 | S61: =SUM($P$2:P61) -> 39.248791 | T61: =SUM($Q$2:Q61) -> 11.974941 | U61: =T61*'KERS System Values'!E$14 -> 7.012158
A62: Low | B62: 60 | C62: 60 | D62: 4.0833333 | E62: 0.375 | F62: ='Dynamic Data'!C$4*E62 -> 108 | G62: =(0.5*'Dynamic Data'!C$21*'Dynamic Data'!C$11*'Dynamic Data'!C$13*D62^2) -> 3.4110031 | H62: ='Dynamic Data'!C$15 -> 56.5056 | I62: ='Dynamic Data'!C$15+G62+F62 -> 167.9166 | J62: =IF(I62 > 0, I62,) -> 167.9166 | K62: =IF(I62 <= 0, I62,)*-1 -> 0 | L62: =(D62/1000)*(('Dynamic Data'!C$4*9.81*'Dynamic Data'!C$10)+(0.5*'Dynamic Data'!C$21*'Dynamic Data'!C$11*'Dynamic Data'!C$13*D62^2)+('Dynamic Data'!C$4*'Dynamic Data'!C$18*E62)) -> 0.70475035 | M62: =IF(L62 > 0, L62,) -> 0.70475035 | N62: =ABS(IF(L62 <= 0, L62,)) -> 0 | O62: =(B63 - B62) * (L63 + L62) / 2 -> 0.58671732 | P62: =IF(O62 >= 0, O62,) -> 0.58671732 | Q62: =ABS(IF(O62 <= 0, O62,)) -> 0 | S62: =SUM($P$2:P62) -> 39.835509 | T62: =SUM($Q$2:Q62) -> 11.974941 | U62: =T62*'KERS System Values'!E$14 -> 7.012158
A63: Low | B63: 61 | C63: 61 | D63: 4.25 | E63: 0.16666667 | F63: ='Dynamic Data'!C$4*E63 -> 48 | G63: =(0.5*'Dynamic Data'!C$21*'Dynamic Data'!C$11*'Dynamic Data'!C$13*D63^2) -> 3.695135 | H63: ='Dynamic Data'!C$15 -> 56.5056 | I63: ='Dynamic Data'!C$15+G63+F63 -> 108.20074 | J63: =IF(I63 > 0, I63,) -> 108.20074 | K63: =IF(I63 <= 0, I63,)*-1 -> 0 | L63: =(D63/1000)*(('Dynamic Data'!C$4*9.81*'Dynamic Data'!C$10)+(0.5*'Dynamic Data'!C$21*'Dynamic Data'!C$11*'Dynamic Data'!C$13*D63^2)+('Dynamic Data'!C$4*'Dynamic Data'!C$18*E63)) -> 0.46868428 | M63: =IF(L63 > 0, L63,) -> 0.46868428 | N63: =ABS(IF(L63 <= 0, L63,)) -> 0 | O63: =(B64 - B63) * (L64 + L63) / 2 -> 0.45087954 | P63: =IF(O63 >= 0, O63,) -> 0.45087954 | Q63: =ABS(IF(O63 <= 0, O63,)) -> 0 | S63: =SUM($P$2:P63) -> 40.286388 | T63: =SUM($Q$2:Q63) -> 11.974941 | U63: =T63*'KERS System Values'!E$14 -> 7.012158
A64: Low | B64: 62 | C64: 62 | D64: 4.4166667 | E64: 0.125 | F64: ='Dynamic Data'!C$4*E64 -> 36 | G64: =(0.5*'Dynamic Data'!C$21*'Dynamic Data'!C$11*'Dynamic Data'!C$13*D64^2) -> 3.9906321 | H64: ='Dynamic Data'!C$15 -> 56.5056 | I64: ='Dynamic Data'!C$15+G64+F64 -> 96.496232 | J64: =IF(I64 > 0, I64,) -> 96.496232 | K64: =IF(I64 <= 0, I64,)*-1 -> 0 | L64: =(D64/1000)*(('Dynamic Data'!C$4*9.81*'Dynamic Data'!C$10)+(0.5*'Dynamic Data'!C$21*'Dynamic Data'!C$11*'Dynamic Data'!C$13*D64^2)+('Dynamic Data'!C$4*'Dynamic Data'!C$18*E64)) -> 0.4330748 | M64: =IF(L64 > 0, L64,) -> 0.4330748 | N64: =ABS(IF(L64 <= 0, L64,)) -> 0 | O64: =(B65 - B64) * (L65 + L64) / 2 -> 0.46567127 | P64: =IF(O64 >= 0, O64,) -> 0.46567127 | Q64: =ABS(IF(O64 <= 0, O64,)) -> 0 | S64: =SUM($P$2:P64) -> 40.752059 | T64: =SUM($Q$2:Q64) -> 11.974941 | U64: =T64*'KERS System Values'!E$14 -> 7.012158
A65: Low | B65: 63 | C65: 63 | D65: 4.5 | E65: 0.16666667 | F65: ='Dynamic Data'!C$4*E65 -> 48 | G65: =(0.5*'Dynamic Data'!C$21*'Dynamic Data'!C$11*'Dynamic Data'!C$13*D65^2) -> 4.1426427 | H65: ='Dynamic Data'!C$15 -> 56.5056 | I65: ='Dynamic Data'!C$15+G65+F65 -> 108.64824 | J65: =IF(I65 > 0, I65,) -> 108.64824 | K65: =IF(I65 <= 0, I65,)*-1 -> 0 | L65: =(D65/1000)*(('Dynamic Data'!C$4*9.81*'Dynamic Data'!C$10)+(0.5*'Dynamic Data'!C$21*'Dynamic Data'!C$11*'Dynamic Data'!C$13*D65^2)+('Dynamic Data'!C$4*'Dynamic Data'!C$18*E65)) -> 0.49826773 | M65: =IF(L65 > 0, L65,) -> 0.49826773 | N65: =ABS(IF(L65 <= 0, L65,)) -> 0 | O65: =(B66 - B65) * (L66 + L65) / 2 -> 0.55287709 | P65: =IF(O65 >= 0, O65,) -> 0.55287709 | Q65: =ABS(IF(O65 <= 0, O65,)) -> 0 | S65: =SUM($P$2:P65) -> 41.304936 | T65: =SUM($Q$2:Q65) -> 11.974941 | U65: =T65*'KERS System Values'!E$14 -> 7.012158
A66: Low | B66: 64 | C66: 64 | D66: 4.75 | E66: 0.22222222 | F66: ='Dynamic Data'!C$4*E66 -> 64 | G66: =(0.5*'Dynamic Data'!C$21*'Dynamic Data'!C$11*'Dynamic Data'!C$13*D66^2) -> 4.6157223 | H66: ='Dynamic Data'!C$15 -> 56.5056 | I66: ='Dynamic Data'!C$15+G66+F66 -> 125.12132 | J66: =IF(I66 > 0, I66,) -> 125.12132 | K66: =IF(I66 <= 0, I66,)*-1 -> 0 | L66: =(D66/1000)*(('Dynamic Data'!C$4*9.81*'Dynamic Data'!C$10)+(0.5*'Dynamic Data'!C$21*'Dynamic Data'!C$11*'Dynamic Data'!C$13*D66^2)+('Dynamic Data'!C$4*'Dynamic Data'!C$18*E66)) -> 0.60748644 | M66: =IF(L66 > 0, L66,) -> 0.60748644 | N66: =ABS(IF(L66 <= 0, L66,)) -> 0 | O66: =(B67 - B66) * (L67 + L66) / 2 -> 0.55897186 | P66: =IF(O66 >= 0, O66,) -> 0.55897186 | Q66: =ABS(IF(O66 <= 0, O66,)) -> 0 | S66: =SUM($P$2:P66) -> 41.863908 | T66: =SUM($Q$2:Q66) -> 11.974941 | U66: =T66*'KERS System Values'!E$14 -> 7.012158
A67: Low | B67: 65 | C67: 65 | D67: 4.9444444 | E67: 0.13888889 | F67: ='Dynamic Data'!C$4*E67 -> 40 | G67: =(0.5*'Dynamic Data'!C$21*'Dynamic Data'!C$11*'Dynamic Data'!C$13*D67^2) -> 5.0013524 | H67: ='Dynamic Data'!C$15 -> 56.5056 | I67: ='Dynamic Data'!C$15+G67+F67 -> 101.50695 | J67: =IF(I67 > 0, I67,) -> 101.50695 | K67: =IF(I67 <= 0, I67,)*-1 -> 0 | L67: =(D67/1000)*(('Dynamic Data'!C$4*9.81*'Dynamic Data'!C$10)+(0.5*'Dynamic Data'!C$21*'Dynamic Data'!C$11*'Dynamic Data'!C$13*D67^2)+('Dynamic Data'!C$4*'Dynamic Data'!C$18*E67)) -> 0.51045729 | M67: =IF(L67 > 0, L67,) -> 0.51045729 | N67: =ABS(IF(L67 <= 0, L67,)) -> 0 | O67: =(B68 - B67) * (L68 + L67) / 2 -> 0.47322283 | P67: =IF(O67 >= 0, O67,) -> 0.47322283 | Q67: =ABS(IF(O67 <= 0, O67,)) -> 0 | S67: =SUM($P$2:P67) -> 42.337131 | T67: =SUM($Q$2:Q67) -> 11.974941 | U67: =T67*'KERS System Values'!E$14 -> 7.012158
... A99: Low | B99: 97 | C99: 97 | D99: 1 | E99: -0.5 | F99: ='Dynamic Data'!C$4*E99 -> -144 | G99: =(0.5*'Dynamic Data'!C$21*'Dynamic Data'!C$11*'Dynamic Data'!C$13*D99^2) -> 0.20457495 | H99: ='Dynamic Data'!C$15 -> 56.5056 | I99: ='Dynamic Data'!C$15+G99+F99 -> -87.289825 | J99: =IF(I99 > 0, I99,) -> 0 | K99: =IF(I99 <= 0, I99,)*-1 -> 87.289825 | L99: =(D99/1000)*(('Dynamic Data'!C$4*9.81*'Dynamic Data'!C$10)+(0.5*'Dynamic Data'!C$21*'Dynamic Data'!C$11*'Dynamic Data'!C$13*D99^2)+('Dynamic Data'!C$4*'Dynamic Data'!C$18*E99)) -> -0.093523585 | M99: =IF(L99 > 0, L99,) -> 0 | N99: =ABS(IF(L99 <= 0, L99,)) -> 0.093523585 | O99: =(B100 - B99) * (L100 + L99) / 2 -> -0.075377608 | P99: =IF(O99 >= 0, O99,) -> 0 | Q99: =ABS(IF(O99 <= 0, O99,)) -> 0.075377608 | S99: =SUM($P$2:P99) -> 67.177352 | T99: =SUM($Q$2:Q99) -> 22.207733 | U99: =T99*'KERS System Values'!E$14 -> 13.004166
A100: Low | B100: 98 | C100: 98 | D100: 0.61111111 | E100: -0.5 | F100: ='Dynamic Data'!C$4*E100 -> -144 | G100: =(0.5*'Dynamic Data'!C$21*'Dynamic Data'!C$11*'Dynamic Data'!C$13*D100^2) -> 0.076399903 | H100: ='Dynamic Data'!C$15 -> 56.5056 | I100: ='Dynamic Data'!C$15+G100+F100 -> -87.418 | J100: =IF(I100 > 0, I100,) -> 0 | K100: =IF(I100 <= 0, I100,)*-1 -> 87.418 | L100: =(D100/1000)*(('Dynamic Data'!C$4*9.81*'Dynamic Data'!C$10)+(0.5*'Dynamic Data'!C$21*'Dynamic Data'!C$11*'Dynamic Data'!C$13*D100^2)+('Dynamic Data'!C$4*'Dynamic Data'!C$18*E100)) -> -0.057231631 | M100: =IF(L100 > 0, L100,) -> 0 | N100: =ABS(IF(L100 <= 0, L100,)) -> 0.057231631 | O100: =(B101 - B100) * (L101 + L100) / 2 -> -0.028615816 | P100: =IF(O100 >= 0, O100,) -> 0 | Q100: =ABS(IF(O100 <= 0, O100,)) -> 0.028615816 | R100: =SUM(Q89:Q100) -> 10.261407 | S100: =SUM($P$2:P100) -> 67.177352 | T100: =SUM($Q$2:Q100) -> 22.236348 | U100: =T100*'KERS System Values'!E$14 -> 13.020923
A101: Low | B101: 99 | C101: 99 | D101: 0 | E101: -0.30555556 | F101: ='Dynamic Data'!C$4*E101 -> -88 | G101: =(0.5*'Dynamic Data'!C$21*'Dynamic Data'!C$11*'Dynamic Data'!C$13*D101^2) -> 0 | H101: ='Dynamic Data'!C$15 -> 56.5056 | I101: ='Dynamic Data'!C$15+G101+F101 -> -31.4944 | J101: =IF(I101 > 0, I101,) -> 0 | K101: =IF(I101 <= 0, I101,)*-1 -> 31.4944 | L101: =(D101/1000)*(('Dynamic Data'!C$4*9.81*'Dynamic Data'!C$10)+(0.5*'Dynamic Data'!C$21*'Dynamic Data'!C$11*'Dynamic Data'!C$13*D101^2)+('Dynamic Data'!C$4*'Dynamic Data'!C$18*E101)) -> 0 | M101: =IF(L101 > 0, L101,) -> 0 | N101: =ABS(IF(L101 <= 0, L101,)) -> 0 | O101: =(B102 - B101) * (L102 + L101) / 2 -> 0 | P101: =IF(O101 >= 0, O101,) -> 0 | Q101: =ABS(IF(O101 <= 0, O101,)) -> 0 | S101: =SUM($P$2:P101) -> 67.177352 | T101: =SUM($Q$2:Q101) -> 22.236348 | U101: =T101*'KERS System Values'!E$14 -> 13.020923
A102: Low | B102: 100 | C102: 100 | D102: 0 | E102: 0 | F102: ='Dynamic Data'!C$4*E102 -> 0 | G102: =(0.5*'Dynamic Data'!C$21*'Dynamic Data'!C$11*'Dynamic Data'!C$13*D102^2) -> 0 | H102: ='Dynamic Data'!C$15 -> 56.5056 | I102: ='Dynamic Data'!C$15+G102+F102 -> 56.5056 | J102: =IF(I102 > 0, I102,) -> 56.5056 | K102: =IF(I102 <= 0, I102,)*-1 -> 0 | L102: =(D102/1000)*(('Dynamic Data'!C$4*9.81*'Dynamic Data'!C$10)+(0.5*'Dynamic Data'!C$21*'Dynamic Data'!C$11*'Dynamic Data'!C$13*D102^2)+('Dynamic Data'!C$4*'Dynamic Data'!C$18*E102)) -> 0 | M102: =IF(L102 > 0, L102,) -> 0 | N102: =ABS(IF(L102 <= 0, L102,)) -> 0 | O102: =(B103 - B102) * (L103 + L102) / 2 -> 0 | P102: =IF(O102 >= 0, O102,) -> 0 | Q102: =ABS(IF(O102 <= 0, O102,)) -> 0 | S102: =SUM($P$2:P102) -> 67.177352 | T102: =SUM($Q$2:Q102) -> 22.236348 | U102: =T102*'KERS System Values'!E$14 -> 13.020923
A103: Low | B103: 101 | C103: 101 | D103: 0 | E103: 0 | F103: ='Dynamic Data'!C$4*E103 -> 0 | G103: =(0.5*'Dynamic Data'!C$21*'Dynamic Data'!C$11*'Dynamic Data'!C$13*D103^2) -> 0 | H103: ='Dynamic Data'!C$15 -> 56.5056 | I103: ='Dynamic Data'!C$15+G103+F103 -> 56.5056 | J103: =IF(I103 > 0, I103,) -> 56.5056 | K103: =IF(I103 <= 0, I103,)*-1 -> 0 | L103: =(D103/1000)*(('Dynamic Data'!C$4*9.81*'Dynamic Data'!C$10)+(0.5*'Dynamic Data'!C$21*'Dynamic Data'!C$11*'Dynamic Data'!C$13*D103^2)+('Dynamic Data'!C$4*'Dynamic Data'!C$18*E103)) -> 0 | M103: =IF(L103 > 0, L103,) -> 0 | N103: =ABS(IF(L103 <= 0, L103,)) -> 0 | O103: =(B104 - B103) * (L104 + L103) / 2 -> 0 | P103: =IF(O103 >= 0, O103,) -> 0 | Q103: =ABS(IF(O103 <= 0, O103,)) -> 0 | S103: =SUM($P$2:P103) -> 67.177352 | T103: =SUM($Q$2:Q103) -> 22.236348 | U103: =T103*'KERS System Values'!E$14 -> 13.020923
A104: Low | B104: 102 | C104: 102 | D104: 0 | E104: 0 | F104: ='Dynamic Data'!C$4*E104 -> 0 | G104: =(0.5*'Dynamic Data'!C$21*'Dynamic Data'!C$11*'Dynamic Data'!C$13*D104^2) -> 0 | H104: ='Dynamic Data'!C$15 -> 56.5056 | I104: ='Dynamic Data'!C$15+G104+F104 -> 56.5056 | J104: =IF(I104 > 0, I104,) -> 56.5056 | K104: =IF(I104 <= 0, I104,)*-1 -> 0 | L104: =(D104/1000)*(('Dynamic Data'!C$4*9.81*'Dynamic Data'!C$10)+(0.5*'Dynamic Data'!C$21*'Dynamic Data'!C$11*'Dynamic Data'!C$13*D104^2)+('Dynamic Data'!C$4*'Dynamic Data'!C$18*E104)) -> 0 | M104: =IF(L104 > 0, L104,) -> 0 | N104: =ABS(IF(L104 <= 0, L104,)) -> 0 | O104: =(B105 - B104) * (L105 + L104) / 2 -> 0 | P104: =IF(O104 >= 0, O104,) -> 0 | Q104: =ABS(IF(O104 <= 0, O104,)) -> 0 | S104: =SUM($P$2:P104) -> 67.177352 | T104: =SUM($Q$2:Q104) -> 22.236348 | U104: =T104*'KERS System Values'!E$14 -> 13.020923
A105: Low | B105: 103 | C105: 103 | D105: 0 | E105: 0 | F105: ='Dynamic Data'!C$4*E105 -> 0 | G105: =(0.5*'Dynamic Data'!C$21*'Dynamic Data'!C$11*'Dynamic Data'!C$13*D105^2) -> 0 | H105: ='Dynamic Data'!C$15 -> 56.5056 | I105: ='Dynamic Data'!C$15+G105+F105 -> 56.5056 | J105: =IF(I105 > 0, I105,) -> 56.5056 | K105: =IF(I105 <= 0, I105,)*-1 -> 0 | L105: =(D105/1000)*(('Dynamic Data'!C$4*9.81*'Dynamic Data'!C$10)+(0.5*'Dynamic Data'!C$21*'Dynamic Data'!C$11*'Dynamic Data'!C$13*D105^2)+('Dynamic Data'!C$4*'Dynamic Data'!C$18*E105)) -> 0 | M105: =IF(L105 > 0, L105,) -> 0 | N105: =ABS(IF(L105 <= 0, L105,)) -> 0 | O105: =(B106 - B105) * (L106 + L105) / 2 -> 0 | P105: =IF(O105 >= 0, O105,) -> 0 | Q105: =ABS(IF(O105 <= 0, O105,)) -> 0 | S105: =SUM($P$2:P105) -> 67.177352 | T105: =SUM($Q$2:Q105) -> 22.236348 | U105: =T105*'KERS System Values'!E$14 -> 13.020923
A106: Low | B106: 104 | C106: 104 | D106: 0 | E106: 0 | F106: ='Dynamic Data'!C$4*E106 -> 0 | G106: =(0.5*'Dynamic Data'!C$21*'Dynamic Data'!C$11*'Dynamic Data'!C$13*D106^2) -> 0 | H106: ='Dynamic Data'!C$15 -> 56.5056 | I106: ='Dynamic Data'!C$15+G106+F106 -> 56.5056 | J106: =IF(I106 > 0, I106,) -> 56.5056 | K106: =IF(I106 <= 0, I106,)*-1 -> 0 | L106: =(D106/1000)*(('Dynamic Data'!C$4*9.81*'Dynamic Data'!C$10)+(0.5*'Dynamic Data'!C$21*'Dynamic Data'!C$11*'Dynamic Data'!C$13*D106^2)+('Dynamic Data'!C$4*'Dynamic Data'!C$18*E106)) -> 0 | M106: =IF(L106 > 0, L106,) -> 0 | N106: =ABS(IF(L106 <= 0, L106,)) -> 0 | O106: =(B107 - B106) * (L107 + L106) / 2 -> 0 | P106: =IF(O106 >= 0, O106,) -> 0 | Q106: =ABS(IF(O106 <= 0, O106,)) -> 0 | S106: =SUM($P$2:P106) -> 67.177352 | T106: =SUM($Q$2:Q106) -> 22.236348 | U106: =T106*'KERS System Values'!E$14 -> 13.020923
A107: Low | B107: 105 | C107: 105 | D107: 0 | E107: 0 | F107: ='Dynamic Data'!C$4*E107 -> 0 | G107: =(0.5*'Dynamic Data'!C$21*'Dynamic Data'!C$11*'Dynamic Data'!C$13*D107^2) -> 0 | H107: ='Dynamic Data'!C$15 -> 56.5056 | I107: ='Dynamic Data'!C$15+G107+F107 -> 56.5056 | J107: =IF(I107 > 0, I107,) -> 56.5056 | K107: =IF(I107 <= 0, I107,)*-1 -> 0 | L107: =(D107/1000)*(('Dynamic Data'!C$4*9.81*'Dynamic Data'!C$10)+(0.5*'Dynamic Data'!C$21*'Dynamic Data'!C$11*'Dynamic Data'!C$13*D107^2)+('Dynamic Data'!C$4*'Dynamic Data'!C$18*E107)) -> 0 | M107: =IF(L107 > 0, L107,) -> 0 | N107: =ABS(IF(L107 <= 0, L107,)) -> 0 | O107: =(B108 - B107) * (L108 + L107) / 2 -> 0 | P107: =IF(O107 >= 0, O107,) -> 0 | Q107: =ABS(IF(O107 <= 0, O107,)) -> 0 | S107: =SUM($P$2:P107) -> 67.177352 | T107: =SUM($Q$2:Q107) -> 22.236348 | U107: =T107*'KERS System Values'!E$14 -> 13.020923
A108: Low | B108: 106 | C108: 106 | D108: 0 | E108: 0 | F108: ='Dynamic Data'!C$4*E108 -> 0 | G108: =(0.5*'Dynamic Data'!C$21*'Dynamic Data'!C$11*'Dynamic Data'!C$13*D108^2) -> 0 | H108: ='Dynamic Data'!C$15 -> 56.5056 | I108: ='Dynamic Data'!C$15+G108+F108 -> 56.5056 | J108: =IF(I108 > 0, I108,) -> 56.5056 | K108: =IF(I108 <= 0, I108,)*-1 -> 0 | L108: =(D108/1000)*(('Dynamic Data'!C$4*9.81*'Dynamic Data'!C$10)+(0.5*'Dynamic Data'!C$21*'Dynamic Data'!C$11*'Dynamic Data'!C$13*D108^2)+('Dynamic Data'!C$4*'Dynamic Data'!C$18*E108)) -> 0 | M108: =IF(L108 > 0, L108,) -> 0 | N108: =ABS(IF(L108 <= 0, L108,)) -> 0 | O108: =(B109 - B108) * (L109 + L108) / 2 -> 0 | P108: =IF(O108 >= 0, O108,) -> 0 | Q108: =ABS(IF(O108 <= 0, O108,)) -> 0 | S108: =SUM($P$2:P108) -> 67.177352 | T108: =SUM($Q$2:Q108) -> 22.236348 | U108: =T108*'KERS System Values'!E$14 -> 13.020923
A109: Low | B109: 107 | C109: 107 | D109: 0 | E109: 0 | F109: ='Dynamic Data'!C$4*E109 -> 0 | G109: =(0.5*'Dynamic Data'!C$21*'Dynamic Data'!C$11*'Dynamic Data'!C$13*D109^2) -> 0 | H109: ='Dynamic Data'!C$15 -> 56.5056 | I109: ='Dynamic Data'!C$15+G109+F109 -> 56.5056 | J109: =IF(I109 > 0, I109,) -> 56.5056 | K109: =IF(I109 <= 0, I109,)*-1 -> 0 | L109: =(D109/1000)*(('Dynamic Data'!C$4*9.81*'Dynamic Data'!C$10)+(0.5*'Dynamic Data'!C$21*'Dynamic Data'!C$11*'Dynamic Data'!C$13*D109^2)+('Dynamic Data'!C$4*'Dynamic Data'!C$18*E109)) -> 0 | M109: =IF(L109 > 0, L109,) -> 0 | N109: =ABS(IF(L109 <= 0, L109,)) -> 0 | O109: =(B110 - B109) * (L110 + L109) / 2 -> 0 | P109: =IF(O109 >= 0, O109,) -> 0 | Q109: =ABS(IF(O109 <= 0, O109,)) -> 0 | S109: =SUM($P$2:P109) -> 67.177352 | T109: =SUM($Q$2:Q109) -> 22.236348 | U109: =T109*'KERS System Values'!E$14 -> 13.020923
A110: Low | B110: 108 | C110: 108 | D110: 0 | E110: 0 | F110: ='Dynamic Data'!C$4*E110 -> 0 | G110: =(0.5*'Dynamic Data'!C$21*'Dynamic Data'!C$11*'Dynamic Data'!C$13*D110^2) -> 0 | H110: ='Dynamic Data'!C$15 -> 56.5056 | I110: ='Dynamic Data'!C$15+G110+F110 -> 56.5056 | J110: =IF(I110 > 0, I110,) -> 56.5056 | K110: =IF(I110 <= 0, I110,)*-1 -> 0 | L110: =(D110/1000)*(('Dynamic Data'!C$4*9.81*'Dynamic Data'!C$10)+(0.5*'Dynamic Data'!C$21*'Dynamic Data'!C$11*'Dynamic Data'!C$13*D110^2)+('Dynamic Data'!C$4*'Dynamic Data'!C$18*E110)) -> 0 | M110: =IF(L110 > 0, L110,) -> 0 | N110: =ABS(IF(L110 <= 0, L110,)) -> 0 | O110: =(B111 - B110) * (L111 + L110) / 2 -> 0 | P110: =IF(O110 >= 0, O110,) -> 0 | Q110: =ABS(IF(O110 <= 0, O110,)) -> 0 | S110: =SUM($P$2:P110) -> 67.177352 | T110: =SUM($Q$2:Q110) -> 22.236348 | U110: =T110*'KERS System Values'!E$14 -> 13.020923
A111: Low | B111: 109 | C111: 109 | D111: 0 | E111: 0 | F111: ='Dynamic Data'!C$4*E111 -> 0 | G111: =(0.5*'Dynamic Data'!C$21*'Dynamic Data'!C$11*'Dynamic Data'!C$13*D111^2) -> 0 | H111: ='Dynamic Data'!C$15 -> 56.5056 | I111: ='Dynamic Data'!C$15+G111+F111 -> 56.5056 | J111: =IF(I111 > 0, I111,) -> 56.5056 | K111: =IF(I111 <= 0, I111,)*-1 -> 0 | L111: =(D111/1000)*(('Dynamic Data'!C$4*9.81*'Dynamic Data'!C$10)+(0.5*'Dynamic Data'!C$21*'Dynamic Data'!C$11*'Dynamic Data'!C$13*D111^2)+('Dynamic Data'!C$4*'Dynamic Data'!C$18*E111)) -> 0 | M111: =IF(L111 > 0, L111,) -> 0 | N111: =ABS(IF(L111 <= 0, L111,)) -> 0 | O111: =(B112 - B111) * (L112 + L111) / 2 -> 0 | P111: =IF(O111 >= 0, O111,) -> 0 | Q111: =ABS(IF(O111 <= 0, O111,)) -> 0 | S111: =SUM($P$2:P111) -> 67.177352 | T111: =SUM($Q$2:Q111) -> 22.236348 | U111: =T111*'KERS System Values'!E$14 -> 13.020923
A112: Low | B112: 110 | C112: 110 | D112: 0 | E112: 0 | F112: ='Dynamic Data'!C$4*E112 -> 0 | G112: =(0.5*'Dynamic Data'!C$21*'Dynamic Data'!C$11*'Dynamic Data'!C$13*D112^2) -> 0 | H112: ='Dynamic Data'!C$15 -> 56.5056 | I112: ='Dynamic Data'!C$15+G112+F112 -> 56.5056 | J112: =IF(I112 > 0, I112,) -> 56.5056 | K112: =IF(I112 <= 0, I112,)*-1 -> 0 | L112: =(D112/1000)*(('Dynamic Data'!C$4*9.81*'Dynamic Data'!C$10)+(0.5*'Dynamic Data'!C$21*'Dynamic Data'!C$11*'Dynamic Data'!C$13*D112^2)+('Dynamic Data'!C$4*'Dynamic Data'!C$18*E112)) -> 0 | M112: =IF(L112 > 0, L112,) -> 0 | N112: =ABS(IF(L112 <= 0, L112,)) -> 0 | O112: =(B113 - B112) * (L113 + L112) / 2 -> 0 | P112: =IF(O112 >= 0, O112,) -> 0 | Q112: =ABS(IF(O112 <= 0, O112,)) -> 0 | S112: =SUM($P$2:P112) -> 67.177352 | T112: =SUM($Q$2:Q112) -> 22.236348 | U112: =T112*'KERS System Values'!E$14 -> 13.020923
... A156: Low | B156: 154 | C156: 154 | D156: 4.8055556 | E156: -1.2916667 | F156: ='Dynamic Data'!C$4*E156 -> -372 | G156: =(0.5*'Dynamic Data'!C$21*'Dynamic Data'!C$11*'Dynamic Data'!C$13*D156^2) -> 4.7243238 | H156: ='Dynamic Data'!C$15 -> 56.5056 | I156: ='Dynamic Data'!C$15+G156+F156 -> -310.77008 | J156: =IF(I156 > 0, I156,) -> 0 | K156: =IF(I156 <= 0, I156,)*-1 -> 310.77008 | L156: =(D156/1000)*(('Dynamic Data'!C$4*9.81*'Dynamic Data'!C$10)+(0.5*'Dynamic Data'!C$21*'Dynamic Data'!C$11*'Dynamic Data'!C$13*D156^2)+('Dynamic Data'!C$4*'Dynamic Data'!C$18*E156)) -> -1.570811 | M156: =IF(L156 > 0, L156,) -> 0 | N156: =ABS(IF(L156 <= 0, L156,)) -> 1.570811 | O156: =(B157 - B156) * (L157 + L156) / 2 -> -1.0844332 | P156: =IF(O156 >= 0, O156,) -> 0 | Q156: =ABS(IF(O156 <= 0, O156,)) -> 1.0844332 | S156: =SUM($P$2:P156) -> 81.372687 | T156: =SUM($Q$2:Q156) -> 28.079977 | U156: =T156*'KERS System Values'!E$14 -> 16.442773
A157: Low | B157: 155 | C157: 155 | D157: 3.6944444 | E157: -0.73611111 | F157: ='Dynamic Data'!C$4*E157 -> -212 | G157: =(0.5*'Dynamic Data'!C$21*'Dynamic Data'!C$11*'Dynamic Data'!C$13*D157^2) -> 2.7922271 | H157: ='Dynamic Data'!C$15 -> 56.5056 | I157: ='Dynamic Data'!C$15+G157+F157 -> -152.70217 | J157: =IF(I157 > 0, I157,) -> 0 | K157: =IF(I157 <= 0, I157,)*-1 -> 152.70217 | L157: =(D157/1000)*(('Dynamic Data'!C$4*9.81*'Dynamic Data'!C$10)+(0.5*'Dynamic Data'!C$21*'Dynamic Data'!C$11*'Dynamic Data'!C$13*D157^2)+('Dynamic Data'!C$4*'Dynamic Data'!C$18*E157)) -> -0.59805538 | M157: =IF(L157 > 0, L157,) -> 0 | N157: =ABS(IF(L157 <= 0, L157,)) -> 0.59805538 | O157: =(B158 - B157) * (L158 + L157) / 2 -> -0.24975013 | P157: =IF(O157 >= 0, O157,) -> 0 | Q157: =ABS(IF(O157 <= 0, O157,)) -> 0.24975013 | R157: =SUM(Q153:Q157) -> 6.0933789 | S157: =SUM($P$2:P157) -> 81.372687 | T157: =SUM($Q$2:Q157) -> 28.329727 | U157: =T157*'KERS System Values'!E$14 -> 16.589019
A158: Low | B158: 156 | C158: 156 | D158: 3.3333333 | E158: -0.097222222 | F158: ='Dynamic Data'!C$4*E158 -> -28 | G158: =(0.5*'Dynamic Data'!C$21*'Dynamic Data'!C$11*'Dynamic Data'!C$13*D158^2) -> 2.273055 | H158: ='Dynamic Data'!C$15 -> 56.5056 | I158: ='Dynamic Data'!C$15+G158+F158 -> 30.778655 | J158: =IF(I158 > 0, I158,) -> 30.778655 | K158: =IF(I158 <= 0, I158,)*-1 -> 0 | L158: =(D158/1000)*(('Dynamic Data'!C$4*9.81*'Dynamic Data'!C$10)+(0.5*'Dynamic Data'!C$21*'Dynamic Data'!C$11*'Dynamic Data'!C$13*D158^2)+('Dynamic Data'!C$4*'Dynamic Data'!C$18*E158)) -> 0.098555117 | M158: =IF(L158 > 0, L158,) -> 0.098555117 | N158: =ABS(IF(L158 <= 0, L158,)) -> 0 | O158: =(B159 - B158) * (L159 + L158) / 2 -> 0.30591156 | P158: =IF(O158 >= 0, O158,) -> 0.30591156 | Q158: =ABS(IF(O158 <= 0, O158,)) -> 0 | S158: =SUM($P$2:P158) -> 81.678599 | T158: =SUM($Q$2:Q158) -> 28.329727 | U158: =T158*'KERS System Values'!E$14 -> 16.589019
A159: Low | B159: 157 | C159: 157 | D159: 3.5 | E159: 0.29166667 | F159: ='Dynamic Data'!C$4*E159 -> 84 | G159: =(0.5*'Dynamic Data'!C$21*'Dynamic Data'!C$11*'Dynamic Data'!C$13*D159^2) -> 2.5060431 | H159: ='Dynamic Data'!C$15 -> 56.5056 | I159: ='Dynamic Data'!C$15+G159+F159 -> 143.01164 | J159: =IF(I159 > 0, I159,) -> 143.01164 | K159: =IF(I159 <= 0, I159,)*-1 -> 0 | L159: =(D159/1000)*(('Dynamic Data'!C$4*9.81*'Dynamic Data'!C$10)+(0.5*'Dynamic Data'!C$21*'Dynamic Data'!C$11*'Dynamic Data'!C$13*D159^2)+('Dynamic Data'!C$4*'Dynamic Data'!C$18*E159)) -> 0.51326801 | M159: =IF(L159 > 0, L159,) -> 0.51326801 | N159: =ABS(IF(L159 <= 0, L159,)) -> 0 | O159: =(B160 - B159) * (L160 + L159) / 2 -> 0.74936868 | P159: =IF(O159 >= 0, O159,) -> 0.74936868 | Q159: =ABS(IF(O159 <= 0, O159,)) -> 0 | S159: =SUM($P$2:P159) -> 82.427967 | T159: =SUM($Q$2:Q159) -> 28.329727 | U159: =T159*'KERS System Values'!E$14 -> 16.589019
A160: Low | B160: 158 | C160: 158 | D160: 3.9166667 | E160: 0.63888889 | F160: ='Dynamic Data'!C$4*E160 -> 184 | G160: =(0.5*'Dynamic Data'!C$21*'Dynamic Data'!C$11*'Dynamic Data'!C$13*D160^2) -> 3.1382365 | H160: ='Dynamic Data'!C$15 -> 56.5056 | I160: ='Dynamic Data'!C$15+G160+F160 -> 243.64384 | J160: =IF(I160 > 0, I160,) -> 243.64384 | K160: =IF(I160 <= 0, I160,)*-1 -> 0 | L160: =(D160/1000)*(('Dynamic Data'!C$4*9.81*'Dynamic Data'!C$10)+(0.5*'Dynamic Data'!C$21*'Dynamic Data'!C$11*'Dynamic Data'!C$13*D160^2)+('Dynamic Data'!C$4*'Dynamic Data'!C$18*E160)) -> 0.98546935 | M160: =IF(L160 > 0, L160,) -> 0.98546935 | N160: =ABS(IF(L160 <= 0, L160,)) -> 0 | O160: =(B161 - B160) * (L161 + L160) / 2 -> 1.237029 | P160: =IF(O160 >= 0, O160,) -> 1.237029 | Q160: =ABS(IF(O160 <= 0, O160,)) -> 0 | S160: =SUM($P$2:P160) -> 83.664996 | T160: =SUM($Q$2:Q160) -> 28.329727 | U160: =T160*'KERS System Values'!E$14 -> 16.589019
A161: Low | B161: 159 | C161: 159 | D161: 4.7777778 | E161: 0.83333333 | F161: ='Dynamic Data'!C$4*E161 -> 240 | G161: =(0.5*'Dynamic Data'!C$21*'Dynamic Data'!C$11*'Dynamic Data'!C$13*D161^2) -> 4.6698652 | H161: ='Dynamic Data'!C$15 -> 56.5056 | I161: ='Dynamic Data'!C$15+G161+F161 -> 301.17547 | J161: =IF(I161 > 0, I161,) -> 301.17547 | K161: =IF(I161 <= 0, I161,)*-1 -> 0 | L161: =(D161/1000)*(('Dynamic Data'!C$4*9.81*'Dynamic Data'!C$10)+(0.5*'Dynamic Data'!C$21*'Dynamic Data'!C$11*'Dynamic Data'!C$13*D161^2)+('Dynamic Data'!C$4*'Dynamic Data'!C$18*E161)) -> 1.4885886 | M161: =IF(L161 > 0, L161,) -> 1.4885886 | N161: =ABS(IF(L161 <= 0, L161,)) -> 0 | O161: =(B162 - B161) * (L162 + L161) / 2 -> 1.642147 | P161: =IF(O161 >= 0, O161,) -> 1.642147 | Q161: =ABS(IF(O161 <= 0, O161,)) -> 0 | S161: =SUM($P$2:P161) -> 85.307143 | T161: =SUM($Q$2:Q161) -> 28.329727 | U161: =T161*'KERS System Values'!E$14 -> 16.589019
A162: Low | B162: 160 | C162: 160 | D162: 5.5833333 | E162: 0.86111111 | F162: ='Dynamic Data'!C$4*E162 -> 248 | G162: =(0.5*'Dynamic Data'!C$21*'Dynamic Data'!C$11*'Dynamic Data'!C$13*D162^2) -> 6.3773399 | H162: ='Dynamic Data'!C$15 -> 56.5056 | I162: ='Dynamic Data'!C$15+G162+F162 -> 310.88294 | J162: =IF(I162 > 0, I162,) -> 310.88294 | K162: =IF(I162 <= 0, I162,)*-1 -> 0 | L162: =(D162/1000)*(('Dynamic Data'!C$4*9.81*'Dynamic Data'!C$10)+(0.5*'Dynamic Data'!C$21*'Dynamic Data'!C$11*'Dynamic Data'!C$13*D162^2)+('Dynamic Data'!C$4*'Dynamic Data'!C$18*E162)) -> 1.7957053 | M162: =IF(L162 > 0, L162,) -> 1.7957053 | N162: =ABS(IF(L162 <= 0, L162,)) -> 0 | O162: =(B163 - B162) * (L163 + L162) / 2 -> 1.8419761 | P162: =IF(O162 >= 0, O162,) -> 1.8419761 | Q162: =ABS(IF(O162 <= 0, O162,)) -> 0 | S162: =SUM($P$2:P162) -> 87.149119 | T162: =SUM($Q$2:Q162) -> 28.329727 | U162: =T162*'KERS System Values'!E$14 -> 16.589019
A163: Low | B163: 161 | C163: 161 | D163: 6.5 | E163: 0.75 | F163: ='Dynamic Data'!C$4*E163 -> 216 | G163: =(0.5*'Dynamic Data'!C$21*'Dynamic Data'!C$11*'Dynamic Data'!C$13*D163^2) -> 8.6432916 | H163: ='Dynamic Data'!C$15 -> 56.5056 | I163: ='Dynamic Data'!C$15+G163+F163 -> 281.14889 | J163: =IF(I163 > 0, I163,) -> 281.14889 | K163: =IF(I163 <= 0, I163,)*-1 -> 0 | L163: =(D163/1000)*(('Dynamic Data'!C$4*9.81*'Dynamic Data'!C$10)+(0.5*'Dynamic Data'!C$21*'Dynamic Data'!C$11*'Dynamic Data'!C$13*D163^2)+('Dynamic Data'!C$4*'Dynamic Data'!C$18*E163)) -> 1.888247 | M163: =IF(L163 > 0, L163,) -> 1.888247 | N163: =ABS(IF(L163 <= 0, L163,)) -> 0 | O163: =(B164 - B163) * (L164 + L163) / 2 -> 1.8013576 | P163: =IF(O163 >= 0, O163,) -> 1.8013576 | Q163: =ABS(IF(O163 <= 0, O163,)) -> 0 | S163: =SUM($P$2:P163) -> 88.950477 | T163: =SUM($Q$2:Q163) -> 28.329727 | U163: =T163*'KERS System Values'!E$14 -> 16.589019
A164: Low | B164: 162 | C164: 162 | D164: 7.0833333 | E164: 0.58333333 | F164: ='Dynamic Data'!C$4*E164 -> 168 | G164: =(0.5*'Dynamic Data'!C$21*'Dynamic Data'!C$11*'Dynamic Data'!C$13*D164^2) -> 10.264264 | H164: ='Dynamic Data'!C$15 -> 56.5056 | I164: ='Dynamic Data'!C$15+G164+F164 -> 234.76986 | J164: =IF(I164 > 0, I164,) -> 234.76986 | K164: =IF(I164 <= 0, I164,)*-1 -> 0 | L164: =(D164/1000)*(('Dynamic Data'!C$4*9.81*'Dynamic Data'!C$10)+(0.5*'Dynamic Data'!C$21*'Dynamic Data'!C$11*'Dynamic Data'!C$13*D164^2)+('Dynamic Data'!C$4*'Dynamic Data'!C$18*E164)) -> 1.7144683 | M164: =IF(L164 > 0, L164,) -> 1.7144683 | N164: =ABS(IF(L164 <= 0, L164,)) -> 0 | O164: =(B165 - B164) * (L165 + L164) / 2 -> 1.7598173 | P164: =IF(O164 >= 0, O164,) -> 1.7598173 | Q164: =ABS(IF(O164 <= 0, O164,)) -> 0 | S164: =SUM($P$2:P164) -> 90.710294 | T164: =SUM($Q$2:Q164) -> 28.329727 | U164: =T164*'KERS System Values'!E$14 -> 16.589019
A165: Low | B165: 163 | C165: 163 | D165: 7.6666667 | E165: 0.55555556 | F165: ='Dynamic Data'!C$4*E165 -> 160 | G165: =(0.5*'Dynamic Data'!C$21*'Dynamic Data'!C$11*'Dynamic Data'!C$13*D165^2) -> 12.024461 | H165: ='Dynamic Data'!C$15 -> 56.5056 | I165: ='Dynamic Data'!C$15+G165+F165 -> 228.53006 | J165: =IF(I165 > 0, I165,) -> 228.53006 | K165: =IF(I165 <= 0, I165,)*-1 -> 0 | L165: =(D165/1000)*(('Dynamic Data'!C$4*9.81*'Dynamic Data'!C$10)+(0.5*'Dynamic Data'!C$21*'Dynamic Data'!C$11*'Dynamic Data'!C$13*D165^2)+('Dynamic Data'!C$4*'Dynamic Data'!C$18*E165)) -> 1.8051662 | M165: =IF(L165 > 0, L165,) -> 1.8051662 | N165: =ABS(IF(L165 <= 0, L165,)) -> 0 | O165: =(B166 - B165) * (L166 + L165) / 2 -> 1.7888253 | P165: =IF(O165 >= 0, O165,) -> 1.7888253 | Q165: =ABS(IF(O165 <= 0, O165,)) -> 0 | S165: =SUM($P$2:P165) -> 92.49912 | T165: =SUM($Q$2:Q165) -> 28.329727 | U165: =T165*'KERS System Values'!E$14 -> 16.589019
A166: Low | B166: 164 | C166: 164 | D166: 8.1944444 | E166: 0.48611111 | F166: ='Dynamic Data'!C$4*E166 -> 140 | G166: =(0.5*'Dynamic Data'!C$21*'Dynamic Data'!C$11*'Dynamic Data'!C$13*D166^2) -> 13.736987 | H166: ='Dynamic Data'!C$15 -> 56.5056 | I166: ='Dynamic Data'!C$15+G166+F166 -> 210.24259 | J166: =IF(I166 > 0, I166,) -> 210.24259 | K166: =IF(I166 <= 0, I166,)*-1 -> 0 | L166: =(D166/1000)*(('Dynamic Data'!C$4*9.81*'Dynamic Data'!C$10)+(0.5*'Dynamic Data'!C$21*'Dynamic Data'!C$11*'Dynamic Data'!C$13*D166^2)+('Dynamic Data'!C$4*'Dynamic Data'!C$18*E166)) -> 1.7724844 | M166: =IF(L166 > 0, L166,) -> 1.7724844 | N166: =ABS(IF(L166 <= 0, L166,)) -> 0 | O166: =(B167 - B166) * (L167 + L166) / 2 -> 1.6649312 | P166: =IF(O166 >= 0, O166,) -> 1.6649312 | Q166: =ABS(IF(O166 <= 0, O166,)) -> 0 | S166: =SUM($P$2:P166) -> 94.164051 | T166: =SUM($Q$2:Q166) -> 28.329727 | U166: =T166*'KERS System Values'!E$14 -> 16.589019
A167: Low | B167: 165 | C167: 165 | D167: 8.6388889 | E167: 0.36111111 | F167: ='Dynamic Data'!C$4*E167 -> 104 | G167: =(0.5*'Dynamic Data'!C$21*'Dynamic Data'!C$11*'Dynamic Data'!C$13*D167^2) -> 15.26751 | H167: ='Dynamic Data'!C$15 -> 56.5056 | I167: ='Dynamic Data'!C$15+G167+F167 -> 175.77311 | J167: =IF(I167 > 0, I167,) -> 175.77311 | K167: =IF(I167 <= 0, I167,)*-1 -> 0 | L167: =(D167/1000)*(('Dynamic Data'!C$4*9.81*'Dynamic Data'!C$10)+(0.5*'Dynamic Data'!C$21*'Dynamic Data'!C$11*'Dynamic Data'!C$13*D167^2)+('Dynamic Data'!C$4*'Dynamic Data'!C$18*E167)) -> 1.557378 | M167: =IF(L167 > 0, L167,) -> 1.557378 | N167: =ABS(IF(L167 <= 0, L167,)) -> 0 | O167: =(B168 - B167) * (L168 + L167) / 2 -> 1.4938373 | P167: =IF(O167 >= 0, O167,) -> 1.4938373 | Q167: =ABS(IF(O167 <= 0, O167,)) -> 0 | S167: =SUM($P$2:P167) -> 95.657888 | T167: =SUM($Q$2:Q167) -> 28.329727 | U167: =T167*'KERS System Values'!E$14 -> 16.589019
A168: Low | B168: 166 | C168: 166 | D168: 8.9166667 | E168: 0.29166667 | F168: ='Dynamic Data'!C$4*E168 -> 84 | G168: =(0.5*'Dynamic Data'!C$21*'Dynamic Data'!C$11*'Dynamic Data'!C$13*D168^2) -> 16.265129 | H168: ='Dynamic Data'!C$15 -> 56.5056 | I168: ='Dynamic Data'!C$15+G168+F168 -> 156.77073 | J168: =IF(I168 > 0, I168,) -> 156.77073 | K168: =IF(I168 <= 0, I168,)*-1 -> 0 | L168: =(D168/1000)*(('Dynamic Data'!C$4*9.81*'Dynamic Data'!C$10)+(0.5*'Dynamic Data'!C$21*'Dynamic Data'!C$11*'Dynamic Data'!C$13*D168^2)+('Dynamic Data'!C$4*'Dynamic Data'!C$18*E168)) -> 1.4302965 | M168: =IF(L168 > 0, L168,) -> 1.4302965 | N168: =ABS(IF(L168 <= 0, L168,)) -> 0 | O168: =(B169 - B168) * (L169 + L168) / 2 -> 1.6524605 | P168: =IF(O168 >= 0, O168,) -> 1.6524605 | Q168: =ABS(IF(O168 <= 0, O168,)) -> 0 | S168: =SUM($P$2:P168) -> 97.310349 | T168: =SUM($Q$2:Q168) -> 28.329727 | U168: =T168*'KERS System Values'!E$14 -> 16.589019
A169: Low | B169: 167 | C169: 167 | D169: 9.2222222 | E169: 0.43055556 | F169: ='Dynamic Data'!C$4*E169 -> 124 | G169: =(0.5*'Dynamic Data'!C$21*'Dynamic Data'!C$11*'Dynamic Data'!C$13*D169^2) -> 17.398973 | H169: ='Dynamic Data'!C$15 -> 56.5056 | I169: ='Dynamic Data'!C$15+G169+F169 -> 197.90457 | J169: =IF(I169 > 0, I169,) -> 197.90457 | K169: =IF(I169 <= 0, I169,)*-1 -> 0 | L169: =(D169/1000)*(('Dynamic Data'!C$4*9.81*'Dynamic Data'!C$10)+(0.5*'Dynamic Data'!C$21*'Dynamic Data'!C$11*'Dynamic Data'!C$13*D169^2)+('Dynamic Data'!C$4*'Dynamic Data'!C$18*E169)) -> 1.8746245 | M169: =IF(L169 > 0, L169,) -> 1.8746245 | N169: =ABS(IF(L169 <= 0, L169,)) -> 0 | O169: =(B170 - B169) * (L170 + L169) / 2 -> 2.1252652 | P169: =IF(O169 >= 0, O169,) -> 2.1252652 | Q169: =ABS(IF(O169 <= 0, O169,)) -> 0 | S169: =SUM($P$2:P169) -> 99.435614 | T169: =SUM($Q$2:Q169) -> 28.329727 | U169: =T169*'KERS System Values'!E$14 -> 16.589019
... A175: Low | B175: 173 | C175: 173 | D175: 8.6111111 | E175: -1.1111111 | F175: ='Dynamic Data'!C$4*E175 -> -320 | G175: =(0.5*'Dynamic Data'!C$21*'Dynamic Data'!C$11*'Dynamic Data'!C$13*D175^2) -> 15.169485 | H175: ='Dynamic Data'!C$15 -> 56.5056 | I175: ='Dynamic Data'!C$15+G175+F175 -> -248.32492 | J175: =IF(I175 > 0, I175,) -> 0 | K175: =IF(I175 <= 0, I175,)*-1 -> 248.32492 | L175: =(D175/1000)*(('Dynamic Data'!C$4*9.81*'Dynamic Data'!C$10)+(0.5*'Dynamic Data'!C$21*'Dynamic Data'!C$11*'Dynamic Data'!C$13*D175^2)+('Dynamic Data'!C$4*'Dynamic Data'!C$18*E175)) -> -2.2576414 | M175: =IF(L175 > 0, L175,) -> 0 | N175: =ABS(IF(L175 <= 0, L175,)) -> 2.2576414 | O175: =(B176 - B175) * (L176 + L175) / 2 -> -1.7678228 | P175: =IF(O175 >= 0, O175,) -> 0 | Q175: =ABS(IF(O175 <= 0, O175,)) -> 1.7678228 | S175: =SUM($P$2:P175) -> 103.34533 | T175: =SUM($Q$2:Q175) -> 33.310315 | U175: =T175*'KERS System Values'!E$14 -> 19.505498
A176: Low | B176: 174 | C176: 174 | D176: 7.5277778 | E176: -0.79166667 | F176: ='Dynamic Data'!C$4*E176 -> -228 | G176: =(0.5*'Dynamic Data'!C$21*'Dynamic Data'!C$11*'Dynamic Data'!C$13*D176^2) -> 11.592738 | H176: ='Dynamic Data'!C$15 -> 56.5056 | I176: ='Dynamic Data'!C$15+G176+F176 -> -159.90166 | J176: =IF(I176 > 0, I176,) -> 0 | K176: =IF(I176 <= 0, I176,)*-1 -> 159.90166 | L176: =(D176/1000)*(('Dynamic Data'!C$4*9.81*'Dynamic Data'!C$10)+(0.5*'Dynamic Data'!C$21*'Dynamic Data'!C$11*'Dynamic Data'!C$13*D176^2)+('Dynamic Data'!C$4*'Dynamic Data'!C$18*E176)) -> -1.2780042 | M176: =IF(L176 > 0, L176,) -> 0 | N176: =ABS(IF(L176 <= 0, L176,)) -> 1.2780042 | O176: =(B177 - B176) * (L177 + L176) / 2 -> -0.6982242 | P176: =IF(O176 >= 0, O176,) -> 0 | Q176: =ABS(IF(O176 <= 0, O176,)) -> 0.6982242 | R176: =SUM(Q173:Q176) -> 5.6788117 | S176: =SUM($P$2:P176) -> 103.34533 | T176: =SUM($Q$2:Q176) -> 34.008539 | U176: =T176*'KERS System Values'!E$14 -> 19.914356
A177: Low | B177: 175 | C177: 175 | D177: 7.0277778 | E177: -0.27777778 | F177: ='Dynamic Data'!C$4*E177 -> -80 | G177: =(0.5*'Dynamic Data'!C$21*'Dynamic Data'!C$11*'Dynamic Data'!C$13*D177^2) -> 10.103887 | H177: ='Dynamic Data'!C$15 -> 56.5056 | I177: ='Dynamic Data'!C$15+G177+F177 -> -13.390513 | J177: =IF(I177 > 0, I177,) -> 0 | K177: =IF(I177 <= 0, I177,)*-1 -> 13.390513 | L177: =(D177/1000)*(('Dynamic Data'!C$4*9.81*'Dynamic Data'!C$10)+(0.5*'Dynamic Data'!C$21*'Dynamic Data'!C$11*'Dynamic Data'!C$13*D177^2)+('Dynamic Data'!C$4*'Dynamic Data'!C$18*E177)) -> -0.11844415 | M177: =IF(L177 > 0, L177,) -> 0 | N177: =ABS(IF(L177 <= 0, L177,)) -> 0.11844415 | O177: =(B178 - B177) * (L178 + L177) / 2 -> 0.25971991 | P177: =IF(O177 >= 0, O177,) -> 0.25971991 | Q177: =ABS(IF(O177 <= 0, O177,)) -> 0 | S177: =SUM($P$2:P177) -> 103.60505 | T177: =SUM($Q$2:Q177) -> 34.008539 | U177: =T177*'KERS System Values'!E$14 -> 19.914356
A178: Low | B178: 176 | C178: 176 | D178: 6.9722222 | E178: 0.083333333 | F178: ='Dynamic Data'!C$4*E178 -> 24 | G178: =(0.5*'Dynamic Data'!C$21*'Dynamic Data'!C$11*'Dynamic Data'!C$13*D178^2) -> 9.9447734 | H178: ='Dynamic Data'!C$15 -> 56.5056 | I178: ='Dynamic Data'!C$15+G178+F178 -> 90.450373 | J178: =IF(I178 > 0, I178,) -> 90.450373 | K178: =IF(I178 <= 0, I178,)*-1 -> 0 | L178: =(D178/1000)*(('Dynamic Data'!C$4*9.81*'Dynamic Data'!C$10)+(0.5*'Dynamic Data'!C$21*'Dynamic Data'!C$11*'Dynamic Data'!C$13*D178^2)+('Dynamic Data'!C$4*'Dynamic Data'!C$18*E178)) -> 0.63788396 | M178: =IF(L178 > 0, L178,) -> 0.63788396 | N178: =ABS(IF(L178 <= 0, L178,)) -> 0 | O178: =(B179 - B178) * (L179 + L178) / 2 -> 0.96561363 | P178: =IF(O178 >= 0, O178,) -> 0.96561363 | Q178: =ABS(IF(O178 <= 0, O178,)) -> 0 | S178: =SUM($P$2:P178) -> 104.57066 | T178: =SUM($Q$2:Q178) -> 34.008539 | U178: =T178*'KERS System Values'!E$14 -> 19.914356
A179: Low | B179: 177 | C179: 177 | D179: 7.1944444 | E179: 0.375 | F179: ='Dynamic Data'!C$4*E179 -> 108 | G179: =(0.5*'Dynamic Data'!C$21*'Dynamic Data'!C$11*'Dynamic Data'!C$13*D179^2) -> 10.588806 | H179: ='Dynamic Data'!C$15 -> 56.5056 | I179: ='Dynamic Data'!C$15+G179+F179 -> 175.09441 | J179: =IF(I179 > 0, I179,) -> 175.09441 | K179: =IF(I179 <= 0, I179,)*-1 -> 0 | L179: =(D179/1000)*(('Dynamic Data'!C$4*9.81*'Dynamic Data'!C$10)+(0.5*'Dynamic Data'!C$21*'Dynamic Data'!C$11*'Dynamic Data'!C$13*D179^2)+('Dynamic Data'!C$4*'Dynamic Data'!C$18*E179)) -> 1.2933433 | M179: =IF(L179 > 0, L179,) -> 1.2933433 | N179: =ABS(IF(L179 <= 0, L179,)) -> 0 | O179: =(B180 - B179) * (L180 + L179) / 2 -> 1.4436793 | P179: =IF(O179 >= 0, O179,) -> 1.4436793 | Q179: =ABS(IF(O179 <= 0, O179,)) -> 0 | S179: =SUM($P$2:P179) -> 106.01434 | T179: =SUM($Q$2:Q179) -> 34.008539 | U179: =T179*'KERS System Values'!E$14 -> 19.914356
A180: Low | B180: 178 | C180: 178 | D180: 7.7222222 | E180: 0.45833333 | F180: ='Dynamic Data'!C$4*E180 -> 132 | G180: =(0.5*'Dynamic Data'!C$21*'Dynamic Data'!C$11*'Dynamic Data'!C$13*D180^2) -> 12.19936 | H180: ='Dynamic Data'!C$15 -> 56.5056 | I180: ='Dynamic Data'!C$15+G180+F180 -> 200.70496 | J180: =IF(I180 > 0, I180,) -> 200.70496 | K180: =IF(I180 <= 0, I180,)*-1 -> 0 | L180: =(D180/1000)*(('Dynamic Data'!C$4*9.81*'Dynamic Data'!C$10)+(0.5*'Dynamic Data'!C$21*'Dynamic Data'!C$11*'Dynamic Data'!C$13*D180^2)+('Dynamic Data'!C$4*'Dynamic Data'!C$18*E180)) -> 1.5940152 | M180: =IF(L180 > 0, L180,) -> 1.5940152 | N180: =ABS(IF(L180 <= 0, L180,)) -> 0 | O180: =(B181 - B180) * (L181 + L180) / 2 -> 1.3853937 | P180: =IF(O180 >= 0, O180,) -> 1.3853937 | Q180: =ABS(IF(O180 <= 0, O180,)) -> 0 | S180: =SUM($P$2:P180) -> 107.39973 | T180: =SUM($Q$2:Q180) -> 34.008539 | U180: =T180*'KERS System Values'!E$14 -> 19.914356
A181: Low | B181: 179 | C181: 179 | D181: 8.1111111 | E181: 0.25 | F181: ='Dynamic Data'!C$4*E181 -> 72 | G181: =(0.5*'Dynamic Data'!C$21*'Dynamic Data'!C$11*'Dynamic Data'!C$13*D181^2) -> 13.459011 | H181: ='Dynamic Data'!C$15 -> 56.5056 | I181: ='Dynamic Data'!C$15+G181+F181 -> 141.96461 | J181: =IF(I181 > 0, I181,) -> 141.96461 | K181: =IF(I181 <= 0, I181,)*-1 -> 0 | L181: =(D181/1000)*(('Dynamic Data'!C$4*9.81*'Dynamic Data'!C$10)+(0.5*'Dynamic Data'!C$21*'Dynamic Data'!C$11*'Dynamic Data'!C$13*D181^2)+('Dynamic Data'!C$4*'Dynamic Data'!C$18*E181)) -> 1.1767721 | M181: =IF(L181 > 0, L181,) -> 1.1767721 | N181: =ABS(IF(L181 <= 0, L181,)) -> 0 | O181: =(B182 - B181) * (L182 + L181) / 2 -> 0.92901362 | P181: =IF(O181 >= 0, O181,) -> 0.92901362 | Q181: =ABS(IF(O181 <= 0, O181,)) -> 0 | S181: =SUM($P$2:P181) -> 108.32875 | T181: =SUM($Q$2:Q181) -> 34.008539 | U181: =T181*'KERS System Values'!E$14 -> 19.914356
A182: Low | B182: 180 | C182: 180 | D182: 8.2222222 | E182: 0.041666667 | F182: ='Dynamic Data'!C$4*E182 -> 12 | G182: =(0.5*'Dynamic Data'!C$21*'Dynamic Data'!C$11*'Dynamic Data'!C$13*D182^2) -> 13.830277 | H182: ='Dynamic Data'!C$15 -> 56.5056 | I182: ='Dynamic Data'!C$15+G182+F182 -> 82.335877 | J182: =IF(I182 > 0, I182,) -> 82.335877 | K182: =IF(I182 <= 0, I182,)*-1 -> 0 | L182: =(D182/1000)*(('Dynamic Data'!C$4*9.81*'Dynamic Data'!C$10)+(0.5*'Dynamic Data'!C$21*'Dynamic Data'!C$11*'Dynamic Data'!C$13*D182^2)+('Dynamic Data'!C$4*'Dynamic Data'!C$18*E182)) -> 0.68125516 | M182: =IF(L182 > 0, L182,) -> 0.68125516 | N182: =ABS(IF(L182 <= 0, L182,)) -> 0 | O182: =(B183 - B182) * (L183 + L182) / 2 -> 0.56003361 | P182: =IF(O182 >= 0, O182,) -> 0.56003361 | Q182: =ABS(IF(O182 <= 0, O182,)) -> 0 | S182: =SUM($P$2:P182) -> 108.88878 | T182: =SUM($Q$2:Q182) -> 34.008539 | U182: =T182*'KERS System Values'!E$14 -> 19.914356
A183: Low | B183: 181 | C183: 181 | D183: 8.1944444 | E183: -0.055555556 | F183: ='Dynamic Data'!C$4*E183 -> -16 | G183: =(0.5*'Dynamic Data'!C$21*'Dynamic Data'!C$11*'Dynamic Data'!C$13*D183^2) -> 13.736987 | H183: ='Dynamic Data'!C$15 -> 56.5056 | I183: ='Dynamic Data'!C$15+G183+F183 -> 54.242587 | J183: =IF(I183 > 0, I183,) -> 54.242587 | K183: =IF(I183 <= 0, I183,)*-1 -> 0 | L183: =(D183/1000)*(('Dynamic Data'!C$4*9.81*'Dynamic Data'!C$10)+(0.5*'Dynamic Data'!C$21*'Dynamic Data'!C$11*'Dynamic Data'!C$13*D183^2)+('Dynamic Data'!C$4*'Dynamic Data'!C$18*E183)) -> 0.43881206 | M183: =IF(L183 > 0, L183,) -> 0.43881206 | N183: =ABS(IF(L183 <= 0, L183,)) -> 0 | O183: =(B184 - B183) * (L184 + L183) / 2 -> 0.30005761 | P183: =IF(O183 >= 0, O183,) -> 0.30005761 | Q183: =ABS(IF(O183 <= 0, O183,)) -> 0 | S183: =SUM($P$2:P183) -> 109.18884 | T183: =SUM($Q$2:Q183) -> 34.008539 | U183: =T183*'KERS System Values'!E$14 -> 19.914356
A184: Low | B184: 182 | C184: 182 | D184: 8.1111111 | E184: -0.16666667 | F184: ='Dynamic Data'!C$4*E184 -> -48 | G184: =(0.5*'Dynamic Data'!C$21*'Dynamic Data'!C$11*'Dynamic Data'!C$13*D184^2) -> 13.459011 | H184: ='Dynamic Data'!C$15 -> 56.5056 | I184: ='Dynamic Data'!C$15+G184+F184 -> 21.964611 | J184: =IF(I184 > 0, I184,) -> 21.964611 | K184: =IF(I184 <= 0, I184,)*-1 -> 0 | L184: =(D184/1000)*(('Dynamic Data'!C$4*9.81*'Dynamic Data'!C$10)+(0.5*'Dynamic Data'!C$21*'Dynamic Data'!C$11*'Dynamic Data'!C$13*D184^2)+('Dynamic Data'!C$4*'Dynamic Data'!C$18*E184)) -> 0.16130316 | M184: =IF(L184 > 0, L184,) -> 0.16130316 | N184: =ABS(IF(L184 <= 0, L184,)) -> 0 | O184: =(B185 - B184) * (L185 + L184) / 2 -> -0.15604737 | P184: =IF(O184 >= 0, O184,) -> 0 | Q184: =ABS(IF(O184 <= 0, O184,)) -> 0.15604737 | S184: =SUM($P$2:P184) -> 109.18884 | T184: =SUM($Q$2:Q184) -> 34.164586 | U184: =T184*'KERS System Values'!E$14 -> 20.005733
A185: Low | B185: 183 | C185: 183 | D185: 7.8611111 | E185: -0.43055556 | F185: ='Dynamic Data'!C$4*E185 -> -124 | G185: =(0.5*'Dynamic Data'!C$21*'Dynamic Data'!C$11*'Dynamic Data'!C$13*D185^2) -> 12.642132 | H185: ='Dynamic Data'!C$15 -> 56.5056 | I185: ='Dynamic Data'!C$15+G185+F185 -> -54.852268 | J185: =IF(I185 > 0, I185,) -> 0 | K185: =IF(I185 <= 0, I185,)*-1 -> 54.852268 | L185: =(D185/1000)*(('Dynamic Data'!C$4*9.81*'Dynamic Data'!C$10)+(0.5*'Dynamic Data'!C$21*'Dynamic Data'!C$11*'Dynamic Data'!C$13*D185^2)+('Dynamic Data'!C$4*'Dynamic Data'!C$18*E185)) -> -0.4733979 | M185: =IF(L185 > 0, L185,) -> 0 | N185: =ABS(IF(L185 <= 0, L185,)) -> 0.4733979 | O185: =(B186 - B185) * (L186 + L185) / 2 -> -0.70388877 | P185: =IF(O185 >= 0, O185,) -> 0 | Q185: =ABS(IF(O185 <= 0, O185,)) -> 0.70388877 | S185: =SUM($P$2:P185) -> 109.18884 | T185: =SUM($Q$2:Q185) -> 34.868475 | U185: =T185*'KERS System Values'!E$14 -> 20.417909
A186: Low | B186: 184 | C186: 184 | D186: 7.25 | E186: -0.65277778 | F186: ='Dynamic Data'!C$4*E186 -> -188 | G186: =(0.5*'Dynamic Data'!C$21*'Dynamic Data'!C$11*'Dynamic Data'!C$13*D186^2) -> 10.752971 | H186: ='Dynamic Data'!C$15 -> 56.5056 | I186: ='Dynamic Data'!C$15+G186+F186 -> -120.74143 | J186: =IF(I186 > 0, I186,) -> 0 | K186: =IF(I186 <= 0, I186,)*-1 -> 120.74143 | L186: =(D186/1000)*(('Dynamic Data'!C$4*9.81*'Dynamic Data'!C$10)+(0.5*'Dynamic Data'!C$21*'Dynamic Data'!C$11*'Dynamic Data'!C$13*D186^2)+('Dynamic Data'!C$4*'Dynamic Data'!C$18*E186)) -> -0.93437963 | M186: =IF(L186 > 0, L186,) -> 0 | N186: =ABS(IF(L186 <= 0, L186,)) -> 0.93437963 | O186: =(B187 - B186) * (L187 + L186) / 2 -> -0.95077312 | P186: =IF(O186 >= 0, O186,) -> 0 | Q186: =ABS(IF(O186 <= 0, O186,)) -> 0.95077312 | S186: =SUM($P$2:P186) -> 109.18884 | T186: =SUM($Q$2:Q186) -> 35.819248 | U186: =T186*'KERS System Values'!E$14 -> 20.974652
A187: Low | B187: 185 | C187: 185 | D187: 6.5555556 | E187: -0.70833333 | F187: ='Dynamic Data'!C$4*E187 -> -204 | G187: =(0.5*'Dynamic Data'!C$21*'Dynamic Data'!C$11*'Dynamic Data'!C$13*D187^2) -> 8.7916715 | H187: ='Dynamic Data'!C$15 -> 56.5056 | I187: ='Dynamic Data'!C$15+G187+F187 -> -138.70273 | J187: =IF(I187 > 0, I187,) -> 0 | K187: =IF(I187 <= 0, I187,)*-1 -> 138.70273 | L187: =(D187/1000)*(('Dynamic Data'!C$4*9.81*'Dynamic Data'!C$10)+(0.5*'Dynamic Data'!C$21*'Dynamic Data'!C$11*'Dynamic Data'!C$13*D187^2)+('Dynamic Data'!C$4*'Dynamic Data'!C$18*E187)) -> -0.9671666 | M187: =IF(L187 > 0, L187,) -> 0 | N187: =ABS(IF(L187 <= 0, L187,)) -> 0.9671666 | O187: =(B188 - B187) * (L188 + L187) / 2 -> -0.87054239 | P187: =IF(O187 >= 0, O187,) -> 0 | Q187: =ABS(IF(O187 <= 0, O187,)) -> 0.87054239 | S187: =SUM($P$2:P187) -> 109.18884 | T187: =SUM($Q$2:Q187) -> 36.689791 | U187: =T187*'KERS System Values'!E$14 -> 21.484415
A188: Low | B188: 186 | C188: 186 | D188: 5.8333333 | E188: -0.65277778 | F188: ='Dynamic Data'!C$4*E188 -> -188 | G188: =(0.5*'Dynamic Data'!C$21*'Dynamic Data'!C$11*'Dynamic Data'!C$13*D188^2) -> 6.9612309 | H188: ='Dynamic Data'!C$15 -> 56.5056 | I188: ='Dynamic Data'!C$15+G188+F188 -> -124.53317 | J188: =IF(I188 > 0, I188,) -> 0 | K188: =IF(I188 <= 0, I188,)*-1 -> 124.53317 | L188: =(D188/1000)*(('Dynamic Data'!C$4*9.81*'Dynamic Data'!C$10)+(0.5*'Dynamic Data'!C$21*'Dynamic Data'!C$11*'Dynamic Data'!C$13*D188^2)+('Dynamic Data'!C$4*'Dynamic Data'!C$18*E188)) -> -0.77391819 | M188: =IF(L188 > 0, L188,) -> 0 | N188: =ABS(IF(L188 <= 0, L188,)) -> 0.77391819 | O188: =(B189 - B188) * (L189 + L188) / 2 -> -0.65105783 | P188: =IF(O188 >= 0, O188,) -> 0 | Q188: =ABS(IF(O188 <= 0, O188,)) -> 0.65105783 | S188: =SUM($P$2:P188) -> 109.18884 | T188: =SUM($Q$2:Q188) -> 37.340849 | U188: =T188*'KERS System Values'!E$14 -> 21.865655
... A191: Low | B191: 189 | C191: 189 | D191: 4.3611111 | E191: -0.36111111 | F191: ='Dynamic Data'!C$4*E191 -> -104 | G191: =(0.5*'Dynamic Data'!C$21*'Dynamic Data'!C$11*'Dynamic Data'!C$13*D191^2) -> 3.8908703 | H191: ='Dynamic Data'!C$15 -> 56.5056 | I191: ='Dynamic Data'!C$15+G191+F191 -> -43.60353 | J191: =IF(I191 > 0, I191,) -> 0 | K191: =IF(I191 <= 0, I191,)*-1 -> 43.60353 | L191: =(D191/1000)*(('Dynamic Data'!C$4*9.81*'Dynamic Data'!C$10)+(0.5*'Dynamic Data'!C$21*'Dynamic Data'!C$11*'Dynamic Data'!C$13*D191^2)+('Dynamic Data'!C$4*'Dynamic Data'!C$18*E191)) -> -0.20979426 | M191: =IF(L191 > 0, L191,) -> 0 | N191: =ABS(IF(L191 <= 0, L191,)) -> 0.20979426 | O191: =(B192 - B191) * (L192 + L191) / 2 -> -0.15250301 | P191: =IF(O191 >= 0, O191,) -> 0 | Q191: =ABS(IF(O191 <= 0, O191,)) -> 0.15250301 | S191: =SUM($P$2:P191) -> 109.18884 | T191: =SUM($Q$2:Q191) -> 38.206341 | U191: =T191*'KERS System Values'!E$14 -> 22.372461
A192: Low | B192: 190 | C192: 190 | D192: 4.0277778 | E192: -0.27777778 | F192: ='Dynamic Data'!C$4*E192 -> -80 | G192: =(0.5*'Dynamic Data'!C$21*'Dynamic Data'!C$11*'Dynamic Data'!C$13*D192^2) -> 3.3188181 | H192: ='Dynamic Data'!C$15 -> 56.5056 | I192: ='Dynamic Data'!C$15+G192+F192 -> -20.175582 | J192: =IF(I192 > 0, I192,) -> 0 | K192: =IF(I192 <= 0, I192,)*-1 -> 20.175582 | L192: =(D192/1000)*(('Dynamic Data'!C$4*9.81*'Dynamic Data'!C$10)+(0.5*'Dynamic Data'!C$21*'Dynamic Data'!C$11*'Dynamic Data'!C$13*D192^2)+('Dynamic Data'!C$4*'Dynamic Data'!C$18*E192)) -> -0.09521176 | M192: =IF(L192 > 0, L192,) -> 0 | N192: =ABS(IF(L192 <= 0, L192,)) -> 0.09521176 | O192: =(B193 - B192) * (L193 + L192) / 2 -> -0.061500446 | P192: =IF(O192 >= 0, O192,) -> 0 | Q192: =ABS(IF(O192 <= 0, O192,)) -> 0.061500446 | R192: =SUM(Q184:Q192) -> 4.2593028 | S192: =SUM($P$2:P192) -> 109.18884 | T192: =SUM($Q$2:Q192) -> 38.267842 | U192: =T192*'KERS System Values'!E$14 -> 22.408473
A193: Low | B193: 191 | C193: 191 | D193: 3.8055556 | E193: -0.22222222 | F193: ='Dynamic Data'!C$4*E193 -> -64 | G193: =(0.5*'Dynamic Data'!C$21*'Dynamic Data'!C$11*'Dynamic Data'!C$13*D193^2) -> 2.9627062 | H193: ='Dynamic Data'!C$15 -> 56.5056 | I193: ='Dynamic Data'!C$15+G193+F193 -> -4.5316938 | J193: =IF(I193 > 0, I193,) -> 0 | K193: =IF(I193 <= 0, I193,)*-1 -> 4.5316938 | L193: =(D193/1000)*(('Dynamic Data'!C$4*9.81*'Dynamic Data'!C$10)+(0.5*'Dynamic Data'!C$21*'Dynamic Data'!C$11*'Dynamic Data'!C$13*D193^2)+('Dynamic Data'!C$4*'Dynamic Data'!C$18*E193)) -> -0.027789133 | M193: =IF(L193 > 0, L193,) -> 0 | N193: =ABS(IF(L193 <= 0, L193,)) -> 0.027789133 | O193: =(B194 - B193) * (L194 + L193) / 2 -> 0.0023280422 | P193: =IF(O193 >= 0, O193,) -> 0.0023280422 | Q193: =ABS(IF(O193 <= 0, O193,)) -> 0 | S193: =SUM($P$2:P193) -> 109.19117 | T193: =SUM($Q$2:Q193) -> 38.267842 | U193: =T193*'KERS System Values'!E$14 -> 22.408473
A194: Low | B194: 192 | C194: 192 | D194: 3.5833333 | E194: -0.16666667 | F194: ='Dynamic Data'!C$4*E194 -> -48 | G194: =(0.5*'Dynamic Data'!C$21*'Dynamic Data'!C$11*'Dynamic Data'!C$13*D194^2) -> 2.6267992 | H194: ='Dynamic Data'!C$15 -> 56.5056 | I194: ='Dynamic Data'!C$15+G194+F194 -> 11.132399 | J194: =IF(I194 > 0, I194,) -> 11.132399 | K194: =IF(I194 <= 0, I194,)*-1 -> 0 | L194: =(D194/1000)*(('Dynamic Data'!C$4*9.81*'Dynamic Data'!C$10)+(0.5*'Dynamic Data'!C$21*'Dynamic Data'!C$11*'Dynamic Data'!C$13*D194^2)+('Dynamic Data'!C$4*'Dynamic Data'!C$18*E194)) -> 0.032445217 | M194: =IF(L194 > 0, L194,) -> 0.032445217 | N194: =ABS(IF(L194 <= 0, L194,)) -> 0 | O194: =(B195 - B194) * (L195 + L194) / 2 -> 0.067889106 | P194: =IF(O194 >= 0, O194,) -> 0.067889106 | Q194: =ABS(IF(O194 <= 0, O194,)) -> 0 | S194: =SUM($P$2:P194) -> 109.25906 | T194: =SUM($Q$2:Q194) -> 38.267842 | U194: =T194*'KERS System Values'!E$14 -> 22.408473
A195: Low | B195: 193 | C195: 193 | D195: 3.4722222 | E195: -0.097222222 | F195: ='Dynamic Data'!C$4*E195 -> -28 | G195: =(0.5*'Dynamic Data'!C$21*'Dynamic Data'!C$11*'Dynamic Data'!C$13*D195^2) -> 2.4664225 | H195: ='Dynamic Data'!C$15 -> 56.5056 | I195: ='Dynamic Data'!C$15+G195+F195 -> 30.972023 | J195: =IF(I195 > 0, I195,) -> 30.972023 | K195: =IF(I195 <= 0, I195,)*-1 -> 0 | L195: =(D195/1000)*(('Dynamic Data'!C$4*9.81*'Dynamic Data'!C$10)+(0.5*'Dynamic Data'!C$21*'Dynamic Data'!C$11*'Dynamic Data'!C$13*D195^2)+('Dynamic Data'!C$4*'Dynamic Data'!C$18*E195)) -> 0.10333299 | M195: =IF(L195 > 0, L195,) -> 0.10333299 | N195: =ABS(IF(L195 <= 0, L195,)) -> 0 | O195: =(B196 - B195) * (L196 + L195) / 2 -> 0.11603718 | P195: =IF(O195 >= 0, O195,) -> 0.11603718 | Q195: =ABS(IF(O195 <= 0, O195,)) -> 0 | S195: =SUM($P$2:P195) -> 109.37509 | T195: =SUM($Q$2:Q195) -> 38.267842 | U195: =T195*'KERS System Values'!E$14 -> 22.408473
A196: Low | B196: 194 | C196: 194 | D196: 3.3888889 | E196: -0.069444444 | F196: ='Dynamic Data'!C$4*E196 -> -20 | G196: =(0.5*'Dynamic Data'!C$21*'Dynamic Data'!C$11*'Dynamic Data'!C$13*D196^2) -> 2.3494549 | H196: ='Dynamic Data'!C$15 -> 56.5056 | I196: ='Dynamic Data'!C$15+G196+F196 -> 38.855055 | J196: =IF(I196 > 0, I196,) -> 38.855055 | K196: =IF(I196 <= 0, I196,)*-1 -> 0 | L196: =(D196/1000)*(('Dynamic Data'!C$4*9.81*'Dynamic Data'!C$10)+(0.5*'Dynamic Data'!C$21*'Dynamic Data'!C$11*'Dynamic Data'!C$13*D196^2)+('Dynamic Data'!C$4*'Dynamic Data'!C$18*E196)) -> 0.12874136 | M196: =IF(L196 > 0, L196,) -> 0.12874136 | N196: =ABS(IF(L196 <= 0, L196,)) -> 0 | O196: =(B197 - B196) * (L197 + L196) / 2 -> 0.14842457 | P196: =IF(O196 >= 0, O196,) -> 0.14842457 | Q196: =ABS(IF(O196 <= 0, O196,)) -> 0 | S196: =SUM($P$2:P196) -> 109.52352 | T196: =SUM($Q$2:Q196) -> 38.267842 | U196: =T196*'KERS System Values'!E$14 -> 22.408473
A197: Low | B197: 195 | C197: 195 | D197: 3.3333333 | E197: -0.027777778 | F197: ='Dynamic Data'!C$4*E197 -> -8 | G197: =(0.5*'Dynamic Data'!C$21*'Dynamic Data'!C$11*'Dynamic Data'!C$13*D197^2) -> 2.273055 | H197: ='Dynamic Data'!C$15 -> 56.5056 | I197: ='Dynamic Data'!C$15+G197+F197 -> 50.778655 | J197: =IF(I197 > 0, I197,) -> 50.778655 | K197: =IF(I197 <= 0, I197,)*-1 -> 0 | L197: =(D197/1000)*(('Dynamic Data'!C$4*9.81*'Dynamic Data'!C$10)+(0.5*'Dynamic Data'!C$21*'Dynamic Data'!C$11*'Dynamic Data'!C$13*D197^2)+('Dynamic Data'!C$4*'Dynamic Data'!C$18*E197)) -> 0.16810778 | M197: =IF(L197 > 0, L197,) -> 0.16810778 | N197: =ABS(IF(L197 <= 0, L197,)) -> 0 | O197: =(B198 - B197) * (L198 + L197) / 2 -> 0.18201832 | P197: =IF(O197 >= 0, O197,) -> 0.18201832 | Q197: =ABS(IF(O197 <= 0, O197,)) -> 0 | S197: =SUM($P$2:P197) -> 109.70554 | T197: =SUM($Q$2:Q197) -> 38.267842 | U197: =T197*'KERS System Values'!E$14 -> 22.408473
A198: Low | B198: 196 | C198: 196 | D198: 3.3333333 | E198: 0 | F198: ='Dynamic Data'!C$4*E198 -> 0 | G198: =(0.5*'Dynamic Data'!C$21*'Dynamic Data'!C$11*'Dynamic Data'!C$13*D198^2) -> 2.273055 | H198: ='Dynamic Data'!C$15 -> 56.5056 | I198: ='Dynamic Data'!C$15+G198+F198 -> 58.778655 | J198: =IF(I198 > 0, I198,) -> 58.778655 | K198: =IF(I198 <= 0, I198,)*-1 -> 0 | L198: =(D198/1000)*(('Dynamic Data'!C$4*9.81*'Dynamic Data'!C$10)+(0.5*'Dynamic Data'!C$21*'Dynamic Data'!C$11*'Dynamic Data'!C$13*D198^2)+('Dynamic Data'!C$4*'Dynamic Data'!C$18*E198)) -> 0.19592885 | M198: =IF(L198 > 0, L198,) -> 0.19592885 | N198: =ABS(IF(L198 <= 0, L198,)) -> 0 | O198: =(B199 - B198) * (L199 + L198) / 2 -> 0.19592885 | P198: =IF(O198 >= 0, O198,) -> 0.19592885 | Q198: =ABS(IF(O198 <= 0, O198,)) -> 0 | S198: =SUM($P$2:P198) -> 109.90147 | T198: =SUM($Q$2:Q198) -> 38.267842 | U198: =T198*'KERS System Values'!E$14 -> 22.408473
A199: Low | B199: 197 | C199: 197 | D199: 3.3333333 | E199: 0 | F199: ='Dynamic Data'!C$4*E199 -> 0 | G199: =(0.5*'Dynamic Data'!C$21*'Dynamic Data'!C$11*'Dynamic Data'!C$13*D199^2) -> 2.273055 | H199: ='Dynamic Data'!C$15 -> 56.5056 | I199: ='Dynamic Data'!C$15+G199+F199 -> 58.778655 | J199: =IF(I199 > 0, I199,) -> 58.778655 | K199: =IF(I199 <= 0, I199,)*-1 -> 0 | L199: =(D199/1000)*(('Dynamic Data'!C$4*9.81*'Dynamic Data'!C$10)+(0.5*'Dynamic Data'!C$21*'Dynamic Data'!C$11*'Dynamic Data'!C$13*D199^2)+('Dynamic Data'!C$4*'Dynamic Data'!C$18*E199)) -> 0.19592885 | M199: =IF(L199 > 0, L199,) -> 0.19592885 | N199: =ABS(IF(L199 <= 0, L199,)) -> 0 | O199: =(B200 - B199) * (L200 + L199) / 2 -> 0.23070518 | P199: =IF(O199 >= 0, O199,) -> 0.23070518 | Q199: =ABS(IF(O199 <= 0, O199,)) -> 0 | S199: =SUM($P$2:P199) -> 110.13217 | T199: =SUM($Q$2:Q199) -> 38.267842 | U199: =T199*'KERS System Values'!E$14 -> 22.408473
A200: Low | B200: 198 | C200: 198 | D200: 3.3333333 | E200: 0.069444444 | F200: ='Dynamic Data'!C$4*E200 -> 20 | G200: =(0.5*'Dynamic Data'!C$21*'Dynamic Data'!C$11*'Dynamic Data'!C$13*D200^2) -> 2.273055 | H200: ='Dynamic Data'!C$15 -> 56.5056 | I200: ='Dynamic Data'!C$15+G200+F200 -> 78.778655 | J200: =IF(I200 > 0, I200,) -> 78.778655 | K200: =IF(I200 <= 0, I200,)*-1 -> 0 | L200: =(D200/1000)*(('Dynamic Data'!C$4*9.81*'Dynamic Data'!C$10)+(0.5*'Dynamic Data'!C$21*'Dynamic Data'!C$11*'Dynamic Data'!C$13*D200^2)+('Dynamic Data'!C$4*'Dynamic Data'!C$18*E200)) -> 0.26548152 | M200: =IF(L200 > 0, L200,) -> 0.26548152 | N200: =ABS(IF(L200 <= 0, L200,)) -> 0 | O200: =(B201 - B200) * (L201 + L200) / 2 -> 0.30757344 | P200: =IF(O200 >= 0, O200,) -> 0.30757344 | Q200: =ABS(IF(O200 <= 0, O200,)) -> 0 | S200: =SUM($P$2:P200) -> 110.43974 | T200: =SUM($Q$2:Q200) -> 38.267842 | U200: =T200*'KERS System Values'!E$14 -> 22.408473
A201: Low | B201: 199 | C201: 199 | D201: 3.4722222 | E201: 0.13888889 | F201: ='Dynamic Data'!C$4*E201 -> 40 | G201: =(0.5*'Dynamic Data'!C$21*'Dynamic Data'!C$11*'Dynamic Data'!C$13*D201^2) -> 2.4664225 | H201: ='Dynamic Data'!C$15 -> 56.5056 | I201: ='Dynamic Data'!C$15+G201+F201 -> 98.972023 | J201: =IF(I201 > 0, I201,) -> 98.972023 | K201: =IF(I201 <= 0, I201,)*-1 -> 0 | L201: =(D201/1000)*(('Dynamic Data'!C$4*9.81*'Dynamic Data'!C$10)+(0.5*'Dynamic Data'!C$21*'Dynamic Data'!C$11*'Dynamic Data'!C$13*D201^2)+('Dynamic Data'!C$4*'Dynamic Data'!C$18*E201)) -> 0.34966536 | M201: =IF(L201 > 0, L201,) -> 0.34966536 | N201: =ABS(IF(L201 <= 0, L201,)) -> 0 | O201: =(B202 - B201) * (L202 + L201) / 2 -> 0.39469641 | P201: =IF(O201 >= 0, O201,) -> 0.39469641 | Q201: =ABS(IF(O201 <= 0, O201,)) -> 0 | S201: =SUM($P$2:P201) -> 110.83444 | T201: =SUM($Q$2:Q201) -> 38.267842 | U201: =T201*'KERS System Values'!E$14 -> 22.408473
A202: Low | B202: 200 | C202: 200 | D202: 3.6111111 | E202: 0.20833333 | F202: ='Dynamic Data'!C$4*E202 -> 60 | G202: =(0.5*'Dynamic Data'!C$21*'Dynamic Data'!C$11*'Dynamic Data'!C$13*D202^2) -> 2.6676826 | H202: ='Dynamic Data'!C$15 -> 56.5056 | I202: ='Dynamic Data'!C$15+G202+F202 -> 119.17328 | J202: =IF(I202 > 0, I202,) -> 119.17328 | K202: =IF(I202 <= 0, I202,)*-1 -> 0 | L202: =(D202/1000)*(('Dynamic Data'!C$4*9.81*'Dynamic Data'!C$10)+(0.5*'Dynamic Data'!C$21*'Dynamic Data'!C$11*'Dynamic Data'!C$13*D202^2)+('Dynamic Data'!C$4*'Dynamic Data'!C$18*E202)) -> 0.43972746 | M202: =IF(L202 > 0, L202,) -> 0.43972746 | N202: =ABS(IF(L202 <= 0, L202,)) -> 0 | O202: =(B203 - B202) * (L203 + L202) / 2 -> 0.49804117 | P202: =IF(O202 >= 0, O202,) -> 0.49804117 | Q202: =ABS(IF(O202 <= 0, O202,)) -> 0 | S202: =SUM($P$2:P202) -> 111.33248 | T202: =SUM($Q$2:Q202) -> 38.267842 | U202: =T202*'KERS System Values'!E$14 -> 22.408473
A203: Low | B203: 201 | C203: 201 | D203: 3.8888889 | E203: 0.27777778 | F203: ='Dynamic Data'!C$4*E203 -> 80 | G203: =(0.5*'Dynamic Data'!C$21*'Dynamic Data'!C$11*'Dynamic Data'!C$13*D203^2) -> 3.0938804 | H203: ='Dynamic Data'!C$15 -> 56.5056 | I203: ='Dynamic Data'!C$15+G203+F203 -> 139.59948 | J203: =IF(I203 > 0, I203,) -> 139.59948 | K203: =IF(I203 <= 0, I203,)*-1 -> 0 | L203: =(D203/1000)*(('Dynamic Data'!C$4*9.81*'Dynamic Data'!C$10)+(0.5*'Dynamic Data'!C$21*'Dynamic Data'!C$11*'Dynamic Data'!C$13*D203^2)+('Dynamic Data'!C$4*'Dynamic Data'!C$18*E203)) -> 0.55635487 | M203: =IF(L203 > 0, L203,) -> 0.55635487 | N203: =ABS(IF(L203 <= 0, L203,)) -> 0 | O203: =(B204 - B203) * (L204 + L203) / 2 -> 0.62064878 | P203: =IF(O203 >= 0, O203,) -> 0.62064878 | Q203: =ABS(IF(O203 <= 0, O203,)) -> 0 | S203: =SUM($P$2:P203) -> 111.95313 | T203: =SUM($Q$2:Q203) -> 38.267842 | U203: =T203*'KERS System Values'!E$14 -> 22.408473
A204: Low | B204: 202 | C204: 202 | D204: 4.1666667 | E204: 0.34722222 | F204: ='Dynamic Data'!C$4*E204 -> 100 | G204: =(0.5*'Dynamic Data'!C$21*'Dynamic Data'!C$11*'Dynamic Data'!C$13*D204^2) -> 3.5516484 | H204: ='Dynamic Data'!C$15 -> 56.5056 | I204: ='Dynamic Data'!C$15+G204+F204 -> 160.05725 | J204: =IF(I204 > 0, I204,) -> 160.05725 | K204: =IF(I204 <= 0, I204,)*-1 -> 0 | L204: =(D204/1000)*(('Dynamic Data'!C$4*9.81*'Dynamic Data'!C$10)+(0.5*'Dynamic Data'!C$21*'Dynamic Data'!C$11*'Dynamic Data'!C$13*D204^2)+('Dynamic Data'!C$4*'Dynamic Data'!C$18*E204)) -> 0.6849427 | M204: =IF(L204 > 0, L204,) -> 0.6849427 | N204: =ABS(IF(L204 <= 0, L204,)) -> 0 | O204: =(B205 - B204) * (L205 + L204) / 2 -> 0.86435144 | P204: =IF(O204 >= 0, O204,) -> 0.86435144 | Q204: =ABS(IF(O204 <= 0, O204,)) -> 0 | S204: =SUM($P$2:P204) -> 112.81748 | T204: =SUM($Q$2:Q204) -> 38.267842 | U204: =T204*'KERS System Values'!E$14 -> 22.408473
... A236: Low | B236: 234 | C236: 234 | D236: 14.694444 | E236: -0.54166667 | F236: ='Dynamic Data'!C$4*E236 -> -156 | G236: =(0.5*'Dynamic Data'!C$21*'Dynamic Data'!C$11*'Dynamic Data'!C$13*D236^2) -> 44.173193 | H236: ='Dynamic Data'!C$15 -> 56.5056 | I236: ='Dynamic Data'!C$15+G236+F236 -> -55.321207 | J236: =IF(I236 > 0, I236,) -> 0 | K236: =IF(I236 <= 0, I236,)*-1 -> 55.321207 | L236: =(D236/1000)*(('Dynamic Data'!C$4*9.81*'Dynamic Data'!C$10)+(0.5*'Dynamic Data'!C$21*'Dynamic Data'!C$11*'Dynamic Data'!C$13*D236^2)+('Dynamic Data'!C$4*'Dynamic Data'!C$18*E236)) -> -0.91214951 | M236: =IF(L236 > 0, L236,) -> 0 | N236: =ABS(IF(L236 <= 0, L236,)) -> 0.91214951 | O236: =(B237 - B236) * (L237 + L236) / 2 -> -0.68136233 | P236: =IF(O236 >= 0, O236,) -> 0 | Q236: =ABS(IF(O236 <= 0, O236,)) -> 0.68136233 | S236: =SUM($P$2:P236) -> 178.87261 | T236: =SUM($Q$2:Q236) -> 39.661725 | U236: =T236*'KERS System Values'!E$14 -> 23.224688
A237: Low | B237: 235 | C237: 235 | D237: 14.166667 | E237: -0.43055556 | F237: ='Dynamic Data'!C$4*E237 -> -124 | G237: =(0.5*'Dynamic Data'!C$21*'Dynamic Data'!C$11*'Dynamic Data'!C$13*D237^2) -> 41.057056 | H237: ='Dynamic Data'!C$15 -> 56.5056 | I237: ='Dynamic Data'!C$15+G237+F237 -> -26.437344 | J237: =IF(I237 > 0, I237,) -> 0 | K237: =IF(I237 <= 0, I237,)*-1 -> 26.437344 | L237: =(D237/1000)*(('Dynamic Data'!C$4*9.81*'Dynamic Data'!C$10)+(0.5*'Dynamic Data'!C$21*'Dynamic Data'!C$11*'Dynamic Data'!C$13*D237^2)+('Dynamic Data'!C$4*'Dynamic Data'!C$18*E237)) -> -0.45057515 | M237: =IF(L237 > 0, L237,) -> 0 | N237: =ABS(IF(L237 <= 0, L237,)) -> 0.45057515 | O237: =(B238 - B237) * (L238 + L237) / 2 -> -0.083244075 | P237: =IF(O237 >= 0, O237,) -> 0 | Q237: =ABS(IF(O237 <= 0, O237,)) -> 0.083244075 | R237: =SUM(Q235:Q237) -> 1.4771268 | S237: =SUM($P$2:P237) -> 178.87261 | T237: =SUM($Q$2:Q237) -> 39.744969 | U237: =T237*'KERS System Values'!E$14 -> 23.273434
A238: Low | B238: 236 | C238: 236 | D238: 13.833333 | E238: -0.25 | F238: ='Dynamic Data'!C$4*E238 -> -72 | G238: =(0.5*'Dynamic Data'!C$21*'Dynamic Data'!C$11*'Dynamic Data'!C$13*D238^2) -> 39.147689 | H238: ='Dynamic Data'!C$15 -> 56.5056 | I238: ='Dynamic Data'!C$15+G238+F238 -> 23.653289 | J238: =IF(I238 > 0, I238,) -> 23.653289 | K238: =IF(I238 <= 0, I238,)*-1 -> 0 | L238: =(D238/1000)*(('Dynamic Data'!C$4*9.81*'Dynamic Data'!C$10)+(0.5*'Dynamic Data'!C$21*'Dynamic Data'!C$11*'Dynamic Data'!C$13*D238^2)+('Dynamic Data'!C$4*'Dynamic Data'!C$18*E238)) -> 0.284087 | M238: =IF(L238 > 0, L238,) -> 0.284087 | N238: =ABS(IF(L238 <= 0, L238,)) -> 0 | O238: =(B239 - B238) * (L239 + L238) / 2 -> 0.39003483 | P238: =IF(O238 >= 0, O238,) -> 0.39003483 | Q238: =ABS(IF(O238 <= 0, O238,)) -> 0 | S238: =SUM($P$2:P238) -> 179.26265 | T238: =SUM($Q$2:Q238) -> 39.744969 | U238: =T238*'KERS System Values'!E$14 -> 23.273434
A239: Low | B239: 237 | C239: 237 | D239: 13.666667 | E239: -0.19444444 | F239: ='Dynamic Data'!C$4*E239 -> -56 | G239: =(0.5*'Dynamic Data'!C$21*'Dynamic Data'!C$11*'Dynamic Data'!C$13*D239^2) -> 38.210054 | H239: ='Dynamic Data'!C$15 -> 56.5056 | I239: ='Dynamic Data'!C$15+G239+F239 -> 38.715654 | J239: =IF(I239 > 0, I239,) -> 38.715654 | K239: =IF(I239 <= 0, I239,)*-1 -> 0 | L239: =(D239/1000)*(('Dynamic Data'!C$4*9.81*'Dynamic Data'!C$10)+(0.5*'Dynamic Data'!C$21*'Dynamic Data'!C$11*'Dynamic Data'!C$13*D239^2)+('Dynamic Data'!C$4*'Dynamic Data'!C$18*E239)) -> 0.49598266 | M239: =IF(L239 > 0, L239,) -> 0.49598266 | N239: =ABS(IF(L239 <= 0, L239,)) -> 0 | O239: =(B240 - B239) * (L240 + L239) / 2 -> 0.23118896 | P239: =IF(O239 >= 0, O239,) -> 0.23118896 | Q239: =ABS(IF(O239 <= 0, O239,)) -> 0 | S239: =SUM($P$2:P239) -> 179.49383 | T239: =SUM($Q$2:Q239) -> 39.744969 | U239: =T239*'KERS System Values'!E$14 -> 23.273434
A240: Low | B240: 238 | C240: 238 | D240: 13.444444 | E240: -0.31944444 | F240: ='Dynamic Data'!C$4*E240 -> -92 | G240: =(0.5*'Dynamic Data'!C$21*'Dynamic Data'!C$11*'Dynamic Data'!C$13*D240^2) -> 36.977553 | H240: ='Dynamic Data'!C$15 -> 56.5056 | I240: ='Dynamic Data'!C$15+G240+F240 -> 1.4831533 | J240: =IF(I240 > 0, I240,) -> 1.4831533 | K240: =IF(I240 <= 0, I240,)*-1 -> 0 | L240: =(D240/1000)*(('Dynamic Data'!C$4*9.81*'Dynamic Data'!C$10)+(0.5*'Dynamic Data'!C$21*'Dynamic Data'!C$11*'Dynamic Data'!C$13*D240^2)+('Dynamic Data'!C$4*'Dynamic Data'!C$18*E240)) -> -0.033604748 | M240: =IF(L240 > 0, L240,) -> 0 | N240: =ABS(IF(L240 <= 0, L240,)) -> 0.033604748 | O240: =(B241 - B240) * (L241 + L240) / 2 -> -0.53708549 | P240: =IF(O240 >= 0, O240,) -> 0 | Q240: =ABS(IF(O240 <= 0, O240,)) -> 0.53708549 | S240: =SUM($P$2:P240) -> 179.49383 | T240: =SUM($Q$2:Q240) -> 40.282054 | U240: =T240*'KERS System Values'!E$14 -> 23.587934
A241: Low | B241: 239 | C241: 239 | D241: 13.027778 | E241: -0.56944444 | F241: ='Dynamic Data'!C$4*E241 -> -164 | G241: =(0.5*'Dynamic Data'!C$21*'Dynamic Data'!C$11*'Dynamic Data'!C$13*D241^2) -> 34.721073 | H241: ='Dynamic Data'!C$15 -> 56.5056 | I241: ='Dynamic Data'!C$15+G241+F241 -> -72.773327 | J241: =IF(I241 > 0, I241,) -> 0 | K241: =IF(I241 <= 0, I241,)*-1 -> 72.773327 | L241: =(D241/1000)*(('Dynamic Data'!C$4*9.81*'Dynamic Data'!C$10)+(0.5*'Dynamic Data'!C$21*'Dynamic Data'!C$11*'Dynamic Data'!C$13*D241^2)+('Dynamic Data'!C$4*'Dynamic Data'!C$18*E241)) -> -1.0405662 | M241: =IF(L241 > 0, L241,) -> 0 | N241: =ABS(IF(L241 <= 0, L241,)) -> 1.0405662 | O241: =(B242 - B241) * (L242 + L241) / 2 -> -1.3685477 | P241: =IF(O241 >= 0, O241,) -> 0 | Q241: =ABS(IF(O241 <= 0, O241,)) -> 1.3685477 | S241: =SUM($P$2:P241) -> 179.49383 | T241: =SUM($Q$2:Q241) -> 41.650602 | U241: =T241*'KERS System Values'!E$14 -> 24.389314
A242: Low | B242: 240 | C242: 240 | D242: 12.305556 | E242: -0.75 | F242: ='Dynamic Data'!C$4*E242 -> -216 | G242: =(0.5*'Dynamic Data'!C$21*'Dynamic Data'!C$11*'Dynamic Data'!C$13*D242^2) -> 30.978109 | H242: ='Dynamic Data'!C$15 -> 56.5056 | I242: ='Dynamic Data'!C$15+G242+F242 -> -128.51629 | J242: =IF(I242 > 0, I242,) -> 0 | K242: =IF(I242 <= 0, I242,)*-1 -> 128.51629 | L242: =(D242/1000)*(('Dynamic Data'!C$4*9.81*'Dynamic Data'!C$10)+(0.5*'Dynamic Data'!C$21*'Dynamic Data'!C$11*'Dynamic Data'!C$13*D242^2)+('Dynamic Data'!C$4*'Dynamic Data'!C$18*E242)) -> -1.6965292 | M242: =IF(L242 > 0, L242,) -> 0 | N242: =ABS(IF(L242 <= 0, L242,)) -> 1.6965292 | O242: =(B243 - B242) * (L243 + L242) / 2 -> -1.5204504 | P242: =IF(O242 >= 0, O242,) -> 0 | Q242: =ABS(IF(O242 <= 0, O242,)) -> 1.5204504 | S242: =SUM($P$2:P242) -> 179.49383 | T242: =SUM($Q$2:Q242) -> 43.171052 | U242: =T242*'KERS System Values'!E$14 -> 25.279643
A243: Low | B243: 241 | C243: 241 | D243: 11.527778 | E243: -0.66666667 | F243: ='Dynamic Data'!C$4*E243 -> -192 | G243: =(0.5*'Dynamic Data'!C$21*'Dynamic Data'!C$11*'Dynamic Data'!C$13*D243^2) -> 27.185895 | H243: ='Dynamic Data'!C$15 -> 56.5056 | I243: ='Dynamic Data'!C$15+G243+F243 -> -108.3085 | J243: =IF(I243 > 0, I243,) -> 0 | K243: =IF(I243 <= 0, I243,)*-1 -> 108.3085 | L243: =(D243/1000)*(('Dynamic Data'!C$4*9.81*'Dynamic Data'!C$10)+(0.5*'Dynamic Data'!C$21*'Dynamic Data'!C$11*'Dynamic Data'!C$13*D243^2)+('Dynamic Data'!C$4*'Dynamic Data'!C$18*E243)) -> -1.3443716 | M243: =IF(L243 > 0, L243,) -> 0 | N243: =ABS(IF(L243 <= 0, L243,)) -> 1.3443716 | O243: =(B244 - B243) * (L244 + L243) / 2 -> -1.2573228 | P243: =IF(O243 >= 0, O243,) -> 0 | Q243: =ABS(IF(O243 <= 0, O243,)) -> 1.2573228 | S243: =SUM($P$2:P243) -> 179.49383 | T243: =SUM($Q$2:Q243) -> 44.428375 | U243: =T243*'KERS System Values'!E$14 -> 26.015893
A244: Low | B244: 242 | C244: 242 | D244: 10.972222 | E244: -0.625 | F244: ='Dynamic Data'!C$4*E244 -> -180 | G244: =(0.5*'Dynamic Data'!C$21*'Dynamic Data'!C$11*'Dynamic Data'!C$13*D244^2) -> 24.628709 | H244: ='Dynamic Data'!C$15 -> 56.5056 | I244: ='Dynamic Data'!C$15+G244+F244 -> -98.865691 | J244: =IF(I244 > 0, I244,) -> 0 | K244: =IF(I244 <= 0, I244,)*-1 -> 98.865691 | L244: =(D244/1000)*(('Dynamic Data'!C$4*9.81*'Dynamic Data'!C$10)+(0.5*'Dynamic Data'!C$21*'Dynamic Data'!C$11*'Dynamic Data'!C$13*D244^2)+('Dynamic Data'!C$4*'Dynamic Data'!C$18*E244)) -> -1.1702741 | M244: =IF(L244 > 0, L244,) -> 0 | N244: =ABS(IF(L244 <= 0, L244,)) -> 1.1702741 | O244: =(B245 - B244) * (L245 + L244) / 2 -> -1.2345355 | P244: =IF(O244 >= 0, O244,) -> 0 | Q244: =ABS(IF(O244 <= 0, O244,)) -> 1.2345355 | S244: =SUM($P$2:P244) -> 179.49383 | T244: =SUM($Q$2:Q244) -> 45.662911 | U244: =T244*'KERS System Values'!E$14 -> 26.738799
A245: Low | B245: 243 | C245: 243 | D245: 10.277778 | E245: -0.68055556 | F245: ='Dynamic Data'!C$4*E245 -> -196 | G245: =(0.5*'Dynamic Data'!C$21*'Dynamic Data'!C$11*'Dynamic Data'!C$13*D245^2) -> 21.609807 | H245: ='Dynamic Data'!C$15 -> 56.5056 | I245: ='Dynamic Data'!C$15+G245+F245 -> -117.88459 | J245: =IF(I245 > 0, I245,) -> 0 | K245: =IF(I245 <= 0, I245,)*-1 -> 117.88459 | L245: =(D245/1000)*(('Dynamic Data'!C$4*9.81*'Dynamic Data'!C$10)+(0.5*'Dynamic Data'!C$21*'Dynamic Data'!C$11*'Dynamic Data'!C$13*D245^2)+('Dynamic Data'!C$4*'Dynamic Data'!C$18*E245)) -> -1.2987969 | M245: =IF(L245 > 0, L245,) -> 0 | N245: =ABS(IF(L245 <= 0, L245,)) -> 1.2987969 | O245: =(B246 - B245) * (L246 + L245) / 2 -> -1.2296002 | P245: =IF(O245 >= 0, O245,) -> 0 | Q245: =ABS(IF(O245 <= 0, O245,)) -> 1.2296002 | S245: =SUM($P$2:P245) -> 179.49383 | T245: =SUM($Q$2:Q245) -> 46.892511 | U245: =T245*'KERS System Values'!E$14 -> 27.458815
A246: Low | B246: 244 | C246: 244 | D246: 9.6111111 | E246: -0.65277778 | F246: ='Dynamic Data'!C$4*E246 -> -188 | G246: =(0.5*'Dynamic Data'!C$21*'Dynamic Data'!C$11*'Dynamic Data'!C$13*D246^2) -> 18.897295 | H246: ='Dynamic Data'!C$15 -> 56.5056 | I246: ='Dynamic Data'!C$15+G246+F246 -> -112.5971 | J246: =IF(I246 > 0, I246,) -> 0 | K246: =IF(I246 <= 0, I246,)*-1 -> 112.5971 | L246: =(D246/1000)*(('Dynamic Data'!C$4*9.81*'Dynamic Data'!C$10)+(0.5*'Dynamic Data'!C$21*'Dynamic Data'!C$11*'Dynamic Data'!C$13*D246^2)+('Dynamic Data'!C$4*'Dynamic Data'!C$18*E246)) -> -1.1604035 | M246: =IF(L246 > 0, L246,) -> 0 | N246: =ABS(IF(L246 <= 0, L246,)) -> 1.1604035 | O246: =(B247 - B246) * (L247 + L246) / 2 -> -1.3012226 | P246: =IF(O246 >= 0, O246,) -> 0 | Q246: =ABS(IF(O246 <= 0, O246,)) -> 1.3012226 | S246: =SUM($P$2:P246) -> 179.49383 | T246: =SUM($Q$2:Q246) -> 48.193733 | U246: =T246*'KERS System Values'!E$14 -> 28.220771
...

Sheet Tractive & Total Tractive Force

Sheet Accel & Braking Forces

Sheet Driving Power

Sheet Tractive Energy

Sheet Braking Energy

Sheet Cumulative Energy
