Workbook

Sheet Dynamic Data
B2: Ducati Panigale 1199 | E2: Low Speed Run
B3: Kerb Mass (kg) | C3: 188 | E3: dt (s) | F3: 40.99
B4: Test Mass (kg) | C4: =C3+25+75 -> 288 | E4: dv (m/s) (Decceleration) | F4: =F7-F9 -> 23.938889
B5: Power (W) | C5: 140500 | E5: Resistance (N) | F5: =(F4/F3)*C$4 -> 168.19712
B6: Power/Mass Ratio (W/kg) | C6: =C5/C3 -> 747.34043 | E6: V1 (km/h) | F6: 93.56
B7: Max Velocity (mph) | C7: 185 | E7: V1 (m/s) | F7: =F6*1000/3600 -> 25.988889
B8: Max Velocity (km/h) | C8: 297.72 | E8: V2 (Km/h) | F8: 7.38
B9: Max Velocity (m/s) | C9: =C8*(1000/3600) -> 82.7 | E9: V2 (m/s) | F9: =F8*1000/3600 -> 2.05
B10: Rolling Resistance Coefficient | C10: 0.02
B11: Coefficient of Aerodynamic Drag | C11: =(2*C12)/(C21*C13*C14^2) -> 0.69583316 | E11: High Speed Run
B12: Aero Resistance (N) | C12: =F$14-F$5 -> 218.28564 | E12: dt (s) | F12: 20.3
B13: Frontal Area (m²) | C13: 0.48 | E13: dv (m/s) (Decceleration) | F13: =F16-F18 -> 27.241667
B14: Mean Velocity (m/s) | C14: =AVERAGE(F16,F18) -> 32.665278 | E14: Resistance (N) | F14: =(F13/F12)*C$4 -> 386.48276
B15: Rolling Resistance | C15: =C10*C4*9.81 -> 56.5056 | E15: V1 (km/h) | F15: 166.63
B16: Wheel Mass (kg) | C16: 10 | E16: V1 (m/s) | F16: =F15*1000/3600 -> 46.286111
B17: Wheel Radius (m) | C17: 0.323 | E17: V2 (Km/h) | F17: 68.56
B18: Rotational Inertia Factor | C18: =C16*C17^2 -> 1.04329 | E18: V2 (m/s) | F18: =F17*1000/3600 -> 19.044444
B20: Enviromental Values
B21: Air Density (Kg/m³) | C21: 1.225

Sheet KERS System Values
B1: Component Specifications
B3: Energy (kJ) | E3: Motor Generator Unit (MGU)
B4: Total Tractive Energy | C4: =MAX(Calculations!S:S) -> 4158.5212 | E4: Max Power Rating (kW) | F4: =B26*1 -> 5.2895631
B5: Total Braking Energy | C5: =MAX(Calculations!T:T) -> 404.02769 | E5: Average RPM Range | F5: 6000
B6: Total Energy Losses | C6: =C4-C5 -> 3754.4936 | E6: Torque (Nm) | F6: =((B26*1000)/((2*PI()*F5)/60)) -> 8.4186011
E7: Efficiency (89.5%) | F7: 0.895
B8: Braking Events | E8: Invertor Unit
B9: Total Braking Time (s) | C9: =COUNTIF(Calculations!Q2:Q1802, ">0") -> 342 | E9: Efficiency (90%) | F9: 0.9
B10: Braking Events | C10: {=SUM(IF((Calculations!Q2:Q1802>0)*(Calculations!Q1:Q1801=0),1,0))} -> 47 | E10: Energy Storage System (ESS)
B11: Average Braking Event Period (s) | C11: =C9/C10 -> 7.2765957 | E11: Max Capacity (kJ) | F11: =C12 -> 38.490012
B12: Maximum Braking Energy (kJ) | C12: =MAX(Calculations!R:R) -> 38.490012 | E12: Efficiency (95%) | F12: 0.95
E13: Overall Efficiency (%)
B14: Supercapacitor Values | E14: =(F12*F9*F7)^2 -> 0.5855693
B15: Max Voltage (V) | C15: 100
B16: Min Voltage (V) | C16: 50 | E16: MGU System Ratings (Safety Margin)
B17: Average Voltage (V) | C17: =(C15+C16)/2 -> 75 | E17: Power (kW) | F17: =F4*1.2 -> 6.3474757
B18: System Current (I) | C18: =B26*1000/C17 -> 70.527508 | E18: Torque (Nm) | F18: =F6*1.2 -> 10.102321
B19: Capacitance (F) | C19: =(2*(C12*1000))/(C15^2-C16^2) -> 10.264003 | E19: Voltage (V) | F19: =C15*1.2 -> 120
B20: Max Cell Voltage (V) | C20: 2.7 | E20: Current (I) | F20: =C18*1.2 -> 84.63301
B21: Required Cells | C21: =ROUNDUP((C15/C20),0.1) -> 38
B22: Cell Capacitance (F) | C22: =C21*C19 -> 390.03212 | E22: Invertor System Ratings (Safety Margin)
B23: Energy Storage (kJ) | C23: =(0.5*C19*(C15^2-C16^2))/1000 -> 38.490012 | E23: Power (kW) | F23: =(B26/F9)*1.3 -> 7.64048
E24: Voltage (V) | F24: =C15*1.2 -> 120
B25: Power Required (kW) | E25: Current (I) | F25: =C18*1.2 -> 84.63301
B26: =C12/C11 -> 5.2895631
B27: Generated Energy (kJ) | E27: ESS System Ratings (Safety Margin)
B28: =C12*E14 -> 22.53857 | E28: Power (kW) | F28: =(B26/F12)*1.2 -> 6.6815534
E29: Capacitance (F) | F29: =C19*1.2 -> 12.316804
E30: Voltage (V) | F30: =C15*1.2 -> 120
E31: Current (I) | F31: =C18*1.2 -> 84.63301

Sheet Calculations
A1: Phase | B1: Total Time Elapsed (s) | C1: Phase Time Elapsed (s) | D1: Vehicle Speed (m/s) | E1: Vehicle Acceleration (m/s²) | F1: Acceleration Forces (N) | G1: Drag Forces (N) | H1: Rolling Resistance (N) | I1: Total Forces (N) | J1: Accelerating Forces (N) | K1: Braking Forces (N) | L1: Driving Power (kW) | M1: Tractive Power (kW) | N1: Braking Power (kW) | O1: Driving Energy (kJ) | P1: Tractive Energy (kJ) | Q1: Braking Energy (kJ) | R1: Total Braking Energy (Per Event) (kJ) | S1: Cumulative Tractive Energy (kJ) | T1: Cumulative Braking Energy (kJ) | U1: Energy Returnted to Wheel
A2: Low | B2: 0 | C2: 0 | D2: 0 | E2: 0 | F2: ='Dynamic Data'!C$4*E2 -> 0 | G2: =(0.5*'Dynamic Data'!C$21*'Dynamic Data'!C$11*'Dynamic Data'!C$13*D2^2) -> 0 | H2: ='Dynamic Data'!C$15 -> 56.5056 | I2: ='Dynamic Data'!C$15+G2+F2 -> 56.5056 | J2: =IF(I2 > 0, I2,) -> 56.5056 | K2: =IF(I2 <= 0, I2,)*-1 -> 0 | L2: =(D2/1000)*(('Dynamic Data'!C$4*9.81*'Dynamic Data'!C$10)+(0.5*'Dynamic Data'!C$21*'Dynamic Data'!C$11*'Dynamic Data'!C$13*D2^2)+('Dynamic Data'!C$4*'Dynamic Data'!C$18*E2)) -> 0 | M2: =IF(L2 > 0, L2,) -> 0 | N2: =ABS(IF(L2 <= 0, L2,)) -> 0 | O2: =(B3 - B2) * (L3 + L2) / 2 -> 0 | P2: =IF(O2 >= 0, O2,) -> 0 | Q2: =ABS(IF(O2 <= 0, O2,)) -> 0 | S2: =SUM($P$2:P2) -> 0 | T2: =SUM($Q$2:Q2) -> 0 | U2: =T2*'KERS System Values'!E$14 -> 0
A3: Low | B3: 1 | C3: 1 | D3: 0 | E3: 0 | F3: ='Dynamic Data'!C$4*E3 -> 0 | G3: =(0.5*'Dynamic Data'!C$21*'Dynamic Data'!C$11*'Dynamic Data'!C$13*D3^2) -> 0 | H3: ='Dynamic Data'!C$15 -> 56.5056 | I3: ='Dynamic Data'!C$15+G3+F3 -> 56.5056 | J3: =IF(I3 > 0, I3,) -> 56.5056 | K3: =IF(I3 <= 0, I3,)*-1 -> 0 | L3: =(D3/1000)*(('Dynamic Data'!C$4*9.81*'Dynamic Data'!C$10)+(0.5*'Dynamic Data'!C$21*'Dynamic Data'!C$11*'Dynamic Data'!C$13*D3^2)+('Dynamic Data'!C$4*'Dynamic Data'!C$18*E3)) -> 0 | M3: =IF(L3 > 0, L3,) -> 0 | N3: =ABS(IF(L3 <= 0, L3,)) -> 0 | O3: =(B4 - B3) * (L4 + L3) / 2 -> 0 | P3: =IF(O3 >= 0, O3,) -> 0 | Q3: =ABS(IF(O3 <= 0, O3,)) -> 0 | S3: =SUM($P$2:P3) -> 0 | T3: =SUM($Q$2:Q3) -> 0 | U3: =T3*'KERS System Values'!E$14 -> 0
A4: Low | B4: 2 | C4: 2 | D4: 0 | E4: 0 | F4: ='Dynamic Data'!C$4*E4 -> 0 | G4: =(0.5*'Dynamic Data'!C$21*'Dynamic Data'!C$11*'Dynamic Data'!C$13*D4^2) -> 0 | H4: ='Dynamic Data'!C$15 -> 56.5056 | I4: ='Dynamic Data'!C$15+G4+F4 -> 56.5056 | J4: =IF(I4 > 0, I4,) -> 56.5056 | K4: =IF(I4 <= 0, I4,)*-1 -> 0 | L4: =(D4/1000)*(('Dynamic Data'!C$4*9.81*'Dynamic Data'!C$10)+(0.5*'Dynamic Data'!C$21*'Dynamic Data'!C$11*'Dynamic Data'!C$13*D4^2)+('Dynamic Data'!C$4*'Dynamic Data'!C$18*E4)) -> 0 | M4: =IF(L4 > 0, L4,) -> 0 | N4: =ABS(IF(L4 <= 0, L4,)) -> 0 | O4: =(B5 - B4) * (L5 + L4) / 2 -> 0 | P4: =IF(O4 >= 0, O4,) -> 0 | Q4: =ABS(IF(O4 <= 0, O4,)) -> 0 | S4: =SUM($P$2:P4) -> 0 | T4: =SUM($Q$2:Q4) -> 0 | U4: =T4*'KERS System Values'!E$14 -> 0
A5: Low | B5: 3 | C5: 3 | D5: 0 | E5: 0 | F5: ='Dynamic Data'!C$4*E5 -> 0 | G5: =(0.5*'Dynamic Data'!C$21*'Dynamic Data'!C$11*'Dynamic Data'!C$13*D5^2) -> 0 | H5: ='Dynamic Data'!C$15 -> 56.5056 | I5: ='Dynamic Data'!C$15+G5+F5 -> 56.5056 | J5: =IF(I5 > 0, I5,) -> 56.5056 | K5: =IF(I5 <= 0, I5,)*-1 -> 0 | L5: =(D5/1000)*(('Dynamic Data'!C$4*9.81*'Dynamic Data'!C$10)+(0.5*'Dynamic Data'!C$21*'Dynamic Data'!C$11*'Dynamic Data'!C$13*D5^2)+('Dynamic Data'!C$4*'Dynamic Data'!C$18*E5)) -> 0 | M5: =IF(L5 > 0, L5,) -> 0 | N5: =ABS(IF(L5 <= 0, L5,)) -> 0 | O5: =(B6 - B5) * (L6 + L5) / 2 -> 0 | P5: =IF(O5 >= 0, O5,) -> 0 | Q5: =ABS(IF(O5 <= 0, O5,)) -> 0 | S5: =SUM($P$2:P5) -> 0 | T5: =SUM($Q$2:Q5) -> 0 | U5: =T5*'KERS System Values'!E$14 -> 0
A6: Low | B6: 4 | C6: 4 | D6: 0 | E6: 0 | F6: ='Dynamic Data'!C$4*E6 -> 0 | G6: =(0.5*'Dynamic Data'!C$21*'Dynamic Data'!C$11*'Dynamic Data'!C$13*D6^2) -> 0 | H6: ='Dynamic Data'!C$15 -> 56.5056 | I6: ='Dynamic Data'!C$15+G6+F6 -> 56.5056 | J6: =IF(I6 > 0, I6,) -> 56.5056 | K6: =IF(I6 <= 0, I6,)*-1 -> 0 | L6: =(D6/1000)*(('Dynamic Data'!C$4*9.81*'Dynamic Data'!C$10)+(0.5*'Dynamic Data'!C$21*'Dynamic Data'!C$11*'Dynamic Data'!C$13*D6^2)+('Dynamic Data'!C$4*'Dynamic Data'!C$18*E6)) -> 0 | M6: =IF(L6 > 0, L6,) -> 0 | N6: =ABS(IF(L6 <= 0, L6,)) -> 0 | O6: =(B7 - B6) * (L7 + L6) / 2 -> 0 | P6: =IF(O6 >= 0, O6,) -> 0 | Q6: =ABS(IF(O6 <= 0, O6,)) -> 0 | S6: =SUM($P$2:P6) -> 0 | T6: =SUM($Q$2:Q6) -> 0 | U6: =T6*'KERS System Values'!E$14 -> 0
A7: Low | B7: 5 | C7: 5 | D7: 0 | E7: 0 | F7: ='Dynamic Data'!C$4*E7 -> 0 | G7: =(0.5*'Dynamic Data'!C$21*'Dynamic Data'!C$11*'Dynamic Data'!C$13*D7^2) -> 0 | H7: ='Dynamic Data'!C$15 -> 56.5056 | I7: ='Dynamic Data'!C$15+G7+F7 -> 56.5056 | J7: =IF(I7 > 0, I7,) -> 56.5056 | K7: =IF(I7 <= 0, I7,)*-1 -> 0 | L7: =(D7/1000)*(('Dynamic Data'!C$4*9.81*'Dynamic Data'!C$10)+(0.5*'Dynamic Data'!C$21*'Dynamic Data'!C$11*'Dynamic Data'!C$13*D7^2)+('Dynamic Data'!C$4*'Dynamic Data'!C$18*E7)) -> 0 | M7: =IF(L7 > 0, L7,) -> 0 | N7: =ABS(IF(L7 <= 0, L7,)) -> 0 | O7: =(B8 - B7) * (L8 + L7) / 2 -> 0 | P7: =IF(O7 >= 0, O7,) -> 0 | Q7: =ABS(IF(O7 <= 0, O7,)) -> 0 | S7: =SUM($P$2:P7) -> 0 | T7: =SUM($Q$2:Q7) -> 0 | U7: =T7*'KERS System Values'!E$14 -> 0
A8: Low | B8: 6 | C8: 6 | D8: 0 | E8: 0 | F8: ='Dynamic Data'!C$4*E8 -> 0 | G8: =(0.5*'Dynamic Data'!C$21*'Dynamic Data'!C$11*'Dynamic Data'!C$13*D8^2) -> 0 | H8: ='Dynamic Data'!C$15 -> 56.5056 | I8: ='Dynamic Data'!C$15+G8+F8 -> 56.5056 | J8: =IF(I8 > 0, I8,) -> 56.5056 | K8: =IF(I8 <= 0, I8,)*-1 -> 0 | L8: =(D8/1000)*(('Dynamic Data'!C$4*9.81*'Dynamic Data'!C$10)+(0.5*'Dynamic Data'!C$21*'Dynamic Data'!C$11*'Dynamic Data'!C$13*D8^2)+('Dynamic Data'!C$4*'Dynamic Data'!C$18*E8)) -> 0 | M8: =IF(L8 > 0, L8,) -> 0 | N8: =ABS(IF(L8 <= 0, L8,)) -> 0 | O8: =(B9 - B8) * (L9 + L8) / 2 -> 0 | P8: =IF(O8 >= 0, O8,) -> 0 | Q8: =ABS(IF(O8 <= 0, O8,)) -> 0 | S8: =SUM($P$2:P8) -> 0 | T8: =SUM($Q$2:Q8) -> 0 | U8: =T8*'KERS System Values'!E$14 -> 0
A9: Low | B9: 7 | C9: 7 | D9: 0 | E9: 0 | F9: ='Dynamic Data'!C$4*E9 -> 0 | G9: =(0.5*'Dynamic Data'!C$21*'Dynamic Data'!C$11*'Dynamic Data'!C$13*D9^2) -> 0 | H9: ='Dynamic Data'!C$15 -> 56.5056 | I9: ='Dynamic Data'!C$15+G9+F9 -> 56.5056 | J9: =IF(I9 > 0, I9,) -> 56.5056 | K9: =IF(I9 <= 0, I9,)*-1 -> 0 | L9: =(D9/1000)*(('Dynamic Data'!C$4*9.81*'Dynamic Data'!C$10)+(0.5*'Dynamic Data'!C$21*'Dynamic Data'!C$11*'Dynamic Data'!C$13*D9^2)+('Dynamic Data'!C$4*'Dynamic Data'!C$18*E9)) -> 0 | M9: =IF(L9 > 0, L9,) -> 0 | N9: =ABS(IF(L9 <= 0, L9,)) -> 0 | O9: =(B10 - B9) * (L10 + L9) / 2 -> 0 | P9: =IF(O9 >= 0, O9,) -> 0 | Q9: =ABS(IF(O9 <= 0, O9,)) -> 0 | S9: =SUM($P$2:P9) -> 0 | T9: =SUM($Q$2:Q9) -> 0 | U9: =T9*'KERS System Values'!E$14 -> 0
A10: Low | B10: 8 | C10: 8 | D10: 0 | E10: 0 | F10: ='Dynamic Data'!C$4*E10 -> 0 | G10: =(0.5*'Dynamic Data'!C$21*'Dynamic Data'!C$11*'Dynamic Data'!C$13*D10^2) -> 0 | H10: ='Dynamic Data'!C$15 -> 56.5056 | I10: ='Dynamic Data'!C$15+G10+F10 -> 56.5056 | J10: =IF(I10 > 0, I10,) -> 56.5056 | K10: =IF(I10 <= 0, I10,)*-1 -> 0 | L10: =(D10/1000)*(('Dynamic Data'!C$4*9.81*'Dynamic Data'!C$10)+(0.5*'Dynamic Data'!C$21*'Dynamic Data'!C$11*'Dynamic Data'!C$13*D10^2)+('Dynamic Data'!C$4*'Dynamic Data'!C$18*E10)) -> 0 | M10: =IF(L10 > 0, L10,) -> 0 | N10: =ABS(IF(L10 <= 0, L10,)) -> 0 | O10: =(B11 - B10) * (L11 + L10) / 2 -> 0 | P10: =IF(O10 >= 0, O10,) -> 0 | Q10: =ABS(IF(O10 <= 0, O10,)) -> 0 | S10: =SUM($P$2:P10) -> 0 | T10: =SUM($Q$2:Q10) -> 0 | U10: =T10*'KERS System Values'!E$14 -> 0
A11: Low | B11: 9 | C11: 9 | D11: 0 | E11: 0 | F11: ='Dynamic Data'!C$4*E11 -> 0 | G11: =(0.5*'Dynamic Data'!C$21*'Dynamic Data'!C$11*'Dynamic Data'!C$13*D11^2) -> 0 | H11: ='Dynamic Data'!C$15 -> 56.5056 | I11: ='Dynamic Data'!C$15+G11+F11 -> 56.5056 | J11: =IF(I11 > 0, I11,) -> 56.5056 | K11: =IF(I11 <= 0, I11,)*-1 -> 0 | L11: =(D11/1000)*(('Dynamic Data'!C$4*9.81*'Dynamic Data'!C$10)+(0.5*'Dynamic Data'!C$21*'Dynamic Data'!C$11*'Dynamic Data'!C$13*D11^2)+('Dynamic Data'!C$4*'Dynamic Data'!C$18*E11)) -> 0 | M11: =IF(L11 > 0, L11,) -> 0 | N11: =ABS(IF(L11 <= 0, L11,)) -> 0 | O11: =(B12 - B11) * (L12 + L11) / 2 -> 0 | P11: =IF(O11 >= 0, O11,) -> 0 | Q11: =ABS(IF(O11 <= 0, O11,)) -> 0 | S11: =SUM($P$2:P11) -> 0 | T11: =SUM($Q$2:Q11) -> 0 | U11: =T11*'KERS System Values'!E$14 -> 0
A12: Low | B12: 10 | C12: 10 | D12: 0 | E12: 0 | F12: ='Dynamic Data'!C$4*E12 -> 0 | G12: =(0.5*'Dynamic Data'!C$21*'Dynamic Data'!C$11*'Dynamic Data'!C$13*D12^2) -> 0 | H12: ='Dynamic Data'!C$15 -> 56.5056 | I12: ='Dynamic Data'!C$15+G12+F12 -> 56.5056 | J12: =IF(I12 > 0, I12,) -> 56.5056 | K12: =IF(I12 <= 0, I12,)*-1 -> 0 | L12: =(D12/1000)*(('Dynamic Data'!C$4*9.81*'Dynamic Data'!C$10)+(0.5*'Dynamic Data'!C$21*'Dynamic Data'!C$11*'Dynamic Data'!C$13*D12^2)+('Dynamic Data'!C$4*'Dynamic Data'!C$18*E12)) -> 0 | M12: =IF(L12 > 0, L12,) -> 0 | N12: =ABS(IF(L12 <= 0, L12,)) -> 0 | O12: =(B13 - B12) * (L13 + L12) / 2 -> 0 | P12: =IF(O12 >= 0, O12,) -> 0 | Q12: =ABS(IF(O12 <= 0, O12,)) -> 0 | S12: =SUM($P$2:P12) -> 0 | T12: =SUM($Q$2:Q12) -> 0 | U12: =T12*'KERS System Values'!E$14 -> 0
A13: Low | B13: 11 | C13: 11 | D13: 0 | E13: 0.027777778 | F13: ='Dynamic Data'!C$4*E13 -> 8 | G13: =(0.5*'Dynamic Data'!C$21*'Dynamic Data'!C$11*'Dynamic Data'!C$13*D13^2) -> 0 | H13: ='Dynamic Data'!C$15 -> 56.5056 | I13: ='Dynamic Data'!C$15+G13+F13 -> 64.5056 | J13: =IF(I13 > 0, I13,) -> 64.5056 | K13: =IF(I13 <= 0, I13,)*-1 -> 0 | L13: =(D13/1000)*(('Dynamic Data'!C$4*9.81*'Dynamic Data'!C$10)+(0.5*'Dynamic Data'!C$21*'Dynamic Data'!C$11*'Dynamic Data'!C$13*D13^2)+('Dynamic Data'!C$4*'Dynamic Data'!C$18*E13)) -> 0 | M13: =IF(L13 > 0, L13,) -> 0 | N13: =ABS(IF(L13 <= 0, L13,)) -> 0 | O13: =(B14 - B13) * (L14 + L13) / 2 -> 0.0035402764 | P13: =IF(O13 >= 0, O13,) -> 0.0035402764 | Q13: =ABS(IF(O13 <= 0, O13,)) -> 0 | S13: =SUM($P$2:P13) -> 0.0035402764 | T13: =SUM($Q$2:Q13) -> 0 | U13: =T13*'KERS System Values'!E$14 -> 0
... A48: Low | B48: 46 | C48: 46 | D48: 5.6666667 | E48: -0.19444444 | F48: ='Dynamic Data'!C$4*E48 -> -56 | G48: =(0.5*'Dynamic Data'!C$21*'Dynamic Data'!C$11*'Dynamic Data'!C$13*D48^2) -> 6.5691289 | H48: ='Dynamic Data'!C$15 -> 56.5056 | I48: ='Dynamic Data'!C$15+G48+F48 -> 7.0747289 | J48: =IF(I48 > 0, I48,) -> 7.0747289 | K48: =IF(I48 <= 0, I48,)*-1 -> 0 | L48: =(D48/1000)*(('Dynamic Data'!C$4*9.81*'Dynamic Data'!C$10)+(0.5*'Dynamic Data'!C$21*'Dynamic Data'!C$11*'Dynamic Data'!C$13*D48^2)+('Dynamic Data'!C$4*'Dynamic Data'!C$18*E48)) -> 0.02635277 | M48: =IF(L48 > 0, L48,) -> 0.02635277 | N48: =ABS(IF(L48 <= 0, L48,)) -> 0 | O48: =(B49 - B48) * (L49 + L48) / 2 -> -0.043577591 | P48: =IF(O48 >= 0, O48,) -> 0 | Q48: =ABS(IF(O48 <= 0, O48,)) -> 0.043577591 | S48: =SUM($P$2:P48) -> 37.10028 | T48: =SUM($Q$2:Q48) -> 11.002567 | U48: =T48*'KERS System Values'!E$14 -> 6.4427652
A49: Low | B49: 47 | C49: 47 | D49: 5.4166667 | E49: -0.27777778 | F49: ='Dynamic Data'!C$4*E49 -> -80 | G49: =(0.5*'Dynamic Data'!C$21*'Dynamic Data'!C$11*'Dynamic Data'!C$13*D49^2) -> 6.0022858 | H49: ='Dynamic Data'!C$15 -> 56.5056 | I49: ='Dynamic Data'!C$15+G49+F49 -> -17.492114 | J49: =IF(I49 > 0, I49,) -> 0 | K49: =IF(I49 <= 0, I49,)*-1 -> 17.492114 | L49: =(D49/1000)*(('Dynamic Data'!C$4*9.81*'Dynamic Data'!C$10)+(0.5*'Dynamic Data'!C$21*'Dynamic Data'!C$11*'Dynamic Data'!C$13*D49^2)+('Dynamic Data'!C$4*'Dynamic Data'!C$18*E49)) -> -0.11350795 | M49: =IF(L49 > 0, L49,) -> 0 | N49: =ABS(IF(L49 <= 0, L49,)) -> 0.11350795 | O49: =(B50 - B49) * (L50 + L49) / 2 -> -0.079993981 | P49: =IF(O49 >= 0, O49,) -> 0 | Q49: =ABS(IF(O49 <= 0, O49,)) -> 0.079993981 | R49: =SUM(Q38:Q49) -> 11.082561 | S49: =SUM($P$2:P49) -> 37.10028 | T49: =SUM($Q$2:Q49) -> 11.082561 | U49: =T49*'KERS System Values'!E$14 -> 6.4896072
A50: Low | B50: 48 | C50: 48 | D50: 5.1111111 | E50: -0.23611111 | F50: ='Dynamic Data'!C$4*E50 -> -68 | G50: =(0.5*'Dynamic Data'!C$21*'Dynamic Data'!C$11*'Dynamic Data'!C$13*D50^2) -> 5.3442048 | H50: ='Dynamic Data'!C$15 -> 56.5056 | I50: ='Dynamic Data'!C$15+G50+F50 -> -6.1501952 | J50: =IF(I50 > 0, I50,) -> 0 | K50: =IF(I50 <= 0, I50,)*-1 -> 6.1501952 | L50: =(D50/1000)*(('Dynamic Data'!C$4*9.81*'Dynamic Data'!C$10)+(0.5*'Dynamic Data'!C$21*'Dynamic Data'!C$11*'Dynamic Data'!C$13*D50^2)+('Dynamic Data'!C$4*'Dynamic Data'!C$18*E50)) -> -0.046480011 | M50: =IF(L50 > 0, L50,) -> 0 | N50: =ABS(IF(L50 <= 0, L50,)) -> 0.046480011 | O50: =(B51 - B50) * (L51 + L50) / 2 -> 0.066916976 | P50: =IF(O50 >= 0, O50,) -> 0.066916976 | Q50: =ABS(IF(O50 <= 0, O50,)) -> 0 | S50: =SUM($P$2:P50) -> 37.167197 | T50: =SUM($Q$2:Q50) -> 11.082561 | U50: =T50*'KERS System Values'!E$14 -> 6.4896072
A51: Low | B51: 49 | C51: 49 | D51: 4.9444444 | E51: -0.083333333 | F51: ='Dynamic Data'!C$4*E51 -> -24 | G51: =(0.5*'Dynamic Data'!C$21*'Dynamic Data'!C$11*'Dynamic Data'!C$13*D51^2) -> 5.0013524 | H51: ='Dynamic Data'!C$15 -> 56.5056 | I51: ='Dynamic Data'!C$15+G51+F51 -> 37.506952 | J51: =IF(I51 > 0, I51,) -> 37.506952 | K51: =IF(I51 <= 0, I51,)*-1 -> 0 | L51: =(D51/1000)*(('Dynamic Data'!C$4*9.81*'Dynamic Data'!C$10)+(0.5*'Dynamic Data'!C$21*'Dynamic Data'!C$11*'Dynamic Data'!C$13*D51^2)+('Dynamic Data'!C$4*'Dynamic Data'!C$18*E51)) -> 0.18031396 | M51: =IF(L51 > 0, L51,) -> 0.18031396 | N51: =ABS(IF(L51 <= 0, L51,)) -> 0 | O51: =(B52 - B51) * (L52 + L51) / 2 -> 0.20094792 | P51: =IF(O51 >= 0, O51,) -> 0.20094792 | Q51: =ABS(IF(O51 <= 0, O51,)) -> 0 | S51: =SUM($P$2:P51) -> 37.368145 | T51: =SUM($Q$2:Q51) -> 11.082561 | U51: =T51*'KERS System Values'!E$14 -> 6.4896072
A52: Low | B52: 50 | C52: 50 | D52: 4.9444444 | E52: -0.055555556 | F52: ='Dynamic Data'!C$4*E52 -> -16 | G52: =(0.5*'Dynamic Data'!C$21*'Dynamic Data'!C$11*'Dynamic Data'!C$13*D52^2) -> 5.0013524 | H52: ='Dynamic Data'!C$15 -> 56.5056 | I52: ='Dynamic Data'!C$15+G52+F52 -> 45.506952 | J52: =IF(I52 > 0, I52,) -> 45.506952 | K52: =IF(I52 <= 0, I52,)*-1 -> 0 | L52: =(D52/1000)*(('Dynamic Data'!C$4*9.81*'Dynamic Data'!C$10)+(0.5*'Dynamic Data'!C$21*'Dynamic Data'!C$11*'Dynamic Data'!C$13*D52^2)+('Dynamic Data'!C$4*'Dynamic Data'!C$18*E52)) -> 0.22158188 | M52: =IF(L52 > 0, L52,) -> 0.22158188 | N52: =ABS(IF(L52 <= 0, L52,)) -> 0 | O52: =(B53 - B52) * (L53 + L52) / 2 -> 0.047107756 | P52: =IF(O52 >= 0, O52,) -> 0.047107756 | Q52: =ABS(IF(O52 <= 0, O52,)) -> 0 | S52: =SUM($P$2:P52) -> 37.415253 | T52: =SUM($Q$2:Q52) -> 11.082561 | U52: =T52*'KERS System Values'!E$14 -> 6.4896072
A53: Low | B53: 51 | C53: 51 | D53: 4.8333333 | E53: -0.29166667 | F53: ='Dynamic Data'!C$4*E53 -> -84 | G53: =(0.5*'Dynamic Data'!C$21*'Dynamic Data'!C$11*'Dynamic Data'!C$13*D53^2) -> 4.7790981 | H53: ='Dynamic Data'!C$15 -> 56.5056 | I53: ='Dynamic Data'!C$15+G53+F53 -> -22.715302 | J53: =IF(I53 > 0, I53,) -> 0 | K53: =IF(I53 <= 0, I53,)*-1 -> 22.715302 | L53: =(D53/1000)*(('Dynamic Data'!C$4*9.81*'Dynamic Data'!C$10)+(0.5*'Dynamic Data'!C$21*'Dynamic Data'!C$11*'Dynamic Data'!C$13*D53^2)+('Dynamic Data'!C$4*'Dynamic Data'!C$18*E53)) -> -0.12736637 | M53: =IF(L53 > 0, L53,) -> 0 | N53: =ABS(IF(L53 <= 0, L53,)) -> 0.12736637 | O53: =(B54 - B53) * (L54 + L53) / 2 -> -0.32327703 | P53: =IF(O53 >= 0, O53,) -> 0 | Q53: =ABS(IF(O53 <= 0, O53,)) -> 0.32327703 | S53: =SUM($P$2:P53) -> 37.415253 | T53: =SUM($Q$2:Q53) -> 11.405838 | U53: =T53*'KERS System Values'!E$14 -> 6.6789083
A54: Low | B54: 52 | C54: 52 | D54: 4.3611111 | E54: -0.59722222 | F54: ='Dynamic Data'!C$4*E54 -> -172 | G54: =(0.5*'Dynamic Data'!C$21*'Dynamic Data'!C$11*'Dynamic Data'!C$13*D54^2) -> 3.8908703 | H54: ='Dynamic Data'!C$15 -> 56.5056 | I54: ='Dynamic Data'!C$15+G54+F54 -> -111.60353 | J54: =IF(I54 > 0, I54,) -> 0 | K54: =IF(I54 <= 0, I54,)*-1 -> 111.60353 | L54: =(D54/1000)*(('Dynamic Data'!C$4*9.81*'Dynamic Data'!C$10)+(0.5*'Dynamic Data'!C$21*'Dynamic Data'!C$11*'Dynamic Data'!C$13*D54^2)+('Dynamic Data'!C$4*'Dynamic Data'!C$18*E54)) -> -0.5191877 | M54: =IF(L54 > 0, L54,) -> 0 | N54: =ABS(IF(L54 <= 0, L54,)) -> 0.5191877 | O54: =(B55 - B54) * (L55 + L54) / 2 -> -0.42519837 | P54: =IF(O54 >= 0, O54,) -> 0 | Q54: =ABS(IF(O54 <= 0, O54,)) -> 0.42519837 | S54: =SUM($P$2:P54) -> 37.415253 | T54: =SUM($Q$2:Q54) -> 11.831036 | U54: =T54*'KERS System Values'!E$14 -> 6.9278914
A55: Low | B55: 53 | C55: 53 | D55: 3.6388889 | E55: -0.5 | F55: ='Dynamic Data'!C$4*E55 -> -144 | G55: =(0.5*'Dynamic Data'!C$21*'Dynamic Data'!C$11*'Dynamic Data'!C$13*D55^2) -> 2.7088817 | H55: ='Dynamic Data'!C$15 -> 56.5056 | I55: ='Dynamic Data'!C$15+G55+F55 -> -84.785518 | J55: =IF(I55 > 0, I55,) -> 0 | K55: =IF(I55 <= 0, I55,)*-1 -> 84.785518 | L55: =(D55/1000)*(('Dynamic Data'!C$4*9.81*'Dynamic Data'!C$10)+(0.5*'Dynamic Data'!C$21*'Dynamic Data'!C$11*'Dynamic Data'!C$13*D55^2)+('Dynamic Data'!C$4*'Dynamic Data'!C$18*E55)) -> -0.33120904 | M55: =IF(L55 > 0, L55,) -> 0 | N55: =ABS(IF(L55 <= 0, L55,)) -> 0.33120904 | O55: =(B56 - B55) * (L56 + L55) / 2 -> -0.14390529 | P55: =IF(O55 >= 0, O55,) -> 0 | Q55: =ABS(IF(O55 <= 0, O55,)) -> 0.14390529 | R55: =SUM(Q53:Q55) -> 0.8923807 | S55: =SUM($P$2:P55) -> 37.415253 | T55: =SUM($Q$2:Q55) -> 11.974941 | U55: =T55*'KERS System Values'!E$14 -> 7.012158
A56: Low | B56: 54 | C56: 54 | D56: 3.3611111 | E56: -0.15277778 | F56: ='Dynamic Data'!C$4*E56 -> -44 | G56: =(0.5*'Dynamic Data'!C$21*'Dynamic Data'!C$11*'Dynamic Data'!C$13*D56^2) -> 2.3110971 | H56: ='Dynamic Data'!C$15 -> 56.5056 | I56: ='Dynamic Data'!C$15+G56+F56 -> 14.816697 | J56: =IF(I56 > 0, I56,) -> 14.816697 | K56: =IF(I56 <= 0, I56,)*-1 -> 0 | L56: =(D56/1000)*(('Dynamic Data'!C$4*9.81*'Dynamic Data'!C$10)+(0.5*'Dynamic Data'!C$21*'Dynamic Data'!C$11*'Dynamic Data'!C$13*D56^2)+('Dynamic Data'!C$4*'Dynamic Data'!C$18*E56)) -> 0.043398455 | M56: =IF(L56 > 0, L56,) -> 0.043398455 | N56: =ABS(IF(L56 <= 0, L56,)) -> 0 | O56: =(B57 - B56) * (L57 + L56) / 2 -> 0.11270839 | P56: =IF(O56 >= 0, O56,) -> 0.11270839 | Q56: =ABS(IF(O56 <= 0, O56,)) -> 0 | S56: =SUM($P$2:P56) -> 37.527961 | T56: =SUM($Q$2:Q56) -> 11.974941 | U56: =T56*'KERS System Values'!E$14 -> 7.012158
A57: Low | B57: 55 | C57: 55 | D57: 3.3333333 | E57: -0.013888889 | F57: ='Dynamic Data'!C$4*E57 -> -4 | G57: =(0.5*'Dynamic Data'!C$21*'Dynamic Data'!C$11*'Dynamic Data'!C$13*D57^2) -> 2.273055 | H57: ='Dynamic Data'!C$15 -> 56.5056 | I57: ='Dynamic Data'!C$15+G57+F57 -> 54.778655 | J57: =IF(I57 > 0, I57,) -> 54.778655 | K57: =IF(I57 <= 0, I57,)*-1 -> 0 | L57: =(D57/1000)*(('Dynamic Data'!C$4*9.81*'Dynamic Data'!C$10)+(0.5*'Dynamic Data'!C$21*'Dynamic Data'!C$11*'Dynamic Data'!C$13*D57^2)+('Dynamic Data'!C$4*'Dynamic Data'!C$18*E57)) -> 0.18201832 | M57: =IF(L57 > 0, L57,) -> 0.18201832 | N57: =ABS(IF(L57 <= 0, L57,)) -> 0 | O57: =(B58 - B57) * (L58 + L57) / 2 -> 0.18897358 | P57: =IF(O57 >= 0, O57,) -> 0.18897358 | Q57: =ABS(IF(O57 <= 0, O57,)) -> 0 | S57: =SUM($P$2:P57) -> 37.716935 | T57: =SUM($Q$2:Q57) -> 11.974941 | U57: =T57*'KERS System Values'!E$14 -> 7.012158
A58: Low | B58: 56 | C58: 56 | D58: 3.3333333 | E58: 0 | F58: ='Dynamic Data'!C$4*E58 -> 0 | G58: =(0.5*'Dynamic Data'!C$21*'Dynamic Data'!C$11*'Dynamic Data'!C$13*D58^2) -> 2.273055 | H58: ='Dynamic Data'!C$15 -> 56.5056 | I58: ='Dynamic Data'!C$15+G58+F58 -> 58.778655 | J58: =IF(I58 > 0, I58,) -> 58.778655 | K58: =IF(I58 <= 0, I58,)*-1 -> 0 | L58: =(D58/1000)*(('Dynamic Data'!C$4*9.81*'Dynamic Data'!C$10)+(0.5*'Dynamic Data'!C$21*'Dynamic Data'!C$11*'Dynamic Data'!C$13*D58^2)+('Dynamic Data'!C$4*'Dynamic Data'!C$18*E58)) -> 0.19592885 | M58: =IF(L58 > 0, L58,) -> 0.19592885 | N58: =ABS(IF(L58 <= 0, L58,)) -> 0 | O58: =(B59 - B58) * (L59 + L58) / 2 -> 0.21679465 | P58: =IF(O58 >= 0, O58,) -> 0.21679465 | Q58: =ABS(IF(O58 <= 0, O58,)) -> 0 | S58: =SUM($P$2:P58) -> 37.93373 | T58: =SUM($Q$2:Q58) -> 11.974941 | U58: =T58*'KERS System Values'!E$14 -> 7.012158
A59: Low | B59: 57 | C59: 57 | D59: 3.3333333 | E59: 0.041666667 | F59: ='Dynamic Data'!C$4*E59 -> 12 | G59: =(0.5*'Dynamic Data'!C$21*'Dynamic Data'!C$11*'Dynamic Data'!C$13*D59^2) -> 2.273055 | H59: ='Dynamic Data'!C$15 -> 56.5056 | I59: ='Dynamic Data'!C$15+G59+F59 -> 70.778655 | J59: =IF(I59 > 0, I59,) -> 70.778655 | K59: =IF(I59 <= 0, I59,)*-1 -> 0 | L59: =(D59/1000)*(('Dynamic Data'!C$4*9.81*'Dynamic Data'!C$10)+(0.5*'Dynamic Data'!C$21*'Dynamic Data'!C$11*'Dynamic Data'!C$13*D59^2)+('Dynamic Data'!C$4*'Dynamic Data'!C$18*E59)) -> 0.23766045 | M59: =IF(L59 > 0, L59,) -> 0.23766045 | N59: =ABS(IF(L59 <= 0, L59,)) -> 0 | O59: =(B60 - B59) * (L60 + L59) / 2 -> 0.26221523 | P59: =IF(O59 >= 0, O59,) -> 0.26221523 | Q59: =ABS(IF(O59 <= 0, O59,)) -> 0 | S59: =SUM($P$2:P59) -> 38.195945 | T59: =SUM($Q$2:Q59) -> 11.974941 | U59: =T59*'KERS System Values'!E$14 -> 7.012158
A60: Low | B60: 58 | C60: 58 | D60: 3.4166667 | E60: 0.083333333 | F60: ='Dynamic Data'!C$4*E60 -> 24 | G60: =(0.5*'Dynamic Data'!C$21*'Dynamic Data'!C$11*'Dynamic Data'!C$13*D60^2) -> 2.3881284 | H60: ='Dynamic Data'!C$15 -> 56.5056 | I60: ='Dynamic Data'!C$15+G60+F60 -> 82.893728 | J60: =IF(I60 > 0, I60,) -> 82.893728 | K60: =IF(I60 <= 0, I60,)*-1 -> 0 | L60: =(D60/1000)*(('Dynamic Data'!C$4*9.81*'Dynamic Data'!C$10)+(0.5*'Dynamic Data'!C$21*'Dynamic Data'!C$11*'Dynamic Data'!C$13*D60^2)+('Dynamic Data'!C$4*'Dynamic Data'!C$18*E60)) -> 0.28677002 | M60: =IF(L60 > 0, L60,) -> 0.28677002 | N60: =ABS(IF(L60 <= 0, L60,)) -> 0 | O60: =(B61 - B60) * (L61 + L60) / 2 -> 0.4219281 | P60: =IF(O60 >= 0, O60,) -> 0.4219281 | Q60: =ABS(IF(O60 <= 0, O60,)) -> 0 | S60: =SUM($P$2:P60) -> 38.617873 | T60: =SUM($Q$2:Q60) -> 11.974941 | U60: =T60*'KERS System Values'!E$14 -> 7.012158
A61: Low | B61: 59 | C61: 59 | D61: 3.5 | E61: 0.33333333 | F61: ='Dynamic Data'!C$4*E61 -> 96 | G61: =(0.5*'Dynamic Data'!C$21*'Dynamic Data'!C$11*'Dynamic Data'!C$13*D61^2) -> 2.5060431 | H61: ='Dynamic Data'!C$15 -> 56.5056 | I61: ='Dynamic Data'!C$15+G61+F61 -> 155.01164 | J61: =IF(I61 > 0, I61,) -> 155.01164 | K61: =IF(I61 <= 0, I61,)*-1 -> 0 | L61: =(D61/1000)*(('Dynamic Data'!C$4*9.81*'Dynamic Data'!C$10)+(0.5*'Dynamic Data'!C$21*'Dynamic Data'!C$11*'Dynamic Data'!C$13*D61^2)+('Dynamic Data'!C$4*'Dynamic Data'!C$18*E61)) -> 0.55708619 | M61: =IF(L61 > 0, L61,) -> 0.55708619 | N61: =ABS(IF(L61 <= 0, L61,)) -> 0 | O61: =(B62 - B61) * (L62 + L61) / 2 -> 0.63091827 | P61: =IF(O61 >= 0, O61,) -> 0.63091827 | Q61: =ABS(IF(O61 <= 0, O61,)) -> 0 | S61: =SUM($P$2:P61) -> 39.248791 | T61: =SUM($Q$2:Q61) -> 11.974941 | U61: =T61*'KERS System Values'!E$14 -> 7.012158
A62: Low | B62: 60 | C62: 60 | D62: 4.0833333 | E62: 0.375 | F62: ='Dynamic Data'!C$4*E62 -> 108 | G62: =(0.5*'Dynamic Data'!C$21*'Dynamic Data'!C$11*'Dynamic Data'!C$13*D62^2) -> 3.4110031 | H62: ='Dynamic Data'!C$15 -> 56.5056 | I62: ='Dynamic Data'!C$15+G62+F62 -> 167.9166 | J62: =IF(I62 > 0, I62,) -> 167.9166 | K62: =IF(I62 <= 0, I62,)*-1 -> 0 | L62: =(D62/1000)*(('Dynamic Data'!C$4*9.81*'Dynamic Data'!C$10)+(0.5*'Dynamic Data'!C$21*'Dynamic Data'!C$11*'Dynamic Data'!C$13*D62^2)+('Dynamic Data'!C$4*'Dynamic Data'!C$18*E62)) -> 0.70475035 | M62: =IF(L62 > 0, L62,) -> 0.70475035 | N62: =ABS(IF(L62 <= 0, L62,)) -> 0 | O62: =(B63 - B62) * (L63 + L62) / 2 -> 0.58671732 | P62: =IF(O62 >= 0, O62,) -> 0.58671732 | Q62: =ABS(IF(O62 <= 0, O62,)) -> 0 | S62: =SUM($P$2:P62) -> 39.835509 | T62: =SUM($Q$2:Q62) -> 11.974941 | U62: =T62*'KERS System Values'!E$14 -> 7.012158
A63: Low | B63: 61 | C63: 61 | D63: 4.25 | E63: 0.16666667 | F63: ='Dynamic Data'!C$4*E63 -> 48 | G63: =(0.5*'Dynamic Data'!C$21*'Dynamic Data'!C$11*'Dynamic Data'!C$13*D63^2) -> 3.695135 | H63: ='Dynamic Data'!C$15 -> 56.5056 | I63: ='Dynamic Data'!C$15+G63+F63 -> 108.20074 | J63: =IF(I63 > 0, I63,) -> 108.20074 | K63: =IF(I63 <= 0, I63,)*-1 -> 0 | L63: =(D63/1000)*(('Dynamic Data'!C$4*9.81*'Dynamic Data'!C$10)+(0.5*'Dynamic Data'!C$21*'Dynamic Data'!C$11*'Dynamic Data'!C$13*D63^2)+('Dynamic Data'!C$4*'Dynamic Data'!C$18*E63)) -> 0.46868428 | M63: =IF(L63 > 0, L63,) -> 0.46868428 | N63: =ABS(IF(L63 <= 0, L63,)) -> 0 | O63: =(B64 - B63) * (L64 + L63) / 2 -> 0.45087954 | P63: =IF(O63 >= 0, O63,) -> 0.45087954 | Q63: =ABS(IF(O63 <= 0, O63,)) -> 0 | S63: =SUM($P$2:P63) -> 40.286388 | T63: =SUM($Q$2:Q63) -> 11.974941 | U63: =T63*'KERS System Values'!E$14 -> 7.012158
A64: Low | B64: 62 | C64: 62 | D64: 4.4166667 | E64: 0.125 | F64: ='Dynamic Data'!C$4*E64 -> 36 | G64: =(0.5*'Dynamic Data'!C$21*'Dynamic Data'!C$11*'Dynamic Data'!C$13*D64^2) -> 3.9906321 | H64: ='Dynamic Data'!C$15 -> 56.5056 | I64: ='Dynamic Data'!C$15+G64+F64 -> 96.496232 | J64: =IF(I64 > 0, I64,) -> 96.496232 | K64: =IF(I64 <= 0, I64,)*-1 -> 0 | L64: =(D64/1000)*(('Dynamic Data'!C$4*9.81*'Dynamic Data'!C$10)+(0.5*'Dynamic Data'!C$21*'Dynamic Data'!C$11*'Dynamic Data'!C$13*D64^2)+('Dynamic Data'!C$4*'Dynamic Data'!C$18*E64)) -> 0.4330748 | M64: =IF(L64 > 0, L64,) -> 0.4330748 | N64: =ABS(IF(L64 <= 0, L64,)) -> 0 | O64: =(B65 - B64) * (L65 + L64) / 2 -> 0.46567127 | P64: =IF(O64 >= 0, O64,) -> 0.46567127 | Q64: =ABS(IF(O64 <= 0, O64,)) -> 0 | S64: =SUM($P$2:P64) -> 40.752059 | T64: =SUM($Q$2:Q64) -> 11.974941 | U64: =T64*'KERS System Values'!E$14 -> 7.012158
A65: Low | B65: 63 | C65: 63 | D65: 4.5 | E65: 0.16666667 | F65: ='Dynamic Data'!C$4*E65 -> 48 | G65: =(0.5*'Dynamic Data'!C$21*'Dynamic Data'!C$11*'Dynamic Data'!C$13*D65^2) -> 4.1426427 | H65: ='Dynamic Data'!C$15 -> 56.5056 | I65: ='Dynamic Data'!C$15+G65+F65 -> 108.64824 | J65: =IF(I65 > 0, I65,) -> 108.64824 | K65: =IF(I65 <= 0, I65,)*-1 -> 0 | L65: =(D65/1000)*(('Dynamic Data'!C$4*9.81*'Dynamic Data'!C$10)+(0.5*'Dynamic Data'!C$21*'Dynamic Data'!C$11*'Dynamic Data'!C$13*D65^2)+('Dynamic Data'!C$4*'Dynamic Data'!C$18*E65)) -> 0.49826773 | M65: =IF(L65 > 0, L65,) -> 0.49826773 | N65: =ABS(IF(L65 <= 0, L65,)) -> 0 | O65: =(B66 - B65) * (L66 + L65) / 2 -> 0.55287709 | P65: =IF(O65 >= 0, O65,) -> 0.55287709 | Q65: =ABS(IF(O65 <= 0, O65,)) -> 0 | S65: =SUM($P$2:P65) -> 41.304936 | T65: =SUM($Q$2:Q65) -> 11.974941 | U65: =T65*'KERS System Values'!E$14 -> 7.012158
A66: Low | B66: 64 | C66: 64 | D66: 4.75 | E66: 0.22222222 | F66: ='Dynamic Data'!C$4*E66 -> 64 | G66: =(0.5*'Dynamic Data'!C$21*'Dynamic Data'!C$11*'Dynamic Data'!C$13*D66^2) -> 4.6157223 | H66: ='Dynamic Data'!C$15 -> 56.5056 | I66: ='Dynamic Data'!C$15+G66+F66 -> 125.12132 | J66: =IF(I66 > 0, I66,) -> 125.12132 | K66: =IF(I66 <= 0, I66,)*-1 -> 0 | L66: =(D66/1000)*(('Dynamic Data'!C$4*9.81*'Dynamic Data'!C$10)+(0.5*'Dynamic Data'!C$21*'Dynamic Data'!C$11*'Dynamic Data'!C$13*D66^2)+('Dynamic Data'!C$4*'Dynamic Data'!C$18*E66)) -> 0.60748644 | M66: =IF(L66 > 0, L66,) -> 0.60748644 | N66: =ABS(IF(L66 <= 0, L66,)) -> 0 | O66: =(B67 - B66) * (L67 + L66) / 2 -> 0.55897186 | P66: =IF(O66 >= 0, O66,) -> 0.55897186 | Q66: =ABS(IF(O66 <= 0, O66,)) -> 0 | S66: =SUM($P$2:P66) -> 41.863908 | T66: =SUM($Q$2:Q66) -> 11.974941 | U66: =T66*'KERS System Values'!E$14 -> 7.012158
A67: Low | B67: 65 | C67: 65 | D67: 4.9444444 | E67: 0.13888889 | F67: ='Dynamic Data'!C$4*E67 -> 40 | G67: =(0.5*'Dynamic Data'!C$21*'Dynamic Data'!C$11*'Dynamic Data'!C$13*D67^2) -> 5.0013524 | H67: ='Dynamic Data'!C$15 -> 56.5056 | I67: ='Dynamic Data'!C$15+G67+F67 -> 101.50695 | J67: =IF(I67 > 0, I67,) -> 101.50695 | K67: =IF(I67 <= 0, I67,)*-1 -> 0 | L67: =(D67/1000)*(('Dynamic Data'!C$4*9.81*'Dynamic Data'!C$10)+(0.5*'Dynamic Data'!C$21*'Dynamic Data'!C$11*'Dynamic Data'!C$13*D67^2)+('Dynamic Data'!C$4*'Dynamic Data'!C$18*E67)) -> 0.51045729 | M67: =IF(L67 > 0, L67,) -> 0.51045729 | N67: =ABS(IF(L67 <= 0, L67,)) -> 0 | O67: =(B68 - B67) * (L68 + L67) / 2 -> 0.47322283 | P67: =IF(O67 >= 0, O67,) -> 0.47322283 | Q67: =ABS(IF(O67 <= 0, O67,)) -> 0 | S67: =SUM($P$2:P67) -> 42.337131 | T67: =SUM($Q$2:Q67) -> 11.974941 | U67: =T67*'KERS System Values'!E$14 -> 7.012158
... A99: Low | B99: 97 | C99: 97 | D99: 1 | E99: -0.5 | F99: ='Dynamic Data'!C$4*E99 -> -144 | G99: =(0.5*'Dynamic Data'!C$21*'Dynamic Data'!C$11*'Dynamic Data'!C$13*D99^2) -> 0.20457495 | H99: ='Dynamic Data'!C$15 -> 56.5056 | I99: ='Dynamic Data'!C$15+G99+F99 -> -87.289825 | J99: =IF(I99 > 0, I99,) -> 0 | K99: =IF(I99 <= 0, I99,)*-1 -> 87.289825 | L99: =(D99/1000)*(('Dynamic Data'!C$4*9.81*'Dynamic Data'!C$10)+(0.5*'Dynamic Data'!C$21*'Dynamic Data'!C$11*'Dynamic Data'!C$13*D99^2)+('Dynamic Data'!C$4*'Dynamic Data'!C$18*E99)) -> -0.093523585 | M99: =IF(L99 > 0, L99,) -> 0 | N99: =ABS(IF(L99 <= 0, L99,)) -> 0.093523585 | O99: =(B100 - B99) * (L100 + L99) / 2 -> -0.075377608 | P99: =IF(O99 >= 0, O99,) -> 0 | Q99: =ABS(IF(O99 <= 0, O99,)) -> 0.075377608 | S99: =SUM($P$2:P99) -> 67.177352 | T99: =SUM($Q$2:Q99) -> 22.207733 | U99: =T99*'KERS System Values'!E$14 -> 13.004166
A100: Low | B100: 98 | C100: 98 | D100: 0.61111111 | E100: -0.5 | F100: ='Dynamic Data'!C$4*E100 -> -144 | G100: =(0.5*'Dynamic Data'!C$21*'Dynamic Data'!C$11*'Dynamic Data'!C$13*D100^2) -> 0.076399903 | H100: ='Dynamic Data'!C$15 -> 56.5056 | I100: ='Dynamic Data'!C$15+G100+F100 -> -87.418 | J100: =IF(I100 > 0, I100,) -> 0 | K100: =IF(I100 <= 0, I100,)*-1 -> 87.418 | L100: =(D100/1000)*(('Dynamic Data'!C$4*9.81*'Dynamic Data'!C$10)+(0.5*'Dynamic Data'!C$21*'Dynamic Data'!C$11*'Dynamic Data'!C$13*D100^2)+('Dynamic Data'!C$4*'Dynamic Data'!C$18*E100)) -> -0.057231631 | M100: =IF(L100 > 0, L100,) -> 0 | N100: =ABS(IF(L100 <= 0, L100,)) -> 0.057231631 | O100: =(B101 - B100) * (L101 + L100) / 2 -> -0.028615816 | P100: =IF(O100 >= 0, O100,) -> 0 | Q100: =ABS(IF(O100 <= 0, O100,)) -> 0.028615816 | R100: =SUM(Q89:Q100) -> 10.261407 | S100: =SUM($P$2:P100) -> 67.177352 | T100: =SUM($Q$2:Q100) -> 22.236348 | U100: =T100*'KERS System Values'!E$14 -> 13.020923
A101: Low | B101: 99 | C101: 99 | D101: 0 | E101: -0.30555556 | F101: ='Dynamic Data'!C$4*E101 -> -88 | G101: =(0.5*'Dynamic Data'!C$21*'Dynamic Data'!C$11*'Dynamic Data'!C$13*D101^2) -> 0 | H101: ='Dynamic Data'!C$15 -> 56.5056 | I101: ='Dynamic Data'!C$15+G101+F101 -> -31.4944 | J101: =IF(I101 > 0, I101,) -> 0 | K101: =IF(I101 <= 0, I101,)*-1 -> 31.4944 | L101: =(D101/1000)*(('Dynamic Data'!C$4*9.81*'Dynamic Data'!C$10)+(0.5*'Dynamic Data'!C$21*'Dynamic Data'!C$11*'Dynamic Data'!C$13*D101^2)+('Dynamic Data'!C$4*'Dynamic Data'!C$18*E101)) -> 0 | M101: =IF(L101 > 0, L101,) -> 0 | N101: =ABS(IF(L101 <= 0, L101,)) -> 0 | O101: =(B102 - B101) * (L102 + L101) / 2 -> 0 | P101: =IF(O101 >= 0, O101,) -> 0 | Q101: =ABS(IF(O101 <= 0, O101,)) -> 0 | S101: =SUM($P$2:P101) -> 67.177352 | T101: =SUM($Q$2:Q101) -> 22.236348 | U101: =T101*'KERS System Values'!E$14 -> 13.020923
A102: Low | B102: 100 | C102: 100 | D102: 0 | E102: 0 | F102: ='Dynamic Data'!C$4*E102 -> 0 | G102: =(0.5*'Dynamic Data'!C$21*'Dynamic Data'!C$11*'Dynamic Data'!C$13*D102^2) -> 0 | H102: ='Dynamic Data'!C$15 -> 56.5056 | I102: ='Dynamic Data'!C$15+G102+F102 -> 56.5056 | J102: =IF(I102 > 0, I102,) -> 56.5056 | K102: =IF(I102 <= 0, I102,)*-1 -> 0 | L102: =(D102/1000)*(('Dynamic Data'!C$4*9.81*'Dynamic Data'!C$10)+(0.5*'Dynamic Data'!C$21*'Dynamic Data'!C$11*'Dynamic Data'!C$13*D102^2)+('Dynamic Data'!C$4*'Dynamic Data'!C$18*E102)) -> 0 | M102: =IF(L102 > 0, L102,) -> 0 | N102: =ABS(IF(L102 <= 0, L102,)) -> 0 | O102: =(B103 - B102) * (L103 + L102) / 2 -> 0 | P102: =IF(O102 >= 0, O102,) -> 0 | Q102: =ABS(IF(O102 <= 0, O102,)) -> 0 | S102: =SUM($P$2:P102) -> 67.177352 | T102: =SUM($Q$2:Q102) -> 22.236348 | U102: =T102*'KERS System Values'!E$14 -> 13.020923
A103: Low | B103: 101 | C103: 101 | D103: 0 | E103: 0 | F103: ='Dynamic Data'!C$4*E103 -> 0 | G103: =(0.5*'Dynamic Data'!C$21*'Dynamic Data'!C$11*'Dynamic Data'!C$13*D103^2) -> 0 | H103: ='Dynamic Data'!C$15 -> 56.5056 | I103: ='Dynamic Data'!C$15+G103+F103 -> 56.5056 | J103: =IF(I103 > 0, I103,) -> 56.5056 | K103: =IF(I103 <= 0, I103,)*-1 -> 0 | L103: =(D103/1000)*(('Dynamic Data'!C$4*9.81*'Dynamic Data'!C$10)+(0.5*'Dynamic Data'!C$21*'Dynamic Data'!C$11*'Dynamic Data'!C$13*D103^2)+('Dynamic Data'!C$4*'Dynamic Data'!C$18*E103)) -> 0 | M103: =IF(L103 > 0, L103,) -> 0 | N103: =ABS(IF(L103 <= 0, L103,)) -> 0 | O103: =(B104 - B103) * (L104 + L103) / 2 -> 0 | P103: =IF(O103 >= 0, O103,) -> 0 | Q103: =ABS(IF(O103 <= 0, O103,)) -> 0 | S103: =SUM($P$2:P103) -> 67.177352 | T103: =SUM($Q$2:Q103) -> 22.236348 | U103: =T103*'KERS System Values'!E$14 -> 13.020923
A104: Low | B104: 102 | C104: 102 | D104: 0 | E104: 0 | F104: ='Dynamic Data'!C$4*E104 -> 0 | G104: =(0.5*'Dynamic Data'!C$21*'Dynamic Data'!C$11*'Dynamic Data'!C$13*D104^2) -> 0 | H104: ='Dynamic Data'!C$15 -> 56.5056 | I104: ='Dynamic Data'!C$15+G104+F104 -> 56.5056 | J104: =IF(I104 > 0, I104,) -> 56.5056 | K104: =IF(I104 <= 0, I104,)*-1 -> 0 | L104: =(D104/1000)*(('Dynamic Data'!C$4*9.81*'Dynamic Data'!C$10)+(0.5*'Dynamic Data'!C$21*'Dynamic Data'!C$11*'Dynamic Data'!C$13*D104^2)+('Dynamic Data'!C$4*'Dynamic Data'!C$18*E104)) -> 0 | M104: =IF(L104 > 0, L104,) -> 0 | N104: =ABS(IF(L104 <= 0, L104,)) -> 0 | O104: =(B105 - B104) * (L105 + L104) / 2 -> 0 | P104: =IF(O104 >= 0, O104,) -> 0 | Q104: =ABS(IF(O104 <= 0, O104,)) -> 0 | S104: =SUM($P$2:P104) -> 67.177352 | T104: =SUM($Q$2:Q104) -> 22.236348 | U104: =T104*'KERS System Values'!E$14 -> 13.020923
A105: Low | B105: 103 | C105: 103 | D105: 0 | E105: 0 | F105: ='Dynamic Data'!C$4*E105 -> 0 | G105: =(0.5*'Dynamic Data'!C$21*'Dynamic Data'!C$11*'Dynamic Data'!C$13*D105^2) -> 0 | H105: ='Dynamic Data'!C$15 -> 56.5056 | I105: ='Dynamic Data'!C$15+G105+F105 -> 56.5056 | J105: =IF(I105 > 0, I105,) -> 56.5056 | K105: =IF(I105 <= 0, I105,)*-1 -> 0 | L105: =(D105/1000)*(('Dynamic Data'!C$4*9.81*'Dynamic Data'!C$10)+(0.5*'Dynamic Data'!C$21*'Dynamic Data'!C$11*'Dynamic Data'!C$13*D105^2)+('Dynamic Data'!C$4*'Dynamic Data'!C$18*E105)) -> 0 | M105: =IF(L105 > 0, L105,) -> 0 | N105: =ABS(IF(L105 <= 0, L105,)) -> 0 | O105: =(B106 - B105) * (L106 + L105) / 2 -> 0 | P105: =IF(O105 >= 0, O105,) -> 0 | Q105: =ABS(IF(O105 <= 0, O105,)) -> 0 | S105: =SUM($P$2:P105) -> 67.177352 | T105: =SUM($Q$2:Q105) -> 22.236348 | U105: =T105*'KERS System Values'!E$14 -> 13.020923
...

Sheet Tractive & Total Tractive Force

Sheet Accel & Braking Forces

Sheet Driving Power

Sheet Tractive Energy

Sheet Braking Energy

Sheet Cumulative Energy
