Workbook

Sheet Balance Sheets
A1: Canadian Natural Resources Limited
A2: Combined Consolidated Balance Sheets (millions of Canadian dollars, unaudited interim statements)
A3: Blue = figures typed from the uploaded images; black = formulas. Dec 31, 2024 was not in the uploaded images.
A5: As at | B5: Dec 31, 2020 | C5: Dec 31, 2021 | D5: Dec 31, 2022 | E5: Dec 31, 2023 | F5: Sep 30, 2024 | G5: Dec 31, 2025 | H5: Jun 30, 2026
A6: Source image | B6: Image 1 (comparative) | C6: Image 1 & 2 | D6: Image 2 | E6: Image 4 (comparative) | F6: Image 4 | G6: Image 5 (comparative) | H6: Image 5
A7: ASSETS
A8: Cash and cash equivalents | B8: 184 | C8: 744 | D8: 920 | E8: 877 | F8: 721 | G8: 673 | H8: 2618
A9: Accounts receivable | B9: 2190 | C9: 3111 | D9: 3555 | E9: 3189 | F9: 3100 | G9: 3999 | H9: 5281
A10: Current income taxes receivable | B10: 309 | C10: 0 | D10: 0 | E10: 0 | F10: 0 | G10: 0 | H10: 0
A11: Inventory | B11: 1060 | C11: 1548 | D11: 1815 | E11: 2034 | F11: 2531 | G11: 2621 | H11: 2790
A12: Prepaids and other | B12: 231 | C12: 195 | D12: 215 | E12: 471 | F12: 356 | G12: 301 | H12: 499
A13: Investments | B13: 305 | C13: 309 | D13: 491 | E13: 525 | F13: 0 | G13: 0 | H13: 0
A14: Current portion of other long-term assets | B14: 82 | C14: 35 | D14: 61 | E14: 71 | F14: 67 | G14: 70 | H14: 137
A15: Total current assets | B15: =SUM(B8:B14) -> 4361 | C15: =SUM(C8:C14) -> 5942 | D15: =SUM(D8:D14) -> 7057 | E15: =SUM(E8:E14) -> 7167 | F15: =SUM(F8:F14) -> 6775 | G15: =SUM(G8:G14) -> 7664 | H15: =SUM(H8:H14) -> 11325
A16: Exploration and evaluation assets | B16: 2436 | C16: 2250 | D16: 2226 | E16: 2208 | F16: 2182 | G16: 2651 | H16: 2777
A17: Property, plant and equipment | B17: 65752 | C17: 66400 | D17: 64859 | E17: 64581 | F17: 64137 | G17: 77645 | H17: 78745
A18: Lease assets | B18: 1645 | C18: 1508 | D18: 1447 | E18: 1458 | F18: 1404 | G18: 3001 | H18: 2927
A19: Other long-term assets | B19: 1082 | C19: 565 | D19: 553 | E19: 541 | F19: 583 | G19: 869 | H19: 809
A20: TOTAL ASSETS | B20: =B15+SUM(B16:B19) -> 75276 | C20: =C15+SUM(C16:C19) -> 76665 | D20: =D15+SUM(D16:D19) -> 76142 | E20: =E15+SUM(E16:E19) -> 75955 | F20: =F15+SUM(F16:F19) -> 75081 | G20: =G15+SUM(G16:G19) -> 91830 | H20: =H15+SUM(H16:H19) -> 96583
A22: LIABILITIES
A23: Accounts payable | B23: 667 | C23: 803 | D23: 1341 | E23: 1418 | F23: 1152 | G23: 1105 | H23: 1561
A24: Accrued liabilities | B24: 2346 | C24: 3064 | D24: 4209 | E24: 3534 | F24: 3735 | G24: 4255 | H24: 4794
A25: Current income taxes payable | B25: 0 | C25: 1607 | D25: 1324 | E25: 0 | F25: 103 | G25: 597 | H25: 986
A26: Current portion of long-term debt | B26: 1343 | C26: 1000 | D26: 404 | E26: 980 | F26: 1618 | G26: 441 | H26: 2214
A27: Current portion of other long-term liabilities | B27: 722 | C27: 948 | D27: 1373 | E27: 1503 | F27: 1420 | G27: 1665 | H27: 1762
A28: Total current liabilities | B28: =SUM(B23:B27) -> 5078 | C28: =SUM(C23:C27) -> 7422 | D28: =SUM(D23:D27) -> 8651 | E28: =SUM(E23:E27) -> 7435 | F28: =SUM(F23:F27) -> 8028 | G28: =SUM(G23:G27) -> 8063 | H28: =SUM(H23:H27) -> 11317
A29: Long-term debt | B29: 20110 | C29: 13694 | D29: 11041 | E29: 9819 | F29: 8411 | G29: 16176 | H29: 14930
A30: Other long-term liabilities | B30: 7564 | C30: 8384 | D30: 8161 | E30: 8686 | F30: 8385 | G30: 11936 | H30: 12167
A31: Deferred income taxes | B31: 10144 | C31: 10220 | D31: 10114 | E31: 10183 | F31: 10360 | G31: 11289 | H31: 11373
A32: Total liabilities | B32: =B28+SUM(B29:B31) -> 42896 | C32: =C28+SUM(C29:C31) -> 39720 | D32: =D28+SUM(D29:D31) -> 37967 | E32: =E28+SUM(E29:E31) -> 36123 | F32: =F28+SUM(F29:F31) -> 35184 | G32: =G28+SUM(G29:G31) -> 47464 | H32: =H28+SUM(H29:H31) -> 49787
A34: SHAREHOLDERS' EQUITY
A35: Share capital | B35: 9606 | C35: 10168 | D35: 10294 | E35: 10712 | F35: 11050 | G35: 11421 | H35: 11850
A36: Retained earnings | B36: 22766 | C36: 26778 | D36: 27672 | E36: 28948 | F36: 28647 | G36: 32726 | H36: 34684
A37: Accumulated other comprehensive income (loss) | B37: 8 | C37: -1 | D37: 209 | E37: 172 | F37: 200 | G37: 219 | H37: 262
A38: Total shareholders' equity | B38: =SUM(B35:B37) -> 32380 | C38: =SUM(C35:C37) -> 36945 | D38: =SUM(D35:D37) -> 38175 | E38: =SUM(E35:E37) -> 39832 | F38: =SUM(F35:F37) -> 39897 | G38: =SUM(G35:G37) -> 44366 | H38: =SUM(H35:H37) -> 46796
A39: TOTAL LIABILITIES AND SHAREHOLDERS' EQUITY | B39: =B32+B38 -> 75276 | C39: =C32+C38 -> 76665 | D39: =D32+D38 -> 76142 | E39: =E32+E38 -> 75955 | F39: =F32+F38 -> 75081 | G39: =G32+G38 -> 91830 | H39: =H32+H38 -> 96583
A42: CHECKS
A43: Reported total assets (from image) | B43: 75276 | C43: 76665 | D43: 76142 | E43: 75955 | F43: 75081 | G43: 91830 | H43: 96583
A44: Calculated less reported total assets (should be 0) | B44: =B20-B43 -> 0 | C44: =C20-C43 -> 0 | D44: =D20-D43 -> 0 | E44: =E20-E43 -> 0 | F44: =F20-F43 -> 0 | G44: =G20-G43 -> 0 | H44: =H20-H43 -> 0
A45: Assets less (Liabilities + Equity) (should be 0) | B45: =B20-B39 -> 0 | C45: =C20-C39 -> 0 | D45: =D20-D39 -> 0 | E45: =E20-E39 -> 0 | F45: =F20-F39 -> 0 | G45: =G20-G39 -> 0 | H45: =H20-H39 -> 0
...

Sheet Performance Highlights
A1: Canadian Natural Resources Limited - Performance Highlights (Image 3)
A2: $ millions, except per common share amounts
A4: FINANCIAL | B4: 2021 | C4: 2022 | D4: 2023
A5: Product sales | B5: 32854 | C5: 49530 | D5: 40835
A6: Net earnings | B6: 7664 | C6: 10937 | D6: 8233
A7: Net earnings per share - basic ($) | B7: 6.49 | C7: 9.64 | D7: 7.54
A8: Net earnings per share - diluted ($) | B8: 6.46 | C8: 9.52 | D8: 7.47
A9: Adjusted net earnings from operations | B9: 7420 | C9: 12863 | D9: 8533
A10: Per share - basic ($) | B10: 6.28 | C10: 11.33 | D10: 7.82
A11: Per share - diluted ($) | B11: 6.25 | C11: 11.19 | D11: 7.74
A12: Cash flows from operating activities | B12: 14478 | C12: 19391 | D12: 12353
A13: Adjusted funds flow | B13: 13733 | C13: 19791 | D13: 15274
A14: Per share - basic ($) | B14: 11.63 | C14: 17.44 | D14: 14
A15: Per share - diluted ($) | B15: 11.57 | C15: 17.22 | D15: 13.86
A16: Cash flows used in investing activities | B16: 3703 | C16: 4987 | D16: 4858
... A21: Debt to book capitalization | B21: 0.27 | C21: 0.22 | D21: 0.2
A23: DERIVED METRICS (formulas)
A24: Net earnings margin (% of product sales) | B24: =B6/B5 -> 0.23327449 | C24: =C6/C5 -> 0.22081567 | D24: =D6/D5 -> 0.20161626
A25: Product sales growth (YoY) | C25: =C5/B5-1 -> 0.50757899 | D25: =D5/C5-1 -> -0.17555017
A26: Adjusted funds flow less net capex | B26: =B13-B17 -> 9057 | C26: =C13-C17 -> 14655 | D26: =D13-D17 -> 10365
A27: Equity tie-out vs Balance Sheets tab (should be 0) | B27: =B20-'Balance Sheets'!C38 -> 0 | C27: =C20-'Balance Sheets'!D38 -> 0 | D27: =D20-'Balance Sheets'!E38 -> 0
A29: Note: Adjusted net earnings, adjusted funds flow and net capex are non-GAAP measures as defined by the company; debt to book cap is a capital management measure.

Sheet Ratios
A1: Balance Sheet Ratios (calculated from the Balance Sheets tab)
A2: Own calculations; may differ from company-defined measures.
A4: Metric | B4: Dec 31, 2020 | C4: Dec 31, 2021 | D4: Dec 31, 2022 | E4: Dec 31, 2023 | F4: Sep 30, 2024 | G4: Dec 31, 2025 | H4: Jun 30, 2026
A5: Working capital ($mm) | B5: ='Balance Sheets'!B15-'Balance Sheets'!B28 -> -717 | C5: ='Balance Sheets'!C15-'Balance Sheets'!C28 -> -1480 | D5: ='Balance Sheets'!D15-'Balance Sheets'!D28 -> -1594 | E5: ='Balance Sheets'!E15-'Balance Sheets'!E28 -> -268 | F5: ='Balance Sheets'!F15-'Balance Sheets'!F28 -> -1253 | G5: ='Balance Sheets'!G15-'Balance Sheets'!G28 -> -399 | H5: ='Balance Sheets'!H15-'Balance Sheets'!H28 -> 8
A6: Current ratio (x) | B6: =IFERROR('Balance Sheets'!B15/'Balance Sheets'!B28,0) -> 0.85880268 | C6: =IFERROR('Balance Sheets'!C15/'Balance Sheets'!C28,0) -> 0.80059283 | D6: =IFERROR('Balance Sheets'!D15/'Balance Sheets'!D28,0) -> 0.81574384 | E6: =IFERROR('Balance Sheets'!E15/'Balance Sheets'!E28,0) -> 0.96395427 | F6: =IFERROR('Balance Sheets'!F15/'Balance Sheets'!F28,0) -> 0.84392128 | G6: =IFERROR('Balance Sheets'!G15/'Balance Sheets'!G28,0) -> 0.9505147 | H6: =IFERROR('Balance Sheets'!H15/'Balance Sheets'!H28,0) -> 1.0007069
A7: Total debt ($mm) = current + long-term debt | B7: ='Balance Sheets'!B26+'Balance Sheets'!B29 -> 21453 | C7: ='Balance Sheets'!C26+'Balance Sheets'!C29 -> 14694 | D7: ='Balance Sheets'!D26+'Balance Sheets'!D29 -> 11445 | E7: ='Balance Sheets'!E26+'Balance Sheets'!E29 -> 10799 | F7: ='Balance Sheets'!F26+'Balance Sheets'!F29 -> 10029 | G7: ='Balance Sheets'!G26+'Balance Sheets'!G29 -> 16617 | H7: ='Balance Sheets'!H26+'Balance Sheets'!H29 -> 17144
A8: Debt to book capitalization (debt / (debt + equity)) | B8: =IFERROR(B7/(B7+'Balance Sheets'!B38),0) -> 0.39851021 | C8: =IFERROR(C7/(C7+'Balance Sheets'!C38),0) -> 0.28455237 | D8: =IFERROR(D7/(D7+'Balance Sheets'!D38),0) -> 0.23065296 | E8: =IFERROR(E7/(E7+'Balance Sheets'!E38),0) -> 0.2132883 | F8: =IFERROR(F7/(F7+'Balance Sheets'!F38),0) -> 0.2008773 | G8: =IFERROR(G7/(G7+'Balance Sheets'!G38),0) -> 0.27248577 | H8: =IFERROR(H7/(H7+'Balance Sheets'!H38),0) -> 0.26812637
A9: Total liabilities / equity (x) | B9: =IFERROR('Balance Sheets'!B32/'Balance Sheets'!B38,0) -> 1.3247684 | C9: =IFERROR('Balance Sheets'!C32/'Balance Sheets'!C38,0) -> 1.0751117 | D9: =IFERROR('Balance Sheets'!D32/'Balance Sheets'!D38,0) -> 0.99455141 | E9: =IFERROR('Balance Sheets'!E32/'Balance Sheets'!E38,0) -> 0.90688391 | F9: =IFERROR('Balance Sheets'!F32/'Balance Sheets'!F38,0) -> 0.88187082 | G9: =IFERROR('Balance Sheets'!G32/'Balance Sheets'!G38,0) -> 1.0698282 | H9: =IFERROR('Balance Sheets'!H32/'Balance Sheets'!H38,0) -> 1.0639157
A10: Equity ratio (equity / total assets) | B10: =IFERROR('Balance Sheets'!B38/'Balance Sheets'!B20,0) -> 0.43015038 | C10: =IFERROR('Balance Sheets'!C38/'Balance Sheets'!C20,0) -> 0.48190178 | D10: =IFERROR('Balance Sheets'!D38/'Balance Sheets'!D20,0) -> 0.50136587 | E10: =IFERROR('Balance Sheets'!E38/'Balance Sheets'!E20,0) -> 0.52441577 | F10: =IFERROR('Balance Sheets'!F38/'Balance Sheets'!F20,0) -> 0.5313861 | G10: =IFERROR('Balance Sheets'!G38/'Balance Sheets'!G20,0) -> 0.48313187 | H10: =IFERROR('Balance Sheets'!H38/'Balance Sheets'!H20,0) -> 0.48451591
A11: Total assets growth vs prior column | C11: ='Balance Sheets'!C20/'Balance Sheets'!B20-1 -> 0.018452096 | D11: ='Balance Sheets'!D20/'Balance Sheets'!C20-1 -> -0.0068218874 | E11: ='Balance Sheets'!E20/'Balance Sheets'!D20-1 -> -0.0024559376 | F11: ='Balance Sheets'!F20/'Balance Sheets'!E20-1 -> -0.011506813 | G11: ='Balance Sheets'!G20/'Balance Sheets'!F20-1 -> 0.22307907 | H11: ='Balance Sheets'!H20/'Balance Sheets'!G20-1 -> 0.051758685
A13: Note: growth compares adjacent columns, which are not equal-length periods (Dec 2023 to Sep 2024 is 9 months; Dec 2025 to Jun 2026 is 6 months; Dec 2024 is not included).
