Workbook

Sheet Data table
A1: Constants and specification | F1: Phase | G1: Total elapsed time | H1: Phase elapsed time | J1: WLTC class 3, version 5, vehicle speed | K1: WLTC class 3, version 5, vehicle speed | L1: WLTC class 3, version 5, acceleration | N1: Forces | O1: Areo drag force | P1: Rolling resistance constant | Q1: Total forces | R1: Total acceleration forces | S1: Total breaking forces | U1: Driving power | V1: Tractive power | W1: Braking power | Y1: Driving energy | Z1: Tractive energy | AA1: Breaking energy | AB1: Cumulative sum of tractive energy | AC1: Cumulative sum of braking energy | AD1: Cumulative sum of braking energy after losses | AE1: Cumulative sum of braking energy returned as tractive energy
F2: Phase | G2: s | H2: s | J2: km/h | K2: m/s | L2: m/s² | N2: N | O2: N | P2: N | Q2: N | R2: N | S2: N | U2: Kw | V2: Kw | W2: Kw | Y2: KJ | Z2: KJ | AA2: KJ | AB2: KJ | AC2: KJ | AD2: KJ | AE2: KJ
A3: ρ | B3: Air density | C3: 1.225 | D3: (kg/m^3) | F3: Low | G3: 0 | H3: 0 | J3: 0 | K3: =J3*1000/3600 -> 0 | L3: 0 | N3: =$C$7*$L3 -> 0 | O3: =0.5*$C$3*$C$17*$C$14*K3^2 -> 0 | P3: =$C$15 -> 56.5056 | Q3: =N3+O3+P3 -> 56.5056 | R3: =IF(Q3 >0,Q3,) -> 56.5056 | S3: =IF(Q3 <=0,Q3,)*-1 -> 0 | U3: =(K3/1000)*(($C$7*$C$4*$C$18)+(0.5*$C$3*$C$17*$C$14*K3^2)+($C$7*$C$19*L3)) -> 0 | V3: =IF(U3 >0,U3,) -> 0 | W3: =IF(U3 <=0,U3,)*-1 -> 0 | Y3: =((U3+U4)/2)*(G4-G3) -> 0 | Z3: =IF(Y3 >0,Y3,) -> 0 | AA3: =IF(Y3 <=0,Y3,)*-1 -> 0 | AB3: =SUM($Z$3:Z3) -> 0 | AC3: =SUM($AA$3:AA3) -> 0 | AD3: =AC3*'KERS system '!$B$18 -> 0 | AE3: =AC3*'KERS system '!$B$19 -> 0
A4: g | B4: Gravitational constant | C4: 9.81 | D4: M/s^2 | F4: Low | G4: 1 | H4: 1 | J4: 0 | K4: =J4*1000/3600 -> 0 | L4: 0 | N4: =$C$7*$L4 -> 0 | O4: =0.5*$C$3*$C$17*$C$14*K4^2 -> 0 | P4: =$C$15 -> 56.5056 | Q4: =N4+O4+P4 -> 56.5056 | R4: =IF(Q4 >0,Q4,) -> 56.5056 | S4: =IF(Q4 <=0,Q4,)*-1 -> 0 | U4: =(K4/1000)*(($C$7*$C$4*$C$18)+(0.5*$C$3*$C$17*$C$14*K4^2)+($C$7*$C$19*L4)) -> 0 | V4: =IF(U4 >0,U4,) -> 0 | W4: =IF(U4 <=0,U4,)*-1 -> 0 | Y4: =((U4+U5)/2)*(G5-G4) -> 0 | Z4: =IF(Y4 >0,Y4,) -> 0 | AA4: =IF(Y4 <=0,Y4,)*-1 -> 0 | AB4: =SUM($Z$3:Z4) -> 0 | AC4: =SUM($AA$3:AA4) -> 0 | AD4: =AC4*'KERS system '!$B$18 -> 0 | AE4: =AC4*'KERS system '!$B$19 -> 0
A5: Ducati 1199 specs | F5: Low | G5: 2 | H5: 2 | J5: 0 | K5: =J5*1000/3600 -> 0 | L5: 0 | N5: =$C$7*$L5 -> 0 | O5: =0.5*$C$3*$C$17*$C$14*K5^2 -> 0 | P5: =$C$15 -> 56.5056 | Q5: =N5+O5+P5 -> 56.5056 | R5: =IF(Q5 >0,Q5,) -> 56.5056 | S5: =IF(Q5 <=0,Q5,)*-1 -> 0 | U5: =(K5/1000)*(($C$7*$C$4*$C$18)+(0.5*$C$3*$C$17*$C$14*K5^2)+($C$7*$C$19*L5)) -> 0 | V5: =IF(U5 >0,U5,) -> 0 | W5: =IF(U5 <=0,U5,)*-1 -> 0 | Y5: =((U5+U6)/2)*(G6-G5) -> 0 | Z5: =IF(Y5 >0,Y5,) -> 0 | AA5: =IF(Y5 <=0,Y5,)*-1 -> 0 | AB5: =SUM($Z$3:Z5) -> 0 | AC5: =SUM($AA$3:AA5) -> 0 | AD5: =AC5*'KERS system '!$B$18 -> 0 | AE5: =AC5*'KERS system '!$B$19 -> 0
B6: Kerb mass | C6: 188 | D6: kg | F6: Low | G6: 3 | H6: 3 | J6: 0 | K6: =J6*1000/3600 -> 0 | L6: 0 | N6: =$C$7*$L6 -> 0 | O6: =0.5*$C$3*$C$17*$C$14*K6^2 -> 0 | P6: =$C$15 -> 56.5056 | Q6: =N6+O6+P6 -> 56.5056 | R6: =IF(Q6 >0,Q6,) -> 56.5056 | S6: =IF(Q6 <=0,Q6,)*-1 -> 0 | U6: =(K6/1000)*(($C$7*$C$4*$C$18)+(0.5*$C$3*$C$17*$C$14*K6^2)+($C$7*$C$19*L6)) -> 0 | V6: =IF(U6 >0,U6,) -> 0 | W6: =IF(U6 <=0,U6,)*-1 -> 0 | Y6: =((U6+U7)/2)*(G7-G6) -> 0 | Z6: =IF(Y6 >0,Y6,) -> 0 | AA6: =IF(Y6 <=0,Y6,)*-1 -> 0 | AB6: =SUM($Z$3:Z6) -> 0 | AC6: =SUM($AA$3:AA6) -> 0 | AD6: =AC6*'KERS system '!$B$18 -> 0 | AE6: =AC6*'KERS system '!$B$19 -> 0
A7: M | B7: Test mass | C7: =C6+75+25 -> 288 | D7: kg | F7: Low | G7: 4 | H7: 4 | J7: 0 | K7: =J7*1000/3600 -> 0 | L7: 0 | N7: =$C$7*$L7 -> 0 | O7: =0.5*$C$3*$C$17*$C$14*K7^2 -> 0 | P7: =$C$15 -> 56.5056 | Q7: =N7+O7+P7 -> 56.5056 | R7: =IF(Q7 >0,Q7,) -> 56.5056 | S7: =IF(Q7 <=0,Q7,)*-1 -> 0 | U7: =(K7/1000)*(($C$7*$C$4*$C$18)+(0.5*$C$3*$C$17*$C$14*K7^2)+($C$7*$C$19*L7)) -> 0 | V7: =IF(U7 >0,U7,) -> 0 | W7: =IF(U7 <=0,U7,)*-1 -> 0 | Y7: =((U7+U8)/2)*(G8-G7) -> 0 | Z7: =IF(Y7 >0,Y7,) -> 0 | AA7: =IF(Y7 <=0,Y7,)*-1 -> 0 | AB7: =SUM($Z$3:Z7) -> 0 | AC7: =SUM($AA$3:AA7) -> 0 | AD7: =AC7*'KERS system '!$B$18 -> 0 | AE7: =AC7*'KERS system '!$B$19 -> 0
B8: Power | C8: 195 | D8: Bhp | F8: Low | G8: 5 | H8: 5 | J8: 0 | K8: =J8*1000/3600 -> 0 | L8: 0 | N8: =$C$7*$L8 -> 0 | O8: =0.5*$C$3*$C$17*$C$14*K8^2 -> 0 | P8: =$C$15 -> 56.5056 | Q8: =N8+O8+P8 -> 56.5056 | R8: =IF(Q8 >0,Q8,) -> 56.5056 | S8: =IF(Q8 <=0,Q8,)*-1 -> 0 | U8: =(K8/1000)*(($C$7*$C$4*$C$18)+(0.5*$C$3*$C$17*$C$14*K8^2)+($C$7*$C$19*L8)) -> 0 | V8: =IF(U8 >0,U8,) -> 0 | W8: =IF(U8 <=0,U8,)*-1 -> 0 | Y8: =((U8+U9)/2)*(G9-G8) -> 0 | Z8: =IF(Y8 >0,Y8,) -> 0 | AA8: =IF(Y8 <=0,Y8,)*-1 -> 0 | AB8: =SUM($Z$3:Z8) -> 0 | AC8: =SUM($AA$3:AA8) -> 0 | AD8: =AC8*'KERS system '!$B$18 -> 0 | AE8: =AC8*'KERS system '!$B$19 -> 0
B9: Power | C9: 143 | D9: kW | F9: Low | G9: 6 | H9: 6 | J9: 0 | K9: =J9*1000/3600 -> 0 | L9: 0 | N9: =$C$7*$L9 -> 0 | O9: =0.5*$C$3*$C$17*$C$14*K9^2 -> 0 | P9: =$C$15 -> 56.5056 | Q9: =N9+O9+P9 -> 56.5056 | R9: =IF(Q9 >0,Q9,) -> 56.5056 | S9: =IF(Q9 <=0,Q9,)*-1 -> 0 | U9: =(K9/1000)*(($C$7*$C$4*$C$18)+(0.5*$C$3*$C$17*$C$14*K9^2)+($C$7*$C$19*L9)) -> 0 | V9: =IF(U9 >0,U9,) -> 0 | W9: =IF(U9 <=0,U9,)*-1 -> 0 | Y9: =((U9+U10)/2)*(G10-G9) -> 0 | Z9: =IF(Y9 >0,Y9,) -> 0 | AA9: =IF(Y9 <=0,Y9,)*-1 -> 0 | AB9: =SUM($Z$3:Z9) -> 0 | AC9: =SUM($AA$3:AA9) -> 0 | AD9: =AC9*'KERS system '!$B$18 -> 0 | AE9: =AC9*'KERS system '!$B$19 -> 0
B10: Advertised fuel consumption | C10: 41.1 | D10: MPG | F10: Low | G10: 7 | H10: 7 | J10: 0 | K10: =J10*1000/3600 -> 0 | L10: 0 | N10: =$C$7*$L10 -> 0 | O10: =0.5*$C$3*$C$17*$C$14*K10^2 -> 0 | P10: =$C$15 -> 56.5056 | Q10: =N10+O10+P10 -> 56.5056 | R10: =IF(Q10 >0,Q10,) -> 56.5056 | S10: =IF(Q10 <=0,Q10,)*-1 -> 0 | U10: =(K10/1000)*(($C$7*$C$4*$C$18)+(0.5*$C$3*$C$17*$C$14*K10^2)+($C$7*$C$19*L10)) -> 0 | V10: =IF(U10 >0,U10,) -> 0 | W10: =IF(U10 <=0,U10,)*-1 -> 0 | Y10: =((U10+U11)/2)*(G11-G10) -> 0 | Z10: =IF(Y10 >0,Y10,) -> 0 | AA10: =IF(Y10 <=0,Y10,)*-1 -> 0 | AB10: =SUM($Z$3:Z10) -> 0 | AC10: =SUM($AA$3:AA10) -> 0 | AD10: =AC10*'KERS system '!$B$18 -> 0 | AE10: =AC10*'KERS system '!$B$19 -> 0
B11: Power per kg | C11: =(C9/C6)*1000 -> 760.6383 | D11: W/kg | F11: Low | G11: 8 | H11: 8 | J11: 0 | K11: =J11*1000/3600 -> 0 | L11: 0 | N11: =$C$7*$L11 -> 0 | O11: =0.5*$C$3*$C$17*$C$14*K11^2 -> 0 | P11: =$C$15 -> 56.5056 | Q11: =N11+O11+P11 -> 56.5056 | R11: =IF(Q11 >0,Q11,) -> 56.5056 | S11: =IF(Q11 <=0,Q11,)*-1 -> 0 | U11: =(K11/1000)*(($C$7*$C$4*$C$18)+(0.5*$C$3*$C$17*$C$14*K11^2)+($C$7*$C$19*L11)) -> 0 | V11: =IF(U11 >0,U11,) -> 0 | W11: =IF(U11 <=0,U11,)*-1 -> 0 | Y11: =((U11+U12)/2)*(G12-G11) -> 0 | Z11: =IF(Y11 >0,Y11,) -> 0 | AA11: =IF(Y11 <=0,Y11,)*-1 -> 0 | AB11: =SUM($Z$3:Z11) -> 0 | AC11: =SUM($AA$3:AA11) -> 0 | AD11: =AC11*'KERS system '!$B$18 -> 0 | AE11: =AC11*'KERS system '!$B$19 -> 0
B12: Max velocity | C12: 185 | D12: mph | F12: Low | G12: 9 | H12: 9 | J12: 0 | K12: =J12*1000/3600 -> 0 | L12: 0 | N12: =$C$7*$L12 -> 0 | O12: =0.5*$C$3*$C$17*$C$14*K12^2 -> 0 | P12: =$C$15 -> 56.5056 | Q12: =N12+O12+P12 -> 56.5056 | R12: =IF(Q12 >0,Q12,) -> 56.5056 | S12: =IF(Q12 <=0,Q12,)*-1 -> 0 | U12: =(K12/1000)*(($C$7*$C$4*$C$18)+(0.5*$C$3*$C$17*$C$14*K12^2)+($C$7*$C$19*L12)) -> 0 | V12: =IF(U12 >0,U12,) -> 0 | W12: =IF(U12 <=0,U12,)*-1 -> 0 | Y12: =((U12+U13)/2)*(G13-G12) -> 0 | Z12: =IF(Y12 >0,Y12,) -> 0 | AA12: =IF(Y12 <=0,Y12,)*-1 -> 0 | AB12: =SUM($Z$3:Z12) -> 0 | AC12: =SUM($AA$3:AA12) -> 0 | AD12: =AC12*'KERS system '!$B$18 -> 0 | AE12: =AC12*'KERS system '!$B$19 -> 0
A13: Vmax | B13: Max velocity | C13: 82.7 | D13: M/s | F13: Low | G13: 10 | H13: 10 | J13: 0 | K13: =J13*1000/3600 -> 0 | L13: 0 | N13: =$C$7*$L13 -> 0 | O13: =0.5*$C$3*$C$17*$C$14*K13^2 -> 0 | P13: =$C$15 -> 56.5056 | Q13: =N13+O13+P13 -> 56.5056 | R13: =IF(Q13 >0,Q13,) -> 56.5056 | S13: =IF(Q13 <=0,Q13,)*-1 -> 0 | U13: =(K13/1000)*(($C$7*$C$4*$C$18)+(0.5*$C$3*$C$17*$C$14*K13^2)+($C$7*$C$19*L13)) -> 0 | V13: =IF(U13 >0,U13,) -> 0 | W13: =IF(U13 <=0,U13,)*-1 -> 0 | Y13: =((U13+U14)/2)*(G14-G13) -> 0 | Z13: =IF(Y13 >0,Y13,) -> 0 | AA13: =IF(Y13 <=0,Y13,)*-1 -> 0 | AB13: =SUM($Z$3:Z13) -> 0 | AC13: =SUM($AA$3:AA13) -> 0 | AD13: =AC13*'KERS system '!$B$18 -> 0 | AE13: =AC13*'KERS system '!$B$19 -> 0
A14: A | B14: Frontal area with rider | C14: 0.48 | D14: (m^2) | F14: Low | G14: 11 | H14: 11 | J14: 0 | K14: =J14*1000/3600 -> 0 | L14: 0.027777778 | N14: =$C$7*$L14 -> 8 | O14: =0.5*$C$3*$C$17*$C$14*K14^2 -> 0 | P14: =$C$15 -> 56.5056 | Q14: =N14+O14+P14 -> 64.5056 | R14: =IF(Q14 >0,Q14,) -> 64.5056 | S14: =IF(Q14 <=0,Q14,)*-1 -> 0 | U14: =(K14/1000)*(($C$7*$C$4*$C$18)+(0.5*$C$3*$C$17*$C$14*K14^2)+($C$7*$C$19*L14)) -> 0 | V14: =IF(U14 >0,U14,) -> 0 | W14: =IF(U14 <=0,U14,)*-1 -> 0 | Y14: =((U14+U15)/2)*(G15-G14) -> 0.0035402779 | Z14: =IF(Y14 >0,Y14,) -> 0.0035402779 | AA14: =IF(Y14 <=0,Y14,)*-1 -> 0 | AB14: =SUM($Z$3:Z14) -> 0.0035402779 | AC14: =SUM($AA$3:AA14) -> 0 | AD14: =AC14*'KERS system '!$B$18 -> 0 | AE14: =AC14*'KERS system '!$B$19 -> 0
A15: Rr | B15: Rolling resistance | C15: =C7*C4*C18 -> 56.5056 | D15: N | F15: Low | G15: 12 | H15: 12 | J15: 0.2 | K15: =J15*1000/3600 -> 0.055555556 | L15: 0.23611111 | N15: =$C$7*$L15 -> 68 | O15: =0.5*$C$3*$C$17*$C$14*K15^2 -> 0.00068291066 | P15: =$C$15 -> 56.5056 | Q15: =N15+O15+P15 -> 124.50628 | R15: =IF(Q15 >0,Q15,) -> 124.50628 | S15: =IF(Q15 <=0,Q15,)*-1 -> 0 | U15: =(K15/1000)*(($C$7*$C$4*$C$18)+(0.5*$C$3*$C$17*$C$14*K15^2)+($C$7*$C$19*L15)) -> 0.0070805557 | V15: =IF(U15 >0,U15,) -> 0.0070805557 | W15: =IF(U15 <=0,U15,)*-1 -> 0 | Y15: =((U15+U16)/2)*(G16-G15) -> 0.068130659 | Z15: =IF(Y15 >0,Y15,) -> 0.068130659 | AA15: =IF(Y15 <=0,Y15,)*-1 -> 0 | AB15: =SUM($Z$3:Z15) -> 0.071670937 | AC15: =SUM($AA$3:AA15) -> 0 | AD15: =AC15*'KERS system '!$B$18 -> 0 | AE15: =AC15*'KERS system '!$B$19 -> 0
A16: Ar | B16: Aero drag | C16: =C28-C35 -> 225.1595 | D16: N | F16: Low | G16: 13 | H16: 13 | J16: 1.7 | K16: =J16*1000/3600 -> 0.47222222 | L16: 0.72222222 | N16: =$C$7*$L16 -> 208 | O16: =0.5*$C$3*$C$17*$C$14*K16^2 -> 0.049340295 | P16: =$C$15 -> 56.5056 | Q16: =N16+O16+P16 -> 264.55494 | R16: =IF(Q16 >0,Q16,) -> 264.55494 | S16: =IF(Q16 <=0,Q16,)*-1 -> 0 | U16: =(K16/1000)*(($C$7*$C$4*$C$18)+(0.5*$C$3*$C$17*$C$14*K16^2)+($C$7*$C$19*L16)) -> 0.12918076 | V16: =IF(U16 >0,U16,) -> 0.12918076 | W16: =IF(U16 <=0,U16,)*-1 -> 0 | Y16: =((U16+U17)/2)*(G17-G16) -> 0.3639923 | Z16: =IF(Y16 >0,Y16,) -> 0.3639923 | AA16: =IF(Y16 <=0,Y16,)*-1 -> 0 | AB16: =SUM($Z$3:Z16) -> 0.43566324 | AC16: =SUM($AA$3:AA16) -> 0 | AD16: =AC16*'KERS system '!$B$18 -> 0 | AE16: =AC16*'KERS system '!$B$19 -> 0
A17: Cd | B17: Coefficient of aerodynamic drag | C17: =(2*C16)/(C3*C14*C27^2) -> 0.75259542 | D17: no units | F17: Low | G17: 14 | H17: 14 | J17: 5.4 | K17: =J17*1000/3600 -> 1.5 | L17: 1.1388889 | N17: =$C$7*$L17 -> 328 | O17: =0.5*$C$3*$C$17*$C$14*K17^2 -> 0.49784187 | P17: =$C$15 -> 56.5056 | Q17: =N17+O17+P17 -> 385.00344 | R17: =IF(Q17 >0,Q17,) -> 385.00344 | S17: =IF(Q17 <=0,Q17,)*-1 -> 0 | U17: =(K17/1000)*(($C$7*$C$4*$C$18)+(0.5*$C$3*$C$17*$C$14*K17^2)+($C$7*$C$19*L17)) -> 0.59880384 | V17: =IF(U17 >0,U17,) -> 0.59880384 | W17: =IF(U17 <=0,U17,)*-1 -> 0 | Y17: =((U17+U18)/2)*(G18-G17) -> 0.82123123 | Z17: =IF(Y17 >0,Y17,) -> 0.82123123 | AA17: =IF(Y17 <=0,Y17,)*-1 -> 0 | AB17: =SUM($Z$3:Z17) -> 1.2568945 | AC17: =SUM($AA$3:AA17) -> 0 | AD17: =AC17*'KERS system '!$B$18 -> 0 | AE17: =AC17*'KERS system '!$B$19 -> 0
A18: µ | B18: Tire rolling resistance Coeff | C18: 0.02 | D18: no units | F18: Low | G18: 15 | H18: 15 | J18: 9.9 | K18: =J18*1000/3600 -> 2.75 | L18: 1.0694444 | N18: =$C$7*$L18 -> 308 | O18: =0.5*$C$3*$C$17*$C$14*K18^2 -> 1.6733018 | P18: =$C$15 -> 56.5056 | Q18: =N18+O18+P18 -> 366.1789 | R18: =IF(Q18 >0,Q18,) -> 366.1789 | S18: =IF(Q18 <=0,Q18,)*-1 -> 0 | U18: =(K18/1000)*(($C$7*$C$4*$C$18)+(0.5*$C$3*$C$17*$C$14*K18^2)+($C$7*$C$19*L18)) -> 1.0436586 | V18: =IF(U18 >0,U18,) -> 1.0436586 | W18: =IF(U18 <=0,U18,)*-1 -> 0 | Y18: =((U18+U19)/2)*(G19-G18) -> 1.1614671 | Z18: =IF(Y18 >0,Y18,) -> 1.1614671 | AA18: =IF(Y18 <=0,Y18,)*-1 -> 0 | AB18: =SUM($Z$3:Z18) -> 2.4183616 | AC18: =SUM($AA$3:AA18) -> 0 | AD18: =AC18*'KERS system '!$B$18 -> 0 | AE18: =AC18*'KERS system '!$B$19 -> 0
A19: δ | B19: Rotational inertia factor | C19: =C20*C21^2 -> 1.04329 | D19: no units | F19: Low | G19: 16 | H19: 16 | J19: 13.1 | K19: =J19*1000/3600 -> 3.6388889 | L19: 0.97222222 | N19: =$C$7*$L19 -> 280 | O19: =0.5*$C$3*$C$17*$C$14*K19^2 -> 2.9298575 | P19: =$C$15 -> 56.5056 | Q19: =N19+O19+P19 -> 339.43546 | R19: =IF(Q19 >0,Q19,) -> 339.43546 | S19: =IF(Q19 <=0,Q19,)*-1 -> 0 | U19: =(K19/1000)*(($C$7*$C$4*$C$18)+(0.5*$C$3*$C$17*$C$14*K19^2)+($C$7*$C$19*L19)) -> 1.2792756 | V19: =IF(U19 >0,U19,) -> 1.2792756 | W19: =IF(U19 <=0,U19,)*-1 -> 0 | Y19: =((U19+U20)/2)*(G20-G19) -> 1.6261131 | Z19: =IF(Y19 >0,Y19,) -> 1.6261131 | AA19: =IF(Y19 <=0,Y19,)*-1 -> 0 | AB19: =SUM($Z$3:Z19) -> 4.0444747 | AC19: =SUM($AA$3:AA19) -> 0 | AD19: =AC19*'KERS system '!$B$18 -> 0 | AE19: =AC19*'KERS system '!$B$19 -> 0
B20: Wheel weight | C20: 10 | D20: kg | F20: Low | G20: 17 | H20: 17 | J20: 16.9 | K20: =J20*1000/3600 -> 4.6944444 | L20: 1.1944444 | N20: =$C$7*$L20 -> 344 | O20: =0.5*$C$3*$C$17*$C$14*K20^2 -> 4.8761528 | P20: =$C$15 -> 56.5056 | Q20: =N20+O20+P20 -> 405.38175 | R20: =IF(Q20 >0,Q20,) -> 405.38175 | S20: =IF(Q20 <=0,Q20,)*-1 -> 0 | U20: =(K20/1000)*(($C$7*$C$4*$C$18)+(0.5*$C$3*$C$17*$C$14*K20^2)+($C$7*$C$19*L20)) -> 1.9729507 | V20: =IF(U20 >0,U20,) -> 1.9729507 | W20: =IF(U20 <=0,U20,)*-1 -> 0 | Y20: =((U20+U21)/2)*(G21-G20) -> 2.3255539 | Z20: =IF(Y20 >0,Y20,) -> 2.3255539 | AA20: =IF(Y20 <=0,Y20,)*-1 -> 0 | AB20: =SUM($Z$3:Z20) -> 6.3700286 | AC20: =SUM($AA$3:AA20) -> 0 | AD20: =AC20*'KERS system '!$B$18 -> 0 | AE20: =AC20*'KERS system '!$B$19 -> 0
B21: Wheel radius | C21: 0.323 | D21: m | F21: Low | G21: 18 | H21: 18 | J21: 21.7 | K21: =J21*1000/3600 -> 6.0277778 | L21: 1.2638889 | N21: =$C$7*$L21 -> 364 | O21: =0.5*$C$3*$C$17*$C$14*K21^2 -> 8.039395 | P21: =$C$15 -> 56.5056 | Q21: =N21+O21+P21 -> 428.545 | R21: =IF(Q21 >0,Q21,) -> 428.545 | S21: =IF(Q21 <=0,Q21,)*-1 -> 0 | U21: =(K21/1000)*(($C$7*$C$4*$C$18)+(0.5*$C$3*$C$17*$C$14*K21^2)+($C$7*$C$19*L21)) -> 2.6781571 | V21: =IF(U21 >0,U21,) -> 2.6781571 | W21: =IF(U21 <=0,U21,)*-1 -> 0 | Y21: =((U21+U22)/2)*(G22-G21) -> 2.4588482 | Z21: =IF(Y21 >0,Y21,) -> 2.4588482 | AA21: =IF(Y21 <=0,Y21,)*-1 -> 0 | AB21: =SUM($Z$3:Z21) -> 8.8288768 | AC21: =SUM($AA$3:AA21) -> 0 | AD21: =AC21*'KERS system '!$B$18 -> 0 | AE21: =AC21*'KERS system '!$B$19 -> 0
A22: High speed coast down test | F22: Low | G22: 19 | H22: 19 | J22: 26 | K22: =J22*1000/3600 -> 7.2222222 | L22: 0.80555556 | N22: =$C$7*$L22 -> 232 | O22: =0.5*$C$3*$C$17*$C$14*K22^2 -> 11.54119 | P22: =$C$15 -> 56.5056 | Q22: =N22+O22+P22 -> 300.04679 | R22: =IF(Q22 >0,Q22,) -> 300.04679 | S22: =IF(Q22 <=0,Q22,)*-1 -> 0 | U22: =(K22/1000)*(($C$7*$C$4*$C$18)+(0.5*$C$3*$C$17*$C$14*K22^2)+($C$7*$C$19*L22)) -> 2.2395394 | V22: =IF(U22 >0,U22,) -> 2.2395394 | W22: =IF(U22 <=0,U22,)*-1 -> 0 | Y22: =((U22+U23)/2)*(G23-G22) -> 1.7196258 | Z22: =IF(Y22 >0,Y22,) -> 1.7196258 | AA22: =IF(Y22 <=0,Y22,)*-1 -> 0 | AB22: =SUM($Z$3:Z22) -> 10.548503 | AC22: =SUM($AA$3:AA22) -> 0 | AD22: =AC22*'KERS system '!$B$18 -> 0 | AE22: =AC22*'KERS system '!$B$19 -> 0
A23: V1 | B23: Starting velocity | C23: 45.8 | D23: m/s | F23: Low | G23: 20 | H23: 20 | J23: 27.5 | K23: =J23*1000/3600 -> 7.6388889 | L23: 0.29166667 | N23: =$C$7*$L23 -> 84 | O23: =0.5*$C$3*$C$17*$C$14*K23^2 -> 12.91128 | P23: =$C$15 -> 56.5056 | Q23: =N23+O23+P23 -> 153.41688 | R23: =IF(Q23 >0,Q23,) -> 153.41688 | S23: =IF(Q23 <=0,Q23,)*-1 -> 0 | U23: =(K23/1000)*(($C$7*$C$4*$C$18)+(0.5*$C$3*$C$17*$C$14*K23^2)+($C$7*$C$19*L23)) -> 1.1997122 | V23: =IF(U23 >0,U23,) -> 1.1997122 | W23: =IF(U23 <=0,U23,)*-1 -> 0 | Y23: =((U23+U24)/2)*(G24-G23) -> 1.0032929 | Z23: =IF(Y23 >0,Y23,) -> 1.0032929 | AA23: =IF(Y23 <=0,Y23,)*-1 -> 0 | AB23: =SUM($Z$3:Z23) -> 11.551796 | AC23: =SUM($AA$3:AA23) -> 0 | AD23: =AC23*'KERS system '!$B$18 -> 0 | AE23: =AC23*'KERS system '!$B$19 -> 0
A24: V2 | B24: Finnishing velocity | C24: 18 | D24: m/s | F24: Low | G24: 21 | H24: 21 | J24: 28.1 | K24: =J24*1000/3600 -> 7.8055556 | L24: 0.11111111 | N24: =$C$7*$L24 -> 32 | O24: =0.5*$C$3*$C$17*$C$14*K24^2 -> 13.480827 | P24: =$C$15 -> 56.5056 | Q24: =N24+O24+P24 -> 101.98643 | R24: =IF(Q24 >0,Q24,) -> 101.98643 | S24: =IF(Q24 <=0,Q24,)*-1 -> 0 | U24: =(K24/1000)*(($C$7*$C$4*$C$18)+(0.5*$C$3*$C$17*$C$14*K24^2)+($C$7*$C$19*L24)) -> 0.8068736 | V24: =IF(U24 >0,U24,) -> 0.8068736 | W24: =IF(U24 <=0,U24,)*-1 -> 0 | Y24: =((U24+U25)/2)*(G25-G24) -> 0.79409915 | Z24: =IF(Y24 >0,Y24,) -> 0.79409915 | AA24: =IF(Y24 <=0,Y24,)*-1 -> 0 | AB24: =SUM($Z$3:Z24) -> 12.345895 | AC24: =SUM($AA$3:AA24) -> 0 | AD24: =AC24*'KERS system '!$B$18 -> 0 | AE24: =AC24*'KERS system '!$B$19 -> 0
A25: dV | B25: Difference in velocity | C25: =C23-C24 -> 27.8 | D25: m/s | F25: Low | G25: 22 | H25: 22 | J25: 28.3 | K25: =J25*1000/3600 -> 7.8611111 | L25: 0.097222222 | N25: =$C$7*$L25 -> 28 | O25: =0.5*$C$3*$C$17*$C$14*K25^2 -> 13.673408 | P25: =$C$15 -> 56.5056 | Q25: =N25+O25+P25 -> 98.179008 | R25: =IF(Q25 >0,Q25,) -> 98.179008 | S25: =IF(Q25 <=0,Q25,)*-1 -> 0 | U25: =(K25/1000)*(($C$7*$C$4*$C$18)+(0.5*$C$3*$C$17*$C$14*K25^2)+($C$7*$C$19*L25)) -> 0.7813247 | V25: =IF(U25 >0,U25,) -> 0.7813247 | W25: =IF(U25 <=0,U25,)*-1 -> 0 | Y25: =((U25+U26)/2)*(G26-G25) -> 0.80686921 | Z25: =IF(Y25 >0,Y25,) -> 0.80686921 | AA25: =IF(Y25 <=0,Y25,)*-1 -> 0 | AB25: =SUM($Z$3:Z25) -> 13.152764 | AC25: =SUM($AA$3:AA25) -> 0 | AD25: =AC25*'KERS system '!$B$18 -> 0 | AE25: =AC25*'KERS system '!$B$19 -> 0
A26: dT | B26: Difference in time | C26: 20.3 | D26: s | F26: Low | G26: 23 | H26: 23 | J26: 28.8 | K26: =J26*1000/3600 -> 8 | L26: 0.11111111 | N26: =$C$7*$L26 -> 32 | O26: =0.5*$C$3*$C$17*$C$14*K26^2 -> 14.160835 | P26: =$C$15 -> 56.5056 | Q26: =N26+O26+P26 -> 102.66644 | R26: =IF(Q26 >0,Q26,) -> 102.66644 | S26: =IF(Q26 <=0,Q26,)*-1 -> 0 | U26: =(K26/1000)*(($C$7*$C$4*$C$18)+(0.5*$C$3*$C$17*$C$14*K26^2)+($C$7*$C$19*L26)) -> 0.83241372 | V26: =IF(U26 >0,U26,) -> 0.83241372 | W26: =IF(U26 <=0,U26,)*-1 -> 0 | Y26: =((U26+U27)/2)*(G27-G26) -> 1.040346 | Z26: =IF(Y26 >0,Y26,) -> 1.040346 | AA26: =IF(Y26 <=0,Y26,)*-1 -> 0 | AB26: =SUM($Z$3:Z26) -> 14.19311 | AC26: =SUM($AA$3:AA26) -> 0 | AD26: =AC26*'KERS system '!$B$18 -> 0 | AE26: =AC26*'KERS system '!$B$19 -> 0
A27: Vmean | B27: Mean velocity | C27: =AVERAGE(C23,C24) -> 31.9 | D27: m/s | F27: Low | G27: 24 | H27: 24 | J27: 29.1 | K27: =J27*1000/3600 -> 8.0833333 | L27: 0.27777778 | N27: =$C$7*$L27 -> 80 | O27: =0.5*$C$3*$C$17*$C$14*K27^2 -> 14.457389 | P27: =$C$15 -> 56.5056 | Q27: =N27+O27+P27 -> 150.96299 | R27: =IF(Q27 >0,Q27,) -> 150.96299 | S27: =IF(Q27 <=0,Q27,)*-1 -> 0 | U27: =(K27/1000)*(($C$7*$C$4*$C$18)+(0.5*$C$3*$C$17*$C$14*K27^2)+($C$7*$C$19*L27)) -> 1.2482784 | V27: =IF(U27 >0,U27,) -> 1.2482784 | W27: =IF(U27 <=0,U27,)*-1 -> 0 | Y27: =((U27+U28)/2)*(G28-G27) -> 1.4349919 | Z27: =IF(Y27 >0,Y27,) -> 1.4349919 | AA27: =IF(Y27 <=0,Y27,)*-1 -> 0 | AB27: =SUM($Z$3:Z27) -> 15.628102 | AC27: =SUM($AA$3:AA27) -> 0 | AD27: =AC27*'KERS system '!$B$18 -> 0 | AE27: =AC27*'KERS system '!$B$19 -> 0
A28: Hr | B28: Hight speed resistance | C28: =C25/C26*C7 -> 394.40394 | D28: N | F28: Low | G28: 25 | H28: 25 | J28: 30.8 | K28: =J28*1000/3600 -> 8.5555556 | L28: 0.38888889 | N28: =$C$7*$L28 -> 112 | O28: =0.5*$C$3*$C$17*$C$14*K28^2 -> 16.195909 | P28: =$C$15 -> 56.5056 | Q28: =N28+O28+P28 -> 184.70151 | R28: =IF(Q28 >0,Q28,) -> 184.70151 | S28: =IF(Q28 <=0,Q28,)*-1 -> 0 | U28: =(K28/1000)*(($C$7*$C$4*$C$18)+(0.5*$C$3*$C$17*$C$14*K28^2)+($C$7*$C$19*L28)) -> 1.6217055 | V28: =IF(U28 >0,U28,) -> 1.6217055 | W28: =IF(U28 <=0,U28,)*-1 -> 0 | Y28: =((U28+U29)/2)*(G29-G28) -> 1.7483286 | Z28: =IF(Y28 >0,Y28,) -> 1.7483286 | AA28: =IF(Y28 <=0,Y28,)*-1 -> 0 | AB28: =SUM($Z$3:Z28) -> 17.37643 | AC28: =SUM($AA$3:AA28) -> 0 | AD28: =AC28*'KERS system '!$B$18 -> 0 | AE28: =AC28*'KERS system '!$B$19 -> 0
A29: Low speed coast down test | F29: Low | G29: 26 | H29: 26 | J29: 31.9 | K29: =J29*1000/3600 -> 8.8611111 | L29: 0.45833333 | N29: =$C$7*$L29 -> 132 | O29: =0.5*$C$3*$C$17*$C$14*K29^2 -> 17.373418 | P29: =$C$15 -> 56.5056 | Q29: =N29+O29+P29 -> 205.87902 | R29: =IF(Q29 >0,Q29,) -> 205.87902 | S29: =IF(Q29 <=0,Q29,)*-1 -> 0 | U29: =(K29/1000)*(($C$7*$C$4*$C$18)+(0.5*$C$3*$C$17*$C$14*K29^2)+($C$7*$C$19*L29)) -> 1.8749517 | V29: =IF(U29 >0,U29,) -> 1.8749517 | W29: =IF(U29 <=0,U29,)*-1 -> 0 | Y29: =((U29+U30)/2)*(G30-G29) -> 2.2280496 | Z29: =IF(Y29 >0,Y29,) -> 2.2280496 | AA29: =IF(Y29 <=0,Y29,)*-1 -> 0 | AB29: =SUM($Z$3:Z29) -> 19.60448 | AC29: =SUM($AA$3:AA29) -> 0 | AD29: =AC29*'KERS system '!$B$18 -> 0 | AE29: =AC29*'KERS system '!$B$19 -> 0
A30: V3 | B30: Starting velocity | C30: 25.8 | D30: m/s | F30: Low | G30: 27 | H30: 27 | J30: 34.1 | K30: =J30*1000/3600 -> 9.4722222 | L30: 0.65277778 | N30: =$C$7*$L30 -> 188 | O30: =0.5*$C$3*$C$17*$C$14*K30^2 -> 19.852384 | P30: =$C$15 -> 56.5056 | Q30: =N30+O30+P30 -> 264.35798 | R30: =IF(Q30 >0,Q30,) -> 264.35798 | S30: =IF(Q30 <=0,Q30,)*-1 -> 0 | U30: =(K30/1000)*(($C$7*$C$4*$C$18)+(0.5*$C$3*$C$17*$C$14*K30^2)+($C$7*$C$19*L30)) -> 2.5811474 | V30: =IF(U30 >0,U30,) -> 2.5811474 | W30: =IF(U30 <=0,U30,)*-1 -> 0 | Y30: =((U30+U31)/2)*(G31-G30) -> 2.7547445 | Z30: =IF(Y30 >0,Y30,) -> 2.7547445 | AA30: =IF(Y30 <=0,Y30,)*-1 -> 0 | AB30: =SUM($Z$3:Z30) -> 22.359225 | AC30: =SUM($AA$3:AA30) -> 0 | AD30: =AC30*'KERS system '!$B$18 -> 0 | AE30: =AC30*'KERS system '!$B$19 -> 0
A31: V4 | B31: Finnishing velocity | C31: 2 | D31: m/s | F31: Low | G31: 28 | H31: 28 | J31: 36.6 | K31: =J31*1000/3600 -> 10.166667 | L31: 0.69444444 | N31: =$C$7*$L31 -> 200 | O31: =0.5*$C$3*$C$17*$C$14*K31^2 -> 22.869995 | P31: =$C$15 -> 56.5056 | Q31: =N31+O31+P31 -> 279.3756 | R31: =IF(Q31 >0,Q31,) -> 279.3756 | S31: =IF(Q31 <=0,Q31,)*-1 -> 0 | U31: =(K31/1000)*(($C$7*$C$4*$C$18)+(0.5*$C$3*$C$17*$C$14*K31^2)+($C$7*$C$19*L31)) -> 2.9283416 | V31: =IF(U31 >0,U31,) -> 2.9283416 | W31: =IF(U31 <=0,U31,)*-1 -> 0 | Y31: =((U31+U32)/2)*(G32-G31) -> 2.9779117 | Z31: =IF(Y31 >0,Y31,) -> 2.9779117 | AA31: =IF(Y31 <=0,Y31,)*-1 -> 0 | AB31: =SUM($Z$3:Z31) -> 25.337136 | AC31: =SUM($AA$3:AA31) -> 0 | AD31: =AC31*'KERS system '!$B$18 -> 0 | AE31: =AC31*'KERS system '!$B$19 -> 0
A32: dV | B32: Difference in velocity | C32: =C30-C31 -> 23.8 | D32: m/s | F32: Low | G32: 29 | H32: 29 | J32: 39.1 | K32: =J32*1000/3600 -> 10.861111 | L32: 0.65277778 | N32: =$C$7*$L32 -> 188 | O32: =0.5*$C$3*$C$17*$C$14*K32^2 -> 26.101016 | P32: =$C$15 -> 56.5056 | Q32: =N32+O32+P32 -> 270.60662 | R32: =IF(Q32 >0,Q32,) -> 270.60662 | S32: =IF(Q32 <=0,Q32,)*-1 -> 0 | U32: =(K32/1000)*(($C$7*$C$4*$C$18)+(0.5*$C$3*$C$17*$C$14*K32^2)+($C$7*$C$19*L32)) -> 3.0274819 | V32: =IF(U32 >0,U32,) -> 3.0274819 | W32: =IF(U32 <=0,U32,)*-1 -> 0 | Y32: =((U32+U33)/2)*(G33-G32) -> 2.8187859 | Z32: =IF(Y32 >0,Y32,) -> 2.8187859 | AA32: =IF(Y32 <=0,Y32,)*-1 -> 0 | AB32: =SUM($Z$3:Z32) -> 28.155922 | AC32: =SUM($AA$3:AA32) -> 0 | AD32: =AC32*'KERS system '!$B$18 -> 0 | AE32: =AC32*'KERS system '!$B$19 -> 0
A33: dT | B33: Difference in time | C33: 40.5 | D33: s | F33: Low | G33: 30 | H33: 30 | J33: 41.3 | K33: =J33*1000/3600 -> 11.472222 | L33: 0.47222222 | N33: =$C$7*$L33 -> 136 | O33: =0.5*$C$3*$C$17*$C$14*K33^2 -> 29.120847 | P33: =$C$15 -> 56.5056 | Q33: =N33+O33+P33 -> 221.62645 | R33: =IF(Q33 >0,Q33,) -> 221.62645 | S33: =IF(Q33 <=0,Q33,)*-1 -> 0 | U33: =(K33/1000)*(($C$7*$C$4*$C$18)+(0.5*$C$3*$C$17*$C$14*K33^2)+($C$7*$C$19*L33)) -> 2.6100899 | V33: =IF(U33 >0,U33,) -> 2.6100899 | W33: =IF(U33 <=0,U33,)*-1 -> 0 | Y33: =((U33+U34)/2)*(G34-G33) -> 2.3132777 | Z33: =IF(Y33 >0,Y33,) -> 2.3132777 | AA33: =IF(Y33 <=0,Y33,)*-1 -> 0 | AB33: =SUM($Z$3:Z33) -> 30.4692 | AC33: =SUM($AA$3:AA33) -> 0 | AD33: =AC33*'KERS system '!$B$18 -> 0 | AE33: =AC33*'KERS system '!$B$19 -> 0
A34: Vmean | B34: Mean velocity | C34: =AVERAGE(C30,C31) -> 13.9 | D34: m/s | F34: Low | G34: 31 | H34: 31 | J34: 42.5 | K34: =J34*1000/3600 -> 11.805556 | L34: 0.27777778 | N34: =$C$7*$L34 -> 80 | O34: =0.5*$C$3*$C$17*$C$14*K34^2 -> 30.837685 | P34: =$C$15 -> 56.5056 | Q34: =N34+O34+P34 -> 167.34328 | R34: =IF(Q34 >0,Q34,) -> 167.34328 | S34: =IF(Q34 <=0,Q34,)*-1 -> 0 | U34: =(K34/1000)*(($C$7*$C$4*$C$18)+(0.5*$C$3*$C$17*$C$14*K34^2)+($C$7*$C$19*L34)) -> 2.0164654 | V34: =IF(U34 >0,U34,) -> 2.0164654 | W34: =IF(U34 <=0,U34,)*-1 -> 0 | Y34: =((U34+U35)/2)*(G35-G34) -> 1.8919099 | Z34: =IF(Y34 >0,Y34,) -> 1.8919099 | AA34: =IF(Y34 <=0,Y34,)*-1 -> 0 | AB34: =SUM($Z$3:Z34) -> 32.36111 | AC34: =SUM($AA$3:AA34) -> 0 | AD34: =AC34*'KERS system '!$B$18 -> 0 | AE34: =AC34*'KERS system '!$B$19 -> 0
A35: Lr | B35: Low speed resistance | C35: =(C32/C33)*C7 -> 169.24444 | D35: N | F35: Low | G35: 32 | H35: 32 | J35: 43.3 | K35: =J35*1000/3600 -> 12.027778 | L35: 0.19444444 | N35: =$C$7*$L35 -> 56 | O35: =0.5*$C$3*$C$17*$C$14*K35^2 -> 32.009559 | P35: =$C$15 -> 56.5056 | Q35: =N35+O35+P35 -> 144.51516 | R35: =IF(Q35 >0,Q35,) -> 144.51516 | S35: =IF(Q35 <=0,Q35,)*-1 -> 0 | U35: =(K35/1000)*(($C$7*$C$4*$C$18)+(0.5*$C$3*$C$17*$C$14*K35^2)+($C$7*$C$19*L35)) -> 1.7673544 | V35: =IF(U35 >0,U35,) -> 1.7673544 | W35: =IF(U35 <=0,U35,)*-1 -> 0 | Y35: =((U35+U36)/2)*(G36-G35) -> 1.7087117 | Z35: =IF(Y35 >0,Y35,) -> 1.7087117 | AA35: =IF(Y35 <=0,Y35,)*-1 -> 0 | AB35: =SUM($Z$3:Z35) -> 34.069821 | AC35: =SUM($AA$3:AA35) -> 0 | AD35: =AC35*'KERS system '!$B$18 -> 0 | AE35: =AC35*'KERS system '!$B$19 -> 0
F36: Low | G36: 33 | H36: 33 | J36: 43.9 | K36: =J36*1000/3600 -> 12.194444 | L36: 0.15277778 | N36: =$C$7*$L36 -> 44 | O36: =0.5*$C$3*$C$17*$C$14*K36^2 -> 32.902806 | P36: =$C$15 -> 56.5056 | Q36: =N36+O36+P36 -> 133.40841 | R36: =IF(Q36 >0,Q36,) -> 133.40841 | S36: =IF(Q36 <=0,Q36,)*-1 -> 0 | U36: =(K36/1000)*(($C$7*$C$4*$C$18)+(0.5*$C$3*$C$17*$C$14*K36^2)+($C$7*$C$19*L36)) -> 1.6500689 | V36: =IF(U36 >0,U36,) -> 1.6500689 | W36: =IF(U36 <=0,U36,)*-1 -> 0 | Y36: =((U36+U37)/2)*(G37-G36) -> 1.5354414 | Z36: =IF(Y36 >0,Y36,) -> 1.5354414 | AA36: =IF(Y36 <=0,Y36,)*-1 -> 0 | AB36: =SUM($Z$3:Z36) -> 35.605263 | AC36: =SUM($AA$3:AA36) -> 0 | AD36: =AC36*'KERS system '!$B$18 -> 0 | AE36: =AC36*'KERS system '!$B$19 -> 0
F37: Low | G37: 34 | H37: 34 | J37: 44.4 | K37: =J37*1000/3600 -> 12.333333 | L37: 0.083333333 | N37: =$C$7*$L37 -> 24 | O37: =0.5*$C$3*$C$17*$C$14*K37^2 -> 33.656569 | P37: =$C$15 -> 56.5056 | Q37: =N37+O37+P37 -> 114.16217 | R37: =IF(Q37 >0,Q37,) -> 114.16217 | S37: =IF(Q37 <=0,Q37,)*-1 -> 0 | U37: =(K37/1000)*(($C$7*$C$4*$C$18)+(0.5*$C$3*$C$17*$C$14*K37^2)+($C$7*$C$19*L37)) -> 1.4208139 | V37: =IF(U37 >0,U37,) -> 1.4208139 | W37: =IF(U37 <=0,U37,)*-1 -> 0 | Y37: =((U37+U38)/2)*(G38-G37) -> 1.2170124 | Z37: =IF(Y37 >0,Y37,) -> 1.2170124 | AA37: =IF(Y37 <=0,Y37,)*-1 -> 0 | AB37: =SUM($Z$3:Z37) -> 36.822275 | AC37: =SUM($AA$3:AA37) -> 0 | AD37: =AC37*'KERS system '!$B$18 -> 0 | AE37: =AC37*'KERS system '!$B$19 -> 0
F38: Low | G38: 35 | H38: 35 | J38: 44.5 | K38: =J38*1000/3600 -> 12.361111 | L38: -0.027777778 | N38: =$C$7*$L38 -> -8 | O38: =0.5*$C$3*$C$17*$C$14*K38^2 -> 33.808346 | P38: =$C$15 -> 56.5056 | Q38: =N38+O38+P38 -> 82.313946 | R38: =IF(Q38 >0,Q38,) -> 82.313946 | S38: =IF(Q38 <=0,Q38,)*-1 -> 0 | U38: =(K38/1000)*(($C$7*$C$4*$C$18)+(0.5*$C$3*$C$17*$C$14*K38^2)+($C$7*$C$19*L38)) -> 1.0132109 | V38: =IF(U38 >0,U38,) -> 1.0132109 | W38: =IF(U38 <=0,U38,)*-1 -> 0 | Y38: =((U38+U39)/2)*(G39-G38) -> 0.59710963 | Z38: =IF(Y38 >0,Y38,) -> 0.59710963 | AA38: =IF(Y38 <=0,Y38,)*-1 -> 0 | AB38: =SUM($Z$3:Z38) -> 37.419385 | AC38: =SUM($AA$3:AA38) -> 0 | AD38: =AC38*'KERS system '!$B$18 -> 0 | AE38: =AC38*'KERS system '!$B$19 -> 0
F39: Low | G39: 36 | H39: 36 | J39: 44.2 | K39: =J39*1000/3600 -> 12.277778 | L39: -0.25 | N39: =$C$7*$L39 -> -72 | O39: =0.5*$C$3*$C$17*$C$14*K39^2 -> 33.35404 | P39: =$C$15 -> 56.5056 | Q39: =N39+O39+P39 -> 17.85964 | R39: =IF(Q39 >0,Q39,) -> 17.85964 | S39: =IF(Q39 <=0,Q39,)*-1 -> 0 | U39: =(K39/1000)*(($C$7*$C$4*$C$18)+(0.5*$C$3*$C$17*$C$14*K39^2)+($C$7*$C$19*L39)) -> 0.18100833 | V39: =IF(U39 >0,U39,) -> 0.18100833 | W39: =IF(U39 <=0,U39,)*-1 -> 0 | Y39: =((U39+U40)/2)*(G40-G39) -> -0.45399008 | Z39: =IF(Y39 >0,Y39,) -> 0 | AA39: =IF(Y39 <=0,Y39,)*-1 -> 0.45399008 | AB39: =SUM($Z$3:Z39) -> 37.419385 | AC39: =SUM($AA$3:AA39) -> 0.45399008 | AD39: =AC39*'KERS system '!$B$18 -> 0.34934537 | AE39: =AC39*'KERS system '!$B$19 -> 0.26882126
F40: Low | G40: 37 | H40: 37 | J40: 42.7 | K40: =J40*1000/3600 -> 11.861111 | L40: -0.59722222 | N40: =$C$7*$L40 -> -172 | O40: =0.5*$C$3*$C$17*$C$14*K40^2 -> 31.128604 | P40: =$C$15 -> 56.5056 | Q40: =N40+O40+P40 -> -84.365796 | R40: =IF(Q40 >0,Q40,) -> 0 | S40: =IF(Q40 <=0,Q40,)*-1 -> 84.365796 | U40: =(K40/1000)*(($C$7*$C$4*$C$18)+(0.5*$C$3*$C$17*$C$14*K40^2)+($C$7*$C$19*L40)) -> -1.0889885 | V40: =IF(U40 >0,U40,) -> 0 | W40: =IF(U40 <=0,U40,)*-1 -> 1.0889885 | Y40: =((U40+U41)/2)*(G41-G40) -> -1.3989334 | Z40: =IF(Y40 >0,Y40,) -> 0 | AA40: =IF(Y40 <=0,Y40,)*-1 -> 1.3989334 | AB40: =SUM($Z$3:Z40) -> 37.419385 | AC40: =SUM($AA$3:AA40) -> 1.8529235 | AD40: =AC40*'KERS system '!$B$18 -> 1.4258246 | AE40: =AC40*'KERS system '!$B$19 -> 1.097172
F41: Low | G41: 38 | H41: 38 | J41: 39.9 | K41: =J41*1000/3600 -> 11.083333 | L41: -0.79166667 | N41: =$C$7*$L41 -> -228 | O41: =0.5*$C$3*$C$17*$C$14*K41^2 -> 27.180015 | P41: =$C$15 -> 56.5056 | Q41: =N41+O41+P41 -> -144.31438 | R41: =IF(Q41 >0,Q41,) -> 0 | S41: =IF(Q41 <=0,Q41,)*-1 -> 144.31438 | U41: =(K41/1000)*(($C$7*$C$4*$C$18)+(0.5*$C$3*$C$17*$C$14*K41^2)+($C$7*$C$19*L41)) -> -1.7088783 | V41: =IF(U41 >0,U41,) -> 0 | W41: =IF(U41 <=0,U41,)*-1 -> 1.7088783 | Y41: =((U41+U42)/2)*(G42-G41) -> -1.5805603 | Z41: =IF(Y41 >0,Y41,) -> 0 | AA41: =IF(Y41 <=0,Y41,)*-1 -> 1.5805603 | AB41: =SUM($Z$3:Z41) -> 37.419385 | AC41: =SUM($AA$3:AA41) -> 3.4334838 | AD41: =AC41*'KERS system '!$B$18 -> 2.6420658 | AE41: =AC41*'KERS system '!$B$19 -> 2.0330696
F42: Low | G42: 39 | H42: 39 | J42: 37 | K42: =J42*1000/3600 -> 10.277778 | L42: -0.73611111 | N42: =$C$7*$L42 -> -212 | O42: =0.5*$C$3*$C$17*$C$14*K42^2 -> 23.372617 | P42: =$C$15 -> 56.5056 | Q42: =N42+O42+P42 -> -132.12178 | R42: =IF(Q42 >0,Q42,) -> 0 | S42: =IF(Q42 <=0,Q42,)*-1 -> 132.12178 | U42: =(K42/1000)*(($C$7*$C$4*$C$18)+(0.5*$C$3*$C$17*$C$14*K42^2)+($C$7*$C$19*L42)) -> -1.4522424 | V42: =IF(U42 >0,U42,) -> 0 | W42: =IF(U42 <=0,U42,)*-1 -> 1.4522424 | Y42: =((U42+U43)/2)*(G43-G42) -> -1.298915 | Z42: =IF(Y42 >0,Y42,) -> 0 | AA42: =IF(Y42 <=0,Y42,)*-1 -> 1.298915 | AB42: =SUM($Z$3:Z42) -> 37.419385 | AC42: =SUM($AA$3:AA42) -> 4.7323988 | AD42: =AC42*'KERS system '!$B$18 -> 3.6415809 | AE42: =AC42*'KERS system '!$B$19 -> 2.8021965
F43: Low | G43: 40 | H43: 40 | J43: 34.6 | K43: =J43*1000/3600 -> 9.6111111 | L43: -0.65277778 | N43: =$C$7*$L43 -> -188 | O43: =0.5*$C$3*$C$17*$C$14*K43^2 -> 20.438833 | P43: =$C$15 -> 56.5056 | Q43: =N43+O43+P43 -> -111.05557 | R43: =IF(Q43 >0,Q43,) -> 0 | S43: =IF(Q43 <=0,Q43,)*-1 -> 111.05557 | U43: =(K43/1000)*(($C$7*$C$4*$C$18)+(0.5*$C$3*$C$17*$C$14*K43^2)+($C$7*$C$19*L43)) -> -1.1455876 | V43: =IF(U43 >0,U43,) -> 0 | W43: =IF(U43 <=0,U43,)*-1 -> 1.1455876 | Y43: =((U43+U44)/2)*(G44-G43) -> -1.287788 | Z43: =IF(Y43 >0,Y43,) -> 0 | AA43: =IF(Y43 <=0,Y43,)*-1 -> 1.287788 | AB43: =SUM($Z$3:Z43) -> 37.419385 | AC43: =SUM($AA$3:AA43) -> 6.0201868 | AD43: =AC43*'KERS system '!$B$18 -> 4.6325338 | AE43: =AC43*'KERS system '!$B$19 -> 3.5647347
F44: Low | G44: 41 | H44: 41 | J44: 32.3 | K44: =J44*1000/3600 -> 8.9722222 | L44: -0.77777778 | N44: =$C$7*$L44 -> -224 | O44: =0.5*$C$3*$C$17*$C$14*K44^2 -> 17.811847 | P44: =$C$15 -> 56.5056 | Q44: =N44+O44+P44 -> -149.68255 | R44: =IF(Q44 >0,Q44,) -> 0 | S44: =IF(Q44 <=0,Q44,)*-1 -> 149.68255 | U44: =(K44/1000)*(($C$7*$C$4*$C$18)+(0.5*$C$3*$C$17*$C$14*K44^2)+($C$7*$C$19*L44)) -> -1.4299884 | V44: =IF(U44 >0,U44,) -> 0 | W44: =IF(U44 <=0,U44,)*-1 -> 1.4299884 | Y44: =((U44+U45)/2)*(G45-G44) -> -1.639787 | Z44: =IF(Y44 >0,Y44,) -> 0 | AA44: =IF(Y44 <=0,Y44,)*-1 -> 1.639787 | AB44: =SUM($Z$3:Z44) -> 37.419385 | AC44: =SUM($AA$3:AA44) -> 7.6599738 | AD44: =AC44*'KERS system '!$B$18 -> 5.8943498 | AE44: =AC44*'KERS system '!$B$19 -> 4.5357022
F45: Low | G45: 42 | H45: 42 | J45: 29 | K45: =J45*1000/3600 -> 8.0555556 | L45: -1 | N45: =$C$7*$L45 -> -288 | O45: =0.5*$C$3*$C$17*$C$14*K45^2 -> 14.358197 | P45: =$C$15 -> 56.5056 | Q45: =N45+O45+P45 -> -217.1362 | R45: =IF(Q45 >0,Q45,) -> 0 | S45: =IF(Q45 <=0,Q45,)*-1 -> 217.1362 | U45: =(K45/1000)*(($C$7*$C$4*$C$18)+(0.5*$C$3*$C$17*$C$14*K45^2)+($C$7*$C$19*L45)) -> -1.8495855 | V45: =IF(U45 >0,U45,) -> 0 | W45: =IF(U45 <=0,U45,)*-1 -> 1.8495855 | Y45: =((U45+U46)/2)*(G46-G45) -> -1.6795821 | Z45: =IF(Y45 >0,Y45,) -> 0 | AA45: =IF(Y45 <=0,Y45,)*-1 -> 1.6795821 | AB45: =SUM($Z$3:Z45) -> 37.419385 | AC45: =SUM($AA$3:AA45) -> 9.3395559 | AD45: =AC45*'KERS system '!$B$18 -> 7.1867883 | AE45: =AC45*'KERS system '!$B$19 -> 5.5302336
F46: Low | G46: 43 | H46: 43 | J46: 25.1 | K46: =J46*1000/3600 -> 6.9722222 | L46: -0.94444444 | N46: =$C$7*$L46 -> -272 | O46: =0.5*$C$3*$C$17*$C$14*K46^2 -> 10.756014 | P46: =$C$15 -> 56.5056 | Q46: =N46+O46+P46 -> -204.73839 | R46: =IF(Q46 >0,Q46,) -> 0 | S46: =IF(Q46 <=0,Q46,)*-1 -> 204.73839 | U46: =(K46/1000)*(($C$7*$C$4*$C$18)+(0.5*$C$3*$C$17*$C$14*K46^2)+($C$7*$C$19*L46)) -> -1.5095786 | V46: =IF(U46 >0,U46,) -> 0 | W46: =IF(U46 <=0,U46,)*-1 -> 1.5095786 | Y46: =((U46+U47)/2)*(G47-G46) -> -1.0950443 | Z46: =IF(Y46 >0,Y46,) -> 0 | AA46: =IF(Y46 <=0,Y46,)*-1 -> 1.0950443 | AB46: =SUM($Z$3:Z46) -> 37.419385 | AC46: =SUM($AA$3:AA46) -> 10.4346 | AD46: =AC46*'KERS system '!$B$18 -> 8.0294249 | AE46: =AC46*'KERS system '!$B$19 -> 6.1786424
F47: Low | G47: 44 | H47: 44 | J47: 22.2 | K47: =J47*1000/3600 -> 6.1666667 | L47: -0.58333333 | N47: =$C$7*$L47 -> -168 | O47: =0.5*$C$3*$C$17*$C$14*K47^2 -> 8.4141423 | P47: =$C$15 -> 56.5056 | Q47: =N47+O47+P47 -> -103.08026 | R47: =IF(Q47 >0,Q47,) -> 0 | S47: =IF(Q47 <=0,Q47,)*-1 -> 103.08026 | U47: =(K47/1000)*(($C$7*$C$4*$C$18)+(0.5*$C$3*$C$17*$C$14*K47^2)+($C$7*$C$19*L47)) -> -0.68051003 | V47: =IF(U47 >0,U47,) -> 0 | W47: =IF(U47 <=0,U47,)*-1 -> 0.68051003 | Y47: =((U47+U48)/2)*(G48-G47) -> -0.3726318 | Z47: =IF(Y47 >0,Y47,) -> 0 | AA47: =IF(Y47 <=0,Y47,)*-1 -> 0.3726318 | AB47: =SUM($Z$3:Z47) -> 37.419385 | AC47: =SUM($AA$3:AA47) -> 10.807232 | AD47: =AC47*'KERS system '!$B$18 -> 8.316165 | AE47: =AC47*'KERS system '!$B$19 -> 6.399289
... F1802: Extra-high | G1802: 1799 | H1802: 322 | J1802: 0 | K1802: =J1802*1000/3600 -> 0 | L1802: 0 | N1802: =$C$7*$L1802 -> 0 | O1802: =0.5*$C$3*$C$17*$C$14*K1802^2 -> 0 | P1802: =$C$15 -> 56.5056 | Q1802: =N1802+O1802+P1802 -> 56.5056 | R1802: =IF(Q1802 >0,Q1802,) -> 56.5056 | S1802: =IF(Q1802 <=0,Q1802,)*-1 -> 0 | U1802: =(K1802/1000)*(($C$7*$C$4*$C$18)+(0.5*$C$3*$C$17*$C$14*K1802^2)+($C$7*$C$19*L1802)) -> 0 | V1802: =IF(U1802 >0,U1802,) -> 0 | W1802: =IF(U1802 <=0,U1802,)*-1 -> 0 | Y1802: =((U1802+U1803)/2)*(G1803-G1802) -> 0 | Z1802: =IF(Y1802 >0,Y1802,) -> 0 | AA1802: =IF(Y1802 <=0,Y1802,)*-1 -> 0 | AB1802: =SUM($Z$3:Z1802) -> 4350.9141 | AC1802: =SUM($AA$3:AA1802) -> 397.37553 | AD1802: =AC1802*'KERS system '!$B$18 -> 305.78047 | AE1802: =AC1802*'KERS system '!$B$19 -> 235.29807
F1803: Extra-high | G1803: 1800 | H1803: 323 | J1803: 0 | K1803: =J1803*1000/3600 -> 0 | L1803: 0 | N1803: =$C$7*$L1803 -> 0 | O1803: =0.5*$C$3*$C$17*$C$14*K1803^2 -> 0 | P1803: =$C$15 -> 56.5056 | Q1803: =N1803+O1803+P1803 -> 56.5056 | R1803: =IF(Q1803 >0,Q1803,) -> 56.5056 | S1803: =IF(Q1803 <=0,Q1803,)*-1 -> 0 | U1803: =(K1803/1000)*(($C$7*$C$4*$C$18)+(0.5*$C$3*$C$17*$C$14*K1803^2)+($C$7*$C$19*L1803)) -> 0 | V1803: =IF(U1803 >0,U1803,) -> 0 | W1803: =IF(U1803 <=0,U1803,)*-1 -> 0 | Y1803: =((U1803+U1810)/2)*(G1810-G1803) -> 0 | Z1803: =IF(Y1803 >0,Y1803,) -> 0 | AA1803: =IF(Y1803 <=0,Y1803,)*-1 -> 0 | AB1803: =SUM($Z$3:Z1803) -> 4350.9141 | AC1803: =SUM($AA$3:AA1803) -> 397.37553 | AD1803: =AC1803*'KERS system '!$B$18 -> 305.78047 | AE1803: =AC1803*'KERS system '!$B$19 -> 235.29807

Sheet Forces plots

Sheet Power plots

Sheet Energy plots

Sheet Stored energy
A1: Constants and specification | E1: Second largest energy collections and duration - low | I1: Third largest energy collections and duration - low
A2: Elapsed time (s) | B2: Energy generated (kJ) | C2: Total energy generated (kJ) | E2: Elapsed time (s) | F2: Energy generated (kJ) | G2: Total energy generated (kJ) | I2: Elapsed time (s) | J2: Energy generated (kJ) | K2: Total energy generated (kJ)
A3: 273 | B3: 0.52187491 | C3: =SUM(B3:B10) -> 12.386021 | E3: 87 | F3: 0.022790591 | G3: =SUM(F3:F14) -> 10.213235 | I3: 435 | J3: 0.40074908 | K3: =SUM(J3:J11) -> 8.1488813 | M3: Low
A4: 274 | B4: 1.465636 | E4: 88 | F4: 1.1203982 | I4: 436 | J4: 1.0766601 | M4: First peak | N4: Second peak | O4: Third peak
A5: 275 | B5: 1.8479488 | E5: 89 | F5: 2.2524484 | I5: 437 | J5: 1.6285776 | M5: 12.386021 | N5: 10.213235 | O5: 8.1488813
A6: 276 | B6: 2.0303941 | E6: 90 | F6: 2.4194852 | I6: 438 | J6: 1.8320765 | M6: Medium
A7: 277 | B7: 2.3306414 | E7: 91 | F7: 1.7389726 | I7: 439 | J7: 1.5870485 | M7: First peak | N7: Second peak | O7: Third peak
A8: 278 | B8: 2.4461629 | E8: 92 | F8: 0.91678004 | I8: 440 | J8: 1.0233637 | M8: 18.215856 | N8: 15.32345 | O8: 14.140043
A9: 279 | B9: 1.6308551 | E9: 93 | F9: 0.549734 | I9: 441 | J9: 0.45562503 | M9: High
A10: 280 | B10: 0.11250805 | E10: 94 | F10: 0.51025491 | I10: 442 | J10: 0.12792549 | M10: First peak | N10: Second peak | O10: Third peak
E11: 95 | F11: 0.39272289 | I11: 443 | J11: 0.016855286 | M11: 22.255529 | N11: 19.440477 | O11: 12.727742
E12: 96 | F12: 0.18566657 | M12: Extra-high
E13: 97 | F13: 0.07536736 | M13: First peak | N13: Second peak | O13: Third peak
E14: 98 | F14: 0.028613911 | M14: 37.355783 | N14: 5.1080526 | O14: 3.1472636
A16: First largest energy collections and duration - middle | E16: Second largest energy collections and duration - middle | I16: Third largest energy collections and duration - middle
A17: Elapsed time (s) | B17: Energy generated (kJ) | C17: Total energy generated (kJ) | E17: Elapsed time (s) | F17: Energy generated (kJ) | G17: Total energy generated (kJ) | I17: Elapsed time (s) | J17: Energy generated (kJ) | K17: Total energy generated (kJ)
A18: 809 | B18: 0.55212008 | C18: =SUM(B18:B24) -> 15.32345 | E18: 901 | F18: 0.82873198 | G18: =SUM(F18:F24) -> 14.140043 | I18: 793 | J18: 0.8323276 | K18: =SUM(J18:J24) -> 18.215856
A19: 810 | B19: 1.4661818 | E19: 902 | F19: 3.6836554 | I19: 794 | J19: 3.172553
A20: 811 | B20: 2.4333476 | E20: 903 | F20: 4.5774637 | I20: 795 | J20: 4.5833191
A21: 812 | B21: 2.8363842 | E21: 904 | F21: 3.3553837 | I21: 796 | J21: 4.5774637
A22: 813 | B22: 2.8117596 | E22: 905 | F22: 1.6013505 | I22: 797 | J22: 3.3553837
A23: 814 | B23: 2.727814 | E23: 906 | F23: 0.093458135 | I23: 798 | J23: 1.6013505
A24: 815 | B24: 2.4958432 | I24: 799 | J24: 0.093458135
A25: 816 | B25: 2.0096472
A26: 817 | B26: 1.212891
A27: 818 | B27: 0.21105337
A29: First largest energy collections and duration - high | E29: Second largest energy collections and duration - high | I29: Third largest energy collections and duration - high
A30: Elapsed time (s) | B30: Energy generated (kJ) | C30: Total energy generated (kJ) | E30: Elapsed time (s) | F30: Energy generated (kJ) | G30: Total energy generated (kJ) | I30: Elapsed time (s) | J30: Energy generated (kJ) | K30: Total energy generated (kJ)
A31: 1050 | B31: 0.29944465 | C31: =SUM(B31:B36) -> 10.346296 | E31: 1375 | F31: 1.0089899 | G31: =SUM(F31:F37) -> 19.440477 | I31: 1123 | J31: 0.37333515 | K31: =SUM(J31:J37) -> 22.255529
A32: 1051 | B32: 0.85099809 | E32: 1376 | F32: 2.7752659 | I32: 1124 | J32: 2.1836324
A33: 1052 | B33: 1.2736456 | E33: 1377 | F33: 4.0965254 | I33: 1125 | J33: 3.9127959
A34: 1053 | B34: 1.7752243 | E34: 1378 | F34: 4.2152734 | I34: 1126 | J34: 4.7205397
A35: 1055 | B35: 2.9604168 | E35: 1379 | F35: 3.7697805 | I35: 1127 | J35: 4.5518302
A36: 1056 | B36: 3.1865662 | E36: 1380 | F36: 2.7795845 | I36: 1128 | J36: 3.7751018
A37: 1057 | B37: 2.7664446 | E37: 1381 | F37: 0.79505742 | I37: 1129 | J37: 2.7382934
A38: 1058 | B38: 2.0620072 | I38: 1130 | J38: 1.9918768
A39: 1059 | B39: 1.4657014 | I39: 1131 | J39: 1.6693063
A40: 1060 | B40: 0.8476969 | I40: 1132 | J40: 1.586535
A41: 1061 | B41: 0.24631199 | I41: 1133 | J41: 1.545477
I42: 1134 | J42: 1.3342791
I43: 1135 | J43: 0.89909877
I44: 1136 | J44: 0.37103856
A46: first largest energy collections and duration - Extra-high | E46: third largest energy collections and duration - Extra-high | I46: third largest energy collections and duration - Extra-high
A47: elapsed time (s) | B47: energy generated (kJ) | C47: total energy generated (kJ) | E47: elapsed time (s) | F47: energy generated (kJ) | G47: total energy generated (kJ) | I47: elapsed time (s) | J47: energy generated (kJ) | K47: total energy generated (kJ)
A48: 1768 | B48: 0.71372426 | C48: =SUM(B48:B74) -> 37.355783 | E48: 1526 | F48: 0.72836844 | G48: =SUM(F48:F54) -> 3.1472636 | I48: 1784 | J48: 0.97265551 | K48: =SUM(J48:J54) -> 5.1080526
A49: 1769 | B49: 1.6769552 | E49: 1527 | F49: 1.0826785 | I49: 1785 | J49: 0.75803981
A50: 1770 | B50: 2.2893497 | E50: 1528 | F50: 0.91746322 | I50: 1786 | J50: 0.65643605
A51: 1771 | B51: 2.4873324 | E51: 1529 | F51: 0.41875342 | I51: 1787 | J51: 0.61648713
A52: 1772 | B52: 2.4253428 | I52: 1788 | J52: 0.63462419
A53: 1773 | B53: 2.1758787 | I53: 1789 | J53: 0.69992237
A54: 1774 | B54: 1.79772 | I54: 1790 | J54: 0.76988757
A55: 1775 | B55: 1.5030076 | I55: 1791 | J55: 0.78341433
A56: 1776 | B56: 1.4401386 | I56: 1792 | J56: 0.67202246
A57: 1777 | B57: 1.6099763 | I57: 1793 | J57: 0.50925384
A58: 1778 | B58: 1.9458405 | I58: 1794 | J58: 0.22107054
A59: 1779 | B59: 2.274556
A60: 1780 | B60: 2.3813231
A61: 1781 | B61: 2.1917213 | F61: `
A62: 1782 | B62: 1.801519
A63: 1783 | B63: 1.3475834
A64: 1784 | B64: 0.97265551
A65: 1785 | B65: 0.75803981
A66: 1786 | B66: 0.65643605
A67: 1787 | B67: 0.61648713
A68: 1788 | B68: 0.63462419
A69: 1789 | B69: 0.69992237
A70: 1790 | B70: 0.76988757
A71: 1791 | B71: 0.78341433
A72: 1792 | B72: 0.67202246
A73: 1793 | B73: 0.50925384
A74: 1794 | B74: 0.22107054

Sheet KERS system 
A2: Total energy losses | E2: Motor/ generator spec requirements
A3: Total tractive energy | B3: 4350.9141 | C3: kJ | E3: Power requirements | F3: =$B$8/$B$11 -> 4.8918287 | G3: kW
A4: total braking energy | B4: 397.37553 | C4: kJ | E4: Voltage rating | F4: 72 | G4: V
A5: total losses | B5: =B3-B4 -> 3953.5385 | C5: kJ | E5: Poperating voltage | F5: 60-80 | G5: V
E6: Motor type | F6: DC brushless
A7: Maximum power requirements | E7: Peak amperage | F7: 140 | G7: A
A8: Max generated Breaking energy (kJ) | B8: 37.355783 | C8: kJ | E8: Efficiency | F8: 90 | G8: %
A9: Total breaking time | B9: =COUNTIF('Data table'!AA3:AA1803, ">0") -> 336 | C9: s
A10: Braking events | B10: {=SUM(IF(('Data table'!AA3:AA1803>0)*('Data table'!AA2:AA1802=0),1,0))} -> 46 | C10: s | E10: Inverter spec requirements
A11: average breaking event time | B11: =B9/44 -> 7.6363636 | C11: s | E11: Voltage | F11: 72 | G11: V
A12: power requirements | B12: =$B$8/$B$11 -> 4.8918287 | C12: kW | E12: Voltage range | F12: 60-80 | G12: V
E13: Peak power output | F13: 12 | G13: kW
A14: Component efficiency | E14: Amperage | F14: 280 | G14: A
A15: Motor/Generator | B15: 0.9 | C15: % | E15: Efficiency | F15: 90 | G15: %
A16: Inverter | B16: 0.9 | C16: %
A17: Super-capacitor | B17: 0.95 | C17: %
A18: Total losses in to capacitor | B18: =(B15*B16*B17) -> 0.7695 | C18: % | E18: Supercapacitor spec requirements
A19: Total energy retrned from capacitor | B19: =B18*(B15*B16*B17) -> 0.59213025 | C19: % | E19: Voltage max | F19: 80 | G19: V
E20: Voltage min | F20: =F19/2 -> 40 | G20: V
A21: Maximum possible power output from KERS | E21: Total capacitance | F21: =(2*((B22*B15)*1000))/(F19^2-F20^2) -> 14.008419 | G21: F
A22: Max generated Breaking energy (kJ) | B22: 37.355783 | C22: kJ | E22: Max cell voltage | F22: 2.7 | G22: V
A23: Total efficiency losses | B23: =B22*B18 -> 28.745275 | C23: kJ | E23: Calls required | F23: =ROUNDUP((F19/F22),0.1) -> 30
A24: Total energy returned to tractive energy | B24: 212.35651 | C24: kJ | E24: Individual capacitance | F24: =F23*F21 -> 420.25256 | G24: F
