Workbook

Sheet Data
D1: Incline angle(Radians) | E1: Altitude | F1: Gear | G1: Distance? Maybe lap distance | H1: Time(s) | I1: Velocity | J1: Acceleration | K1: Scaled Velocity | L1: Scaled Accel | M1: Scaled Alt | N1: Change in alt | O1: Surface mu | P1: Elevation Mass trans | Q1: Gradient Resistance | R1: Total Distance | S1: Max thrust (Grip) | T1: Max Thrust(Drive) | U1: Corrected Distance | V1: Track | W1: Braking? | X1: Velocity (max) | Y1: Gear | Z1: velocity | AA1: Gear | AB1: Accel | AC1: Accel | AD1: Braking Decel | AE1: ActualMaxVchange | AF1: Time Step | AG1: Acceleration | AH1: Cumulative Time (S) | AJ1: Aero Resistance | AK1: Rolling Resistance | AL1: Total Resistance | AN1: Accel Res | AO1: Total Force Required | AP1: Instantaneous Torque | AQ1: Torque at engine | AR1: rps | AS1: RPM | AT1: Rounded Torque | AU1: Rounder RPM | BB1: BSFC (G/KWH) | BC1: KE (J) | BD1: Power (KW) | BE1: g/h | BF1: g/step | BG1: g Cumulative | BH1: Instantaneous Power | BI1: AVERAGE POWER | BO1: Energy (InstPWR) | BP1: Current Energy | BQ1: Cumulative energy | BR1: Energy By Average Power | BT1: Removing negatives | BU1: AVG PWR Energy Step | BV1: No recovery | BW1: BSFC @6.8KW@6500rpm | BX1: g/h | BZ1: Cumulative Time | CB1: Net Energy Change | CC1: Net power | CD1: Current Energy (J)
D2: =ASIN((N2)/(G3-G2)) -> 0 | E2: 9.0017016 | F2: =IF(K2<6,1,IF(Data!K2<9,2,IF(K2>9,3))) -> 3 | G2: 716.13848 | H2: 210.86666 | I2: 27.474246 | J2: =(I3-I2)/(H3-H2) -> 1.5462387 | K2: =I2/2.5 -> 10.989699 | L2: =(K3-K2)/(H3-H2) -> 0.61849548 | M2: =2*E2 -> 18.003403 | N2: =E3-E2 -> 0 | O2: =IF(L2<'Vehicle Data'!F$21,'Vehicle Data'!C$21,IF(L2>'Vehicle Data'!C$21,'Vehicle Data'!C$20)) -> 0.6 | P2: =('Vehicle Data'!C$6*9.81*'Vehicle Data'!C$5*SIN(D2))/'Vehicle Data'!C$9 -> 0 | Q2: ='Vehicle Data'!C$6*9.81*SIN(D2) -> 0 | R2: =G2 -> 716.13848 | S2: =IF(Data!O2=0.6,'Vehicle Data'!E$21,IF(Data!O2 = 0.9,'Vehicle Data'!E$20))+(P2*O2) -> 1550.3724 | T2: =IF(F2=3,'Vehicle Data'!H$16,IF(F2=2,'Vehicle Data'!H$15,IF(F2 = 1,'Vehicle Data'!G$14))) -> 466.23005 | U2: =R2-R$2 -> 0 | V2: S | W2: a | X2: =IF(V2="S",'Vehicle Data'!C$14,IF(Data!V2 = "T1",'Vehicle Data'!P$2,IF(Data!V2="T2",'Vehicle Data'!P$3))) -> 13.4112 | Z2: 8.3 | AA2: 1 | AC2: =IF(Z2<Data!C$16,'Vehicle Data'!I$14,IF(Z2<'Vehicle Data'!C$15,'Vehicle Data'!I$15,IF(Z$2>'Vehicle Data'!C$15,'Vehicle Data'!I$16))) -> 0.98256251 | AD2: =IF(O2=0.6,'Vehicle Data'!F$21,IF(O2=0.9,'Vehicle Data'!F$20)) -> 3.5316 | AE2: =IF(W2="a",AC2,IF(W2="b",AD2*-1)) -> 0.98256251 | AH2: 0 | AJ2: =(Z2^2)*'Vehicle Data'!C$31 -> 25.317075 | AK2: =IF(O2=0.6,'Vehicle Data'!C$6*'Vehicle Data'!D$21*9.81,IF(O2=0.9,'Vehicle Data'!C$6*9.81*'Vehicle Data'!D$20)) -> 86.1318 | AL2: =AJ2+AK2+Q2 -> 111.44888 | BP2: 0 | BZ2: =AH2 -> 0 | CD2: 0
D3: =ASIN((N3)/(G4-G3)) -> 0 | E3: 9.0017016 | F3: =IF(K3<6,1,IF(Data!K3<9,2,IF(K3>9,3))) -> 3 | G3: 717.46095 | H3: 210.91666 | I3: 27.551558 | J3: =(I4-I3)/(H4-H3) -> 1.8093116 | K3: =I3/2.5 -> 11.020623 | L3: =(K4-K3)/(H4-H3) -> 0.72372465 | M3: =2*E3 -> 18.003403 | N3: =E4-E3 -> 0 | O3: =IF(L3<'Vehicle Data'!F$21,'Vehicle Data'!C$21,IF(L3>'Vehicle Data'!C$21,'Vehicle Data'!C$20)) -> 0.6 | P3: =('Vehicle Data'!C$6*9.81*'Vehicle Data'!C$5*SIN(D3))/'Vehicle Data'!C$9 -> 0 | Q3: ='Vehicle Data'!C$6*9.81*SIN(D3) -> 0 | R3: =G2 -> 716.13848 | S3: =IF(Data!O3=0.6,'Vehicle Data'!E$21,IF(Data!O3 = 0.9,'Vehicle Data'!E$20))+(P3*O3) -> 1550.3724 | T3: =IF(F3=3,'Vehicle Data'!H$16,IF(F3=2,'Vehicle Data'!H$15,IF(F3 = 1,'Vehicle Data'!G$14))) -> 466.23005 | U3: =R3-R$2 -> 0 | V3: S | W3: a | X3: =IF(V3="S",'Vehicle Data'!C$14,IF(Data!V3 = "T1",'Vehicle Data'!P$2,IF(Data!V3="T2",'Vehicle Data'!P$3))) -> 13.4112 | Z3: =SQRT(Z2^2+2*AE2*(U3-U2)) -> 8.3 | AA3: 1 | AB3: =IF(AA3=1,'Vehicle Data'!I$14,IF(AA3=2,'Vehicle Data'!I$15,IF(AA3=3,'Vehicle Data'!I$16))) -> 1.7738438 | AC3: =IF(Z3<'Vehicle Data'!C$16,'Vehicle Data'!I$15,IF(Z3<'Vehicle Data'!C$15,'Vehicle Data'!I$15,IF(Z2>'Vehicle Data'!C$15,'Vehicle Data'!I$16))) -> 0.98256251 | AD3: =IF(O3=0.6,'Vehicle Data'!F$21,IF(O3=0.9,'Vehicle Data'!F$20)) -> 3.5316 | AE3: =IF(W3="a",AC3,IF(W3="b",AD3*-1)) -> 0.98256251 | AF3: =(U4-U3)/Z4 -> 0.15641099 | AG3: =(Z3-Z2)/AF3 -> 0 | AH3: 0 | AJ3: =(Z3^2)*'Vehicle Data'!C$31 -> 25.317075 | AK3: =IF(O3=0.6,'Vehicle Data'!C$6*'Vehicle Data'!D$21*9.81,IF(O3=0.9,'Vehicle Data'!C$6*9.81*'Vehicle Data'!D$20)) -> 86.1318 | AL3: =AJ3+AK3+Q3 -> 111.44888 | AO3: =AN3+AL3 -> 111.44888 | AP3: =AO3*'Vehicle Data'!F$3 -> 28.486332 | AQ3: =IF(AE3='Vehicle Data'!I$15,AP3/'Vehicle Data'!G$15,IF(AE3='Vehicle Data'!I$16,AP3/'Vehicle Data'!G$16,IF(AE3='Vehicle Data'!I$14,Data!AP3/'Vehicle Data'!G14))) -> 3.5291732 | AX3: This has stopped working? | AZ3: Torque Index | BA3: RPM Index | BB3: BSFC | BC3: =0.5*'Vehicle Data'!C$6*Data!Z3^2 -> 15121.355 | BD3: =ABS(AQ4*(AS4/9.588))/1000 -> 13.717551 | BG3: =BG2+BF3 -> 0 | BH3: =(AQ4*AR4) -> 2192.0646 | BI3: =BM$9 -> 6871.6622 | BO3: =BH3*AF4 -> 342.86298 | BP3: =IF(BO3>0,BP2+BO3) -> 342.86298 | BQ3: =IF(BO3>0,BQ2+BO3,IF(BO3<=0,BQ2)) -> 342.86298 | BR3: =(BM$9*AF4)+BR2 -> 1074.8035 | BS3: =IF(BO3>0,BO3) -> 342.86298 | BT3: =IF(BH3>=0,BH3, IF(BH3<0,0)) -> 2192.0646 | BU3: =BI3*AF4 -> 1074.8035 | BV3: =BM$9*AF4 -> 1074.8035 | BW3: =BN$9 -> 455.4 | BX3: =BW3*BI3 -> 3129355 | BY3: =((BX3/3600)*AF4)/1000 -> 0.13596264 | BZ3: =AH3 -> 0 | CB3: =BU3-BS3 -> 731.94048 | CD3: 0
A4: Key | D4: =ASIN((N4)/(G5-G4)) -> 0 | E4: 9.0017016 | F4: =IF(K4<6,1,IF(Data!K4<9,2,IF(K4>9,3))) -> 3 | G4: 718.78398 | H4: 210.96666 | I4: 27.642024 | J4: =(I5-I4)/(H5-H4) -> 2.0142743 | K4: =I4/2.5 -> 11.05681 | L4: =(K5-K4)/(H5-H4) -> 0.80570973 | M4: =2*E4 -> 18.003403 | N4: =E5-E4 -> 0 | O4: =IF(L4<'Vehicle Data'!F$21,'Vehicle Data'!C$21,IF(L4>'Vehicle Data'!C$21,'Vehicle Data'!C$20)) -> 0.6 | P4: =('Vehicle Data'!C$6*9.81*'Vehicle Data'!C$5*SIN(D4))/'Vehicle Data'!C$9 -> 0 | Q4: ='Vehicle Data'!C$6*9.81*SIN(D4) -> 0 | R4: =G3 -> 717.46095 | S4: =IF(Data!O4=0.6,'Vehicle Data'!E$21,IF(Data!O4 = 0.9,'Vehicle Data'!E$20))+(P4*O4) -> 1550.3724 | T4: =IF(F4=3,'Vehicle Data'!H$16,IF(F4=2,'Vehicle Data'!H$15,IF(F4 = 1,'Vehicle Data'!G$14))) -> 466.23005 | U4: =R4-R$2 -> 1.3224715 | V4: S | W4: a | X4: =IF(V4="S",'Vehicle Data'!C$14,IF(Data!V4 = "T1",'Vehicle Data'!P$2,IF(Data!V4="T2",'Vehicle Data'!P$3))) -> 13.4112 | Z4: =SQRT(Z3^2+2*AE3*(U4-U3)) -> 8.4551063 | AA4: 1 | AB4: =IF(AA4=1,'Vehicle Data'!I$14,IF(AA4=2,'Vehicle Data'!I$15,IF(AA4=3,'Vehicle Data'!I$16))) -> 1.7738438 | AC4: =IF(Z4<'Vehicle Data'!C$16,'Vehicle Data'!I$15,IF(Z4<'Vehicle Data'!C$15,'Vehicle Data'!I$15,IF(Z3>'Vehicle Data'!C$15,'Vehicle Data'!I$16))) -> 0.98256251 | AD4: =IF(O4=0.6,'Vehicle Data'!F$21,IF(O4=0.9,'Vehicle Data'!F$20)) -> 3.5316 | AE4: =IF(W4="a",AC4,IF(W4="b",AD4*-1)) -> 0.98256251 | AF4: =(U4-U3)/Z4 -> 0.15641099 | AG4: =(Z4-Z3)/AF4 -> 0.99165834 | AH4: =AH3+AF3 -> 0.15641099 | AJ4: =(Z4^2)*'Vehicle Data'!C$31 -> 26.272142 | AK4: =IF(O4=0.6,'Vehicle Data'!C$6*'Vehicle Data'!D$21*9.81,IF(O4=0.9,'Vehicle Data'!C$6*9.81*'Vehicle Data'!D$20)) -> 86.1318 | AL4: =AJ4+AK4+Q4 -> 112.40394 | AN4: =IF(AG4>0,AG4*'Vehicle Data'!C$6) -> 435.33801 | AO4: =AN4+AL4 -> 547.74195 | AP4: =AO4*'Vehicle Data'!F$3 -> 140.00284 | AQ4: 20 | AR4: =IF(Z4<'Vehicle Data'!C$16, Z4*'Vehicle Data'!F$7*'Vehicle Data'!G$14,IF(Z4<'Vehicle Data'!C$15,Z4*'Vehicle Data'!F$7*'Vehicle Data'!G$15,IF(Z4>'Vehicle Data'!C$15,Z4*'Vehicle Data'!F$7*'Vehicle Data'!G$16))) -> 109.60323 | AS4: =AR4*60 -> 6576.1938 | AT4: 20 | AU4: =MROUND(AS4,500) -> 6500 | AV4: {=_xlfn.XLOOKUP(AT4,BSFC!A64:A82,_xlfn.XLOOKUP(Data!AU4,BSFC!C63:Q63,BSFC!B64:Q82,,-1),,-1)} -> #VALUE! | AW4: =VLOOKUP(AT4,BSFC!A$64:A$82,1,FALSE) -> 20 | AX4: {=_xlfn.XLOOKUP(AT4,BSFC!A$64:A$82,,-1,_xlfn.XLOOKUP(Data!AU4,BSFC!C$63:Q$63,BSFC!B$64:Q$82,,-1))} -> #VALUE! | AY4: =HLOOKUP(AU4,BSFC!F$63:Q$63,1) -> 6500 | AZ4: =MATCH(AT4,BSFC!A$64:A$83,0) -> 3 | BA4: =MATCH(AU4,BSFC!C$63:Q$63,0) -> 13 | BB4: {=INDEX(BSFC!C$64:Q$82,Data!AZ4,Data!BA4)} -> 494.7 | BC4: =0.5*'Vehicle Data'!C$6*Data!Z4^2 -> 15691.796 | BD4: =ABS(AQ5*(AS5/9.588))/1000 -> 12.128921 | BE4: =BB4*BD4 -> 6000.177 | BF4: =(BE4/3600)*AF4 -> 0.26069267 | BG4: =BG3+BF4 -> 0.26069267 | BH4: =(AQ5*AR5) -> 1938.2015 | BI4: =BM$9 -> 6871.6622 | BJ4: Fuel Uesed per lap (g) | BL4: TOTAL TIME | BN4: Average power | BO4: =BH4*AF5 -> 297.91364 | BP4: =BP3+BO4 -> 640.77662 | BQ4: =IF(BO4>0,BQ3+BO4,IF(BO4<=0,BQ3)) -> 640.77662 | BR4: =(BM$9*AF5)+BR3 -> 2131.0207 | BS4: =IF(BO4>0,BO4) -> 297.91364 | BT4: =IF(BH4>=0,BH4, IF(BH4<0,0)) -> 1938.2015 | BU4: =BI4*AF5 -> 1056.2173 | BV4: =BM$9*AF5 -> 1056.2173 | BW4: =BN$9 -> 455.4 | BX4: =BW4*BI4 -> 3129355 | BY4: =((BX4/3600)*AF5)/1000 -> 0.13361148 | BZ4: =AH4 -> 0.15641099 | CB4: =BU4-BS4 -> 758.30362 | CC4: =CB4/(BZ4-BZ3) -> 4848.1481 | CD4: =CB4+CD3 -> 758.30362
A5: Data | D5: =ASIN((N5)/(G6-G5)) -> 0 | E5: 9.0017016 | F5: =IF(K5<6,1,IF(Data!K5<9,2,IF(K5>9,3))) -> 3 | G5: 720.11244 | H5: 211.01666 | I5: 27.742738 | J5: =(I6-I5)/(H6-H5) -> 2.2079901 | K5: =I5/2.5 -> 11.097095 | L5: =(K6-K5)/(H6-H5) -> 0.88319606 | M5: =2*E5 -> 18.003403 | N5: =E6-E5 -> 0 | O5: =IF(L5<'Vehicle Data'!F$21,'Vehicle Data'!C$21,IF(L5>'Vehicle Data'!C$21,'Vehicle Data'!C$20)) -> 0.6 | P5: =('Vehicle Data'!C$6*9.81*'Vehicle Data'!C$5*SIN(D5))/'Vehicle Data'!C$9 -> 0 | Q5: ='Vehicle Data'!C$6*9.81*SIN(D5) -> 0 | R5: =G4 -> 718.78398 | S5: =IF(Data!O5=0.6,'Vehicle Data'!E$21,IF(Data!O5 = 0.9,'Vehicle Data'!E$20))+(P5*O5) -> 1550.3724 | T5: =IF(F5=3,'Vehicle Data'!H$16,IF(F5=2,'Vehicle Data'!H$15,IF(F5 = 1,'Vehicle Data'!G$14))) -> 466.23005 | U5: =R5-R$2 -> 2.6454949 | V5: s | W5: a | X5: =IF(V5="S",'Vehicle Data'!C$14,IF(Data!V5 = "T1",'Vehicle Data'!P$2,IF(Data!V5="T2",'Vehicle Data'!P$3))) -> 13.4112 | Z5: =SQRT(Z4^2+2*AE4*(U5-U4)) -> 8.6074809 | AA5: 1 | AB5: =IF(AA5=1,'Vehicle Data'!I$14,IF(AA5=2,'Vehicle Data'!I$15,IF(AA5=3,'Vehicle Data'!I$16))) -> 1.7738438 | AC5: =IF(Z5<'Vehicle Data'!C$16,'Vehicle Data'!I$15,IF(Z5<'Vehicle Data'!C$15,'Vehicle Data'!I$15,IF(Z4>'Vehicle Data'!C$15,'Vehicle Data'!I$16))) -> 0.98256251 | AD5: =IF(O5=0.6,'Vehicle Data'!F$21,IF(O5=0.9,'Vehicle Data'!F$20)) -> 3.5316 | AE5: =IF(W5="a",AC5,IF(W5="b",AD5*-1)) -> 0.98256251 | AF5: =(U5-U4)/Z5 -> 0.15370623 | AG5: =(Z5-Z4)/AF5 -> 0.99133713 | AH5: =AH4+AF5 -> 0.31011721 | AJ5: =(Z5^2)*'Vehicle Data'!C$31 -> 27.227608 | AK5: =IF(O5=0.6,'Vehicle Data'!C$6*'Vehicle Data'!D$21*9.81,IF(O5=0.9,'Vehicle Data'!C$6*9.81*'Vehicle Data'!D$20)) -> 86.1318 | AL5: =AJ5+AK5+Q5 -> 113.35941 | AN5: =IF(AG5>0,AG5*'Vehicle Data'!C$6) -> 435.197 | AO5: =AN5+AL5 -> 548.55641 | AP5: =AO5*'Vehicle Data'!F$3 -> 140.21102 | AQ5: =IF(AE5='Vehicle Data'!I$15,AP5/'Vehicle Data'!G$15,IF(AE5='Vehicle Data'!I$16,AP5/'Vehicle Data'!G$16,IF(AE5='Vehicle Data'!I$14,Data!AP5/'Vehicle Data'!G16))) -> 17.37075 | AR5: =IF(Z5<'Vehicle Data'!C$16, Z5*'Vehicle Data'!F$7*'Vehicle Data'!G$14,IF(Z5<'Vehicle Data'!C$15,Z5*'Vehicle Data'!F$7*'Vehicle Data'!G$15,IF(Z5>'Vehicle Data'!C$15,Z5*'Vehicle Data'!F$7*'Vehicle Data'!G$16))) -> 111.57846 | AS5: =AR5*60 -> 6694.7074 | AT5: =ROUND(AQ5,0) -> 17 | AU5: =MROUND(AS5,500) -> 6500 | AW5: =VLOOKUP(AT5,BSFC!A$64:A$82,1,FALSE) -> 17 | AX5: {=_xlfn.XLOOKUP(AT5,BSFC!A$64:A$82,,-1,_xlfn.XLOOKUP(Data!AU5,BSFC!C$63:Q$63,BSFC!B$64:Q$82,,-1))} -> #VALUE! | AY5: =HLOOKUP(AU5,BSFC!F$63:Q$63,1) -> 6500 | AZ5: =MATCH(AT5,BSFC!A$64:A$83,0) -> 6 | BA5: =MATCH(AU5,BSFC!C$63:Q$63,0) -> 13 | BB5: {=INDEX(BSFC!C$64:Q$82,Data!AZ5,Data!BA5)} -> 511.2 | BC5: =0.5*'Vehicle Data'!C$6*Data!Z5^2 -> 16262.476 | BD5: =ABS(AQ6*(AS6/9.588))/1000 -> 12.35969 | BE5: =BB5*BD5 -> 6318.2734 | BF5: =(BE5/3600)*AF5 -> 0.2697661 | BG5: =BG4+BF5 -> 0.53045877 | BH5: =(AQ6*AR6) -> 1975.0784 | BI5: =BM$9 -> 6871.6622 | BJ5: =BG533 -> 246.35609 | BL5: =SUM(AF2:AF533) -> 184.02904 | BO5: =BH5*AF6 -> 299.59648 | BP5: =BP4+BO5 -> 940.37311 | BQ5: =IF(BO5>0,BQ4+BO5,IF(BO5<=0,BQ4)) -> 940.37311 | BR5: =(BM$9*AF6)+BR4 -> 3173.3722 | BS5: =IF(BO5>0,BO5) -> 299.59648 | BT5: =IF(BH5>=0,BH5, IF(BH5<0,0)) -> 1975.0784 | BU5: =BI5*AF6 -> 1042.3514 | BV5: =BM$9*AF6 -> 1042.3514 | BW5: =BN$9 -> 455.4 | BX5: =BW5*BI5 -> 3129355 | BY5: =((BX5/3600)*AF6)/1000 -> 0.13185746 | BZ5: =AH5 -> 0.31011721 | CB5: =BU5-BS5 -> 742.75495 | CC5: =CB5/(BZ5-BZ4) -> 4832.3023 | CD5: =CB5+CD4 -> 1501.0586
A6: Calculation | D6: =ASIN((N6)/(G7-G6)) -> 0 | E6: 9.0017016 | F6: =IF(K6<6,1,IF(Data!K6<9,2,IF(K6>9,3))) -> 3 | G6: 721.43978 | H6: 211.06667 | I6: 27.853137 | J6: =(I7-I6)/(H7-H6) -> 2.2845016 | K6: =I6/2.5 -> 11.141255 | L6: =(K7-K6)/(H7-H6) -> 0.91380066 | M6: =2*E6 -> 18.003403 | N6: =E7-E6 -> 0 | O6: =IF(L6<'Vehicle Data'!F$21,'Vehicle Data'!C$21,IF(L6>'Vehicle Data'!C$21,'Vehicle Data'!C$20)) -> 0.6 | P6: =('Vehicle Data'!C$6*9.81*'Vehicle Data'!C$5*SIN(D6))/'Vehicle Data'!C$9 -> 0 | Q6: ='Vehicle Data'!C$6*9.81*SIN(D6) -> 0 | R6: =G5 -> 720.11244 | S6: =IF(Data!O6=0.6,'Vehicle Data'!E$21,IF(Data!O6 = 0.9,'Vehicle Data'!E$20))+(P6*O6) -> 1550.3724 | T6: =IF(F6=3,'Vehicle Data'!H$16,IF(F6=2,'Vehicle Data'!H$15,IF(F6 = 1,'Vehicle Data'!G$14))) -> 466.23005 | U6: =R6-R$2 -> 3.9739538 | V6: s | W6: a | X6: =IF(V6="S",'Vehicle Data'!C$14,IF(Data!V6 = "T1",'Vehicle Data'!P$2,IF(Data!V6="T2",'Vehicle Data'!P$3))) -> 13.4112 | Z6: =SQRT(Z5^2+2*AE5*(U6-U5)) -> 8.7578146 | AA6: 1 | AB6: =IF(AA6=1,'Vehicle Data'!I$14,IF(AA6=2,'Vehicle Data'!I$15,IF(AA6=3,'Vehicle Data'!I$16))) -> 1.7738438 | AC6: =IF(Z6<'Vehicle Data'!C$16,'Vehicle Data'!I$15,IF(Z6<'Vehicle Data'!C$15,'Vehicle Data'!I$15,IF(Z5>'Vehicle Data'!C$15,'Vehicle Data'!I$16))) -> 0.98256251 | AD6: =IF(O6=0.6,'Vehicle Data'!F$21,IF(O6=0.9,'Vehicle Data'!F$20)) -> 3.5316 | AE6: =IF(W6="a",AC6,IF(W6="b",AD6*-1)) -> 0.98256251 | AF6: =(U6-U5)/Z6 -> 0.1516884 | AG6: =(Z6-Z5)/AF6 -> 0.99106868 | AH6: =AH5+AF6 -> 0.46180561 | AJ6: =(Z6^2)*'Vehicle Data'!C$31 -> 28.186999 | AK6: =IF(O6=0.6,'Vehicle Data'!C$6*'Vehicle Data'!D$21*9.81,IF(O6=0.9,'Vehicle Data'!C$6*9.81*'Vehicle Data'!D$20)) -> 86.1318 | AL6: =AJ6+AK6+Q6 -> 114.3188 | AN6: =IF(AG6>0,AG6*'Vehicle Data'!C$6) -> 435.07915 | AO6: =AN6+AL6 -> 549.39795 | AP6: =AO6*'Vehicle Data'!F$3 -> 140.42612 | AQ6: =IF(AE6='Vehicle Data'!I$15,AP6/'Vehicle Data'!G$15,IF(AE6='Vehicle Data'!I$16,AP6/'Vehicle Data'!G$16,IF(AE6='Vehicle Data'!I$14,Data!AP6/'Vehicle Data'!G17))) -> 17.397399 | AR6: =IF(Z6<'Vehicle Data'!C$16, Z6*'Vehicle Data'!F$7*'Vehicle Data'!G$14,IF(Z6<'Vehicle Data'!C$15,Z6*'Vehicle Data'!F$7*'Vehicle Data'!G$15,IF(Z6>'Vehicle Data'!C$15,Z6*'Vehicle Data'!F$7*'Vehicle Data'!G$16))) -> 113.52723 | AS6: =AR6*60 -> 6811.6336 | AT6: =ROUND(AQ6,0) -> 17 | AU6: =MROUND(AS6,500) -> 7000 | AW6: =VLOOKUP(AT6,BSFC!A$64:A$82,1,FALSE) -> 17 | AX6: {=_xlfn.XLOOKUP(AT6,BSFC!A$64:A$82,,-1,_xlfn.XLOOKUP(Data!AU6,BSFC!C$63:Q$63,BSFC!B$64:Q$82,,-1))} -> #VALUE! | AY6: =HLOOKUP(AU6,BSFC!F$63:Q$63,1) -> 7000 | AZ6: =MATCH(AT6,BSFC!A$64:A$83,0) -> 6 | BA6: =MATCH(AU6,BSFC!C$63:Q$63,0) -> 14 | BB6: {=INDEX(BSFC!C$64:Q$82,Data!AZ6,Data!BA6)} -> 500 | BC6: =0.5*'Vehicle Data'!C$6*Data!Z6^2 -> 16835.5 | BD6: =ABS(AQ7*(AS7/9.588))/1000 -> 12.587099 | BE6: =BB6*BD6 -> 6293.5493 | BF6: =(BE6/3600)*AF6 -> 0.26518289 | BG6: =BG5+BF6 -> 0.79564166 | BH6: =(AQ7*AR7) -> 2011.4184 | BI6: =BM$9 -> 6871.6622 | BJ6: TOTAL DISTANCE (m) | BO6: =BH6*AF7 -> 299.79749 | BP6: =BP5+BO6 -> 1240.1706 | BQ6: =IF(BO6>0,BQ5+BO6,IF(BO6<=0,BQ5)) -> 1240.1706 | BR6: =(BM$9*AF7)+BR5 -> 4197.5783 | BS6: =IF(BO6>0,BO6) -> 299.79749 | BT6: =IF(BH6>=0,BH6, IF(BH6<0,0)) -> 2011.4184 | BU6: =BI6*AF7 -> 1024.2062 | BV6: =BM$9*AF7 -> 1024.2062 | BW6: =BN$9 -> 455.4 | BX6: =BW6*BI6 -> 3129355 | BY6: =((BX6/3600)*AF7)/1000 -> 0.12956208 | BZ6: =AH6 -> 0.46180561 | CB6: =BU6-BS6 -> 724.40868 | CC6: =CB6/(BZ6-BZ5) -> 4775.6367 | CD6: =CB6+CD5 -> 2225.4673
D7: =ASIN((N7)/(G8-G7)) -> 0 | E7: 9.0017016 | F7: =IF(K7<6,1,IF(Data!K7<9,2,IF(K7>9,3))) -> 3 | G7: 722.77274 | H7: 211.11666 | I7: 27.967362 | J7: =(I8-I7)/(H8-H7) -> 2.430621 | K7: =I7/2.5 -> 11.186945 | L7: =(K8-K7)/(H8-H7) -> 0.97224839 | M7: =2*E7 -> 18.003403 | N7: =E8-E7 -> 0 | O7: =IF(L7<'Vehicle Data'!F$21,'Vehicle Data'!C$21,IF(L7>'Vehicle Data'!C$21,'Vehicle Data'!C$20)) -> 0.6 | P7: =('Vehicle Data'!C$6*9.81*'Vehicle Data'!C$5*SIN(D7))/'Vehicle Data'!C$9 -> 0 | Q7: ='Vehicle Data'!C$6*9.81*SIN(D7) -> 0 | R7: =G6 -> 721.43978 | S7: =IF(Data!O7=0.6,'Vehicle Data'!E$21,IF(Data!O7 = 0.9,'Vehicle Data'!E$20))+(P7*O7) -> 1550.3724 | T7: =IF(F7=3,'Vehicle Data'!H$16,IF(F7=2,'Vehicle Data'!H$15,IF(F7 = 1,'Vehicle Data'!G$14))) -> 466.23005 | U7: =R7-R$2 -> 5.3012972 | V7: s | W7: a | X7: =IF(V7="S",'Vehicle Data'!C$14,IF(Data!V7 = "T1",'Vehicle Data'!P$2,IF(Data!V7="T2",'Vehicle Data'!P$3))) -> 13.4112 | Z7: =SQRT(Z6^2+2*AE6*(U7-U6)) -> 8.9054877 | AA7: 1 | AB7: =IF(AA7=1,'Vehicle Data'!I$14,IF(AA7=2,'Vehicle Data'!I$15,IF(AA7=3,'Vehicle Data'!I$16))) -> 1.7738438 | AC7: =IF(Z7<'Vehicle Data'!C$16,'Vehicle Data'!I$15,IF(Z7<'Vehicle Data'!C$15,'Vehicle Data'!I$15,IF(Z6>'Vehicle Data'!C$15,'Vehicle Data'!I$16))) -> 0.98256251 | AD7: =IF(O7=0.6,'Vehicle Data'!F$21,IF(O7=0.9,'Vehicle Data'!F$20)) -> 3.5316 | AE7: =IF(W7="a",AC7,IF(W7="b",AD7*-1)) -> 0.98256251 | AF7: =(U7-U6)/Z7 -> 0.14904781 | AG7: =(Z7-Z6)/AF7 -> 0.99077718 | AH7: =AH6+AF7 -> 0.61085342 | AJ7: =(Z7^2)*'Vehicle Data'!C$31 -> 29.145584 | AK7: =IF(O7=0.6,'Vehicle Data'!C$6*'Vehicle Data'!D$21*9.81,IF(O7=0.9,'Vehicle Data'!C$6*9.81*'Vehicle Data'!D$20)) -> 86.1318 | AL7: =AJ7+AK7+Q7 -> 115.27738 | AN7: =IF(AG7>0,AG7*'Vehicle Data'!C$6) -> 434.95118 | AO7: =AN7+AL7 -> 550.22856 | AP7: =AO7*'Vehicle Data'!F$3 -> 140.63842 | AQ7: =IF(AE7='Vehicle Data'!I$15,AP7/'Vehicle Data'!G$15,IF(AE7='Vehicle Data'!I$16,AP7/'Vehicle Data'!G$16,IF(AE7='Vehicle Data'!I$14,Data!AP7/'Vehicle Data'!G18))) -> 17.423701 | AR7: =IF(Z7<'Vehicle Data'!C$16, Z7*'Vehicle Data'!F$7*'Vehicle Data'!G$14,IF(Z7<'Vehicle Data'!C$15,Z7*'Vehicle Data'!F$7*'Vehicle Data'!G$15,IF(Z7>'Vehicle Data'!C$15,Z7*'Vehicle Data'!F$7*'Vehicle Data'!G$16))) -> 115.44151 | AS7: =AR7*60 -> 6926.4905 | AT7: =ROUND(AQ7,0) -> 17 | AU7: =MROUND(AS7,500) -> 7000 | AW7: =VLOOKUP(AT7,BSFC!A$64:A$82,1,FALSE) -> 17 | AX7: {=_xlfn.XLOOKUP(AT7,BSFC!A$64:A$82,,-1,_xlfn.XLOOKUP(Data!AU7,BSFC!C$63:Q$63,BSFC!B$64:Q$82,,-1))} -> #VALUE! | AY7: =HLOOKUP(AU7,BSFC!F$63:Q$63,1) -> 7000 | AZ7: =MATCH(AT7,BSFC!A$64:A$83,0) -> 6 | BA7: =MATCH(AU7,BSFC!C$63:Q$63,0) -> 14 | BB7: {=INDEX(BSFC!C$64:Q$82,Data!AZ7,Data!BA7)} -> 500 | BC7: =0.5*'Vehicle Data'!C$6*Data!Z7^2 -> 17408.043 | BD7: =ABS(AQ8*(AS8/9.588))/1000 -> 8.5854719 | BE7: =BB7*BD7 -> 4292.7359 | BF7: =(BE7/3600)*AF7 -> 0.17772858 | BG7: =BG6+BF7 -> 0.97337024 | BH7: =(AQ8*AR8) -> 1371.9584 | BI7: =BM$9 -> 6871.6622 | BJ7: =U533 -> 402.09903 | BN7: BSFC at this power with normal engine | BO7: =BH7*AF8 -> 202.04381 | BP7: =BP6+BO7 -> 1442.2144 | BQ7: =IF(BO7>0,BQ6+BO7,IF(BO7<=0,BQ6)) -> 1442.2144 | BR7: =(BM$9*AF8)+BR6 -> 5209.5455 | BS7: =IF(BO7>0,BO7) -> 202.04381 | BT7: =IF(BH7>=0,BH7, IF(BH7<0,0)) -> 1371.9584 | BU7: =BI7*AF8 -> 1011.9671 | BV7: =BM$9*AF8 -> 1011.9671 | BW7: =BN$9 -> 455.4 | BX7: =BW7*BI7 -> 3129355 | BY7: =((BX7/3600)*AF8)/1000 -> 0.12801384 | BZ7: =AH7 -> 0.61085342 | CB7: =BU7-BS7 -> 809.92331 | CC7: =CB7/(BZ7-BZ6) -> 5433.9835 | CD7: =CB7+CD6 -> 3035.3906
D8: =ASIN((N8)/(G9-G8)) -> 0 | E8: 9.0017016 | F8: =IF(K8<6,1,IF(Data!K8<9,2,IF(K8>9,3))) -> 3 | G8: 724.10567 | H8: 211.16666 | I8: 28.088893 | J8: =(I9-I8)/(H9-H8) -> 2.7251138 | K8: =I8/2.5 -> 11.235557 | L8: =(K9-K8)/(H9-H8) -> 1.0900455 | M8: =2*E8 -> 18.003403 | N8: 0 | O8: =IF(L8<'Vehicle Data'!F$21,'Vehicle Data'!C$21,IF(L8>'Vehicle Data'!C$21,'Vehicle Data'!C$20)) -> 0.6 | P8: =('Vehicle Data'!C$6*9.81*'Vehicle Data'!C$5*SIN(D8))/'Vehicle Data'!C$9 -> 0 | Q8: ='Vehicle Data'!C$6*9.81*SIN(D8) -> 0 | R8: =G7 -> 722.77274 | S8: =IF(Data!O8=0.6,'Vehicle Data'!E$21,IF(Data!O8 = 0.9,'Vehicle Data'!E$20))+(P8*O8) -> 1550.3724 | T8: =IF(F8=3,'Vehicle Data'!H$16,IF(F8=2,'Vehicle Data'!H$15,IF(F8 = 1,'Vehicle Data'!G$14))) -> 466.23005 | U8: =R8-R$2 -> 6.6342615 | V8: s | W8: a | X8: =IF(V8="S",'Vehicle Data'!C$14,IF(Data!V8 = "T1",'Vehicle Data'!P$2,IF(Data!V8="T2",'Vehicle Data'!P$3))) -> 13.4112 | Z8: =SQRT(Z7^2+2*AE7*(U8-U7)) -> 9.051362 | AA8: 1 | AB8: =IF(AA8=1,'Vehicle Data'!I$14,IF(AA8=2,'Vehicle Data'!I$15,IF(AA8=3,'Vehicle Data'!I$16))) -> 1.7738438 | AC8: 0.462027 | AD8: =IF(O8=0.6,'Vehicle Data'!F$21,IF(O8=0.9,'Vehicle Data'!F$20)) -> 3.5316 | AE8: =IF(W8="a",AC8,IF(W8="b",AD8*-1)) -> 0.462027 | AF8: =(U8-U7)/Z8 -> 0.14726672 | AG8: =(Z8-Z7)/AF8 -> 0.99054445 | AH8: =AH7+AF8 -> 0.75812013 | AJ8: =(Z8^2)*'Vehicle Data'!C$31 -> 30.108229 | AK8: =IF(O8=0.6,'Vehicle Data'!C$6*'Vehicle Data'!D$21*9.81,IF(O8=0.9,'Vehicle Data'!C$6*9.81*'Vehicle Data'!D$20)) -> 86.1318 | AL8: =AJ8+AK8+Q8 -> 116.24003 | AN8: =IF(AG8>0,AG8*'Vehicle Data'!C$6) -> 434.84901 | AO8: =AN8+AL8 -> 551.08904 | AP8: =AO8*'Vehicle Data'!F$3 -> 140.85836 | AQ8: 17.424 | AR8: =IF(Z8<'Vehicle Data'!C$16, Z8*'Vehicle Data'!F$7*'Vehicle Data'!G$14,IF(Z8<'Vehicle Data'!C$15,Z8*'Vehicle Data'!F$7*'Vehicle Data'!G$15,IF(Z8>'Vehicle Data'!C$15,Z8*'Vehicle Data'!F$7*'Vehicle Data'!G$16))) -> 78.739578 | AS8: =AR8*60 -> 4724.3747 | AT8: =ROUND(AQ8,0) -> 17 | AU8: =MROUND(AS8,500) -> 4500 | AW8: =VLOOKUP(AT8,BSFC!A$64:A$82,1,FALSE) -> 17 | AX8: {=_xlfn.XLOOKUP(AT8,BSFC!A$64:A$82,,-1,_xlfn.XLOOKUP(Data!AU8,BSFC!C$63:Q$63,BSFC!B$64:Q$82,,-1))} -> #VALUE! | AY8: =HLOOKUP(AU8,BSFC!F$63:Q$63,1) -> 4500 | AZ8: =MATCH(AT8,BSFC!A$64:A$83,0) -> 6 | BA8: =MATCH(AU8,BSFC!C$63:Q$63,0) -> 9 | BB8: {=INDEX(BSFC!C$64:Q$82,Data!AZ8,Data!BA8)} -> 650 | BC8: =0.5*'Vehicle Data'!C$6*Data!Z8^2 -> 17983.01 | BD8: =ABS(AQ9*(AS9/9.588))/1000 -> 7.5025304 | BE8: =BB8*BD8 -> 4876.6448 | BF8: =(BE8/3600)*AF8 -> 0.19949096 | BG8: =BG7+BF8 -> 1.1728612 | BH8: =(AQ9*AR9) -> 1198.9044 | BI8: =BM$9 -> 6871.6622 | BK8: Fuel Use(g) | BL8: Instantaneous Regen | BM8: =AVERAGE(BH3:BH533) -> 5506.9172 | BN8: 490 | BO8: =BH8*AF9 -> 175.24185 | BP8: =BP7+BO8 -> 1617.4563 | BQ8: =IF(BO8>0,BQ7+BO8,IF(BO8<=0,BQ7)) -> 1617.4563 | BR8: =(BM$9*AF9)+BR7 -> 6213.9648 | BS8: =IF(BO8>0,BO8) -> 175.24185 | BT8: =IF(BH8>=0,BH8, IF(BH8<0,0)) -> 1198.9044 | BU8: =BI8*AF9 -> 1004.4194 | BV8: =BM$9*AF9 -> 1004.4194 | BW8: =BN$9 -> 455.4 | BX8: =BW8*BI8 -> 3129355 | BY8: =((BX8/3600)*AF9)/1000 -> 0.12705905 | BZ8: =AH8 -> 0.75812013 | CB8: =BU8-BS8 -> 829.17754 | CC8: =CB8/(BZ8-BZ7) -> 5630.4477 | CD8: =CB8+CD7 -> 3864.5681
D9: =ASIN((N9)/(G10-G9)) -> 0 | E9: 8.9017032 | F9: =IF(K9<6,1,IF(Data!K9<9,2,IF(K9>9,3))) -> 3 | G9: 725.44295 | H9: 211.21666 | I9: 28.225149 | J9: =(I10-I9)/(H10-H9) -> 2.9401784 | K9: =I9/2.5 -> 11.29006 | L9: =(K10-K9)/(H10-H9) -> 1.1760714 | M9: =2*E9 -> 17.803406 | N9: =E10-E9 -> 0 | O9: =IF(L9<'Vehicle Data'!F$21,'Vehicle Data'!C$21,IF(L9>'Vehicle Data'!C$21,'Vehicle Data'!C$20)) -> 0.6 | P9: =('Vehicle Data'!C$6*9.81*'Vehicle Data'!C$5*SIN(D9))/'Vehicle Data'!C$9 -> 0 | Q9: ='Vehicle Data'!C$6*9.81*SIN(D9) -> 0 | R9: =G8 -> 724.10567 | S9: =IF(Data!O9=0.6,'Vehicle Data'!E$21,IF(Data!O9 = 0.9,'Vehicle Data'!E$20))+(P9*O9) -> 1550.3724 | T9: =IF(F9=3,'Vehicle Data'!H$16,IF(F9=2,'Vehicle Data'!H$15,IF(F9 = 1,'Vehicle Data'!G$14))) -> 466.23005 | U9: =R9-R$2 -> 7.9671921 | V9: s | W9: a | X9: =IF(V9="S",'Vehicle Data'!C$14,IF(Data!V9 = "T1",'Vehicle Data'!P$2,IF(Data!V9="T2",'Vehicle Data'!P$3))) -> 13.4112 | Z9: =SQRT(Z8^2+2*AE8*(U9-U8)) -> 9.1191476 | AA9: 1 | AB9: =IF(AA9=1,'Vehicle Data'!I$14,IF(AA9=2,'Vehicle Data'!I$15,IF(AA9=3,'Vehicle Data'!I$16))) -> 1.7738438 | AC9: =IF(Z9<'Vehicle Data'!C$16,'Vehicle Data'!I$15,IF(Z9<'Vehicle Data'!C$15,'Vehicle Data'!I$15,IF(Z8>'Vehicle Data'!C$15,'Vehicle Data'!I$16))) -> 0.46202745 | AD9: =IF(O9=0.6,'Vehicle Data'!F$21,IF(O9=0.9,'Vehicle Data'!F$20)) -> 3.5316 | AE9: =IF(W9="a",AC9,IF(W9="b",AD9*-1)) -> 0.46202745 | AF9: =(U9-U8)/Z9 -> 0.14616833 | AG9: =(Z9-Z8)/AF9 -> 0.46375061 | AH9: =AH8+AF9 -> 0.90428846 | AJ9: =(Z9^2)*'Vehicle Data'!C$31 -> 30.560879 | AK9: =IF(O9=0.6,'Vehicle Data'!C$6*'Vehicle Data'!D$21*9.81,IF(O9=0.9,'Vehicle Data'!C$6*9.81*'Vehicle Data'!D$20)) -> 86.1318 | AL9: =AJ9+AK9+Q9 -> 116.69268 | AN9: =IF(AG9>0,AG9*'Vehicle Data'!C$6) -> 203.58652 | AO9: =AN9+AL9 -> 320.27919 | AP9: =AO9*'Vehicle Data'!F$3 -> 81.863362 | AQ9: =IF(AE9='Vehicle Data'!I$15,AP9/'Vehicle Data'!G$15,IF(AE9='Vehicle Data'!I$16,AP9/'Vehicle Data'!G$16,IF(AE9='Vehicle Data'!I$14,Data!AP9/'Vehicle Data'!G20))) -> 15.113016 | AR9: =IF(Z9<'Vehicle Data'!C$16, Z9*'Vehicle Data'!F$7*'Vehicle Data'!G$14,IF(Z9<'Vehicle Data'!C$15,Z9*'Vehicle Data'!F$7*'Vehicle Data'!G$15,IF(Z9>'Vehicle Data'!C$15,Z9*'Vehicle Data'!F$7*'Vehicle Data'!G$16))) -> 79.329259 | AS9: =AR9*60 -> 4759.7555 | AT9: =ROUND(AQ9,0) -> 15 | AU9: =MROUND(AS9,500) -> 5000 | AW9: =VLOOKUP(AT9,BSFC!A$64:A$82,1,FALSE) -> 15 | AX9: {=_xlfn.XLOOKUP(AT9,BSFC!A$64:A$82,,-1,_xlfn.XLOOKUP(Data!AU9,BSFC!C$63:Q$63,BSFC!B$64:Q$82,,-1))} -> #VALUE! | AY9: =HLOOKUP(AU9,BSFC!F$63:Q$63,1) -> 5000 | AZ9: =MATCH(AT9,BSFC!A$64:A$83,0) -> 8 | BA9: =MATCH(AU9,BSFC!C$63:Q$63,0) -> 10 | BB9: {=INDEX(BSFC!C$64:Q$82,Data!AZ9,Data!BA9)} -> 705.8 | BC9: =0.5*'Vehicle Data'!C$6*Data!Z9^2 -> 18253.368 | BD9: =ABS(AQ10*(AS10/9.588))/1000 -> 7.5685834 | BE9: =BB9*BD9 -> 5341.9061 | BF9: =(BE9/3600)*AF9 -> 0.21689375 | BG9: =BG8+BF9 -> 1.3897549 | BH9: =(AQ10*AR10) -> 1209.4596 | BI9: =BM$9 -> 6871.6622 | BK9: =SUM(BY3:BY533) -> 159.83409 | BL9: Without | BM9: =AVERAGE(BT3:BT533) -> 6871.6622 | BN9: 455.4 | BO9: =BH9*AF10 -> 176.05777 | BP9: =BP8+BO9 -> 1793.514 | BQ9: =IF(BO9>0,BQ8+BO9,IF(BO9<=0,BQ8)) -> 1793.514 | BR9: =(BM$9*AF10)+BR8 -> 7214.2541 | BS9: =IF(BO9>0,BO9) -> 176.05777 | BT9: =IF(BH9>=0,BH9, IF(BH9<0,0)) -> 1209.4596 | BU9: =BI9*AF10 -> 1000.2893 | BV9: =BM$9*AF10 -> 1000.2893 | BW9: =BN$9 -> 455.4 | BX9: =BW9*BI9 -> 3129355 | BY9: =((BX9/3600)*AF10)/1000 -> 0.12653659 | BZ9: =AH9 -> 0.90428846 | CB9: =BU9-BS9 -> 824.23152 | CC9: =CB9/(BZ9-BZ8) -> 5638.92 | CD9: =CB9+CD8 -> 4688.7996
D10: =ASIN((N10)/(G11-G10)) -> 0 | E10: 8.9017032 | F10: =IF(K10<6,1,IF(Data!K10<9,2,IF(K10>9,3))) -> 3 | G10: 726.78227 | H10: 211.26666 | I10: 28.372158 | J10: =(I11-I10)/(H11-H10) -> 2.981709 | K10: =I10/2.5 -> 11.348863 | L10: =(K11-K10)/(H11-H10) -> 1.1926836 | M10: =2*E10 -> 17.803406 | N10: =E11-E10 -> 0 | O10: =IF(L10<'Vehicle Data'!F$21,'Vehicle Data'!C$21,IF(L10>'Vehicle Data'!C$21,'Vehicle Data'!C$20)) -> 0.6 | P10: =('Vehicle Data'!C$6*9.81*'Vehicle Data'!C$5*SIN(D10))/'Vehicle Data'!C$9 -> 0 | Q10: ='Vehicle Data'!C$6*9.81*SIN(D10) -> 0 | R10: =G9 -> 725.44295 | S10: =IF(Data!O10=0.6,'Vehicle Data'!E$21,IF(Data!O10 = 0.9,'Vehicle Data'!E$20))+(P10*O10) -> 1550.3724 | T10: =IF(F10=3,'Vehicle Data'!H$16,IF(F10=2,'Vehicle Data'!H$15,IF(F10 = 1,'Vehicle Data'!G$14))) -> 466.23005 | U10: =R10-R$2 -> 9.3044681 | V10: s | W10: a | X10: =IF(V10="S",'Vehicle Data'!C$14,IF(Data!V10 = "T1",'Vehicle Data'!P$2,IF(Data!V10="T2",'Vehicle Data'!P$3))) -> 13.4112 | Z10: =SQRT(Z9^2+2*AE9*(U10-U9)) -> 9.1866517 | AB10: =IF(AA10=1,'Vehicle Data'!I$14,IF(AA10=2,'Vehicle Data'!I$15,IF(AA10=3,'Vehicle Data'!I$16))) -> FALSE | AC10: =IF(Z10<'Vehicle Data'!C$16,'Vehicle Data'!I$15,IF(Z10<'Vehicle Data'!C$15,'Vehicle Data'!I$15,IF(Z9>'Vehicle Data'!C$15,'Vehicle Data'!I$16))) -> 0.46202745 | AD10: =IF(O10=0.6,'Vehicle Data'!F$21,IF(O10=0.9,'Vehicle Data'!F$20)) -> 3.5316 | AE10: =IF(W10="a",AC10,IF(W10="b",AD10*-1)) -> 0.46202745 | AF10: =(U10-U9)/Z10 -> 0.1455673 | AG10: =(Z10-Z9)/AF10 -> 0.46373122 | AH10: =AH9+AF10 -> 1.0498558 | AJ10: =(Z10^2)*'Vehicle Data'!C$31 -> 31.015004 | AK10: =IF(O10=0.6,'Vehicle Data'!C$6*'Vehicle Data'!D$21*9.81,IF(O10=0.9,'Vehicle Data'!C$6*9.81*'Vehicle Data'!D$20)) -> 86.1318 | AL10: =AJ10+AK10+Q10 -> 117.1468 | AN10: =IF(AG10>0,AG10*'Vehicle Data'!C$6) -> 203.578 | AO10: =AN10+AL10 -> 320.72481 | AP10: =AO10*'Vehicle Data'!F$3 -> 81.977261 | AQ10: =IF(AE10='Vehicle Data'!I$15,AP10/'Vehicle Data'!G$15,IF(AE10='Vehicle Data'!I$16,AP10/'Vehicle Data'!G$16,IF(AE10='Vehicle Data'!I$14,Data!AP10/'Vehicle Data'!G21))) -> 15.134043 | AR10: =IF(Z10<'Vehicle Data'!C$16, Z10*'Vehicle Data'!F$7*'Vehicle Data'!G$14,IF(Z10<'Vehicle Data'!C$15,Z10*'Vehicle Data'!F$7*'Vehicle Data'!G$15,IF(Z10>'Vehicle Data'!C$15,Z10*'Vehicle Data'!F$7*'Vehicle Data'!G$16))) -> 79.91649 | AS10: =AR10*60 -> 4794.9894 | AT10: =ROUND(AQ10,0) -> 15 | AU10: =MROUND(AS10,500) -> 5000 | AW10: =VLOOKUP(AT10,BSFC!A$64:A$82,1,FALSE) -> 15 | AX10: {=_xlfn.XLOOKUP(AT10,BSFC!A$64:A$82,,-1,_xlfn.XLOOKUP(Data!AU10,BSFC!C$63:Q$63,BSFC!B$64:Q$82,,-1))} -> #VALUE! | AY10: =HLOOKUP(AU10,BSFC!F$63:Q$63,1) -> 5000 | AZ10: =MATCH(AT10,BSFC!A$64:A$83,0) -> 8 | BA10: =MATCH(AU10,BSFC!C$63:Q$63,0) -> 10 | BB10: {=INDEX(BSFC!C$64:Q$82,Data!AZ10,Data!BA10)} -> 705.8 | BC10: =0.5*'Vehicle Data'!C$6*Data!Z10^2 -> 18524.608 | BD10: =ABS(AQ11*(AS11/9.588))/1000 -> 7.6344559 | BE10: =BB10*BD10 -> 5388.399 | BF10: =(BE10/3600)*AF10 -> 0.21788185 | BG10: =BG9+BF10 -> 1.6076368 | BH10: =(AQ11*AR11) -> 1219.986 | BI10: =BM$9 -> 6871.6622 | BO10: =BH10*AF11 -> 176.57182 | BP10: =BP9+BO10 -> 1970.0858 | BQ10: =IF(BO10>0,BQ9+BO10,IF(BO10<=0,BQ9)) -> 1970.0858 | BR10: =(BM$9*AF11)+BR9 -> 8208.8081 | BS10: =IF(BO10>0,BO10) -> 176.57182 | BT10: =IF(BH10>=0,BH10, IF(BH10<0,0)) -> 1219.986 | BU10: =BI10*AF11 -> 994.55393 | BV10: =BM$9*AF11 -> 994.55393 | BW10: =BN$9 -> 455.4 | BX10: =BW10*BI10 -> 3129355 | BY10: =((BX10/3600)*AF11)/1000 -> 0.12581107 | BZ10: =AH10 -> 1.0498558 | CB10: =BU10-BS10 -> 817.98211 | CC10: =CB10/(BZ10-BZ9) -> 5619.2712 | CD10: =CB10+CD9 -> 5506.7817
D11: =ASIN((N11)/(G12-G11)) -> 0 | E11: 8.9017032 | F11: =IF(K11<6,1,IF(Data!K11<9,2,IF(K11>9,3))) -> 3 | G11: 728.12482 | H11: 211.31667 | I11: 28.521243 | J11: =(I12-I11)/(H12-H11) -> 3.0118738 | K11: =I11/2.5 -> 11.408497 | L11: =(K12-K11)/(H12-H11) -> 1.2047495 | M11: =2*E11 -> 17.803406 | N11: =E12-E11 -> 0 | O11: =IF(L11<'Vehicle Data'!F$21,'Vehicle Data'!C$21,IF(L11>'Vehicle Data'!C$21,'Vehicle Data'!C$20)) -> 0.6 | P11: =('Vehicle Data'!C$6*9.81*'Vehicle Data'!C$5*SIN(D11))/'Vehicle Data'!C$9 -> 0 | Q11: ='Vehicle Data'!C$6*9.81*SIN(D11) -> 0 | R11: =G10 -> 726.78227 | S11: =IF(Data!O11=0.6,'Vehicle Data'!E$21,IF(Data!O11 = 0.9,'Vehicle Data'!E$20))+(P11*O11) -> 1550.3724 | T11: =IF(F11=3,'Vehicle Data'!H$16,IF(F11=2,'Vehicle Data'!H$15,IF(F11 = 1,'Vehicle Data'!G$14))) -> 466.23005 | U11: =R11-R$2 -> 10.64379 | V11: s | W11: a | X11: =IF(V11="S",'Vehicle Data'!C$14,IF(Data!V11 = "T1",'Vehicle Data'!P$2,IF(Data!V11="T2",'Vehicle Data'!P$3))) -> 13.4112 | Z11: =SQRT(Z10^2+2*AE10*(U11-U10)) -> 9.2537655 | AB11: =IF(AA11=1,'Vehicle Data'!I$14,IF(AA11=2,'Vehicle Data'!I$15,IF(AA11=3,'Vehicle Data'!I$16))) -> FALSE | AC11: =IF(Z11<'Vehicle Data'!C$16,'Vehicle Data'!I$15,IF(Z11<'Vehicle Data'!C$15,'Vehicle Data'!I$15,IF(Z10>'Vehicle Data'!C$15,'Vehicle Data'!I$16))) -> 0.46202745 | AD11: =IF(O11=0.6,'Vehicle Data'!F$21,IF(O11=0.9,'Vehicle Data'!F$20)) -> 3.5316 | AE11: =IF(W11="a",AC11,IF(W11="b",AD11*-1)) -> 0.46202745 | AF11: =(U11-U10)/Z11 -> 0.14473266 | AG11: =(Z11-Z10)/AF11 -> 0.463709 | AH11: =AH10+AF11 -> 1.1945884 | AJ11: =(Z11^2)*'Vehicle Data'!C$31 -> 31.469825 | AK11: =IF(O11=0.6,'Vehicle Data'!C$6*'Vehicle Data'!D$21*9.81,IF(O11=0.9,'Vehicle Data'!C$6*9.81*'Vehicle Data'!D$20)) -> 86.1318 | AL11: =AJ11+AK11+Q11 -> 117.60162 | AN11: =IF(AG11>0,AG11*'Vehicle Data'!C$6) -> 203.56825 | AO11: =AN11+AL11 -> 321.16988 | AP11: =AO11*'Vehicle Data'!F$3 -> 82.09102 | AQ11: =IF(AE11='Vehicle Data'!I$15,AP11/'Vehicle Data'!G$15,IF(AE11='Vehicle Data'!I$16,AP11/'Vehicle Data'!G$16,IF(AE11='Vehicle Data'!I$14,Data!AP11/'Vehicle Data'!G22))) -> 15.155045 | AR11: =IF(Z11<'Vehicle Data'!C$16, Z11*'Vehicle Data'!F$7*'Vehicle Data'!G$14,IF(Z11<'Vehicle Data'!C$15,Z11*'Vehicle Data'!F$7*'Vehicle Data'!G$15,IF(Z11>'Vehicle Data'!C$15,Z11*'Vehicle Data'!F$7*'Vehicle Data'!G$16))) -> 80.500327 | AS11: =AR11*60 -> 4830.0196 | AT11: =ROUND(AQ11,0) -> 15 | AU11: =MROUND(AS11,500) -> 5000 | AW11: =VLOOKUP(AT11,BSFC!A$64:A$82,1,FALSE) -> 15 | AX11: {=_xlfn.XLOOKUP(AT11,BSFC!A$64:A$82,,-1,_xlfn.XLOOKUP(Data!AU11,BSFC!C$63:Q$63,BSFC!B$64:Q$82,,-1))} -> #VALUE! | AY11: =HLOOKUP(AU11,BSFC!F$63:Q$63,1) -> 5000 | AZ11: =MATCH(AT11,BSFC!A$64:A$83,0) -> 8 | BA11: =MATCH(AU11,BSFC!C$63:Q$63,0) -> 10 | BB11: {=INDEX(BSFC!C$64:Q$82,Data!AZ11,Data!BA11)} -> 705.8 | BC11: =0.5*'Vehicle Data'!C$6*Data!Z11^2 -> 18796.263 | BD11: =ABS(AQ12*(AS12/9.588))/1000 -> 7.7002622 | BE11: =BB11*BD11 -> 5434.8451 | BF11: =(BE11/3600)*AF11 -> 0.21849988 | BG11: =BG10+BF11 -> 1.8261367 | BH11: =(AQ12*AR12) -> 1230.5019 | BI11: =BM$9 -> 6871.6622 | BK11: Cumulative Energy | BL11: =BQ533 -> 1330256 | BO11: =BH11*AF12 -> 177.24289 | BP11: =BP10+BO11 -> 2147.3287 | BQ11: =IF(BO11>0,BQ10+BO11,IF(BO11<=0,BQ10)) -> 2147.3287 | BR11: =(BM$9*AF12)+BR10 -> 9198.6101 | BS11: =IF(BO11>0,BO11) -> 177.24289 | BT11: =IF(BH11>=0,BH11, IF(BH11<0,0)) -> 1230.5019 | BU11: =BI11*AF12 -> 989.802 | BV11: =BM$9*AF12 -> 989.802 | BW11: =BN$9 -> 455.4 | BX11: =BW11*BI11 -> 3129355 | BY11: =((BX11/3600)*AF12)/1000 -> 0.12520995 | BZ11: =AH11 -> 1.1945884 | CB11: =BU11-BS11 -> 812.55911 | CC11: =CB11/(BZ11-BZ10) -> 5614.2071 | CD11: =CB11+CD10 -> 6319.3408
D12: =ASIN((N12)/(G13-G12)) -> 0 | E12: 8.9017032 | F12: =IF(K12<6,1,IF(Data!K12<9,2,IF(K12>9,3))) -> 3 | G12: 729.47077 | H12: 211.36666 | I12: 28.671837 | J12: =(I13-I12)/(H13-H12) -> 3.0867561 | K12: =I12/2.5 -> 11.468735 | L12: =(K13-K12)/(H13-H12) -> 1.2347025 | M12: =2*E12 -> 17.803406 | N12: =E13-E12 -> 0 | O12: =IF(L12<'Vehicle Data'!F$21,'Vehicle Data'!C$21,IF(L12>'Vehicle Data'!C$21,'Vehicle Data'!C$20)) -> 0.6 | P12: =('Vehicle Data'!C$6*9.81*'Vehicle Data'!C$5*SIN(D12))/'Vehicle Data'!C$9 -> 0 | Q12: ='Vehicle Data'!C$6*9.81*SIN(D12) -> 0 | R12: =G11 -> 728.12482 | S12: =IF(Data!O12=0.6,'Vehicle Data'!E$21,IF(Data!O12 = 0.9,'Vehicle Data'!E$20))+(P12*O12) -> 1550.3724 | T12: =IF(F12=3,'Vehicle Data'!H$16,IF(F12=2,'Vehicle Data'!H$15,IF(F12 = 1,'Vehicle Data'!G$14))) -> 466.23005 | U12: =R12-R$2 -> 11.986334 | V12: s | W12: a | X12: =IF(V12="S",'Vehicle Data'!C$14,IF(Data!V12 = "T1",'Vehicle Data'!P$2,IF(Data!V12="T2",'Vehicle Data'!P$3))) -> 13.4112 | Z12: =SQRT(Z11^2+2*AE11*(U12-U11)) -> 9.3205558 | AB12: =IF(AA12=1,'Vehicle Data'!I$14,IF(AA12=2,'Vehicle Data'!I$15,IF(AA12=3,'Vehicle Data'!I$16))) -> FALSE | AC12: =IF(Z12<'Vehicle Data'!C$16,'Vehicle Data'!I$15,IF(Z12<'Vehicle Data'!C$15,'Vehicle Data'!I$15,IF(Z11>'Vehicle Data'!C$15,'Vehicle Data'!I$16))) -> 0.46202745 | AD12: =IF(O12=0.6,'Vehicle Data'!F$21,IF(O12=0.9,'Vehicle Data'!F$20)) -> 3.5316 | AE12: =IF(W12="a",AC12,IF(W12="b",AD12*-1)) -> 0.46202745 | AF12: =(U12-U11)/Z12 -> 0.14404113 | AG12: =(Z12-Z11)/AF12 -> 0.46368883 | AH12: =AH11+AF12 -> 1.3386295 | AJ12: =(Z12^2)*'Vehicle Data'!C$31 -> 31.92574 | AK12: =IF(O12=0.6,'Vehicle Data'!C$6*'Vehicle Data'!D$21*9.81,IF(O12=0.9,'Vehicle Data'!C$6*9.81*'Vehicle Data'!D$20)) -> 86.1318 | AL12: =AJ12+AK12+Q12 -> 118.05754 | AN12: =IF(AG12>0,AG12*'Vehicle Data'!C$6) -> 203.5594 | AO12: =AN12+AL12 -> 321.61694 | AP12: =AO12*'Vehicle Data'!F$3 -> 82.205289 | AQ12: =IF(AE12='Vehicle Data'!I$15,AP12/'Vehicle Data'!G$15,IF(AE12='Vehicle Data'!I$16,AP12/'Vehicle Data'!G$16,IF(AE12='Vehicle Data'!I$14,Data!AP12/'Vehicle Data'!G23))) -> 15.17614 | AR12: =IF(Z12<'Vehicle Data'!C$16, Z12*'Vehicle Data'!F$7*'Vehicle Data'!G$14,IF(Z12<'Vehicle Data'!C$15,Z12*'Vehicle Data'!F$7*'Vehicle Data'!G$15,IF(Z12>'Vehicle Data'!C$15,Z12*'Vehicle Data'!F$7*'Vehicle Data'!G$16))) -> 81.081348 | AS12: =AR12*60 -> 4864.8809 | AT12: =ROUND(AQ12,0) -> 15 | AU12: =MROUND(AS12,500) -> 5000 | AW12: =VLOOKUP(AT12,BSFC!A$64:A$82,1,FALSE) -> 15 | AX12: {=_xlfn.XLOOKUP(AT12,BSFC!A$64:A$82,,-1,_xlfn.XLOOKUP(Data!AU12,BSFC!C$63:Q$63,BSFC!B$64:Q$82,,-1))} -> #VALUE! | AY12: =HLOOKUP(AU12,BSFC!F$63:Q$63,1) -> 5000 | AZ12: =MATCH(AT12,BSFC!A$64:A$83,0) -> 8 | BA12: =MATCH(AU12,BSFC!C$63:Q$63,0) -> 10 | BB12: {=INDEX(BSFC!C$64:Q$82,Data!AZ12,Data!BA12)} -> 705.8 | BC12: =0.5*'Vehicle Data'!C$6*Data!Z12^2 -> 19068.571 | BD12: =ABS(AQ13*(AS13/9.588))/1000 -> 7.7660032 | BE12: =BB12*BD12 -> 5481.2451 | BF12: =(BE12/3600)*AF12 -> 0.21931243 | BG12: =BG11+BF12 -> 2.0454491 | BH12: =(AQ13*AR13) -> 1241.0073 | BI12: =BM$9 -> 6871.6622 | BK12: Total Energy | BL12: =BM9*BL5 -> 1264585.4 | BO12: =BH12*AF13 -> 177.94037 | BP12: =BP11+BO12 -> 2325.2691 | BQ12: =IF(BO12>0,BQ11+BO12,IF(BO12<=0,BQ11)) -> 2325.2691 | BR12: =(BM$9*AF13)+BR11 -> 10183.895 | BS12: =IF(BO12>0,BO12) -> 177.94037 | BT12: =IF(BH12>=0,BH12, IF(BH12<0,0)) -> 1241.0073 | BU12: =BI12*AF13 -> 985.28517 | BV12: =BM$9*AF13 -> 985.28517 | BW12: =BN$9 -> 455.4 | BX12: =BW12*BI12 -> 3129355 | BY12: =((BX12/3600)*AF13)/1000 -> 0.12463857 | BZ12: =AH12 -> 1.3386295 | CB12: =BU12-BS12 -> 807.34481 | CC12: =CB12/(BZ12-BZ11) -> 5604.9602 | CD12: =CB12+CD11 -> 7126.6857
D13: =ASIN((N13)/(G14-G13)) -> 0 | E13: 8.9017032 | F13: =IF(K13<6,1,IF(Data!K13<9,2,IF(K13>9,3))) -> 3 | G13: 730.8182 | H13: 211.41666 | I13: 28.826175 | J13: =(I14-I13)/(H14-H13) -> 3.2287339 | K13: =I13/2.5 -> 11.53047 | L13: =(K14-K13)/(H14-H13) -> 1.2914936 | M13: =2*E13 -> 17.803406 | N13: =E14-E13 -> 0 | O13: =IF(L13<'Vehicle Data'!F$21,'Vehicle Data'!C$21,IF(L13>'Vehicle Data'!C$21,'Vehicle Data'!C$20)) -> 0.6 | P13: =('Vehicle Data'!C$6*9.81*'Vehicle Data'!C$5*SIN(D13))/'Vehicle Data'!C$9 -> 0 | Q13: ='Vehicle Data'!C$6*9.81*SIN(D13) -> 0 | R13: =G12 -> 729.47077 | S13: =IF(Data!O13=0.6,'Vehicle Data'!E$21,IF(Data!O13 = 0.9,'Vehicle Data'!E$20))+(P13*O13) -> 1550.3724 | T13: =IF(F13=3,'Vehicle Data'!H$16,IF(F13=2,'Vehicle Data'!H$15,IF(F13 = 1,'Vehicle Data'!G$14))) -> 466.23005 | U13: =R13-R$2 -> 13.332283 | V13: s | W13: a | X13: =IF(V13="S",'Vehicle Data'!C$14,IF(Data!V13 = "T1",'Vehicle Data'!P$2,IF(Data!V13="T2",'Vehicle Data'!P$3))) -> 13.4112 | Z13: =SQRT(Z12^2+2*AE12*(U13-U12)) -> 9.3870385 | AB13: =IF(AA13=1,'Vehicle Data'!I$14,IF(AA13=2,'Vehicle Data'!I$15,IF(AA13=3,'Vehicle Data'!I$16))) -> FALSE | AC13: =IF(Z13<'Vehicle Data'!C$16,'Vehicle Data'!I$15,IF(Z13<'Vehicle Data'!C$15,'Vehicle Data'!I$15,IF(Z12>'Vehicle Data'!C$15,'Vehicle Data'!I$16))) -> 0.46202745 | AD13: =IF(O13=0.6,'Vehicle Data'!F$21,IF(O13=0.9,'Vehicle Data'!F$20)) -> 3.5316 | AE13: =IF(W13="a",AC13,IF(W13="b",AD13*-1)) -> 0.46202745 | AF13: =(U13-U12)/Z13 -> 0.14338382 | AG13: =(Z13-Z12)/AF13 -> 0.4636694 | AH13: =AH12+AF13 -> 1.4820134 | AJ13: =(Z13^2)*'Vehicle Data'!C$31 -> 32.382811 | AK13: =IF(O13=0.6,'Vehicle Data'!C$6*'Vehicle Data'!D$21*9.81,IF(O13=0.9,'Vehicle Data'!C$6*9.81*'Vehicle Data'!D$20)) -> 86.1318 | AL13: =AJ13+AK13+Q13 -> 118.51461 | AN13: =IF(AG13>0,AG13*'Vehicle Data'!C$6) -> 203.55087 | AO13: =AN13+AL13 -> 322.06548 | AP13: =AO13*'Vehicle Data'!F$3 -> 82.319936 | AQ13: =IF(AE13='Vehicle Data'!I$15,AP13/'Vehicle Data'!G$15,IF(AE13='Vehicle Data'!I$16,AP13/'Vehicle Data'!G$16,IF(AE13='Vehicle Data'!I$14,Data!AP13/'Vehicle Data'!G24))) -> 15.197305 | AR13: =IF(Z13<'Vehicle Data'!C$16, Z13*'Vehicle Data'!F$7*'Vehicle Data'!G$14,IF(Z13<'Vehicle Data'!C$15,Z13*'Vehicle Data'!F$7*'Vehicle Data'!G$15,IF(Z13>'Vehicle Data'!C$15,Z13*'Vehicle Data'!F$7*'Vehicle Data'!G$16))) -> 81.659694 | AS13: =AR13*60 -> 4899.5817 | AT13: =ROUND(AQ13,0) -> 15 | AU13: =MROUND(AS13,500) -> 5000 | AW13: =VLOOKUP(AT13,BSFC!A$64:A$82,1,FALSE) -> 15 | AX13: {=_xlfn.XLOOKUP(AT13,BSFC!A$64:A$82,,-1,_xlfn.XLOOKUP(Data!AU13,BSFC!C$63:Q$63,BSFC!B$64:Q$82,,-1))} -> #VALUE! | AY13: =HLOOKUP(AU13,BSFC!F$63:Q$63,1) -> 5000 | AZ13: =MATCH(AT13,BSFC!A$64:A$83,0) -> 8 | BA13: =MATCH(AU13,BSFC!C$63:Q$63,0) -> 10 | BB13: {=INDEX(BSFC!C$64:Q$82,Data!AZ13,Data!BA13)} -> 705.8 | BC13: =0.5*'Vehicle Data'!C$6*Data!Z13^2 -> 19341.57 | BD13: =ABS(AQ14*(AS14/9.588))/1000 -> 7.8315632 | BE13: =BB13*BD13 -> 5527.5173 | BF13: =(BE13/3600)*AF13 -> 0.2201546 | BG13: =BG12+BF13 -> 2.2656037 | BH13: =(AQ14*AR14) -> 1251.4838 | BI13: =BM$9 -> 6871.6622 | BL13: =BR533 -> 1263510.6 | BN13: We start with a bucket of energy | BO13: =BH13*AF14 -> 178.38484 | BP13: =BP12+BO13 -> 2503.6539 | BQ13: =IF(BO13>0,BQ12+BO13,IF(BO13<=0,BQ12)) -> 2503.6539 | BR13: =(BM$9*AF14)+BR12 -> 11163.373 | BS13: =IF(BO13>0,BO13) -> 178.38484 | BT13: =IF(BH13>=0,BH13, IF(BH13<0,0)) -> 1251.4838 | BU13: =BI13*AF14 -> 979.47759 | BV13: =BM$9*AF14 -> 979.47759 | BW13: =BN$9 -> 455.4 | BX13: =BW13*BI13 -> 3129355 | BY13: =((BX13/3600)*AF14)/1000 -> 0.12390392 | BZ13: =AH13 -> 1.4820134 | CB13: =BU13-BS13 -> 801.09275 | CC13: =CB13/(BZ13-BZ12) -> 5587.0513 | CD13: =CB13+CD12 -> 7927.7784
D14: =ASIN((N14)/(G15-G14)) -> 0 | E14: 8.9017032 | F14: =IF(K14<6,1,IF(Data!K14<9,2,IF(K14>9,3))) -> 3 | G14: 732.17119 | H14: 211.46666 | I14: 28.987612 | J14: =(I15-I14)/(H15-H14) -> 3.2779455 | K14: =I14/2.5 -> 11.595045 | L14: =(K15-K14)/(H15-H14) -> 1.3111782 | M14: =2*E14 -> 17.803406 | N14: =E15-E14 -> 0 | O14: =IF(L14<'Vehicle Data'!F$21,'Vehicle Data'!C$21,IF(L14>'Vehicle Data'!C$21,'Vehicle Data'!C$20)) -> 0.6 | P14: =('Vehicle Data'!C$6*9.81*'Vehicle Data'!C$5*SIN(D14))/'Vehicle Data'!C$9 -> 0 | Q14: ='Vehicle Data'!C$6*9.81*SIN(D14) -> 0 | R14: =G13 -> 730.8182 | S14: =IF(Data!O14=0.6,'Vehicle Data'!E$21,IF(Data!O14 = 0.9,'Vehicle Data'!E$20))+(P14*O14) -> 1550.3724 | T14: =IF(F14=3,'Vehicle Data'!H$16,IF(F14=2,'Vehicle Data'!H$15,IF(F14 = 1,'Vehicle Data'!G$14))) -> 466.23005 | U14: =R14-R$2 -> 14.679719 | V14: s | W14: a | X14: =IF(V14="S",'Vehicle Data'!C$14,IF(Data!V14 = "T1",'Vehicle Data'!P$2,IF(Data!V14="T2",'Vehicle Data'!P$3))) -> 13.4112 | Z14: =SQRT(Z13^2+2*AE13*(U14-U13)) -> 9.4531263 | AB14: =IF(AA14=1,'Vehicle Data'!I$14,IF(AA14=2,'Vehicle Data'!I$15,IF(AA14=3,'Vehicle Data'!I$16))) -> FALSE | AC14: =IF(Z14<'Vehicle Data'!C$16,'Vehicle Data'!I$15,IF(Z14<'Vehicle Data'!C$15,'Vehicle Data'!I$15,IF(Z13>'Vehicle Data'!C$15,'Vehicle Data'!I$16))) -> 0.46202745 | AD14: =IF(O14=0.6,'Vehicle Data'!F$21,IF(O14=0.9,'Vehicle Data'!F$20)) -> 3.5316 | AE14: =IF(W14="a",AC14,IF(W14="b",AD14*-1)) -> 0.46202745 | AF14: =(U14-U13)/Z14 -> 0.14253867 | AG14: =(Z14-Z13)/AF14 -> 0.46364816 | AH14: =AH13+AF14 -> 1.624552 | AJ14: =(Z14^2)*'Vehicle Data'!C$31 -> 32.840387 | AK14: =IF(O14=0.6,'Vehicle Data'!C$6*'Vehicle Data'!D$21*9.81,IF(O14=0.9,'Vehicle Data'!C$6*9.81*'Vehicle Data'!D$20)) -> 86.1318 | AL14: =AJ14+AK14+Q14 -> 118.97219 | AN14: =IF(AG14>0,AG14*'Vehicle Data'!C$6) -> 203.54154 | AO14: =AN14+AL14 -> 322.51373 | AP14: =AO14*'Vehicle Data'!F$3 -> 82.434509 | AQ14: =IF(AE14='Vehicle Data'!I$15,AP14/'Vehicle Data'!G$15,IF(AE14='Vehicle Data'!I$16,AP14/'Vehicle Data'!G$16,IF(AE14='Vehicle Data'!I$14,Data!AP14/'Vehicle Data'!G25))) -> 15.218457 | AR14: =IF(Z14<'Vehicle Data'!C$16, Z14*'Vehicle Data'!F$7*'Vehicle Data'!G$14,IF(Z14<'Vehicle Data'!C$15,Z14*'Vehicle Data'!F$7*'Vehicle Data'!G$15,IF(Z14>'Vehicle Data'!C$15,Z14*'Vehicle Data'!F$7*'Vehicle Data'!G$16))) -> 82.234605 | AS14: =AR14*60 -> 4934.0763 | AT14: =ROUND(AQ14,0) -> 15 | AU14: =MROUND(AS14,500) -> 5000 | AW14: =VLOOKUP(AT14,BSFC!A$64:A$82,1,FALSE) -> 15 | AX14: {=_xlfn.XLOOKUP(AT14,BSFC!A$64:A$82,,-1,_xlfn.XLOOKUP(Data!AU14,BSFC!C$63:Q$63,BSFC!B$64:Q$82,,-1))} -> #VALUE! | AY14: =HLOOKUP(AU14,BSFC!F$63:Q$63,1) -> 5000 | AZ14: =MATCH(AT14,BSFC!A$64:A$83,0) -> 8 | BA14: =MATCH(AU14,BSFC!C$63:Q$63,0) -> 10 | BB14: {=INDEX(BSFC!C$64:Q$82,Data!AZ14,Data!BA14)} -> 705.8 | BC14: =0.5*'Vehicle Data'!C$6*Data!Z14^2 -> 19614.87 | BD14: =ABS(AQ15*(AS15/9.588))/1000 -> 7.8972218 | BE14: =BB14*BD14 -> 5573.8591 | BF14: =(BE14/3600)*AF14 -> 0.2206918 | BG14: =BG13+BF14 -> 2.4862955 | BH14: =(AQ15*AR15) -> 1261.976 | BI14: =BM$9 -> 6871.6622 | BN14: Then we use some to move forward | BO14: =BH14*AF15 -> 179.3708 | BP14: =BP13+BO14 -> 2683.0247 | BQ14: =IF(BO14>0,BQ13+BO14,IF(BO14<=0,BQ13)) -> 2683.0247 | BR14: =(BM$9*AF15)+BR13 -> 12140.076 | BS14: =IF(BO14>0,BO14) -> 179.3708 | BT14: =IF(BH14>=0,BH14, IF(BH14<0,0)) -> 1261.976 | BU14: =BI14*AF15 -> 976.70279 | BV14: =BM$9*AF15 -> 976.70279 | BW14: =BN$9 -> 455.4 | BX14: =BW14*BI14 -> 3129355 | BY14: =((BX14/3600)*AF15)/1000 -> 0.1235529 | BZ14: =AH14 -> 1.624552 | CB14: =BU14-BS14 -> 797.33199 | CC14: =CB14/(BZ14-BZ13) -> 5593.7942 | CD14: =CB14+CD13 -> 8725.1104
D15: =ASIN((N15)/(G16-G15)) -> 0 | E15: 8.9017032 | F15: =IF(K15<6,1,IF(Data!K15<9,2,IF(K15>9,3))) -> 3 | G15: 733.52558 | H15: 211.51666 | I15: 29.151509 | J15: =(I16-I15)/(H16-H15) -> 3.3377116 | K15: =I15/2.5 -> 11.660604 | L15: =(K16-K15)/(H16-H15) -> 1.3350846 | M15: =2*E15 -> 17.803406 | N15: =E16-E15 -> 0 | O15: =IF(L15<'Vehicle Data'!F$21,'Vehicle Data'!C$21,IF(L15>'Vehicle Data'!C$21,'Vehicle Data'!C$20)) -> 0.6 | P15: =('Vehicle Data'!C$6*9.81*'Vehicle Data'!C$5*SIN(D15))/'Vehicle Data'!C$9 -> 0 | Q15: ='Vehicle Data'!C$6*9.81*SIN(D15) -> 0 | R15: =G14 -> 732.17119 | S15: =IF(Data!O15=0.6,'Vehicle Data'!E$21,IF(Data!O15 = 0.9,'Vehicle Data'!E$20))+(P15*O15) -> 1550.3724 | T15: =IF(F15=3,'Vehicle Data'!H$16,IF(F15=2,'Vehicle Data'!H$15,IF(F15 = 1,'Vehicle Data'!G$14))) -> 466.23005 | U15: =R15-R$2 -> 16.032704 | V15: s | W15: a | X15: =IF(V15="S",'Vehicle Data'!C$14,IF(Data!V15 = "T1",'Vehicle Data'!P$2,IF(Data!V15="T2",'Vehicle Data'!P$3))) -> 13.4112 | Z15: =SQRT(Z14^2+2*AE14*(U15-U14)) -> 9.5190246 | AB15: =IF(AA15=1,'Vehicle Data'!I$14,IF(AA15=2,'Vehicle Data'!I$15,IF(AA15=3,'Vehicle Data'!I$16))) -> FALSE | AC15: =IF(Z15<'Vehicle Data'!C$16,'Vehicle Data'!I$15,IF(Z15<'Vehicle Data'!C$15,'Vehicle Data'!I$15,IF(Z14>'Vehicle Data'!C$15,'Vehicle Data'!I$16))) -> 0.46202745 | AD15: =IF(O15=0.6,'Vehicle Data'!F$21,IF(O15=0.9,'Vehicle Data'!F$20)) -> 3.5316 | AE15: =IF(W15="a",AC15,IF(W15="b",AD15*-1)) -> 0.46202745 | AF15: =(U15-U14)/Z15 -> 0.14213487 | AG15: =(Z15-Z14)/AF15 -> 0.46363227 | AH15: =AH14+AF15 -> 1.7666869 | AJ15: =(Z15^2)*'Vehicle Data'!C$31 -> 33.299847 | AK15: =IF(O15=0.6,'Vehicle Data'!C$6*'Vehicle Data'!D$21*9.81,IF(O15=0.9,'Vehicle Data'!C$6*9.81*'Vehicle Data'!D$20)) -> 86.1318 | AL15: =AJ15+AK15+Q15 -> 119.43165 | AN15: =IF(AG15>0,AG15*'Vehicle Data'!C$6) -> 203.53457 | AO15: =AN15+AL15 -> 322.96621 | AP15: =AO15*'Vehicle Data'!F$3 -> 82.550164 | AQ15: =IF(AE15='Vehicle Data'!I$15,AP15/'Vehicle Data'!G$15,IF(AE15='Vehicle Data'!I$16,AP15/'Vehicle Data'!G$16,IF(AE15='Vehicle Data'!I$14,Data!AP15/'Vehicle Data'!G26))) -> 15.239808 | AR15: =IF(Z15<'Vehicle Data'!C$16, Z15*'Vehicle Data'!F$7*'Vehicle Data'!G$14,IF(Z15<'Vehicle Data'!C$15,Z15*'Vehicle Data'!F$7*'Vehicle Data'!G$15,IF(Z15>'Vehicle Data'!C$15,Z15*'Vehicle Data'!F$7*'Vehicle Data'!G$16))) -> 82.807867 | AS15: =AR15*60 -> 4968.472 | AT15: =ROUND(AQ15,0) -> 15 | AU15: =MROUND(AS15,500) -> 5000 | AW15: =VLOOKUP(AT15,BSFC!A$64:A$82,1,FALSE) -> 15 | AX15: {=_xlfn.XLOOKUP(AT15,BSFC!A$64:A$82,,-1,_xlfn.XLOOKUP(Data!AU15,BSFC!C$63:Q$63,BSFC!B$64:Q$82,,-1))} -> #VALUE! | AY15: =HLOOKUP(AU15,BSFC!F$63:Q$63,1) -> 5000 | AZ15: =MATCH(AT15,BSFC!A$64:A$83,0) -> 8 | BA15: =MATCH(AU15,BSFC!C$63:Q$63,0) -> 10 | BB15: {=INDEX(BSFC!C$64:Q$82,Data!AZ15,Data!BA15)} -> 705.8 | BC15: =0.5*'Vehicle Data'!C$6*Data!Z15^2 -> 19889.297 | BD15: =ABS(AQ16*(AS16/9.588))/1000 -> 7.9626769 | BE15: =BB15*BD15 -> 5620.0574 | BF15: =(BE15/3600)*AF15 -> 0.22189058 | BG15: =BG14+BF15 -> 2.7081861 | BH15: =(AQ16*AR16) -> 1272.4358 | BI15: =BM$9 -> 6871.6622 | BK15: Total Energy (Avg Power) | BM15: =SUM(BV3:BV533) -> 1263510.6 | BN15: At the same time our generator puts | BO15: =BH15*AF16 -> 179.80802 | BP15: =BP14+BO15 -> 2862.8327 | BQ15: =IF(BO15>0,BQ14+BO15,IF(BO15<=0,BQ14)) -> 2862.8327 | BR15: =(BM$9*AF16)+BR14 -> 13111.111 | BS15: =IF(BO15>0,BO15) -> 179.80802 | BT15: =IF(BH15>=0,BH15, IF(BH15<0,0)) -> 1272.4358 | BU15: =BI15*AF16 -> 971.03522 | BV15: =BM$9*AF16 -> 971.03522 | BW15: =BN$9 -> 455.4 | BX15: =BW15*BI15 -> 3129355 | BY15: =((BX15/3600)*AF16)/1000 -> 0.12283596 | BZ15: =AH15 -> 1.7666869 | CB15: =BU15-BS15 -> 791.22721 | CC15: =CB15/(BZ15-BZ14) -> 5566.7355 | CD15: =CB15+CD14 -> 9516.3376
D16: =ASIN((N16)/(G17-G16)) -> 0 | E16: 8.9017032 | F16: =IF(K16<6,1,IF(Data!K16<9,2,IF(K16>9,3))) -> 3 | G16: 734.88723 | H16: 211.56667 | I16: 29.318394 | J16: =(I17-I16)/(H17-H16) -> 3.1817079 | K16: =I16/2.5 -> 11.727358 | L16: =(K17-K16)/(H17-H16) -> 1.2726832 | M16: =2*E16 -> 17.803406 | N16: =E17-E16 -> 0 | O16: =IF(L16<'Vehicle Data'!F$21,'Vehicle Data'!C$21,IF(L16>'Vehicle Data'!C$21,'Vehicle Data'!C$20)) -> 0.6 | P16: =('Vehicle Data'!C$6*9.81*'Vehicle Data'!C$5*SIN(D16))/'Vehicle Data'!C$9 -> 0 | Q16: ='Vehicle Data'!C$6*9.81*SIN(D16) -> 0 | R16: =G15 -> 733.52558 | S16: =IF(Data!O16=0.6,'Vehicle Data'!E$21,IF(Data!O16 = 0.9,'Vehicle Data'!E$20))+(P16*O16) -> 1550.3724 | T16: =IF(F16=3,'Vehicle Data'!H$16,IF(F16=2,'Vehicle Data'!H$15,IF(F16 = 1,'Vehicle Data'!G$14))) -> 466.23005 | U16: =R16-R$2 -> 17.387096 | V16: s | W16: a | X16: =IF(V16="S",'Vehicle Data'!C$14,IF(Data!V16 = "T1",'Vehicle Data'!P$2,IF(Data!V16="T2",'Vehicle Data'!P$3))) -> 13.4112 | Z16: =SQRT(Z15^2+2*AE15*(U16-U15)) -> 9.5845376 | AB16: =IF(AA16=1,'Vehicle Data'!I$14,IF(AA16=2,'Vehicle Data'!I$15,IF(AA16=3,'Vehicle Data'!I$16))) -> FALSE | AC16: =IF(Z16<'Vehicle Data'!C$16,'Vehicle Data'!I$15,IF(Z16<'Vehicle Data'!C$15,'Vehicle Data'!I$15,IF(Z15>'Vehicle Data'!C$15,'Vehicle Data'!I$16))) -> 0.46202745 | AD16: =IF(O16=0.6,'Vehicle Data'!F$21,IF(O16=0.9,'Vehicle Data'!F$20)) -> 3.5316 | AE16: =IF(W16="a",AC16,IF(W16="b",AD16*-1)) -> 0.46202745 | AF16: =(U16-U15)/Z16 -> 0.14131009 | AG16: =(Z16-Z15)/AF16 -> 0.46361191 | AH16: =AH15+AF16 -> 1.907997 | AJ16: =(Z16^2)*'Vehicle Data'!C$31 -> 33.759785 | AK16: =IF(O16=0.6,'Vehicle Data'!C$6*'Vehicle Data'!D$21*9.81,IF(O16=0.9,'Vehicle Data'!C$6*9.81*'Vehicle Data'!D$20)) -> 86.1318 | AL16: =AJ16+AK16+Q16 -> 119.89159 | AN16: =IF(AG16>0,AG16*'Vehicle Data'!C$6) -> 203.52563 | AO16: =AN16+AL16 -> 323.41722 | AP16: =AO16*'Vehicle Data'!F$3 -> 82.66544 | AQ16: =IF(AE16='Vehicle Data'!I$15,AP16/'Vehicle Data'!G$15,IF(AE16='Vehicle Data'!I$16,AP16/'Vehicle Data'!G$16,IF(AE16='Vehicle Data'!I$14,Data!AP16/'Vehicle Data'!G27))) -> 15.26109 | AR16: =IF(Z16<'Vehicle Data'!C$16, Z16*'Vehicle Data'!F$7*'Vehicle Data'!G$14,IF(Z16<'Vehicle Data'!C$15,Z16*'Vehicle Data'!F$7*'Vehicle Data'!G$15,IF(Z16>'Vehicle Data'!C$15,Z16*'Vehicle Data'!F$7*'Vehicle Data'!G$16))) -> 83.377778 | AS16: =AR16*60 -> 5002.6667 | AT16: =ROUND(AQ16,0) -> 15 | AU16: =MROUND(AS16,500) -> 5000 | AW16: =VLOOKUP(AT16,BSFC!A$64:A$82,1,FALSE) -> 15 | AX16: {=_xlfn.XLOOKUP(AT16,BSFC!A$64:A$82,,-1,_xlfn.XLOOKUP(Data!AU16,BSFC!C$63:Q$63,BSFC!B$64:Q$82,,-1))} -> #VALUE! | AY16: =HLOOKUP(AU16,BSFC!F$63:Q$63,1) -> 5000 | AZ16: =MATCH(AT16,BSFC!A$64:A$83,0) -> 8 | BA16: =MATCH(AU16,BSFC!C$63:Q$63,0) -> 10 | BB16: {=INDEX(BSFC!C$64:Q$82,Data!AZ16,Data!BA16)} -> 705.8 | BC16: =0.5*'Vehicle Data'!C$6*Data!Z16^2 -> 20164.008 | BD16: =ABS(AQ17*(AS17/9.588))/1000 -> 8.028343 | BE16: =BB16*BD16 -> 5666.4045 | BF16: =(BE16/3600)*AF16 -> 0.22242226 | BG16: =BG15+BF16 -> 2.9306083 | BH16: =(AQ17*AR17) -> 1282.9292 | BI16: =BM$9 -> 6871.6622 | BN16: some in our bucket. | BO16: =BH16*AF17 -> 181.02749 | BP16: =BP15+BO16 -> 3043.8602 | BQ16: =IF(BO16>0,BQ15+BO16,IF(BO16<=0,BQ15)) -> 3043.8602 | BR16: =(BM$9*AF17)+BR15 -> 14080.735 | BS16: =IF(BO16>0,BO16) -> 181.02749 | BT16: =IF(BH16>=0,BH16, IF(BH16<0,0)) -> 1282.9292 | BU16: =BI16*AF17 -> 969.62461 | BV16: =BM$9*AF17 -> 969.62461 | BW16: =BN$9 -> 455.4 | BX16: =BW16*BI16 -> 3129355 | BY16: =((BX16/3600)*AF17)/1000 -> 0.12265751 | BZ16: =AH16 -> 1.907997 | CB16: =BU16-BS16 -> 788.59713 | CC16: =CB16/(BZ16-BZ15) -> 5580.6143 | CD16: =CB16+CD15 -> 10304.935
D17: =ASIN((N17)/(G18-G17)) -> 0 | E17: 8.9017032 | F17: =IF(K17<6,1,IF(Data!K17<9,2,IF(K17>9,3))) -> 3 | G17: 736.25117 | H17: 211.61666 | I17: 29.47748 | J17: =(I18-I17)/(H18-H17) -> 3.0343313 | K17: =I17/2.5 -> 11.790992 | L17: =(K18-K17)/(H18-H17) -> 1.2137325 | M17: =2*E17 -> 17.803406 | N17: =E18-E17 -> 0 | O17: =IF(L17<'Vehicle Data'!F$21,'Vehicle Data'!C$21,IF(L17>'Vehicle Data'!C$21,'Vehicle Data'!C$20)) -> 0.6 | P17: =('Vehicle Data'!C$6*9.81*'Vehicle Data'!C$5*SIN(D17))/'Vehicle Data'!C$9 -> 0 | Q17: ='Vehicle Data'!C$6*9.81*SIN(D17) -> 0 | R17: =G16 -> 734.88723 | S17: =IF(Data!O17=0.6,'Vehicle Data'!E$21,IF(Data!O17 = 0.9,'Vehicle Data'!E$20))+(P17*O17) -> 1550.3724 | T17: =IF(F17=3,'Vehicle Data'!H$16,IF(F17=2,'Vehicle Data'!H$15,IF(F17 = 1,'Vehicle Data'!G$14))) -> 466.23005 | U17: =R17-R$2 -> 18.748751 | V17: s | W17: a | X17: =IF(V17="S",'Vehicle Data'!C$14,IF(Data!V17 = "T1",'Vehicle Data'!P$2,IF(Data!V17="T2",'Vehicle Data'!P$3))) -> 13.4112 | Z17: =SQRT(Z16^2+2*AE16*(U17-U16)) -> 9.6499537 | AB17: =IF(AA17=1,'Vehicle Data'!I$14,IF(AA17=2,'Vehicle Data'!I$15,IF(AA17=3,'Vehicle Data'!I$16))) -> FALSE | AC17: =IF(Z17<'Vehicle Data'!C$16,'Vehicle Data'!I$15,IF(Z17<'Vehicle Data'!C$15,'Vehicle Data'!I$15,IF(Z16>'Vehicle Data'!C$15,'Vehicle Data'!I$16))) -> 0.46202745 | AD17: =IF(O17=0.6,'Vehicle Data'!F$21,IF(O17=0.9,'Vehicle Data'!F$20)) -> 3.5316 | AE17: =IF(W17="a",AC17,IF(W17="b",AD17*-1)) -> 0.46202745 | AF17: =(U17-U16)/Z17 -> 0.14110481 | AG17: =(Z17-Z16)/AF17 -> 0.4635988 | AH17: =AH16+AF17 -> 2.0491018 | AJ17: =(Z17^2)*'Vehicle Data'!C$31 -> 34.22219 | AK17: =IF(O17=0.6,'Vehicle Data'!C$6*'Vehicle Data'!D$21*9.81,IF(O17=0.9,'Vehicle Data'!C$6*9.81*'Vehicle Data'!D$20)) -> 86.1318 | AL17: =AJ17+AK17+Q17 -> 120.35399 | AN17: =IF(AG17>0,AG17*'Vehicle Data'!C$6) -> 203.51987 | AO17: =AN17+AL17 -> 323.87386 | AP17: =AO17*'Vehicle Data'!F$3 -> 82.782159 | AQ17: =IF(AE17='Vehicle Data'!I$15,AP17/'Vehicle Data'!G$15,IF(AE17='Vehicle Data'!I$16,AP17/'Vehicle Data'!G$16,IF(AE17='Vehicle Data'!I$14,Data!AP17/'Vehicle Data'!G28))) -> 15.282638 | AR17: =IF(Z17<'Vehicle Data'!C$16, Z17*'Vehicle Data'!F$7*'Vehicle Data'!G$14,IF(Z17<'Vehicle Data'!C$15,Z17*'Vehicle Data'!F$7*'Vehicle Data'!G$15,IF(Z17>'Vehicle Data'!C$15,Z17*'Vehicle Data'!F$7*'Vehicle Data'!G$16))) -> 83.946845 | AS17: =AR17*60 -> 5036.8107 | AT17: =ROUND(AQ17,0) -> 15 | AU17: =MROUND(AS17,500) -> 5000 | AW17: =VLOOKUP(AT17,BSFC!A$64:A$82,1,FALSE) -> 15 | AX17: {=_xlfn.XLOOKUP(AT17,BSFC!A$64:A$82,,-1,_xlfn.XLOOKUP(Data!AU17,BSFC!C$63:Q$63,BSFC!B$64:Q$82,,-1))} -> #VALUE! | AY17: =HLOOKUP(AU17,BSFC!F$63:Q$63,1) -> 5000 | AZ17: =MATCH(AT17,BSFC!A$64:A$83,0) -> 8 | BA17: =MATCH(AU17,BSFC!C$63:Q$63,0) -> 10 | BB17: {=INDEX(BSFC!C$64:Q$82,Data!AZ17,Data!BA17)} -> 705.8 | BC17: =0.5*'Vehicle Data'!C$6*Data!Z17^2 -> 20440.192 | BD17: =ABS(AQ18*(AS18/9.588))/1000 -> 8.0938461 | BE17: =BB17*BD17 -> 5712.6366 | BF17: =(BE17/3600)*AF17 -> 0.22391126 | BG17: =BG16+BF17 -> 3.1545196 | BH17: =(AQ18*AR18) -> 1293.3966 | BI17: =BM$9 -> 6871.6622 | BO17: =BH17*AF18 -> 181.5851 | BP17: =BP16+BO17 -> 3225.4453 | BQ17: =IF(BO17>0,BQ16+BO17,IF(BO17<=0,BQ16)) -> 3225.4453 | BR17: =(BM$9*AF18)+BR16 -> 15045.475 | BS17: =IF(BO17>0,BO17) -> 181.5851 | BT17: =IF(BH17>=0,BH17, IF(BH17<0,0)) -> 1293.3966 | BU17: =BI17*AF18 -> 964.74004 | BV17: =BM$9*AF18 -> 964.74004 | BW17: =BN$9 -> 455.4 | BX17: =BW17*BI17 -> 3129355 | BY17: =((BX17/3600)*AF18)/1000 -> 0.12203962 | BZ17: =AH17 -> 2.0491018 | CB17: =BU17-BS17 -> 783.15494 | CC17: =CB17/(BZ17-BZ16) -> 5550.1646 | CD17: =CB17+CD16 -> 11088.09
D18: =ASIN((N18)/(G19-G18)) -> 0 | E18: 8.9017032 | F18: =IF(K18<6,1,IF(Data!K18<9,2,IF(K18>9,3))) -> 3 | G18: 737.62163 | H18: 211.66666 | I18: 29.629196 | J18: =(I19-I18)/(H19-H18) -> 3.0295884 | K18: =I18/2.5 -> 11.851679 | L18: =(K19-K18)/(H19-H18) -> 1.2118354 | M18: =2*E18 -> 17.803406 | N18: =E19-E18 -> 0 | O18: =IF(L18<'Vehicle Data'!F$21,'Vehicle Data'!C$21,IF(L18>'Vehicle Data'!C$21,'Vehicle Data'!C$20)) -> 0.6 | P18: =('Vehicle Data'!C$6*9.81*'Vehicle Data'!C$5*SIN(D18))/'Vehicle Data'!C$9 -> 0 | Q18: ='Vehicle Data'!C$6*9.81*SIN(D18) -> 0 | R18: =G17 -> 736.25117 | S18: =IF(Data!O18=0.6,'Vehicle Data'!E$21,IF(Data!O18 = 0.9,'Vehicle Data'!E$20))+(P18*O18) -> 1550.3724 | T18: =IF(F18=3,'Vehicle Data'!H$16,IF(F18=2,'Vehicle Data'!H$15,IF(F18 = 1,'Vehicle Data'!G$14))) -> 466.23005 | U18: =R18-R$2 -> 20.112684 | V18: s | W18: a | X18: =IF(V18="S",'Vehicle Data'!C$14,IF(Data!V18 = "T1",'Vehicle Data'!P$2,IF(Data!V18="T2",'Vehicle Data'!P$3))) -> 13.4112 | Z18: =SQRT(Z17^2+2*AE17*(U18-U17)) -> 9.7150375 | AB18: =IF(AA18=1,'Vehicle Data'!I$14,IF(AA18=2,'Vehicle Data'!I$15,IF(AA18=3,'Vehicle Data'!I$16))) -> FALSE | AC18: =IF(Z18<'Vehicle Data'!C$16,'Vehicle Data'!I$15,IF(Z18<'Vehicle Data'!C$15,'Vehicle Data'!I$15,IF(Z17>'Vehicle Data'!C$15,'Vehicle Data'!I$16))) -> 0.46202745 | AD18: =IF(O18=0.6,'Vehicle Data'!F$21,IF(O18=0.9,'Vehicle Data'!F$20)) -> 3.5316 | AE18: =IF(W18="a",AC18,IF(W18="b",AD18*-1)) -> 0.46202745 | AF18: =(U18-U17)/Z18 -> 0.14039399 | AG18: =(Z18-Z17)/AF18 -> 0.46358028 | AH18: =AH17+AF18 -> 2.1894958 | AJ18: =(Z18^2)*'Vehicle Data'!C$31 -> 34.685368 | AK18: =IF(O18=0.6,'Vehicle Data'!C$6*'Vehicle Data'!D$21*9.81,IF(O18=0.9,'Vehicle Data'!C$6*9.81*'Vehicle Data'!D$20)) -> 86.1318 | AL18: =AJ18+AK18+Q18 -> 120.81717 | AN18: =IF(AG18>0,AG18*'Vehicle Data'!C$6) -> 203.51174 | AO18: =AN18+AL18 -> 324.32891 | AP18: =AO18*'Vehicle Data'!F$3 -> 82.89847 | AQ18: =IF(AE18='Vehicle Data'!I$15,AP18/'Vehicle Data'!G$15,IF(AE18='Vehicle Data'!I$16,AP18/'Vehicle Data'!G$16,IF(AE18='Vehicle Data'!I$14,Data!AP18/'Vehicle Data'!G29))) -> 15.30411 | AR18: =IF(Z18<'Vehicle Data'!C$16, Z18*'Vehicle Data'!F$7*'Vehicle Data'!G$14,IF(Z18<'Vehicle Data'!C$15,Z18*'Vehicle Data'!F$7*'Vehicle Data'!G$15,IF(Z18>'Vehicle Data'!C$15,Z18*'Vehicle Data'!F$7*'Vehicle Data'!G$16))) -> 84.513023 | AS18: =AR18*60 -> 5070.7814 | AT18: =ROUND(AQ18,0) -> 15 | AU18: =MROUND(AS18,500) -> 5000 | AW18: =VLOOKUP(AT18,BSFC!A$64:A$82,1,FALSE) -> 15 | AX18: {=_xlfn.XLOOKUP(AT18,BSFC!A$64:A$82,,-1,_xlfn.XLOOKUP(Data!AU18,BSFC!C$63:Q$63,BSFC!B$64:Q$82,,-1))} -> #VALUE! | AY18: =HLOOKUP(AU18,BSFC!F$63:Q$63,1) -> 5000 | AZ18: =MATCH(AT18,BSFC!A$64:A$83,0) -> 8 | BA18: =MATCH(AU18,BSFC!C$63:Q$63,0) -> 10 | BB18: {=INDEX(BSFC!C$64:Q$82,Data!AZ18,Data!BA18)} -> 705.8 | BC18: =0.5*'Vehicle Data'!C$6*Data!Z18^2 -> 20716.839 | BD18: =ABS(AQ19*(AS19/9.588))/1000 -> 8.1595102 | BE18: =BB18*BD18 -> 5758.9823 | BF18: =(BE18/3600)*AF18 -> 0.22459069 | BG18: =BG17+BF18 -> 3.3791103 | BH18: =(AQ19*AR19) -> 1303.8897 | BI18: =BM$9 -> 6871.6622 | BK18: Total energy | BL18: =SUM(BO3:BO533) -> 937350.73 | BO18: =BH18*AF19 -> 182.71251 | BP18: =BP17+BO18 -> 3408.1578 | BQ18: =IF(BO18>0,BQ17+BO18,IF(BO18<=0,BQ17)) -> 3408.1578 | BR18: =(BM$9*AF19)+BR17 -> 16008.393 | BS18: =IF(BO18>0,BO18) -> 182.71251 | BT18: =IF(BH18>=0,BH18, IF(BH18<0,0)) -> 1303.8897 | BU18: =BI18*AF19 -> 962.91783 | BV18: =BM$9*AF19 -> 962.91783 | BW18: =BN$9 -> 455.4 | BX18: =BW18*BI18 -> 3129355 | BY18: =((BX18/3600)*AF19)/1000 -> 0.1218091 | BZ18: =AH18 -> 2.1894958 | CB18: =BU18-BS18 -> 780.20531 | CC18: =CB18/(BZ18-BZ17) -> 5557.256 | CD18: =CB18+CD17 -> 11868.295
