Workbook

Sheet Data
D1: Incline angle(Radians) | E1: Altitude | F1: Gear | G1: Distance? Maybe lap distance | H1: Time(s) | I1: Velocity | J1: Acceleration | K1: Scaled Velocity | L1: Scaled Accel | M1: Scaled Alt | N1: Change in alt | O1: Surface mu | P1: Elevation Mass trans | Q1: Gradient Resistance | R1: Total Distance | S1: Max thrust (Grip) | T1: Max Thrust(Drive) | U1: Corrected Distance | V1: Track | W1: Braking? | X1: Velocity (max) | Y1: Gear | Z1: velocity | AA1: Gear | AB1: Accel | AC1: Accel | AD1: Braking Decel | AE1: ActualMaxVchange | AF1: Time Step | AG1: Acceleration | AH1: Cumulative Time (S) | AJ1: Aero Resistance | AK1: Rolling Resistance | AL1: Total Resistance | AN1: Accel Res | AO1: Total Force Required | AP1: Instantaneous Torque | AQ1: Torque at engine | AR1: rps | AS1: RPM | AT1: Rounded Torque | AU1: Rounder RPM | BB1: BSFC (G/KWH) | BC1: KE (J) | BD1: Power (KW) | BE1: g/h | BF1: g/step | BG1: g Cumulative | BH1: Instantaneous Power | BI1: AVERAGE POWER | BO1: Energy (InstPWR) | BP1: Current Energy | BQ1: Cumulative energy | BR1: Energy By Average Power | BT1: Removing negatives | BU1: AVG PWR Energy Step | BV1: No recovery | BW1: BSFC @6.8KW@6500rpm | BX1: g/h | BZ1: Cumulative Time | CB1: Net Energy Change | CC1: Net power | CD1: Current Energy (J)
D2: =ASIN((N2)/(G3-G2)) -> 0 | E2: 9.0017016 | F2: =IF(K2<6,1,IF(Data!K2<9,2,IF(K2>9,3))) -> 3 | G2: 716.13848 | H2: 210.86666 | I2: 27.474246 | J2: =(I3-I2)/(H3-H2) -> 1.5462387 | K2: =I2/2.5 -> 10.989699 | L2: =(K3-K2)/(H3-H2) -> 0.61849548 | M2: =2*E2 -> 18.003403 | N2: =E3-E2 -> 0 | O2: =IF(L2<'Vehicle Data'!F$21,'Vehicle Data'!C$21,IF(L2>'Vehicle Data'!C$21,'Vehicle Data'!C$20)) -> 0.6 | P2: =('Vehicle Data'!C$6*9.81*'Vehicle Data'!C$5*SIN(D2))/'Vehicle Data'!C$9 -> 0 | Q2: ='Vehicle Data'!C$6*9.81*SIN(D2) -> 0 | R2: =G2 -> 716.13848 | S2: =IF(Data!O2=0.6,'Vehicle Data'!E$21,IF(Data!O2 = 0.9,'Vehicle Data'!E$20))+(P2*O2) -> 1550.3724 | T2: =IF(F2=3,'Vehicle Data'!H$16,IF(F2=2,'Vehicle Data'!H$15,IF(F2 = 1,'Vehicle Data'!G$14))) -> 466.23005 | U2: =R2-R$2 -> 0 | V2: S | W2: a | X2: =IF(V2="S",'Vehicle Data'!C$14,IF(Data!V2 = "T1",'Vehicle Data'!P$2,IF(Data!V2="T2",'Vehicle Data'!P$3))) -> 13.4112 | Z2: 8.3 | AA2: 1 | AC2: =IF(Z2<Data!C$16,'Vehicle Data'!I$14,IF(Z2<'Vehicle Data'!C$15,'Vehicle Data'!I$15,IF(Z$2>'Vehicle Data'!C$15,'Vehicle Data'!I$16))) -> 0.98256251 | AD2: =IF(O2=0.6,'Vehicle Data'!F$21,IF(O2=0.9,'Vehicle Data'!F$20)) -> 3.5316 | AE2: =IF(W2="a",AC2,IF(W2="b",AD2*-1)) -> 0.98256251 | AH2: 0 | AJ2: =(Z2^2)*'Vehicle Data'!C$31 -> 25.317075 | AK2: =IF(O2=0.6,'Vehicle Data'!C$6*'Vehicle Data'!D$21*9.81,IF(O2=0.9,'Vehicle Data'!C$6*9.81*'Vehicle Data'!D$20)) -> 86.1318 | AL2: =AJ2+AK2+Q2 -> 111.44888 | BP2: 0 | BZ2: =AH2 -> 0 | CD2: 0
D3: =ASIN((N3)/(G4-G3)) -> 0 | E3: 9.0017016 | F3: =IF(K3<6,1,IF(Data!K3<9,2,IF(K3>9,3))) -> 3 | G3: 717.46095 | H3: 210.91666 | I3: 27.551558 | J3: =(I4-I3)/(H4-H3) -> 1.8093116 | K3: =I3/2.5 -> 11.020623 | L3: =(K4-K3)/(H4-H3) -> 0.72372465 | M3: =2*E3 -> 18.003403 | N3: =E4-E3 -> 0 | O3: =IF(L3<'Vehicle Data'!F$21,'Vehicle Data'!C$21,IF(L3>'Vehicle Data'!C$21,'Vehicle Data'!C$20)) -> 0.6 | P3: =('Vehicle Data'!C$6*9.81*'Vehicle Data'!C$5*SIN(D3))/'Vehicle Data'!C$9 -> 0 | Q3: ='Vehicle Data'!C$6*9.81*SIN(D3) -> 0 | R3: =G2 -> 716.13848 | S3: =IF(Data!O3=0.6,'Vehicle Data'!E$21,IF(Data!O3 = 0.9,'Vehicle Data'!E$20))+(P3*O3) -> 1550.3724 | T3: =IF(F3=3,'Vehicle Data'!H$16,IF(F3=2,'Vehicle Data'!H$15,IF(F3 = 1,'Vehicle Data'!G$14))) -> 466.23005 | U3: =R3-R$2 -> 0 | V3: S | W3: a | X3: =IF(V3="S",'Vehicle Data'!C$14,IF(Data!V3 = "T1",'Vehicle Data'!P$2,IF(Data!V3="T2",'Vehicle Data'!P$3))) -> 13.4112 | Z3: =SQRT(Z2^2+2*AE2*(U3-U2)) -> 8.3 | AA3: 1 | AB3: =IF(AA3=1,'Vehicle Data'!I$14,IF(AA3=2,'Vehicle Data'!I$15,IF(AA3=3,'Vehicle Data'!I$16))) -> 1.7738438 | AC3: =IF(Z3<'Vehicle Data'!C$16,'Vehicle Data'!I$15,IF(Z3<'Vehicle Data'!C$15,'Vehicle Data'!I$15,IF(Z2>'Vehicle Data'!C$15,'Vehicle Data'!I$16))) -> 0.98256251 | AD3: =IF(O3=0.6,'Vehicle Data'!F$21,IF(O3=0.9,'Vehicle Data'!F$20)) -> 3.5316 | AE3: =IF(W3="a",AC3,IF(W3="b",AD3*-1)) -> 0.98256251 | AF3: =(U4-U3)/Z4 -> 0.15641099 | AG3: =(Z3-Z2)/AF3 -> 0 | AH3: 0 | AJ3: =(Z3^2)*'Vehicle Data'!C$31 -> 25.317075 | AK3: =IF(O3=0.6,'Vehicle Data'!C$6*'Vehicle Data'!D$21*9.81,IF(O3=0.9,'Vehicle Data'!C$6*9.81*'Vehicle Data'!D$20)) -> 86.1318 | AL3: =AJ3+AK3+Q3 -> 111.44888 | AO3: =AN3+AL3 -> 111.44888 | AP3: =AO3*'Vehicle Data'!F$3 -> 28.486332 | AQ3: =IF(AE3='Vehicle Data'!I$15,AP3/'Vehicle Data'!G$15,IF(AE3='Vehicle Data'!I$16,AP3/'Vehicle Data'!G$16,IF(AE3='Vehicle Data'!I$14,Data!AP3/'Vehicle Data'!G14))) -> 3.5291732 | AX3: This has stopped working? | AZ3: Torque Index | BA3: RPM Index | BB3: BSFC | BC3: =0.5*'Vehicle Data'!C$6*Data!Z3^2 -> 15121.355 | BD3: =ABS(AQ4*(AS4/9.588))/1000 -> 13.717551 | BG3: =BG2+BF3 -> 0 | BH3: =(AQ4*AR4) -> 2192.0646 | BI3: =BM$9 -> 6871.6622 | BO3: =BH3*AF4 -> 342.86298 | BP3: =IF(BO3>0,BP2+BO3) -> 342.86298 | BQ3: =IF(BO3>0,BQ2+BO3,IF(BO3<=0,BQ2)) -> 342.86298 | BR3: =(BM$9*AF4)+BR2 -> 1074.8035 | BS3: =IF(BO3>0,BO3) -> 342.86298 | BT3: =IF(BH3>=0,BH3, IF(BH3<0,0)) -> 2192.0646 | BU3: =BI3*AF4 -> 1074.8035 | BV3: =BM$9*AF4 -> 1074.8035 | BW3: =BN$9 -> 455.4 | BX3: =BW3*BI3 -> 3129355 | BY3: =((BX3/3600)*AF4)/1000 -> 0.13596264 | BZ3: =AH3 -> 0 | CB3: =BU3-BS3 -> 731.94048 | CD3: 0
A4: Key | D4: =ASIN((N4)/(G5-G4)) -> 0 | E4: 9.0017016 | F4: =IF(K4<6,1,IF(Data!K4<9,2,IF(K4>9,3))) -> 3 | G4: 718.78398 | H4: 210.96666 | I4: 27.642024 | J4: =(I5-I4)/(H5-H4) -> 2.0142743 | K4: =I4/2.5 -> 11.05681 | L4: =(K5-K4)/(H5-H4) -> 0.80570973 | M4: =2*E4 -> 18.003403 | N4: =E5-E4 -> 0 | O4: =IF(L4<'Vehicle Data'!F$21,'Vehicle Data'!C$21,IF(L4>'Vehicle Data'!C$21,'Vehicle Data'!C$20)) -> 0.6 | P4: =('Vehicle Data'!C$6*9.81*'Vehicle Data'!C$5*SIN(D4))/'Vehicle Data'!C$9 -> 0 | Q4: ='Vehicle Data'!C$6*9.81*SIN(D4) -> 0 | R4: =G3 -> 717.46095 | S4: =IF(Data!O4=0.6,'Vehicle Data'!E$21,IF(Data!O4 = 0.9,'Vehicle Data'!E$20))+(P4*O4) -> 1550.3724 | T4: =IF(F4=3,'Vehicle Data'!H$16,IF(F4=2,'Vehicle Data'!H$15,IF(F4 = 1,'Vehicle Data'!G$14))) -> 466.23005 | U4: =R4-R$2 -> 1.3224715 | V4: S | W4: a | X4: =IF(V4="S",'Vehicle Data'!C$14,IF(Data!V4 = "T1",'Vehicle Data'!P$2,IF(Data!V4="T2",'Vehicle Data'!P$3))) -> 13.4112 | Z4: =SQRT(Z3^2+2*AE3*(U4-U3)) -> 8.4551063 | AA4: 1 | AB4: =IF(AA4=1,'Vehicle Data'!I$14,IF(AA4=2,'Vehicle Data'!I$15,IF(AA4=3,'Vehicle Data'!I$16))) -> 1.7738438 | AC4: =IF(Z4<'Vehicle Data'!C$16,'Vehicle Data'!I$15,IF(Z4<'Vehicle Data'!C$15,'Vehicle Data'!I$15,IF(Z3>'Vehicle Data'!C$15,'Vehicle Data'!I$16))) -> 0.98256251 | AD4: =IF(O4=0.6,'Vehicle Data'!F$21,IF(O4=0.9,'Vehicle Data'!F$20)) -> 3.5316 | AE4: =IF(W4="a",AC4,IF(W4="b",AD4*-1)) -> 0.98256251 | AF4: =(U4-U3)/Z4 -> 0.15641099 | AG4: =(Z4-Z3)/AF4 -> 0.99165834 | AH4: =AH3+AF3 -> 0.15641099 | AJ4: =(Z4^2)*'Vehicle Data'!C$31 -> 26.272142 | AK4: =IF(O4=0.6,'Vehicle Data'!C$6*'Vehicle Data'!D$21*9.81,IF(O4=0.9,'Vehicle Data'!C$6*9.81*'Vehicle Data'!D$20)) -> 86.1318 | AL4: =AJ4+AK4+Q4 -> 112.40394 | AN4: =IF(AG4>0,AG4*'Vehicle Data'!C$6) -> 435.33801 | AO4: =AN4+AL4 -> 547.74195 | AP4: =AO4*'Vehicle Data'!F$3 -> 140.00284 | AQ4: 20 | AR4: =IF(Z4<'Vehicle Data'!C$16, Z4*'Vehicle Data'!F$7*'Vehicle Data'!G$14,IF(Z4<'Vehicle Data'!C$15,Z4*'Vehicle Data'!F$7*'Vehicle Data'!G$15,IF(Z4>'Vehicle Data'!C$15,Z4*'Vehicle Data'!F$7*'Vehicle Data'!G$16))) -> 109.60323 | AS4: =AR4*60 -> 6576.1938 | AT4: 20 | AU4: =MROUND(AS4,500) -> 6500 | AV4: {=_xlfn.XLOOKUP(AT4,BSFC!A64:A82,_xlfn.XLOOKUP(Data!AU4,BSFC!C63:Q63,BSFC!B64:Q82,,-1),,-1)} -> #VALUE! | AW4: =VLOOKUP(AT4,BSFC!A$64:A$82,1,FALSE) -> 20 | AX4: {=_xlfn.XLOOKUP(AT4,BSFC!A$64:A$82,,-1,_xlfn.XLOOKUP(Data!AU4,BSFC!C$63:Q$63,BSFC!B$64:Q$82,,-1))} -> #VALUE! | AY4: =HLOOKUP(AU4,BSFC!F$63:Q$63,1) -> 6500 | AZ4: =MATCH(AT4,BSFC!A$64:A$83,0) -> 3 | BA4: =MATCH(AU4,BSFC!C$63:Q$63,0) -> 13 | BB4: {=INDEX(BSFC!C$64:Q$82,Data!AZ4,Data!BA4)} -> 494.7 | BC4: =0.5*'Vehicle Data'!C$6*Data!Z4^2 -> 15691.796 | BD4: =ABS(AQ5*(AS5/9.588))/1000 -> 12.128921 | BE4: =BB4*BD4 -> 6000.177 | BF4: =(BE4/3600)*AF4 -> 0.26069267 | BG4: =BG3+BF4 -> 0.26069267 | BH4: =(AQ5*AR5) -> 1938.2015 | BI4: =BM$9 -> 6871.6622 | BJ4: Fuel Uesed per lap (g) | BL4: TOTAL TIME | BN4: Average power | BO4: =BH4*AF5 -> 297.91364 | BP4: =BP3+BO4 -> 640.77662 | BQ4: =IF(BO4>0,BQ3+BO4,IF(BO4<=0,BQ3)) -> 640.77662 | BR4: =(BM$9*AF5)+BR3 -> 2131.0207 | BS4: =IF(BO4>0,BO4) -> 297.91364 | BT4: =IF(BH4>=0,BH4, IF(BH4<0,0)) -> 1938.2015 | BU4: =BI4*AF5 -> 1056.2173 | BV4: =BM$9*AF5 -> 1056.2173 | BW4: =BN$9 -> 455.4 | BX4: =BW4*BI4 -> 3129355 | BY4: =((BX4/3600)*AF5)/1000 -> 0.13361148 | BZ4: =AH4 -> 0.15641099 | CB4: =BU4-BS4 -> 758.30362 | CC4: =CB4/(BZ4-BZ3) -> 4848.1481 | CD4: =CB4+CD3 -> 758.30362
A5: Data | D5: =ASIN((N5)/(G6-G5)) -> 0 | E5: 9.0017016 | F5: =IF(K5<6,1,IF(Data!K5<9,2,IF(K5>9,3))) -> 3 | G5: 720.11244 | H5: 211.01666 | I5: 27.742738 | J5: =(I6-I5)/(H6-H5) -> 2.2079901 | K5: =I5/2.5 -> 11.097095 | L5: =(K6-K5)/(H6-H5) -> 0.88319606 | M5: =2*E5 -> 18.003403 | N5: =E6-E5 -> 0 | O5: =IF(L5<'Vehicle Data'!F$21,'Vehicle Data'!C$21,IF(L5>'Vehicle Data'!C$21,'Vehicle Data'!C$20)) -> 0.6 | P5: =('Vehicle Data'!C$6*9.81*'Vehicle Data'!C$5*SIN(D5))/'Vehicle Data'!C$9 -> 0 | Q5: ='Vehicle Data'!C$6*9.81*SIN(D5) -> 0 | R5: =G4 -> 718.78398 | S5: =IF(Data!O5=0.6,'Vehicle Data'!E$21,IF(Data!O5 = 0.9,'Vehicle Data'!E$20))+(P5*O5) -> 1550.3724 | T5: =IF(F5=3,'Vehicle Data'!H$16,IF(F5=2,'Vehicle Data'!H$15,IF(F5 = 1,'Vehicle Data'!G$14))) -> 466.23005 | U5: =R5-R$2 -> 2.6454949 | V5: s | W5: a | X5: =IF(V5="S",'Vehicle Data'!C$14,IF(Data!V5 = "T1",'Vehicle Data'!P$2,IF(Data!V5="T2",'Vehicle Data'!P$3))) -> 13.4112 | Z5: =SQRT(Z4^2+2*AE4*(U5-U4)) -> 8.6074809 | AA5: 1 | AB5: =IF(AA5=1,'Vehicle Data'!I$14,IF(AA5=2,'Vehicle Data'!I$15,IF(AA5=3,'Vehicle Data'!I$16))) -> 1.7738438 | AC5: =IF(Z5<'Vehicle Data'!C$16,'Vehicle Data'!I$15,IF(Z5<'Vehicle Data'!C$15,'Vehicle Data'!I$15,IF(Z4>'Vehicle Data'!C$15,'Vehicle Data'!I$16))) -> 0.98256251 | AD5: =IF(O5=0.6,'Vehicle Data'!F$21,IF(O5=0.9,'Vehicle Data'!F$20)) -> 3.5316 | AE5: =IF(W5="a",AC5,IF(W5="b",AD5*-1)) -> 0.98256251 | AF5: =(U5-U4)/Z5 -> 0.15370623 | AG5: =(Z5-Z4)/AF5 -> 0.99133713 | AH5: =AH4+AF5 -> 0.31011721 | AJ5: =(Z5^2)*'Vehicle Data'!C$31 -> 27.227608 | AK5: =IF(O5=0.6,'Vehicle Data'!C$6*'Vehicle Data'!D$21*9.81,IF(O5=0.9,'Vehicle Data'!C$6*9.81*'Vehicle Data'!D$20)) -> 86.1318 | AL5: =AJ5+AK5+Q5 -> 113.35941 | AN5: =IF(AG5>0,AG5*'Vehicle Data'!C$6) -> 435.197 | AO5: =AN5+AL5 -> 548.55641 | AP5: =AO5*'Vehicle Data'!F$3 -> 140.21102 | AQ5: =IF(AE5='Vehicle Data'!I$15,AP5/'Vehicle Data'!G$15,IF(AE5='Vehicle Data'!I$16,AP5/'Vehicle Data'!G$16,IF(AE5='Vehicle Data'!I$14,Data!AP5/'Vehicle Data'!G16))) -> 17.37075 | AR5: =IF(Z5<'Vehicle Data'!C$16, Z5*'Vehicle Data'!F$7*'Vehicle Data'!G$14,IF(Z5<'Vehicle Data'!C$15,Z5*'Vehicle Data'!F$7*'Vehicle Data'!G$15,IF(Z5>'Vehicle Data'!C$15,Z5*'Vehicle Data'!F$7*'Vehicle Data'!G$16))) -> 111.57846 | AS5: =AR5*60 -> 6694.7074 | AT5: =ROUND(AQ5,0) -> 17 | AU5: =MROUND(AS5,500) -> 6500 | AW5: =VLOOKUP(AT5,BSFC!A$64:A$82,1,FALSE) -> 17 | AX5: {=_xlfn.XLOOKUP(AT5,BSFC!A$64:A$82,,-1,_xlfn.XLOOKUP(Data!AU5,BSFC!C$63:Q$63,BSFC!B$64:Q$82,,-1))} -> #VALUE! | AY5: =HLOOKUP(AU5,BSFC!F$63:Q$63,1) -> 6500 | AZ5: =MATCH(AT5,BSFC!A$64:A$83,0) -> 6 | BA5: =MATCH(AU5,BSFC!C$63:Q$63,0) -> 13 | BB5: {=INDEX(BSFC!C$64:Q$82,Data!AZ5,Data!BA5)} -> 511.2 | BC5: =0.5*'Vehicle Data'!C$6*Data!Z5^2 -> 16262.476 | BD5: =ABS(AQ6*(AS6/9.588))/1000 -> 12.35969 | BE5: =BB5*BD5 -> 6318.2734 | BF5: =(BE5/3600)*AF5 -> 0.2697661 | BG5: =BG4+BF5 -> 0.53045877 | BH5: =(AQ6*AR6) -> 1975.0784 | BI5: =BM$9 -> 6871.6622 | BJ5: =BG533 -> 246.35609 | BL5: =SUM(AF2:AF533) -> 184.02904 | BO5: =BH5*AF6 -> 299.59648 | BP5: =BP4+BO5 -> 940.37311 | BQ5: =IF(BO5>0,BQ4+BO5,IF(BO5<=0,BQ4)) -> 940.37311 | BR5: =(BM$9*AF6)+BR4 -> 3173.3722 | BS5: =IF(BO5>0,BO5) -> 299.59648 | BT5: =IF(BH5>=0,BH5, IF(BH5<0,0)) -> 1975.0784 | BU5: =BI5*AF6 -> 1042.3514 | BV5: =BM$9*AF6 -> 1042.3514 | BW5: =BN$9 -> 455.4 | BX5: =BW5*BI5 -> 3129355 | BY5: =((BX5/3600)*AF6)/1000 -> 0.13185746 | BZ5: =AH5 -> 0.31011721 | CB5: =BU5-BS5 -> 742.75495 | CC5: =CB5/(BZ5-BZ4) -> 4832.3023 | CD5: =CB5+CD4 -> 1501.0586
A6: Calculation | D6: =ASIN((N6)/(G7-G6)) -> 0 | E6: 9.0017016 | F6: =IF(K6<6,1,IF(Data!K6<9,2,IF(K6>9,3))) -> 3 | G6: 721.43978 | H6: 211.06667 | I6: 27.853137 | J6: =(I7-I6)/(H7-H6) -> 2.2845016 | K6: =I6/2.5 -> 11.141255 | L6: =(K7-K6)/(H7-H6) -> 0.91380066 | M6: =2*E6 -> 18.003403 | N6: =E7-E6 -> 0 | O6: =IF(L6<'Vehicle Data'!F$21,'Vehicle Data'!C$21,IF(L6>'Vehicle Data'!C$21,'Vehicle Data'!C$20)) -> 0.6 | P6: =('Vehicle Data'!C$6*9.81*'Vehicle Data'!C$5*SIN(D6))/'Vehicle Data'!C$9 -> 0 | Q6: ='Vehicle Data'!C$6*9.81*SIN(D6) -> 0 | R6: =G5 -> 720.11244 | S6: =IF(Data!O6=0.6,'Vehicle Data'!E$21,IF(Data!O6 = 0.9,'Vehicle Data'!E$20))+(P6*O6) -> 1550.3724 | T6: =IF(F6=3,'Vehicle Data'!H$16,IF(F6=2,'Vehicle Data'!H$15,IF(F6 = 1,'Vehicle Data'!G$14))) -> 466.23005 | U6: =R6-R$2 -> 3.9739538 | V6: s | W6: a | X6: =IF(V6="S",'Vehicle Data'!C$14,IF(Data!V6 = "T1",'Vehicle Data'!P$2,IF(Data!V6="T2",'Vehicle Data'!P$3))) -> 13.4112 | Z6: =SQRT(Z5^2+2*AE5*(U6-U5)) -> 8.7578146 | AA6: 1 | AB6: =IF(AA6=1,'Vehicle Data'!I$14,IF(AA6=2,'Vehicle Data'!I$15,IF(AA6=3,'Vehicle Data'!I$16))) -> 1.7738438 | AC6: =IF(Z6<'Vehicle Data'!C$16,'Vehicle Data'!I$15,IF(Z6<'Vehicle Data'!C$15,'Vehicle Data'!I$15,IF(Z5>'Vehicle Data'!C$15,'Vehicle Data'!I$16))) -> 0.98256251 | AD6: =IF(O6=0.6,'Vehicle Data'!F$21,IF(O6=0.9,'Vehicle Data'!F$20)) -> 3.5316 | AE6: =IF(W6="a",AC6,IF(W6="b",AD6*-1)) -> 0.98256251 | AF6: =(U6-U5)/Z6 -> 0.1516884 | AG6: =(Z6-Z5)/AF6 -> 0.99106868 | AH6: =AH5+AF6 -> 0.46180561 | AJ6: =(Z6^2)*'Vehicle Data'!C$31 -> 28.186999 | AK6: =IF(O6=0.6,'Vehicle Data'!C$6*'Vehicle Data'!D$21*9.81,IF(O6=0.9,'Vehicle Data'!C$6*9.81*'Vehicle Data'!D$20)) -> 86.1318 | AL6: =AJ6+AK6+Q6 -> 114.3188 | AN6: =IF(AG6>0,AG6*'Vehicle Data'!C$6) -> 435.07915 | AO6: =AN6+AL6 -> 549.39795 | AP6: =AO6*'Vehicle Data'!F$3 -> 140.42612 | AQ6: =IF(AE6='Vehicle Data'!I$15,AP6/'Vehicle Data'!G$15,IF(AE6='Vehicle Data'!I$16,AP6/'Vehicle Data'!G$16,IF(AE6='Vehicle Data'!I$14,Data!AP6/'Vehicle Data'!G17))) -> 17.397399 | AR6: =IF(Z6<'Vehicle Data'!C$16, Z6*'Vehicle Data'!F$7*'Vehicle Data'!G$14,IF(Z6<'Vehicle Data'!C$15,Z6*'Vehicle Data'!F$7*'Vehicle Data'!G$15,IF(Z6>'Vehicle Data'!C$15,Z6*'Vehicle Data'!F$7*'Vehicle Data'!G$16))) -> 113.52723 | AS6: =AR6*60 -> 6811.6336 | AT6: =ROUND(AQ6,0) -> 17 | AU6: =MROUND(AS6,500) -> 7000 | AW6: =VLOOKUP(AT6,BSFC!A$64:A$82,1,FALSE) -> 17 | AX6: {=_xlfn.XLOOKUP(AT6,BSFC!A$64:A$82,,-1,_xlfn.XLOOKUP(Data!AU6,BSFC!C$63:Q$63,BSFC!B$64:Q$82,,-1))} -> #VALUE! | AY6: =HLOOKUP(AU6,BSFC!F$63:Q$63,1) -> 7000 | AZ6: =MATCH(AT6,BSFC!A$64:A$83,0) -> 6 | BA6: =MATCH(AU6,BSFC!C$63:Q$63,0) -> 14 | BB6: {=INDEX(BSFC!C$64:Q$82,Data!AZ6,Data!BA6)} -> 500 | BC6: =0.5*'Vehicle Data'!C$6*Data!Z6^2 -> 16835.5 | BD6: =ABS(AQ7*(AS7/9.588))/1000 -> 12.587099 | BE6: =BB6*BD6 -> 6293.5493 | BF6: =(BE6/3600)*AF6 -> 0.26518289 | BG6: =BG5+BF6 -> 0.79564166 | BH6: =(AQ7*AR7) -> 2011.4184 | BI6: =BM$9 -> 6871.6622 | BJ6: TOTAL DISTANCE (m) | BO6: =BH6*AF7 -> 299.79749 | BP6: =BP5+BO6 -> 1240.1706 | BQ6: =IF(BO6>0,BQ5+BO6,IF(BO6<=0,BQ5)) -> 1240.1706 | BR6: =(BM$9*AF7)+BR5 -> 4197.5783 | BS6: =IF(BO6>0,BO6) -> 299.79749 | BT6: =IF(BH6>=0,BH6, IF(BH6<0,0)) -> 2011.4184 | BU6: =BI6*AF7 -> 1024.2062 | BV6: =BM$9*AF7 -> 1024.2062 | BW6: =BN$9 -> 455.4 | BX6: =BW6*BI6 -> 3129355 | BY6: =((BX6/3600)*AF7)/1000 -> 0.12956208 | BZ6: =AH6 -> 0.46180561 | CB6: =BU6-BS6 -> 724.40868 | CC6: =CB6/(BZ6-BZ5) -> 4775.6367 | CD6: =CB6+CD5 -> 2225.4673
D7: =ASIN((N7)/(G8-G7)) -> 0 | E7: 9.0017016 | F7: =IF(K7<6,1,IF(Data!K7<9,2,IF(K7>9,3))) -> 3 | G7: 722.77274 | H7: 211.11666 | I7: 27.967362 | J7: =(I8-I7)/(H8-H7) -> 2.430621 | K7: =I7/2.5 -> 11.186945 | L7: =(K8-K7)/(H8-H7) -> 0.97224839 | M7: =2*E7 -> 18.003403 | N7: =E8-E7 -> 0 | O7: =IF(L7<'Vehicle Data'!F$21,'Vehicle Data'!C$21,IF(L7>'Vehicle Data'!C$21,'Vehicle Data'!C$20)) -> 0.6 | P7: =('Vehicle Data'!C$6*9.81*'Vehicle Data'!C$5*SIN(D7))/'Vehicle Data'!C$9 -> 0 | Q7: ='Vehicle Data'!C$6*9.81*SIN(D7) -> 0 | R7: =G6 -> 721.43978 | S7: =IF(Data!O7=0.6,'Vehicle Data'!E$21,IF(Data!O7 = 0.9,'Vehicle Data'!E$20))+(P7*O7) -> 1550.3724 | T7: =IF(F7=3,'Vehicle Data'!H$16,IF(F7=2,'Vehicle Data'!H$15,IF(F7 = 1,'Vehicle Data'!G$14))) -> 466.23005 | U7: =R7-R$2 -> 5.3012972 | V7: s | W7: a | X7: =IF(V7="S",'Vehicle Data'!C$14,IF(Data!V7 = "T1",'Vehicle Data'!P$2,IF(Data!V7="T2",'Vehicle Data'!P$3))) -> 13.4112 | Z7: =SQRT(Z6^2+2*AE6*(U7-U6)) -> 8.9054877 | AA7: 1 | AB7: =IF(AA7=1,'Vehicle Data'!I$14,IF(AA7=2,'Vehicle Data'!I$15,IF(AA7=3,'Vehicle Data'!I$16))) -> 1.7738438 | AC7: =IF(Z7<'Vehicle Data'!C$16,'Vehicle Data'!I$15,IF(Z7<'Vehicle Data'!C$15,'Vehicle Data'!I$15,IF(Z6>'Vehicle Data'!C$15,'Vehicle Data'!I$16))) -> 0.98256251 | AD7: =IF(O7=0.6,'Vehicle Data'!F$21,IF(O7=0.9,'Vehicle Data'!F$20)) -> 3.5316 | AE7: =IF(W7="a",AC7,IF(W7="b",AD7*-1)) -> 0.98256251 | AF7: =(U7-U6)/Z7 -> 0.14904781 | AG7: =(Z7-Z6)/AF7 -> 0.99077718 | AH7: =AH6+AF7 -> 0.61085342 | AJ7: =(Z7^2)*'Vehicle Data'!C$31 -> 29.145584 | AK7: =IF(O7=0.6,'Vehicle Data'!C$6*'Vehicle Data'!D$21*9.81,IF(O7=0.9,'Vehicle Data'!C$6*9.81*'Vehicle Data'!D$20)) -> 86.1318 | AL7: =AJ7+AK7+Q7 -> 115.27738 | AN7: =IF(AG7>0,AG7*'Vehicle Data'!C$6) -> 434.95118 | AO7: =AN7+AL7 -> 550.22856 | AP7: =AO7*'Vehicle Data'!F$3 -> 140.63842 | AQ7: =IF(AE7='Vehicle Data'!I$15,AP7/'Vehicle Data'!G$15,IF(AE7='Vehicle Data'!I$16,AP7/'Vehicle Data'!G$16,IF(AE7='Vehicle Data'!I$14,Data!AP7/'Vehicle Data'!G18))) -> 17.423701 | AR7: =IF(Z7<'Vehicle Data'!C$16, Z7*'Vehicle Data'!F$7*'Vehicle Data'!G$14,IF(Z7<'Vehicle Data'!C$15,Z7*'Vehicle Data'!F$7*'Vehicle Data'!G$15,IF(Z7>'Vehicle Data'!C$15,Z7*'Vehicle Data'!F$7*'Vehicle Data'!G$16))) -> 115.44151 | AS7: =AR7*60 -> 6926.4905 | AT7: =ROUND(AQ7,0) -> 17 | AU7: =MROUND(AS7,500) -> 7000 | AW7: =VLOOKUP(AT7,BSFC!A$64:A$82,1,FALSE) -> 17 | AX7: {=_xlfn.XLOOKUP(AT7,BSFC!A$64:A$82,,-1,_xlfn.XLOOKUP(Data!AU7,BSFC!C$63:Q$63,BSFC!B$64:Q$82,,-1))} -> #VALUE! | AY7: =HLOOKUP(AU7,BSFC!F$63:Q$63,1) -> 7000 | AZ7: =MATCH(AT7,BSFC!A$64:A$83,0) -> 6 | BA7: =MATCH(AU7,BSFC!C$63:Q$63,0) -> 14 | BB7: {=INDEX(BSFC!C$64:Q$82,Data!AZ7,Data!BA7)} -> 500 | BC7: =0.5*'Vehicle Data'!C$6*Data!Z7^2 -> 17408.043 | BD7: =ABS(AQ8*(AS8/9.588))/1000 -> 8.5854719 | BE7: =BB7*BD7 -> 4292.7359 | BF7: =(BE7/3600)*AF7 -> 0.17772858 | BG7: =BG6+BF7 -> 0.97337024 | BH7: =(AQ8*AR8) -> 1371.9584 | BI7: =BM$9 -> 6871.6622 | BJ7: =U533 -> 402.09903 | BN7: BSFC at this power with normal engine | BO7: =BH7*AF8 -> 202.04381 | BP7: =BP6+BO7 -> 1442.2144 | BQ7: =IF(BO7>0,BQ6+BO7,IF(BO7<=0,BQ6)) -> 1442.2144 | BR7: =(BM$9*AF8)+BR6 -> 5209.5455 | BS7: =IF(BO7>0,BO7) -> 202.04381 | BT7: =IF(BH7>=0,BH7, IF(BH7<0,0)) -> 1371.9584 | BU7: =BI7*AF8 -> 1011.9671 | BV7: =BM$9*AF8 -> 1011.9671 | BW7: =BN$9 -> 455.4 | BX7: =BW7*BI7 -> 3129355 | BY7: =((BX7/3600)*AF8)/1000 -> 0.12801384 | BZ7: =AH7 -> 0.61085342 | CB7: =BU7-BS7 -> 809.92331 | CC7: =CB7/(BZ7-BZ6) -> 5433.9835 | CD7: =CB7+CD6 -> 3035.3906
D8: =ASIN((N8)/(G9-G8)) -> 0 | E8: 9.0017016 | F8: =IF(K8<6,1,IF(Data!K8<9,2,IF(K8>9,3))) -> 3 | G8: 724.10567 | H8: 211.16666 | I8: 28.088893 | J8: =(I9-I8)/(H9-H8) -> 2.7251138 | K8: =I8/2.5 -> 11.235557 | L8: =(K9-K8)/(H9-H8) -> 1.0900455 | M8: =2*E8 -> 18.003403 | N8: 0 | O8: =IF(L8<'Vehicle Data'!F$21,'Vehicle Data'!C$21,IF(L8>'Vehicle Data'!C$21,'Vehicle Data'!C$20)) -> 0.6 | P8: =('Vehicle Data'!C$6*9.81*'Vehicle Data'!C$5*SIN(D8))/'Vehicle Data'!C$9 -> 0 | Q8: ='Vehicle Data'!C$6*9.81*SIN(D8) -> 0 | R8: =G7 -> 722.77274 | S8: =IF(Data!O8=0.6,'Vehicle Data'!E$21,IF(Data!O8 = 0.9,'Vehicle Data'!E$20))+(P8*O8) -> 1550.3724 | T8: =IF(F8=3,'Vehicle Data'!H$16,IF(F8=2,'Vehicle Data'!H$15,IF(F8 = 1,'Vehicle Data'!G$14))) -> 466.23005 | U8: =R8-R$2 -> 6.6342615 | V8: s | W8: a | X8: =IF(V8="S",'Vehicle Data'!C$14,IF(Data!V8 = "T1",'Vehicle Data'!P$2,IF(Data!V8="T2",'Vehicle Data'!P$3))) -> 13.4112 | Z8: =SQRT(Z7^2+2*AE7*(U8-U7)) -> 9.051362 | AA8: 1 | AB8: =IF(AA8=1,'Vehicle Data'!I$14,IF(AA8=2,'Vehicle Data'!I$15,IF(AA8=3,'Vehicle Data'!I$16))) -> 1.7738438 | AC8: 0.462027 | AD8: =IF(O8=0.6,'Vehicle Data'!F$21,IF(O8=0.9,'Vehicle Data'!F$20)) -> 3.5316 | AE8: =IF(W8="a",AC8,IF(W8="b",AD8*-1)) -> 0.462027 | AF8: =(U8-U7)/Z8 -> 0.14726672 | AG8: =(Z8-Z7)/AF8 -> 0.99054445 | AH8: =AH7+AF8 -> 0.75812013 | AJ8: =(Z8^2)*'Vehicle Data'!C$31 -> 30.108229 | AK8: =IF(O8=0.6,'Vehicle Data'!C$6*'Vehicle Data'!D$21*9.81,IF(O8=0.9,'Vehicle Data'!C$6*9.81*'Vehicle Data'!D$20)) -> 86.1318 | AL8: =AJ8+AK8+Q8 -> 116.24003 | AN8: =IF(AG8>0,AG8*'Vehicle Data'!C$6) -> 434.84901 | AO8: =AN8+AL8 -> 551.08904 | AP8: =AO8*'Vehicle Data'!F$3 -> 140.85836 | AQ8: 17.424 | AR8: =IF(Z8<'Vehicle Data'!C$16, Z8*'Vehicle Data'!F$7*'Vehicle Data'!G$14,IF(Z8<'Vehicle Data'!C$15,Z8*'Vehicle Data'!F$7*'Vehicle Data'!G$15,IF(Z8>'Vehicle Data'!C$15,Z8*'Vehicle Data'!F$7*'Vehicle Data'!G$16))) -> 78.739578 | AS8: =AR8*60 -> 4724.3747 | AT8: =ROUND(AQ8,0) -> 17 | AU8: =MROUND(AS8,500) -> 4500 | AW8: =VLOOKUP(AT8,BSFC!A$64:A$82,1,FALSE) -> 17 | AX8: {=_xlfn.XLOOKUP(AT8,BSFC!A$64:A$82,,-1,_xlfn.XLOOKUP(Data!AU8,BSFC!C$63:Q$63,BSFC!B$64:Q$82,,-1))} -> #VALUE! | AY8: =HLOOKUP(AU8,BSFC!F$63:Q$63,1) -> 4500 | AZ8: =MATCH(AT8,BSFC!A$64:A$83,0) -> 6 | BA8: =MATCH(AU8,BSFC!C$63:Q$63,0) -> 9 | BB8: {=INDEX(BSFC!C$64:Q$82,Data!AZ8,Data!BA8)} -> 650 | BC8: =0.5*'Vehicle Data'!C$6*Data!Z8^2 -> 17983.01 | BD8: =ABS(AQ9*(AS9/9.588))/1000 -> 7.5025304 | BE8: =BB8*BD8 -> 4876.6448 | BF8: =(BE8/3600)*AF8 -> 0.19949096 | BG8: =BG7+BF8 -> 1.1728612 | BH8: =(AQ9*AR9) -> 1198.9044 | BI8: =BM$9 -> 6871.6622 | BK8: Fuel Use(g) | BL8: Instantaneous Regen | BM8: =AVERAGE(BH3:BH533) -> 5506.9172 | BN8: 490 | BO8: =BH8*AF9 -> 175.24185 | BP8: =BP7+BO8 -> 1617.4563 | BQ8: =IF(BO8>0,BQ7+BO8,IF(BO8<=0,BQ7)) -> 1617.4563 | BR8: =(BM$9*AF9)+BR7 -> 6213.9648 | BS8: =IF(BO8>0,BO8) -> 175.24185 | BT8: =IF(BH8>=0,BH8, IF(BH8<0,0)) -> 1198.9044 | BU8: =BI8*AF9 -> 1004.4194 | BV8: =BM$9*AF9 -> 1004.4194 | BW8: =BN$9 -> 455.4 | BX8: =BW8*BI8 -> 3129355 | BY8: =((BX8/3600)*AF9)/1000 -> 0.12705905 | BZ8: =AH8 -> 0.75812013 | CB8: =BU8-BS8 -> 829.17754 | CC8: =CB8/(BZ8-BZ7) -> 5630.4477 | CD8: =CB8+CD7 -> 3864.5681
D9: =ASIN((N9)/(G10-G9)) -> 0 | E9: 8.9017032 | F9: =IF(K9<6,1,IF(Data!K9<9,2,IF(K9>9,3))) -> 3 | G9: 725.44295 | H9: 211.21666 | I9: 28.225149 | J9: =(I10-I9)/(H10-H9) -> 2.9401784 | K9: =I9/2.5 -> 11.29006 | L9: =(K10-K9)/(H10-H9) -> 1.1760714 | M9: =2*E9 -> 17.803406 | N9: =E10-E9 -> 0 | O9: =IF(L9<'Vehicle Data'!F$21,'Vehicle Data'!C$21,IF(L9>'Vehicle Data'!C$21,'Vehicle Data'!C$20)) -> 0.6 | P9: =('Vehicle Data'!C$6*9.81*'Vehicle Data'!C$5*SIN(D9))/'Vehicle Data'!C$9 -> 0 | Q9: ='Vehicle Data'!C$6*9.81*SIN(D9) -> 0 | R9: =G8 -> 724.10567 | S9: =IF(Data!O9=0.6,'Vehicle Data'!E$21,IF(Data!O9 = 0.9,'Vehicle Data'!E$20))+(P9*O9) -> 1550.3724 | T9: =IF(F9=3,'Vehicle Data'!H$16,IF(F9=2,'Vehicle Data'!H$15,IF(F9 = 1,'Vehicle Data'!G$14))) -> 466.23005 | U9: =R9-R$2 -> 7.9671921 | V9: s | W9: a | X9: =IF(V9="S",'Vehicle Data'!C$14,IF(Data!V9 = "T1",'Vehicle Data'!P$2,IF(Data!V9="T2",'Vehicle Data'!P$3))) -> 13.4112 | Z9: =SQRT(Z8^2+2*AE8*(U9-U8)) -> 9.1191476 | AA9: 1 | AB9: =IF(AA9=1,'Vehicle Data'!I$14,IF(AA9=2,'Vehicle Data'!I$15,IF(AA9=3,'Vehicle Data'!I$16))) -> 1.7738438 | AC9: =IF(Z9<'Vehicle Data'!C$16,'Vehicle Data'!I$15,IF(Z9<'Vehicle Data'!C$15,'Vehicle Data'!I$15,IF(Z8>'Vehicle Data'!C$15,'Vehicle Data'!I$16))) -> 0.46202745 | AD9: =IF(O9=0.6,'Vehicle Data'!F$21,IF(O9=0.9,'Vehicle Data'!F$20)) -> 3.5316 | AE9: =IF(W9="a",AC9,IF(W9="b",AD9*-1)) -> 0.46202745 | AF9: =(U9-U8)/Z9 -> 0.14616833 | AG9: =(Z9-Z8)/AF9 -> 0.46375061 | AH9: =AH8+AF9 -> 0.90428846 | AJ9: =(Z9^2)*'Vehicle Data'!C$31 -> 30.560879 | AK9: =IF(O9=0.6,'Vehicle Data'!C$6*'Vehicle Data'!D$21*9.81,IF(O9=0.9,'Vehicle Data'!C$6*9.81*'Vehicle Data'!D$20)) -> 86.1318 | AL9: =AJ9+AK9+Q9 -> 116.69268 | AN9: =IF(AG9>0,AG9*'Vehicle Data'!C$6) -> 203.58652 | AO9: =AN9+AL9 -> 320.27919 | AP9: =AO9*'Vehicle Data'!F$3 -> 81.863362 | AQ9: =IF(AE9='Vehicle Data'!I$15,AP9/'Vehicle Data'!G$15,IF(AE9='Vehicle Data'!I$16,AP9/'Vehicle Data'!G$16,IF(AE9='Vehicle Data'!I$14,Data!AP9/'Vehicle Data'!G20))) -> 15.113016 | AR9: =IF(Z9<'Vehicle Data'!C$16, Z9*'Vehicle Data'!F$7*'Vehicle Data'!G$14,IF(Z9<'Vehicle Data'!C$15,Z9*'Vehicle Data'!F$7*'Vehicle Data'!G$15,IF(Z9>'Vehicle Data'!C$15,Z9*'Vehicle Data'!F$7*'Vehicle Data'!G$16))) -> 79.329259 | AS9: =AR9*60 -> 4759.7555 | AT9: =ROUND(AQ9,0) -> 15 | AU9: =MROUND(AS9,500) -> 5000 | AW9: =VLOOKUP(AT9,BSFC!A$64:A$82,1,FALSE) -> 15 | AX9: {=_xlfn.XLOOKUP(AT9,BSFC!A$64:A$82,,-1,_xlfn.XLOOKUP(Data!AU9,BSFC!C$63:Q$63,BSFC!B$64:Q$82,,-1))} -> #VALUE! | AY9: =HLOOKUP(AU9,BSFC!F$63:Q$63,1) -> 5000 | AZ9: =MATCH(AT9,BSFC!A$64:A$83,0) -> 8 | BA9: =MATCH(AU9,BSFC!C$63:Q$63,0) -> 10 | BB9: {=INDEX(BSFC!C$64:Q$82,Data!AZ9,Data!BA9)} -> 705.8 | BC9: =0.5*'Vehicle Data'!C$6*Data!Z9^2 -> 18253.368 | BD9: =ABS(AQ10*(AS10/9.588))/1000 -> 7.5685834 | BE9: =BB9*BD9 -> 5341.9061 | BF9: =(BE9/3600)*AF9 -> 0.21689375 | BG9: =BG8+BF9 -> 1.3897549 | BH9: =(AQ10*AR10) -> 1209.4596 | BI9: =BM$9 -> 6871.6622 | BK9: =SUM(BY3:BY533) -> 159.83409 | BL9: Without | BM9: =AVERAGE(BT3:BT533) -> 6871.6622 | BN9: 455.4 | BO9: =BH9*AF10 -> 176.05777 | BP9: =BP8+BO9 -> 1793.514 | BQ9: =IF(BO9>0,BQ8+BO9,IF(BO9<=0,BQ8)) -> 1793.514 | BR9: =(BM$9*AF10)+BR8 -> 7214.2541 | BS9: =IF(BO9>0,BO9) -> 176.05777 | BT9: =IF(BH9>=0,BH9, IF(BH9<0,0)) -> 1209.4596 | BU9: =BI9*AF10 -> 1000.2893 | BV9: =BM$9*AF10 -> 1000.2893 | BW9: =BN$9 -> 455.4 | BX9: =BW9*BI9 -> 3129355 | BY9: =((BX9/3600)*AF10)/1000 -> 0.12653659 | BZ9: =AH9 -> 0.90428846 | CB9: =BU9-BS9 -> 824.23152 | CC9: =CB9/(BZ9-BZ8) -> 5638.92 | CD9: =CB9+CD8 -> 4688.7996
D10: =ASIN((N10)/(G11-G10)) -> 0 | E10: 8.9017032 | F10: =IF(K10<6,1,IF(Data!K10<9,2,IF(K10>9,3))) -> 3 | G10: 726.78227 | H10: 211.26666 | I10: 28.372158 | J10: =(I11-I10)/(H11-H10) -> 2.981709 | K10: =I10/2.5 -> 11.348863 | L10: =(K11-K10)/(H11-H10) -> 1.1926836 | M10: =2*E10 -> 17.803406 | N10: =E11-E10 -> 0 | O10: =IF(L10<'Vehicle Data'!F$21,'Vehicle Data'!C$21,IF(L10>'Vehicle Data'!C$21,'Vehicle Data'!C$20)) -> 0.6 | P10: =('Vehicle Data'!C$6*9.81*'Vehicle Data'!C$5*SIN(D10))/'Vehicle Data'!C$9 -> 0 | Q10: ='Vehicle Data'!C$6*9.81*SIN(D10) -> 0 | R10: =G9 -> 725.44295 | S10: =IF(Data!O10=0.6,'Vehicle Data'!E$21,IF(Data!O10 = 0.9,'Vehicle Data'!E$20))+(P10*O10) -> 1550.3724 | T10: =IF(F10=3,'Vehicle Data'!H$16,IF(F10=2,'Vehicle Data'!H$15,IF(F10 = 1,'Vehicle Data'!G$14))) -> 466.23005 | U10: =R10-R$2 -> 9.3044681 | V10: s | W10: a | X10: =IF(V10="S",'Vehicle Data'!C$14,IF(Data!V10 = "T1",'Vehicle Data'!P$2,IF(Data!V10="T2",'Vehicle Data'!P$3))) -> 13.4112 | Z10: =SQRT(Z9^2+2*AE9*(U10-U9)) -> 9.1866517 | AB10: =IF(AA10=1,'Vehicle Data'!I$14,IF(AA10=2,'Vehicle Data'!I$15,IF(AA10=3,'Vehicle Data'!I$16))) -> FALSE | AC10: =IF(Z10<'Vehicle Data'!C$16,'Vehicle Data'!I$15,IF(Z10<'Vehicle Data'!C$15,'Vehicle Data'!I$15,IF(Z9>'Vehicle Data'!C$15,'Vehicle Data'!I$16))) -> 0.46202745 | AD10: =IF(O10=0.6,'Vehicle Data'!F$21,IF(O10=0.9,'Vehicle Data'!F$20)) -> 3.5316 | AE10: =IF(W10="a",AC10,IF(W10="b",AD10*-1)) -> 0.46202745 | AF10: =(U10-U9)/Z10 -> 0.1455673 | AG10: =(Z10-Z9)/AF10 -> 0.46373122 | AH10: =AH9+AF10 -> 1.0498558 | AJ10: =(Z10^2)*'Vehicle Data'!C$31 -> 31.015004 | AK10: =IF(O10=0.6,'Vehicle Data'!C$6*'Vehicle Data'!D$21*9.81,IF(O10=0.9,'Vehicle Data'!C$6*9.81*'Vehicle Data'!D$20)) -> 86.1318 | AL10: =AJ10+AK10+Q10 -> 117.1468 | AN10: =IF(AG10>0,AG10*'Vehicle Data'!C$6) -> 203.578 | AO10: =AN10+AL10 -> 320.72481 | AP10: =AO10*'Vehicle Data'!F$3 -> 81.977261 | AQ10: =IF(AE10='Vehicle Data'!I$15,AP10/'Vehicle Data'!G$15,IF(AE10='Vehicle Data'!I$16,AP10/'Vehicle Data'!G$16,IF(AE10='Vehicle Data'!I$14,Data!AP10/'Vehicle Data'!G21))) -> 15.134043 | AR10: =IF(Z10<'Vehicle Data'!C$16, Z10*'Vehicle Data'!F$7*'Vehicle Data'!G$14,IF(Z10<'Vehicle Data'!C$15,Z10*'Vehicle Data'!F$7*'Vehicle Data'!G$15,IF(Z10>'Vehicle Data'!C$15,Z10*'Vehicle Data'!F$7*'Vehicle Data'!G$16))) -> 79.91649 | AS10: =AR10*60 -> 4794.9894 | AT10: =ROUND(AQ10,0) -> 15 | AU10: =MROUND(AS10,500) -> 5000 | AW10: =VLOOKUP(AT10,BSFC!A$64:A$82,1,FALSE) -> 15 | AX10: {=_xlfn.XLOOKUP(AT10,BSFC!A$64:A$82,,-1,_xlfn.XLOOKUP(Data!AU10,BSFC!C$63:Q$63,BSFC!B$64:Q$82,,-1))} -> #VALUE! | AY10: =HLOOKUP(AU10,BSFC!F$63:Q$63,1) -> 5000 | AZ10: =MATCH(AT10,BSFC!A$64:A$83,0) -> 8 | BA10: =MATCH(AU10,BSFC!C$63:Q$63,0) -> 10 | BB10: {=INDEX(BSFC!C$64:Q$82,Data!AZ10,Data!BA10)} -> 705.8 | BC10: =0.5*'Vehicle Data'!C$6*Data!Z10^2 -> 18524.608 | BD10: =ABS(AQ11*(AS11/9.588))/1000 -> 7.6344559 | BE10: =BB10*BD10 -> 5388.399 | BF10: =(BE10/3600)*AF10 -> 0.21788185 | BG10: =BG9+BF10 -> 1.6076368 | BH10: =(AQ11*AR11) -> 1219.986 | BI10: =BM$9 -> 6871.6622 | BO10: =BH10*AF11 -> 176.57182 | BP10: =BP9+BO10 -> 1970.0858 | BQ10: =IF(BO10>0,BQ9+BO10,IF(BO10<=0,BQ9)) -> 1970.0858 | BR10: =(BM$9*AF11)+BR9 -> 8208.8081 | BS10: =IF(BO10>0,BO10) -> 176.57182 | BT10: =IF(BH10>=0,BH10, IF(BH10<0,0)) -> 1219.986 | BU10: =BI10*AF11 -> 994.55393 | BV10: =BM$9*AF11 -> 994.55393 | BW10: =BN$9 -> 455.4 | BX10: =BW10*BI10 -> 3129355 | BY10: =((BX10/3600)*AF11)/1000 -> 0.12581107 | BZ10: =AH10 -> 1.0498558 | CB10: =BU10-BS10 -> 817.98211 | CC10: =CB10/(BZ10-BZ9) -> 5619.2712 | CD10: =CB10+CD9 -> 5506.7817
D11: =ASIN((N11)/(G12-G11)) -> 0 | E11: 8.9017032 | F11: =IF(K11<6,1,IF(Data!K11<9,2,IF(K11>9,3))) -> 3 | G11: 728.12482 | H11: 211.31667 | I11: 28.521243 | J11: =(I12-I11)/(H12-H11) -> 3.0118738 | K11: =I11/2.5 -> 11.408497 | L11: =(K12-K11)/(H12-H11) -> 1.2047495 | M11: =2*E11 -> 17.803406 | N11: =E12-E11 -> 0 | O11: =IF(L11<'Vehicle Data'!F$21,'Vehicle Data'!C$21,IF(L11>'Vehicle Data'!C$21,'Vehicle Data'!C$20)) -> 0.6 | P11: =('Vehicle Data'!C$6*9.81*'Vehicle Data'!C$5*SIN(D11))/'Vehicle Data'!C$9 -> 0 | Q11: ='Vehicle Data'!C$6*9.81*SIN(D11) -> 0 | R11: =G10 -> 726.78227 | S11: =IF(Data!O11=0.6,'Vehicle Data'!E$21,IF(Data!O11 = 0.9,'Vehicle Data'!E$20))+(P11*O11) -> 1550.3724 | T11: =IF(F11=3,'Vehicle Data'!H$16,IF(F11=2,'Vehicle Data'!H$15,IF(F11 = 1,'Vehicle Data'!G$14))) -> 466.23005 | U11: =R11-R$2 -> 10.64379 | V11: s | W11: a | X11: =IF(V11="S",'Vehicle Data'!C$14,IF(Data!V11 = "T1",'Vehicle Data'!P$2,IF(Data!V11="T2",'Vehicle Data'!P$3))) -> 13.4112 | Z11: =SQRT(Z10^2+2*AE10*(U11-U10)) -> 9.2537655 | AB11: =IF(AA11=1,'Vehicle Data'!I$14,IF(AA11=2,'Vehicle Data'!I$15,IF(AA11=3,'Vehicle Data'!I$16))) -> FALSE | AC11: =IF(Z11<'Vehicle Data'!C$16,'Vehicle Data'!I$15,IF(Z11<'Vehicle Data'!C$15,'Vehicle Data'!I$15,IF(Z10>'Vehicle Data'!C$15,'Vehicle Data'!I$16))) -> 0.46202745 | AD11: =IF(O11=0.6,'Vehicle Data'!F$21,IF(O11=0.9,'Vehicle Data'!F$20)) -> 3.5316 | AE11: =IF(W11="a",AC11,IF(W11="b",AD11*-1)) -> 0.46202745 | AF11: =(U11-U10)/Z11 -> 0.14473266 | AG11: =(Z11-Z10)/AF11 -> 0.463709 | AH11: =AH10+AF11 -> 1.1945884 | AJ11: =(Z11^2)*'Vehicle Data'!C$31 -> 31.469825 | AK11: =IF(O11=0.6,'Vehicle Data'!C$6*'Vehicle Data'!D$21*9.81,IF(O11=0.9,'Vehicle Data'!C$6*9.81*'Vehicle Data'!D$20)) -> 86.1318 | AL11: =AJ11+AK11+Q11 -> 117.60162 | AN11: =IF(AG11>0,AG11*'Vehicle Data'!C$6) -> 203.56825 | AO11: =AN11+AL11 -> 321.16988 | AP11: =AO11*'Vehicle Data'!F$3 -> 82.09102 | AQ11: =IF(AE11='Vehicle Data'!I$15,AP11/'Vehicle Data'!G$15,IF(AE11='Vehicle Data'!I$16,AP11/'Vehicle Data'!G$16,IF(AE11='Vehicle Data'!I$14,Data!AP11/'Vehicle Data'!G22))) -> 15.155045 | AR11: =IF(Z11<'Vehicle Data'!C$16, Z11*'Vehicle Data'!F$7*'Vehicle Data'!G$14,IF(Z11<'Vehicle Data'!C$15,Z11*'Vehicle Data'!F$7*'Vehicle Data'!G$15,IF(Z11>'Vehicle Data'!C$15,Z11*'Vehicle Data'!F$7*'Vehicle Data'!G$16))) -> 80.500327 | AS11: =AR11*60 -> 4830.0196 | AT11: =ROUND(AQ11,0) -> 15 | AU11: =MROUND(AS11,500) -> 5000 | AW11: =VLOOKUP(AT11,BSFC!A$64:A$82,1,FALSE) -> 15 | AX11: {=_xlfn.XLOOKUP(AT11,BSFC!A$64:A$82,,-1,_xlfn.XLOOKUP(Data!AU11,BSFC!C$63:Q$63,BSFC!B$64:Q$82,,-1))} -> #VALUE! | AY11: =HLOOKUP(AU11,BSFC!F$63:Q$63,1) -> 5000 | AZ11: =MATCH(AT11,BSFC!A$64:A$83,0) -> 8 | BA11: =MATCH(AU11,BSFC!C$63:Q$63,0) -> 10 | BB11: {=INDEX(BSFC!C$64:Q$82,Data!AZ11,Data!BA11)} -> 705.8 | BC11: =0.5*'Vehicle Data'!C$6*Data!Z11^2 -> 18796.263 | BD11: =ABS(AQ12*(AS12/9.588))/1000 -> 7.7002622 | BE11: =BB11*BD11 -> 5434.8451 | BF11: =(BE11/3600)*AF11 -> 0.21849988 | BG11: =BG10+BF11 -> 1.8261367 | BH11: =(AQ12*AR12) -> 1230.5019 | BI11: =BM$9 -> 6871.6622 | BK11: Cumulative Energy | BL11: =BQ533 -> 1330256 | BO11: =BH11*AF12 -> 177.24289 | BP11: =BP10+BO11 -> 2147.3287 | BQ11: =IF(BO11>0,BQ10+BO11,IF(BO11<=0,BQ10)) -> 2147.3287 | BR11: =(BM$9*AF12)+BR10 -> 9198.6101 | BS11: =IF(BO11>0,BO11) -> 177.24289 | BT11: =IF(BH11>=0,BH11, IF(BH11<0,0)) -> 1230.5019 | BU11: =BI11*AF12 -> 989.802 | BV11: =BM$9*AF12 -> 989.802 | BW11: =BN$9 -> 455.4 | BX11: =BW11*BI11 -> 3129355 | BY11: =((BX11/3600)*AF12)/1000 -> 0.12520995 | BZ11: =AH11 -> 1.1945884 | CB11: =BU11-BS11 -> 812.55911 | CC11: =CB11/(BZ11-BZ10) -> 5614.2071 | CD11: =CB11+CD10 -> 6319.3408
D12: =ASIN((N12)/(G13-G12)) -> 0 | E12: 8.9017032 | F12: =IF(K12<6,1,IF(Data!K12<9,2,IF(K12>9,3))) -> 3 | G12: 729.47077 | H12: 211.36666 | I12: 28.671837 | J12: =(I13-I12)/(H13-H12) -> 3.0867561 | K12: =I12/2.5 -> 11.468735 | L12: =(K13-K12)/(H13-H12) -> 1.2347025 | M12: =2*E12 -> 17.803406 | N12: =E13-E12 -> 0 | O12: =IF(L12<'Vehicle Data'!F$21,'Vehicle Data'!C$21,IF(L12>'Vehicle Data'!C$21,'Vehicle Data'!C$20)) -> 0.6 | P12: =('Vehicle Data'!C$6*9.81*'Vehicle Data'!C$5*SIN(D12))/'Vehicle Data'!C$9 -> 0 | Q12: ='Vehicle Data'!C$6*9.81*SIN(D12) -> 0 | R12: =G11 -> 728.12482 | S12: =IF(Data!O12=0.6,'Vehicle Data'!E$21,IF(Data!O12 = 0.9,'Vehicle Data'!E$20))+(P12*O12) -> 1550.3724 | T12: =IF(F12=3,'Vehicle Data'!H$16,IF(F12=2,'Vehicle Data'!H$15,IF(F12 = 1,'Vehicle Data'!G$14))) -> 466.23005 | U12: =R12-R$2 -> 11.986334 | V12: s | W12: a | X12: =IF(V12="S",'Vehicle Data'!C$14,IF(Data!V12 = "T1",'Vehicle Data'!P$2,IF(Data!V12="T2",'Vehicle Data'!P$3))) -> 13.4112 | Z12: =SQRT(Z11^2+2*AE11*(U12-U11)) -> 9.3205558 | AB12: =IF(AA12=1,'Vehicle Data'!I$14,IF(AA12=2,'Vehicle Data'!I$15,IF(AA12=3,'Vehicle Data'!I$16))) -> FALSE | AC12: =IF(Z12<'Vehicle Data'!C$16,'Vehicle Data'!I$15,IF(Z12<'Vehicle Data'!C$15,'Vehicle Data'!I$15,IF(Z11>'Vehicle Data'!C$15,'Vehicle Data'!I$16))) -> 0.46202745 | AD12: =IF(O12=0.6,'Vehicle Data'!F$21,IF(O12=0.9,'Vehicle Data'!F$20)) -> 3.5316 | AE12: =IF(W12="a",AC12,IF(W12="b",AD12*-1)) -> 0.46202745 | AF12: =(U12-U11)/Z12 -> 0.14404113 | AG12: =(Z12-Z11)/AF12 -> 0.46368883 | AH12: =AH11+AF12 -> 1.3386295 | AJ12: =(Z12^2)*'Vehicle Data'!C$31 -> 31.92574 | AK12: =IF(O12=0.6,'Vehicle Data'!C$6*'Vehicle Data'!D$21*9.81,IF(O12=0.9,'Vehicle Data'!C$6*9.81*'Vehicle Data'!D$20)) -> 86.1318 | AL12: =AJ12+AK12+Q12 -> 118.05754 | AN12: =IF(AG12>0,AG12*'Vehicle Data'!C$6) -> 203.5594 | AO12: =AN12+AL12 -> 321.61694 | AP12: =AO12*'Vehicle Data'!F$3 -> 82.205289 | AQ12: =IF(AE12='Vehicle Data'!I$15,AP12/'Vehicle Data'!G$15,IF(AE12='Vehicle Data'!I$16,AP12/'Vehicle Data'!G$16,IF(AE12='Vehicle Data'!I$14,Data!AP12/'Vehicle Data'!G23))) -> 15.17614 | AR12: =IF(Z12<'Vehicle Data'!C$16, Z12*'Vehicle Data'!F$7*'Vehicle Data'!G$14,IF(Z12<'Vehicle Data'!C$15,Z12*'Vehicle Data'!F$7*'Vehicle Data'!G$15,IF(Z12>'Vehicle Data'!C$15,Z12*'Vehicle Data'!F$7*'Vehicle Data'!G$16))) -> 81.081348 | AS12: =AR12*60 -> 4864.8809 | AT12: =ROUND(AQ12,0) -> 15 | AU12: =MROUND(AS12,500) -> 5000 | AW12: =VLOOKUP(AT12,BSFC!A$64:A$82,1,FALSE) -> 15 | AX12: {=_xlfn.XLOOKUP(AT12,BSFC!A$64:A$82,,-1,_xlfn.XLOOKUP(Data!AU12,BSFC!C$63:Q$63,BSFC!B$64:Q$82,,-1))} -> #VALUE! | AY12: =HLOOKUP(AU12,BSFC!F$63:Q$63,1) -> 5000 | AZ12: =MATCH(AT12,BSFC!A$64:A$83,0) -> 8 | BA12: =MATCH(AU12,BSFC!C$63:Q$63,0) -> 10 | BB12: {=INDEX(BSFC!C$64:Q$82,Data!AZ12,Data!BA12)} -> 705.8 | BC12: =0.5*'Vehicle Data'!C$6*Data!Z12^2 -> 19068.571 | BD12: =ABS(AQ13*(AS13/9.588))/1000 -> 7.7660032 | BE12: =BB12*BD12 -> 5481.2451 | BF12: =(BE12/3600)*AF12 -> 0.21931243 | BG12: =BG11+BF12 -> 2.0454491 | BH12: =(AQ13*AR13) -> 1241.0073 | BI12: =BM$9 -> 6871.6622 | BK12: Total Energy | BL12: =BM9*BL5 -> 1264585.4 | BO12: =BH12*AF13 -> 177.94037 | BP12: =BP11+BO12 -> 2325.2691 | BQ12: =IF(BO12>0,BQ11+BO12,IF(BO12<=0,BQ11)) -> 2325.2691 | BR12: =(BM$9*AF13)+BR11 -> 10183.895 | BS12: =IF(BO12>0,BO12) -> 177.94037 | BT12: =IF(BH12>=0,BH12, IF(BH12<0,0)) -> 1241.0073 | BU12: =BI12*AF13 -> 985.28517 | BV12: =BM$9*AF13 -> 985.28517 | BW12: =BN$9 -> 455.4 | BX12: =BW12*BI12 -> 3129355 | BY12: =((BX12/3600)*AF13)/1000 -> 0.12463857 | BZ12: =AH12 -> 1.3386295 | CB12: =BU12-BS12 -> 807.34481 | CC12: =CB12/(BZ12-BZ11) -> 5604.9602 | CD12: =CB12+CD11 -> 7126.6857
D13: =ASIN((N13)/(G14-G13)) -> 0 | E13: 8.9017032 | F13: =IF(K13<6,1,IF(Data!K13<9,2,IF(K13>9,3))) -> 3 | G13: 730.8182 | H13: 211.41666 | I13: 28.826175 | J13: =(I14-I13)/(H14-H13) -> 3.2287339 | K13: =I13/2.5 -> 11.53047 | L13: =(K14-K13)/(H14-H13) -> 1.2914936 | M13: =2*E13 -> 17.803406 | N13: =E14-E13 -> 0 | O13: =IF(L13<'Vehicle Data'!F$21,'Vehicle Data'!C$21,IF(L13>'Vehicle Data'!C$21,'Vehicle Data'!C$20)) -> 0.6 | P13: =('Vehicle Data'!C$6*9.81*'Vehicle Data'!C$5*SIN(D13))/'Vehicle Data'!C$9 -> 0 | Q13: ='Vehicle Data'!C$6*9.81*SIN(D13) -> 0 | R13: =G12 -> 729.47077 | S13: =IF(Data!O13=0.6,'Vehicle Data'!E$21,IF(Data!O13 = 0.9,'Vehicle Data'!E$20))+(P13*O13) -> 1550.3724 | T13: =IF(F13=3,'Vehicle Data'!H$16,IF(F13=2,'Vehicle Data'!H$15,IF(F13 = 1,'Vehicle Data'!G$14))) -> 466.23005 | U13: =R13-R$2 -> 13.332283 | V13: s | W13: a | X13: =IF(V13="S",'Vehicle Data'!C$14,IF(Data!V13 = "T1",'Vehicle Data'!P$2,IF(Data!V13="T2",'Vehicle Data'!P$3))) -> 13.4112 | Z13: =SQRT(Z12^2+2*AE12*(U13-U12)) -> 9.3870385 | AB13: =IF(AA13=1,'Vehicle Data'!I$14,IF(AA13=2,'Vehicle Data'!I$15,IF(AA13=3,'Vehicle Data'!I$16))) -> FALSE | AC13: =IF(Z13<'Vehicle Data'!C$16,'Vehicle Data'!I$15,IF(Z13<'Vehicle Data'!C$15,'Vehicle Data'!I$15,IF(Z12>'Vehicle Data'!C$15,'Vehicle Data'!I$16))) -> 0.46202745 | AD13: =IF(O13=0.6,'Vehicle Data'!F$21,IF(O13=0.9,'Vehicle Data'!F$20)) -> 3.5316 | AE13: =IF(W13="a",AC13,IF(W13="b",AD13*-1)) -> 0.46202745 | AF13: =(U13-U12)/Z13 -> 0.14338382 | AG13: =(Z13-Z12)/AF13 -> 0.4636694 | AH13: =AH12+AF13 -> 1.4820134 | AJ13: =(Z13^2)*'Vehicle Data'!C$31 -> 32.382811 | AK13: =IF(O13=0.6,'Vehicle Data'!C$6*'Vehicle Data'!D$21*9.81,IF(O13=0.9,'Vehicle Data'!C$6*9.81*'Vehicle Data'!D$20)) -> 86.1318 | AL13: =AJ13+AK13+Q13 -> 118.51461 | AN13: =IF(AG13>0,AG13*'Vehicle Data'!C$6) -> 203.55087 | AO13: =AN13+AL13 -> 322.06548 | AP13: =AO13*'Vehicle Data'!F$3 -> 82.319936 | AQ13: =IF(AE13='Vehicle Data'!I$15,AP13/'Vehicle Data'!G$15,IF(AE13='Vehicle Data'!I$16,AP13/'Vehicle Data'!G$16,IF(AE13='Vehicle Data'!I$14,Data!AP13/'Vehicle Data'!G24))) -> 15.197305 | AR13: =IF(Z13<'Vehicle Data'!C$16, Z13*'Vehicle Data'!F$7*'Vehicle Data'!G$14,IF(Z13<'Vehicle Data'!C$15,Z13*'Vehicle Data'!F$7*'Vehicle Data'!G$15,IF(Z13>'Vehicle Data'!C$15,Z13*'Vehicle Data'!F$7*'Vehicle Data'!G$16))) -> 81.659694 | AS13: =AR13*60 -> 4899.5817 | AT13: =ROUND(AQ13,0) -> 15 | AU13: =MROUND(AS13,500) -> 5000 | AW13: =VLOOKUP(AT13,BSFC!A$64:A$82,1,FALSE) -> 15 | AX13: {=_xlfn.XLOOKUP(AT13,BSFC!A$64:A$82,,-1,_xlfn.XLOOKUP(Data!AU13,BSFC!C$63:Q$63,BSFC!B$64:Q$82,,-1))} -> #VALUE! | AY13: =HLOOKUP(AU13,BSFC!F$63:Q$63,1) -> 5000 | AZ13: =MATCH(AT13,BSFC!A$64:A$83,0) -> 8 | BA13: =MATCH(AU13,BSFC!C$63:Q$63,0) -> 10 | BB13: {=INDEX(BSFC!C$64:Q$82,Data!AZ13,Data!BA13)} -> 705.8 | BC13: =0.5*'Vehicle Data'!C$6*Data!Z13^2 -> 19341.57 | BD13: =ABS(AQ14*(AS14/9.588))/1000 -> 7.8315632 | BE13: =BB13*BD13 -> 5527.5173 | BF13: =(BE13/3600)*AF13 -> 0.2201546 | BG13: =BG12+BF13 -> 2.2656037 | BH13: =(AQ14*AR14) -> 1251.4838 | BI13: =BM$9 -> 6871.6622 | BL13: =BR533 -> 1263510.6 | BN13: We start with a bucket of energy | BO13: =BH13*AF14 -> 178.38484 | BP13: =BP12+BO13 -> 2503.6539 | BQ13: =IF(BO13>0,BQ12+BO13,IF(BO13<=0,BQ12)) -> 2503.6539 | BR13: =(BM$9*AF14)+BR12 -> 11163.373 | BS13: =IF(BO13>0,BO13) -> 178.38484 | BT13: =IF(BH13>=0,BH13, IF(BH13<0,0)) -> 1251.4838 | BU13: =BI13*AF14 -> 979.47759 | BV13: =BM$9*AF14 -> 979.47759 | BW13: =BN$9 -> 455.4 | BX13: =BW13*BI13 -> 3129355 | BY13: =((BX13/3600)*AF14)/1000 -> 0.12390392 | BZ13: =AH13 -> 1.4820134 | CB13: =BU13-BS13 -> 801.09275 | CC13: =CB13/(BZ13-BZ12) -> 5587.0513 | CD13: =CB13+CD12 -> 7927.7784
D14: =ASIN((N14)/(G15-G14)) -> 0 | E14: 8.9017032 | F14: =IF(K14<6,1,IF(Data!K14<9,2,IF(K14>9,3))) -> 3 | G14: 732.17119 | H14: 211.46666 | I14: 28.987612 | J14: =(I15-I14)/(H15-H14) -> 3.2779455 | K14: =I14/2.5 -> 11.595045 | L14: =(K15-K14)/(H15-H14) -> 1.3111782 | M14: =2*E14 -> 17.803406 | N14: =E15-E14 -> 0 | O14: =IF(L14<'Vehicle Data'!F$21,'Vehicle Data'!C$21,IF(L14>'Vehicle Data'!C$21,'Vehicle Data'!C$20)) -> 0.6 | P14: =('Vehicle Data'!C$6*9.81*'Vehicle Data'!C$5*SIN(D14))/'Vehicle Data'!C$9 -> 0 | Q14: ='Vehicle Data'!C$6*9.81*SIN(D14) -> 0 | R14: =G13 -> 730.8182 | S14: =IF(Data!O14=0.6,'Vehicle Data'!E$21,IF(Data!O14 = 0.9,'Vehicle Data'!E$20))+(P14*O14) -> 1550.3724 | T14: =IF(F14=3,'Vehicle Data'!H$16,IF(F14=2,'Vehicle Data'!H$15,IF(F14 = 1,'Vehicle Data'!G$14))) -> 466.23005 | U14: =R14-R$2 -> 14.679719 | V14: s | W14: a | X14: =IF(V14="S",'Vehicle Data'!C$14,IF(Data!V14 = "T1",'Vehicle Data'!P$2,IF(Data!V14="T2",'Vehicle Data'!P$3))) -> 13.4112 | Z14: =SQRT(Z13^2+2*AE13*(U14-U13)) -> 9.4531263 | AB14: =IF(AA14=1,'Vehicle Data'!I$14,IF(AA14=2,'Vehicle Data'!I$15,IF(AA14=3,'Vehicle Data'!I$16))) -> FALSE | AC14: =IF(Z14<'Vehicle Data'!C$16,'Vehicle Data'!I$15,IF(Z14<'Vehicle Data'!C$15,'Vehicle Data'!I$15,IF(Z13>'Vehicle Data'!C$15,'Vehicle Data'!I$16))) -> 0.46202745 | AD14: =IF(O14=0.6,'Vehicle Data'!F$21,IF(O14=0.9,'Vehicle Data'!F$20)) -> 3.5316 | AE14: =IF(W14="a",AC14,IF(W14="b",AD14*-1)) -> 0.46202745 | AF14: =(U14-U13)/Z14 -> 0.14253867 | AG14: =(Z14-Z13)/AF14 -> 0.46364816 | AH14: =AH13+AF14 -> 1.624552 | AJ14: =(Z14^2)*'Vehicle Data'!C$31 -> 32.840387 | AK14: =IF(O14=0.6,'Vehicle Data'!C$6*'Vehicle Data'!D$21*9.81,IF(O14=0.9,'Vehicle Data'!C$6*9.81*'Vehicle Data'!D$20)) -> 86.1318 | AL14: =AJ14+AK14+Q14 -> 118.97219 | AN14: =IF(AG14>0,AG14*'Vehicle Data'!C$6) -> 203.54154 | AO14: =AN14+AL14 -> 322.51373 | AP14: =AO14*'Vehicle Data'!F$3 -> 82.434509 | AQ14: =IF(AE14='Vehicle Data'!I$15,AP14/'Vehicle Data'!G$15,IF(AE14='Vehicle Data'!I$16,AP14/'Vehicle Data'!G$16,IF(AE14='Vehicle Data'!I$14,Data!AP14/'Vehicle Data'!G25))) -> 15.218457 | AR14: =IF(Z14<'Vehicle Data'!C$16, Z14*'Vehicle Data'!F$7*'Vehicle Data'!G$14,IF(Z14<'Vehicle Data'!C$15,Z14*'Vehicle Data'!F$7*'Vehicle Data'!G$15,IF(Z14>'Vehicle Data'!C$15,Z14*'Vehicle Data'!F$7*'Vehicle Data'!G$16))) -> 82.234605 | AS14: =AR14*60 -> 4934.0763 | AT14: =ROUND(AQ14,0) -> 15 | AU14: =MROUND(AS14,500) -> 5000 | AW14: =VLOOKUP(AT14,BSFC!A$64:A$82,1,FALSE) -> 15 | AX14: {=_xlfn.XLOOKUP(AT14,BSFC!A$64:A$82,,-1,_xlfn.XLOOKUP(Data!AU14,BSFC!C$63:Q$63,BSFC!B$64:Q$82,,-1))} -> #VALUE! | AY14: =HLOOKUP(AU14,BSFC!F$63:Q$63,1) -> 5000 | AZ14: =MATCH(AT14,BSFC!A$64:A$83,0) -> 8 | BA14: =MATCH(AU14,BSFC!C$63:Q$63,0) -> 10 | BB14: {=INDEX(BSFC!C$64:Q$82,Data!AZ14,Data!BA14)} -> 705.8 | BC14: =0.5*'Vehicle Data'!C$6*Data!Z14^2 -> 19614.87 | BD14: =ABS(AQ15*(AS15/9.588))/1000 -> 7.8972218 | BE14: =BB14*BD14 -> 5573.8591 | BF14: =(BE14/3600)*AF14 -> 0.2206918 | BG14: =BG13+BF14 -> 2.4862955 | BH14: =(AQ15*AR15) -> 1261.976 | BI14: =BM$9 -> 6871.6622 | BN14: Then we use some to move forward | BO14: =BH14*AF15 -> 179.3708 | BP14: =BP13+BO14 -> 2683.0247 | BQ14: =IF(BO14>0,BQ13+BO14,IF(BO14<=0,BQ13)) -> 2683.0247 | BR14: =(BM$9*AF15)+BR13 -> 12140.076 | BS14: =IF(BO14>0,BO14) -> 179.3708 | BT14: =IF(BH14>=0,BH14, IF(BH14<0,0)) -> 1261.976 | BU14: =BI14*AF15 -> 976.70279 | BV14: =BM$9*AF15 -> 976.70279 | BW14: =BN$9 -> 455.4 | BX14: =BW14*BI14 -> 3129355 | BY14: =((BX14/3600)*AF15)/1000 -> 0.1235529 | BZ14: =AH14 -> 1.624552 | CB14: =BU14-BS14 -> 797.33199 | CC14: =CB14/(BZ14-BZ13) -> 5593.7942 | CD14: =CB14+CD13 -> 8725.1104
D15: =ASIN((N15)/(G16-G15)) -> 0 | E15: 8.9017032 | F15: =IF(K15<6,1,IF(Data!K15<9,2,IF(K15>9,3))) -> 3 | G15: 733.52558 | H15: 211.51666 | I15: 29.151509 | J15: =(I16-I15)/(H16-H15) -> 3.3377116 | K15: =I15/2.5 -> 11.660604 | L15: =(K16-K15)/(H16-H15) -> 1.3350846 | M15: =2*E15 -> 17.803406 | N15: =E16-E15 -> 0 | O15: =IF(L15<'Vehicle Data'!F$21,'Vehicle Data'!C$21,IF(L15>'Vehicle Data'!C$21,'Vehicle Data'!C$20)) -> 0.6 | P15: =('Vehicle Data'!C$6*9.81*'Vehicle Data'!C$5*SIN(D15))/'Vehicle Data'!C$9 -> 0 | Q15: ='Vehicle Data'!C$6*9.81*SIN(D15) -> 0 | R15: =G14 -> 732.17119 | S15: =IF(Data!O15=0.6,'Vehicle Data'!E$21,IF(Data!O15 = 0.9,'Vehicle Data'!E$20))+(P15*O15) -> 1550.3724 | T15: =IF(F15=3,'Vehicle Data'!H$16,IF(F15=2,'Vehicle Data'!H$15,IF(F15 = 1,'Vehicle Data'!G$14))) -> 466.23005 | U15: =R15-R$2 -> 16.032704 | V15: s | W15: a | X15: =IF(V15="S",'Vehicle Data'!C$14,IF(Data!V15 = "T1",'Vehicle Data'!P$2,IF(Data!V15="T2",'Vehicle Data'!P$3))) -> 13.4112 | Z15: =SQRT(Z14^2+2*AE14*(U15-U14)) -> 9.5190246 | AB15: =IF(AA15=1,'Vehicle Data'!I$14,IF(AA15=2,'Vehicle Data'!I$15,IF(AA15=3,'Vehicle Data'!I$16))) -> FALSE | AC15: =IF(Z15<'Vehicle Data'!C$16,'Vehicle Data'!I$15,IF(Z15<'Vehicle Data'!C$15,'Vehicle Data'!I$15,IF(Z14>'Vehicle Data'!C$15,'Vehicle Data'!I$16))) -> 0.46202745 | AD15: =IF(O15=0.6,'Vehicle Data'!F$21,IF(O15=0.9,'Vehicle Data'!F$20)) -> 3.5316 | AE15: =IF(W15="a",AC15,IF(W15="b",AD15*-1)) -> 0.46202745 | AF15: =(U15-U14)/Z15 -> 0.14213487 | AG15: =(Z15-Z14)/AF15 -> 0.46363227 | AH15: =AH14+AF15 -> 1.7666869 | AJ15: =(Z15^2)*'Vehicle Data'!C$31 -> 33.299847 | AK15: =IF(O15=0.6,'Vehicle Data'!C$6*'Vehicle Data'!D$21*9.81,IF(O15=0.9,'Vehicle Data'!C$6*9.81*'Vehicle Data'!D$20)) -> 86.1318 | AL15: =AJ15+AK15+Q15 -> 119.43165 | AN15: =IF(AG15>0,AG15*'Vehicle Data'!C$6) -> 203.53457 | AO15: =AN15+AL15 -> 322.96621 | AP15: =AO15*'Vehicle Data'!F$3 -> 82.550164 | AQ15: =IF(AE15='Vehicle Data'!I$15,AP15/'Vehicle Data'!G$15,IF(AE15='Vehicle Data'!I$16,AP15/'Vehicle Data'!G$16,IF(AE15='Vehicle Data'!I$14,Data!AP15/'Vehicle Data'!G26))) -> 15.239808 | AR15: =IF(Z15<'Vehicle Data'!C$16, Z15*'Vehicle Data'!F$7*'Vehicle Data'!G$14,IF(Z15<'Vehicle Data'!C$15,Z15*'Vehicle Data'!F$7*'Vehicle Data'!G$15,IF(Z15>'Vehicle Data'!C$15,Z15*'Vehicle Data'!F$7*'Vehicle Data'!G$16))) -> 82.807867 | AS15: =AR15*60 -> 4968.472 | AT15: =ROUND(AQ15,0) -> 15 | AU15: =MROUND(AS15,500) -> 5000 | AW15: =VLOOKUP(AT15,BSFC!A$64:A$82,1,FALSE) -> 15 | AX15: {=_xlfn.XLOOKUP(AT15,BSFC!A$64:A$82,,-1,_xlfn.XLOOKUP(Data!AU15,BSFC!C$63:Q$63,BSFC!B$64:Q$82,,-1))} -> #VALUE! | AY15: =HLOOKUP(AU15,BSFC!F$63:Q$63,1) -> 5000 | AZ15: =MATCH(AT15,BSFC!A$64:A$83,0) -> 8 | BA15: =MATCH(AU15,BSFC!C$63:Q$63,0) -> 10 | BB15: {=INDEX(BSFC!C$64:Q$82,Data!AZ15,Data!BA15)} -> 705.8 | BC15: =0.5*'Vehicle Data'!C$6*Data!Z15^2 -> 19889.297 | BD15: =ABS(AQ16*(AS16/9.588))/1000 -> 7.9626769 | BE15: =BB15*BD15 -> 5620.0574 | BF15: =(BE15/3600)*AF15 -> 0.22189058 | BG15: =BG14+BF15 -> 2.7081861 | BH15: =(AQ16*AR16) -> 1272.4358 | BI15: =BM$9 -> 6871.6622 | BK15: Total Energy (Avg Power) | BM15: =SUM(BV3:BV533) -> 1263510.6 | BN15: At the same time our generator puts | BO15: =BH15*AF16 -> 179.80802 | BP15: =BP14+BO15 -> 2862.8327 | BQ15: =IF(BO15>0,BQ14+BO15,IF(BO15<=0,BQ14)) -> 2862.8327 | BR15: =(BM$9*AF16)+BR14 -> 13111.111 | BS15: =IF(BO15>0,BO15) -> 179.80802 | BT15: =IF(BH15>=0,BH15, IF(BH15<0,0)) -> 1272.4358 | BU15: =BI15*AF16 -> 971.03522 | BV15: =BM$9*AF16 -> 971.03522 | BW15: =BN$9 -> 455.4 | BX15: =BW15*BI15 -> 3129355 | BY15: =((BX15/3600)*AF16)/1000 -> 0.12283596 | BZ15: =AH15 -> 1.7666869 | CB15: =BU15-BS15 -> 791.22721 | CC15: =CB15/(BZ15-BZ14) -> 5566.7355 | CD15: =CB15+CD14 -> 9516.3376
D16: =ASIN((N16)/(G17-G16)) -> 0 | E16: 8.9017032 | F16: =IF(K16<6,1,IF(Data!K16<9,2,IF(K16>9,3))) -> 3 | G16: 734.88723 | H16: 211.56667 | I16: 29.318394 | J16: =(I17-I16)/(H17-H16) -> 3.1817079 | K16: =I16/2.5 -> 11.727358 | L16: =(K17-K16)/(H17-H16) -> 1.2726832 | M16: =2*E16 -> 17.803406 | N16: =E17-E16 -> 0 | O16: =IF(L16<'Vehicle Data'!F$21,'Vehicle Data'!C$21,IF(L16>'Vehicle Data'!C$21,'Vehicle Data'!C$20)) -> 0.6 | P16: =('Vehicle Data'!C$6*9.81*'Vehicle Data'!C$5*SIN(D16))/'Vehicle Data'!C$9 -> 0 | Q16: ='Vehicle Data'!C$6*9.81*SIN(D16) -> 0 | R16: =G15 -> 733.52558 | S16: =IF(Data!O16=0.6,'Vehicle Data'!E$21,IF(Data!O16 = 0.9,'Vehicle Data'!E$20))+(P16*O16) -> 1550.3724 | T16: =IF(F16=3,'Vehicle Data'!H$16,IF(F16=2,'Vehicle Data'!H$15,IF(F16 = 1,'Vehicle Data'!G$14))) -> 466.23005 | U16: =R16-R$2 -> 17.387096 | V16: s | W16: a | X16: =IF(V16="S",'Vehicle Data'!C$14,IF(Data!V16 = "T1",'Vehicle Data'!P$2,IF(Data!V16="T2",'Vehicle Data'!P$3))) -> 13.4112 | Z16: =SQRT(Z15^2+2*AE15*(U16-U15)) -> 9.5845376 | AB16: =IF(AA16=1,'Vehicle Data'!I$14,IF(AA16=2,'Vehicle Data'!I$15,IF(AA16=3,'Vehicle Data'!I$16))) -> FALSE | AC16: =IF(Z16<'Vehicle Data'!C$16,'Vehicle Data'!I$15,IF(Z16<'Vehicle Data'!C$15,'Vehicle Data'!I$15,IF(Z15>'Vehicle Data'!C$15,'Vehicle Data'!I$16))) -> 0.46202745 | AD16: =IF(O16=0.6,'Vehicle Data'!F$21,IF(O16=0.9,'Vehicle Data'!F$20)) -> 3.5316 | AE16: =IF(W16="a",AC16,IF(W16="b",AD16*-1)) -> 0.46202745 | AF16: =(U16-U15)/Z16 -> 0.14131009 | AG16: =(Z16-Z15)/AF16 -> 0.46361191 | AH16: =AH15+AF16 -> 1.907997 | AJ16: =(Z16^2)*'Vehicle Data'!C$31 -> 33.759785 | AK16: =IF(O16=0.6,'Vehicle Data'!C$6*'Vehicle Data'!D$21*9.81,IF(O16=0.9,'Vehicle Data'!C$6*9.81*'Vehicle Data'!D$20)) -> 86.1318 | AL16: =AJ16+AK16+Q16 -> 119.89159 | AN16: =IF(AG16>0,AG16*'Vehicle Data'!C$6) -> 203.52563 | AO16: =AN16+AL16 -> 323.41722 | AP16: =AO16*'Vehicle Data'!F$3 -> 82.66544 | AQ16: =IF(AE16='Vehicle Data'!I$15,AP16/'Vehicle Data'!G$15,IF(AE16='Vehicle Data'!I$16,AP16/'Vehicle Data'!G$16,IF(AE16='Vehicle Data'!I$14,Data!AP16/'Vehicle Data'!G27))) -> 15.26109 | AR16: =IF(Z16<'Vehicle Data'!C$16, Z16*'Vehicle Data'!F$7*'Vehicle Data'!G$14,IF(Z16<'Vehicle Data'!C$15,Z16*'Vehicle Data'!F$7*'Vehicle Data'!G$15,IF(Z16>'Vehicle Data'!C$15,Z16*'Vehicle Data'!F$7*'Vehicle Data'!G$16))) -> 83.377778 | AS16: =AR16*60 -> 5002.6667 | AT16: =ROUND(AQ16,0) -> 15 | AU16: =MROUND(AS16,500) -> 5000 | AW16: =VLOOKUP(AT16,BSFC!A$64:A$82,1,FALSE) -> 15 | AX16: {=_xlfn.XLOOKUP(AT16,BSFC!A$64:A$82,,-1,_xlfn.XLOOKUP(Data!AU16,BSFC!C$63:Q$63,BSFC!B$64:Q$82,,-1))} -> #VALUE! | AY16: =HLOOKUP(AU16,BSFC!F$63:Q$63,1) -> 5000 | AZ16: =MATCH(AT16,BSFC!A$64:A$83,0) -> 8 | BA16: =MATCH(AU16,BSFC!C$63:Q$63,0) -> 10 | BB16: {=INDEX(BSFC!C$64:Q$82,Data!AZ16,Data!BA16)} -> 705.8 | BC16: =0.5*'Vehicle Data'!C$6*Data!Z16^2 -> 20164.008 | BD16: =ABS(AQ17*(AS17/9.588))/1000 -> 8.028343 | BE16: =BB16*BD16 -> 5666.4045 | BF16: =(BE16/3600)*AF16 -> 0.22242226 | BG16: =BG15+BF16 -> 2.9306083 | BH16: =(AQ17*AR17) -> 1282.9292 | BI16: =BM$9 -> 6871.6622 | BN16: some in our bucket. | BO16: =BH16*AF17 -> 181.02749 | BP16: =BP15+BO16 -> 3043.8602 | BQ16: =IF(BO16>0,BQ15+BO16,IF(BO16<=0,BQ15)) -> 3043.8602 | BR16: =(BM$9*AF17)+BR15 -> 14080.735 | BS16: =IF(BO16>0,BO16) -> 181.02749 | BT16: =IF(BH16>=0,BH16, IF(BH16<0,0)) -> 1282.9292 | BU16: =BI16*AF17 -> 969.62461 | BV16: =BM$9*AF17 -> 969.62461 | BW16: =BN$9 -> 455.4 | BX16: =BW16*BI16 -> 3129355 | BY16: =((BX16/3600)*AF17)/1000 -> 0.12265751 | BZ16: =AH16 -> 1.907997 | CB16: =BU16-BS16 -> 788.59713 | CC16: =CB16/(BZ16-BZ15) -> 5580.6143 | CD16: =CB16+CD15 -> 10304.935
D17: =ASIN((N17)/(G18-G17)) -> 0 | E17: 8.9017032 | F17: =IF(K17<6,1,IF(Data!K17<9,2,IF(K17>9,3))) -> 3 | G17: 736.25117 | H17: 211.61666 | I17: 29.47748 | J17: =(I18-I17)/(H18-H17) -> 3.0343313 | K17: =I17/2.5 -> 11.790992 | L17: =(K18-K17)/(H18-H17) -> 1.2137325 | M17: =2*E17 -> 17.803406 | N17: =E18-E17 -> 0 | O17: =IF(L17<'Vehicle Data'!F$21,'Vehicle Data'!C$21,IF(L17>'Vehicle Data'!C$21,'Vehicle Data'!C$20)) -> 0.6 | P17: =('Vehicle Data'!C$6*9.81*'Vehicle Data'!C$5*SIN(D17))/'Vehicle Data'!C$9 -> 0 | Q17: ='Vehicle Data'!C$6*9.81*SIN(D17) -> 0 | R17: =G16 -> 734.88723 | S17: =IF(Data!O17=0.6,'Vehicle Data'!E$21,IF(Data!O17 = 0.9,'Vehicle Data'!E$20))+(P17*O17) -> 1550.3724 | T17: =IF(F17=3,'Vehicle Data'!H$16,IF(F17=2,'Vehicle Data'!H$15,IF(F17 = 1,'Vehicle Data'!G$14))) -> 466.23005 | U17: =R17-R$2 -> 18.748751 | V17: s | W17: a | X17: =IF(V17="S",'Vehicle Data'!C$14,IF(Data!V17 = "T1",'Vehicle Data'!P$2,IF(Data!V17="T2",'Vehicle Data'!P$3))) -> 13.4112 | Z17: =SQRT(Z16^2+2*AE16*(U17-U16)) -> 9.6499537 | AB17: =IF(AA17=1,'Vehicle Data'!I$14,IF(AA17=2,'Vehicle Data'!I$15,IF(AA17=3,'Vehicle Data'!I$16))) -> FALSE | AC17: =IF(Z17<'Vehicle Data'!C$16,'Vehicle Data'!I$15,IF(Z17<'Vehicle Data'!C$15,'Vehicle Data'!I$15,IF(Z16>'Vehicle Data'!C$15,'Vehicle Data'!I$16))) -> 0.46202745 | AD17: =IF(O17=0.6,'Vehicle Data'!F$21,IF(O17=0.9,'Vehicle Data'!F$20)) -> 3.5316 | AE17: =IF(W17="a",AC17,IF(W17="b",AD17*-1)) -> 0.46202745 | AF17: =(U17-U16)/Z17 -> 0.14110481 | AG17: =(Z17-Z16)/AF17 -> 0.4635988 | AH17: =AH16+AF17 -> 2.0491018 | AJ17: =(Z17^2)*'Vehicle Data'!C$31 -> 34.22219 | AK17: =IF(O17=0.6,'Vehicle Data'!C$6*'Vehicle Data'!D$21*9.81,IF(O17=0.9,'Vehicle Data'!C$6*9.81*'Vehicle Data'!D$20)) -> 86.1318 | AL17: =AJ17+AK17+Q17 -> 120.35399 | AN17: =IF(AG17>0,AG17*'Vehicle Data'!C$6) -> 203.51987 | AO17: =AN17+AL17 -> 323.87386 | AP17: =AO17*'Vehicle Data'!F$3 -> 82.782159 | AQ17: =IF(AE17='Vehicle Data'!I$15,AP17/'Vehicle Data'!G$15,IF(AE17='Vehicle Data'!I$16,AP17/'Vehicle Data'!G$16,IF(AE17='Vehicle Data'!I$14,Data!AP17/'Vehicle Data'!G28))) -> 15.282638 | AR17: =IF(Z17<'Vehicle Data'!C$16, Z17*'Vehicle Data'!F$7*'Vehicle Data'!G$14,IF(Z17<'Vehicle Data'!C$15,Z17*'Vehicle Data'!F$7*'Vehicle Data'!G$15,IF(Z17>'Vehicle Data'!C$15,Z17*'Vehicle Data'!F$7*'Vehicle Data'!G$16))) -> 83.946845 | AS17: =AR17*60 -> 5036.8107 | AT17: =ROUND(AQ17,0) -> 15 | AU17: =MROUND(AS17,500) -> 5000 | AW17: =VLOOKUP(AT17,BSFC!A$64:A$82,1,FALSE) -> 15 | AX17: {=_xlfn.XLOOKUP(AT17,BSFC!A$64:A$82,,-1,_xlfn.XLOOKUP(Data!AU17,BSFC!C$63:Q$63,BSFC!B$64:Q$82,,-1))} -> #VALUE! | AY17: =HLOOKUP(AU17,BSFC!F$63:Q$63,1) -> 5000 | AZ17: =MATCH(AT17,BSFC!A$64:A$83,0) -> 8 | BA17: =MATCH(AU17,BSFC!C$63:Q$63,0) -> 10 | BB17: {=INDEX(BSFC!C$64:Q$82,Data!AZ17,Data!BA17)} -> 705.8 | BC17: =0.5*'Vehicle Data'!C$6*Data!Z17^2 -> 20440.192 | BD17: =ABS(AQ18*(AS18/9.588))/1000 -> 8.0938461 | BE17: =BB17*BD17 -> 5712.6366 | BF17: =(BE17/3600)*AF17 -> 0.22391126 | BG17: =BG16+BF17 -> 3.1545196 | BH17: =(AQ18*AR18) -> 1293.3966 | BI17: =BM$9 -> 6871.6622 | BO17: =BH17*AF18 -> 181.5851 | BP17: =BP16+BO17 -> 3225.4453 | BQ17: =IF(BO17>0,BQ16+BO17,IF(BO17<=0,BQ16)) -> 3225.4453 | BR17: =(BM$9*AF18)+BR16 -> 15045.475 | BS17: =IF(BO17>0,BO17) -> 181.5851 | BT17: =IF(BH17>=0,BH17, IF(BH17<0,0)) -> 1293.3966 | BU17: =BI17*AF18 -> 964.74004 | BV17: =BM$9*AF18 -> 964.74004 | BW17: =BN$9 -> 455.4 | BX17: =BW17*BI17 -> 3129355 | BY17: =((BX17/3600)*AF18)/1000 -> 0.12203962 | BZ17: =AH17 -> 2.0491018 | CB17: =BU17-BS17 -> 783.15494 | CC17: =CB17/(BZ17-BZ16) -> 5550.1646 | CD17: =CB17+CD16 -> 11088.09
D18: =ASIN((N18)/(G19-G18)) -> 0 | E18: 8.9017032 | F18: =IF(K18<6,1,IF(Data!K18<9,2,IF(K18>9,3))) -> 3 | G18: 737.62163 | H18: 211.66666 | I18: 29.629196 | J18: =(I19-I18)/(H19-H18) -> 3.0295884 | K18: =I18/2.5 -> 11.851679 | L18: =(K19-K18)/(H19-H18) -> 1.2118354 | M18: =2*E18 -> 17.803406 | N18: =E19-E18 -> 0 | O18: =IF(L18<'Vehicle Data'!F$21,'Vehicle Data'!C$21,IF(L18>'Vehicle Data'!C$21,'Vehicle Data'!C$20)) -> 0.6 | P18: =('Vehicle Data'!C$6*9.81*'Vehicle Data'!C$5*SIN(D18))/'Vehicle Data'!C$9 -> 0 | Q18: ='Vehicle Data'!C$6*9.81*SIN(D18) -> 0 | R18: =G17 -> 736.25117 | S18: =IF(Data!O18=0.6,'Vehicle Data'!E$21,IF(Data!O18 = 0.9,'Vehicle Data'!E$20))+(P18*O18) -> 1550.3724 | T18: =IF(F18=3,'Vehicle Data'!H$16,IF(F18=2,'Vehicle Data'!H$15,IF(F18 = 1,'Vehicle Data'!G$14))) -> 466.23005 | U18: =R18-R$2 -> 20.112684 | V18: s | W18: a | X18: =IF(V18="S",'Vehicle Data'!C$14,IF(Data!V18 = "T1",'Vehicle Data'!P$2,IF(Data!V18="T2",'Vehicle Data'!P$3))) -> 13.4112 | Z18: =SQRT(Z17^2+2*AE17*(U18-U17)) -> 9.7150375 | AB18: =IF(AA18=1,'Vehicle Data'!I$14,IF(AA18=2,'Vehicle Data'!I$15,IF(AA18=3,'Vehicle Data'!I$16))) -> FALSE | AC18: =IF(Z18<'Vehicle Data'!C$16,'Vehicle Data'!I$15,IF(Z18<'Vehicle Data'!C$15,'Vehicle Data'!I$15,IF(Z17>'Vehicle Data'!C$15,'Vehicle Data'!I$16))) -> 0.46202745 | AD18: =IF(O18=0.6,'Vehicle Data'!F$21,IF(O18=0.9,'Vehicle Data'!F$20)) -> 3.5316 | AE18: =IF(W18="a",AC18,IF(W18="b",AD18*-1)) -> 0.46202745 | AF18: =(U18-U17)/Z18 -> 0.14039399 | AG18: =(Z18-Z17)/AF18 -> 0.46358028 | AH18: =AH17+AF18 -> 2.1894958 | AJ18: =(Z18^2)*'Vehicle Data'!C$31 -> 34.685368 | AK18: =IF(O18=0.6,'Vehicle Data'!C$6*'Vehicle Data'!D$21*9.81,IF(O18=0.9,'Vehicle Data'!C$6*9.81*'Vehicle Data'!D$20)) -> 86.1318 | AL18: =AJ18+AK18+Q18 -> 120.81717 | AN18: =IF(AG18>0,AG18*'Vehicle Data'!C$6) -> 203.51174 | AO18: =AN18+AL18 -> 324.32891 | AP18: =AO18*'Vehicle Data'!F$3 -> 82.89847 | AQ18: =IF(AE18='Vehicle Data'!I$15,AP18/'Vehicle Data'!G$15,IF(AE18='Vehicle Data'!I$16,AP18/'Vehicle Data'!G$16,IF(AE18='Vehicle Data'!I$14,Data!AP18/'Vehicle Data'!G29))) -> 15.30411 | AR18: =IF(Z18<'Vehicle Data'!C$16, Z18*'Vehicle Data'!F$7*'Vehicle Data'!G$14,IF(Z18<'Vehicle Data'!C$15,Z18*'Vehicle Data'!F$7*'Vehicle Data'!G$15,IF(Z18>'Vehicle Data'!C$15,Z18*'Vehicle Data'!F$7*'Vehicle Data'!G$16))) -> 84.513023 | AS18: =AR18*60 -> 5070.7814 | AT18: =ROUND(AQ18,0) -> 15 | AU18: =MROUND(AS18,500) -> 5000 | AW18: =VLOOKUP(AT18,BSFC!A$64:A$82,1,FALSE) -> 15 | AX18: {=_xlfn.XLOOKUP(AT18,BSFC!A$64:A$82,,-1,_xlfn.XLOOKUP(Data!AU18,BSFC!C$63:Q$63,BSFC!B$64:Q$82,,-1))} -> #VALUE! | AY18: =HLOOKUP(AU18,BSFC!F$63:Q$63,1) -> 5000 | AZ18: =MATCH(AT18,BSFC!A$64:A$83,0) -> 8 | BA18: =MATCH(AU18,BSFC!C$63:Q$63,0) -> 10 | BB18: {=INDEX(BSFC!C$64:Q$82,Data!AZ18,Data!BA18)} -> 705.8 | BC18: =0.5*'Vehicle Data'!C$6*Data!Z18^2 -> 20716.839 | BD18: =ABS(AQ19*(AS19/9.588))/1000 -> 8.1595102 | BE18: =BB18*BD18 -> 5758.9823 | BF18: =(BE18/3600)*AF18 -> 0.22459069 | BG18: =BG17+BF18 -> 3.3791103 | BH18: =(AQ19*AR19) -> 1303.8897 | BI18: =BM$9 -> 6871.6622 | BK18: Total energy | BL18: =SUM(BO3:BO533) -> 937350.73 | BO18: =BH18*AF19 -> 182.71251 | BP18: =BP17+BO18 -> 3408.1578 | BQ18: =IF(BO18>0,BQ17+BO18,IF(BO18<=0,BQ17)) -> 3408.1578 | BR18: =(BM$9*AF19)+BR17 -> 16008.393 | BS18: =IF(BO18>0,BO18) -> 182.71251 | BT18: =IF(BH18>=0,BH18, IF(BH18<0,0)) -> 1303.8897 | BU18: =BI18*AF19 -> 962.91783 | BV18: =BM$9*AF19 -> 962.91783 | BW18: =BN$9 -> 455.4 | BX18: =BW18*BI18 -> 3129355 | BY18: =((BX18/3600)*AF19)/1000 -> 0.1218091 | BZ18: =AH18 -> 2.1894958 | CB18: =BU18-BS18 -> 780.20531 | CC18: =CB18/(BZ18-BZ17) -> 5557.256 | CD18: =CB18+CD17 -> 11868.295
D19: =ASIN((N19)/(G20-G19)) -> 0 | E19: 8.9017032 | F19: =IF(K19<6,1,IF(Data!K19<9,2,IF(K19>9,3))) -> 3 | G19: 738.99514 | H19: 211.71666 | I19: 29.780676 | J19: =(I20-I19)/(H20-H19) -> 3.0401828 | K19: =I19/2.5 -> 11.91227 | L19: =(K20-K19)/(H20-H19) -> 1.2160731 | M19: =2*E19 -> 17.803406 | N19: =E20-E19 -> 0 | O19: =IF(L19<'Vehicle Data'!F$21,'Vehicle Data'!C$21,IF(L19>'Vehicle Data'!C$21,'Vehicle Data'!C$20)) -> 0.6 | P19: =('Vehicle Data'!C$6*9.81*'Vehicle Data'!C$5*SIN(D19))/'Vehicle Data'!C$9 -> 0 | Q19: ='Vehicle Data'!C$6*9.81*SIN(D19) -> 0 | R19: =G18 -> 737.62163 | S19: =IF(Data!O19=0.6,'Vehicle Data'!E$21,IF(Data!O19 = 0.9,'Vehicle Data'!E$20))+(P19*O19) -> 1550.3724 | T19: =IF(F19=3,'Vehicle Data'!H$16,IF(F19=2,'Vehicle Data'!H$15,IF(F19 = 1,'Vehicle Data'!G$14))) -> 466.23005 | U19: =R19-R$2 -> 21.483143 | V19: s | W19: a | X19: =IF(V19="S",'Vehicle Data'!C$14,IF(Data!V19 = "T1",'Vehicle Data'!P$2,IF(Data!V19="T2",'Vehicle Data'!P$3))) -> 13.4112 | Z19: =SQRT(Z18^2+2*AE18*(U19-U18)) -> 9.7799966 | AB19: =IF(AA19=1,'Vehicle Data'!I$14,IF(AA19=2,'Vehicle Data'!I$15,IF(AA19=3,'Vehicle Data'!I$16))) -> FALSE | AC19: =IF(Z19<'Vehicle Data'!C$16,'Vehicle Data'!I$15,IF(Z19<'Vehicle Data'!C$15,'Vehicle Data'!I$15,IF(Z18>'Vehicle Data'!C$15,'Vehicle Data'!I$16))) -> 0.46202745 | AD19: =IF(O19=0.6,'Vehicle Data'!F$21,IF(O19=0.9,'Vehicle Data'!F$20)) -> 3.5316 | AE19: =IF(W19="a",AC19,IF(W19="b",AD19*-1)) -> 0.46202745 | AF19: =(U19-U18)/Z19 -> 0.14012881 | AG19: =(Z19-Z18)/AF19 -> 0.46356697 | AH19: =AH18+AF19 -> 2.3296246 | AJ19: =(Z19^2)*'Vehicle Data'!C$31 -> 35.150763 | AK19: =IF(O19=0.6,'Vehicle Data'!C$6*'Vehicle Data'!D$21*9.81,IF(O19=0.9,'Vehicle Data'!C$6*9.81*'Vehicle Data'!D$20)) -> 86.1318 | AL19: =AJ19+AK19+Q19 -> 121.28256 | AN19: =IF(AG19>0,AG19*'Vehicle Data'!C$6) -> 203.5059 | AO19: =AN19+AL19 -> 324.78846 | AP19: =AO19*'Vehicle Data'!F$3 -> 83.015931 | AQ19: =IF(AE19='Vehicle Data'!I$15,AP19/'Vehicle Data'!G$15,IF(AE19='Vehicle Data'!I$16,AP19/'Vehicle Data'!G$16,IF(AE19='Vehicle Data'!I$14,Data!AP19/'Vehicle Data'!G30))) -> 15.325795 | AR19: =IF(Z19<'Vehicle Data'!C$16, Z19*'Vehicle Data'!F$7*'Vehicle Data'!G$14,IF(Z19<'Vehicle Data'!C$15,Z19*'Vehicle Data'!F$7*'Vehicle Data'!G$15,IF(Z19>'Vehicle Data'!C$15,Z19*'Vehicle Data'!F$7*'Vehicle Data'!G$16))) -> 85.078114 | AS19: =AR19*60 -> 5104.6869 | AT19: =ROUND(AQ19,0) -> 15 | AU19: =MROUND(AS19,500) -> 5000 | AW19: =VLOOKUP(AT19,BSFC!A$64:A$82,1,FALSE) -> 15 | AX19: {=_xlfn.XLOOKUP(AT19,BSFC!A$64:A$82,,-1,_xlfn.XLOOKUP(Data!AU19,BSFC!C$63:Q$63,BSFC!B$64:Q$82,,-1))} -> #VALUE! | AY19: =HLOOKUP(AU19,BSFC!F$63:Q$63,1) -> 5000 | AZ19: =MATCH(AT19,BSFC!A$64:A$83,0) -> 8 | BA19: =MATCH(AU19,BSFC!C$63:Q$63,0) -> 10 | BB19: {=INDEX(BSFC!C$64:Q$82,Data!AZ19,Data!BA19)} -> 705.8 | BC19: =0.5*'Vehicle Data'!C$6*Data!Z19^2 -> 20994.809 | BD19: =ABS(AQ20*(AS20/9.588))/1000 -> 8.2250761 | BE19: =BB19*BD19 -> 5805.2587 | BF19: =(BE19/3600)*AF19 -> 0.22596777 | BG19: =BG18+BF19 -> 3.6050781 | BH19: =(AQ20*AR20) -> 1314.3672 | BI19: =BM$9 -> 6871.6622 | BK19: Delta, average vs insta | BL19: =BL13-BL18 -> 326159.86 | BO19: =BH19*AF20 -> 183.37883 | BP19: =BP18+BO19 -> 3591.5367 | BQ19: =IF(BO19>0,BQ18+BO19,IF(BO19<=0,BQ18)) -> 3591.5367 | BR19: =(BM$9*AF20)+BR18 -> 16967.119 | BS19: =IF(BO19>0,BO19) -> 183.37883 | BT19: =IF(BH19>=0,BH19, IF(BH19<0,0)) -> 1314.3672 | BU19: =BI19*AF20 -> 958.72553 | BV19: =BM$9*AF20 -> 958.72553 | BW19: =BN$9 -> 455.4 | BX19: =BW19*BI19 -> 3129355 | BY19: =((BX19/3600)*AF20)/1000 -> 0.12127878 | BZ19: =AH19 -> 2.3296246 | CB19: =BU19-BS19 -> 775.3467 | CC19: =CB19/(BZ19-BZ18) -> 5533.1 | CD19: =CB19+CD18 -> 12643.642
D20: =ASIN((N20)/(G21-G20)) -> 0 | E20: 8.9017032 | F20: =IF(K20<6,1,IF(Data!K20<9,2,IF(K20>9,3))) -> 3 | G20: 740.37425 | H20: 211.76666 | I20: 29.932685 | J20: =(I21-I20)/(H21-H20) -> 3.0797119 | K20: =I20/2.5 -> 11.973074 | L20: =(K21-K20)/(H21-H20) -> 1.2318848 | M20: =2*E20 -> 17.803406 | N20: 0 | O20: =IF(L20<'Vehicle Data'!F$21,'Vehicle Data'!C$21,IF(L20>'Vehicle Data'!C$21,'Vehicle Data'!C$20)) -> 0.6 | P20: =('Vehicle Data'!C$6*9.81*'Vehicle Data'!C$5*SIN(D20))/'Vehicle Data'!C$9 -> 0 | Q20: ='Vehicle Data'!C$6*9.81*SIN(D20) -> 0 | R20: =G19 -> 738.99514 | S20: =IF(Data!O20=0.6,'Vehicle Data'!E$21,IF(Data!O20 = 0.9,'Vehicle Data'!E$20))+(P20*O20) -> 1550.3724 | T20: =IF(F20=3,'Vehicle Data'!H$16,IF(F20=2,'Vehicle Data'!H$15,IF(F20 = 1,'Vehicle Data'!G$14))) -> 466.23005 | U20: =R20-R$2 -> 22.856659 | V20: s | W20: a | X20: =IF(V20="S",'Vehicle Data'!C$14,IF(Data!V20 = "T1",'Vehicle Data'!P$2,IF(Data!V20="T2",'Vehicle Data'!P$3))) -> 13.4112 | Z20: =SQRT(Z19^2+2*AE19*(U20-U19)) -> 9.8446706 | AB20: =IF(AA20=1,'Vehicle Data'!I$14,IF(AA20=2,'Vehicle Data'!I$15,IF(AA20=3,'Vehicle Data'!I$16))) -> FALSE | AC20: =IF(Z20<'Vehicle Data'!C$16,'Vehicle Data'!I$15,IF(Z20<'Vehicle Data'!C$15,'Vehicle Data'!I$15,IF(Z19>'Vehicle Data'!C$15,'Vehicle Data'!I$16))) -> 0.46202745 | AD20: =IF(O20=0.6,'Vehicle Data'!F$21,IF(O20=0.9,'Vehicle Data'!F$20)) -> 3.5316 | AE20: =IF(W20="a",AC20,IF(W20="b",AD20*-1)) -> 0.46202745 | AF20: =(U20-U19)/Z20 -> 0.13951872 | AG20: =(Z20-Z19)/AF20 -> 0.46355009 | AH20: =AH19+AF20 -> 2.4691433 | AJ20: =(Z20^2)*'Vehicle Data'!C$31 -> 35.617195 | AK20: =IF(O20=0.6,'Vehicle Data'!C$6*'Vehicle Data'!D$21*9.81,IF(O20=0.9,'Vehicle Data'!C$6*9.81*'Vehicle Data'!D$20)) -> 86.1318 | AL20: =AJ20+AK20+Q20 -> 121.749 | AN20: =IF(AG20>0,AG20*'Vehicle Data'!C$6) -> 203.49849 | AO20: =AN20+AL20 -> 325.24748 | AP20: =AO20*'Vehicle Data'!F$3 -> 83.133257 | AQ20: =IF(AE20='Vehicle Data'!I$15,AP20/'Vehicle Data'!G$15,IF(AE20='Vehicle Data'!I$16,AP20/'Vehicle Data'!G$16,IF(AE20='Vehicle Data'!I$14,Data!AP20/'Vehicle Data'!G31))) -> 15.347455 | AR20: =IF(Z20<'Vehicle Data'!C$16, Z20*'Vehicle Data'!F$7*'Vehicle Data'!G$14,IF(Z20<'Vehicle Data'!C$15,Z20*'Vehicle Data'!F$7*'Vehicle Data'!G$15,IF(Z20>'Vehicle Data'!C$15,Z20*'Vehicle Data'!F$7*'Vehicle Data'!G$16))) -> 85.640725 | AS20: =AR20*60 -> 5138.4435 | AT20: =ROUND(AQ20,0) -> 15 | AU20: =MROUND(AS20,500) -> 5000 | AW20: =VLOOKUP(AT20,BSFC!A$64:A$82,1,FALSE) -> 15 | AX20: {=_xlfn.XLOOKUP(AT20,BSFC!A$64:A$82,,-1,_xlfn.XLOOKUP(Data!AU20,BSFC!C$63:Q$63,BSFC!B$64:Q$82,,-1))} -> #VALUE! | AY20: =HLOOKUP(AU20,BSFC!F$63:Q$63,1) -> 5000 | AZ20: =MATCH(AT20,BSFC!A$64:A$83,0) -> 8 | BA20: =MATCH(AU20,BSFC!C$63:Q$63,0) -> 10 | BB20: {=INDEX(BSFC!C$64:Q$82,Data!AZ20,Data!BA20)} -> 705.8 | BC20: =0.5*'Vehicle Data'!C$6*Data!Z20^2 -> 21273.4 | BD20: =ABS(AQ21*(AS21/9.588))/1000 -> 8.2907432 | BE20: =BB20*BD20 -> 5851.6066 | BF20: =(BE20/3600)*AF20 -> 0.22678019 | BG20: =BG19+BF20 -> 3.8318582 | BH20: =(AQ21*AR21) -> 1324.8608 | BI20: =BM$9 -> 6871.6622 | BO20: =BH20*AF21 -> 184.38767 | BP20: =BP19+BO20 -> 3775.9243 | BQ20: =IF(BO20>0,BQ19+BO20,IF(BO20<=0,BQ19)) -> 3775.9243 | BR20: =(BM$9*AF21)+BR19 -> 17923.483 | BS20: =IF(BO20>0,BO20) -> 184.38767 | BT20: =IF(BH20>=0,BH20, IF(BH20<0,0)) -> 1324.8608 | BU20: =BI20*AF21 -> 956.3645 | BV20: =BM$9*AF21 -> 956.3645 | BW20: =BN$9 -> 455.4 | BX20: =BW20*BI20 -> 3129355 | BY20: =((BX20/3600)*AF21)/1000 -> 0.12098011 | BZ20: =AH20 -> 2.4691433 | CB20: =BU20-BS20 -> 771.97683 | CC20: =CB20/(BZ20-BZ19) -> 5533.1415 | CD20: =CB20+CD19 -> 13415.619
D21: =ASIN((N21)/(G22-G21)) -> 0 | E21: 9.0017016 | F21: =IF(K21<6,1,IF(Data!K21<9,2,IF(K21>9,3))) -> 3 | G21: 741.7576 | H21: 211.81667 | I21: 30.086671 | J21: =(I22-I21)/(H22-H21) -> 3.0029276 | K21: =I21/2.5 -> 12.034668 | L21: =(K22-K21)/(H22-H21) -> 1.201171 | M21: =2*E21 -> 18.003403 | N21: =E22-E21 -> 0 | O21: =IF(L21<'Vehicle Data'!F$21,'Vehicle Data'!C$21,IF(L21>'Vehicle Data'!C$21,'Vehicle Data'!C$20)) -> 0.6 | P21: =('Vehicle Data'!C$6*9.81*'Vehicle Data'!C$5*SIN(D21))/'Vehicle Data'!C$9 -> 0 | Q21: ='Vehicle Data'!C$6*9.81*SIN(D21) -> 0 | R21: =G20 -> 740.37425 | S21: =IF(Data!O21=0.6,'Vehicle Data'!E$21,IF(Data!O21 = 0.9,'Vehicle Data'!E$20))+(P21*O21) -> 1550.3724 | T21: =IF(F21=3,'Vehicle Data'!H$16,IF(F21=2,'Vehicle Data'!H$15,IF(F21 = 1,'Vehicle Data'!G$14))) -> 466.23005 | U21: =R21-R$2 -> 24.235771 | V21: s | W21: a | X21: =IF(V21="S",'Vehicle Data'!C$14,IF(Data!V21 = "T1",'Vehicle Data'!P$2,IF(Data!V21="T2",'Vehicle Data'!P$3))) -> 13.4112 | Z21: =SQRT(Z20^2+2*AE20*(U21-U20)) -> 9.9091833 | AB21: =IF(AA21=1,'Vehicle Data'!I$14,IF(AA21=2,'Vehicle Data'!I$15,IF(AA21=3,'Vehicle Data'!I$16))) -> FALSE | AC21: =IF(Z21<'Vehicle Data'!C$16,'Vehicle Data'!I$15,IF(Z21<'Vehicle Data'!C$15,'Vehicle Data'!I$15,IF(Z20>'Vehicle Data'!C$15,'Vehicle Data'!I$16))) -> 0.46202745 | AD21: =IF(O21=0.6,'Vehicle Data'!F$21,IF(O21=0.9,'Vehicle Data'!F$20)) -> 3.5316 | AE21: =IF(W21="a",AC21,IF(W21="b",AD21*-1)) -> 0.46202745 | AF21: =(U21-U20)/Z21 -> 0.13917513 | AG21: =(Z21-Z20)/AF21 -> 0.46353636 | AH21: =AH20+AF21 -> 2.6083185 | AJ21: =(Z21^2)*'Vehicle Data'!C$31 -> 36.085528 | AK21: =IF(O21=0.6,'Vehicle Data'!C$6*'Vehicle Data'!D$21*9.81,IF(O21=0.9,'Vehicle Data'!C$6*9.81*'Vehicle Data'!D$20)) -> 86.1318 | AL21: =AJ21+AK21+Q21 -> 122.21733 | AN21: =IF(AG21>0,AG21*'Vehicle Data'!C$6) -> 203.49246 | AO21: =AN21+AL21 -> 325.70979 | AP21: =AO21*'Vehicle Data'!F$3 -> 83.251422 | AQ21: =IF(AE21='Vehicle Data'!I$15,AP21/'Vehicle Data'!G$15,IF(AE21='Vehicle Data'!I$16,AP21/'Vehicle Data'!G$16,IF(AE21='Vehicle Data'!I$14,Data!AP21/'Vehicle Data'!G32))) -> 15.36927 | AR21: =IF(Z21<'Vehicle Data'!C$16, Z21*'Vehicle Data'!F$7*'Vehicle Data'!G$14,IF(Z21<'Vehicle Data'!C$15,Z21*'Vehicle Data'!F$7*'Vehicle Data'!G$15,IF(Z21>'Vehicle Data'!C$15,Z21*'Vehicle Data'!F$7*'Vehicle Data'!G$16))) -> 86.201934 | AS21: =AR21*60 -> 5172.1161 | AT21: =ROUND(AQ21,0) -> 15 | AU21: =MROUND(AS21,500) -> 5000 | AW21: =VLOOKUP(AT21,BSFC!A$64:A$82,1,FALSE) -> 15 | AX21: {=_xlfn.XLOOKUP(AT21,BSFC!A$64:A$82,,-1,_xlfn.XLOOKUP(Data!AU21,BSFC!C$63:Q$63,BSFC!B$64:Q$82,,-1))} -> #VALUE! | AY21: =HLOOKUP(AU21,BSFC!F$63:Q$63,1) -> 5000 | AZ21: =MATCH(AT21,BSFC!A$64:A$83,0) -> 8 | BA21: =MATCH(AU21,BSFC!C$63:Q$63,0) -> 10 | BB21: {=INDEX(BSFC!C$64:Q$82,Data!AZ21,Data!BA21)} -> 705.8 | BC21: =0.5*'Vehicle Data'!C$6*Data!Z21^2 -> 21553.125 | BD21: =ABS(AQ22*(AS22/9.588))/1000 -> 8.3564017 | BE21: =BB21*BD21 -> 5897.9483 | BF21: =(BE21/3600)*AF21 -> 0.22801326 | BG21: =BG20+BF21 -> 4.0598715 | BH21: =(AQ22*AR22) -> 1335.353 | BI21: =BM$9 -> 6871.6622 | BO21: =BH21*AF22 -> 185.21644 | BP21: =BP20+BO21 -> 3961.1408 | BQ21: =IF(BO21>0,BQ20+BO21,IF(BO21<=0,BQ20)) -> 3961.1408 | BR21: =(BM$9*AF22)+BR20 -> 18876.598 | BS21: =IF(BO21>0,BO21) -> 185.21644 | BT21: =IF(BH21>=0,BH21, IF(BH21<0,0)) -> 1335.353 | BU21: =BI21*AF22 -> 953.11489 | BV21: =BM$9*AF22 -> 953.11489 | BW21: =BN$9 -> 455.4 | BX21: =BW21*BI21 -> 3129355 | BY21: =((BX21/3600)*AF22)/1000 -> 0.12056903 | BZ21: =AH21 -> 2.6083185 | CB21: =BU21-BS21 -> 767.89845 | CC21: =CB21/(BZ21-BZ20) -> 5517.4975 | CD21: =CB21+CD20 -> 14183.517
D22: =ASIN((N22)/(G23-G22)) -> 0 | E22: 9.0017016 | F22: =IF(K22<6,1,IF(Data!K22<9,2,IF(K22>9,3))) -> 3 | G22: 743.14531 | H22: 211.86666 | I22: 30.236817 | J22: =(I23-I22)/(H23-H22) -> 2.9947266 | K22: =I22/2.5 -> 12.094727 | L22: =(K23-K22)/(H23-H22) -> 1.1978906 | M22: =2*E22 -> 18.003403 | N22: =E23-E22 -> 0 | O22: =IF(L22<'Vehicle Data'!F$21,'Vehicle Data'!C$21,IF(L22>'Vehicle Data'!C$21,'Vehicle Data'!C$20)) -> 0.6 | P22: =('Vehicle Data'!C$6*9.81*'Vehicle Data'!C$5*SIN(D22))/'Vehicle Data'!C$9 -> 0 | Q22: ='Vehicle Data'!C$6*9.81*SIN(D22) -> 0 | R22: =G21 -> 741.7576 | S22: =IF(Data!O22=0.6,'Vehicle Data'!E$21,IF(Data!O22 = 0.9,'Vehicle Data'!E$20))+(P22*O22) -> 1550.3724 | T22: =IF(F22=3,'Vehicle Data'!H$16,IF(F22=2,'Vehicle Data'!H$15,IF(F22 = 1,'Vehicle Data'!G$14))) -> 466.23005 | U22: =R22-R$2 -> 25.619114 | V22: s | W22: a | X22: =IF(V22="S",'Vehicle Data'!C$14,IF(Data!V22 = "T1",'Vehicle Data'!P$2,IF(Data!V22="T2",'Vehicle Data'!P$3))) -> 13.4112 | Z22: =SQRT(Z21^2+2*AE21*(U22-U21)) -> 9.9734747 | AB22: =IF(AA22=1,'Vehicle Data'!I$14,IF(AA22=2,'Vehicle Data'!I$15,IF(AA22=3,'Vehicle Data'!I$16))) -> FALSE | AC22: =IF(Z22<'Vehicle Data'!C$16,'Vehicle Data'!I$15,IF(Z22<'Vehicle Data'!C$15,'Vehicle Data'!I$15,IF(Z21>'Vehicle Data'!C$15,'Vehicle Data'!I$16))) -> 0.46202745 | AD22: =IF(O22=0.6,'Vehicle Data'!F$21,IF(O22=0.9,'Vehicle Data'!F$20)) -> 3.5316 | AE22: =IF(W22="a",AC22,IF(W22="b",AD22*-1)) -> 0.46202745 | AF22: =(U22-U21)/Z22 -> 0.13870223 | AG22: =(Z22-Z21)/AF22 -> 0.46352144 | AH22: =AH21+AF22 -> 2.7470207 | AJ22: =(Z22^2)*'Vehicle Data'!C$31 -> 36.555298 | AK22: =IF(O22=0.6,'Vehicle Data'!C$6*'Vehicle Data'!D$21*9.81,IF(O22=0.9,'Vehicle Data'!C$6*9.81*'Vehicle Data'!D$20)) -> 86.1318 | AL22: =AJ22+AK22+Q22 -> 122.6871 | AN22: =IF(AG22>0,AG22*'Vehicle Data'!C$6) -> 203.48591 | AO22: =AN22+AL22 -> 326.17301 | AP22: =AO22*'Vehicle Data'!F$3 -> 83.369821 | AQ22: =IF(AE22='Vehicle Data'!I$15,AP22/'Vehicle Data'!G$15,IF(AE22='Vehicle Data'!I$16,AP22/'Vehicle Data'!G$16,IF(AE22='Vehicle Data'!I$14,Data!AP22/'Vehicle Data'!G33))) -> 15.391128 | AR22: =IF(Z22<'Vehicle Data'!C$16, Z22*'Vehicle Data'!F$7*'Vehicle Data'!G$14,IF(Z22<'Vehicle Data'!C$15,Z22*'Vehicle Data'!F$7*'Vehicle Data'!G$15,IF(Z22>'Vehicle Data'!C$15,Z22*'Vehicle Data'!F$7*'Vehicle Data'!G$16))) -> 86.761218 | AS22: =AR22*60 -> 5205.6731 | AT22: =ROUND(AQ22,0) -> 15 | AU22: =MROUND(AS22,500) -> 5000 | AW22: =VLOOKUP(AT22,BSFC!A$64:A$82,1,FALSE) -> 15 | AX22: {=_xlfn.XLOOKUP(AT22,BSFC!A$64:A$82,,-1,_xlfn.XLOOKUP(Data!AU22,BSFC!C$63:Q$63,BSFC!B$64:Q$82,,-1))} -> #VALUE! | AY22: =HLOOKUP(AU22,BSFC!F$63:Q$63,1) -> 5000 | AZ22: =MATCH(AT22,BSFC!A$64:A$83,0) -> 8 | BA22: =MATCH(AU22,BSFC!C$63:Q$63,0) -> 10 | BB22: {=INDEX(BSFC!C$64:Q$82,Data!AZ22,Data!BA22)} -> 705.8 | BC22: =0.5*'Vehicle Data'!C$6*Data!Z22^2 -> 21833.709 | BD22: =ABS(AQ23*(AS23/9.588))/1000 -> 8.42208 | BE22: =BB22*BD22 -> 5944.304 | BF22: =(BE22/3600)*AF22 -> 0.22902451 | BG22: =BG21+BF22 -> 4.288896 | BH22: =(AQ23*AR23) -> 1345.8484 | BI22: =BM$9 -> 6871.6622 | BO22: =BH22*AF23 -> 186.06648 | BP22: =BP21+BO22 -> 4147.2073 | BQ22: =IF(BO22>0,BQ21+BO22,IF(BO22<=0,BQ21)) -> 4147.2073 | BR22: =(BM$9*AF23)+BR21 -> 19826.621 | BS22: =IF(BO22>0,BO22) -> 186.06648 | BT22: =IF(BH22>=0,BH22, IF(BH22<0,0)) -> 1345.8484 | BU22: =BI22*AF23 -> 950.0223 | BV22: =BM$9*AF23 -> 950.0223 | BW22: =BN$9 -> 455.4 | BX22: =BW22*BI22 -> 3129355 | BY22: =((BX22/3600)*AF23)/1000 -> 0.12017782 | BZ22: =AH22 -> 2.7470207 | CB22: =BU22-BS22 -> 763.95583 | CC22: =CB22/(BZ22-BZ21) -> 5507.8841 | CD22: =CB22+CD21 -> 14947.473
D23: =ASIN((N23)/(G24-G23)) -> 0 | E23: 9.0017016 | F23: =IF(K23<6,1,IF(Data!K23<9,2,IF(K23>9,3))) -> 3 | G23: 744.55952 | H23: 211.91666 | I23: 30.386553 | J23: =(I24-I23)/(H24-H23) -> 2.9152161 | K23: =I23/2.5 -> 12.154621 | L23: =(K24-K23)/(H24-H23) -> 1.1660864 | M23: =2*E23 -> 18.003403 | N23: =E24-E23 -> 0 | O23: =IF(L23<'Vehicle Data'!F$21,'Vehicle Data'!C$21,IF(L23>'Vehicle Data'!C$21,'Vehicle Data'!C$20)) -> 0.6 | P23: =('Vehicle Data'!C$6*9.81*'Vehicle Data'!C$5*SIN(D23))/'Vehicle Data'!C$9 -> 0 | Q23: ='Vehicle Data'!C$6*9.81*SIN(D23) -> 0 | R23: =G22 -> 743.14531 | S23: =IF(Data!O23=0.6,'Vehicle Data'!E$21,IF(Data!O23 = 0.9,'Vehicle Data'!E$20))+(P23*O23) -> 1550.3724 | T23: =IF(F23=3,'Vehicle Data'!H$16,IF(F23=2,'Vehicle Data'!H$15,IF(F23 = 1,'Vehicle Data'!G$14))) -> 466.23005 | U23: =R23-R$2 -> 27.006828 | V23: s | W23: a | X23: =IF(V23="S",'Vehicle Data'!C$14,IF(Data!V23 = "T1",'Vehicle Data'!P$2,IF(Data!V23="T2",'Vehicle Data'!P$3))) -> 13.4112 | Z23: =SQRT(Z22^2+2*AE22*(U23-U22)) -> 10.037556 | AB23: =IF(AA23=1,'Vehicle Data'!I$14,IF(AA23=2,'Vehicle Data'!I$15,IF(AA23=3,'Vehicle Data'!I$16))) -> FALSE | AC23: =IF(Z23<'Vehicle Data'!C$16,'Vehicle Data'!I$15,IF(Z23<'Vehicle Data'!C$15,'Vehicle Data'!I$15,IF(Z22>'Vehicle Data'!C$15,'Vehicle Data'!I$16))) -> 0.46202745 | AD23: =IF(O23=0.6,'Vehicle Data'!F$21,IF(O23=0.9,'Vehicle Data'!F$20)) -> 3.5316 | AE23: =IF(W23="a",AC23,IF(W23="b",AD23*-1)) -> 0.46202745 | AF23: =(U23-U22)/Z23 -> 0.13825218 | AG23: =(Z23-Z22)/AF23 -> 0.46350699 | AH23: =AH22+AF23 -> 2.8852729 | AJ23: =(Z23^2)*'Vehicle Data'!C$31 -> 37.026552 | AK23: =IF(O23=0.6,'Vehicle Data'!C$6*'Vehicle Data'!D$21*9.81,IF(O23=0.9,'Vehicle Data'!C$6*9.81*'Vehicle Data'!D$20)) -> 86.1318 | AL23: =AJ23+AK23+Q23 -> 123.15835 | AN23: =IF(AG23>0,AG23*'Vehicle Data'!C$6) -> 203.47957 | AO23: =AN23+AL23 -> 326.63792 | AP23: =AO23*'Vehicle Data'!F$3 -> 83.488653 | AQ23: =IF(AE23='Vehicle Data'!I$15,AP23/'Vehicle Data'!G$15,IF(AE23='Vehicle Data'!I$16,AP23/'Vehicle Data'!G$16,IF(AE23='Vehicle Data'!I$14,Data!AP23/'Vehicle Data'!G34))) -> 15.413065 | AR23: =IF(Z23<'Vehicle Data'!C$16, Z23*'Vehicle Data'!F$7*'Vehicle Data'!G$14,IF(Z23<'Vehicle Data'!C$15,Z23*'Vehicle Data'!F$7*'Vehicle Data'!G$15,IF(Z23>'Vehicle Data'!C$15,Z23*'Vehicle Data'!F$7*'Vehicle Data'!G$16))) -> 87.31867 | AS23: =AR23*60 -> 5239.1202 | AT23: =ROUND(AQ23,0) -> 15 | AU23: =MROUND(AS23,500) -> 5000 | AW23: =VLOOKUP(AT23,BSFC!A$64:A$82,1,FALSE) -> 15 | AX23: {=_xlfn.XLOOKUP(AT23,BSFC!A$64:A$82,,-1,_xlfn.XLOOKUP(Data!AU23,BSFC!C$63:Q$63,BSFC!B$64:Q$82,,-1))} -> #VALUE! | AY23: =HLOOKUP(AU23,BSFC!F$63:Q$63,1) -> 5000 | AZ23: =MATCH(AT23,BSFC!A$64:A$83,0) -> 8 | BA23: =MATCH(AU23,BSFC!C$63:Q$63,0) -> 10 | BB23: {=INDEX(BSFC!C$64:Q$82,Data!AZ23,Data!BA23)} -> 705.8 | BC23: =0.5*'Vehicle Data'!C$6*Data!Z23^2 -> 22115.179 | BD23: =ABS(AQ24*(AS24/9.588))/1000 -> 8.4890886 | BE23: =BB23*BD23 -> 5991.5987 | BF23: =(BE23/3600)*AF23 -> 0.23009767 | BG23: =BG22+BF23 -> 4.5189937 | BH23: =AQ23*(AS23/9.588) -> 8422.08 | BI23: =BM$9 -> 6871.6622 | BO23: =BH23*AF24 -> 1178.9803 | BP23: =BP22+BO23 -> 5326.1875 | BQ23: =IF(BO23>0,BQ22+BO23,IF(BO23<=0,BQ22)) -> 5326.1875 | BR23: =(BM$9*AF24)+BR22 -> 20788.563 | BS23: =IF(BO23>0,BO23) -> 1178.9803 | BT23: =IF(BH23>=0,BH23, IF(BH23<0,0)) -> 8422.08 | BU23: =BI23*AF24 -> 961.94219 | BV23: =BM$9*AF24 -> 961.94219 | BW23: =BN$9 -> 455.4 | BX23: =BW23*BI23 -> 3129355 | BY23: =((BX23/3600)*AF24)/1000 -> 0.12168569 | BZ23: =AH23 -> 2.8852729 | CB23: =BU23-BS23 -> -217.03806 | CC23: =CB23/(BZ23-BZ22) -> -1569.8708 | CD23: =CB23+CD22 -> 14730.435
D24: =ASIN((N24)/(G25-G24)) -> 0 | E24: 9.0017016 | F24: =IF(K24<6,1,IF(Data!K24<9,2,IF(K24>9,3))) -> 3 | G24: 746.00997 | H24: 211.96666 | I24: 30.532314 | J24: =(I25-I24)/(H25-H24) -> 3.0120901 | K24: =I24/2.5 -> 12.212926 | L24: =(K25-K24)/(H25-H24) -> 1.204836 | M24: =2*E24 -> 18.003403 | N24: =E25-E24 -> 0 | O24: =IF(L24<'Vehicle Data'!F$21,'Vehicle Data'!C$21,IF(L24>'Vehicle Data'!C$21,'Vehicle Data'!C$20)) -> 0.6 | P24: =('Vehicle Data'!C$6*9.81*'Vehicle Data'!C$5*SIN(D24))/'Vehicle Data'!C$9 -> 0 | Q24: ='Vehicle Data'!C$6*9.81*SIN(D24) -> 0 | R24: =G23 -> 744.55952 | S24: =IF(Data!O24=0.6,'Vehicle Data'!E$21,IF(Data!O24 = 0.9,'Vehicle Data'!E$20))+(P24*O24) -> 1550.3724 | T24: =IF(F24=3,'Vehicle Data'!H$16,IF(F24=2,'Vehicle Data'!H$15,IF(F24 = 1,'Vehicle Data'!G$14))) -> 466.23005 | U24: =R24-R$2 -> 28.421037 | V24: s | W24: a | X24: =IF(V24="S",'Vehicle Data'!C$14,IF(Data!V24 = "T1",'Vehicle Data'!P$2,IF(Data!V24="T2",'Vehicle Data'!P$3))) -> 13.4112 | Z24: =SQRT(Z23^2+2*AE23*(U24-U23)) -> 10.102442 | AB24: =IF(AA24=1,'Vehicle Data'!I$14,IF(AA24=2,'Vehicle Data'!I$15,IF(AA24=3,'Vehicle Data'!I$16))) -> FALSE | AC24: =IF(Z24<'Vehicle Data'!C$16,'Vehicle Data'!I$15,IF(Z24<'Vehicle Data'!C$15,'Vehicle Data'!I$15,IF(Z23>'Vehicle Data'!C$15,'Vehicle Data'!I$16))) -> 0.46202745 | AD24: =IF(O24=0.6,'Vehicle Data'!F$21,IF(O24=0.9,'Vehicle Data'!F$20)) -> 3.5316 | AE24: =IF(W24="a",AC24,IF(W24="b",AD24*-1)) -> 0.46202745 | AF24: =(U24-U23)/Z24 -> 0.13998683 | AG24: =(Z24-Z23)/AF24 -> 0.46351599 | AH24: =AH23+AF24 -> 3.0252597 | AJ24: =(Z24^2)*'Vehicle Data'!C$31 -> 37.506803 | AK24: =IF(O24=0.6,'Vehicle Data'!C$6*'Vehicle Data'!D$21*9.81,IF(O24=0.9,'Vehicle Data'!C$6*9.81*'Vehicle Data'!D$20)) -> 86.1318 | AL24: =AJ24+AK24+Q24 -> 123.6386 | AN24: =IF(AG24>0,AG24*'Vehicle Data'!C$6) -> 203.48352 | AO24: =AN24+AL24 -> 327.12212 | AP24: =AO24*'Vehicle Data'!F$3 -> 83.612415 | AQ24: =IF(AE24='Vehicle Data'!I$15,AP24/'Vehicle Data'!G$15,IF(AE24='Vehicle Data'!I$16,AP24/'Vehicle Data'!G$16,IF(AE24='Vehicle Data'!I$14,Data!AP24/'Vehicle Data'!G35))) -> 15.435913 | AR24: =IF(Z24<'Vehicle Data'!C$16, Z24*'Vehicle Data'!F$7*'Vehicle Data'!G$14,IF(Z24<'Vehicle Data'!C$15,Z24*'Vehicle Data'!F$7*'Vehicle Data'!G$15,IF(Z24>'Vehicle Data'!C$15,Z24*'Vehicle Data'!F$7*'Vehicle Data'!G$16))) -> 87.883128 | AS24: =AR24*60 -> 5272.9877 | AT24: =ROUND(AQ24,0) -> 15 | AU24: =MROUND(AS24,500) -> 5500 | AW24: =VLOOKUP(AT24,BSFC!A$64:A$82,1,FALSE) -> 15 | AX24: {=_xlfn.XLOOKUP(AT24,BSFC!A$64:A$82,,-1,_xlfn.XLOOKUP(Data!AU24,BSFC!C$63:Q$63,BSFC!B$64:Q$82,,-1))} -> #VALUE! | AY24: =HLOOKUP(AU24,BSFC!F$63:Q$63,1) -> 5500 | AZ24: =MATCH(AT24,BSFC!A$64:A$83,0) -> 8 | BA24: =MATCH(AU24,BSFC!C$63:Q$63,0) -> 11 | BB24: {=INDEX(BSFC!C$64:Q$82,Data!AZ24,Data!BA24)} -> 635.6 | BC24: =0.5*'Vehicle Data'!C$6*Data!Z24^2 -> 22402.023 | BD24: =ABS(AQ25*(AS25/9.588))/1000 -> 8.5577264 | BE24: =BB24*BD24 -> 5439.2909 | BF24: =(BE24/3600)*AF24 -> 0.21150808 | BG24: =BG23+BF24 -> 4.7305018 | BH24: =AQ24*(AS24/9.588) -> 8489.0886 | BI24: =BM$9 -> 6871.6622 | BO24: =BH24*AF25 -> 1210.8931 | BP24: =BP23+BO24 -> 6537.0806 | BQ24: =IF(BO24>0,BQ23+BO24,IF(BO24<=0,BQ23)) -> 6537.0806 | BR24: =(BM$9*AF25)+BR23 -> 21768.744 | BS24: =IF(BO24>0,BO24) -> 1210.8931 | BT24: =IF(BH24>=0,BH24, IF(BH24<0,0)) -> 8489.0886 | BU24: =BI24*AF25 -> 980.1816 | BV24: =BM$9*AF25 -> 980.1816 | BW24: =BN$9 -> 455.4 | BX24: =BW24*BI24 -> 3129355 | BY24: =((BX24/3600)*AF25)/1000 -> 0.12399297 | BZ24: =AH24 -> 3.0252597 | CB24: =BU24-BS24 -> -230.71151 | CC24: =CB24/(BZ24-BZ23) -> -1648.0944 | CD24: =CB24+CD23 -> 14499.723
D25: =ASIN((N25)/(G26-G25)) -> 0 | E25: 9.0017016 | F25: =IF(K25<6,1,IF(Data!K25<9,2,IF(K25>9,3))) -> 3 | G25: 747.47873 | H25: 212.01666 | I25: 30.682919 | J25: =(I26-I25)/(H26-H25) -> 3.1049736 | K25: =I25/2.5 -> 12.273167 | L25: =(K26-K25)/(H26-H25) -> 1.2419894 | M25: =2*E25 -> 18.003403 | N25: 0 | O25: =IF(L25<'Vehicle Data'!F$21,'Vehicle Data'!C$21,IF(L25>'Vehicle Data'!C$21,'Vehicle Data'!C$20)) -> 0.6 | P25: =('Vehicle Data'!C$6*9.81*'Vehicle Data'!C$5*SIN(D25))/'Vehicle Data'!C$9 -> 0 | Q25: ='Vehicle Data'!C$6*9.81*SIN(D25) -> 0 | R25: =G24 -> 746.00997 | S25: =IF(Data!O25=0.6,'Vehicle Data'!E$21,IF(Data!O25 = 0.9,'Vehicle Data'!E$20))+(P25*O25) -> 1550.3724 | T25: =IF(F25=3,'Vehicle Data'!H$16,IF(F25=2,'Vehicle Data'!H$15,IF(F25 = 1,'Vehicle Data'!G$14))) -> 466.23005 | U25: =R25-R$2 -> 29.871492 | V25: s | W25: a | X25: =IF(V25="S",'Vehicle Data'!C$14,IF(Data!V25 = "T1",'Vehicle Data'!P$2,IF(Data!V25="T2",'Vehicle Data'!P$3))) -> 13.4112 | Z25: =SQRT(Z24^2+2*AE24*(U25-U24)) -> 10.168561 | AB25: =IF(AA25=1,'Vehicle Data'!I$14,IF(AA25=2,'Vehicle Data'!I$15,IF(AA25=3,'Vehicle Data'!I$16))) -> FALSE | AC25: =IF(Z25<'Vehicle Data'!C$16,'Vehicle Data'!I$15,IF(Z25<'Vehicle Data'!C$15,'Vehicle Data'!I$15,IF(Z24>'Vehicle Data'!C$15,'Vehicle Data'!I$16))) -> 0.46202745 | AD25: =IF(O25=0.6,'Vehicle Data'!F$21,IF(O25=0.9,'Vehicle Data'!F$20)) -> 3.5316 | AE25: =IF(W25="a",AC25,IF(W25="b",AD25*-1)) -> 0.46202745 | AF25: =(U25-U24)/Z25 -> 0.14264112 | AG25: =(Z25-Z24)/AF25 -> 0.46353448 | AH25: =AH24+AF25 -> 3.1679008 | AJ25: =(Z25^2)*'Vehicle Data'!C$31 -> 37.999364 | AK25: =IF(O25=0.6,'Vehicle Data'!C$6*'Vehicle Data'!D$21*9.81,IF(O25=0.9,'Vehicle Data'!C$6*9.81*'Vehicle Data'!D$20)) -> 86.1318 | AL25: =AJ25+AK25+Q25 -> 124.13116 | AN25: =IF(AG25>0,AG25*'Vehicle Data'!C$6) -> 203.49163 | AO25: =AN25+AL25 -> 327.6228 | AP25: =AO25*'Vehicle Data'!F$3 -> 83.740387 | AQ25: =IF(AE25='Vehicle Data'!I$15,AP25/'Vehicle Data'!G$15,IF(AE25='Vehicle Data'!I$16,AP25/'Vehicle Data'!G$16,IF(AE25='Vehicle Data'!I$14,Data!AP25/'Vehicle Data'!G36))) -> 15.459539 | AR25: =IF(Z25<'Vehicle Data'!C$16, Z25*'Vehicle Data'!F$7*'Vehicle Data'!G$14,IF(Z25<'Vehicle Data'!C$15,Z25*'Vehicle Data'!F$7*'Vehicle Data'!G$15,IF(Z25>'Vehicle Data'!C$15,Z25*'Vehicle Data'!F$7*'Vehicle Data'!G$16))) -> 88.458311 | AS25: =AR25*60 -> 5307.4986 | AT25: =ROUND(AQ25,0) -> 15 | AU25: =MROUND(AS25,500) -> 5500 | AW25: =VLOOKUP(AT25,BSFC!A$64:A$82,1,FALSE) -> 15 | AX25: {=_xlfn.XLOOKUP(AT25,BSFC!A$64:A$82,,-1,_xlfn.XLOOKUP(Data!AU25,BSFC!C$63:Q$63,BSFC!B$64:Q$82,,-1))} -> #VALUE! | AY25: =HLOOKUP(AU25,BSFC!F$63:Q$63,1) -> 5500 | AZ25: =MATCH(AT25,BSFC!A$64:A$83,0) -> 8 | BA25: =MATCH(AU25,BSFC!C$63:Q$63,0) -> 11 | BB25: {=INDEX(BSFC!C$64:Q$82,Data!AZ25,Data!BA25)} -> 635.6 | BC25: =0.5*'Vehicle Data'!C$6*Data!Z25^2 -> 22696.219 | BD25: =ABS(AQ26*(AS26/9.588))/1000 -> 8.6268119 | BE25: =BB25*BD25 -> 5483.2017 | BF25: =(BE25/3600)*AF25 -> 0.21725834 | BG25: =BG24+BF25 -> 4.9477601 | BH25: =AQ25*(AS25/9.588) -> 8557.7264 | BI25: =BM$9 -> 6871.6622 | BO25: =BH25*AF26 -> 1228.0521 | BP25: =BP24+BO25 -> 7765.1327 | BQ25: =IF(BO25>0,BQ24+BO25,IF(BO25<=0,BQ24)) -> 7765.1327 | BR25: =(BM$9*AF26)+BR24 -> 22754.843 | BS25: =IF(BO25>0,BO25) -> 1228.0521 | BT25: =IF(BH25>=0,BH25, IF(BH25<0,0)) -> 8557.7264 | BU25: =BI25*AF26 -> 986.09824 | BV25: =BM$9*AF26 -> 986.09824 | BW25: =BN$9 -> 455.4 | BX25: =BW25*BI25 -> 3129355 | BY25: =((BX25/3600)*AF26)/1000 -> 0.12474143 | BZ25: =AH25 -> 3.1679008 | CB25: =BU25-BS25 -> -241.95382 | CC25: =CB25/(BZ25-BZ24) -> -1696.2417 | CD25: =CB25+CD24 -> 14257.769
D26: =ASIN((N26)/(G27-G26)) -> 0 | E26: 9.1017072 | F26: =IF(K26<6,1,IF(Data!K26<9,2,IF(K26>9,3))) -> 3 | G26: 748.98038 | H26: 212.06667 | I26: 30.838167 | J26: =(I27-I26)/(H27-H26) -> 3.1982971 | K26: =I26/2.5 -> 12.335267 | L26: =(K27-K26)/(H27-H26) -> 1.2793188 | M26: =2*E26 -> 18.203414 | N26: =E27-E26 -> 0 | O26: =IF(L26<'Vehicle Data'!F$21,'Vehicle Data'!C$21,IF(L26>'Vehicle Data'!C$21,'Vehicle Data'!C$20)) -> 0.6 | P26: =('Vehicle Data'!C$6*9.81*'Vehicle Data'!C$5*SIN(D26))/'Vehicle Data'!C$9 -> 0 | Q26: ='Vehicle Data'!C$6*9.81*SIN(D26) -> 0 | R26: =G25 -> 747.47873 | S26: =IF(Data!O26=0.6,'Vehicle Data'!E$21,IF(Data!O26 = 0.9,'Vehicle Data'!E$20))+(P26*O26) -> 1550.3724 | T26: =IF(F26=3,'Vehicle Data'!H$16,IF(F26=2,'Vehicle Data'!H$15,IF(F26 = 1,'Vehicle Data'!G$14))) -> 466.23005 | U26: =R26-R$2 -> 31.340248 | V26: s | W26: a | X26: =IF(V26="S",'Vehicle Data'!C$14,IF(Data!V26 = "T1",'Vehicle Data'!P$2,IF(Data!V26="T2",'Vehicle Data'!P$3))) -> 13.4112 | Z26: =SQRT(Z25^2+2*AE25*(U26-U25)) -> 10.235079 | AB26: =IF(AA26=1,'Vehicle Data'!I$14,IF(AA26=2,'Vehicle Data'!I$15,IF(AA26=3,'Vehicle Data'!I$16))) -> FALSE | AC26: =IF(Z26<'Vehicle Data'!C$16,'Vehicle Data'!I$15,IF(Z26<'Vehicle Data'!C$15,'Vehicle Data'!I$15,IF(Z25>'Vehicle Data'!C$15,'Vehicle Data'!I$16))) -> 0.46202745 | AD26: =IF(O26=0.6,'Vehicle Data'!F$21,IF(O26=0.9,'Vehicle Data'!F$20)) -> 3.5316 | AE26: =IF(W26="a",AC26,IF(W26="b",AD26*-1)) -> 0.46202745 | AF26: =(U26-U25)/Z26 -> 0.14350214 | AG26: =(Z26-Z25)/AF26 -> 0.46353371 | AH26: =AH25+AF26 -> 3.311403 | AJ26: =(Z26^2)*'Vehicle Data'!C$31 -> 38.498139 | AK26: =IF(O26=0.6,'Vehicle Data'!C$6*'Vehicle Data'!D$21*9.81,IF(O26=0.9,'Vehicle Data'!C$6*9.81*'Vehicle Data'!D$20)) -> 86.1318 | AL26: =AJ26+AK26+Q26 -> 124.62994 | AN26: =IF(AG26>0,AG26*'Vehicle Data'!C$6) -> 203.4913 | AO26: =AN26+AL26 -> 328.12124 | AP26: =AO26*'Vehicle Data'!F$3 -> 83.867789 | AQ26: =IF(AE26='Vehicle Data'!I$15,AP26/'Vehicle Data'!G$15,IF(AE26='Vehicle Data'!I$16,AP26/'Vehicle Data'!G$16,IF(AE26='Vehicle Data'!I$14,Data!AP26/'Vehicle Data'!G37))) -> 15.483059 | AR26: =IF(Z26<'Vehicle Data'!C$16, Z26*'Vehicle Data'!F$7*'Vehicle Data'!G$14,IF(Z26<'Vehicle Data'!C$15,Z26*'Vehicle Data'!F$7*'Vehicle Data'!G$15,IF(Z26>'Vehicle Data'!C$15,Z26*'Vehicle Data'!F$7*'Vehicle Data'!G$16))) -> 89.036964 | AS26: =AR26*60 -> 5342.2179 | AT26: =ROUND(AQ26,0) -> 15 | AU26: =MROUND(AS26,500) -> 5500 | AW26: =VLOOKUP(AT26,BSFC!A$64:A$82,1,FALSE) -> 15 | AX26: {=_xlfn.XLOOKUP(AT26,BSFC!A$64:A$82,,-1,_xlfn.XLOOKUP(Data!AU26,BSFC!C$63:Q$63,BSFC!B$64:Q$82,,-1))} -> #VALUE! | AY26: =HLOOKUP(AU26,BSFC!F$63:Q$63,1) -> 5500 | AZ26: =MATCH(AT26,BSFC!A$64:A$83,0) -> 8 | BA26: =MATCH(AU26,BSFC!C$63:Q$63,0) -> 11 | BB26: {=INDEX(BSFC!C$64:Q$82,Data!AZ26,Data!BA26)} -> 635.6 | BC26: =0.5*'Vehicle Data'!C$6*Data!Z26^2 -> 22994.126 | BD26: =ABS(AQ27*(AS27/9.588))/1000 -> 8.6974139 | BE26: =BB26*BD26 -> 5528.0763 | BF26: =(BE26/3600)*AF26 -> 0.22035855 | BG26: =BG25+BF26 -> 5.1681186 | BH26: =AQ26*(AS26/9.588) -> 8626.8119 | BI26: =BM$9 -> 6871.6622 | BO26: =BH26*AF27 -> 1257.3882 | BP26: =BP25+BO26 -> 9022.5209 | BQ26: =IF(BO26>0,BQ25+BO26,IF(BO26<=0,BQ25)) -> 9022.5209 | BR26: =(BM$9*AF27)+BR25 -> 23756.412 | BS26: =IF(BO26>0,BO26) -> 1257.3882 | BT26: =IF(BH26>=0,BH26, IF(BH26<0,0)) -> 8626.8119 | BU26: =BI26*AF27 -> 1001.569 | BV26: =BM$9*AF27 -> 1001.569 | BW26: =BN$9 -> 455.4 | BX26: =BW26*BI26 -> 3129355 | BY26: =((BX26/3600)*AF27)/1000 -> 0.12669847 | BZ26: =AH26 -> 3.311403 | CB26: =BU26-BS26 -> -255.81925 | CC26: =CB26/(BZ26-BZ25) -> -1782.6859 | CD26: =CB26+CD25 -> 14001.95
D27: =ASIN((N27)/(G28-G27)) -> 0 | E27: 9.1017072 | F27: =IF(K27<6,1,IF(Data!K27<9,2,IF(K27>9,3))) -> 3 | G27: 750.48605 | H27: 212.11666 | I27: 30.998082 | J27: =(I28-I27)/(H28-H27) -> 3.296125 | K27: =I27/2.5 -> 12.399233 | L27: =(K28-K27)/(H28-H27) -> 1.31845 | M27: =2*E27 -> 18.203414 | N27: =E28-E27 -> 0 | O27: =IF(L27<'Vehicle Data'!F$21,'Vehicle Data'!C$21,IF(L27>'Vehicle Data'!C$21,'Vehicle Data'!C$20)) -> 0.6 | P27: =('Vehicle Data'!C$6*9.81*'Vehicle Data'!C$5*SIN(D27))/'Vehicle Data'!C$9 -> 0 | Q27: ='Vehicle Data'!C$6*9.81*SIN(D27) -> 0 | R27: =G26 -> 748.98038 | S27: =IF(Data!O27=0.6,'Vehicle Data'!E$21,IF(Data!O27 = 0.9,'Vehicle Data'!E$20))+(P27*O27) -> 1550.3724 | T27: =IF(F27=3,'Vehicle Data'!H$16,IF(F27=2,'Vehicle Data'!H$15,IF(F27 = 1,'Vehicle Data'!G$14))) -> 466.23005 | U27: =R27-R$2 -> 32.841894 | V27: s | W27: a | X27: =IF(V27="S",'Vehicle Data'!C$14,IF(Data!V27 = "T1",'Vehicle Data'!P$2,IF(Data!V27="T2",'Vehicle Data'!P$3))) -> 13.4112 | Z27: =SQRT(Z26^2+2*AE26*(U27-U26)) -> 10.302643 | AB27: =IF(AA27=1,'Vehicle Data'!I$14,IF(AA27=2,'Vehicle Data'!I$15,IF(AA27=3,'Vehicle Data'!I$16))) -> FALSE | AC27: =IF(Z27<'Vehicle Data'!C$16,'Vehicle Data'!I$15,IF(Z27<'Vehicle Data'!C$15,'Vehicle Data'!I$15,IF(Z26>'Vehicle Data'!C$15,'Vehicle Data'!I$16))) -> 0.46202745 | AD27: =IF(O27=0.6,'Vehicle Data'!F$21,IF(O27=0.9,'Vehicle Data'!F$20)) -> 3.5316 | AE27: =IF(W27="a",AC27,IF(W27="b",AD27*-1)) -> 0.46202745 | AF27: =(U27-U26)/Z27 -> 0.14575352 | AG27: =(Z27-Z26)/AF27 -> 0.4635474 | AH27: =AH26+AF27 -> 3.4571565 | AJ27: =(Z27^2)*'Vehicle Data'!C$31 -> 39.008083 | AK27: =IF(O27=0.6,'Vehicle Data'!C$6*'Vehicle Data'!D$21*9.81,IF(O27=0.9,'Vehicle Data'!C$6*9.81*'Vehicle Data'!D$20)) -> 86.1318 | AL27: =AJ27+AK27+Q27 -> 125.13988 | AN27: =IF(AG27>0,AG27*'Vehicle Data'!C$6) -> 203.49731 | AO27: =AN27+AL27 -> 328.63719 | AP27: =AO27*'Vehicle Data'!F$3 -> 83.999666 | AQ27: =IF(AE27='Vehicle Data'!I$15,AP27/'Vehicle Data'!G$15,IF(AE27='Vehicle Data'!I$16,AP27/'Vehicle Data'!G$16,IF(AE27='Vehicle Data'!I$14,Data!AP27/'Vehicle Data'!G38))) -> 15.507405 | AR27: =IF(Z27<'Vehicle Data'!C$16, Z27*'Vehicle Data'!F$7*'Vehicle Data'!G$14,IF(Z27<'Vehicle Data'!C$15,Z27*'Vehicle Data'!F$7*'Vehicle Data'!G$15,IF(Z27>'Vehicle Data'!C$15,Z27*'Vehicle Data'!F$7*'Vehicle Data'!G$16))) -> 89.624714 | AS27: =AR27*60 -> 5377.4828 | AT27: =ROUND(AQ27,0) -> 16 | AU27: =MROUND(AS27,500) -> 5500 | AW27: =VLOOKUP(AT27,BSFC!A$64:A$82,1,FALSE) -> 16 | AX27: {=_xlfn.XLOOKUP(AT27,BSFC!A$64:A$82,,-1,_xlfn.XLOOKUP(Data!AU27,BSFC!C$63:Q$63,BSFC!B$64:Q$82,,-1))} -> #VALUE! | AY27: =HLOOKUP(AU27,BSFC!F$63:Q$63,1) -> 5500 | AZ27: =MATCH(AT27,BSFC!A$64:A$83,0) -> 7 | BA27: =MATCH(AU27,BSFC!C$63:Q$63,0) -> 11 | BB27: {=INDEX(BSFC!C$64:Q$82,Data!AZ27,Data!BA27)} -> 632.5 | BC27: =0.5*'Vehicle Data'!C$6*Data!Z27^2 -> 23298.705 | BD27: =ABS(AQ28*(AS28/9.588))/1000 -> 8.7676666 | BE27: =BB27*BD27 -> 5545.5491 | BF27: =(BE27/3600)*AF27 -> 0.22452314 | BG27: =BG26+BF27 -> 5.3926418 | BH27: =AQ27*(AS27/9.588) -> 8697.4139 | BI27: =BM$9 -> 6871.6622 | BO27: =BH27*AF28 -> 1262.8274 | BP27: =BP26+BO27 -> 10285.348 | BQ27: =IF(BO27>0,BQ26+BO27,IF(BO27<=0,BQ26)) -> 10285.348 | BR27: =(BM$9*AF28)+BR26 -> 24754.148 | BS27: =IF(BO27>0,BO27) -> 1262.8274 | BT27: =IF(BH27>=0,BH27, IF(BH27<0,0)) -> 8697.4139 | BU27: =BI27*AF28 -> 997.73608 | BV27: =BM$9*AF28 -> 997.73608 | BW27: =BN$9 -> 455.4 | BX27: =BW27*BI27 -> 3129355 | BY27: =((BX27/3600)*AF28)/1000 -> 0.12621361 | BZ27: =AH27 -> 3.4571565 | CB27: =BU27-BS27 -> -265.09136 | CC27: =CB27/(BZ27-BZ26) -> -1818.7647 | CD27: =CB27+CD26 -> 13736.859
D28: =ASIN((N28)/(G29-G28)) -> 0 | E28: 9.1017072 | F28: =IF(K28<6,1,IF(Data!K28<9,2,IF(K28>9,3))) -> 3 | G28: 751.99773 | H28: 212.16666 | I28: 31.162888 | J28: =(I29-I28)/(H29-H28) -> 3.3653163 | K28: =I28/2.5 -> 12.465155 | L28: =(K29-K28)/(H29-H28) -> 1.3461265 | M28: =2*E28 -> 18.203414 | N28: =E29-E28 -> 0 | O28: =IF(L28<'Vehicle Data'!F$21,'Vehicle Data'!C$21,IF(L28>'Vehicle Data'!C$21,'Vehicle Data'!C$20)) -> 0.6 | P28: =('Vehicle Data'!C$6*9.81*'Vehicle Data'!C$5*SIN(D28))/'Vehicle Data'!C$9 -> 0 | Q28: ='Vehicle Data'!C$6*9.81*SIN(D28) -> 0 | R28: =G27 -> 750.48605 | S28: =IF(Data!O28=0.6,'Vehicle Data'!E$21,IF(Data!O28 = 0.9,'Vehicle Data'!E$20))+(P28*O28) -> 1550.3724 | T28: =IF(F28=3,'Vehicle Data'!H$16,IF(F28=2,'Vehicle Data'!H$15,IF(F28 = 1,'Vehicle Data'!G$14))) -> 466.23005 | U28: =R28-R$2 -> 34.347566 | V28: s | W28: a | X28: =IF(V28="S",'Vehicle Data'!C$14,IF(Data!V28 = "T1",'Vehicle Data'!P$2,IF(Data!V28="T2",'Vehicle Data'!P$3))) -> 13.4112 | Z28: =SQRT(Z27^2+2*AE27*(U28-U27)) -> 10.369945 | AB28: =IF(AA28=1,'Vehicle Data'!I$14,IF(AA28=2,'Vehicle Data'!I$15,IF(AA28=3,'Vehicle Data'!I$16))) -> FALSE | AC28: =IF(Z28<'Vehicle Data'!C$16,'Vehicle Data'!I$15,IF(Z28<'Vehicle Data'!C$15,'Vehicle Data'!I$15,IF(Z27>'Vehicle Data'!C$15,'Vehicle Data'!I$16))) -> 0.46202745 | AD28: =IF(O28=0.6,'Vehicle Data'!F$21,IF(O28=0.9,'Vehicle Data'!F$20)) -> 3.5316 | AE28: =IF(W28="a",AC28,IF(W28="b",AD28*-1)) -> 0.46202745 | AF28: =(U28-U27)/Z28 -> 0.14519574 | AG28: =(Z28-Z27)/AF28 -> 0.46353166 | AH28: =AH27+AF28 -> 3.6023522 | AJ28: =(Z28^2)*'Vehicle Data'!C$31 -> 39.519394 | AK28: =IF(O28=0.6,'Vehicle Data'!C$6*'Vehicle Data'!D$21*9.81,IF(O28=0.9,'Vehicle Data'!C$6*9.81*'Vehicle Data'!D$20)) -> 86.1318 | AL28: =AJ28+AK28+Q28 -> 125.65119 | AN28: =IF(AG28>0,AG28*'Vehicle Data'!C$6) -> 203.4904 | AO28: =AN28+AL28 -> 329.14159 | AP28: =AO28*'Vehicle Data'!F$3 -> 84.128591 | AQ28: =IF(AE28='Vehicle Data'!I$15,AP28/'Vehicle Data'!G$15,IF(AE28='Vehicle Data'!I$16,AP28/'Vehicle Data'!G$16,IF(AE28='Vehicle Data'!I$14,Data!AP28/'Vehicle Data'!G39))) -> 15.531206 | AR28: =IF(Z28<'Vehicle Data'!C$16, Z28*'Vehicle Data'!F$7*'Vehicle Data'!G$14,IF(Z28<'Vehicle Data'!C$15,Z28*'Vehicle Data'!F$7*'Vehicle Data'!G$15,IF(Z28>'Vehicle Data'!C$15,Z28*'Vehicle Data'!F$7*'Vehicle Data'!G$16))) -> 90.210195 | AS28: =AR28*60 -> 5412.6117 | AT28: =ROUND(AQ28,0) -> 16 | AU28: =MROUND(AS28,500) -> 5500 | AW28: =VLOOKUP(AT28,BSFC!A$64:A$82,1,FALSE) -> 16 | AX28: {=_xlfn.XLOOKUP(AT28,BSFC!A$64:A$82,,-1,_xlfn.XLOOKUP(Data!AU28,BSFC!C$63:Q$63,BSFC!B$64:Q$82,,-1))} -> #VALUE! | AY28: =HLOOKUP(AU28,BSFC!F$63:Q$63,1) -> 5500 | AZ28: =MATCH(AT28,BSFC!A$64:A$83,0) -> 7 | BA28: =MATCH(AU28,BSFC!C$63:Q$63,0) -> 11 | BB28: {=INDEX(BSFC!C$64:Q$82,Data!AZ28,Data!BA28)} -> 632.5 | BC28: =0.5*'Vehicle Data'!C$6*Data!Z28^2 -> 23604.101 | BD28: =ABS(AQ29*(AS29/9.588))/1000 -> 8.8380334 | BE28: =BB28*BD28 -> 5590.0561 | BF28: =(BE28/3600)*AF28 -> 0.22545898 | BG28: =BG27+BF28 -> 5.6181008 | BH28: =AQ28*(AS28/9.588) -> 8767.6666 | BI28: =BM$9 -> 6871.6622 | BO28: =BH28*AF29 -> 1269.89 | BP28: =BP27+BO28 -> 11555.238 | BQ28: =IF(BO28>0,BQ27+BO28,IF(BO28<=0,BQ27)) -> 11555.238 | BR28: =(BM$9*AF29)+BR27 -> 25749.424 | BS28: =IF(BO28>0,BO28) -> 1269.89 | BT28: =IF(BH28>=0,BH28, IF(BH28<0,0)) -> 8767.6666 | BU28: =BI28*AF29 -> 995.27682 | BV28: =BM$9*AF29 -> 995.27682 | BW28: =BN$9 -> 455.4 | BX28: =BW28*BI28 -> 3129355 | BY28: =((BX28/3600)*AF29)/1000 -> 0.12590252 | BZ28: =AH28 -> 3.6023522 | CB28: =BU28-BS28 -> -274.61321 | CC28: =CB28/(BZ28-BZ27) -> -1891.331 | CD28: =CB28+CD27 -> 13462.246
D29: =ASIN((N29)/(G30-G29)) -> 0 | E29: 9.1017072 | F29: =IF(K29<6,1,IF(Data!K29<9,2,IF(K29>9,3))) -> 3 | G29: 753.51443 | H29: 212.21666 | I29: 31.331154 | J29: =(I30-I29)/(H30-H29) -> 3.3580438 | K29: =I29/2.5 -> 12.532462 | L29: =(K30-K29)/(H30-H29) -> 1.3432175 | M29: =2*E29 -> 18.203414 | N29: 0 | O29: =IF(L29<'Vehicle Data'!F$21,'Vehicle Data'!C$21,IF(L29>'Vehicle Data'!C$21,'Vehicle Data'!C$20)) -> 0.6 | P29: =('Vehicle Data'!C$6*9.81*'Vehicle Data'!C$5*SIN(D29))/'Vehicle Data'!C$9 -> 0 | Q29: ='Vehicle Data'!C$6*9.81*SIN(D29) -> 0 | R29: =G28 -> 751.99773 | S29: =IF(Data!O29=0.6,'Vehicle Data'!E$21,IF(Data!O29 = 0.9,'Vehicle Data'!E$20))+(P29*O29) -> 1550.3724 | T29: =IF(F29=3,'Vehicle Data'!H$16,IF(F29=2,'Vehicle Data'!H$15,IF(F29 = 1,'Vehicle Data'!G$14))) -> 466.23005 | U29: =R29-R$2 -> 35.85925 | V29: s | W29: a | X29: =IF(V29="S",'Vehicle Data'!C$14,IF(Data!V29 = "T1",'Vehicle Data'!P$2,IF(Data!V29="T2",'Vehicle Data'!P$3))) -> 13.4112 | Z29: =SQRT(Z28^2+2*AE28*(U29-U28)) -> 10.43708 | AB29: =IF(AA29=1,'Vehicle Data'!I$14,IF(AA29=2,'Vehicle Data'!I$15,IF(AA29=3,'Vehicle Data'!I$16))) -> FALSE | AC29: =IF(Z29<'Vehicle Data'!C$16,'Vehicle Data'!I$15,IF(Z29<'Vehicle Data'!C$15,'Vehicle Data'!I$15,IF(Z28>'Vehicle Data'!C$15,'Vehicle Data'!I$16))) -> 0.46202745 | AD29: =IF(O29=0.6,'Vehicle Data'!F$21,IF(O29=0.9,'Vehicle Data'!F$20)) -> 3.5316 | AE29: =IF(W29="a",AC29,IF(W29="b",AD29*-1)) -> 0.46202745 | AF29: =(U29-U28)/Z29 -> 0.14483786 | AG29: =(Z29-Z28)/AF29 -> 0.46351821 | AH29: =AH28+AF29 -> 3.7471901 | AJ29: =(Z29^2)*'Vehicle Data'!C$31 -> 40.032748 | AK29: =IF(O29=0.6,'Vehicle Data'!C$6*'Vehicle Data'!D$21*9.81,IF(O29=0.9,'Vehicle Data'!C$6*9.81*'Vehicle Data'!D$20)) -> 86.1318 | AL29: =AJ29+AK29+Q29 -> 126.16455 | AN29: =IF(AG29>0,AG29*'Vehicle Data'!C$6) -> 203.48449 | AO29: =AN29+AL29 -> 329.64904 | AP29: =AO29*'Vehicle Data'!F$3 -> 84.258295 | AQ29: =IF(AE29='Vehicle Data'!I$15,AP29/'Vehicle Data'!G$15,IF(AE29='Vehicle Data'!I$16,AP29/'Vehicle Data'!G$16,IF(AE29='Vehicle Data'!I$14,Data!AP29/'Vehicle Data'!G40))) -> 15.555151 | AR29: =IF(Z29<'Vehicle Data'!C$16, Z29*'Vehicle Data'!F$7*'Vehicle Data'!G$14,IF(Z29<'Vehicle Data'!C$15,Z29*'Vehicle Data'!F$7*'Vehicle Data'!G$15,IF(Z29>'Vehicle Data'!C$15,Z29*'Vehicle Data'!F$7*'Vehicle Data'!G$16))) -> 90.794215 | AS29: =AR29*60 -> 5447.6529 | AT29: =ROUND(AQ29,0) -> 16 | AU29: =MROUND(AS29,500) -> 5500 | AW29: =VLOOKUP(AT29,BSFC!A$64:A$82,1,FALSE) -> 16 | AX29: {=_xlfn.XLOOKUP(AT29,BSFC!A$64:A$82,,-1,_xlfn.XLOOKUP(Data!AU29,BSFC!C$63:Q$63,BSFC!B$64:Q$82,,-1))} -> #VALUE! | AY29: =HLOOKUP(AU29,BSFC!F$63:Q$63,1) -> 5500 | AZ29: =MATCH(AT29,BSFC!A$64:A$83,0) -> 7 | BA29: =MATCH(AU29,BSFC!C$63:Q$63,0) -> 11 | BB29: {=INDEX(BSFC!C$64:Q$82,Data!AZ29,Data!BA29)} -> 632.5 | BC29: =0.5*'Vehicle Data'!C$6*Data!Z29^2 -> 23910.716 | BD29: =ABS(AQ30*(AS30/9.588))/1000 -> 8.9084358 | BE29: =BB29*BD29 -> 5634.5857 | BF29: =(BE29/3600)*AF29 -> 0.22669481 | BG29: =BG28+BF29 -> 5.8447956 | BH29: =AQ29*(AS29/9.588) -> 8838.0334 | BI29: =BM$9 -> 6871.6622 | BO29: =BH29*AF30 -> 1276.1418 | BP29: =BP28+BO29 -> 12831.38 | BQ29: =IF(BO29>0,BQ28+BO29,IF(BO29<=0,BQ28)) -> 12831.38 | BR29: =(BM$9*AF30)+BR28 -> 26741.638 | BS29: =IF(BO29>0,BO29) -> 1276.1418 | BT29: =IF(BH29>=0,BH29, IF(BH29<0,0)) -> 8838.0334 | BU29: =BI29*AF30 -> 992.21343 | BV29: =BM$9*AF30 -> 992.21343 | BW29: =BN$9 -> 455.4 | BX29: =BW29*BI29 -> 3129355 | BY29: =((BX29/3600)*AF30)/1000 -> 0.125515 | BZ29: =AH29 -> 3.7471901 | CB29: =BU29-BS29 -> -283.92837 | CC29: =CB29/(BZ29-BZ28) -> -1960.3188 | CD29: =CB29+CD28 -> 13178.317
D30: =ASIN((N30)/(G31-G30)) -> 0 | E30: 9.2017056 | F30: =IF(K30<6,1,IF(Data!K30<9,2,IF(K30>9,3))) -> 3 | G30: 755.03863 | H30: 212.26666 | I30: 31.499056 | J30: =(I31-I30)/(H31-H30) -> 3.112167 | K30: =I30/2.5 -> 12.599623 | L30: =(K31-K30)/(H31-H30) -> 1.2448668 | M30: =2*E30 -> 18.403411 | N30: =E31-E30 -> 0 | O30: =IF(L30<'Vehicle Data'!F$21,'Vehicle Data'!C$21,IF(L30>'Vehicle Data'!C$21,'Vehicle Data'!C$20)) -> 0.6 | P30: =('Vehicle Data'!C$6*9.81*'Vehicle Data'!C$5*SIN(D30))/'Vehicle Data'!C$9 -> 0 | Q30: ='Vehicle Data'!C$6*9.81*SIN(D30) -> 0 | R30: =G29 -> 753.51443 | S30: =IF(Data!O30=0.6,'Vehicle Data'!E$21,IF(Data!O30 = 0.9,'Vehicle Data'!E$20))+(P30*O30) -> 1550.3724 | T30: =IF(F30=3,'Vehicle Data'!H$16,IF(F30=2,'Vehicle Data'!H$15,IF(F30 = 1,'Vehicle Data'!G$14))) -> 466.23005 | U30: =R30-R$2 -> 37.375945 | V30: s | W30: a | X30: =IF(V30="S",'Vehicle Data'!C$14,IF(Data!V30 = "T1",'Vehicle Data'!P$2,IF(Data!V30="T2",'Vehicle Data'!P$3))) -> 13.4112 | Z30: =SQRT(Z29^2+2*AE29*(U30-U29)) -> 10.504007 | AB30: =IF(AA30=1,'Vehicle Data'!I$14,IF(AA30=2,'Vehicle Data'!I$15,IF(AA30=3,'Vehicle Data'!I$16))) -> FALSE | AC30: =IF(Z30<'Vehicle Data'!C$16,'Vehicle Data'!I$15,IF(Z30<'Vehicle Data'!C$15,'Vehicle Data'!I$15,IF(Z29>'Vehicle Data'!C$15,'Vehicle Data'!I$16))) -> 0.46202745 | AD30: =IF(O30=0.6,'Vehicle Data'!F$21,IF(O30=0.9,'Vehicle Data'!F$20)) -> 3.5316 | AE30: =IF(W30="a",AC30,IF(W30="b",AD30*-1)) -> 0.46202745 | AF30: =(U30-U29)/Z30 -> 0.14439206 | AG30: =(Z30-Z29)/AF30 -> 0.46350406 | AH30: =AH29+AF30 -> 3.8915821 | AJ30: =(Z30^2)*'Vehicle Data'!C$31 -> 40.547802 | AK30: =IF(O30=0.6,'Vehicle Data'!C$6*'Vehicle Data'!D$21*9.81,IF(O30=0.9,'Vehicle Data'!C$6*9.81*'Vehicle Data'!D$20)) -> 86.1318 | AL30: =AJ30+AK30+Q30 -> 126.6796 | AN30: =IF(AG30>0,AG30*'Vehicle Data'!C$6) -> 203.47828 | AO30: =AN30+AL30 -> 330.15789 | AP30: =AO30*'Vehicle Data'!F$3 -> 84.388356 | AQ30: =IF(AE30='Vehicle Data'!I$15,AP30/'Vehicle Data'!G$15,IF(AE30='Vehicle Data'!I$16,AP30/'Vehicle Data'!G$16,IF(AE30='Vehicle Data'!I$14,Data!AP30/'Vehicle Data'!G41))) -> 15.579162 | AR30: =IF(Z30<'Vehicle Data'!C$16, Z30*'Vehicle Data'!F$7*'Vehicle Data'!G$14,IF(Z30<'Vehicle Data'!C$15,Z30*'Vehicle Data'!F$7*'Vehicle Data'!G$15,IF(Z30>'Vehicle Data'!C$15,Z30*'Vehicle Data'!F$7*'Vehicle Data'!G$16))) -> 91.37642 | AS30: =AR30*60 -> 5482.5852 | AT30: =ROUND(AQ30,0) -> 16 | AU30: =MROUND(AS30,500) -> 5500 | AW30: =VLOOKUP(AT30,BSFC!A$64:A$82,1,FALSE) -> 16 | AX30: {=_xlfn.XLOOKUP(AT30,BSFC!A$64:A$82,,-1,_xlfn.XLOOKUP(Data!AU30,BSFC!C$63:Q$63,BSFC!B$64:Q$82,,-1))} -> #VALUE! | AY30: =HLOOKUP(AU30,BSFC!F$63:Q$63,1) -> 5500 | AZ30: =MATCH(AT30,BSFC!A$64:A$83,0) -> 7 | BA30: =MATCH(AU30,BSFC!C$63:Q$63,0) -> 11 | BB30: {=INDEX(BSFC!C$64:Q$82,Data!AZ30,Data!BA30)} -> 632.5 | BC30: =0.5*'Vehicle Data'!C$6*Data!Z30^2 -> 24218.347 | BD30: =ABS(AQ31*(AS31/9.588))/1000 -> 8.979033 | BE30: =BB30*BD30 -> 5679.2383 | BF30: =(BE30/3600)*AF30 -> 0.22778803 | BG30: =BG29+BF30 -> 6.0725836 | BH30: =AQ30*(AS30/9.588) -> 8908.4358 | BI30: =BM$9 -> 6871.6622 | BO30: =BH30*AF31 -> 1284.4982 | BP30: =BP29+BO30 -> 14115.878 | BQ30: =IF(BO30>0,BQ29+BO30,IF(BO30<=0,BQ29)) -> 14115.878 | BR30: =(BM$9*AF31)+BR29 -> 27732.456 | BS30: =IF(BO30>0,BO30) -> 1284.4982 | BT30: =IF(BH30>=0,BH30, IF(BH30<0,0)) -> 8908.4358 | BU30: =BI30*AF31 -> 990.81789 | BV30: =BM$9*AF31 -> 990.81789 | BW30: =BN$9 -> 455.4 | BX30: =BW30*BI30 -> 3129355 | BY30: =((BX30/3600)*AF31)/1000 -> 0.12533846 | BZ30: =AH30 -> 3.8915821 | CB30: =BU30-BS30 -> -293.68029 | CC30: =CB30/(BZ30-BZ29) -> -2033.9089 | CD30: =CB30+CD29 -> 12884.637
D31: =ASIN((N31)/(G32-G31)) -> 0 | E31: 9.2017056 | F31: =IF(K31<6,1,IF(Data!K31<9,2,IF(K31>9,3))) -> 3 | G31: 756.57018 | H31: 212.31667 | I31: 31.654665 | J31: =(I32-I31)/(H32-H31) -> 3.0150264 | K31: =I31/2.5 -> 12.661866 | L31: =(K32-K31)/(H32-H31) -> 1.2060106 | M31: =2*E31 -> 18.403411 | N31: =E32-E31 -> 0 | O31: =IF(L31<'Vehicle Data'!F$21,'Vehicle Data'!C$21,IF(L31>'Vehicle Data'!C$21,'Vehicle Data'!C$20)) -> 0.6 | P31: =('Vehicle Data'!C$6*9.81*'Vehicle Data'!C$5*SIN(D31))/'Vehicle Data'!C$9 -> 0 | Q31: ='Vehicle Data'!C$6*9.81*SIN(D31) -> 0 | R31: =G30 -> 755.03863 | S31: =IF(Data!O31=0.6,'Vehicle Data'!E$21,IF(Data!O31 = 0.9,'Vehicle Data'!E$20))+(P31*O31) -> 1550.3724 | T31: =IF(F31=3,'Vehicle Data'!H$16,IF(F31=2,'Vehicle Data'!H$15,IF(F31 = 1,'Vehicle Data'!G$14))) -> 466.23005 | U31: =R31-R$2 -> 38.900144 | V31: s | W31: a | X31: =IF(V31="S",'Vehicle Data'!C$14,IF(Data!V31 = "T1",'Vehicle Data'!P$2,IF(Data!V31="T2",'Vehicle Data'!P$3))) -> 13.4112 | Z31: =SQRT(Z30^2+2*AE30*(U31-U30)) -> 10.570837 | AB31: =IF(AA31=1,'Vehicle Data'!I$14,IF(AA31=2,'Vehicle Data'!I$15,IF(AA31=3,'Vehicle Data'!I$16))) -> FALSE | AC31: =IF(Z31<'Vehicle Data'!C$16,'Vehicle Data'!I$15,IF(Z31<'Vehicle Data'!C$15,'Vehicle Data'!I$15,IF(Z30>'Vehicle Data'!C$15,'Vehicle Data'!I$16))) -> 0.46202745 | AD31: =IF(O31=0.6,'Vehicle Data'!F$21,IF(O31=0.9,'Vehicle Data'!F$20)) -> 3.5316 | AE31: =IF(W31="a",AC31,IF(W31="b",AD31*-1)) -> 0.46202745 | AF31: =(U31-U30)/Z31 -> 0.14418897 | AG31: =(Z31-Z30)/AF31 -> 0.46349259 | AH31: =AH30+AF31 -> 4.0357711 | AJ31: =(Z31^2)*'Vehicle Data'!C$31 -> 41.065405 | AK31: =IF(O31=0.6,'Vehicle Data'!C$6*'Vehicle Data'!D$21*9.81,IF(O31=0.9,'Vehicle Data'!C$6*9.81*'Vehicle Data'!D$20)) -> 86.1318 | AL31: =AJ31+AK31+Q31 -> 127.19721 | AN31: =IF(AG31>0,AG31*'Vehicle Data'!C$6) -> 203.47325 | AO31: =AN31+AL31 -> 330.67045 | AP31: =AO31*'Vehicle Data'!F$3 -> 84.519368 | AQ31: =IF(AE31='Vehicle Data'!I$15,AP31/'Vehicle Data'!G$15,IF(AE31='Vehicle Data'!I$16,AP31/'Vehicle Data'!G$16,IF(AE31='Vehicle Data'!I$14,Data!AP31/'Vehicle Data'!G42))) -> 15.603348 | AR31: =IF(Z31<'Vehicle Data'!C$16, Z31*'Vehicle Data'!F$7*'Vehicle Data'!G$14,IF(Z31<'Vehicle Data'!C$15,Z31*'Vehicle Data'!F$7*'Vehicle Data'!G$15,IF(Z31>'Vehicle Data'!C$15,Z31*'Vehicle Data'!F$7*'Vehicle Data'!G$16))) -> 91.957792 | AS31: =AR31*60 -> 5517.4675 | AT31: =ROUND(AQ31,0) -> 16 | AU31: =MROUND(AS31,500) -> 5500 | AW31: =VLOOKUP(AT31,BSFC!A$64:A$82,1,FALSE) -> 16 | AX31: {=_xlfn.XLOOKUP(AT31,BSFC!A$64:A$82,,-1,_xlfn.XLOOKUP(Data!AU31,BSFC!C$63:Q$63,BSFC!B$64:Q$82,,-1))} -> #VALUE! | AY31: =HLOOKUP(AU31,BSFC!F$63:Q$63,1) -> 5500 | AZ31: =MATCH(AT31,BSFC!A$64:A$83,0) -> 7 | BA31: =MATCH(AU31,BSFC!C$63:Q$63,0) -> 11 | BB31: {=INDEX(BSFC!C$64:Q$82,Data!AZ31,Data!BA31)} -> 632.5 | BC31: =0.5*'Vehicle Data'!C$6*Data!Z31^2 -> 24527.5 | BD31: =ABS(AQ32*(AS32/9.588))/1000 -> 9.0497899 | BE31: =BB31*BD31 -> 5723.9921 | BF31: =(BE31/3600)*AF31 -> 0.22926015 | BG31: =BG30+BF31 -> 6.3018438 | BH31: =AQ31*(AS31/9.588) -> 8979.033 | BI31: =BM$9 -> 6871.6622 | BO31: =BH31*AF32 -> 1292.7685 | BP31: =BP30+BO31 -> 15408.647 | BQ31: =IF(BO31>0,BQ30+BO31,IF(BO31<=0,BQ30)) -> 15408.647 | BR31: =(BM$9*AF32)+BR30 -> 28721.813 | BS31: =IF(BO31>0,BO31) -> 1292.7685 | BT31: =IF(BH31>=0,BH31, IF(BH31<0,0)) -> 8979.033 | BU31: =BI31*AF32 -> 989.35696 | BV31: =BM$9*AF32 -> 989.35696 | BW31: =BN$9 -> 455.4 | BX31: =BW31*BI31 -> 3129355 | BY31: =((BX31/3600)*AF32)/1000 -> 0.12515365 | BZ31: =AH31 -> 4.0357711 | CB31: =BU31-BS31 -> -303.41158 | CC31: =CB31/(BZ31-BZ30) -> -2104.2635 | CD31: =CB31+CD30 -> 12581.225
D32: =ASIN((N32)/(G33-G32)) -> 0 | E32: 9.2017056 | F32: =IF(K32<6,1,IF(Data!K32<9,2,IF(K32>9,3))) -> 3 | G32: 758.11051 | H32: 212.36666 | I32: 31.805416 | J32: =(I33-I32)/(H33-H32) -> 2.7163613 | K32: =I32/2.5 -> 12.722166 | L32: =(K33-K32)/(H33-H32) -> 1.0865445 | M32: =2*E32 -> 18.403411 | N32: =E33-E32 -> 0 | O32: =IF(L32<'Vehicle Data'!F$21,'Vehicle Data'!C$21,IF(L32>'Vehicle Data'!C$21,'Vehicle Data'!C$20)) -> 0.6 | P32: =('Vehicle Data'!C$6*9.81*'Vehicle Data'!C$5*SIN(D32))/'Vehicle Data'!C$9 -> 0 | Q32: ='Vehicle Data'!C$6*9.81*SIN(D32) -> 0 | R32: =G31 -> 756.57018 | S32: =IF(Data!O32=0.6,'Vehicle Data'!E$21,IF(Data!O32 = 0.9,'Vehicle Data'!E$20))+(P32*O32) -> 1550.3724 | T32: =IF(F32=3,'Vehicle Data'!H$16,IF(F32=2,'Vehicle Data'!H$15,IF(F32 = 1,'Vehicle Data'!G$14))) -> 466.23005 | U32: =R32-R$2 -> 40.431702 | V32: s | W32: a | X32: =IF(V32="S",'Vehicle Data'!C$14,IF(Data!V32 = "T1",'Vehicle Data'!P$2,IF(Data!V32="T2",'Vehicle Data'!P$3))) -> 13.4112 | Z32: =SQRT(Z31^2+2*AE31*(U32-U31)) -> 10.637568 | AB32: =IF(AA32=1,'Vehicle Data'!I$14,IF(AA32=2,'Vehicle Data'!I$15,IF(AA32=3,'Vehicle Data'!I$16))) -> FALSE | AC32: =IF(Z32<'Vehicle Data'!C$16,'Vehicle Data'!I$15,IF(Z32<'Vehicle Data'!C$15,'Vehicle Data'!I$15,IF(Z31>'Vehicle Data'!C$15,'Vehicle Data'!I$16))) -> 0.46202745 | AD32: =IF(O32=0.6,'Vehicle Data'!F$21,IF(O32=0.9,'Vehicle Data'!F$20)) -> 3.5316 | AE32: =IF(W32="a",AC32,IF(W32="b",AD32*-1)) -> 0.46202745 | AF32: =(U32-U31)/Z32 -> 0.14397637 | AG32: =(Z32-Z31)/AF32 -> 0.46348118 | AH32: =AH31+AF32 -> 4.1797475 | AJ32: =(Z32^2)*'Vehicle Data'!C$31 -> 41.585507 | AK32: =IF(O32=0.6,'Vehicle Data'!C$6*'Vehicle Data'!D$21*9.81,IF(O32=0.9,'Vehicle Data'!C$6*9.81*'Vehicle Data'!D$20)) -> 86.1318 | AL32: =AJ32+AK32+Q32 -> 127.71731 | AN32: =IF(AG32>0,AG32*'Vehicle Data'!C$6) -> 203.46824 | AO32: =AN32+AL32 -> 331.18555 | AP32: =AO32*'Vehicle Data'!F$3 -> 84.651026 | AQ32: =IF(AE32='Vehicle Data'!I$15,AP32/'Vehicle Data'!G$15,IF(AE32='Vehicle Data'!I$16,AP32/'Vehicle Data'!G$16,IF(AE32='Vehicle Data'!I$14,Data!AP32/'Vehicle Data'!G43))) -> 15.627654 | AR32: =IF(Z32<'Vehicle Data'!C$16, Z32*'Vehicle Data'!F$7*'Vehicle Data'!G$14,IF(Z32<'Vehicle Data'!C$15,Z32*'Vehicle Data'!F$7*'Vehicle Data'!G$15,IF(Z32>'Vehicle Data'!C$15,Z32*'Vehicle Data'!F$7*'Vehicle Data'!G$16))) -> 92.538292 | AS32: =AR32*60 -> 5552.2975 | AT32: =ROUND(AQ32,0) -> 16 | AU32: =MROUND(AS32,500) -> 5500 | AW32: =VLOOKUP(AT32,BSFC!A$64:A$82,1,FALSE) -> 16 | AX32: {=_xlfn.XLOOKUP(AT32,BSFC!A$64:A$82,,-1,_xlfn.XLOOKUP(Data!AU32,BSFC!C$63:Q$63,BSFC!B$64:Q$82,,-1))} -> #VALUE! | AY32: =HLOOKUP(AU32,BSFC!F$63:Q$63,1) -> 5500 | AZ32: =MATCH(AT32,BSFC!A$64:A$83,0) -> 7 | BA32: =MATCH(AU32,BSFC!C$63:Q$63,0) -> 11 | BB32: {=INDEX(BSFC!C$64:Q$82,Data!AZ32,Data!BA32)} -> 632.5 | BC32: =0.5*'Vehicle Data'!C$6*Data!Z32^2 -> 24838.146 | BD32: =ABS(AQ33*(AS33/9.588))/1000 -> 9.1207914 | BE32: =BB32*BD32 -> 5768.9006 | BF32: =(BE32/3600)*AF32 -> 0.23071815 | BG32: =BG31+BF32 -> 6.5325619 | BH32: =AQ32*(AS32/9.588) -> 9049.7899 | BI32: =BM$9 -> 6871.6622 | BO32: =BH32*AF33 -> 1302.2491 | BP32: =BP31+BO32 -> 16710.896 | BQ32: =IF(BO32>0,BQ31+BO32,IF(BO32<=0,BQ31)) -> 16710.896 | BR32: =(BM$9*AF33)+BR31 -> 29710.633 | BS32: =IF(BO32>0,BO32) -> 1302.2491 | BT32: =IF(BH32>=0,BH32, IF(BH32<0,0)) -> 9049.7899 | BU32: =BI32*AF33 -> 988.82031 | BV32: =BM$9*AF33 -> 988.82031 | BW32: =BN$9 -> 455.4 | BX32: =BW32*BI32 -> 3129355 | BY32: =((BX32/3600)*AF33)/1000 -> 0.12508577 | BZ32: =AH32 -> 4.1797475 | CB32: =BU32-BS32 -> -313.42881 | CC32: =CB32/(BZ32-BZ31) -> -2176.9462 | CD32: =CB32+CD31 -> 12267.797
D33: =ASIN((N33)/(G34-G33)) -> 0 | E33: 9.2017056 | F33: =IF(K33<6,1,IF(Data!K33<9,2,IF(K33>9,3))) -> 3 | G33: 759.66005 | H33: 212.41666 | I33: 31.941234 | J33: =(I34-I33)/(H34-H33) -> 3.2629034 | K33: =I33/2.5 -> 12.776494 | L33: =(K34-K33)/(H34-H33) -> 1.3051614 | M33: =2*E33 -> 18.403411 | N33: =E34-E33 -> 0 | O33: =IF(L33<'Vehicle Data'!F$21,'Vehicle Data'!C$21,IF(L33>'Vehicle Data'!C$21,'Vehicle Data'!C$20)) -> 0.6 | P33: =('Vehicle Data'!C$6*9.81*'Vehicle Data'!C$5*SIN(D33))/'Vehicle Data'!C$9 -> 0 | Q33: ='Vehicle Data'!C$6*9.81*SIN(D33) -> 0 | R33: =G32 -> 758.11051 | S33: =IF(Data!O33=0.6,'Vehicle Data'!E$21,IF(Data!O33 = 0.9,'Vehicle Data'!E$20))+(P33*O33) -> 1550.3724 | T33: =IF(F33=3,'Vehicle Data'!H$16,IF(F33=2,'Vehicle Data'!H$15,IF(F33 = 1,'Vehicle Data'!G$14))) -> 466.23005 | U33: =R33-R$2 -> 41.972026 | V33: s | W33: a | X33: =IF(V33="S",'Vehicle Data'!C$14,IF(Data!V33 = "T1",'Vehicle Data'!P$2,IF(Data!V33="T2",'Vehicle Data'!P$3))) -> 13.4112 | Z33: =SQRT(Z32^2+2*AE32*(U33-U32)) -> 10.70426 | AB33: =IF(AA33=1,'Vehicle Data'!I$14,IF(AA33=2,'Vehicle Data'!I$15,IF(AA33=3,'Vehicle Data'!I$16))) -> FALSE | AC33: 0.1 | AD33: =IF(O33=0.6,'Vehicle Data'!F$21,IF(O33=0.9,'Vehicle Data'!F$20)) -> 3.5316 | AE33: =IF(W33="a",AC33,IF(W33="b",AD33*-1)) -> 0.1 | AF33: =(U33-U32)/Z33 -> 0.14389827 | AG33: =(Z33-Z32)/AF33 -> 0.46347128 | AH33: =AH32+AF33 -> 4.3236457 | AJ33: =(Z33^2)*'Vehicle Data'!C$31 -> 42.108586 | AK33: =IF(O33=0.6,'Vehicle Data'!C$6*'Vehicle Data'!D$21*9.81,IF(O33=0.9,'Vehicle Data'!C$6*9.81*'Vehicle Data'!D$20)) -> 86.1318 | AL33: =AJ33+AK33+Q33 -> 128.24039 | AN33: =IF(AG33>0,AG33*'Vehicle Data'!C$6) -> 203.46389 | AO33: =AN33+AL33 -> 331.70428 | AP33: =AO33*'Vehicle Data'!F$3 -> 84.783613 | AQ33: =IF(AE33<'Vehicle Data'!I16,AP33/'Vehicle Data'!G16,IF(AE33='Vehicle Data'!I$15,AP33/'Vehicle Data'!G$15,IF(AE33='Vehicle Data'!I$16,AP33/'Vehicle Data'!G$16,IF(AE33='Vehicle Data'!I$14,Data!AP33/'Vehicle Data'!G44)))) -> 15.652132 | AR33: =IF(Z33<'Vehicle Data'!C$16, Z33*'Vehicle Data'!F$7*'Vehicle Data'!G$14,IF(Z33<'Vehicle Data'!C$15,Z33*'Vehicle Data'!F$7*'Vehicle Data'!G$15,IF(Z33>'Vehicle Data'!C$15,Z33*'Vehicle Data'!F$7*'Vehicle Data'!G$16))) -> 93.118465 | AS33: =AR33*60 -> 5587.1079 | AT33: 20 | AU33: =MROUND(AS33,500) -> 5500 | AW33: =VLOOKUP(AT33,BSFC!A$64:A$82,1,FALSE) -> 20 | AX33: {=_xlfn.XLOOKUP(AT33,BSFC!A$64:A$82,,-1,_xlfn.XLOOKUP(Data!AU33,BSFC!C$63:Q$63,BSFC!B$64:Q$82,,-1))} -> #VALUE! | AY33: =HLOOKUP(AU33,BSFC!F$63:Q$63,1) -> 5500 | AZ33: =MATCH(AT33,BSFC!A$64:A$83,0) -> 3 | BA33: =MATCH(AU33,BSFC!C$63:Q$63,0) -> 11 | BB33: {=INDEX(BSFC!C$64:Q$82,Data!AZ33,Data!BA33)} -> 578 | BC33: =0.5*'Vehicle Data'!C$6*Data!Z33^2 -> 25150.571 | BD33: =ABS(AQ34*(AS34/9.588))/1000 -> 4.743651 | BE33: =BB33*BD33 -> 2741.8303 | BF33: =(BE33/3600)*AF33 -> 0.10959573 | BG33: =BG32+BF33 -> 6.6421576 | BH33: =AQ33*(AS33/9.588) -> 9120.7914 | BI33: =BM$9 -> 6871.6622 | BO33: =BH33*AF34 -> 1318.5377 | BP33: =BP32+BO33 -> 18029.434 | BQ33: =IF(BO33>0,BQ32+BO33,IF(BO33<=0,BQ32)) -> 18029.434 | BR33: =(BM$9*AF34)+BR32 -> 30704.028 | BS33: =IF(BO33>0,BO33) -> 1318.5377 | BT33: =IF(BH33>=0,BH33, IF(BH33<0,0)) -> 9120.7914 | BU33: =BI33*AF34 -> 993.3947 | BV33: =BM$9*AF34 -> 993.3947 | BW33: =BN$9 -> 455.4 | BX33: =BW33*BI33 -> 3129355 | BY33: =((BX33/3600)*AF34)/1000 -> 0.12566443 | BZ33: =AH33 -> 4.3236457 | CB33: =BU33-BS33 -> -325.14302 | CC33: =CB33/(BZ33-BZ32) -> -2259.5339 | CD33: =CB33+CD32 -> 11942.653
D34: =ASIN((N34)/(G35-G34)) -> 0 | E34: 9.2017056 | F34: =IF(K34<6,1,IF(Data!K34<9,2,IF(K34>9,3))) -> 3 | G34: 761.22029 | H34: 212.46666 | I34: 32.104379 | J34: =(I35-I34)/(H35-H34) -> 2.9753629 | K34: =I34/2.5 -> 12.841752 | L34: =(K35-K34)/(H35-H34) -> 1.1901452 | M34: =2*E34 -> 18.403411 | N34: =E35-E34 -> 0 | O34: =IF(L34<'Vehicle Data'!F$21,'Vehicle Data'!C$21,IF(L34>'Vehicle Data'!C$21,'Vehicle Data'!C$20)) -> 0.6 | P34: =('Vehicle Data'!C$6*9.81*'Vehicle Data'!C$5*SIN(D34))/'Vehicle Data'!C$9 -> 0 | Q34: ='Vehicle Data'!C$6*9.81*SIN(D34) -> 0 | R34: =G33 -> 759.66005 | S34: =IF(Data!O34=0.6,'Vehicle Data'!E$21,IF(Data!O34 = 0.9,'Vehicle Data'!E$20))+(P34*O34) -> 1550.3724 | T34: =IF(F34=3,'Vehicle Data'!H$16,IF(F34=2,'Vehicle Data'!H$15,IF(F34 = 1,'Vehicle Data'!G$14))) -> 466.23005 | U34: =R34-R$2 -> 43.521568 | V34: s | W34: a | X34: =IF(V34="S",'Vehicle Data'!C$14,IF(Data!V34 = "T1",'Vehicle Data'!P$2,IF(Data!V34="T2",'Vehicle Data'!P$3))) -> 13.4112 | Z34: =SQRT(Z33^2+2*AE33*(U34-U33)) -> 10.718726 | AB34: =IF(AA34=1,'Vehicle Data'!I$14,IF(AA34=2,'Vehicle Data'!I$15,IF(AA34=3,'Vehicle Data'!I$16))) -> FALSE | AC34: =IF(Z34<'Vehicle Data'!C$16,'Vehicle Data'!I$15,IF(Z34<'Vehicle Data'!C$15,'Vehicle Data'!I$15,IF(Z33>'Vehicle Data'!C$15,'Vehicle Data'!I$16))) -> 0.46202745 | AD34: =IF(O34=0.6,'Vehicle Data'!F$21,IF(O34=0.9,'Vehicle Data'!F$20)) -> 3.5316 | AE34: =IF(W34="a",AC34,IF(W34="b",AD34*-1)) -> 0.46202745 | AF34: =(U34-U33)/Z34 -> 0.14456396 | AG34: =(Z34-Z33)/AF34 -> 0.10006753 | AH34: =AH33+AF34 -> 4.4682097 | AJ34: =(Z34^2)*'Vehicle Data'!C$31 -> 42.222478 | AK34: =IF(O34=0.6,'Vehicle Data'!C$6*'Vehicle Data'!D$21*9.81,IF(O34=0.9,'Vehicle Data'!C$6*9.81*'Vehicle Data'!D$20)) -> 86.1318 | AL34: =AJ34+AK34+Q34 -> 128.35428 | AN34: =IF(AG34>0,AG34*'Vehicle Data'!C$6) -> 43.929644 | AO34: =AN34+AL34 -> 172.28392 | AP34: =AO34*'Vehicle Data'!F$3 -> 44.03577 | AQ34: =IF(AE34='Vehicle Data'!I$15,AP34/'Vehicle Data'!G$15,IF(AE34='Vehicle Data'!I$16,AP34/'Vehicle Data'!G$16,IF(AE34='Vehicle Data'!I$14,Data!AP34/'Vehicle Data'!G45))) -> 8.1295623 | AR34: =IF(Z34<'Vehicle Data'!C$16, Z34*'Vehicle Data'!F$7*'Vehicle Data'!G$14,IF(Z34<'Vehicle Data'!C$15,Z34*'Vehicle Data'!F$7*'Vehicle Data'!G$15,IF(Z34>'Vehicle Data'!C$15,Z34*'Vehicle Data'!F$7*'Vehicle Data'!G$16))) -> 93.244309 | AS34: =AR34*60 -> 5594.6586 | AT34: =ROUND(AQ34,0) -> 8 | AU34: =MROUND(AS34,500) -> 5500 | AW34: =VLOOKUP(AT34,BSFC!A$64:A$82,1,FALSE) -> 8 | AX34: {=_xlfn.XLOOKUP(AT34,BSFC!A$64:A$82,,-1,_xlfn.XLOOKUP(Data!AU34,BSFC!C$63:Q$63,BSFC!B$64:Q$82,,-1))} -> #VALUE! | AY34: =HLOOKUP(AU34,BSFC!F$63:Q$63,1) -> 5500 | AZ34: =MATCH(AT34,BSFC!A$64:A$83,0) -> 15 | BA34: =MATCH(AU34,BSFC!C$63:Q$63,0) -> 11 | BB34: {=INDEX(BSFC!C$64:Q$82,Data!AZ34,Data!BA34)} -> 657.5 | BC34: =0.5*'Vehicle Data'!C$6*Data!Z34^2 -> 25218.595 | BD34: =ABS(AQ35*(AS35/9.588))/1000 -> 9.208038 | BE34: =BB34*BD34 -> 6054.285 | BF34: =(BE34/3600)*AF34 -> 0.24311984 | BG34: =BG33+BF34 -> 6.8852775 | BH34: =AQ34*(AS34/9.588) -> 4743.651 | BI34: =BM$9 -> 6871.6622 | BO34: =BH34*AF35 -> 686.20191 | BP34: =BP33+BO34 -> 18715.636 | BQ34: =IF(BO34>0,BQ33+BO34,IF(BO34<=0,BQ33)) -> 18715.636 | BR34: =(BM$9*AF35)+BR33 -> 31698.061 | BS34: =IF(BO34>0,BO34) -> 686.20191 | BT34: =IF(BH34>=0,BH34, IF(BH34<0,0)) -> 4743.651 | BU34: =BI34*AF35 -> 994.03345 | BV34: =BM$9*AF35 -> 994.03345 | BW34: =BN$9 -> 455.4 | BX34: =BW34*BI34 -> 3129355 | BY34: =((BX34/3600)*AF35)/1000 -> 0.12574523 | BZ34: =AH34 -> 4.4682097 | CB34: =BU34-BS34 -> 307.83154 | CC34: =CB34/(BZ34-BZ33) -> 2129.3796 | CD34: =CB34+CD33 -> 12250.485
D35: =ASIN((N35)/(G36-G35)) -> 0 | E35: 9.2017056 | F35: =IF(K35<6,1,IF(Data!K35<9,2,IF(K35>9,3))) -> 3 | G35: 762.79286 | H35: 212.51666 | I35: 32.253147 | J35: =(I36-I35)/(H36-H35) -> 2.7737515 | K35: =I35/2.5 -> 12.901259 | L35: =(K36-K35)/(H36-H35) -> 1.1095006 | M35: =2*E35 -> 18.403411 | N35: =E36-E35 -> 0 | O35: =IF(L35<'Vehicle Data'!F$21,'Vehicle Data'!C$21,IF(L35>'Vehicle Data'!C$21,'Vehicle Data'!C$20)) -> 0.6 | P35: =('Vehicle Data'!C$6*9.81*'Vehicle Data'!C$5*SIN(D35))/'Vehicle Data'!C$9 -> 0 | Q35: ='Vehicle Data'!C$6*9.81*SIN(D35) -> 0 | R35: =G34 -> 761.22029 | S35: =IF(Data!O35=0.6,'Vehicle Data'!E$21,IF(Data!O35 = 0.9,'Vehicle Data'!E$20))+(P35*O35) -> 1550.3724 | T35: =IF(F35=3,'Vehicle Data'!H$16,IF(F35=2,'Vehicle Data'!H$15,IF(F35 = 1,'Vehicle Data'!G$14))) -> 466.23005 | U35: =R35-R$2 -> 45.081804 | V35: s | W35: a | X35: =IF(V35="S",'Vehicle Data'!C$14,IF(Data!V35 = "T1",'Vehicle Data'!P$2,IF(Data!V35="T2",'Vehicle Data'!P$3))) -> 13.4112 | Z35: =SQRT(Z34^2+2*AE34*(U35-U34)) -> 10.78577 | AB35: =IF(AA35=1,'Vehicle Data'!I$14,IF(AA35=2,'Vehicle Data'!I$15,IF(AA35=3,'Vehicle Data'!I$16))) -> FALSE | AC35: =IF(Z35<'Vehicle Data'!C$16,'Vehicle Data'!I$15,IF(Z35<'Vehicle Data'!C$15,'Vehicle Data'!I$15,IF(Z34>'Vehicle Data'!C$15,'Vehicle Data'!I$16))) -> 0.46202745 | AD35: =IF(O35=0.6,'Vehicle Data'!F$21,IF(O35=0.9,'Vehicle Data'!F$20)) -> 3.5316 | AE35: =IF(W35="a",AC35,IF(W35="b",AD35*-1)) -> 0.46202745 | AF35: =(U35-U34)/Z35 -> 0.14465691 | AG35: =(Z35-Z34)/AF35 -> 0.4634679 | AH35: =AH34+AF35 -> 4.6128666 | AJ35: =(Z35^2)*'Vehicle Data'!C$31 -> 42.752318 | AK35: =IF(O35=0.6,'Vehicle Data'!C$6*'Vehicle Data'!D$21*9.81,IF(O35=0.9,'Vehicle Data'!C$6*9.81*'Vehicle Data'!D$20)) -> 86.1318 | AL35: =AJ35+AK35+Q35 -> 128.88412 | AN35: =IF(AG35>0,AG35*'Vehicle Data'!C$6) -> 203.46241 | AO35: =AN35+AL35 -> 332.34653 | AP35: =AO35*'Vehicle Data'!F$3 -> 84.947772 | AQ35: =IF(AE35='Vehicle Data'!I$15,AP35/'Vehicle Data'!G$15,IF(AE35='Vehicle Data'!I$16,AP35/'Vehicle Data'!G$16,IF(AE35='Vehicle Data'!I$14,Data!AP35/'Vehicle Data'!G46))) -> 15.682437 | AR35: =IF(Z35<'Vehicle Data'!C$16, Z35*'Vehicle Data'!F$7*'Vehicle Data'!G$14,IF(Z35<'Vehicle Data'!C$15,Z35*'Vehicle Data'!F$7*'Vehicle Data'!G$15,IF(Z35>'Vehicle Data'!C$15,Z35*'Vehicle Data'!F$7*'Vehicle Data'!G$16))) -> 93.827537 | AS35: =AR35*60 -> 5629.6522 | AT35: =ROUND(AQ35,0) -> 16 | AU35: =MROUND(AS35,500) -> 5500 | AW35: =VLOOKUP(AT35,BSFC!A$64:A$82,1,FALSE) -> 16 | AX35: {=_xlfn.XLOOKUP(AT35,BSFC!A$64:A$82,,-1,_xlfn.XLOOKUP(Data!AU35,BSFC!C$63:Q$63,BSFC!B$64:Q$82,,-1))} -> #VALUE! | AY35: =HLOOKUP(AU35,BSFC!F$63:Q$63,1) -> 5500 | AZ35: =MATCH(AT35,BSFC!A$64:A$83,0) -> 7 | BA35: =MATCH(AU35,BSFC!C$63:Q$63,0) -> 11 | BB35: {=INDEX(BSFC!C$64:Q$82,Data!AZ35,Data!BA35)} -> 632.5 | BC35: =0.5*'Vehicle Data'!C$6*Data!Z35^2 -> 25535.058 | BD35: =ABS(AQ36*(AS36/9.588))/1000 -> 9.2801772 | BE35: =BB35*BD35 -> 5869.7121 | BF35: =(BE35/3600)*AF35 -> 0.23585957 | BG35: =BG34+BF35 -> 7.121137 | BH35: =AQ35*(AS35/9.588) -> 9208.038 | BI35: =BM$9 -> 6871.6622 | BO35: =BH35*AF36 -> 1334.2315 | BP35: =BP34+BO35 -> 20049.867 | BQ35: =IF(BO35>0,BQ34+BO35,IF(BO35<=0,BQ34)) -> 20049.867 | BR35: =(BM$9*AF36)+BR34 -> 32693.755 | BS35: =IF(BO35>0,BO35) -> 1334.2315 | BT35: =IF(BH35>=0,BH35, IF(BH35<0,0)) -> 9208.038 | BU35: =BI35*AF36 -> 995.69397 | BV35: =BM$9*AF36 -> 995.69397 | BW35: =BN$9 -> 455.4 | BX35: =BW35*BI35 -> 3129355 | BY35: =((BX35/3600)*AF36)/1000 -> 0.12595529 | BZ35: =AH35 -> 4.6128666 | CB35: =BU35-BS35 -> -338.53749 | CC35: =CB35/(BZ35-BZ34) -> -2340.2786 | CD35: =CB35+CD34 -> 11911.948
D36: =ASIN((N36)/(G37-G36)) -> 0 | E36: 9.2017056 | F36: =IF(K36<6,1,IF(Data!K36<9,2,IF(K36>9,3))) -> 3 | G36: 764.37801 | H36: 212.56667 | I36: 32.391835 | J36: =(I37-I36)/(H37-H36) -> 2.5572919 | K36: =I36/2.5 -> 12.956734 | L36: =(K37-K36)/(H37-H36) -> 1.0229168 | M36: =2*E36 -> 18.403411 | N36: =E37-E36 -> 0 | O36: =IF(L36<'Vehicle Data'!F$21,'Vehicle Data'!C$21,IF(L36>'Vehicle Data'!C$21,'Vehicle Data'!C$20)) -> 0.6 | P36: =('Vehicle Data'!C$6*9.81*'Vehicle Data'!C$5*SIN(D36))/'Vehicle Data'!C$9 -> 0 | Q36: ='Vehicle Data'!C$6*9.81*SIN(D36) -> 0 | R36: =G35 -> 762.79286 | S36: =IF(Data!O36=0.6,'Vehicle Data'!E$21,IF(Data!O36 = 0.9,'Vehicle Data'!E$20))+(P36*O36) -> 1550.3724 | T36: =IF(F36=3,'Vehicle Data'!H$16,IF(F36=2,'Vehicle Data'!H$15,IF(F36 = 1,'Vehicle Data'!G$14))) -> 466.23005 | U36: =R36-R$2 -> 46.654377 | V36: s | W36: a | X36: =IF(V36="S",'Vehicle Data'!C$14,IF(Data!V36 = "T1",'Vehicle Data'!P$2,IF(Data!V36="T2",'Vehicle Data'!P$3))) -> 13.4112 | Z36: =SQRT(Z35^2+2*AE35*(U36-U35)) -> 10.852925 | AB36: =IF(AA36=1,'Vehicle Data'!I$14,IF(AA36=2,'Vehicle Data'!I$15,IF(AA36=3,'Vehicle Data'!I$16))) -> FALSE | AC36: =IF(Z36<'Vehicle Data'!C$16,'Vehicle Data'!I$15,IF(Z36<'Vehicle Data'!C$15,'Vehicle Data'!I$15,IF(Z35>'Vehicle Data'!C$15,'Vehicle Data'!I$16))) -> 0.46202745 | AD36: =IF(O36=0.6,'Vehicle Data'!F$21,IF(O36=0.9,'Vehicle Data'!F$20)) -> 3.5316 | AE36: =IF(W36="a",AC36,IF(W36="b",AD36*-1)) -> 0.46202745 | AF36: =(U36-U35)/Z36 -> 0.14489856 | AG36: =(Z36-Z35)/AF36 -> 0.46346134 | AH36: =AH35+AF36 -> 4.7577652 | AJ36: =(Z36^2)*'Vehicle Data'!C$31 -> 43.286349 | AK36: =IF(O36=0.6,'Vehicle Data'!C$6*'Vehicle Data'!D$21*9.81,IF(O36=0.9,'Vehicle Data'!C$6*9.81*'Vehicle Data'!D$20)) -> 86.1318 | AL36: =AJ36+AK36+Q36 -> 129.41815 | AN36: =IF(AG36>0,AG36*'Vehicle Data'!C$6) -> 203.45953 | AO36: =AN36+AL36 -> 332.87768 | AP36: =AO36*'Vehicle Data'!F$3 -> 85.083534 | AQ36: =IF(AE36='Vehicle Data'!I$15,AP36/'Vehicle Data'!G$15,IF(AE36='Vehicle Data'!I$16,AP36/'Vehicle Data'!G$16,IF(AE36='Vehicle Data'!I$14,Data!AP36/'Vehicle Data'!G47))) -> 15.707501 | AR36: =IF(Z36<'Vehicle Data'!C$16, Z36*'Vehicle Data'!F$7*'Vehicle Data'!G$14,IF(Z36<'Vehicle Data'!C$15,Z36*'Vehicle Data'!F$7*'Vehicle Data'!G$15,IF(Z36>'Vehicle Data'!C$15,Z36*'Vehicle Data'!F$7*'Vehicle Data'!G$16))) -> 94.41173 | AS36: =AR36*60 -> 5664.7038 | AT36: =ROUND(AQ36,0) -> 16 | AU36: =MROUND(AS36,500) -> 5500 | AW36: =VLOOKUP(AT36,BSFC!A$64:A$82,1,FALSE) -> 16 | AX36: {=_xlfn.XLOOKUP(AT36,BSFC!A$64:A$82,,-1,_xlfn.XLOOKUP(Data!AU36,BSFC!C$63:Q$63,BSFC!B$64:Q$82,,-1))} -> #VALUE! | AY36: =HLOOKUP(AU36,BSFC!F$63:Q$63,1) -> 5500 | AZ36: =MATCH(AT36,BSFC!A$64:A$83,0) -> 7 | BA36: =MATCH(AU36,BSFC!C$63:Q$63,0) -> 11 | BB36: {=INDEX(BSFC!C$64:Q$82,Data!AZ36,Data!BA36)} -> 632.5 | BC36: =0.5*'Vehicle Data'!C$6*Data!Z36^2 -> 25854.023 | BD36: =ABS(AQ37*(AS37/9.588))/1000 -> 38.420519 | BE36: =BB36*BD36 -> 24300.978 | BF36: =(BE36/3600)*AF36 -> 0.97810465 | BG36: =BG35+BF36 -> 8.0992417 | BH36: =AQ36*(AS36/9.588) -> 9280.1772 | BI36: =BM$9 -> 6871.6622 | BO36: =BH36*AF37 -> 1428.205 | BP36: =BP35+BO36 -> 21478.072 | BQ36: =IF(BO36>0,BQ35+BO36,IF(BO36<=0,BQ35)) -> 21478.072 | BR36: =(BM$9*AF37)+BR35 -> 33751.293 | BS36: =IF(BO36>0,BO36) -> 1428.205 | BT36: =IF(BH36>=0,BH36, IF(BH36<0,0)) -> 9280.1772 | BU36: =BI36*AF37 -> 1057.5383 | BV36: =BM$9*AF37 -> 1057.5383 | BW36: =BN$9 -> 455.4 | BX36: =BW36*BI36 -> 3129355 | BY36: =((BX36/3600)*AF37)/1000 -> 0.13377859 | BZ36: =AH36 -> 4.7577652 | CB36: =BU36-BS36 -> -370.66676 | CC36: =CB36/(BZ36-BZ35) -> -2558.1121 | CD36: =CB36+CD35 -> 11541.281
D37: =ASIN((N37)/(G38-G37)) -> 0 | E37: 9.2017056 | F37: =IF(K37<6,1,IF(Data!K37<9,2,IF(K37>9,3))) -> 3 | G37: 765.97576 | H37: 212.61666 | I37: 32.5197 | J37: =(I38-I37)/(H38-H37) -> 2.6283738 | K37: =I37/2.5 -> 13.00788 | L37: =(K38-K37)/(H38-H37) -> 1.0513495 | M37: =2*E37 -> 18.403411 | N37: =E38-E37 -> 0 | O37: =IF(L37<'Vehicle Data'!F$21,'Vehicle Data'!C$21,IF(L37>'Vehicle Data'!C$21,'Vehicle Data'!C$20)) -> 0.6 | P37: =('Vehicle Data'!C$6*9.81*'Vehicle Data'!C$5*SIN(D37))/'Vehicle Data'!C$9 -> 0 | Q37: ='Vehicle Data'!C$6*9.81*SIN(D37) -> 0 | R37: =G36 -> 764.37801 | S37: =IF(Data!O37=0.6,'Vehicle Data'!E$21,IF(Data!O37 = 0.9,'Vehicle Data'!E$20))+(P37*O37) -> 1550.3724 | T37: =IF(F37=3,'Vehicle Data'!H$16,IF(F37=2,'Vehicle Data'!H$15,IF(F37 = 1,'Vehicle Data'!G$14))) -> 466.23005 | U37: =R37-R$2 -> 48.239532 | V37: s | W37: a | X37: =IF(V37="S",'Vehicle Data'!C$14,IF(Data!V37 = "T1",'Vehicle Data'!P$2,IF(Data!V37="T2",'Vehicle Data'!P$3))) -> 13.4112 | Z37: 10.3 | AB37: =IF(AA37=1,'Vehicle Data'!I$14,IF(AA37=2,'Vehicle Data'!I$15,IF(AA37=3,'Vehicle Data'!I$16))) -> FALSE | AC37: =IF(Z37<'Vehicle Data'!C$16,'Vehicle Data'!I$15,IF(Z37<'Vehicle Data'!C$15,'Vehicle Data'!I$15,IF(Z36>'Vehicle Data'!C$15,'Vehicle Data'!I$16))) -> 0.46202745 | AD37: =IF(O37=0.6,'Vehicle Data'!F$21,IF(O37=0.9,'Vehicle Data'!F$20)) -> 3.5316 | AE37: =IF(W37="a",AC37,IF(W37="b",AD37*-1)) -> 0.46202745 | AF37: =(U37-U36)/Z37 -> 0.15389846 | AG37: =(Z37-Z36)/AF37 -> -3.5927916 | AH37: =AH36+AF37 -> 4.9116636 | AJ37: =(Z37^2)*'Vehicle Data'!C$31 -> 38.988075 | AK37: =IF(O37=0.6,'Vehicle Data'!C$6*'Vehicle Data'!D$21*9.81,IF(O37=0.9,'Vehicle Data'!C$6*9.81*'Vehicle Data'!D$20)) -> 86.1318 | AL37: =AJ37+AK37+Q37 -> 125.11988 | AN37: =IF(AG37<0,AG37*'Vehicle Data'!C$6) -> -1577.2355 | AO37: =AN37+AL37 -> -1452.1157 | AP37: =AO37*'Vehicle Data'!F$3 -> -371.16076 | AQ37: =IF(AE37='Vehicle Data'!I$15,AP37/'Vehicle Data'!G$15,IF(AE37='Vehicle Data'!I$16,AP37/'Vehicle Data'!G$16,IF(AE37='Vehicle Data'!I$14,Data!AP37/'Vehicle Data'!G48))) -> -68.520989 | AR37: =IF(Z37<'Vehicle Data'!C$16, Z37*'Vehicle Data'!F$7*'Vehicle Data'!G$14,IF(Z37<'Vehicle Data'!C$15,Z37*'Vehicle Data'!F$7*'Vehicle Data'!G$15,IF(Z37>'Vehicle Data'!C$15,Z37*'Vehicle Data'!F$7*'Vehicle Data'!G$16))) -> 89.601726 | AS37: =AR37*60 -> 5376.1036 | AT37: =ROUND(AQ37,0) -> -69 | AU37: 4500 | AW37: =VLOOKUP(AT37,BSFC!A$64:A$82,1,FALSE) -> #N/A | AX37: {=_xlfn.XLOOKUP(AT37,BSFC!A$64:A$82,,-1,_xlfn.XLOOKUP(Data!AU37,BSFC!C$63:Q$63,BSFC!B$64:Q$82,,-1))} -> #VALUE! | AY37: =HLOOKUP(AU37,BSFC!F$63:Q$63,1) -> 4500 | AZ37: =MATCH(AT37,BSFC!A$64:A$83,0) -> #N/A | BA37: =MATCH(AU37,BSFC!C$63:Q$63,0) -> 9 | BB37: {=INDEX(BSFC!C$64:Q$83,Data!AZ37,Data!BA37)} -> #N/A | BC37: =0.5*'Vehicle Data'!C$6*Data!Z37^2 -> 23286.755 | BD37: =ABS(AQ38*(AS38/9.588))/1000 -> 30.835687 | BE37: 0 | BF37: 0 | BG37: =BG36+BF37 -> 8.0992417 | BH37: =AQ37*(AS37/9.588) -> -38420.519 | BI37: =BM$9 -> 6871.6622 | BO37: =BH37*AF38 -> -6263.9087 | BP37: =BP36+BO37 -> 15214.163 | BQ37: =IF(BO37>0,BQ36+BO37,IF(BO37<=0,BQ36)) -> 21478.072 | BR37: =(BM$9*AF38)+BR36 -> 34871.618 | BS37: =IF(BO37>0,BO37) -> FALSE | BT37: =IF(BH37>=0,BH37, IF(BH37<0,0)) -> 0 | BU37: =BI37*AF38 -> 1120.3249 | BV37: =BM$9*AF38 -> 1120.3249 | BW37: =BN$9 -> 455.4 | BX37: =BW37*BI37 -> 3129355 | BY37: =((BX37/3600)*AF38)/1000 -> 0.1417211 | BZ37: =AH37 -> 4.9116636 | CB37: =BU37-BS37 -> 1120.3249 | CC37: =CB37/(BZ37-BZ36) -> 7279.6368 | CD37: =CB37+CD36 -> 12661.606
D38: =ASIN((N38)/(G39-G38)) -> 0 | E38: 9.2017056 | F38: =IF(K38<6,1,IF(Data!K38<9,2,IF(K38>9,3))) -> 3 | G38: 767.58503 | H38: 212.66666 | I38: 32.651118 | J38: =(I39-I38)/(H39-H38) -> 2.543502 | K38: =I38/2.5 -> 13.060447 | L38: =(K39-K38)/(H39-H38) -> 1.0174008 | M38: =2*E38 -> 18.403411 | N38: =E39-E38 -> 0 | O38: =IF(L38<'Vehicle Data'!F$21,'Vehicle Data'!C$21,IF(L38>'Vehicle Data'!C$21,'Vehicle Data'!C$20)) -> 0.6 | P38: =('Vehicle Data'!C$6*9.81*'Vehicle Data'!C$5*SIN(D38))/'Vehicle Data'!C$9 -> 0 | Q38: ='Vehicle Data'!C$6*9.81*SIN(D38) -> 0 | R38: =G37 -> 765.97576 | S38: =IF(Data!O38=0.6,'Vehicle Data'!E$21,IF(Data!O38 = 0.9,'Vehicle Data'!E$20))+(P38*O38) -> 1550.3724 | T38: =IF(F38=3,'Vehicle Data'!H$16,IF(F38=2,'Vehicle Data'!H$15,IF(F38 = 1,'Vehicle Data'!G$14))) -> 466.23005 | U38: =R38-R$2 -> 49.83728 | V38: s | W38: a | X38: =IF(V38="S",'Vehicle Data'!C$14,IF(Data!V38 = "T1",'Vehicle Data'!P$2,IF(Data!V38="T2",'Vehicle Data'!P$3))) -> 13.4112 | Z38: 9.8 | AB38: =IF(AA38=1,'Vehicle Data'!I$14,IF(AA38=2,'Vehicle Data'!I$15,IF(AA38=3,'Vehicle Data'!I$16))) -> FALSE | AC38: =IF(Z38<'Vehicle Data'!C$16,'Vehicle Data'!I$15,IF(Z38<'Vehicle Data'!C$15,'Vehicle Data'!I$15,IF(Z37>'Vehicle Data'!C$15,'Vehicle Data'!I$16))) -> 0.46202745 | AD38: =IF(O38=0.6,'Vehicle Data'!F$21,IF(O38=0.9,'Vehicle Data'!F$20)) -> 3.5316 | AE38: =IF(W38="a",AC38,IF(W38="b",AD38*-1)) -> 0.46202745 | AF38: =(U38-U37)/Z38 -> 0.1630355 | AG38: =(Z38-Z37)/AF38 -> -3.0668166 | AH38: =AH37+AF38 -> 5.0746991 | AJ38: =(Z38^2)*'Vehicle Data'!C$31 -> 35.2947 | AK38: =IF(O38=0.6,'Vehicle Data'!C$6*'Vehicle Data'!D$21*9.81,IF(O38=0.9,'Vehicle Data'!C$6*9.81*'Vehicle Data'!D$20)) -> 86.1318 | AL38: =AJ38+AK38+Q38 -> 121.4265 | AN38: =IF(AG38<0,AG38*'Vehicle Data'!C$6) -> -1346.3325 | AO38: =AN38+AL38 -> -1224.906 | AP38: =AO38*'Vehicle Data'!F$3 -> -313.08598 | AQ38: =IF(AE38='Vehicle Data'!I$15,AP38/'Vehicle Data'!G$15,IF(AE38='Vehicle Data'!I$16,AP38/'Vehicle Data'!G$16,IF(AE38='Vehicle Data'!I$14,Data!AP38/'Vehicle Data'!G$14))) -> -57.799646 | AR38: =IF(Z38<'Vehicle Data'!C$16, Z38*'Vehicle Data'!F$7*'Vehicle Data'!G$14,IF(Z38<'Vehicle Data'!C$15,Z38*'Vehicle Data'!F$7*'Vehicle Data'!G$15,IF(Z38>'Vehicle Data'!C$15,Z38*'Vehicle Data'!F$7*'Vehicle Data'!G$16))) -> 85.252128 | AS38: =AR38*60 -> 5115.1277 | AT38: 4 | AU38: =MROUND(AS38,500) -> 5000 | AW38: =VLOOKUP(AT38,BSFC!A$64:A$82,1,FALSE) -> 4 | AX38: {=_xlfn.XLOOKUP(AT38,BSFC!A$64:A$82,,-1,_xlfn.XLOOKUP(Data!AU38,BSFC!C$63:Q$63,BSFC!B$64:Q$82,,-1))} -> #VALUE! | AY38: =HLOOKUP(AU38,BSFC!F$63:Q$63,1) -> 5000 | AZ38: =MATCH(AT38,BSFC!A$64:A$83,0) -> 19 | BA38: =MATCH(AU38,BSFC!C$63:Q$63,0) -> 10 | BB38: {=INDEX(BSFC!C$64:Q$82,Data!AZ38,Data!BA38)} -> 700 | BC38: =0.5*'Vehicle Data'!C$6*Data!Z38^2 -> 21080.78 | BD38: =ABS(AQ39*(AS39/9.588))/1000 -> 0 | BE38: =BB38*BD38 -> 0 | BF38: =(BE38/3600)*AF38 -> 0 | BG38: =BG37+BF38 -> 8.0992417 | BH38: =AQ38*(AS38/9.588) -> -30835.687 | BI38: =BM$9 -> 6871.6622 | BO38: =BH38*AF39 -> -5575.5898 | BP38: =BP37+BO38 -> 9638.5737 | BQ38: =IF(BO38>0,BQ37+BO38,IF(BO38<=0,BQ37)) -> 21478.072 | BR38: =(BM$9*AF39)+BR37 -> 36114.126 | BS38: =IF(BO38>0,BO38) -> FALSE | BT38: =IF(BH38>=0,BH38, IF(BH38<0,0)) -> 0 | BU38: =BI38*AF39 -> 1242.5074 | BV38: =BM$9*AF39 -> 1242.5074 | BW38: =BN$9 -> 455.4 | BX38: =BW38*BI38 -> 3129355 | BY38: =((BX38/3600)*AF39)/1000 -> 0.15717719 | BZ38: =AH38 -> 5.0746991 | CB38: =BU38-BS38 -> 1242.5074 | CC38: =CB38/(BZ38-BZ37) -> 7621.0848 | CD38: =CB38+CD37 -> 13904.113
D39: =ASIN((N39)/(G40-G39)) -> 0 | E39: 9.2017056 | F39: =IF(K39<6,1,IF(Data!K39<9,2,IF(K39>9,3))) -> 3 | G39: 769.20602 | H39: 212.71666 | I39: 32.778293 | J39: =(I40-I39)/(H40-H39) -> 2.775405 | K39: =I39/2.5 -> 13.111317 | L39: =(K40-K39)/(H40-H39) -> 1.110162 | M39: =2*E39 -> 18.403411 | N39: =E40-E39 -> 0 | O39: =IF(L39<'Vehicle Data'!F$21,'Vehicle Data'!C$21,IF(L39>'Vehicle Data'!C$21,'Vehicle Data'!C$20)) -> 0.6 | P39: =('Vehicle Data'!C$6*9.81*'Vehicle Data'!C$5*SIN(D39))/'Vehicle Data'!C$9 -> 0 | Q39: ='Vehicle Data'!C$6*9.81*SIN(D39) -> 0 | R39: =G38 -> 767.58503 | S39: =IF(Data!O39=0.6,'Vehicle Data'!E$21,IF(Data!O39 = 0.9,'Vehicle Data'!E$20))+(P39*O39) -> 1550.3724 | T39: =IF(F39=3,'Vehicle Data'!H$16,IF(F39=2,'Vehicle Data'!H$15,IF(F39 = 1,'Vehicle Data'!G$14))) -> 466.23005 | U39: =R39-R$2 -> 51.446543 | V39: s | W39: b | X39: =IF(V39="S",'Vehicle Data'!C$14,IF(Data!V39 = "T1",'Vehicle Data'!P$2,IF(Data!V39="T2",'Vehicle Data'!P$3))) -> 13.4112 | Z39: 8.9 | AB39: =IF(AA39=1,'Vehicle Data'!I$14,IF(AA39=2,'Vehicle Data'!I$15,IF(AA39=3,'Vehicle Data'!I$16))) -> FALSE | AC39: =IF(Z39<'Vehicle Data'!C$16,'Vehicle Data'!I$15,IF(Z39<'Vehicle Data'!C$15,'Vehicle Data'!I$15,IF(Z38>'Vehicle Data'!C$15,'Vehicle Data'!I$16))) -> 0.98256251 | AD39: =IF(O39=0.6,'Vehicle Data'!F$21,IF(O39=0.9,'Vehicle Data'!F$20)) -> 3.5316 | AE39: =IF(W39="a",AC39,IF(W39="b",AD39*-1)) -> -3.5316 | AF39: =(U39-U38)/Z39 -> 0.18081613 | AG39: =(Z39-Z38)/AF39 -> -4.9774319 | AH39: =AH38+AF39 -> 5.2555153 | AJ39: =(Z39^2)*'Vehicle Data'!C$31 -> 29.109675 | AK39: =IF(O39=0.6,'Vehicle Data'!C$6*'Vehicle Data'!D$21*9.81,IF(O39=0.9,'Vehicle Data'!C$6*9.81*'Vehicle Data'!D$20)) -> 86.1318 | AL39: =AJ39+AK39+Q39 -> 115.24148 | AN39: =IF(AG39<0,AG39*'Vehicle Data'!C$6) -> -2185.0926 | AO39: =AN39+AL39 -> -2069.8511 | AP39: =AO39*'Vehicle Data'!F$3 -> -529.05395 | AQ39: =IF(AE39='Vehicle Data'!I$15,AP39/'Vehicle Data'!G$15,IF(AE39='Vehicle Data'!I$16,AP39/'Vehicle Data'!G$16,IF(AE39='Vehicle Data'!I$14,Data!AP39/'Vehicle Data'!G$14))) -> FALSE | AR39: =IF(Z39<'Vehicle Data'!C$16, Z39*'Vehicle Data'!F$7*'Vehicle Data'!G$14,IF(Z39<'Vehicle Data'!C$15,Z39*'Vehicle Data'!F$7*'Vehicle Data'!G$15,IF(Z39>'Vehicle Data'!C$15,Z39*'Vehicle Data'!F$7*'Vehicle Data'!G$16))) -> 115.37037 | AS39: =AR39*60 -> 6922.2222 | AT39: =ROUND(AQ39,0) -> 0 | AU39: 5500 | AW39: =VLOOKUP(AT39,BSFC!A$64:A$82,1,FALSE) -> #N/A | AX39: {=_xlfn.XLOOKUP(AT39,BSFC!A$64:A$82,,-1,_xlfn.XLOOKUP(Data!AU39,BSFC!C$63:Q$63,BSFC!B$64:Q$82,,-1))} -> #VALUE! | AY39: =HLOOKUP(AU39,BSFC!F$63:Q$63,1) -> 5500 | AZ39: =MATCH(AT39,BSFC!A$64:A$83,-1) -> 20 | BA39: =MATCH(AU39,BSFC!C$63:Q$63,0) -> 11 | BB39: {=INDEX(BSFC!C$64:Q$83,Data!AZ39,Data!BA39)} -> 650 | BC39: =0.5*'Vehicle Data'!C$6*Data!Z39^2 -> 17386.595 | BD39: =ABS(AQ40*(AS40/9.588))/1000 -> 0 | BE39: =BB39*BD39 -> 0 | BF39: =(BE39/3600)*AF39 -> 0 | BG39: =BG38+BF39 -> 8.0992417 | BH39: =AQ39*(AS39/9.588) -> 0 | BI39: =BM$9 -> 6871.6622 | BO39: =BH39*AF40 -> 0 | BP39: =BP38+BO39 -> 9638.5737 | BQ39: =IF(BO39>0,BQ38+BO39,IF(BO39<=0,BQ38)) -> 21478.072 | BR39: =(BM$9*AF40)+BR38 -> 37467.303 | BS39: =IF(BO39>0,BO39) -> FALSE | BT39: =IF(BH39>=0,BH39, IF(BH39<0,0)) -> 0 | BU39: =BI39*AF40 -> 1353.1771 | BV39: =BM$9*AF40 -> 1353.1771 | BW39: =BN$9 -> 455.4 | BX39: =BW39*BI39 -> 3129355 | BY39: =((BX39/3600)*AF40)/1000 -> 0.17117691 | BZ39: =AH39 -> 5.2555153 | CB39: =BU39-BS39 -> 1353.1771 | CC39: =CB39/(BZ39-BZ38) -> 7483.719 | CD39: =CB39+CD38 -> 15257.29
D40: =ASIN((N40)/(G41-G40)) -> 0 | E40: 9.2017056 | F40: =IF(K40<6,1,IF(Data!K40<9,2,IF(K40>9,3))) -> 3 | G40: 770.83668 | H40: 212.76666 | I40: 32.917064 | J40: =(I41-I40)/(H41-H40) -> 2.8141111 | K40: =I40/2.5 -> 13.166825 | L40: =(K41-K40)/(H41-H40) -> 1.1256444 | M40: =2*E40 -> 18.403411 | N40: =E41-E40 -> 0 | O40: =IF(L40<'Vehicle Data'!F$21,'Vehicle Data'!C$21,IF(L40>'Vehicle Data'!C$21,'Vehicle Data'!C$20)) -> 0.6 | P40: =('Vehicle Data'!C$6*9.81*'Vehicle Data'!C$5*SIN(D40))/'Vehicle Data'!C$9 -> 0 | Q40: ='Vehicle Data'!C$6*9.81*SIN(D40) -> 0 | R40: =G39 -> 769.20602 | S40: =IF(Data!O40=0.6,'Vehicle Data'!E$21,IF(Data!O40 = 0.9,'Vehicle Data'!E$20))+(P40*O40) -> 1550.3724 | T40: =IF(F40=3,'Vehicle Data'!H$16,IF(F40=2,'Vehicle Data'!H$15,IF(F40 = 1,'Vehicle Data'!G$14))) -> 466.23005 | U40: =R40-R$2 -> 53.067537 | V40: s | W40: b | X40: =IF(V40="S",'Vehicle Data'!C$14,IF(Data!V40 = "T1",'Vehicle Data'!P$2,IF(Data!V40="T2",'Vehicle Data'!P$3))) -> 13.4112 | Z40: =SQRT(Z39^2+2*AE39*(U40-U39)) -> 8.2316823 | AB40: =IF(AA40=1,'Vehicle Data'!I$14,IF(AA40=2,'Vehicle Data'!I$15,IF(AA40=3,'Vehicle Data'!I$16))) -> FALSE | AC40: =IF(Z40<'Vehicle Data'!C$16,'Vehicle Data'!I$15,IF(Z40<'Vehicle Data'!C$15,'Vehicle Data'!I$15,IF(Z39>'Vehicle Data'!C$15,'Vehicle Data'!I$16))) -> 0.98256251 | AD40: =IF(O40=0.6,'Vehicle Data'!F$21,IF(O40=0.9,'Vehicle Data'!F$20)) -> 3.5316 | AE40: =IF(W40="a",AC40,IF(W40="b",AD40*-1)) -> -3.5316 | AF40: =(U40-U39)/Z40 -> 0.19692137 | AG40: =(Z40-Z39)/AF40 -> -3.3938301 | AH40: =AH39+AF40 -> 5.4524366 | AJ40: =(Z40^2)*'Vehicle Data'!C$31 -> 24.902018 | AK40: =IF(O40=0.6,'Vehicle Data'!C$6*'Vehicle Data'!D$21*9.81,IF(O40=0.9,'Vehicle Data'!C$6*9.81*'Vehicle Data'!D$20)) -> 86.1318 | AL40: =AJ40+AK40+Q40 -> 111.03382 | AN40: =IF(AG40<0,AG40*'Vehicle Data'!C$6) -> -1489.8914 | AO40: =AN40+AL40 -> -1378.8576 | AP40: =AO40*'Vehicle Data'!F$3 -> -352.436 | AQ40: =IF(AE40='Vehicle Data'!I$15,AP40/'Vehicle Data'!G$15,IF(AE40='Vehicle Data'!I$16,AP40/'Vehicle Data'!G$16,IF(AE40='Vehicle Data'!I$14,Data!AP40/'Vehicle Data'!G$14))) -> FALSE | AR40: =IF(Z40<'Vehicle Data'!C$16, Z40*'Vehicle Data'!F$7*'Vehicle Data'!G$14,IF(Z40<'Vehicle Data'!C$15,Z40*'Vehicle Data'!F$7*'Vehicle Data'!G$15,IF(Z40>'Vehicle Data'!C$15,Z40*'Vehicle Data'!F$7*'Vehicle Data'!G$16))) -> 106.70699 | AS40: =AR40*60 -> 6402.4196 | AT40: =ROUND(AQ40,0) -> 0 | AU40: =MROUND(AS40,500) -> 6500 | AW40: =VLOOKUP(AT40,BSFC!A$64:A$82,1,FALSE) -> #N/A | AX40: {=_xlfn.XLOOKUP(AT40,BSFC!A$64:A$82,,-1,_xlfn.XLOOKUP(Data!AU40,BSFC!C$63:Q$63,BSFC!B$64:Q$82,,-1))} -> #VALUE! | AY40: =HLOOKUP(AU40,BSFC!F$63:Q$63,1) -> 6500 | AZ40: =MATCH(AT40,BSFC!A$64:A$83,0) -> 20 | BA40: =MATCH(AU40,BSFC!C$63:Q$63,0) -> 13 | BB40: {=INDEX(BSFC!C$64:Q$83,Data!AZ40,Data!BA40)} -> 675 | BC40: =0.5*'Vehicle Data'!C$6*Data!Z40^2 -> 14873.45 | BD40: =ABS(AQ41*(AS41/9.588))/1000 -> 0 | BE40: =BB40*BD40 -> 0 | BF40: =(BE40/3600)*AF40 -> 0 | BG40: =BG39+BF40 -> 8.0992417 | BH40: =AQ40*(AS40/9.588) -> 0 | BI40: =BM$9 -> 6871.6622 | BO40: =BH40*AF41 -> 0 | BP40: =BP39+BO40 -> 9638.5737 | BQ40: =IF(BO40>0,BQ39+BO40,IF(BO40<=0,BQ39)) -> 21478.072 | BR40: =(BM$9*AF41)+BR39 -> 38961.444 | BS40: =IF(BO40>0,BO40) -> FALSE | BT40: =IF(BH40>=0,BH40, IF(BH40<0,0)) -> 0 | BU40: =BI40*AF41 -> 1494.1416 | BV40: =BM$9*AF41 -> 1494.1416 | BW40: =BN$9 -> 455.4 | BX40: =BW40*BI40 -> 3129355 | BY40: =((BX40/3600)*AF41)/1000 -> 0.18900891 | BZ40: =AH40 -> 5.4524366 | CB40: =BU40-BS40 -> 1494.1416 | CC40: =CB40/(BZ40-BZ39) -> 7587.5035 | CD40: =CB40+CD39 -> 16751.432
D41: =ASIN((N41)/(G42-G41)) -> 0 | E41: 9.2017056 | F41: =IF(K41<6,1,IF(Data!K41<9,2,IF(K41>9,3))) -> 3 | G41: 772.47917 | H41: 212.81667 | I41: 33.057769 | J41: =(I42-I41)/(H42-H41) -> 2.8591923 | K41: =I41/2.5 -> 13.223108 | L41: =(K42-K41)/(H42-H41) -> 1.1436769 | M41: =2*E41 -> 18.403411 | N41: =E42-E41 -> 0 | O41: =IF(L41<'Vehicle Data'!F$21,'Vehicle Data'!C$21,IF(L41>'Vehicle Data'!C$21,'Vehicle Data'!C$20)) -> 0.6 | P41: =('Vehicle Data'!C$6*9.81*'Vehicle Data'!C$5*SIN(D41))/'Vehicle Data'!C$9 -> 0 | Q41: ='Vehicle Data'!C$6*9.81*SIN(D41) -> 0 | R41: =G40 -> 770.83668 | S41: =IF(Data!O41=0.6,'Vehicle Data'!E$21,IF(Data!O41 = 0.9,'Vehicle Data'!E$20))+(P41*O41) -> 1550.3724 | T41: =IF(F41=3,'Vehicle Data'!H$16,IF(F41=2,'Vehicle Data'!H$15,IF(F41 = 1,'Vehicle Data'!G$14))) -> 466.23005 | U41: =R41-R$2 -> 54.698199 | V41: s | W41: b | X41: =IF(V41="S",'Vehicle Data'!C$14,IF(Data!V41 = "T1",'Vehicle Data'!P$2,IF(Data!V41="T2",'Vehicle Data'!P$3))) -> 13.4112 | Z41: =SQRT(Z40^2+2*AE40*(U41-U40)) -> 7.499527 | AB41: =IF(AA41=1,'Vehicle Data'!I$14,IF(AA41=2,'Vehicle Data'!I$15,IF(AA41=3,'Vehicle Data'!I$16))) -> FALSE | AC41: =IF(Z41<'Vehicle Data'!C$16,'Vehicle Data'!I$15,IF(Z41<'Vehicle Data'!C$15,'Vehicle Data'!I$15,IF(Z40>'Vehicle Data'!C$15,'Vehicle Data'!I$16))) -> 0.98256251 | AD41: =IF(O41=0.6,'Vehicle Data'!F$21,IF(O41=0.9,'Vehicle Data'!F$20)) -> 3.5316 | AE41: =IF(W41="a",AC41,IF(W41="b",AD41*-1)) -> -3.5316 | AF41: =(U41-U40)/Z41 -> 0.21743525 | AG41: =(Z41-Z40)/AF41 -> -3.3672338 | AH41: =AH40+AF41 -> 5.6698719 | AJ41: =(Z41^2)*'Vehicle Data'!C$31 -> 20.669268 | AK41: =IF(O41=0.6,'Vehicle Data'!C$6*'Vehicle Data'!D$21*9.81,IF(O41=0.9,'Vehicle Data'!C$6*9.81*'Vehicle Data'!D$20)) -> 86.1318 | AL41: =AJ41+AK41+Q41 -> 106.80107 | AN41: =IF(AG41<0,AG41*'Vehicle Data'!C$6) -> -1478.2156 | AO41: =AN41+AL41 -> -1371.4146 | AP41: =AO41*'Vehicle Data'!F$3 -> -350.53356 | AQ41: =IF(AE41='Vehicle Data'!I$15,AP41/'Vehicle Data'!G$15,IF(AE41='Vehicle Data'!I$16,AP41/'Vehicle Data'!G$16,IF(AE41='Vehicle Data'!I$14,Data!AP41/'Vehicle Data'!G$14))) -> FALSE | AR41: =IF(Z41<'Vehicle Data'!C$16, Z41*'Vehicle Data'!F$7*'Vehicle Data'!G$14,IF(Z41<'Vehicle Data'!C$15,Z41*'Vehicle Data'!F$7*'Vehicle Data'!G$15,IF(Z41>'Vehicle Data'!C$15,Z41*'Vehicle Data'!F$7*'Vehicle Data'!G$16))) -> 97.216091 | AS41: =AR41*60 -> 5832.9655 | AT41: =ROUND(AQ41,0) -> 0 | AU41: =MROUND(AS41,500) -> 6000 | AW41: =VLOOKUP(AT41,BSFC!A$64:A$82,1,FALSE) -> #N/A | AX41: {=_xlfn.XLOOKUP(AT41,BSFC!A$64:A$82,,-1,_xlfn.XLOOKUP(Data!AU41,BSFC!C$63:Q$63,BSFC!B$64:Q$82,,-1))} -> #VALUE! | AY41: =HLOOKUP(AU41,BSFC!F$63:Q$63,1) -> 6000 | AZ41: =MATCH(AT41,BSFC!A$64:A$83,0) -> 20 | BA41: =MATCH(AU41,BSFC!C$63:Q$63,0) -> 12 | BB41: {=INDEX(BSFC!C$64:Q$83,Data!AZ41,Data!BA41)} -> 650 | BC41: =0.5*'Vehicle Data'!C$6*Data!Z41^2 -> 12345.318 | BD41: =ABS(AQ42*(AS42/9.588))/1000 -> 0 | BE41: =BB41*BD41 -> 0 | BF41: =(BE41/3600)*AF41 -> 0 | BG41: =BG40+BF41 -> 8.0992417 | BH41: =AQ41*(AS41/9.588) -> 0 | BI41: =BM$9 -> 6871.6622 | BO41: =BH41*AF42 -> 0 | BP41: =BP40+BO41 -> 9638.5737 | BQ41: =IF(BO41>0,BQ40+BO41,IF(BO41<=0,BQ40)) -> 21478.072 | BR41: =(BM$9*AF42)+BR40 -> 40650.695 | BS41: =IF(BO41>0,BO41) -> FALSE | BT41: =IF(BH41>=0,BH41, IF(BH41<0,0)) -> 0 | BU41: =BI41*AF42 -> 1689.2502 | BV41: =BM$9*AF42 -> 1689.2502 | BW41: =BN$9 -> 455.4 | BX41: =BW41*BI41 -> 3129355 | BY41: =((BX41/3600)*AF42)/1000 -> 0.21369015 | BZ41: =AH41 -> 5.6698719 | CB41: =BU41-BS41 -> 1689.2502 | CC41: =CB41/(BZ41-BZ40) -> 7768.9806 | CD41: =CB41+CD40 -> 18440.682
D42: =ASIN((N42)/(G43-G42)) -> 0 | E42: 9.2017056 | F42: =IF(K42<6,1,IF(Data!K42<9,2,IF(K42>9,3))) -> 3 | G42: 774.13205 | H42: 212.86666 | I42: 33.200729 | J42: =(I43-I42)/(H43-H42) -> 2.7212895 | K42: =I42/2.5 -> 13.280292 | L42: =(K43-K42)/(H43-H42) -> 1.0885158 | M42: =2*E42 -> 18.403411 | N42: =E43-E42 -> 0 | O42: =IF(L42<'Vehicle Data'!F$21,'Vehicle Data'!C$21,IF(L42>'Vehicle Data'!C$21,'Vehicle Data'!C$20)) -> 0.6 | P42: =('Vehicle Data'!C$6*9.81*'Vehicle Data'!C$5*SIN(D42))/'Vehicle Data'!C$9 -> 0 | Q42: ='Vehicle Data'!C$6*9.81*SIN(D42) -> 0 | R42: =G41 -> 772.47917 | S42: =IF(Data!O42=0.6,'Vehicle Data'!E$21,IF(Data!O42 = 0.9,'Vehicle Data'!E$20))+(P42*O42) -> 1550.3724 | T42: =IF(F42=3,'Vehicle Data'!H$16,IF(F42=2,'Vehicle Data'!H$15,IF(F42 = 1,'Vehicle Data'!G$14))) -> 466.23005 | U42: =R42-R$2 -> 56.340688 | V42: s | W42: b | X42: =IF(V42="S",'Vehicle Data'!C$14,IF(Data!V42 = "T1",'Vehicle Data'!P$2,IF(Data!V42="T2",'Vehicle Data'!P$3))) -> 13.4112 | Z42: =SQRT(Z41^2+2*AE41*(U42-U41)) -> 6.6814428 | AB42: =IF(AA42=1,'Vehicle Data'!I$14,IF(AA42=2,'Vehicle Data'!I$15,IF(AA42=3,'Vehicle Data'!I$16))) -> FALSE | AC42: =IF(Z42<'Vehicle Data'!C$16,'Vehicle Data'!I$15,IF(Z42<'Vehicle Data'!C$15,'Vehicle Data'!I$15,IF(Z41>'Vehicle Data'!C$15,'Vehicle Data'!I$16))) -> 0.98256251 | AD42: =IF(O42=0.6,'Vehicle Data'!F$21,IF(O42=0.9,'Vehicle Data'!F$20)) -> 3.5316 | AE42: =IF(W42="a",AC42,IF(W42="b",AD42*-1)) -> -3.5316 | AF42: =(U42-U41)/Z42 -> 0.24582847 | AG42: =(Z42-Z41)/AF42 -> -3.327866 | AH42: =AH41+AF42 -> 5.9157004 | AJ42: =(Z42^2)*'Vehicle Data'!C$31 -> 16.405817 | AK42: =IF(O42=0.6,'Vehicle Data'!C$6*'Vehicle Data'!D$21*9.81,IF(O42=0.9,'Vehicle Data'!C$6*9.81*'Vehicle Data'!D$20)) -> 86.1318 | AL42: =AJ42+AK42+Q42 -> 102.53762 | AN42: =IF(AG42<0,AG42*'Vehicle Data'!C$6) -> -1460.9332 | AO42: =AN42+AL42 -> -1358.3955 | AP42: =AO42*'Vehicle Data'!F$3 -> -347.2059 | AQ42: =IF(AE42='Vehicle Data'!I$15,AP42/'Vehicle Data'!G$15,IF(AE42='Vehicle Data'!I$16,AP42/'Vehicle Data'!G$16,IF(AE42='Vehicle Data'!I$14,Data!AP42/'Vehicle Data'!G$14))) -> FALSE | AR42: =IF(Z42<'Vehicle Data'!C$16, Z42*'Vehicle Data'!F$7*'Vehicle Data'!G$14,IF(Z42<'Vehicle Data'!C$15,Z42*'Vehicle Data'!F$7*'Vehicle Data'!G$15,IF(Z42>'Vehicle Data'!C$15,Z42*'Vehicle Data'!F$7*'Vehicle Data'!G$16))) -> 86.611296 | AS42: =AR42*60 -> 5196.6777 | AT42: =ROUND(AQ42,0) -> 0 | AU42: =MROUND(AS42,500) -> 5000 | AW42: =VLOOKUP(AT42,BSFC!A$64:A$82,1,FALSE) -> #N/A | AX42: {=_xlfn.XLOOKUP(AT42,BSFC!A$64:A$82,,-1,_xlfn.XLOOKUP(Data!AU42,BSFC!C$63:Q$63,BSFC!B$64:Q$82,,-1))} -> #VALUE! | AY42: =HLOOKUP(AU42,BSFC!F$63:Q$63,1) -> 5000 | AZ42: =MATCH(AT42,BSFC!A$64:A$83,0) -> 20 | BA42: =MATCH(AU42,BSFC!C$63:Q$63,0) -> 10 | BB42: {=INDEX(BSFC!C$64:Q$83,Data!AZ42,Data!BA42)} -> 675 | BC42: =0.5*'Vehicle Data'!C$6*Data!Z42^2 -> 9798.8483 | BD42: =ABS(AQ43*(AS43/9.588))/1000 -> 0 | BE42: =BB42*BD42 -> 0 | BF42: =(BE42/3600)*AF42 -> 0 | BG42: =BG41+BF42 -> 8.0992417 | BH42: =AQ42*(AS42/9.588) -> 0 | BI42: =BM$9 -> 6871.6622 | BO42: =BH42*AF43 -> 0 | BP42: =BP41+BO42 -> 9638.5737 | BQ42: =IF(BO42>0,BQ41+BO42,IF(BO42<=0,BQ41)) -> 21478.072 | BR42: =(BM$9*AF43)+BR41 -> 42628.869 | BS42: =IF(BO42>0,BO42) -> FALSE | BT42: =IF(BH42>=0,BH42, IF(BH42<0,0)) -> 0 | BU42: =BI42*AF43 -> 1978.1741 | BV42: =BM$9*AF43 -> 1978.1741 | BW42: =BN$9 -> 455.4 | BX42: =BW42*BI42 -> 3129355 | BY42: =((BX42/3600)*AF43)/1000 -> 0.25023902 | BZ42: =AH42 -> 5.9157004 | CB42: =BU42-BS42 -> 1978.1741 | CC42: =CB42/(BZ42-BZ41) -> 8046.969 | CD42: =CB42+CD41 -> 20418.856
D43: =ASIN((N43)/(G44-G43)) -> 0 | E43: 9.2017056 | F43: =IF(K43<6,1,IF(Data!K43<9,2,IF(K43>9,3))) -> 3 | G43: 775.79696 | H43: 212.91666 | I43: 33.336793 | J43: =(I44-I43)/(H44-H43) -> 2.7834209 | K43: =I43/2.5 -> 13.334717 | L43: =(K44-K43)/(H44-H43) -> 1.1133684 | M43: =2*E43 -> 18.403411 | N43: =E44-E43 -> 0 | O43: =IF(L43<'Vehicle Data'!F$21,'Vehicle Data'!C$21,IF(L43>'Vehicle Data'!C$21,'Vehicle Data'!C$20)) -> 0.6 | P43: =('Vehicle Data'!C$6*9.81*'Vehicle Data'!C$5*SIN(D43))/'Vehicle Data'!C$9 -> 0 | Q43: ='Vehicle Data'!C$6*9.81*SIN(D43) -> 0 | R43: =G42 -> 774.13205 | S43: =IF(Data!O43=0.6,'Vehicle Data'!E$21,IF(Data!O43 = 0.9,'Vehicle Data'!E$20))+(P43*O43) -> 1550.3724 | T43: =IF(F43=3,'Vehicle Data'!H$16,IF(F43=2,'Vehicle Data'!H$15,IF(F43 = 1,'Vehicle Data'!G$14))) -> 466.23005 | U43: =R43-R$2 -> 57.993572 | V43: s | W43: b | X43: =IF(V43="S",'Vehicle Data'!C$14,IF(Data!V43 = "T1",'Vehicle Data'!P$2,IF(Data!V43="T2",'Vehicle Data'!P$3))) -> 13.4112 | Z43: =SQRT(Z42^2+2*AE42*(U43-U42)) -> 5.7416916 | AB43: =IF(AA43=1,'Vehicle Data'!I$14,IF(AA43=2,'Vehicle Data'!I$15,IF(AA43=3,'Vehicle Data'!I$16))) -> FALSE | AC43: =IF(Z43<'Vehicle Data'!C$16,'Vehicle Data'!I$15,IF(Z43<'Vehicle Data'!C$15,'Vehicle Data'!I$15,IF(Z42>'Vehicle Data'!C$15,'Vehicle Data'!I$16))) -> 0.98256251 | AD43: =IF(O43=0.6,'Vehicle Data'!F$21,IF(O43=0.9,'Vehicle Data'!F$20)) -> 3.5316 | AE43: =IF(W43="a",AC43,IF(W43="b",AD43*-1)) -> -3.5316 | AF43: =(U43-U42)/Z43 -> 0.28787418 | AG43: =(Z43-Z42)/AF43 -> -3.2644512 | AH43: =AH42+AF43 -> 6.2035745 | AJ43: =(Z43^2)*'Vehicle Data'!C$31 -> 12.115381 | AK43: =IF(O43=0.6,'Vehicle Data'!C$6*'Vehicle Data'!D$21*9.81,IF(O43=0.9,'Vehicle Data'!C$6*9.81*'Vehicle Data'!D$20)) -> 86.1318 | AL43: =AJ43+AK43+Q43 -> 98.247181 | AN43: =IF(AG43<0,AG43*'Vehicle Data'!C$6) -> -1433.0941 | AO43: =AN43+AL43 -> -1334.8469 | AP43: =AO43*'Vehicle Data'!F$3 -> -341.18687 | AQ43: =IF(AE43='Vehicle Data'!I$15,AP43/'Vehicle Data'!G$15,IF(AE43='Vehicle Data'!I$16,AP43/'Vehicle Data'!G$16,IF(AE43='Vehicle Data'!I$14,Data!AP43/'Vehicle Data'!G$14))) -> FALSE | AR43: =IF(Z43<'Vehicle Data'!C$16, Z43*'Vehicle Data'!F$7*'Vehicle Data'!G$14,IF(Z43<'Vehicle Data'!C$15,Z43*'Vehicle Data'!F$7*'Vehicle Data'!G$15,IF(Z43>'Vehicle Data'!C$15,Z43*'Vehicle Data'!F$7*'Vehicle Data'!G$16))) -> 111.644 | AS43: =AR43*60 -> 6698.6402 | AT43: =ROUND(AQ43,0) -> 0 | AU43: =MROUND(AS43,500) -> 6500 | AW43: =VLOOKUP(AT43,BSFC!A$64:A$82,1,FALSE) -> #N/A | AX43: {=_xlfn.XLOOKUP(AT43,BSFC!A$64:A$82,,-1,_xlfn.XLOOKUP(Data!AU43,BSFC!C$63:Q$63,BSFC!B$64:Q$82,,-1))} -> #VALUE! | AY43: =HLOOKUP(AU43,BSFC!F$63:Q$63,1) -> 6500 | AZ43: =MATCH(AT43,BSFC!A$64:A$83,0) -> 20 | BA43: =MATCH(AU43,BSFC!C$63:Q$63,0) -> 13 | BB43: {=INDEX(BSFC!C$64:Q$83,Data!AZ43,Data!BA43)} -> 675 | BC43: =0.5*'Vehicle Data'!C$6*Data!Z43^2 -> 7236.2614 | BD43: =ABS(AQ44*(AS44/9.588))/1000 -> 0 | BE43: =BB43*BD43 -> 0 | BF43: =(BE43/3600)*AF43 -> 0 | BG43: =BG42+BF43 -> 8.0992417 | BH43: =AQ43*(AS43/9.588) -> 0 | BI43: =BM$9 -> 6871.6622 | BO43: =BH43*AF44 -> 0 | BP43: =BP42+BO43 -> 9638.5737 | BQ43: =IF(BO43>0,BQ42+BO43,IF(BO43<=0,BQ42)) -> 21478.072 | BR43: =(BM$9*AF44)+BR42 -> 45993.772 | BS43: =IF(BO43>0,BO43) -> FALSE | BT43: =IF(BH43>=0,BH43, IF(BH43<0,0)) -> 0 | BU43: =BI43*AF44 -> 3364.9028 | BV43: =BM$9*AF44 -> 3364.9028 | BW43: =BN$9 -> 455.4 | BX43: =BW43*BI43 -> 3129355 | BY43: =((BX43/3600)*AF44)/1000 -> 0.4256602 | BZ43: =AH43 -> 6.2035745 | CB43: =BU43-BS43 -> 3364.9028 | CC43: =CB43/(BZ43-BZ42) -> 11688.797 | CD43: =CB43+CD42 -> 23783.759
D44: =ASIN((N44)/(G45-G44)) -> 0 | E44: 9.2017056 | F44: =IF(K44<6,1,IF(Data!K44<9,2,IF(K44>9,3))) -> 3 | G44: 777.47179 | H44: 212.96666 | I44: 33.475964 | J44: =(I45-I44)/(H45-H44) -> 3.0419231 | K44: =I44/2.5 -> 13.390386 | L44: =(K45-K44)/(H45-H44) -> 1.2167692 | M44: =2*E44 -> 18.403411 | N44: =E45-E44 -> 0 | O44: =IF(L44<'Vehicle Data'!F$21,'Vehicle Data'!C$21,IF(L44>'Vehicle Data'!C$21,'Vehicle Data'!C$20)) -> 0.6 | P44: =('Vehicle Data'!C$6*9.81*'Vehicle Data'!C$5*SIN(D44))/'Vehicle Data'!C$9 -> 0 | Q44: ='Vehicle Data'!C$6*9.81*SIN(D44) -> 0 | R44: =G43 -> 775.79696 | S44: =IF(Data!O44=0.6,'Vehicle Data'!E$21,IF(Data!O44 = 0.9,'Vehicle Data'!E$20))+(P44*O44) -> 1550.3724 | T44: =IF(F44=3,'Vehicle Data'!H$16,IF(F44=2,'Vehicle Data'!H$15,IF(F44 = 1,'Vehicle Data'!G$14))) -> 466.23005 | U44: =R44-R$2 -> 59.658478 | V44: s | W44: b | X44: =IF(V44="S",'Vehicle Data'!C$14,IF(Data!V44 = "T1",'Vehicle Data'!P$2,IF(Data!V44="T2",'Vehicle Data'!P$3))) -> 13.4112 | Z44: 3.4 | AB44: =IF(AA44=1,'Vehicle Data'!I$14,IF(AA44=2,'Vehicle Data'!I$15,IF(AA44=3,'Vehicle Data'!I$16))) -> FALSE | AC44: =IF(Z44<'Vehicle Data'!C$16,'Vehicle Data'!I$15,IF(Z44<'Vehicle Data'!C$15,'Vehicle Data'!I$15,IF(Z43>'Vehicle Data'!C$15,'Vehicle Data'!I$16))) -> 0.98256251 | AD44: =IF(O44=0.6,'Vehicle Data'!F$21,IF(O44=0.9,'Vehicle Data'!F$20)) -> 3.5316 | AE44: =IF(W44="a",AC44,IF(W44="b",AD44*-1)) -> -3.5316 | AF44: =(U44-U43)/Z44 -> 0.48967814 | AG44: =(Z44-Z43)/AF44 -> -4.7821036 | AH44: =AH43+AF44 -> 6.6932527 | AJ44: =(Z44^2)*'Vehicle Data'!C$31 -> 4.2483 | AK44: =IF(O44=0.6,'Vehicle Data'!C$6*'Vehicle Data'!D$21*9.81,IF(O44=0.9,'Vehicle Data'!C$6*9.81*'Vehicle Data'!D$20)) -> 86.1318 | AL44: =AJ44+AK44+Q44 -> 90.3801 | AN44: =IF(AG44<0,AG44*'Vehicle Data'!C$6) -> -2099.3435 | AO44: =AN44+AL44 -> -2008.9634 | AP44: =AO44*'Vehicle Data'!F$3 -> -513.49104 | AQ44: =IF(AE44='Vehicle Data'!I$15,AP44/'Vehicle Data'!G$15,IF(AE44='Vehicle Data'!I$16,AP44/'Vehicle Data'!G$16,IF(AE44='Vehicle Data'!I$14,Data!AP44/'Vehicle Data'!G$14))) -> FALSE | AR44: =IF(Z44<'Vehicle Data'!C$16, Z44*'Vehicle Data'!F$7*'Vehicle Data'!G$14,IF(Z44<'Vehicle Data'!C$15,Z44*'Vehicle Data'!F$7*'Vehicle Data'!G$15,IF(Z44>'Vehicle Data'!C$15,Z44*'Vehicle Data'!F$7*'Vehicle Data'!G$16))) -> 66.111111 | AS44: =AR44*60 -> 3966.6667 | AT44: =ROUND(AQ44,0) -> 0 | AU44: =MROUND(AS44,500) -> 4000 | AW44: =VLOOKUP(AT44,BSFC!A$64:A$82,1,FALSE) -> #N/A | AX44: {=_xlfn.XLOOKUP(AT44,BSFC!A$64:A$82,,-1,_xlfn.XLOOKUP(Data!AU44,BSFC!C$63:Q$63,BSFC!B$64:Q$82,,-1))} -> #VALUE! | AY44: =HLOOKUP(AU44,BSFC!F$63:Q$63,1) -> 4000 | AZ44: =MATCH(AT44,BSFC!A$64:A$83,0) -> 20 | BA44: =MATCH(AU44,BSFC!C$63:Q$63,0) -> 8 | BB44: {=INDEX(BSFC!C$64:Q$83,Data!AZ44,Data!BA44)} -> 750 | BC44: =0.5*'Vehicle Data'!C$6*Data!Z44^2 -> 2537.42 | BD44: =ABS(AQ45*(AS45/9.588))/1000 -> 0 | BE44: =BB44*BD44 -> 0 | BF44: =(BE44/3600)*AF44 -> 0 | BG44: =BG43+BF44 -> 8.0992417 | BH44: =AQ44*(AS44/9.588) -> 0 | BI44: =BM$9 -> 6871.6622 | BO44: =BH44*AF45 -> 0 | BP44: =BP43+BO44 -> 9638.5737 | BQ44: =IF(BO44>0,BQ43+BO44,IF(BO44<=0,BQ43)) -> 21478.072 | BR44: =(BM$9*AF45)+BR43 -> 49534.97 | BS44: =IF(BO44>0,BO44) -> FALSE | BT44: =IF(BH44>=0,BH44, IF(BH44<0,0)) -> 0 | BU44: =BI44*AF45 -> 3541.1984 | BV44: =BM$9*AF45 -> 3541.1984 | BW44: =BN$9 -> 455.4 | BX44: =BW44*BI44 -> 3129355 | BY44: =((BX44/3600)*AF45)/1000 -> 0.44796159 | BZ44: =AH44 -> 6.6932527 | CB44: =BU44-BS44 -> 3541.1984 | CC44: =CB44/(BZ44-BZ43) -> 7231.6856 | CD44: =CB44+CD43 -> 27324.957
D45: =ASIN((N45)/(G46-G45)) -> 0 | E45: 9.2017056 | F45: =IF(K45<6,1,IF(Data!K45<9,2,IF(K45>9,3))) -> 3 | G45: 779.15717 | H45: 213.01666 | I45: 33.62806 | J45: =(I46-I45)/(H46-H45) -> 3.0165787 | K45: =I45/2.5 -> 13.451224 | L45: =(K46-K45)/(H46-H45) -> 1.2066315 | M45: =2*E45 -> 18.403411 | N45: =E46-E45 -> 0 | O45: =IF(L45<'Vehicle Data'!F$21,'Vehicle Data'!C$21,IF(L45>'Vehicle Data'!C$21,'Vehicle Data'!C$20)) -> 0.6 | P45: =('Vehicle Data'!C$6*9.81*'Vehicle Data'!C$5*SIN(D45))/'Vehicle Data'!C$9 -> 0 | Q45: ='Vehicle Data'!C$6*9.81*SIN(D45) -> 0 | R45: =G44 -> 777.47179 | S45: =IF(Data!O45=0.6,'Vehicle Data'!E$21,IF(Data!O45 = 0.9,'Vehicle Data'!E$20))+(P45*O45) -> 1550.3724 | T45: =IF(F45=3,'Vehicle Data'!H$16,IF(F45=2,'Vehicle Data'!H$15,IF(F45 = 1,'Vehicle Data'!G$14))) -> 466.23005 | U45: =R45-R$2 -> 61.333312 | V45: s | W45: b | X45: =IF(V45="S",'Vehicle Data'!C$14,IF(Data!V45 = "T1",'Vehicle Data'!P$2,IF(Data!V45="T2",'Vehicle Data'!P$3))) -> 13.4112 | Z45: 3.25 | AB45: =IF(AA45=1,'Vehicle Data'!I$14,IF(AA45=2,'Vehicle Data'!I$15,IF(AA45=3,'Vehicle Data'!I$16))) -> FALSE | AC45: =IF(Z45<'Vehicle Data'!C$16,'Vehicle Data'!I$15,IF(Z45<'Vehicle Data'!C$15,'Vehicle Data'!I$15,IF(Z44>'Vehicle Data'!C$15,'Vehicle Data'!I$16))) -> 0.98256251 | AD45: =IF(O45=0.6,'Vehicle Data'!F$21,IF(O45=0.9,'Vehicle Data'!F$20)) -> 3.5316 | AE45: =IF(W45="a",AC45,IF(W45="b",AD45*-1)) -> -3.5316 | AF45: =(U45-U44)/Z45 -> 0.51533359 | AG45: =(Z45-Z44)/AF45 -> -0.29107359 | AH45: =AH44+AF45 -> 7.2085863 | AJ45: =(Z45^2)*'Vehicle Data'!C$31 -> 3.8817188 | AK45: =IF(O45=0.6,'Vehicle Data'!C$6*'Vehicle Data'!D$21*9.81,IF(O45=0.9,'Vehicle Data'!C$6*9.81*'Vehicle Data'!D$20)) -> 86.1318 | AL45: =AJ45+AK45+Q45 -> 90.013519 | AN45: =IF(AG45<0,AG45*'Vehicle Data'!C$6) -> -127.78131 | AO45: =AN45+AL45 -> -37.767789 | AP45: =AO45*'Vehicle Data'!F$3 -> -9.6534468 | AQ45: =IF(AE45='Vehicle Data'!I$15,AP45/'Vehicle Data'!G$15,IF(AE45='Vehicle Data'!I$16,AP45/'Vehicle Data'!G$16,IF(AE45='Vehicle Data'!I$14,Data!AP45/'Vehicle Data'!G$14))) -> FALSE | AR45: =IF(Z45<'Vehicle Data'!C$16, Z45*'Vehicle Data'!F$7*'Vehicle Data'!G$14,IF(Z45<'Vehicle Data'!C$15,Z45*'Vehicle Data'!F$7*'Vehicle Data'!G$15,IF(Z45>'Vehicle Data'!C$15,Z45*'Vehicle Data'!F$7*'Vehicle Data'!G$16))) -> 63.194444 | AS45: =AR45*60 -> 3791.6667 | AT45: =ROUND(AQ45,0) -> 0 | AU45: =MROUND(AS45,500) -> 4000 | AW45: =VLOOKUP(AT45,BSFC!A$64:A$82,1,FALSE) -> #N/A | AX45: {=_xlfn.XLOOKUP(AT45,BSFC!A$64:A$82,,-1,_xlfn.XLOOKUP(Data!AU45,BSFC!C$63:Q$63,BSFC!B$64:Q$82,,-1))} -> #VALUE! | AY45: =HLOOKUP(AU45,BSFC!F$63:Q$63,1) -> 4000 | AZ45: =MATCH(AT45,BSFC!A$64:A$83,0) -> 20 | BA45: =MATCH(AU45,BSFC!C$63:Q$63,0) -> 8 | BB45: {=INDEX(BSFC!C$64:Q$83,Data!AZ45,Data!BA45)} -> 750 | BC45: =0.5*'Vehicle Data'!C$6*Data!Z45^2 -> 2318.4688 | BD45: =ABS(AQ46*(AS46/9.588))/1000 -> 6.2112457 | BE45: =BB45*BD45 -> 4658.4343 | BF45: =(BE45/3600)*AF45 -> 0.66684657 | BG45: =BG44+BF45 -> 8.7660883 | BH45: =AQ45*(AS45/9.588) -> 0 | BI45: =BM$9 -> 6871.6622 | BO45: =BH45*AF46 -> 0 | BP45: =BP44+BO45 -> 9638.5737 | BQ45: =IF(BO45>0,BQ44+BO45,IF(BO45<=0,BQ44)) -> 21478.072 | BR45: =(BM$9*AF46)+BR44 -> 53093.015 | BS45: =IF(BO45>0,BO45) -> FALSE | BT45: =IF(BH45>=0,BH45, IF(BH45<0,0)) -> 0 | BU45: =BI45*AF46 -> 3558.0452 | BV45: =BM$9*AF46 -> 3558.0452 | BW45: =BN$9 -> 455.4 | BX45: =BW45*BI45 -> 3129355 | BY45: =((BX45/3600)*AF46)/1000 -> 0.45009272 | BZ45: =AH45 -> 7.2085863 | CB45: =BU45-BS45 -> 3558.0452 | CC45: =CB45/(BZ45-BZ44) -> 6904.3534 | CD45: =CB45+CD44 -> 30883.003
D46: =ASIN((N46)/(G47-G46)) -> 0 | E46: 9.2017056 | F46: =IF(K46<6,1,IF(Data!K46<9,2,IF(K46>9,3))) -> 3 | G46: 780.85267 | H46: 213.06667 | I46: 33.778889 | J46: =(I47-I46)/(H47-H46) -> 2.9820993 | K46: =I46/2.5 -> 13.511556 | L46: =(K47-K46)/(H47-H46) -> 1.1928397 | M46: =2*E46 -> 18.403411 | N46: =E47-E46 -> 0 | O46: =IF(L46<'Vehicle Data'!F$21,'Vehicle Data'!C$21,IF(L46>'Vehicle Data'!C$21,'Vehicle Data'!C$20)) -> 0.6 | P46: =('Vehicle Data'!C$6*9.81*'Vehicle Data'!C$5*SIN(D46))/'Vehicle Data'!C$9 -> 0 | Q46: ='Vehicle Data'!C$6*9.81*SIN(D46) -> 0 | R46: =G45 -> 779.15717 | S46: =IF(Data!O46=0.6,'Vehicle Data'!E$21,IF(Data!O46 = 0.9,'Vehicle Data'!E$20))+(P46*O46) -> 1550.3724 | T46: =IF(F46=3,'Vehicle Data'!H$16,IF(F46=2,'Vehicle Data'!H$15,IF(F46 = 1,'Vehicle Data'!G$14))) -> 466.23005 | U46: =R46-R$2 -> 63.018685 | V46: s | W46: b | X46: =IF(V46="S",'Vehicle Data'!C$14,IF(Data!V46 = "T1",'Vehicle Data'!P$2,IF(Data!V46="T2",'Vehicle Data'!P$3))) -> 13.4112 | Z46: =X48 -> 3.2549654 | AB46: =IF(AA46=1,'Vehicle Data'!I$14,IF(AA46=2,'Vehicle Data'!I$15,IF(AA46=3,'Vehicle Data'!I$16))) -> FALSE | AC46: =IF(Z46<'Vehicle Data'!C$16,'Vehicle Data'!I$15,IF(Z46<'Vehicle Data'!C$15,'Vehicle Data'!I$15,IF(Z45>'Vehicle Data'!C$15,'Vehicle Data'!I$16))) -> 0.98256251 | AD46: =IF(O46=0.6,'Vehicle Data'!F$21,IF(O46=0.9,'Vehicle Data'!F$20)) -> 3.5316 | AE46: =IF(W46="a",AC46,IF(W46="b",AD46*-1)) -> -3.5316 | AF46: =(U46-U45)/Z46 -> 0.51778523 | AG46: =(Z46-Z45)/AF46 -> 0.0095897629 | AH46: =AH45+AF46 -> 7.7263715 | AJ46: =(Z46^2)*'Vehicle Data'!C$31 -> 3.893589 | AK46: =IF(O46=0.6,'Vehicle Data'!C$6*'Vehicle Data'!D$21*9.81,IF(O46=0.9,'Vehicle Data'!C$6*9.81*'Vehicle Data'!D$20)) -> 86.1318 | AL46: =AJ46+AK46+Q46 -> 90.025389 | AN46: =IF(AG46>0,AG46*'Vehicle Data'!C$6,IF(AG46=0,AG46)) -> 4.2099059 | AO46: =AN46+AL46 -> 94.235295 | AP46: =AO46*'Vehicle Data'!F$3 -> 24.086541 | AQ46: =IF(AE35='Vehicle Data'!I$15,AP35/'Vehicle Data'!G$15,IF(AE35='Vehicle Data'!I$16,AP35/'Vehicle Data'!G$16,IF(AE35='Vehicle Data'!I$14,Data!AP35/'Vehicle Data'!G46))) -> 15.682437 | AR46: =IF(Z46<'Vehicle Data'!C$16, Z46*'Vehicle Data'!F$7*'Vehicle Data'!G$14,IF(Z46<'Vehicle Data'!C$15,Z46*'Vehicle Data'!F$7*'Vehicle Data'!G$15,IF(Z46>'Vehicle Data'!C$15,Z46*'Vehicle Data'!F$7*'Vehicle Data'!G$16))) -> 63.290995 | AS46: =AR46*60 -> 3797.4597 | AT46: =ROUND(AQ46,0) -> 16 | AU46: =MROUND(AS46,500) -> 4000 | AW46: =VLOOKUP(AT46,BSFC!A$64:A$82,1,FALSE) -> 16 | AX46: {=_xlfn.XLOOKUP(AT46,BSFC!A$64:A$82,,-1,_xlfn.XLOOKUP(Data!AU46,BSFC!C$63:Q$63,BSFC!B$64:Q$82,,-1))} -> #VALUE! | AY46: =HLOOKUP(AU46,BSFC!F$63:Q$63,1) -> 4000 | AZ46: =MATCH(AT46,BSFC!A$64:A$83,0) -> 7 | BA46: =MATCH(AU46,BSFC!C$63:Q$63,0) -> 8 | BB46: {=INDEX(BSFC!C$64:Q$83,Data!AZ46,Data!BA46)} -> 550 | BC46: =0.5*'Vehicle Data'!C$6*Data!Z46^2 -> 2325.5586 | BD46: =ABS(AQ47*(AS47/9.588))/1000 -> 0 | BE46: =BB46*BD46 -> 0 | BF46: =(BE46/3600)*AF46 -> 0 | BG46: =BG45+BF46 -> 8.7660883 | BH46: =AQ46*(AS46/9.588) -> 6211.2457 | BI46: =BM$9 -> 6871.6622 | BO46: =BH46*AF47 -> 3235.4228 | BP46: =BP45+BO46 -> 12873.996 | BQ46: =IF(BO46>0,BQ45+BO46,IF(BO46<=0,BQ45)) -> 24713.495 | BR46: =(BM$9*AF47)+BR45 -> 56672.447 | BS46: =IF(BO46>0,BO46) -> 3235.4228 | BT46: =IF(BH46>=0,BH46, IF(BH46<0,0)) -> 6211.2457 | BU46: =BI46*AF47 -> 3579.4322 | BV46: =BM$9*AF47 -> 3579.4322 | BW46: =BN$9 -> 455.4 | BX46: =BW46*BI46 -> 3129355 | BY46: =((BX46/3600)*AF47)/1000 -> 0.45279817 | BZ46: =AH46 -> 7.7263715 | CB46: =BU46-BS46 -> 344.00937 | CC46: =CB46/(BZ46-BZ45) -> 664.38622 | CD46: =CB46+CD45 -> 31227.012
D47: =ASIN((N47)/(G48-G47)) -> 0 | E47: 9.2017056 | F47: =IF(K47<6,1,IF(Data!K47<9,2,IF(K47>9,3))) -> 3 | G47: 782.55742 | H47: 213.11666 | I47: 33.927994 | J47: =(I48-I47)/(H48-H47) -> 2.9739763 | K47: =I47/2.5 -> 13.571198 | L47: =(K48-K47)/(H48-H47) -> 1.1895905 | M47: =2*E47 -> 18.403411 | N47: =E48-E47 -> 0 | O47: =IF(L47<'Vehicle Data'!F$21,'Vehicle Data'!C$21,IF(L47>'Vehicle Data'!C$21,'Vehicle Data'!C$20)) -> 0.6 | P47: =('Vehicle Data'!C$6*9.81*'Vehicle Data'!C$5*SIN(D47))/'Vehicle Data'!C$9 -> 0 | Q47: ='Vehicle Data'!C$6*9.81*SIN(D47) -> 0 | R47: =G46 -> 780.85267 | S47: =IF(Data!O47=0.6,'Vehicle Data'!E$21,IF(Data!O47 = 0.9,'Vehicle Data'!E$20))+(P47*O47) -> 1550.3724 | T47: =IF(F47=3,'Vehicle Data'!H$16,IF(F47=2,'Vehicle Data'!H$15,IF(F47 = 1,'Vehicle Data'!G$14))) -> 466.23005 | U47: =R47-R$2 -> 64.714189 | V47: s | W47: b | X47: =IF(V47="S",'Vehicle Data'!C$14,IF(Data!V47 = "T1",'Vehicle Data'!P$2,IF(Data!V47="T2",'Vehicle Data'!P$3))) -> 13.4112 | Z47: =X49 -> 3.2549654 | AB47: =IF(AA47=1,'Vehicle Data'!I$14,IF(AA47=2,'Vehicle Data'!I$15,IF(AA47=3,'Vehicle Data'!I$16))) -> FALSE | AC47: =IF(Z47<'Vehicle Data'!C$16,'Vehicle Data'!I$15,IF(Z47<'Vehicle Data'!C$15,'Vehicle Data'!I$15,IF(Z46>'Vehicle Data'!C$15,'Vehicle Data'!I$16))) -> 0.98256251 | AD47: =IF(O47=0.6,'Vehicle Data'!F$21,IF(O47=0.9,'Vehicle Data'!F$20)) -> 3.5316 | AE47: =IF(W47="a",AC47,IF(W47="b",AD47*-1)) -> -3.5316 | AF47: =(U47-U46)/Z47 -> 0.52089757 | AG47: =(Z47-Z46)/AF47 -> 0 | AH47: =AH46+AF47 -> 8.2472691 | AJ47: =(Z47^2)*'Vehicle Data'!C$31 -> 3.893589 | AK47: =IF(O47=0.6,'Vehicle Data'!C$6*'Vehicle Data'!D$21*9.81,IF(O47=0.9,'Vehicle Data'!C$6*9.81*'Vehicle Data'!D$20)) -> 86.1318 | AL47: =AJ47+AK47+Q47 -> 90.025389 | AN47: =IF(AG47>0,AG47*'Vehicle Data'!C$6,IF(AG47=0,AG47)) -> 0 | AO47: =AN47+AL47 -> 90.025389 | AP47: =AO47*'Vehicle Data'!F$3 -> 23.010489 | AQ47: =IF(AE47='Vehicle Data'!I$15,AP36/'Vehicle Data'!G$15,IF(AE47='Vehicle Data'!I$16,AP36/'Vehicle Data'!G$16,IF(AE47='Vehicle Data'!I$14,Data!AP36/'Vehicle Data'!G47))) -> FALSE | AR47: =IF(Z47<'Vehicle Data'!C$16, Z47*'Vehicle Data'!F$7*'Vehicle Data'!G$14,IF(Z47<'Vehicle Data'!C$15,Z47*'Vehicle Data'!F$7*'Vehicle Data'!G$15,IF(Z47>'Vehicle Data'!C$15,Z47*'Vehicle Data'!F$7*'Vehicle Data'!G$16))) -> 63.290995 | AS47: =AR47*60 -> 3797.4597 | AT47: =ROUND(AQ47,0) -> 0 | AU47: =MROUND(AS47,500) -> 4000 | AW47: =VLOOKUP(AT47,BSFC!A$64:A$82,1,FALSE) -> #N/A | AX47: {=_xlfn.XLOOKUP(AT47,BSFC!A$64:A$82,,-1,_xlfn.XLOOKUP(Data!AU47,BSFC!C$63:Q$63,BSFC!B$64:Q$82,,-1))} -> #VALUE! | AY47: =HLOOKUP(AU47,BSFC!F$63:Q$63,1) -> 4000 | AZ47: =MATCH(AT47,BSFC!A$64:A$83,0) -> 20 | BA47: =MATCH(AU47,BSFC!C$63:Q$63,0) -> 8 | BB47: {=INDEX(BSFC!C$64:Q$83,Data!AZ47,Data!BA47)} -> 750 | BC47: =0.5*'Vehicle Data'!C$6*Data!Z47^2 -> 2325.5586 | BD47: =ABS(AQ48*(AS48/9.588))/1000 -> 18.212252 | BE47: =BB47*BD47 -> 13659.189 | BF47: =(BE47/3600)*AF47 -> 1.9763995 | BG47: =BG46+BF47 -> 10.742488 | BH47: =AQ47*(AS47/9.588) -> 0 | BI47: =BM$9 -> 6871.6622 | BO47: =BH47*AF48 -> 0 | BP47: =BP46+BO47 -> 12873.996 | BQ47: =IF(BO47>0,BQ46+BO47,IF(BO47<=0,BQ46)) -> 24713.495 | BR47: =(BM$9*AF48)+BR46 -> 60271.399 | BS47: =IF(BO47>0,BO47) -> FALSE | BT47: =IF(BH47>=0,BH47, IF(BH47<0,0)) -> 0 | BU47: =BI47*AF48 -> 3598.9522 | BV47: =BM$9*AF48 -> 3598.9522 | BW47: =BN$9 -> 455.4 | BX47: =BW47*BI47 -> 3129355 | BY47: =((BX47/3600)*AF48)/1000 -> 0.45526745 | BZ47: =AH47 -> 8.2472691 | CB47: =BU47-BS47 -> 3598.9522 | CC47: =CB47/(BZ47-BZ46) -> 6909.136 | CD47: =CB47+CD46 -> 34825.964
D48: =ASIN((N48)/(G49-G48)) -> 0 | E48: 9.2017056 | F48: =IF(K48<6,1,IF(Data!K48<9,2,IF(K48>9,3))) -> 3 | G48: 784.27165 | H48: 213.16666 | I48: 34.076693 | J48: =(I49-I48)/(H49-H48) -> 3.1386756 | K48: =I48/2.5 -> 13.630677 | L48: =(K49-K48)/(H49-H48) -> 1.2554703 | M48: =2*E48 -> 18.403411 | N48: =E49-E48 -> 0 | O48: =IF(L48<'Vehicle Data'!F$21,'Vehicle Data'!C$21,IF(L48>'Vehicle Data'!C$21,'Vehicle Data'!C$20)) -> 0.6 | P48: =('Vehicle Data'!C$6*9.81*'Vehicle Data'!C$5*SIN(D48))/'Vehicle Data'!C$9 -> 0 | Q48: ='Vehicle Data'!C$6*9.81*SIN(D48) -> 0 | R48: =G47 -> 782.55742 | S48: =IF(Data!O48=0.6,'Vehicle Data'!E$21,IF(Data!O48 = 0.9,'Vehicle Data'!E$20))+(P48*O48) -> 1550.3724 | T48: =IF(F48=3,'Vehicle Data'!H$16,IF(F48=2,'Vehicle Data'!H$15,IF(F48 = 1,'Vehicle Data'!G$14))) -> 466.23005 | U48: =R48-R$2 -> 66.418939 | V48: t1 | W48: a | X48: =IF(V48="S",'Vehicle Data'!C$14,IF(Data!V48 = "T1",'Vehicle Data'!P$2,IF(Data!V48="T2",'Vehicle Data'!P$3))) -> 3.2549654 | Z48: =X50 -> 3.2549654 | AB48: =IF(AA48=1,'Vehicle Data'!I$14,IF(AA48=2,'Vehicle Data'!I$15,IF(AA48=3,'Vehicle Data'!I$16))) -> FALSE | AC48: =IF(Z48<'Vehicle Data'!C$16,'Vehicle Data'!I$15,IF(Z48<'Vehicle Data'!C$15,'Vehicle Data'!I$15,IF(Z47>'Vehicle Data'!C$15,'Vehicle Data'!I$16))) -> 0.98256251 | AD48: =IF(O48=0.6,'Vehicle Data'!F$21,IF(O48=0.9,'Vehicle Data'!F$20)) -> 3.5316 | AE48: =IF(W48="a",AC48,IF(W48="b",AD48*-1)) -> 0.98256251 | AF48: =(U48-U47)/Z48 -> 0.52373823 | AG48: =(Z48-Z47)/AF48 -> 0 | AH48: =AH47+AF48 -> 8.7710073 | AJ48: =(Z48^2)*'Vehicle Data'!C$31 -> 3.893589 | AK48: =IF(O48=0.6,'Vehicle Data'!C$6*'Vehicle Data'!D$21*9.81,IF(O48=0.9,'Vehicle Data'!C$6*9.81*'Vehicle Data'!D$20)) -> 86.1318 | AL48: =AJ48+AK48+Q48 -> 90.025389 | AN48: =IF(AG48>0,AG48*'Vehicle Data'!C$6,IF(AG48=0,AG48)) -> 0 | AO48: =AN48+AL48 -> 90.025389 | AP48: =AO48*'Vehicle Data'!F$3 -> 23.010489 | AQ48: =IF(AE48='Vehicle Data'!I$15,AP37/'Vehicle Data'!G$15,IF(AE48='Vehicle Data'!I$16,AP37/'Vehicle Data'!G$16,IF(AE48='Vehicle Data'!I$14,Data!AP37/'Vehicle Data'!G48))) -> -45.983126 | AR48: =IF(Z48<'Vehicle Data'!C$16, Z48*'Vehicle Data'!F$7*'Vehicle Data'!G$14,IF(Z48<'Vehicle Data'!C$15,Z48*'Vehicle Data'!F$7*'Vehicle Data'!G$15,IF(Z48>'Vehicle Data'!C$15,Z48*'Vehicle Data'!F$7*'Vehicle Data'!G$16))) -> 63.290995 | AS48: =AR48*60 -> 3797.4597 | AT48: =ROUND(AQ48,0) -> -46 | AU48: =MROUND(AS48,500) -> 4000 | AW48: =VLOOKUP(AT48,BSFC!A$64:A$82,1,FALSE) -> #N/A | AX48: {=_xlfn.XLOOKUP(AT48,BSFC!A$64:A$82,,-1,_xlfn.XLOOKUP(Data!AU48,BSFC!C$63:Q$63,BSFC!B$64:Q$82,,-1))} -> #VALUE! | AY48: =HLOOKUP(AU48,BSFC!F$63:Q$63,1) -> 4000 | AZ48: =IF(AT48>0,MATCH(AT48,BSFC!A$64:A$83,0),IF(AT48<=0,0)) -> 0 | BA48: =MATCH(AU48,BSFC!C$63:Q$63,0) -> 8 | BB48: {=IF(AZ48>0,INDEX(BSFC!C$64:Q$83,Data!AZ48,Data!BA48))} -> FALSE | BC48: =0.5*'Vehicle Data'!C$6*Data!Z48^2 -> 2325.5586 | BD48: =ABS(AQ49*(AS49/9.588))/1000 -> 15.362617 | BE48: =BB48*BD48 -> 0 | BF48: =(BE48/3600)*AF48 -> 0 | BG48: =BG47+BF48 -> 10.742488 | BH48: =AQ48*(AS48/9.588) -> -18212.252 | BI48: =BM$9 -> 6871.6622 | BO48: =BH48*AF49 -> -9591.4834 | BP48: =BP47+BO48 -> 3282.5131 | BQ48: =IF(BO48>0,BQ47+BO48,IF(BO48<=0,BQ47)) -> 24713.495 | BR48: =(BM$9*AF49)+BR47 -> 63890.361 | BS48: =IF(BO48>0,BO48) -> FALSE | BT48: =IF(BH48>=0,BH48, IF(BH48<0,0)) -> 0 | BU48: =BI48*AF49 -> 3618.9613 | BV48: =BM$9*AF49 -> 3618.9613 | BW48: =BN$9 -> 455.4 | BX48: =BW48*BI48 -> 3129355 | BY48: =((BX48/3600)*AF49)/1000 -> 0.45779861 | BZ48: =AH48 -> 8.7710073 | CB48: =BU48-BS48 -> 3618.9613 | CC48: =CB48/(BZ48-BZ47) -> 6909.8667 | CD48: =CB48+CD47 -> 38444.925
D49: =ASIN((N49)/(G50-G49)) -> 0 | E49: 9.2017056 | F49: =IF(K49<6,1,IF(Data!K49<9,2,IF(K49>9,3))) -> 3 | G49: 785.99302 | H49: 213.21666 | I49: 34.233627 | J49: =(I50-I49)/(H50-H49) -> 2.6623737 | K49: =I49/2.5 -> 13.693451 | L49: =(K50-K49)/(H50-H49) -> 1.0649495 | M49: =2*E49 -> 18.403411 | N49: =E50-E49 -> 0 | O49: =IF(L49<'Vehicle Data'!F$21,'Vehicle Data'!C$21,IF(L49>'Vehicle Data'!C$21,'Vehicle Data'!C$20)) -> 0.6 | P49: =('Vehicle Data'!C$6*9.81*'Vehicle Data'!C$5*SIN(D49))/'Vehicle Data'!C$9 -> 0 | Q49: ='Vehicle Data'!C$6*9.81*SIN(D49) -> 0 | R49: =G48 -> 784.27165 | S49: =IF(Data!O49=0.6,'Vehicle Data'!E$21,IF(Data!O49 = 0.9,'Vehicle Data'!E$20))+(P49*O49) -> 1550.3724 | T49: =IF(F49=3,'Vehicle Data'!H$16,IF(F49=2,'Vehicle Data'!H$15,IF(F49 = 1,'Vehicle Data'!G$14))) -> 466.23005 | U49: =R49-R$2 -> 68.133166 | V49: t1 | W49: a | X49: =IF(V49="S",'Vehicle Data'!C$14,IF(Data!V49 = "T1",'Vehicle Data'!P$2,IF(Data!V49="T2",'Vehicle Data'!P$3))) -> 3.2549654 | Z49: =X51 -> 3.2549654 | AB49: =IF(AA49=1,'Vehicle Data'!I$14,IF(AA49=2,'Vehicle Data'!I$15,IF(AA49=3,'Vehicle Data'!I$16))) -> FALSE | AC49: =IF(Z49<'Vehicle Data'!C$16,'Vehicle Data'!I$15,IF(Z49<'Vehicle Data'!C$15,'Vehicle Data'!I$15,IF(Z48>'Vehicle Data'!C$15,'Vehicle Data'!I$16))) -> 0.98256251 | AD49: =IF(O49=0.6,'Vehicle Data'!F$21,IF(O49=0.9,'Vehicle Data'!F$20)) -> 3.5316 | AE49: =IF(W49="a",AC49,IF(W49="b",AD49*-1)) -> 0.98256251 | AF49: =(U49-U48)/Z49 -> 0.52665006 | AG49: =(Z49-Z48)/AF49 -> 0 | AH49: =AH48+AF49 -> 9.2976574 | AJ49: =(Z49^2)*'Vehicle Data'!C$31 -> 3.893589 | AK49: =IF(O49=0.6,'Vehicle Data'!C$6*'Vehicle Data'!D$21*9.81,IF(O49=0.9,'Vehicle Data'!C$6*9.81*'Vehicle Data'!D$20)) -> 86.1318 | AL49: =AJ49+AK49+Q49 -> 90.025389 | AN49: =IF(AG49>0,AG49*'Vehicle Data'!C$6,IF(AG49=0,AG49)) -> 0 | AO49: =AN49+AL49 -> 90.025389 | AP49: =AO49*'Vehicle Data'!F$3 -> 23.010489 | AQ49: =IF(AE49='Vehicle Data'!I$15,AP38/'Vehicle Data'!G$15,IF(AE49='Vehicle Data'!I$16,AP38/'Vehicle Data'!G$16,IF(AE49='Vehicle Data'!I$14,Data!AP38/'Vehicle Data'!G49))) -> -38.788238 | AR49: =IF(Z49<'Vehicle Data'!C$16, Z49*'Vehicle Data'!F$7*'Vehicle Data'!G$14,IF(Z49<'Vehicle Data'!C$15,Z49*'Vehicle Data'!F$7*'Vehicle Data'!G$15,IF(Z49>'Vehicle Data'!C$15,Z49*'Vehicle Data'!F$7*'Vehicle Data'!G$16))) -> 63.290995 | AS49: =AR49*60 -> 3797.4597 | AT49: =ROUND(AQ49,0) -> -39 | AU49: =MROUND(AS49,500) -> 4000 | AW49: =VLOOKUP(AT49,BSFC!A$64:A$82,1,FALSE) -> #N/A | AX49: {=_xlfn.XLOOKUP(AT49,BSFC!A$64:A$82,,-1,_xlfn.XLOOKUP(Data!AU49,BSFC!C$63:Q$63,BSFC!B$64:Q$82,,-1))} -> #VALUE! | AY49: =HLOOKUP(AU49,BSFC!F$63:Q$63,1) -> 4000 | AZ49: =IF(AT49>0,MATCH(AT49,BSFC!A$64:A$83,0),IF(AT49<=0,0)) -> 0 | BA49: =MATCH(AU49,BSFC!C$63:Q$63,0) -> 8 | BB49: {=IF(AZ49>0,INDEX(BSFC!C$64:Q$83,Data!AZ49,Data!BA49))} -> FALSE | BC49: =0.5*'Vehicle Data'!C$6*Data!Z49^2 -> 2325.5586 | BD49: =ABS(AQ50*(AS50/9.588))/1000 -> 25.959812 | BE49: =BB49*BD49 -> 0 | BF49: =(BE49/3600)*AF49 -> 0 | BG49: =BG48+BF49 -> 10.742488 | BH49: =AQ49*(AS49/9.588) -> -15362.617 | BI49: =BM$9 -> 6871.6622 | BO49: =BH49*AF50 -> -8124.447 | BP49: =BP48+BO49 -> -4841.934 | BQ49: =IF(BO49>0,BQ48+BO49,IF(BO49<=0,BQ48)) -> 24713.495 | BR49: =(BM$9*AF50)+BR48 -> 67524.407 | BS49: =IF(BO49>0,BO49) -> FALSE | BT49: =IF(BH49>=0,BH49, IF(BH49<0,0)) -> 0 | BU49: =BI49*AF50 -> 3634.046 | BV49: =BM$9*AF50 -> 3634.046 | BW49: =BN$9 -> 455.4 | BX49: =BW49*BI49 -> 3129355 | BY49: =((BX49/3600)*AF50)/1000 -> 0.45970682 | BZ49: =AH49 -> 9.2976574 | CB49: =BU49-BS49 -> 3634.046 | CC49: =CB49/(BZ49-BZ48) -> 6900.3048 | CD49: =CB49+CD48 -> 42078.971
D50: =ASIN((N50)/(G51-G50)) -> 0 | E50: 9.2017056 | F50: =IF(K50<6,1,IF(Data!K50<9,2,IF(K50>9,3))) -> 3 | G50: 787.72319 | H50: 213.26666 | I50: 34.366746 | J50: =(I51-I50)/(H51-H50) -> 2.7882401 | K50: =I50/2.5 -> 13.746698 | L50: =(K51-K50)/(H51-H50) -> 1.115296 | M50: =2*E50 -> 18.403411 | N50: =E51-E50 -> 0 | O50: =IF(L50<'Vehicle Data'!F$21,'Vehicle Data'!C$21,IF(L50>'Vehicle Data'!C$21,'Vehicle Data'!C$20)) -> 0.6 | P50: =('Vehicle Data'!C$6*9.81*'Vehicle Data'!C$5*SIN(D50))/'Vehicle Data'!C$9 -> 0 | Q50: ='Vehicle Data'!C$6*9.81*SIN(D50) -> 0 | R50: =G49 -> 785.99302 | S50: =IF(Data!O50=0.6,'Vehicle Data'!E$21,IF(Data!O50 = 0.9,'Vehicle Data'!E$20))+(P50*O50) -> 1550.3724 | T50: =IF(F50=3,'Vehicle Data'!H$16,IF(F50=2,'Vehicle Data'!H$15,IF(F50 = 1,'Vehicle Data'!G$14))) -> 466.23005 | U50: =R50-R$2 -> 69.85454 | V50: t1 | W50: a | X50: =IF(V50="S",'Vehicle Data'!C$14,IF(Data!V50 = "T1",'Vehicle Data'!P$2,IF(Data!V50="T2",'Vehicle Data'!P$3))) -> 3.2549654 | Z50: =X52 -> 3.2549654 | AB50: =IF(AA50=1,'Vehicle Data'!I$14,IF(AA50=2,'Vehicle Data'!I$15,IF(AA50=3,'Vehicle Data'!I$16))) -> FALSE | AC50: =IF(Z50<'Vehicle Data'!C$16,'Vehicle Data'!I$15,IF(Z50<'Vehicle Data'!C$15,'Vehicle Data'!I$15,IF(Z49>'Vehicle Data'!C$15,'Vehicle Data'!I$16))) -> 0.98256251 | AD50: =IF(O50=0.6,'Vehicle Data'!F$21,IF(O50=0.9,'Vehicle Data'!F$20)) -> 3.5316 | AE50: =IF(W50="a",AC50,IF(W50="b",AD50*-1)) -> 0.98256251 | AF50: =(U50-U49)/Z50 -> 0.52884526 | AG50: =(Z50-Z49)/AF50 -> 0 | AH50: =AH49+AF50 -> 9.8265026 | AJ50: =(Z50^2)*'Vehicle Data'!C$31 -> 3.893589 | AK50: =IF(O50=0.6,'Vehicle Data'!C$6*'Vehicle Data'!D$21*9.81,IF(O50=0.9,'Vehicle Data'!C$6*9.81*'Vehicle Data'!D$20)) -> 86.1318 | AL50: =AJ50+AK50+Q50 -> 90.025389 | AN50: =IF(AG50>0,AG50*'Vehicle Data'!C$6,IF(AG50=0,AG50)) -> 0 | AO50: =AN50+AL50 -> 90.025389 | AP50: =AO50*'Vehicle Data'!F$3 -> 23.010489 | AQ50: =IF(AE50='Vehicle Data'!I$15,AP39/'Vehicle Data'!G$15,IF(AE50='Vehicle Data'!I$16,AP39/'Vehicle Data'!G$16,IF(AE50='Vehicle Data'!I$14,Data!AP39/'Vehicle Data'!G50))) -> -65.544522 | AR50: =IF(Z50<'Vehicle Data'!C$16, Z50*'Vehicle Data'!F$7*'Vehicle Data'!G$14,IF(Z50<'Vehicle Data'!C$15,Z50*'Vehicle Data'!F$7*'Vehicle Data'!G$15,IF(Z50>'Vehicle Data'!C$15,Z50*'Vehicle Data'!F$7*'Vehicle Data'!G$16))) -> 63.290995 | AS50: =AR50*60 -> 3797.4597 | AT50: =ROUND(AQ50,0) -> -66 | AU50: =MROUND(AS50,500) -> 4000 | AW50: =VLOOKUP(AT50,BSFC!A$64:A$82,1,FALSE) -> #N/A | AX50: {=_xlfn.XLOOKUP(AT50,BSFC!A$64:A$82,,-1,_xlfn.XLOOKUP(Data!AU50,BSFC!C$63:Q$63,BSFC!B$64:Q$82,,-1))} -> #VALUE! | AY50: =HLOOKUP(AU50,BSFC!F$63:Q$63,1) -> 4000 | AZ50: =IF(AT50>0,MATCH(AT50,BSFC!A$64:A$83,0),IF(AT50<=0,0)) -> 0 | BA50: =MATCH(AU50,BSFC!C$63:Q$63,0) -> 8 | BB50: {=IF(AZ50>0,INDEX(BSFC!C$64:Q$83,Data!AZ50,Data!BA50))} -> FALSE | BC50: =0.5*'Vehicle Data'!C$6*Data!Z50^2 -> 2325.5586 | BD50: =ABS(AQ51*(AS51/9.588))/1000 -> 17.293458 | BE50: =BB50*BD50 -> 0 | BF50: =(BE50/3600)*AF50 -> 0 | BG50: =BG49+BF50 -> 10.742488 | BH50: =AQ50*(AS50/9.588) -> -25959.812 | BI50: =BM$9 -> 6871.6622 | BO50: =BH50*AF51 -> -13798.906 | BP50: =BP49+BO50 -> -18640.84 | BQ50: =IF(BO50>0,BQ49+BO50,IF(BO50<=0,BQ49)) -> 24713.495 | BR50: =(BM$9*AF51)+BR49 -> 71177.03 | BS50: =IF(BO50>0,BO50) -> FALSE | BT50: =IF(BH50>=0,BH50, IF(BH50<0,0)) -> 0 | BU50: =BI50*AF51 -> 3652.6235 | BV50: =BM$9*AF51 -> 3652.6235 | BW50: =BN$9 -> 455.4 | BX50: =BW50*BI50 -> 3129355 | BY50: =((BX50/3600)*AF51)/1000 -> 0.46205688 | BZ50: =AH50 -> 9.8265026 | CB50: =BU50-BS50 -> 3652.6235 | CC50: =CB50/(BZ50-BZ49) -> 6906.7907 | CD50: =CB50+CD49 -> 45731.595
D51: =ASIN((N51)/(G52-G51)) -> 0 | E51: 9.2017056 | F51: =IF(K51<6,1,IF(Data!K51<9,2,IF(K51>9,3))) -> 3 | G51: 789.4576 | H51: 213.31667 | I51: 34.506158 | J51: =(I52-I51)/(H52-H51) -> 2.1290709 | K51: =I51/2.5 -> 13.802463 | L51: =(K52-K51)/(H52-H51) -> 0.85162835 | M51: =2*E51 -> 18.403411 | N51: =E52-E51 -> 0 | O51: =IF(L51<'Vehicle Data'!F$21,'Vehicle Data'!C$21,IF(L51>'Vehicle Data'!C$21,'Vehicle Data'!C$20)) -> 0.6 | P51: =('Vehicle Data'!C$6*9.81*'Vehicle Data'!C$5*SIN(D51))/'Vehicle Data'!C$9 -> 0 | Q51: ='Vehicle Data'!C$6*9.81*SIN(D51) -> 0 | R51: =G50 -> 787.72319 | S51: =IF(Data!O51=0.6,'Vehicle Data'!E$21,IF(Data!O51 = 0.9,'Vehicle Data'!E$20))+(P51*O51) -> 1550.3724 | T51: =IF(F51=3,'Vehicle Data'!H$16,IF(F51=2,'Vehicle Data'!H$15,IF(F51 = 1,'Vehicle Data'!G$14))) -> 466.23005 | U51: =R51-R$2 -> 71.584712 | V51: t1 | W51: a | X51: =IF(V51="S",'Vehicle Data'!C$14,IF(Data!V51 = "T1",'Vehicle Data'!P$2,IF(Data!V51="T2",'Vehicle Data'!P$3))) -> 3.2549654 | Z51: =X51 -> 3.2549654 | AB51: =IF(AA51=1,'Vehicle Data'!I$14,IF(AA51=2,'Vehicle Data'!I$15,IF(AA51=3,'Vehicle Data'!I$16))) -> FALSE | AC51: =IF(Z51<'Vehicle Data'!C$16,'Vehicle Data'!I$15,IF(Z51<'Vehicle Data'!C$15,'Vehicle Data'!I$15,IF(Z50>'Vehicle Data'!C$15,'Vehicle Data'!I$16))) -> 0.98256251 | AD51: =IF(O51=0.6,'Vehicle Data'!F$21,IF(O51=0.9,'Vehicle Data'!F$20)) -> 3.5316 | AE51: =IF(W51="a",AC51,IF(W51="b",AD51*-1)) -> 0.98256251 | AF51: =(U51-U50)/Z51 -> 0.53154876 | AG51: =(Z51-Z50)/AF51 -> 0 | AH51: =AH50+AF51 -> 10.358051 | AJ51: =(Z51^2)*'Vehicle Data'!C$31 -> 3.893589 | AK51: =IF(O51=0.6,'Vehicle Data'!C$6*'Vehicle Data'!D$21*9.81,IF(O51=0.9,'Vehicle Data'!C$6*9.81*'Vehicle Data'!D$20)) -> 86.1318 | AL51: =AJ51+AK51+Q51 -> 90.025389 | AN51: =IF(AG51>0,AG51*'Vehicle Data'!C$6,IF(AG51=0,AG51)) -> 0 | AO51: =AN51+AL51 -> 90.025389 | AP51: =AO51*'Vehicle Data'!F$3 -> 23.010489 | AQ51: =IF(AE51='Vehicle Data'!I$15,AP40/'Vehicle Data'!G$15,IF(AE51='Vehicle Data'!I$16,AP40/'Vehicle Data'!G$16,IF(AE51='Vehicle Data'!I$14,Data!AP40/'Vehicle Data'!G51))) -> -43.663314 | AR51: =IF(Z51<'Vehicle Data'!C$16, Z51*'Vehicle Data'!F$7*'Vehicle Data'!G$14,IF(Z51<'Vehicle Data'!C$15,Z51*'Vehicle Data'!F$7*'Vehicle Data'!G$15,IF(Z51>'Vehicle Data'!C$15,Z51*'Vehicle Data'!F$7*'Vehicle Data'!G$16))) -> 63.290995 | AS51: =AR51*60 -> 3797.4597 | AT51: =ROUND(AQ51,0) -> -44 | AU51: =MROUND(AS51,500) -> 4000 | AW51: =VLOOKUP(AT51,BSFC!A$64:A$82,1,FALSE) -> #N/A | AX51: {=_xlfn.XLOOKUP(AT51,BSFC!A$64:A$82,,-1,_xlfn.XLOOKUP(Data!AU51,BSFC!C$63:Q$63,BSFC!B$64:Q$82,,-1))} -> #VALUE! | AY51: =HLOOKUP(AU51,BSFC!F$63:Q$63,1) -> 4000 | AZ51: =IF(AT51>0,MATCH(AT51,BSFC!A$64:A$83,0),IF(AT51<=0,0)) -> 0 | BA51: =MATCH(AU51,BSFC!C$63:Q$63,0) -> 8 | BB51: {=IF(AZ51>0,INDEX(BSFC!C$64:Q$83,Data!AZ51,Data!BA51))} -> FALSE | BC51: =0.5*'Vehicle Data'!C$6*Data!Z51^2 -> 2325.5586 | BD51: =ABS(AQ52*(AS52/9.588))/1000 -> 17.200109 | BE51: =BB51*BD51 -> 0 | BF51: =(BE51/3600)*AF51 -> 0 | BG51: =BG50+BF51 -> 10.742488 | BH51: =AQ51*(AS51/9.588) -> -17293.458 | BI51: =BM$9 -> 6871.6622 | BO51: =BH51*AF52 -> -9214.7979 | BP51: =BP50+BO51 -> -27855.638 | BQ51: =IF(BO51>0,BQ50+BO51,IF(BO51<=0,BQ50)) -> 24713.495 | BR51: =(BM$9*AF52)+BR50 -> 74838.587 | BS51: =IF(BO51>0,BO51) -> FALSE | BT51: =IF(BH51>=0,BH51, IF(BH51<0,0)) -> 0 | BU51: =BI51*AF52 -> 3661.5568 | BV51: =BM$9*AF52 -> 3661.5568 | BW51: =BN$9 -> 455.4 | BX51: =BW51*BI51 -> 3129355 | BY51: =((BX51/3600)*AF52)/1000 -> 0.46318693 | BZ51: =AH51 -> 10.358051 | CB51: =BU51-BS51 -> 3661.5568 | CC51: =CB51/(BZ51-BZ50) -> 6888.4683 | CD51: =CB51+CD50 -> 49393.152
D52: =ASIN((N52)/(G53-G52)) -> 0 | E52: 9.2017056 | F52: =IF(K52<6,1,IF(Data!K52<9,2,IF(K52>9,3))) -> 3 | G52: 791.1949 | H52: 213.36666 | I52: 34.612611 | J52: =(I53-I52)/(H53-H52) -> -0.69865795 | K52: =I52/2.5 -> 13.845044 | L52: =(K53-K52)/(H53-H52) -> -0.27946318 | M52: =2*E52 -> 18.403411 | N52: =E53-E52 -> 0 | O52: =IF(L52<'Vehicle Data'!F$21,'Vehicle Data'!C$21,IF(L52>'Vehicle Data'!C$21,'Vehicle Data'!C$20)) -> 0.6 | P52: =('Vehicle Data'!C$6*9.81*'Vehicle Data'!C$5*SIN(D52))/'Vehicle Data'!C$9 -> 0 | Q52: ='Vehicle Data'!C$6*9.81*SIN(D52) -> 0 | R52: =G51 -> 789.4576 | S52: =IF(Data!O52=0.6,'Vehicle Data'!E$21,IF(Data!O52 = 0.9,'Vehicle Data'!E$20))+(P52*O52) -> 1550.3724 | T52: =IF(F52=3,'Vehicle Data'!H$16,IF(F52=2,'Vehicle Data'!H$15,IF(F52 = 1,'Vehicle Data'!G$14))) -> 466.23005 | U52: =R52-R$2 -> 73.319117 | V52: t1 | W52: a | X52: =IF(V52="S",'Vehicle Data'!C$14,IF(Data!V52 = "T1",'Vehicle Data'!P$2,IF(Data!V52="T2",'Vehicle Data'!P$3))) -> 3.2549654 | Z52: =X52 -> 3.2549654 | AB52: =IF(AA52=1,'Vehicle Data'!I$14,IF(AA52=2,'Vehicle Data'!I$15,IF(AA52=3,'Vehicle Data'!I$16))) -> FALSE | AC52: =IF(Z52<'Vehicle Data'!C$16,'Vehicle Data'!I$15,IF(Z52<'Vehicle Data'!C$15,'Vehicle Data'!I$15,IF(Z51>'Vehicle Data'!C$15,'Vehicle Data'!I$16))) -> 0.98256251 | AD52: =IF(O52=0.6,'Vehicle Data'!F$21,IF(O52=0.9,'Vehicle Data'!F$20)) -> 3.5316 | AE52: =IF(W52="a",AC52,IF(W52="b",AD52*-1)) -> 0.98256251 | AF52: =(U52-U51)/Z52 -> 0.53284877 | AG52: =(Z52-Z51)/AF52 -> 0 | AH52: =AH51+AF52 -> 10.8909 | AJ52: =(Z52^2)*'Vehicle Data'!C$31 -> 3.893589 | AK52: =IF(O52=0.6,'Vehicle Data'!C$6*'Vehicle Data'!D$21*9.81,IF(O52=0.9,'Vehicle Data'!C$6*9.81*'Vehicle Data'!D$20)) -> 86.1318 | AL52: =AJ52+AK52+Q52 -> 90.025389 | AN52: =IF(AG52>0,AG52*'Vehicle Data'!C$6,IF(AG52=0,AG52)) -> 0 | AO52: =AN52+AL52 -> 90.025389 | AP52: =AO52*'Vehicle Data'!F$3 -> 23.010489 | AQ52: =IF(AE52='Vehicle Data'!I$15,AP41/'Vehicle Data'!G$15,IF(AE52='Vehicle Data'!I$16,AP41/'Vehicle Data'!G$16,IF(AE52='Vehicle Data'!I$14,Data!AP41/'Vehicle Data'!G52))) -> -43.427621 | AR52: =IF(Z52<'Vehicle Data'!C$16, Z52*'Vehicle Data'!F$7*'Vehicle Data'!G$14,IF(Z52<'Vehicle Data'!C$15,Z52*'Vehicle Data'!F$7*'Vehicle Data'!G$15,IF(Z52>'Vehicle Data'!C$15,Z52*'Vehicle Data'!F$7*'Vehicle Data'!G$16))) -> 63.290995 | AS52: =AR52*60 -> 3797.4597 | AT52: =ROUND(AQ52,0) -> -43 | AU52: =MROUND(AS52,500) -> 4000 | AW52: =VLOOKUP(AT52,BSFC!A$64:A$82,1,FALSE) -> #N/A | AX52: {=_xlfn.XLOOKUP(AT52,BSFC!A$64:A$82,,-1,_xlfn.XLOOKUP(Data!AU52,BSFC!C$63:Q$63,BSFC!B$64:Q$82,,-1))} -> #VALUE! | AY52: =HLOOKUP(AU52,BSFC!F$63:Q$63,1) -> 4000 | AZ52: =IF(AT52>0,MATCH(AT52,BSFC!A$64:A$83,0),IF(AT52<=0,0)) -> 0 | BA52: =MATCH(AU52,BSFC!C$63:Q$63,0) -> 8 | BB52: {=IF(AZ52>0,INDEX(BSFC!C$64:Q$83,Data!AZ52,Data!BA52))} -> FALSE | BC52: =0.5*'Vehicle Data'!C$6*Data!Z52^2 -> 2325.5586 | BD52: =ABS(AQ53*(AS53/9.588))/1000 -> 7.9708397 | BE52: =BB52*BD52 -> 0 | BF52: =(BE52/3600)*AF52 -> 0 | BG52: =BG51+BF52 -> 10.742488 | BH52: =AQ52*(AS52/9.588) -> -17200.109 | BI52: =BM$9 -> 6871.6622 | BO52: =BH52*AF53 -> -7983.7257 | BP52: =BP51+BO52 -> -35839.363 | BQ52: =IF(BO52>0,BQ51+BO52,IF(BO52<=0,BQ51)) -> 24713.495 | BR52: =(BM$9*AF53)+BR51 -> 78028.187 | BS52: =IF(BO52>0,BO52) -> FALSE | BT52: =IF(BH52>=0,BH52, IF(BH52<0,0)) -> 0 | BU52: =BI52*AF53 -> 3189.6 | BV52: =BM$9*AF53 -> 3189.6 | BW52: =BN$9 -> 455.4 | BX52: =BW52*BI52 -> 3129355 | BY52: =((BX52/3600)*AF53)/1000 -> 0.4034844 | BZ52: =AH52 -> 10.8909 | CB52: =BU52-BS52 -> 3189.6 | CC52: =CB52/(BZ52-BZ51) -> 5985.9385 | CD52: =CB52+CD51 -> 52582.752
D53: =ASIN((N53)/(G54-G53)) -> 0 | E53: 9.2017056 | F53: =IF(K53<6,1,IF(Data!K53<9,2,IF(K53>9,3))) -> 3 | G53: 792.93119 | H53: 213.41666 | I53: 34.577678 | J53: =(I54-I53)/(H54-H53) -> -1.2690462 | K53: =I53/2.5 -> 13.831071 | L53: =(K54-K53)/(H54-H53) -> -0.50761847 | M53: =2*E53 -> 18.403411 | N53: 0 | O53: =IF(L53<'Vehicle Data'!F$21,'Vehicle Data'!C$21,IF(L53>'Vehicle Data'!C$21,'Vehicle Data'!C$20)) -> 0.6 | P53: =('Vehicle Data'!C$6*9.81*'Vehicle Data'!C$5*SIN(D53))/'Vehicle Data'!C$9 -> 0 | Q53: ='Vehicle Data'!C$6*9.81*SIN(D53) -> 0 | R53: =G52 -> 791.1949 | S53: =IF(Data!O53=0.6,'Vehicle Data'!E$21,IF(Data!O53 = 0.9,'Vehicle Data'!E$20))+(P53*O53) -> 1550.3724 | T53: =IF(F53=3,'Vehicle Data'!H$16,IF(F53=2,'Vehicle Data'!H$15,IF(F53 = 1,'Vehicle Data'!G$14))) -> 466.23005 | U53: =R53-R$2 -> 75.056418 | V53: s | W53: a | X53: =IF(V53="S",'Vehicle Data'!C$14,IF(Data!V53 = "T1",'Vehicle Data'!P$2,IF(Data!V53="T2",'Vehicle Data'!P$3))) -> 13.4112 | Z53: =SQRT(Z52^2+2*AE52*(U53-U52)) -> 3.742835 | AB53: =IF(AA53=1,'Vehicle Data'!I$14,IF(AA53=2,'Vehicle Data'!I$15,IF(AA53=3,'Vehicle Data'!I$16))) -> FALSE | AC53: =IF(Z53<'Vehicle Data'!C$16,'Vehicle Data'!I$15,IF(Z53<'Vehicle Data'!C$15,'Vehicle Data'!I$15,IF(Z52>'Vehicle Data'!C$15,'Vehicle Data'!I$16))) -> 0.98256251 | AD53: =IF(O53=0.6,'Vehicle Data'!F$21,IF(O53=0.9,'Vehicle Data'!F$20)) -> 3.5316 | AE53: =IF(W53="a",AC53,IF(W53="b",AD53*-1)) -> 0.98256251 | AF53: =(U53-U52)/Z53 -> 0.46416717 | AG53: =(Z53-Z52)/AF53 -> 1.0510644 | AH53: =AH52+AF53 -> 11.355067 | AJ53: =(Z53^2)*'Vehicle Data'!C$31 -> 5.1482391 | AK53: =IF(O53=0.6,'Vehicle Data'!C$6*'Vehicle Data'!D$21*9.81,IF(O53=0.9,'Vehicle Data'!C$6*9.81*'Vehicle Data'!D$20)) -> 86.1318 | AL53: =AJ53+AK53+Q53 -> 91.280039 | AN53: =IF(AG53>0,AG53*'Vehicle Data'!C$6) -> 461.41726 | AO53: =AN53+AL53 -> 552.6973 | AP53: =AO53*'Vehicle Data'!F$3 -> 141.26943 | AQ53: =IF(AE53='Vehicle Data'!I$15,AP53/'Vehicle Data'!G$15,IF(AE53='Vehicle Data'!I$16,AP53/'Vehicle Data'!G$16,IF(AE53='Vehicle Data'!I$14,Data!AP53/'Vehicle Data'!G64))) -> 17.501877 | AR53: =IF(Z53<'Vehicle Data'!C$16, Z53*'Vehicle Data'!F$7*'Vehicle Data'!G$14,IF(Z53<'Vehicle Data'!C$15,Z53*'Vehicle Data'!F$7*'Vehicle Data'!G$15,IF(Z53>'Vehicle Data'!C$15,Z53*'Vehicle Data'!F$7*'Vehicle Data'!G$16))) -> 72.777347 | AS53: =AR53*60 -> 4366.6408 | AT53: 4 | AU53: =MROUND(AS53,500) -> 4500 | AW53: =VLOOKUP(AT53,BSFC!A$64:A$82,1,FALSE) -> 4 | AX53: {=_xlfn.XLOOKUP(AT53,BSFC!A$64:A$82,,-1,_xlfn.XLOOKUP(Data!AU53,BSFC!C$63:Q$63,BSFC!B$64:Q$82,,-1))} -> #VALUE! | AY53: =HLOOKUP(AU53,BSFC!F$63:Q$63,1) -> 4500 | AZ53: =IF(AT53>0,MATCH(AT53,BSFC!A$64:A$83,0),IF(AT53<=0,0)) -> 19 | BA53: =MATCH(AU53,BSFC!C$63:Q$63,0) -> 9 | BB53: {=IF(AZ53>0,INDEX(BSFC!C$64:Q$83,Data!AZ53,Data!BA53))} -> 700 | BC53: =0.5*'Vehicle Data'!C$6*Data!Z53^2 -> 3074.9347 | BD53: =ABS(AQ54*(AS54/9.588))/1000 -> 8.8028905 | BE53: =BB53*BD53 -> 6162.0233 | BF53: =(BE53/3600)*AF53 -> 0.79450248 | BG53: =BG52+BF53 -> 11.53699 | BH53: =AQ53*(AS53/9.588) -> 7970.8397 | BI53: =BM$9 -> 6871.6622 | BO53: =BH53*AF54 -> 3315.8342 | BP53: =BP52+BO53 -> -32523.529 | BQ53: =IF(BO53>0,BQ52+BO53,IF(BO53<=0,BQ52)) -> 28029.329 | BR53: =(BM$9*AF54)+BR52 -> 80886.768 | BS53: =IF(BO53>0,BO53) -> 3315.8342 | BT53: =IF(BH53>=0,BH53, IF(BH53<0,0)) -> 7970.8397 | BU53: =BI53*AF54 -> 2858.5812 | BV53: =BM$9*AF54 -> 2858.5812 | BW53: =BN$9 -> 455.4 | BX53: =BW53*BI53 -> 3129355 | BY53: =((BX53/3600)*AF54)/1000 -> 0.36161052 | BZ53: =AH53 -> 11.355067 | CB53: =BU53-BS53 -> -457.253 | CC53: =CB53/(BZ53-BZ52) -> -985.10413 | CD53: =CB53+CD52 -> 52125.499
D54: =ASIN((N54)/(G55-G54)) -> 0 | E54: 9.1017072 | F54: =IF(K54<6,1,IF(Data!K54<9,2,IF(K54>9,3))) -> 3 | G54: 794.66198 | H54: 213.46666 | I54: 34.514226 | J54: =(I55-I54)/(H55-H54) -> -0.28603011 | K54: =I54/2.5 -> 13.80569 | L54: =(K55-K54)/(H55-H54) -> -0.11441204 | M54: =2*E54 -> 18.203414 | N54: =E55-E54 -> 0 | O54: =IF(L54<'Vehicle Data'!F$21,'Vehicle Data'!C$21,IF(L54>'Vehicle Data'!C$21,'Vehicle Data'!C$20)) -> 0.6 | P54: =('Vehicle Data'!C$6*9.81*'Vehicle Data'!C$5*SIN(D54))/'Vehicle Data'!C$9 -> 0 | Q54: ='Vehicle Data'!C$6*9.81*SIN(D54) -> 0 | R54: =G53 -> 792.93119 | S54: =IF(Data!O54=0.6,'Vehicle Data'!E$21,IF(Data!O54 = 0.9,'Vehicle Data'!E$20))+(P54*O54) -> 1550.3724 | T54: =IF(F54=3,'Vehicle Data'!H$16,IF(F54=2,'Vehicle Data'!H$15,IF(F54 = 1,'Vehicle Data'!G$14))) -> 466.23005 | U54: =R54-R$2 -> 76.792712 | V54: s | W54: a | X54: =IF(V54="S",'Vehicle Data'!C$14,IF(Data!V54 = "T1",'Vehicle Data'!P$2,IF(Data!V54="T2",'Vehicle Data'!P$3))) -> 13.4112 | Z54: =SQRT(Z53^2+2*AE53*(U54-U53)) -> 4.1738291 | AB54: =IF(AA54=1,'Vehicle Data'!I$14,IF(AA54=2,'Vehicle Data'!I$15,IF(AA54=3,'Vehicle Data'!I$16))) -> FALSE | AC54: =IF(Z54<'Vehicle Data'!C$16,'Vehicle Data'!I$15,IF(Z54<'Vehicle Data'!C$15,'Vehicle Data'!I$15,IF(Z53>'Vehicle Data'!C$15,'Vehicle Data'!I$16))) -> 0.98256251 | AD54: =IF(O54=0.6,'Vehicle Data'!F$21,IF(O54=0.9,'Vehicle Data'!F$20)) -> 3.5316 | AE54: =IF(W54="a",AC54,IF(W54="b",AD54*-1)) -> 0.98256251 | AF54: =(U54-U53)/Z54 -> 0.41599559 | AG54: =(Z54-Z53)/AF54 -> 1.0360546 | AH54: =AH53+AF54 -> 11.771063 | AJ54: =(Z54^2)*'Vehicle Data'!C$31 -> 6.4021623 | AK54: =IF(O54=0.6,'Vehicle Data'!C$6*'Vehicle Data'!D$21*9.81,IF(O54=0.9,'Vehicle Data'!C$6*9.81*'Vehicle Data'!D$20)) -> 86.1318 | AL54: =AJ54+AK54+Q54 -> 92.533962 | AN54: =IF(AG54>0,AG54*'Vehicle Data'!C$6) -> 454.82796 | AO54: =AN54+AL54 -> 547.36192 | AP54: =AO54*'Vehicle Data'!F$3 -> 139.90571 | AQ54: =IF(AE54='Vehicle Data'!I$15,AP54/'Vehicle Data'!G$15,IF(AE54='Vehicle Data'!I$16,AP54/'Vehicle Data'!G$16,IF(AE54='Vehicle Data'!I$14,Data!AP54/'Vehicle Data'!G65))) -> 17.332925 | AR54: =IF(Z54<'Vehicle Data'!C$16, Z54*'Vehicle Data'!F$7*'Vehicle Data'!G$14,IF(Z54<'Vehicle Data'!C$15,Z54*'Vehicle Data'!F$7*'Vehicle Data'!G$15,IF(Z54>'Vehicle Data'!C$15,Z54*'Vehicle Data'!F$7*'Vehicle Data'!G$16))) -> 81.157789 | AS54: =AR54*60 -> 4869.4673 | AT54: =ROUND(AQ54,0) -> 17 | AU54: =MROUND(AS54,500) -> 5000 | AW54: =VLOOKUP(AT54,BSFC!A$64:A$82,1,FALSE) -> 17 | AX54: {=_xlfn.XLOOKUP(AT54,BSFC!A$64:A$82,,-1,_xlfn.XLOOKUP(Data!AU54,BSFC!C$63:Q$63,BSFC!B$64:Q$82,,-1))} -> #VALUE! | AY54: =HLOOKUP(AU54,BSFC!F$63:Q$63,1) -> 5000 | AZ54: =IF(AT54>0,MATCH(AT54,BSFC!A$64:A$83,0),IF(AT54<=0,0)) -> 6 | BA54: =MATCH(AU54,BSFC!C$63:Q$63,0) -> 10 | BB54: {=IF(AZ54>0,INDEX(BSFC!C$64:Q$83,Data!AZ54,Data!BA54))} -> 644.8 | BC54: =0.5*'Vehicle Data'!C$6*Data!Z54^2 -> 3823.8765 | BD54: =ABS(AQ55*(AS55/9.588))/1000 -> 9.570943 | BE54: =BB54*BD54 -> 6171.344 | BF54: =(BE54/3600)*AF54 -> 0.71312553 | BG54: =BG53+BF54 -> 12.250116 | BH54: =AQ54*(AS54/9.588) -> 8802.8905 | BI54: =BM$9 -> 6871.6622 | BO54: =BH54*AF55 -> 3338.9282 | BP54: =BP53+BO54 -> -29184.601 | BQ54: =IF(BO54>0,BQ53+BO54,IF(BO54<=0,BQ53)) -> 31368.257 | BR54: =(BM$9*AF55)+BR53 -> 83493.183 | BS54: =IF(BO54>0,BO54) -> 3338.9282 | BT54: =IF(BH54>=0,BH54, IF(BH54<0,0)) -> 8802.8905 | BU54: =BI54*AF55 -> 2606.4151 | BV54: =BM$9*AF55 -> 2606.4151 | BW54: =BN$9 -> 455.4 | BX54: =BW54*BI54 -> 3129355 | BY54: =((BX54/3600)*AF55)/1000 -> 0.32971152 | BZ54: =AH54 -> 11.771063 | CB54: =BU54-BS54 -> -732.5131 | CC54: =CB54/(BZ54-BZ53) -> -1760.8675 | CD54: =CB54+CD53 -> 51392.986
D55: =ASIN((N55)/(G56-G55)) -> 0 | E55: 9.1017072 | F55: =IF(K55<6,1,IF(Data!K55<9,2,IF(K55>9,3))) -> 3 | G55: 796.38901 | H55: 213.51666 | I55: 34.499925 | J55: =(I56-I55)/(H56-H55) -> 0.88915339 | K55: =I55/2.5 -> 13.79997 | L55: =(K56-K55)/(H56-H55) -> 0.35566135 | M55: =2*E55 -> 18.203414 | N55: =E56-E55 -> 0 | O55: =IF(L55<'Vehicle Data'!F$21,'Vehicle Data'!C$21,IF(L55>'Vehicle Data'!C$21,'Vehicle Data'!C$20)) -> 0.6 | P55: =('Vehicle Data'!C$6*9.81*'Vehicle Data'!C$5*SIN(D55))/'Vehicle Data'!C$9 -> 0 | Q55: ='Vehicle Data'!C$6*9.81*SIN(D55) -> 0 | R55: =G54 -> 794.66198 | S55: =IF(Data!O55=0.6,'Vehicle Data'!E$21,IF(Data!O55 = 0.9,'Vehicle Data'!E$20))+(P55*O55) -> 1550.3724 | T55: =IF(F55=3,'Vehicle Data'!H$16,IF(F55=2,'Vehicle Data'!H$15,IF(F55 = 1,'Vehicle Data'!G$14))) -> 466.23005 | U55: =R55-R$2 -> 78.5235 | V55: s | W55: a | X55: =IF(V55="S",'Vehicle Data'!C$14,IF(Data!V55 = "T1",'Vehicle Data'!P$2,IF(Data!V55="T2",'Vehicle Data'!P$3))) -> 13.4112 | Z55: =SQRT(Z54^2+2*AE54*(U55-U54)) -> 4.5631199 | AB55: =IF(AA55=1,'Vehicle Data'!I$14,IF(AA55=2,'Vehicle Data'!I$15,IF(AA55=3,'Vehicle Data'!I$16))) -> FALSE | AC55: =IF(Z55<'Vehicle Data'!C$16,'Vehicle Data'!I$15,IF(Z55<'Vehicle Data'!C$15,'Vehicle Data'!I$15,IF(Z54>'Vehicle Data'!C$15,'Vehicle Data'!I$16))) -> 0.98256251 | AD55: =IF(O55=0.6,'Vehicle Data'!F$21,IF(O55=0.9,'Vehicle Data'!F$20)) -> 3.5316 | AE55: =IF(W55="a",AC55,IF(W55="b",AD55*-1)) -> 0.98256251 | AF55: =(U55-U54)/Z55 -> 0.37929908 | AG55: =(Z55-Z54)/AF55 -> 1.0263424 | AH55: =AH54+AF55 -> 12.150362 | AJ55: =(Z55^2)*'Vehicle Data'!C$31 -> 7.6521081 | AK55: =IF(O55=0.6,'Vehicle Data'!C$6*'Vehicle Data'!D$21*9.81,IF(O55=0.9,'Vehicle Data'!C$6*9.81*'Vehicle Data'!D$20)) -> 86.1318 | AL55: =AJ55+AK55+Q55 -> 93.783908 | AN55: =IF(AG55>0,AG55*'Vehicle Data'!C$6) -> 450.5643 | AO55: =AN55+AL55 -> 544.34821 | AP55: =AO55*'Vehicle Data'!F$3 -> 139.1354 | AQ55: =IF(AE55='Vehicle Data'!I$15,AP55/'Vehicle Data'!G$15,IF(AE55='Vehicle Data'!I$16,AP55/'Vehicle Data'!G$16,IF(AE55='Vehicle Data'!I$14,Data!AP55/'Vehicle Data'!G66))) -> 17.237492 | AR55: =IF(Z55<'Vehicle Data'!C$16, Z55*'Vehicle Data'!F$7*'Vehicle Data'!G$14,IF(Z55<'Vehicle Data'!C$15,Z55*'Vehicle Data'!F$7*'Vehicle Data'!G$15,IF(Z55>'Vehicle Data'!C$15,Z55*'Vehicle Data'!F$7*'Vehicle Data'!G$16))) -> 88.727331 | AS55: =AR55*60 -> 5323.6398 | AT55: =ROUND(AQ55,0) -> 17 | AU55: =MROUND(AS55,500) -> 5500 | AW55: =VLOOKUP(AT55,BSFC!A$64:A$82,1,FALSE) -> 17 | AX55: {=_xlfn.XLOOKUP(AT55,BSFC!A$64:A$82,,-1,_xlfn.XLOOKUP(Data!AU55,BSFC!C$63:Q$63,BSFC!B$64:Q$82,,-1))} -> #VALUE! | AY55: =HLOOKUP(AU55,BSFC!F$63:Q$63,1) -> 5500 | AZ55: =IF(AT55>0,MATCH(AT55,BSFC!A$64:A$83,0),IF(AT55<=0,0)) -> 6 | BA55: =MATCH(AU55,BSFC!C$63:Q$63,0) -> 11 | BB55: {=IF(AZ55>0,INDEX(BSFC!C$64:Q$83,Data!AZ55,Data!BA55))} -> 629.4 | BC55: =0.5*'Vehicle Data'!C$6*Data!Z55^2 -> 4570.4428 | BD55: =ABS(AQ56*(AS56/9.588))/1000 -> 10.28933 | BE55: =BB55*BD55 -> 6476.1043 | BF55: =(BE55/3600)*AF55 -> 0.68232788 | BG55: =BG54+BF55 -> 12.932444 | BH55: =AQ55*(AS55/9.588) -> 9570.943 | BI55: =BM$9 -> 6871.6622 | BO55: =BH55*AF56 -> 3358.9591 | BP55: =BP54+BO55 -> -25825.642 | BQ55: =IF(BO55>0,BQ54+BO55,IF(BO55<=0,BQ54)) -> 34727.216 | BR55: =(BM$9*AF56)+BR54 -> 85904.82 | BS55: =IF(BO55>0,BO55) -> 3358.9591 | BT55: =IF(BH55>=0,BH55, IF(BH55<0,0)) -> 9570.943 | BU55: =BI55*AF56 -> 2411.6362 | BV55: =BM$9*AF56 -> 2411.6362 | BW55: =BN$9 -> 455.4 | BX55: =BW55*BI55 -> 3129355 | BY55: =((BX55/3600)*AF56)/1000 -> 0.30507198 | BZ55: =AH55 -> 12.150362 | CB55: =BU55-BS55 -> -947.32294 | CC55: =CB55/(BZ55-BZ54) -> -2497.5619 | CD55: =CB55+CD54 -> 50445.663
D56: =ASIN((N56)/(G57-G56)) -> 0 | E56: 9.1017072 | F56: =IF(K56<6,1,IF(Data!K56<9,2,IF(K56>9,3))) -> 3 | G56: 798.11602 | H56: 213.56667 | I56: 34.544382 | J56: =(I57-I56)/(H57-H56) -> 1.3400131 | K56: =I56/2.5 -> 13.817753 | L56: =(K57-K56)/(H57-H56) -> 0.53600525 | M56: =2*E56 -> 18.203414 | N56: =E57-E56 -> 0 | O56: =IF(L56<'Vehicle Data'!F$21,'Vehicle Data'!C$21,IF(L56>'Vehicle Data'!C$21,'Vehicle Data'!C$20)) -> 0.6 | P56: =('Vehicle Data'!C$6*9.81*'Vehicle Data'!C$5*SIN(D56))/'Vehicle Data'!C$9 -> 0 | Q56: ='Vehicle Data'!C$6*9.81*SIN(D56) -> 0 | R56: =G55 -> 796.38901 | S56: =IF(Data!O56=0.6,'Vehicle Data'!E$21,IF(Data!O56 = 0.9,'Vehicle Data'!E$20))+(P56*O56) -> 1550.3724 | T56: =IF(F56=3,'Vehicle Data'!H$16,IF(F56=2,'Vehicle Data'!H$15,IF(F56 = 1,'Vehicle Data'!G$14))) -> 466.23005 | U56: =R56-R$2 -> 80.250531 | V56: s | W56: a | X56: =IF(V56="S",'Vehicle Data'!C$14,IF(Data!V56 = "T1",'Vehicle Data'!P$2,IF(Data!V56="T2",'Vehicle Data'!P$3))) -> 13.4112 | Z56: =SQRT(Z55^2+2*AE55*(U56-U55)) -> 4.9209649 | AB56: =IF(AA56=1,'Vehicle Data'!I$14,IF(AA56=2,'Vehicle Data'!I$15,IF(AA56=3,'Vehicle Data'!I$16))) -> FALSE | AC56: =IF(Z56<'Vehicle Data'!C$16,'Vehicle Data'!I$15,IF(Z56<'Vehicle Data'!C$15,'Vehicle Data'!I$15,IF(Z55>'Vehicle Data'!C$15,'Vehicle Data'!I$16))) -> 0.98256251 | AD56: =IF(O56=0.6,'Vehicle Data'!F$21,IF(O56=0.9,'Vehicle Data'!F$20)) -> 3.5316 | AE56: =IF(W56="a",AC56,IF(W56="b",AD56*-1)) -> 0.98256251 | AF56: =(U56-U55)/Z56 -> 0.35095383 | AG56: =(Z56-Z55)/AF56 -> 1.0196357 | AH56: =AH55+AF56 -> 12.501316 | AJ56: =(Z56^2)*'Vehicle Data'!C$31 -> 8.8993417 | AK56: =IF(O56=0.6,'Vehicle Data'!C$6*'Vehicle Data'!D$21*9.81,IF(O56=0.9,'Vehicle Data'!C$6*9.81*'Vehicle Data'!D$20)) -> 86.1318 | AL56: =AJ56+AK56+Q56 -> 95.031142 | AN56: =IF(AG56>0,AG56*'Vehicle Data'!C$6) -> 447.62007 | AO56: =AN56+AL56 -> 542.65121 | AP56: =AO56*'Vehicle Data'!F$3 -> 138.70165 | AQ56: =IF(AE56='Vehicle Data'!I$15,AP56/'Vehicle Data'!G$15,IF(AE56='Vehicle Data'!I$16,AP56/'Vehicle Data'!G$16,IF(AE56='Vehicle Data'!I$14,Data!AP56/'Vehicle Data'!G67))) -> 17.183755 | AR56: =IF(Z56<'Vehicle Data'!C$16, Z56*'Vehicle Data'!F$7*'Vehicle Data'!G$14,IF(Z56<'Vehicle Data'!C$15,Z56*'Vehicle Data'!F$7*'Vehicle Data'!G$15,IF(Z56>'Vehicle Data'!C$15,Z56*'Vehicle Data'!F$7*'Vehicle Data'!G$16))) -> 95.685429 | AS56: =AR56*60 -> 5741.1257 | AT56: =ROUND(AQ56,0) -> 17 | AU56: =MROUND(AS56,500) -> 5500 | AW56: =VLOOKUP(AT56,BSFC!A$64:A$82,1,FALSE) -> 17 | AX56: {=_xlfn.XLOOKUP(AT56,BSFC!A$64:A$82,,-1,_xlfn.XLOOKUP(Data!AU56,BSFC!C$63:Q$63,BSFC!B$64:Q$82,,-1))} -> #VALUE! | AY56: =HLOOKUP(AU56,BSFC!F$63:Q$63,1) -> 5500 | AZ56: =IF(AT56>0,MATCH(AT56,BSFC!A$64:A$83,0),IF(AT56<=0,0)) -> 6 | BA56: =MATCH(AU56,BSFC!C$63:Q$63,0) -> 11 | BB56: {=IF(AZ56>0,INDEX(BSFC!C$64:Q$83,Data!AZ56,Data!BA56))} -> 629.4 | BC56: =0.5*'Vehicle Data'!C$6*Data!Z56^2 -> 5315.3891 | BD56: =ABS(AQ57*(AS57/9.588))/1000 -> 10.968697 | BE56: =BB56*BD56 -> 6903.6981 | BF56: =(BE56/3600)*AF56 -> 0.67302203 | BG56: =BG55+BF56 -> 13.605466 | BH56: =AQ56*(AS56/9.588) -> 10289.33 | BI56: =BM$9 -> 6871.6622 | BO56: =BH56*AF57 -> 3381.819 | BP56: =BP55+BO56 -> -22443.823 | BQ56: =IF(BO56>0,BQ55+BO56,IF(BO56<=0,BQ55)) -> 38109.036 | BR56: =(BM$9*AF57)+BR55 -> 88163.346 | BS56: =IF(BO56>0,BO56) -> 3381.819 | BT56: =IF(BH56>=0,BH56, IF(BH56<0,0)) -> 10289.33 | BU56: =BI56*AF57 -> 2258.5259 | BV56: =BM$9*AF57 -> 2258.5259 | BW56: =BN$9 -> 455.4 | BX56: =BW56*BI56 -> 3129355 | BY56: =((BX56/3600)*AF57)/1000 -> 0.28570353 | BZ56: =AH56 -> 12.501316 | CB56: =BU56-BS56 -> -1123.2931 | CC56: =CB56/(BZ56-BZ55) -> -3200.6864 | CD56: =CB56+CD55 -> 49322.369
D57: =ASIN((N57)/(G58-G57)) -> 0 | E57: 9.1017072 | F57: =IF(K57<6,1,IF(Data!K57<9,2,IF(K57>9,3))) -> 3 | G57: 799.84602 | H57: 213.61666 | I57: 34.611383 | J57: =(I58-I57)/(H58-H57) -> 1.071879 | K57: =I57/2.5 -> 13.844553 | L57: =(K58-K57)/(H58-H57) -> 0.4287516 | M57: =2*E57 -> 18.203414 | N57: =E58-E57 -> 0 | O57: =IF(L57<'Vehicle Data'!F$21,'Vehicle Data'!C$21,IF(L57>'Vehicle Data'!C$21,'Vehicle Data'!C$20)) -> 0.6 | P57: =('Vehicle Data'!C$6*9.81*'Vehicle Data'!C$5*SIN(D57))/'Vehicle Data'!C$9 -> 0 | Q57: ='Vehicle Data'!C$6*9.81*SIN(D57) -> 0 | R57: =G56 -> 798.11602 | S57: =IF(Data!O57=0.6,'Vehicle Data'!E$21,IF(Data!O57 = 0.9,'Vehicle Data'!E$20))+(P57*O57) -> 1550.3724 | T57: =IF(F57=3,'Vehicle Data'!H$16,IF(F57=2,'Vehicle Data'!H$15,IF(F57 = 1,'Vehicle Data'!G$14))) -> 466.23005 | U57: =R57-R$2 -> 81.977537 | V57: s | W57: a | X57: =IF(V57="S",'Vehicle Data'!C$14,IF(Data!V57 = "T1",'Vehicle Data'!P$2,IF(Data!V57="T2",'Vehicle Data'!P$3))) -> 13.4112 | Z57: =SQRT(Z56^2+2*AE56*(U57-U56)) -> 5.2544913 | AB57: =IF(AA57=1,'Vehicle Data'!I$14,IF(AA57=2,'Vehicle Data'!I$15,IF(AA57=3,'Vehicle Data'!I$16))) -> FALSE | AC57: =IF(Z57<'Vehicle Data'!C$16,'Vehicle Data'!I$15,IF(Z57<'Vehicle Data'!C$15,'Vehicle Data'!I$15,IF(Z56>'Vehicle Data'!C$15,'Vehicle Data'!I$16))) -> 0.98256251 | AD57: =IF(O57=0.6,'Vehicle Data'!F$21,IF(O57=0.9,'Vehicle Data'!F$20)) -> 3.5316 | AE57: =IF(W57="a",AC57,IF(W57="b",AD57*-1)) -> 0.98256251 | AF57: =(U57-U56)/Z57 -> 0.32867243 | AG57: =(Z57-Z56)/AF57 -> 1.0147685 | AH57: =AH56+AF57 -> 12.829988 | AJ57: =(Z57^2)*'Vehicle Data'!C$31 -> 10.146557 | AK57: =IF(O57=0.6,'Vehicle Data'!C$6*'Vehicle Data'!D$21*9.81,IF(O57=0.9,'Vehicle Data'!C$6*9.81*'Vehicle Data'!D$20)) -> 86.1318 | AL57: =AJ57+AK57+Q57 -> 96.278357 | AN57: =IF(AG57>0,AG57*'Vehicle Data'!C$6) -> 445.48337 | AO57: =AN57+AL57 -> 541.76173 | AP57: =AO57*'Vehicle Data'!F$3 -> 138.4743 | AQ57: =IF(AE57='Vehicle Data'!I$15,AP57/'Vehicle Data'!G$15,IF(AE57='Vehicle Data'!I$16,AP57/'Vehicle Data'!G$16,IF(AE57='Vehicle Data'!I$14,Data!AP57/'Vehicle Data'!G68))) -> 17.155588 | AR57: =IF(Z57<'Vehicle Data'!C$16, Z57*'Vehicle Data'!F$7*'Vehicle Data'!G$14,IF(Z57<'Vehicle Data'!C$15,Z57*'Vehicle Data'!F$7*'Vehicle Data'!G$15,IF(Z57>'Vehicle Data'!C$15,Z57*'Vehicle Data'!F$7*'Vehicle Data'!G$16))) -> 102.17066 | AS57: =AR57*60 -> 6130.2399 | AT57: =ROUND(AQ57,0) -> 17 | AU57: =MROUND(AS57,500) -> 6000 | AW57: =VLOOKUP(AT57,BSFC!A$64:A$82,1,FALSE) -> 17 | AX57: {=_xlfn.XLOOKUP(AT57,BSFC!A$64:A$82,,-1,_xlfn.XLOOKUP(Data!AU57,BSFC!C$63:Q$63,BSFC!B$64:Q$82,,-1))} -> #VALUE! | AY57: =HLOOKUP(AU57,BSFC!F$63:Q$63,1) -> 6000 | AZ57: =IF(AT57>0,MATCH(AT57,BSFC!A$64:A$83,0),IF(AT57<=0,0)) -> 6 | BA57: =MATCH(AU57,BSFC!C$63:Q$63,0) -> 12 | BB57: {=IF(AZ57>0,INDEX(BSFC!C$64:Q$83,Data!AZ57,Data!BA57))} -> 588.7 | BC57: =0.5*'Vehicle Data'!C$6*Data!Z57^2 -> 6060.3246 | BD57: =ABS(AQ58*(AS58/9.588))/1000 -> 11.616458 | BE57: =BB57*BD57 -> 6838.6091 | BF57: =(BE57/3600)*AF57 -> 0.62435062 | BG57: =BG56+BF57 -> 14.229816 | BH57: =AQ57*(AS57/9.588) -> 10968.697 | BI57: =BM$9 -> 6871.6622 | BO57: =BH57*AF58 -> 3407.6571 | BP57: =BP56+BO57 -> -19036.166 | BQ57: =IF(BO57>0,BQ56+BO57,IF(BO57<=0,BQ56)) -> 41516.693 | BR57: =(BM$9*AF58)+BR56 -> 90298.172 | BS57: =IF(BO57>0,BO57) -> 3407.6571 | BT57: =IF(BH57>=0,BH57, IF(BH57<0,0)) -> 10968.697 | BU57: =BI57*AF58 -> 2134.8268 | BV57: =BM$9*AF58 -> 2134.8268 | BW57: =BN$9 -> 455.4 | BX57: =BW57*BI57 -> 3129355 | BY57: =((BX57/3600)*AF58)/1000 -> 0.27005558 | BZ57: =AH57 -> 12.829988 | CB57: =BU57-BS57 -> -1272.8303 | CC57: =CB57/(BZ57-BZ56) -> -3872.6411 | CD57: =CB57+CD56 -> 48049.539
