Workbook

Sheet bike sim
A4: gear | B4: Driver | C4: Driven | D4: gear ratio | E4: rear divided by front | F4: Gear | G4: RPM | H4: Velocity | I4: formula m/s | J4: formula mph | K4: driving force | L4: net driving force | M4: a | N4: rpm | O4: hp | P4: hp (watts) | Q4: torque
A5: 1 | B5: 15 | C5: 38 | D5: =38/15 -> 2.5333333 | E5: =D5 -> 2.5333333 | F5: 1 | G5: 15000 | H5: =((G5*60)*(B5/C5)*($D$15/$E$15)*(RADIANS(1.9*PI())/1000)*($D$16/$E$16)) -> 8.8384517 | I5: =((G5/60)*1.9)/((E5)*(E15/D15)*(E16/D16)) -> 44.776119 | J5: =I5*2.23694 -> 100.16149 | K5: =$B$42/I5 -> 3553.259 | L5: =K5-($B$41+$B$44) -> 1739.4984 | M5: =L5/$B$39 -> 6.3254488 | N5: 5000 | O5: 70 | P5: =O5*745.7 -> 52199 | Q5: =(O5/N5)*5252 -> 73.528
A6: 2 | B6: 16 | C6: 33 | D6: =33/16 -> 2.0625 | E6: =D6 -> 2.0625 | F6: 2 | G6: 15000 | H6: =((G6*60)*(B6/C6)*($D$15/$E$15)*(RADIANS(1.9*PI())/1000)*($D$16/$E$16)) -> 10.856118 | I6: =((G6/60)*1.9)/((E6)*(E15/D15)*(E16/D16)) -> 54.997739 | J6: =I6*2.23694 -> 123.02664 | K6: =$B$42/I6 -> 2892.8671 | L6: =K6-($B$41+$B$44) -> 1079.1065 | M6: =L6/$B$39 -> 3.9240238 | N6: 5250 | O6: 76 | P6: =O6*745.7 -> 56673.2 | Q6: =(O6/N6)*5252 -> 76.028952
A7: 3 | B7: 21 | C7: 37 | D7: =37/21 -> 1.7619048 | E7: =D7 -> 1.7619048 | F7: 3 | G7: 15000 | H7: =((G7*60)*($B$7/$C$7)*($D$15/$E$15)*(RADIANS(1.9*PI())/1000)*($D$16/$E$16)) -> 12.70826 | I7: =((G7/60)*1.9)/(($E$7)*($E$15/$D$15)*($E$16/$D$16)) -> 64.380799 | J7: =I7*2.23694 -> 144.01598 | K7: =$B$42/I7 -> 2471.2515 | L7: =K7-($B$41+$B$44) -> 657.49098 | M7: =L7/$B$39 -> 2.3908763 | N7: 5500 | O7: 80 | P7: =O7*745.7 -> 59656 | Q7: =(O7/N7)*5252 -> 76.392727
A8: 4 | B8: 23 | C8: 35 | D8: =35/23 -> 1.5217391 | E8: =D8 -> 1.5217391 | F8: 4 | G8: 15000 | H8: =((G8*60)*($B$8/$C$8)*($D$15/$E$15)*(RADIANS(1.9*PI())/1000)*($D$16/$E$16)) -> 14.713918 | I8: =((G8/60)*1.9)/(($E$8)*($E$15/$D$15)*($E$16/$D$16)) -> 74.541578 | J8: =I8*2.23694 -> 166.74504 | K8: =$B$42/I8 -> 2134.3947 | L8: =K8-($B$41+$B$44) -> 320.63413 | M8: =L8/$B$39 -> 1.1659423 | N8: 5750 | O8: 83 | P8: =O8*745.7 -> 61893.1 | Q8: =(O8/N8)*5252 -> 75.811478
A9: 5 | B9: 22 | C9: 30 | D9: =30/22 -> 1.3636364 | E9: =D9 -> 1.3636364 | F9: 5 | G9: 15000 | H9: =((G9*60)*($B$9/$C$9)*($D$15/$E$15)*(RADIANS(1.9*PI())/1000)*($D$16/$E$16)) -> 16.419879 | I9: =((G9/60)*1.9)/(($E$9)*($E$15/$D$15)*($E$16/$D$16)) -> 83.18408 | J9: =I9*2.23694 -> 186.0778 | K9: =$B$42/I9 -> 1912.6394 | L9: =K9-($B$41+$B$44) -> 98.87884 | M9: =L9/$B$39 -> 0.35955942 | N9: 6000 | O9: 87 | P9: =O9*745.7 -> 64875.9 | Q9: =(O9/N9)*5252 -> 76.154
A10: 6 | B10: 26 | C10: 33 | D10: =33/26 -> 1.2692308 | E10: =D10 -> 1.2692308 | F10: 6 | G10: 15000 | H10: =((G10*60)*($B$10/$C$10)*($D$15/$E$15)*(RADIANS(1.9*PI())/1000)*($D$16/$E$16)) -> 17.641192 | I10: =((G10/60)*1.9)/(($E$10)*($E$15/$D$15)*($E$16/$D$16)) -> 89.371325 | J10: =I10*2.23694 -> 199.91829 | K10: =$B$42/I10 -> 1780.2259 | L10: =K10-($B$41+$B$44) -> -33.534657 | M10: =L10/$B$39 -> -0.12194421 | N10: 6250 | O10: 93 | P10: =O10*745.7 -> 69350.1 | Q10: =(O10/N10)*5252 -> 78.14976
B11: =D5*D10*D6*D7*D8*D9 -> 24.246446 | C11: =C5+C6+C7+C8+C9+C10 -> 206 | N11: 6500 | O11: 96 | P11: =O11*745.7 -> 71587.2 | Q11: =(O11/N11)*5252 -> 77.568
N12: 6750 | O12: 100 | P12: =O12*745.7 -> 74570 | Q12: =(O12/N12)*5252 -> 77.807407
A13: interia front | C13: chain size | D13: front sproket | E13: rear sproket | F13: chain | G13: primary drive ratio | N13: 7000 | O13: 105 | P13: =O13*745.7 -> 78298.5 | Q13: =(O13/N13)*5252 -> 78.78
A14: inertia rear | C14: =5/8 -> 0.625 | D14: 15 | E14: 42 | F14: 118 | G14: 1.634 | N14: 7250 | O14: 110 | P14: =O14*745.7 -> 82027 | Q14: =(O14/N14)*5252 -> 79.685517
A15: inertia s | B15: 0.007 | C15: primary | D15: 41 | E15: 67 | N15: 7500 | O15: 115 | P15: =O15*745.7 -> 85755.5 | Q15: =(O15/N15)*5252 -> 80.530667
A16: inertia p | B16: 0.005 | C16: final | D16: 16 | E16: 41 | N16: 7750 | O16: 125 | P16: =O16*745.7 -> 93212.5 | Q16: =(O16/N16)*5252 -> 84.709677
A17: inertia m | B17: 0.05 | C17: diam | N17: 8000 | O17: 133 | P17: =O17*745.7 -> 99178.1 | Q17: =(O17/N17)*5252 -> 87.3145
A18: tsr | B18: =41/16 -> 2.5625 | C18: RPM | D18: 13000 | E18: 13000 | N18: 8250 | O18: 140 | P18: =O18*745.7 -> 104398 | Q18: =(O18/N18)*5252 -> 89.124848
A19: tps | B19: =41/39 -> 1.0512821 | C19: if | D19: 0.5 | N19: 8500 | O19: 145 | P19: =O19*745.7 -> 108126.5 | Q19: =(O19/N19)*5252 -> 89.592941
A20: tmp | B20: =67/41 -> 1.6341463 | C20: ir | D20: 0.6 | N20: 8750 | O20: 147 | P20: =O20*745.7 -> 109617.9 | Q20: =(O20/N20)*5252 -> 88.2336
A21: cog | B21: 0.66 | C21: M*1 | D21: =(($B$24+($D$19)*((1/$B$32)^2)+($D$20)*((1/$B$32)^2)+(($B$15*((B18)*(1/$B$32)^2)))+(($B$16*(B20*B18*(1/$B$32)^2)))+($B$17*(B18*D5*B20*(1/$B$32)^2)))) -> 283.95297 | N21: 9000 | O21: 147 | P21: =O21*745.7 -> 109617.9 | Q21: =(O21/N21)*5252 -> 85.782667
A22: power (kw) | B22: 132.4 | C22: M*2 | D22: =(($B$24+($D$19)*((1/$B$32)^2)+($D$20)*((1/$B$32)^2)+(($B$15*((B18)*(1/$B$32)^2)))+(($B$16*(B20*B18*(1/$B$32)^2)))+($B$17*(B18*D6*B20*(1/$B$32)^2)))) -> 283.42425 | N22: 9250 | O22: 153 | P22: =O22*745.7 -> 114092.1 | Q22: =(O22/N22)*5252 -> 86.870919
A23: torque(nm) | B23: 112.7 | C23: M*3 | D23: =(($B$24+($D$19)*((1/$B$32)^2)+($D$20)*((1/$B$32)^2)+(($B$15*((B18)*(1/$B$32)^2)))+(($B$16*(B20*B18*(1/$B$32)^2)))+($B$17*(B18*D7*B20*(1/$B$32)^2)))) -> 283.08669 | N23: 9500 | O23: 156 | P23: =O23*745.7 -> 116329.2 | Q23: =(O23/N23)*5252 -> 86.243368
A24: weight (kg) | B24: 275 | C24: M*4 | D24: =(($B$24+($D$19)*((1/$B$32)^2)+($D$20)*((1/$B$32)^2)+(($B$15*((B18)*(1/$B$32)^2)))+(($B$16*(B20*B18*(1/$B$32)^2)))+($B$17*(B18*D8*B20*(1/$B$32)^2)))) -> 282.817 | N24: 9750 | O24: 162 | P24: =O24*745.7 -> 120803.4 | Q24: =(O24/N24)*5252 -> 87.264
A25: catergory | B25: superbike | C25: M*5 | D25: =(($B$24+($D$19)*((1/$B$32)^2)+($D$20)*((1/$B$32)^2)+(($B$15*((B18)*(1/$B$32)^2)))+(($B$16*(B20*B18*(1/$B$32)^2)))+($B$17*(B18*D9*B20*(1/$B$32)^2)))) -> 282.63946 | N25: 10000 | O25: 169 | P25: =O25*745.7 -> 126023.3 | Q25: =(O25/N25)*5252 -> 88.7588
A26: max rpm | B26: 15000 | C26: M*6 | D26: =(($B$24+($D$19)*((1/$B$32)^2)+($D$20)*((1/$B$32)^2)+(($B$15*((B18)*(1/$B$32)^2)))+(($B$16*(B20*B18*(1/$B$32)^2)))+($B$17*(B18*D11*B20*(1/$B$32)^2)))) -> 281.10817 | N26: 10250 | O26: 170 | P26: =O26*745.7 -> 126769 | Q26: =(O26/N26)*5252 -> 87.106341
A27: tyre circumference | B27: 1.9 | D27: =B33/B21 -> 1.0643939 | N27: 10500 | O27: 175 | P27: =O27*745.7 -> 130497.5 | Q27: =(O27/N27)*5252 -> 87.533333
A28: real top speed m/s | B28: =(B26/60*B27)/(E10*B29*B30) -> 90.408368 | N28: 10750 | O28: 180 | P28: =O28*745.7 -> 134226 | Q28: =(O28/N28)*5252 -> 87.940465
A29: primary reduction gear | B29: 1.634 | N29: 11000 | O29: 185 | P29: =O29*745.7 -> 137954.5 | Q29: =(O29/N29)*5252 -> 88.329091
A30: secondary reduction gear | B30: =38/15 -> 2.5333333 | N30: 11250 | O30: 187 | P30: =O30*745.7 -> 139445.9 | Q30: =(O30/N30)*5252 -> 87.299911
A31: therotical top speed mph | B31: 200 | N31: 11500 | O31: 190 | P31: =O31*745.7 -> 141683 | Q31: =(O31/N31)*5252 -> 86.772174
A32: wheel radius | B32: 0.4318 | N32: 11750 | O32: 190 | P32: =O32*745.7 -> 141683 | Q32: =(O32/N32)*5252 -> 84.925957
A33: b | B33: =B34/2 -> 0.7025 | N33: 12000 | O33: 190 | P33: =O33*745.7 -> 141683 | Q33: =(O33/N33)*5252 -> 83.156667
A34: wheelbase | B34: 1.405 | N34: 12250 | O34: 195 | P34: =O34*745.7 -> 145411.5 | Q34: =(O34/N34)*5252 -> 83.603265
A35: density of air (kg/m^3) | B35: 1.167 | N35: 12500 | O35: 195 | P35: =O35*745.7 -> 145411.5 | Q35: =(O35/N35)*5252 -> 81.9312
A36: drag coefficent (CD) | B36: 0.7 | N36: 12750 | O36: 200 | P36: =O36*745.7 -> 149140 | Q36: =(O36/N36)*5252 -> 82.384314
A37: frontal area (m^2) | B37: 0.52711883 | N37: 13000 | O37: 200 | P37: =O37*745.7 -> 149140 | Q37: =(O37/N37)*5252 -> 80.8
A38: velocity (m/s) | B38: =B28 -> 90.408368 | N38: 13250 | O38: 200 | P38: =O38*745.7 -> 149140 | Q38: =(O38/N38)*5252 -> 79.275472
A39: total mass (kg) | B39: =B24 -> 275 | N39: 13500 | O39: 195 | P39: =O39*745.7 -> 145411.5 | Q39: =(O39/N39)*5252 -> 75.862222
A40: gravity (m/s^2) | B40: 9.81 | N40: 13750 | O40: 190 | P40: =O40*745.7 -> 141683 | Q40: =(O40/N40)*5252 -> 72.573091
A41: areo drag force(n) | B41: =(0.5*B35*B36*B37*B38^2) -> 1759.8056 | N41: 14000 | O41: 185 | P41: =O41*745.7 -> 137954.5 | Q41: =(O41/N41)*5252 -> 69.401429
A42: power (w) | B42: =(B41*B38) -> 159101.15 | N42: 14250
A43: power (kw) | B43: =B42*10^-3 -> 159.10115 | N43: 14500
A44: rolling resistence | B44: =(0.02*B24*B40) -> 53.955 | N44: 14750
A45: front weight | B45: =52%*200 -> 104 | N45: 15000
A46: rear weight | B46: =48%*200 -> 96
A47: braking force | B47: =(B24*(B33/B34))*(B34-B33)+B41 -> 1856.3993
B48: =B47/B24 -> 6.750543
A49: If | N49: \
D53: M* | E53: a | F53: net df | G53: df | H53: v | I53: brake force | J53: formula m/s | K53: Aceleration | M53: Gear | N53: RPM | O53: Velocity | P53: velocity m/s | Q53: formula km/h | R53: driving force | S53: net driving force | T53: Aceleration | U53: tla | V53: wla | W53: brake force | X53: areo drag force | Y53: power (watts)
D54: =(($B$24+(($B$45*$B$40)-($B$45*E54))*$B$32)/E54/$B$32)*((1/$B$32)^2)+(($B$46*$B$40)-($B$46*E54))*B$32/(E54/$B$32)*((1/$B$32)^2)+(($B$15*(($D$16/$E$16)*(1/$B$32)^2)))+(($B$16*($B$19*$B$18*(1/$B$32)^2)))+($B$17*($B$20*$B$19*$B$18*(1/$B$32)^2)) -> -618.47523 | E54: =F54/$B$24 -> 288.72658 | F54: =G55-(I54+$B$44) -> 79399.81 | G54: =$B$42/H54 -> 159101.15 | H54: 1 | I54: =($B$24*($B$33/$B$34))*($B$34-$B$33)+(0.5*$B$35*$B$36*$B$37*H54^2) -> 96.809052 | J54: =P54 -> 14.925373 | K54: 44.303657 | M54: 1 | N54: 5000 | O54: =((N54*60)*($B$5/$C$5)*($D$15/$E$15)*(RADIANS(1.9*PI())/1000)*($D$16/$E$16)) -> 2.9461506 | P54: =((N54/60)*1.9)/(($E$5)*($E$15/$D$15)*($E$16/$D$16)) -> 14.925373 | Q54: =P54*3.6 -> 53.731343 | R54: =$B$42/P54 -> 10659.777 | S54: =R54-(X54+$B$44) -> 10557.86 | T54: =S54/$B$39 -> 38.392218 | U54: =(($D$27)*($B$40)*(($B$34-$B$33)/$B$34)/(1-($D$27)*($B$21/$B$34))-(X54/$D$21)) -> 10.272796 | V54: =(($B$24/$D$21)*($B$40*($B$33/$B$21))-(X54/$D$21)) -> 9.9435717 | W54: =($B$24*($B$33/$B$34))*($B$34-$B$33)+(0.5*$B$35*$B$36*$B$37*P54^2) -> 144.55581 | X54: =(0.5*$B$35*$B$36*$B$37*(P54^2)) -> 47.96206 | Y54: =(X54*P54) -> 715.85164
B55: 1000 | D55: =(($B$24+(($B$45*$B$40)-($B$45*E55))*B$32)/E55/$B$32)*((1/$B$32)^2)+(($B$46*$B$40)-($B$46*E55))*B$32/(E55/$B$32)*((1/$B$32)^2)+(($B$15*(($D$16/$E$16)*(1/$B$32)^2)))+(($B$16*($B$19*$B$18*(1/$B$32)^2)))+($B$17*($B$20*$B$19*$B$18*(1/$B$32)^2)) -> -601.40412 | E55: =F55/$B$24 -> 192.2993 | F55: =G56-(I55+$B$44) -> 52882.306 | G55: =$B$42/H55 -> 79550.574 | H55: 2 | I55: =($B$24*($B$33/$B$34))*($B$34-$B$33)+(0.5*$B$35*$B$36*$B$37*H55^2) -> 97.454957 | J55: 15.671642 | K55: 41.765615 | M55: 1 | N55: 5250 | O55: =((N55*60)*($B$5/$C$5)*($D$15/$E$15)*(RADIANS(1.9*PI())/1000)*($D$16/$E$16)) -> 3.0934581 | P55: =((N55/60)*1.9)/(($E$5)*($E$15/$D$15)*($E$16/$D$16)) -> 15.671642 | Q55: =P55*3.6 -> 56.41791 | R55: =$B$42/P55 -> 10152.169 | S55: =R55-(X55+$B$44) -> 10045.335 | T55: =S55/$B$39 -> 36.528492 | U55: =(($D$27)*($B$40)*(($B$34-$B$33)/$B$34)/(1-($D$27)*($B$21/$B$34))-(X55/$D$21)) -> 10.255483 | V55: =(($B$24/$D$21)*($B$40*($B$33/$B$21))-(X55/$D$21)) -> 9.9262586 | W55: =($B$24*($B$33/$B$34))*($B$34-$B$33)+(0.5*$B$35*$B$36*$B$37*P55^2) -> 149.47192 | X55: =(0.5*$B$35*$B$36*$B$37*(P55^2)) -> 52.878171 | Y55: =(X55*P55) -> 828.68775
B56: 1500 | D56: =(($B$24+(($B$45*$B$40)-($B$45*E56))*B$32)/E56/$B$32)*((1/$B$32)^2)+(($B$46*$B$40)-($B$46*E56))*B$32/(E56/$B$32)*((1/$B$32)^2)+(($B$15*(($D$16/$E$16)*(1/$B$32)^2)))+(($B$16*($B$19*$B$18*(1/$B$32)^2)))+($B$17*($B$20*$B$19*$B$18*(1/$B$32)^2)) -> -584.29881 | E56: =F56/$B$24 -> 144.08291 | F56: =G57-(I56+$B$44) -> 39622.801 | G56: =$B$42/H56 -> 53033.716 | H56: 3 | I56: =($B$24*($B$33/$B$34))*($B$34-$B$33)+(0.5*$B$35*$B$36*$B$37*H56^2) -> 98.531465 | J56: 16.41791 | K56: 39.458304 | M56: 1 | N56: 5500 | O56: =((N56*60)*($B$5/$C$5)*($D$15/$E$15)*(RADIANS(1.9*PI())/1000)*($D$16/$E$16)) -> 3.2407656 | P56: =((N56/60)*1.9)/(($E$5)*($E$15/$D$15)*($E$16/$D$16)) -> 16.41791 | Q56: =P56*3.6 -> 59.104478 | R56: =$B$42/P56 -> 9690.7063 | S56: =R56-(X56+$B$44) -> 9578.7172 | T56: =S56/$B$39 -> 34.831699 | U56: =(($D$27)*($B$40)*(($B$34-$B$33)/$B$34)/(1-($D$27)*($B$21/$B$34))-(X56/$D$21)) -> 10.237325 | V56: =(($B$24/$D$21)*($B$40*($B$33/$B$21))-(X56/$D$21)) -> 9.908101 | W56: =($B$24*($B$33/$B$34))*($B$34-$B$33)+(0.5*$B$35*$B$36*$B$37*P56^2) -> 154.62784 | X56: =(0.5*$B$35*$B$36*$B$37*(P56^2)) -> 58.034092 | Y56: =(X56*P56) -> 952.79853
B57: 2000 | D57: =(($B$24+(($B$45*$B$40)-($B$45*E57))*B$32)/E57/$B$32)*((1/$B$32)^2)+(($B$46*$B$40)-($B$46*E57))*B$32/(E57/$B$32)*((1/$B$32)^2)+(($B$15*(($D$16/$E$16)*(1/$B$32)^2)))+(($B$16*($B$19*$B$18*(1/$B$32)^2)))+($B$17*($B$20*$B$19*$B$18*(1/$B$32)^2)) -> -567.15754 | E57: =F57/$B$24 -> 115.14995 | F57: =G58-(I57+$B$44) -> 31666.236 | G57: =$B$42/H57 -> 39775.287 | H57: 4 | I57: =($B$24*($B$33/$B$34))*($B$34-$B$33)+(0.5*$B$35*$B$36*$B$37*H57^2) -> 100.03858 | J57: 17.164179 | K57: 37.351628 | M57: 1 | N57: 5750 | O57: =((N57*60)*($B$5/$C$5)*($D$15/$E$15)*(RADIANS(1.9*PI())/1000)*($D$16/$E$16)) -> 3.3880732 | P57: =((N57/60)*1.9)/(($E$5)*($E$15/$D$15)*($E$16/$D$16)) -> 17.164179 | Q57: =P57*3.6 -> 61.791045 | R57: =$B$42/P57 -> 9269.3713 | S57: =R57-(X57+$B$44) -> 9151.9864 | T57: =S57/$B$39 -> 33.279951 | U57: =(($D$27)*($B$40)*(($B$34-$B$33)/$B$34)/(1-($D$27)*($B$21/$B$34))-(X57/$D$21)) -> 10.218323 | V57: =(($B$24/$D$21)*($B$40*($B$33/$B$21))-(X57/$D$21)) -> 9.8890988 | W57: =($B$24*($B$33/$B$34))*($B$34-$B$33)+(0.5*$B$35*$B$36*$B$37*P57^2) -> 160.02357 | X57: =(0.5*$B$35*$B$36*$B$37*(P57^2)) -> 63.429824 | Y57: =(X57*P57) -> 1088.7209
B58: 2500 | D58: =(($B$24+(($B$45*$B$40)-($B$45*E58))*B$32)/E58/$B$32)*((1/$B$32)^2)+(($B$46*$B$40)-($B$46*E58))*B$32/(E58/$B$32)*((1/$B$32)^2)+(($B$15*(($D$16/$E$16)*(1/$B$32)^2)))+(($B$16*($B$19*$B$18*(1/$B$32)^2)))+($B$17*($B$20*$B$19*$B$18*(1/$B$32)^2)) -> -549.97795 | E58: =F58/$B$24 -> 95.857916 | F58: =G59-(I58+$B$44) -> 26360.927 | G58: =$B$42/H58 -> 31820.23 | H58: 5 | I58: =($B$24*($B$33/$B$34))*($B$34-$B$33)+(0.5*$B$35*$B$36*$B$37*H58^2) -> 101.97629 | J58: 17.910448 | K58: 35.420509 | M58: 1 | N58: 6000 | O58: =((N58*60)*($B$5/$C$5)*($D$15/$E$15)*(RADIANS(1.9*PI())/1000)*($D$16/$E$16)) -> 3.5353807 | P58: =((N58/60)*1.9)/(($E$5)*($E$15/$D$15)*($E$16/$D$16)) -> 17.910448 | Q58: =P58*3.6 -> 64.477612 | R58: =$B$42/P58 -> 8883.1475 | S58: =R58-(X58+$B$44) -> 8760.1271 | T58: =S58/$B$39 -> 31.855008 | U58: =(($D$27)*($B$40)*(($B$34-$B$33)/$B$34)/(1-($D$27)*($B$21/$B$34))-(X58/$D$21)) -> 10.198476 | V58: =(($B$24/$D$21)*($B$40*($B$33/$B$21))-(X58/$D$21)) -> 9.869252 | W58: =($B$24*($B$33/$B$34))*($B$34-$B$33)+(0.5*$B$35*$B$36*$B$37*P58^2) -> 165.65912 | X58: =(0.5*$B$35*$B$36*$B$37*(P58^2)) -> 69.065366 | Y58: =(X58*P58) -> 1236.9916
B59: 3000 | D59: =(($B$24+(($B$45*$B$40)-($B$45*E59))*B$32)/E59/$B$32)*((1/$B$32)^2)+(($B$46*$B$40)-($B$46*E59))*B$32/(E59/$B$32)*((1/$B$32)^2)+(($B$15*(($D$16/$E$16)*(1/$B$32)^2)))+(($B$16*($B$19*$B$18*(1/$B$32)^2)))+($B$17*($B$20*$B$19*$B$18*(1/$B$32)^2)) -> -532.75713 | E59: =F59/$B$24 -> 82.074312 | F59: =G60-(I59+$B$44) -> 22570.436 | G59: =$B$42/H59 -> 26516.858 | H59: 6 | I59: =($B$24*($B$33/$B$34))*($B$34-$B$33)+(0.5*$B$35*$B$36*$B$37*H59^2) -> 104.34461 | J59: 18.656716 | K59: 33.64388 | M59: 1 | N59: 6250 | O59: =((N59*60)*($B$5/$C$5)*($D$15/$E$15)*(RADIANS(1.9*PI())/1000)*($D$16/$E$16)) -> 3.6826882 | P59: =((N59/60)*1.9)/(($E$5)*($E$15/$D$15)*($E$16/$D$16)) -> 18.656716 | Q59: =P59*3.6 -> 67.164179 | R59: =$B$42/P59 -> 8527.8216 | S59: =R59-(X59+$B$44) -> 8398.9258 | T59: =S59/$B$39 -> 30.541549 | U59: =(($D$27)*($B$40)*(($B$34-$B$33)/$B$34)/(1-($D$27)*($B$21/$B$34))-(X59/$D$21)) -> 10.177785 | V59: =(($B$24/$D$21)*($B$40*($B$33/$B$21))-(X59/$D$21)) -> 9.8485607 | W59: =($B$24*($B$33/$B$34))*($B$34-$B$33)+(0.5*$B$35*$B$36*$B$37*P59^2) -> 171.53447 | X59: =(0.5*$B$35*$B$36*$B$37*(P59^2)) -> 74.940718 | Y59: =(X59*P59) -> 1398.1477
B60: 3500 | D60: =(($B$24+(($B$45*$B$40)-($B$45*E60))*B$32)/E60/$B$32)*((1/$B$32)^2)+(($B$46*$B$40)-($B$46*E60))*B$32/(E60/$B$32)*((1/$B$32)^2)+(($B$15*(($D$16/$E$16)*(1/$B$32)^2)))+(($B$16*($B$19*$B$18*(1/$B$32)^2)))+($B$17*($B$20*$B$19*$B$18*(1/$B$32)^2)) -> -515.49155 | E60: =F60/$B$24 -> 71.732891 | F60: =G61-(I60+$B$44) -> 19726.545 | G60: =$B$42/H60 -> 22728.736 | H60: 7 | I60: =($B$24*($B$33/$B$34))*($B$34-$B$33)+(0.5*$B$35*$B$36*$B$37*H60^2) -> 107.14353 | J60: 19.402985 | K60: 32.003914 | M60: 1 | N60: 6500 | O60: =((N60*60)*($B$5/$C$5)*($D$15/$E$15)*(RADIANS(1.9*PI())/1000)*($D$16/$E$16)) -> 3.8299957 | P60: =((N60/60)*1.9)/(($E$5)*($E$15/$D$15)*($E$16/$D$16)) -> 19.402985 | Q60: =P60*3.6 -> 69.850746 | R60: =$B$42/P60 -> 8199.8284 | S60: =R60-(X60+$B$44) -> 8064.8175 | T60: =S60/$B$39 -> 29.326609 | U60: =(($D$27)*($B$40)*(($B$34-$B$33)/$B$34)/(1-($D$27)*($B$21/$B$34))-(X60/$D$21)) -> 10.156249 | V60: =(($B$24/$D$21)*($B$40*($B$33/$B$21))-(X60/$D$21)) -> 9.8270249 | W60: =($B$24*($B$33/$B$34))*($B$34-$B$33)+(0.5*$B$35*$B$36*$B$37*P60^2) -> 177.64963 | X60: =(0.5*$B$35*$B$36*$B$37*(P60^2)) -> 81.055881 | Y60: =(X60*P60) -> 1572.726
B61: 4000 | D61: =(($B$24+(($B$45*$B$40)-($B$45*E61))*B$32)/E61/$B$32)*((1/$B$32)^2)+(($B$46*$B$40)-($B$46*E61))*B$32/(E61/$B$32)*((1/$B$32)^2)+(($B$15*(($D$16/$E$16)*(1/$B$32)^2)))+(($B$16*($B$19*$B$18*(1/$B$32)^2)))+($B$17*($B$20*$B$19*$B$18*(1/$B$32)^2)) -> -498.17712 | E61: =F61/$B$24 -> 63.685736 | F61: =G62-(I61+$B$44) -> 17513.577 | G61: =$B$42/H61 -> 19887.644 | H61: 8 | I61: =($B$24*($B$33/$B$34))*($B$34-$B$33)+(0.5*$B$35*$B$36*$B$37*H61^2) -> 110.37306 | J61: 20.149254 | K61: 30.485428 | M61: 1 | N61: 6750 | O61: =((N61*60)*($B$5/$C$5)*($D$15/$E$15)*(RADIANS(1.9*PI())/1000)*($D$16/$E$16)) -> 3.9773033 | P61: =((N61/60)*1.9)/(($E$5)*($E$15/$D$15)*($E$16/$D$16)) -> 20.149254 | Q61: =P61*3.6 -> 72.537313 | R61: =$B$42/P61 -> 7896.1311 | S61: =R61-(X61+$B$44) -> 7754.7652 | T61: =S61/$B$39 -> 28.199146 | U61: =(($D$27)*($B$40)*(($B$34-$B$33)/$B$34)/(1-($D$27)*($B$21/$B$34))-(X61/$D$21)) -> 10.133869 | V61: =(($B$24/$D$21)*($B$40*($B$33/$B$21))-(X61/$D$21)) -> 9.8046445 | W61: =($B$24*($B$33/$B$34))*($B$34-$B$33)+(0.5*$B$35*$B$36*$B$37*P61^2) -> 184.0046 | X61: =(0.5*$B$35*$B$36*$B$37*(P61^2)) -> 87.410854 | Y61: =(X61*P61) -> 1761.2635
B62: 4500 | D62: =(($B$24+(($B$45*$B$40)-($B$45*E62))*B$32)/E62/$B$32)*((1/$B$32)^2)+(($B$46*$B$40)-($B$46*E62))*B$32/(E62/$B$32)*((1/$B$32)^2)+(($B$15*(($D$16/$E$16)*(1/$B$32)^2)))+(($B$16*($B$19*$B$18*(1/$B$32)^2)))+($B$17*($B$20*$B$19*$B$18*(1/$B$32)^2)) -> -480.80912 | E62: =F62/$B$24 -> 57.244097 | F62: =G63-(I62+$B$44) -> 15742.127 | G62: =$B$42/H62 -> 17677.905 | H62: 9 | I62: =($B$24*($B$33/$B$34))*($B$34-$B$33)+(0.5*$B$35*$B$36*$B$37*H62^2) -> 114.03319 | J62: 20.895522 | K62: 29.075404 | M62: 1 | N62: 7000 | O62: =((N62*60)*($B$5/$C$5)*($D$15/$E$15)*(RADIANS(1.9*PI())/1000)*($D$16/$E$16)) -> 4.1246108 | P62: =((N62/60)*1.9)/(($E$5)*($E$15/$D$15)*($E$16/$D$16)) -> 20.895522 | Q62: =P62*3.6 -> 75.223881 | R62: =$B$42/P62 -> 7614.1264 | S62: =R62-(X62+$B$44) -> 7466.1658 | T62: =S62/$B$39 -> 27.149694 | U62: =(($D$27)*($B$40)*(($B$34-$B$33)/$B$34)/(1-($D$27)*($B$21/$B$34))-(X62/$D$21)) -> 10.110644 | V62: =(($B$24/$D$21)*($B$40*($B$33/$B$21))-(X62/$D$21)) -> 9.7814196 | W62: =($B$24*($B$33/$B$34))*($B$34-$B$33)+(0.5*$B$35*$B$36*$B$37*P62^2) -> 190.59939 | X62: =(0.5*$B$35*$B$36*$B$37*(P62^2)) -> 94.005637 | Y62: =(X62*P62) -> 1964.2969
B63: 5000 | D63: =(($B$24+(($B$45*$B$40)-($B$45*E63))*B$32)/E63/$B$32)*((1/$B$32)^2)+(($B$46*$B$40)-($B$46*E63))*B$32/(E63/$B$32)*((1/$B$32)^2)+(($B$15*(($D$16/$E$16)*(1/$B$32)^2)))+(($B$16*($B$19*$B$18*(1/$B$32)^2)))+($B$17*($B$20*$B$19*$B$18*(1/$B$32)^2)) -> -463.38221 | E63: =F63/$B$24 -> 51.969679 | F63: =G64-(I63+$B$44) -> 14291.662 | G63: =$B$42/H63 -> 15910.115 | H63: 10 | I63: =($B$24*($B$33/$B$34))*($B$34-$B$33)+(0.5*$B$35*$B$36*$B$37*H63^2) -> 118.12392 | J63: 21.641791 | K63: 27.762624 | M63: 1 | N63: 7250 | O63: =((N63*60)*($B$5/$C$5)*($D$15/$E$15)*(RADIANS(1.9*PI())/1000)*($D$16/$E$16)) -> 4.2719183 | P63: =((N63/60)*1.9)/(($E$5)*($E$15/$D$15)*($E$16/$D$16)) -> 21.641791 | Q63: =P63*3.6 -> 77.910448 | R63: =$B$42/P63 -> 7351.5703 | S63: =R63-(X63+$B$44) -> 7196.7751 | T63: =S63/$B$39 -> 26.170091 | U63: =(($D$27)*($B$40)*(($B$34-$B$33)/$B$34)/(1-($D$27)*($B$21/$B$34))-(X63/$D$21)) -> 10.086574 | V63: =(($B$24/$D$21)*($B$40*($B$33/$B$21))-(X63/$D$21)) -> 9.7573502 | W63: =($B$24*($B$33/$B$34))*($B$34-$B$33)+(0.5*$B$35*$B$36*$B$37*P63^2) -> 197.43398 | X63: =(0.5*$B$35*$B$36*$B$37*(P63^2)) -> 100.84023 | Y63: =(X63*P63) -> 2182.3632
B64: 5500 | D64: =(($B$24+(($B$45*$B$40)-($B$45*E64))*B$32)/E64/$B$32)*((1/$B$32)^2)+(($B$46*$B$40)-($B$46*E64))*B$32/(E64/$B$32)*((1/$B$32)^2)+(($B$15*(($D$16/$E$16)*(1/$B$32)^2)))+(($B$16*($B$19*$B$18*(1/$B$32)^2)))+($B$17*($B$20*$B$19*$B$18*(1/$B$32)^2)) -> -445.89046 | E64: =F64/$B$24 -> 47.570287 | F64: =G65-(I64+$B$44) -> 13081.829 | G64: =$B$42/H64 -> 14463.741 | H64: 11 | I64: =($B$24*($B$33/$B$34))*($B$34-$B$33)+(0.5*$B$35*$B$36*$B$37*H64^2) -> 122.64525 | J64: 22.38806 | K64: 26.537362 | M64: 1 | N64: 7500 | O64: =((N64*60)*($B$5/$C$5)*($D$15/$E$15)*(RADIANS(1.9*PI())/1000)*($D$16/$E$16)) -> 4.4192259 | P64: =((N64/60)*1.9)/(($E$5)*($E$15/$D$15)*($E$16/$D$16)) -> 22.38806 | Q64: =P64*3.6 -> 80.597015 | R64: =$B$42/P64 -> 7106.518 | S64: =R64-(X64+$B$44) -> 6944.6483 | T64: =S64/$B$39 -> 25.253267 | U64: =(($D$27)*($B$40)*(($B$34-$B$33)/$B$34)/(1-($D$27)*($B$21/$B$34))-(X64/$D$21)) -> 10.06166 | V64: =(($B$24/$D$21)*($B$40*($B$33/$B$21))-(X64/$D$21)) -> 9.7324362 | W64: =($B$24*($B$33/$B$34))*($B$34-$B$33)+(0.5*$B$35*$B$36*$B$37*P64^2) -> 204.50838 | X64: =(0.5*$B$35*$B$36*$B$37*(P64^2)) -> 107.91463 | Y64: =(X64*P64) -> 2415.9993
B65: 6000 | D65: =(($B$24+(($B$45*$B$40)-($B$45*E65))*B$32)/E65/$B$32)*((1/$B$32)^2)+(($B$46*$B$40)-($B$46*E65))*B$32/(E65/$B$32)*((1/$B$32)^2)+(($B$15*(($D$16/$E$16)*(1/$B$32)^2)))+(($B$16*($B$19*$B$18*(1/$B$32)^2)))+($B$17*($B$20*$B$19*$B$18*(1/$B$32)^2)) -> -428.32726 | E65: =F65/$B$24 -> 43.843628 | F65: =G66-(I65+$B$44) -> 12056.998 | G65: =$B$42/H65 -> 13258.429 | H65: 12 | I65: =($B$24*($B$33/$B$34))*($B$34-$B$33)+(0.5*$B$35*$B$36*$B$37*H65^2) -> 127.59719 | J65: 23.134328 | K65: 25.391149 | M65: 1 | N65: 7750 | O65: =((N65*60)*($B$5/$C$5)*($D$15/$E$15)*(RADIANS(1.9*PI())/1000)*($D$16/$E$16)) -> 4.5665334 | P65: =((N65/60)*1.9)/(($E$5)*($E$15/$D$15)*($E$16/$D$16)) -> 23.134328 | Q65: =P65*3.6 -> 83.283582 | R65: =$B$42/P65 -> 6877.2755 | S65: =R65-(X65+$B$44) -> 6708.0916 | T65: =S65/$B$39 -> 24.39306 | U65: =(($D$27)*($B$40)*(($B$34-$B$33)/$B$34)/(1-($D$27)*($B$21/$B$34))-(X65/$D$21)) -> 10.035902 | V65: =(($B$24/$D$21)*($B$40*($B$33/$B$21))-(X65/$D$21)) -> 9.7066776 | W65: =($B$24*($B$33/$B$34))*($B$34-$B$33)+(0.5*$B$35*$B$36*$B$37*P65^2) -> 211.8226 | X65: =(0.5*$B$35*$B$36*$B$37*(P65^2)) -> 115.22885 | Y65: =(X65*P65) -> 2665.742
B66: 6500 | D66: =(($B$24+(($B$45*$B$40)-($B$45*E66))*B$32)/E66/$B$32)*((1/$B$32)^2)+(($B$46*$B$40)-($B$46*E66))*B$32/(E66/$B$32)*((1/$B$32)^2)+(($B$15*(($D$16/$E$16)*(1/$B$32)^2)))+(($B$16*($B$19*$B$18*(1/$B$32)^2)))+($B$17*($B$20*$B$19*$B$18*(1/$B$32)^2)) -> -410.68535 | E66: =F66/$B$24 -> 40.645211 | F66: =G67-(I66+$B$44) -> 11177.433 | G66: =$B$42/H66 -> 12238.55 | H66: 13 | I66: =($B$24*($B$33/$B$34))*($B$34-$B$33)+(0.5*$B$35*$B$36*$B$37*H66^2) -> 132.97973 | J66: 23.880597 | K66: 24.316575 | M66: 1 | N66: 8000 | O66: =((N66*60)*($B$5/$C$5)*($D$15/$E$15)*(RADIANS(1.9*PI())/1000)*($D$16/$E$16)) -> 4.7138409 | P66: =((N66/60)*1.9)/(($E$5)*($E$15/$D$15)*($E$16/$D$16)) -> 23.880597 | Q66: =P66*3.6 -> 85.970149 | R66: =$B$42/P66 -> 6662.3606 | S66: =R66-(X66+$B$44) -> 6485.6227 | T66: =S66/$B$39 -> 23.584083 | U66: =(($D$27)*($B$40)*(($B$34-$B$33)/$B$34)/(1-($D$27)*($B$21/$B$34))-(X66/$D$21)) -> 10.009299 | V66: =(($B$24/$D$21)*($B$40*($B$33/$B$21))-(X66/$D$21)) -> 9.6800745 | W66: =($B$24*($B$33/$B$34))*($B$34-$B$33)+(0.5*$B$35*$B$36*$B$37*P66^2) -> 219.37662 | X66: =(0.5*$B$35*$B$36*$B$37*(P66^2)) -> 122.78287 | Y66: =(X66*P66) -> 2932.1283
... B83: 15000 | D83: =(($B$24+(($B$45*$B$40)-($B$45*E83))*B$32)/E83/$B$32)*((1/$B$32)^2)+(($B$46*$B$40)-($B$46*E83))*B$32/(E83/$B$32)*((1/$B$32)^2)+(($B$15*(($D$16/$E$16)*(1/$B$32)^2)))+(($B$16*($B$19*$B$18*(1/$B$32)^2)))+($B$17*($B$20*$B$19*$B$18*(1/$B$32)^2)) -> -87.96289 | E83: =F83/$B$24 -> 17.410818 | F83: =G84-(I83+$B$44) -> 4787.9748 | G83: =$B$42/H83 -> 5303.3716 | H83: 30 | I83: =($B$24*($B$33/$B$34))*($B$34-$B$33)+(0.5*$B$35*$B$36*$B$37*H83^2) -> 290.36527 | J83: 36.567164 | K83: 12.759419 | M83: 1 | N83: 12250 | O83: =((N83*60)*($B$5/$C$5)*($D$15/$E$15)*(RADIANS(1.9*PI())/1000)*($D$16/$E$16)) -> 7.2180689 | P83: =((N83/60)*1.9)/(($E$5)*($E$15/$D$15)*($E$16/$D$16)) -> 36.567164 | Q83: =P83*3.6 -> 131.64179 | R83: =$B$42/P83 -> 4350.9294 | S83: =R83-(X83+$B$44) -> 4009.0821 | T83: =S83/$B$39 -> 14.57848 | U83: =(($D$27)*($B$40)*(($B$34-$B$33)/$B$34)/(1-($D$27)*($B$21/$B$34))-(X83/$D$21)) -> 9.4278315 | V83: =(($B$24/$D$21)*($B$40*($B$33/$B$21))-(X83/$D$21)) -> 9.0986071 | W83: =($B$24*($B$33/$B$34))*($B$34-$B$33)+(0.5*$B$35*$B$36*$B$37*P83^2) -> 384.48601 | X83: =(0.5*$B$35*$B$36*$B$37*(P83^2)) -> 287.89226 | Y83: =(X83*P83) -> 10527.404
D84: =(($B$24+(($B$45*$B$40)-($B$45*E84))*B$32)/E84/$B$32)*((1/$B$32)^2)+(($B$46*$B$40)-($B$46*E84))*B$32/(E84/$B$32)*((1/$B$32)^2)+(($B$15*(($D$16/$E$16)*(1/$B$32)^2)))+(($B$16*($B$19*$B$18*(1/$B$32)^2)))+($B$17*($B$20*$B$19*$B$18*(1/$B$32)^2)) -> -66.733857 | E84: =F84/$B$24 -> 16.779844 | F84: =G85-(I84+$B$44) -> 4614.4572 | G84: =$B$42/H84 -> 5132.2951 | H84: 31 | I84: =($B$24*($B$33/$B$34))*($B$34-$B$33)+(0.5*$B$35*$B$36*$B$37*H84^2) -> 303.49867 | J84: 37.313433 | K84: 12.324326 | M84: 1 | N84: 12500 | O84: =((N84*60)*($B$5/$C$5)*($D$15/$E$15)*(RADIANS(1.9*PI())/1000)*($D$16/$E$16)) -> 7.3653764 | P84: =((N84/60)*1.9)/(($E$5)*($E$15/$D$15)*($E$16/$D$16)) -> 37.313433 | Q84: =P84*3.6 -> 134.32836 | R84: =$B$42/P84 -> 4263.9108 | S84: =R84-(X84+$B$44) -> 3910.1929 | T84: =S84/$B$39 -> 14.218883 | U84: =(($D$27)*($B$40)*(($B$34-$B$33)/$B$34)/(1-($D$27)*($B$21/$B$34))-(X84/$D$21)) -> 9.3860266 | V84: =(($B$24/$D$21)*($B$40*($B$33/$B$21))-(X84/$D$21)) -> 9.0568023 | W84: =($B$24*($B$33/$B$34))*($B$34-$B$33)+(0.5*$B$35*$B$36*$B$37*P84^2) -> 396.35662 | X84: =(0.5*$B$35*$B$36*$B$37*(P84^2)) -> 299.76287 | Y84: =(X84*P84) -> 11185.182
D85: =(($B$24+(($B$45*$B$40)-($B$45*E85))*B$32)/E85/$B$32)*((1/$B$32)^2)+(($B$46*$B$40)-($B$46*E85))*B$32/(E85/$B$32)*((1/$B$32)^2)+(($B$15*(($D$16/$E$16)*(1/$B$32)^2)))+(($B$16*($B$19*$B$18*(1/$B$32)^2)))+($B$17*($B$20*$B$19*$B$18*(1/$B$32)^2)) -> -45.11647 | E85: =F85/$B$24 -> 16.182652 | F85: =G86-(I85+$B$44) -> 4450.2292 | G85: =$B$42/H85 -> 4971.9109 | H85: 32 | I85: =($B$24*($B$33/$B$34))*($B$34-$B$33)+(0.5*$B$35*$B$36*$B$37*H85^2) -> 317.06268 | J85: 38.059701 | K85: 11.906296 | M85: 1 | N85: 12750 | O85: =((N85*60)*($B$5/$C$5)*($D$15/$E$15)*(RADIANS(1.9*PI())/1000)*($D$16/$E$16)) -> 7.5126839 | P85: =((N85/60)*1.9)/(($E$5)*($E$15/$D$15)*($E$16/$D$16)) -> 38.059701 | Q85: =P85*3.6 -> 137.01493 | R85: =$B$42/P85 -> 4180.3047 | S85: =R85-(X85+$B$44) -> 3814.4764 | T85: =S85/$B$39 -> 13.870823 | U85: =(($D$27)*($B$40)*(($B$34-$B$33)/$B$34)/(1-($D$27)*($B$21/$B$34))-(X85/$D$21)) -> 9.3433773 | V85: =(($B$24/$D$21)*($B$40*($B$33/$B$21))-(X85/$D$21)) -> 9.0141529 | W85: =($B$24*($B$33/$B$34))*($B$34-$B$33)+(0.5*$B$35*$B$36*$B$37*P85^2) -> 408.46704 | X85: =(0.5*$B$35*$B$36*$B$37*(P85^2)) -> 311.87329 | Y85: =(X85*P85) -> 11869.804
D86: =(($B$24+(($B$45*$B$40)-($B$45*E86))*B$32)/E86/$B$32)*((1/$B$32)^2)+(($B$46*$B$40)-($B$46*E86))*B$32/(E86/$B$32)*((1/$B$32)^2)+(($B$15*(($D$16/$E$16)*(1/$B$32)^2)))+(($B$16*($B$19*$B$18*(1/$B$32)^2)))+($B$17*($B$20*$B$19*$B$18*(1/$B$32)^2)) -> -23.080756 | E86: =F86/$B$24 -> 15.616121 | F86: =G87-(I86+$B$44) -> 4294.4333 | G86: =$B$42/H86 -> 4821.2469 | H86: 33 | I86: =($B$24*($B$33/$B$34))*($B$34-$B$33)+(0.5*$B$35*$B$36*$B$37*H86^2) -> 331.05729 | J86: 38.80597 | K86: 11.504343 | M86: 1 | N86: 13000 | O86: =((N86*60)*($B$5/$C$5)*($D$15/$E$15)*(RADIANS(1.9*PI())/1000)*($D$16/$E$16)) -> 7.6599915 | P86: =((N86/60)*1.9)/(($E$5)*($E$15/$D$15)*($E$16/$D$16)) -> 38.80597 | Q86: =P86*3.6 -> 139.70149 | R86: =$B$42/P86 -> 4099.9142 | S86: =R86-(X86+$B$44) -> 3721.7357 | T86: =S86/$B$39 -> 13.533584 | U86: =(($D$27)*($B$40)*(($B$34-$B$33)/$B$34)/(1-($D$27)*($B$21/$B$34))-(X86/$D$21)) -> 9.2998833 | V86: =(($B$24/$D$21)*($B$40*($B$33/$B$21))-(X86/$D$21)) -> 8.970659 | W86: =($B$24*($B$33/$B$34))*($B$34-$B$33)+(0.5*$B$35*$B$36*$B$37*P86^2) -> 420.81727 | X86: =(0.5*$B$35*$B$36*$B$37*(P86^2)) -> 324.22352 | Y86: =(X86*P86) -> 12581.808
D87: =(($B$24+(($B$45*$B$40)-($B$45*E87))*B$32)/E87/$B$32)*((1/$B$32)^2)+(($B$46*$B$40)-($B$46*E87))*B$32/(E87/$B$32)*((1/$B$32)^2)+(($B$15*(($D$16/$E$16)*(1/$B$32)^2)))+(($B$16*($B$19*$B$18*(1/$B$32)^2)))+($B$17*($B$20*$B$19*$B$18*(1/$B$32)^2)) -> -0.59456269 | E87: =F87/$B$24 -> 15.077489 | F87: =G88-(I87+$B$44) -> 4146.3096 | G87: =$B$42/H87 -> 4679.4455 | H87: 34 | I87: =($B$24*($B$33/$B$34))*($B$34-$B$33)+(0.5*$B$35*$B$36*$B$37*H87^2) -> 345.4825 | J87: 39.552239 | K87: 11.117559 | M87: 1 | N87: 13250 | O87: =((N87*60)*($B$5/$C$5)*($D$15/$E$15)*(RADIANS(1.9*PI())/1000)*($D$16/$E$16)) -> 7.807299 | P87: =((N87/60)*1.9)/(($E$5)*($E$15/$D$15)*($E$16/$D$16)) -> 39.552239 | Q87: =P87*3.6 -> 142.38806 | R87: =$B$42/P87 -> 4022.5573 | S87: =R87-(X87+$B$44) -> 3631.7888 | T87: =S87/$B$39 -> 13.206505 | U87: =(($D$27)*($B$40)*(($B$34-$B$33)/$B$34)/(1-($D$27)*($B$21/$B$34))-(X87/$D$21)) -> 9.2555448 | V87: =(($B$24/$D$21)*($B$40*($B$33/$B$21))-(X87/$D$21)) -> 8.9263205 | W87: =($B$24*($B$33/$B$34))*($B$34-$B$33)+(0.5*$B$35*$B$36*$B$37*P87^2) -> 433.40731 | X87: =(0.5*$B$35*$B$36*$B$37*(P87^2)) -> 336.81356 | Y87: =(X87*P87) -> 13321.731
D88: =(($B$24+(($B$45*$B$40)-($B$45*E88))*B$32)/E88/$B$32)*((1/$B$32)^2)+(($B$46*$B$40)-($B$46*E88))*B$32/(E88/$B$32)*((1/$B$32)^2)+(($B$15*(($D$16/$E$16)*(1/$B$32)^2)))+(($B$16*($B$19*$B$18*(1/$B$32)^2)))+($B$17*($B$20*$B$19*$B$18*(1/$B$32)^2)) -> 22.376642 | E88: =F88/$B$24 -> 14.564302 | F88: =G89-(I88+$B$44) -> 4005.183 | G88: =$B$42/H88 -> 4545.7471 | H88: 35 | I88: =($B$24*($B$33/$B$34))*($B$34-$B$33)+(0.5*$B$35*$B$36*$B$37*H88^2) -> 360.33832 | J88: 40.298507 | K88: 10.7451 | M88: 1 | N88: 13500 | O88: =((N88*60)*($B$5/$C$5)*($D$15/$E$15)*(RADIANS(1.9*PI())/1000)*($D$16/$E$16)) -> 7.9546065 | P88: =((N88/60)*1.9)/(($E$5)*($E$15/$D$15)*($E$16/$D$16)) -> 40.298507 | Q88: =P88*3.6 -> 145.07463 | R88: =$B$42/P88 -> 3948.0655 | S88: =R88-(X88+$B$44) -> 3544.4671 | T88: =S88/$B$39 -> 12.888971 | U88: =(($D$27)*($B$40)*(($B$34-$B$33)/$B$34)/(1-($D$27)*($B$21/$B$34))-(X88/$D$21)) -> 9.2103618 | V88: =(($B$24/$D$21)*($B$40*($B$33/$B$21))-(X88/$D$21)) -> 8.8811375 | W88: =($B$24*($B$33/$B$34))*($B$34-$B$33)+(0.5*$B$35*$B$36*$B$37*P88^2) -> 446.23717 | X88: =(0.5*$B$35*$B$36*$B$37*(P88^2)) -> 349.64342 | Y88: =(X88*P88) -> 14090.108
D89: =(($B$24+(($B$45*$B$40)-($B$45*E89))*B$32)/E89/$B$32)*((1/$B$32)^2)+(($B$46*$B$40)-($B$46*E89))*B$32/(E89/$B$32)*((1/$B$32)^2)+(($B$15*(($D$16/$E$16)*(1/$B$32)^2)))+(($B$16*($B$19*$B$18*(1/$B$32)^2)))+($B$17*($B$20*$B$19*$B$18*(1/$B$32)^2)) -> 45.869995 | E89: =F89/$B$24 -> 14.074368 | F89: =G90-(I89+$B$44) -> 3870.4513 | G89: =$B$42/H89 -> 4419.4763 | H89: 36 | I89: =($B$24*($B$33/$B$34))*($B$34-$B$33)+(0.5*$B$35*$B$36*$B$37*H89^2) -> 375.62474 | J89: 41.044776 | K89: 10.386185 | M89: 1 | N89: 13750 | O89: =((N89*60)*($B$5/$C$5)*($D$15/$E$15)*(RADIANS(1.9*PI())/1000)*($D$16/$E$16)) -> 8.1019141 | P89: =((N89/60)*1.9)/(($E$5)*($E$15/$D$15)*($E$16/$D$16)) -> 41.044776 | Q89: =P89*3.6 -> 147.76119 | R89: =$B$42/P89 -> 3876.2825 | S89: =R89-(X89+$B$44) -> 3459.6145 | T89: =S89/$B$39 -> 12.580416 | U89: =(($D$27)*($B$40)*(($B$34-$B$33)/$B$34)/(1-($D$27)*($B$21/$B$34))-(X89/$D$21)) -> 9.1643343 | V89: =(($B$24/$D$21)*($B$40*($B$33/$B$21))-(X89/$D$21)) -> 8.8351099 | W89: =($B$24*($B$33/$B$34))*($B$34-$B$33)+(0.5*$B$35*$B$36*$B$37*P89^2) -> 459.30683 | X89: =(0.5*$B$35*$B$36*$B$37*(P89^2)) -> 362.71308 | Y89: =(X89*P89) -> 14887.477
D90: =(($B$24+(($B$45*$B$40)-($B$45*E90))*B$32)/E90/$B$32)*((1/$B$32)^2)+(($B$46*$B$40)-($B$46*E90))*B$32/(E90/$B$32)*((1/$B$32)^2)+(($B$15*(($D$16/$E$16)*(1/$B$32)^2)))+(($B$16*($B$19*$B$18*(1/$B$32)^2)))+($B$17*($B$20*$B$19*$B$18*(1/$B$32)^2)) -> 69.92548 | E90: =F90/$B$24 -> 13.605729 | F90: =G91-(I90+$B$44) -> 3741.5756 | G90: =$B$42/H90 -> 4300.031 | H90: 37 | I90: =($B$24*($B$33/$B$34))*($B$34-$B$33)+(0.5*$B$35*$B$36*$B$37*H90^2) -> 391.34176 | J90: 41.791045 | K90: 10.040088 | M90: 1 | N90: 14000 | O90: =((N90*60)*($B$5/$C$5)*($D$15/$E$15)*(RADIANS(1.9*PI())/1000)*($D$16/$E$16)) -> 8.2492216 | P90: =((N90/60)*1.9)/(($E$5)*($E$15/$D$15)*($E$16/$D$16)) -> 41.791045 | Q90: =P90*3.6 -> 150.44776 | R90: =$B$42/P90 -> 3807.0632 | S90: =R90-(X90+$B$44) -> 3377.0856 | T90: =S90/$B$39 -> 12.280311 | U90: =(($D$27)*($B$40)*(($B$34-$B$33)/$B$34)/(1-($D$27)*($B$21/$B$34))-(X90/$D$21)) -> 9.1174622 | V90: =(($B$24/$D$21)*($B$40*($B$33/$B$21))-(X90/$D$21)) -> 8.7882378 | W90: =($B$24*($B$33/$B$34))*($B$34-$B$33)+(0.5*$B$35*$B$36*$B$37*P90^2) -> 472.6163 | X90: =(0.5*$B$35*$B$36*$B$37*(P90^2)) -> 376.02255 | Y90: =(X90*P90) -> 15714.375
D91: =(($B$24+(($B$45*$B$40)-($B$45*E91))*B$32)/E91/$B$32)*((1/$B$32)^2)+(($B$46*$B$40)-($B$46*E91))*B$32/(E91/$B$32)*((1/$B$32)^2)+(($B$15*(($D$16/$E$16)*(1/$B$32)^2)))+(($B$16*($B$19*$B$18*(1/$B$32)^2)))+($B$17*($B$20*$B$19*$B$18*(1/$B$32)^2)) -> 94.586213 | E91: =F91/$B$24 -> 13.156626 | F91: =G92-(I91+$B$44) -> 3618.0722 | G91: =$B$42/H91 -> 4186.8723 | H91: 38 | I91: =($B$24*($B$33/$B$34))*($B$34-$B$33)+(0.5*$B$35*$B$36*$B$37*H91^2) -> 407.48938 | J91: 42.537313 | K91: 9.7061352 | M91: 1 | N91: 14250 | O91: =((N91*60)*($B$5/$C$5)*($D$15/$E$15)*(RADIANS(1.9*PI())/1000)*($D$16/$E$16)) -> 8.3965291 | P91: =((N91/60)*1.9)/(($E$5)*($E$15/$D$15)*($E$16/$D$16)) -> 42.537313 | Q91: =P91*3.6 -> 153.13433 | R91: =$B$42/P91 -> 3740.2726 | S91: =R91-(X91+$B$44) -> 3296.7458 | T91: =S91/$B$39 -> 11.988166 | U91: =(($D$27)*($B$40)*(($B$34-$B$33)/$B$34)/(1-($D$27)*($B$21/$B$34))-(X91/$D$21)) -> 9.0697455 | V91: =(($B$24/$D$21)*($B$40*($B$33/$B$21))-(X91/$D$21)) -> 8.7405212 | W91: =($B$24*($B$33/$B$34))*($B$34-$B$33)+(0.5*$B$35*$B$36*$B$37*P91^2) -> 486.16558 | X91: =(0.5*$B$35*$B$36*$B$37*(P91^2)) -> 389.57183 | Y91: =(X91*P91) -> 16571.339
D92: =(($B$24+(($B$45*$B$40)-($B$45*E92))*B$32)/E92/$B$32)*((1/$B$32)^2)+(($B$46*$B$40)-($B$46*E92))*B$32/(E92/$B$32)*((1/$B$32)^2)+(($B$15*(($D$16/$E$16)*(1/$B$32)^2)))+(($B$16*($B$19*$B$18*(1/$B$32)^2)))+($B$17*($B$20*$B$19*$B$18*(1/$B$32)^2)) -> 119.89876 | E92: =F92/$B$24 -> 12.725477 | F92: =G93-(I92+$B$44) -> 3499.5061 | G92: =$B$42/H92 -> 4079.5166 | H92: 39 | I92: =($B$24*($B$33/$B$34))*($B$34-$B$33)+(0.5*$B$35*$B$36*$B$37*H92^2) -> 424.06761 | J92: 43.283582 | K92: 9.383698 | M92: 1 | N92: 14500 | O92: =((N92*60)*($B$5/$C$5)*($D$15/$E$15)*(RADIANS(1.9*PI())/1000)*($D$16/$E$16)) -> 8.5438366 | P92: =((N92/60)*1.9)/(($E$5)*($E$15/$D$15)*($E$16/$D$16)) -> 43.283582 | Q92: =P92*3.6 -> 155.8209 | R92: =$B$42/P92 -> 3675.7852 | S92: =R92-(X92+$B$44) -> 3218.4692 | T92: =S92/$B$39 -> 11.703524 | U92: =(($D$27)*($B$40)*(($B$34-$B$33)/$B$34)/(1-($D$27)*($B$21/$B$34))-(X92/$D$21)) -> 9.0211844 | V92: =(($B$24/$D$21)*($B$40*($B$33/$B$21))-(X92/$D$21)) -> 8.69196 | W92: =($B$24*($B$33/$B$34))*($B$34-$B$33)+(0.5*$B$35*$B$36*$B$37*P92^2) -> 499.95467 | X92: =(0.5*$B$35*$B$36*$B$37*(P92^2)) -> 403.36092 | Y92: =(X92*P92) -> 17458.906
D93: =(($B$24+(($B$45*$B$40)-($B$45*E93))*B$32)/E93/$B$32)*((1/$B$32)^2)+(($B$46*$B$40)-($B$46*E93))*B$32/(E93/$B$32)*((1/$B$32)^2)+(($B$15*(($D$16/$E$16)*(1/$B$32)^2)))+(($B$16*($B$19*$B$18*(1/$B$32)^2)))+($B$17*($B$20*$B$19*$B$18*(1/$B$32)^2)) -> 145.91348 | E93: =F93/$B$24 -> 12.310852 | F93: =G94-(I93+$B$44) -> 3385.4844 | G93: =$B$42/H93 -> 3977.5287 | H93: 40 | I93: =($B$24*($B$33/$B$34))*($B$34-$B$33)+(0.5*$B$35*$B$36*$B$37*H93^2) -> 441.07645 | J93: 44.029851 | K93: 9.0721907 | M93: 1 | N93: 14750 | O93: =((N93*60)*($B$5/$C$5)*($D$15/$E$15)*(RADIANS(1.9*PI())/1000)*($D$16/$E$16)) -> 8.6911442 | P93: =((N93/60)*1.9)/(($E$5)*($E$15/$D$15)*($E$16/$D$16)) -> 44.029851 | Q93: =P93*3.6 -> 158.50746 | R93: =$B$42/P93 -> 3613.4837 | S93: =R93-(X93+$B$44) -> 3142.1389 | T93: =S93/$B$39 -> 11.42596 | U93: =(($D$27)*($B$40)*(($B$34-$B$33)/$B$34)/(1-($D$27)*($B$21/$B$34))-(X93/$D$21)) -> 8.9717786 | V93: =(($B$24/$D$21)*($B$40*($B$33/$B$21))-(X93/$D$21)) -> 8.6425543 | W93: =($B$24*($B$33/$B$34))*($B$34-$B$33)+(0.5*$B$35*$B$36*$B$37*P93^2) -> 513.98357 | X93: =(0.5*$B$35*$B$36*$B$37*(P93^2)) -> 417.38982 | Y93: =(X93*P93) -> 18377.612
D94: =(($B$24+(($B$45*$B$40)-($B$45*E94))*B$32)/E94/$B$32)*((1/$B$32)^2)+(($B$46*$B$40)-($B$46*E94))*B$32/(E94/$B$32)*((1/$B$32)^2)+(($B$15*(($D$16/$E$16)*(1/$B$32)^2)))+(($B$16*($B$19*$B$18*(1/$B$32)^2)))+($B$17*($B$20*$B$19*$B$18*(1/$B$32)^2)) -> 172.68494 | E94: =F94/$B$24 -> 11.911461 | F94: =G95-(I94+$B$44) -> 3275.6517 | G94: =$B$42/H94 -> 3880.5158 | H94: 41 | I94: =($B$24*($B$33/$B$34))*($B$34-$B$33)+(0.5*$B$35*$B$36*$B$37*H94^2) -> 458.51588 | J94: 44.776119 | K94: 8.7710671 | M94: 1 | N94: 15000 | O94: =((N94*60)*($B$5/$C$5)*($D$15/$E$15)*(RADIANS(1.9*PI())/1000)*($D$16/$E$16)) -> 8.8384517 | P94: =((N94/60)*1.9)/(($E$5)*($E$15/$D$15)*($E$16/$D$16)) -> 44.776119 | Q94: =P94*3.6 -> 161.19403 | R94: =$B$42/P94 -> 3553.259 | S94: =R94-(X94+$B$44) -> 3067.6454 | T94: =S94/$B$39 -> 11.155074 | U94: =(($D$27)*($B$40)*(($B$34-$B$33)/$B$34)/(1-($D$27)*($B$21/$B$34))-(X94/$D$21)) -> 8.9215284 | V94: =(($B$24/$D$21)*($B$40*($B$33/$B$21))-(X94/$D$21)) -> 8.592304 | W94: =($B$24*($B$33/$B$34))*($B$34-$B$33)+(0.5*$B$35*$B$36*$B$37*P94^2) -> 528.25229 | X94: =(0.5*$B$35*$B$36*$B$37*(P94^2)) -> 431.65854 | Y94: =(X94*P94) -> 19327.994
D95: =(($B$24+(($B$45*$B$40)-($B$45*E95))*B$32)/E95/$B$32)*((1/$B$32)^2)+(($B$46*$B$40)-($B$46*E95))*B$32/(E95/$B$32)*((1/$B$32)^2)+(($B$15*(($D$16/$E$16)*(1/$B$32)^2)))+(($B$16*($B$19*$B$18*(1/$B$32)^2)))+($B$17*($B$20*$B$19*$B$18*(1/$B$32)^2)) -> 200.27238 | E95: =F95/$B$24 -> 11.52613 | F95: =G96-(I95+$B$44) -> 3169.6858 | G95: =$B$42/H95 -> 3788.1226 | H95: 42 | I95: =($B$24*($B$33/$B$34))*($B$34-$B$33)+(0.5*$B$35*$B$36*$B$37*H95^2) -> 476.38592 | J95: 18.33258 | K95: 34.397779 | M95: 2 | N95: 5000 | O95: =((N95*60)*($C$6/$B$6)*($D$15/$E$15)*(RADIANS(1.9*PI())/1000)*($D$16/$E$16)) -> 15.393637 | P95: =((N95/60)*1.9)/(($E$6)*($E$15/$D$15)*($E$16/$D$16)) -> 18.33258 | Q95: =P95*3.6 -> 65.997286 | R95: =$B$42/P95 -> 8678.6013 | S95: =R95-(X95+$B$44) -> 8552.287 | T95: =S95/$B$39 -> 31.099225 | U95: =(($D$27)*($B$40)*(($B$34-$B$33)/$B$34)/(1-($D$27)*($B$21/$B$34))-(X95/$D$21)) -> 10.186876 | V95: =(($B$24/$D$21)*($B$40*($B$33/$B$21))-(X95/$D$22)) -> 9.8571762 | W95: =($B$24*($B$33/$B$34))*($B$34-$B$33)+(0.5*$B$35*$B$36*$B$37*P95^2) -> 168.95309 | X95: =(0.5*$B$35*$B$36*$B$37*(P95^2)) -> 72.359338 | Y95: =(X95*P95) -> 1326.5333
D96: =(($B$24+(($B$45*$B$40)-($B$45*E96))*B$32)/E96/$B$32)*((1/$B$32)^2)+(($B$46*$B$40)-($B$46*E96))*B$32/(E96/$B$32)*((1/$B$32)^2)+(($B$15*(($D$16/$E$16)*(1/$B$32)^2)))+(($B$16*($B$19*$B$18*(1/$B$32)^2)))+($B$17*($B$20*$B$19*$B$18*(1/$B$32)^2)) -> 228.7402 | E96: =F96/$B$24 -> 11.153795 | F96: =G97-(I96+$B$44) -> 3067.2936 | G96: =$B$42/H96 -> 3700.0267 | H96: 43 | I96: =($B$24*($B$33/$B$34))*($B$34-$B$33)+(0.5*$B$35*$B$36*$B$37*H96^2) -> 494.68657 | J96: 19.249209 | K96: 32.331445 | M96: 2 | N96: 5250 | O96: =((N96*60)*($C$6/$B$6)*($D$15/$E$15)*(RADIANS(1.9*PI())/1000)*($D$16/$E$16)) -> 16.163319 | P96: =((N96/60)*1.9)/(($E$6)*($E$15/$D$15)*($E$16/$D$16)) -> 19.249209 | Q96: =P96*3.6 -> 69.297151 | R96: =$B$42/P96 -> 8265.3346 | S96: =R96-(X96+$B$44) -> 8131.6034 | T96: =S96/$B$39 -> 29.569467 | U96: =(($D$27)*($B$40)*(($B$34-$B$33)/$B$34)/(1-($D$27)*($B$21/$B$34))-(X96/$D$21)) -> 10.160756 | V96: =(($B$24/$D$21)*($B$40*($B$33/$B$21))-(X96/$D$22)) -> 9.8310076 | W96: =($B$24*($B$33/$B$34))*($B$34-$B$33)+(0.5*$B$35*$B$36*$B$37*P96^2) -> 176.36992 | X96: =(0.5*$B$35*$B$36*$B$37*(P96^2)) -> 79.77617 | Y96: =(X96*P96) -> 1535.6281
D97: =(($B$24+(($B$45*$B$40)-($B$45*E97))*B$32)/E97/$B$32)*((1/$B$32)^2)+(($B$46*$B$40)-($B$46*E97))*B$32/(E97/$B$32)*((1/$B$32)^2)+(($B$15*(($D$16/$E$16)*(1/$B$32)^2)))+(($B$16*($B$19*$B$18*(1/$B$32)^2)))+($B$17*($B$20*$B$19*$B$18*(1/$B$32)^2)) -> 258.15859 | E97: =F97/$B$24 -> 10.793485 | F97: =G98-(I97+$B$44) -> 2968.2083 | G97: =$B$42/H97 -> 3615.9352 | H97: 44 | I97: =($B$24*($B$33/$B$34))*($B$34-$B$33)+(0.5*$B$35*$B$36*$B$37*H97^2) -> 513.41781 | J97: 20.165837 | K97: 30.45296 | M97: 2 | N97: 5500 | O97: =((N97*60)*($C$6/$B$6)*($D$15/$E$15)*(RADIANS(1.9*PI())/1000)*($D$16/$E$16)) -> 16.933 | P97: =((N97/60)*1.9)/(($E$6)*($E$15/$D$15)*($E$16/$D$16)) -> 20.165837 | Q97: =P97*3.6 -> 72.597015 | R97: =$B$42/P97 -> 7889.6375 | S97: =R97-(X97+$B$44) -> 7748.1277 | T97: =S97/$B$39 -> 28.17501 | U97: =(($D$27)*($B$40)*(($B$34-$B$33)/$B$34)/(1-($D$27)*($B$21/$B$34))-(X97/$D$21)) -> 10.133362 | V97: =(($B$24/$D$21)*($B$40*($B$33/$B$21))-(X97/$D$22)) -> 9.8035624 | W97: =($B$24*($B$33/$B$34))*($B$34-$B$33)+(0.5*$B$35*$B$36*$B$37*P97^2) -> 184.14855 | X97: =(0.5*$B$35*$B$36*$B$37*(P97^2)) -> 87.554799 | Y97: =(X97*P97) -> 1765.6159
D98: =(($B$24+(($B$45*$B$40)-($B$45*E98))*B$32)/E98/$B$32)*((1/$B$32)^2)+(($B$46*$B$40)-($B$46*E98))*B$32/(E98/$B$32)*((1/$B$32)^2)+(($B$15*(($D$16/$E$16)*(1/$B$32)^2)))+(($B$16*($B$19*$B$18*(1/$B$32)^2)))+($B$17*($B$20*$B$19*$B$18*(1/$B$32)^2)) -> 288.60417 | E98: =F98/$B$24 -> 10.444313 | F98: =G99-(I98+$B$44) -> 2872.186 | G98: =$B$42/H98 -> 3535.5811 | H98: 45 | I98: =($B$24*($B$33/$B$34))*($B$34-$B$33)+(0.5*$B$35*$B$36*$B$37*H98^2) -> 532.57966 | J98: 21.082466 | K98: 28.737821 | M98: 2 | N98: 5750 | O98: =((N98*60)*($C$6/$B$6)*($D$15/$E$15)*(RADIANS(1.9*PI())/1000)*($D$16/$E$16)) -> 17.702682 | P98: =((N98/60)*1.9)/(($E$6)*($E$15/$D$15)*($E$16/$D$16)) -> 21.082466 | Q98: =P98*3.6 -> 75.896879 | R98: =$B$42/P98 -> 7546.6098 | S98: =R98-(X98+$B$44) -> 7396.9596 | T98: =S98/$B$39 -> 26.898035 | U98: =(($D$27)*($B$40)*(($B$34-$B$33)/$B$34)/(1-($D$27)*($B$21/$B$34))-(X98/$D$21)) -> 10.104694 | V98: =(($B$24/$D$21)*($B$40*($B$33/$B$21))-(X98/$D$22)) -> 9.7748407 | W98: =($B$24*($B$33/$B$34))*($B$34-$B$33)+(0.5*$B$35*$B$36*$B$37*P98^2) -> 192.28897 | X98: =(0.5*$B$35*$B$36*$B$37*(P98^2)) -> 95.695225 | Y98: =(X98*P98) -> 2017.4914
D99: =(($B$24+(($B$45*$B$40)-($B$45*E99))*B$32)/E99/$B$32)*((1/$B$32)^2)+(($B$46*$B$40)-($B$46*E99))*B$32/(E99/$B$32)*((1/$B$32)^2)+(($B$15*(($D$16/$E$16)*(1/$B$32)^2)))+(($B$16*($B$19*$B$18*(1/$B$32)^2)))+($B$17*($B$20*$B$19*$B$18*(1/$B$32)^2)) -> 320.1608 | E99: =F99/$B$24 -> 10.105468 | F99: =G100-(I99+$B$44) -> 2779.0037 | G99: =$B$42/H99 -> 3458.7206 | H99: 46 | I99: =($B$24*($B$33/$B$34))*($B$34-$B$33)+(0.5*$B$35*$B$36*$B$37*H99^2) -> 552.17212 | J99: 21.999095 | K99: 27.165611 | M99: 2 | N99: 6000 | O99: =((N99*60)*($C$6/$B$6)*($D$15/$E$15)*(RADIANS(1.9*PI())/1000)*($D$16/$E$16)) -> 18.472364 | P99: =((N99/60)*1.9)/(($E$6)*($E$15/$D$15)*($E$16/$D$16)) -> 21.999095 | Q99: =P99*3.6 -> 79.196744 | R99: =$B$42/P99 -> 7232.1678 | S99: =R99-(X99+$B$44) -> 7074.0153 | T99: =S99/$B$39 -> 25.723692 | U99: =(($D$27)*($B$40)*(($B$34-$B$33)/$B$34)/(1-($D$27)*($B$21/$B$34))-(X99/$D$21)) -> 10.074751 | V99: =(($B$24/$D$21)*($B$40*($B$33/$B$21))-(X99/$D$22)) -> 9.7448425 | W99: =($B$24*($B$33/$B$34))*($B$34-$B$33)+(0.5*$B$35*$B$36*$B$37*P99^2) -> 200.7912 | X99: =(0.5*$B$35*$B$36*$B$37*(P99^2)) -> 104.19745 | Y99: =(X99*P99) -> 2292.2496
D100: =(($B$24+(($B$45*$B$40)-($B$45*E100))*B$32)/E100/$B$32)*((1/$B$32)^2)+(($B$46*$B$40)-($B$46*E100))*B$32/(E100/$B$32)*((1/$B$32)^2)+(($B$15*(($D$16/$E$16)*(1/$B$32)^2)))+(($B$16*($B$19*$B$18*(1/$B$32)^2)))+($B$17*($B$20*$B$19*$B$18*(1/$B$32)^2)) -> 352.92044 | E100: =F100/$B$24 -> 9.7762076 | F100: =G101-(I100+$B$44) -> 2688.4571 | G100: =$B$42/H100 -> 3385.1308 | H100: 47 | I100: =($B$24*($B$33/$B$34))*($B$34-$B$33)+(0.5*$B$35*$B$36*$B$37*H100^2) -> 572.19517 | J100: 22.915724 | K100: 25.719177 | M100: 2 | N100: 6250 | O100: =((N100*60)*($C$6/$B$6)*($D$15/$E$15)*(RADIANS(1.9*PI())/1000)*($D$16/$E$16)) -> 19.242046 | P100: =((N100/60)*1.9)/(($E$6)*($E$15/$D$15)*($E$16/$D$16)) -> 22.915724 | Q100: =P100*3.6 -> 82.496608 | R100: =$B$42/P100 -> 6942.881 | S100: =R100-(X100+$B$44) -> 6775.8646 | T100: =S100/$B$39 -> 24.639508 | U100: =(($D$27)*($B$40)*(($B$34-$B$33)/$B$34)/(1-($D$27)*($B$21/$B$34))-(X100/$D$21)) -> 10.043535 | V100: =(($B$24/$D$21)*($B$40*($B$33/$B$21))-(X100/$D$22)) -> 9.7135677 | W100: =($B$24*($B$33/$B$34))*($B$34-$B$33)+(0.5*$B$35*$B$36*$B$37*P100^2) -> 209.65522 | X100: =(0.5*$B$35*$B$36*$B$37*(P100^2)) -> 113.06147 | Y100: =(X100*P100) -> 2590.8854
D101: =(($B$24+(($B$45*$B$40)-($B$45*E101))*B$32)/E101/$B$32)*((1/$B$32)^2)+(($B$46*$B$40)-($B$46*E101))*B$32/(E101/$B$32)*((1/$B$32)^2)+(($B$15*(($D$16/$E$16)*(1/$B$32)^2)))+(($B$16*($B$19*$B$18*(1/$B$32)^2)))+($B$17*($B$20*$B$19*$B$18*(1/$B$32)^2)) -> 386.98418 | E101: =F101/$B$24 -> 9.4558487 | F101: =G102-(I101+$B$44) -> 2600.3584 | G101: =$B$42/H101 -> 3314.6073 | H101: 48 | I101: =($B$24*($B$33/$B$34))*($B$34-$B$33)+(0.5*$B$35*$B$36*$B$37*H101^2) -> 592.64883 | J101: 23.832353 | K101: 24.384008 | M101: 2 | N101: 6500 | O101: =((N101*60)*($C$6/$B$6)*($D$15/$E$15)*(RADIANS(1.9*PI())/1000)*($D$16/$E$16)) -> 20.011728 | P101: =((N101/60)*1.9)/(($E$6)*($E$15/$D$15)*($E$16/$D$16)) -> 23.832353 | Q101: =P101*3.6 -> 85.796472 | R101: =$B$42/P101 -> 6675.8472 | S101: =R101-(X101+$B$44) -> 6499.6049 | T101: =S101/$B$39 -> 23.634927 | U101: =(($D$27)*($B$40)*(($B$34-$B$33)/$B$34)/(1-($D$27)*($B$21/$B$34))-(X101/$D$21)) -> 10.011044 | V101: =(($B$24/$D$21)*($B$40*($B$33/$B$21))-(X101/$D$22)) -> 9.6810165 | W101: =($B$24*($B$33/$B$34))*($B$34-$B$33)+(0.5*$B$35*$B$36*$B$37*P101^2) -> 218.88103 | X101: =(0.5*$B$35*$B$36*$B$37*(P101^2)) -> 122.28728 | Y101: =(X101*P101) -> 2914.3937
D102: =(($B$24+(($B$45*$B$40)-($B$45*E102))*B$32)/E102/$B$32)*((1/$B$32)^2)+(($B$46*$B$40)-($B$46*E102))*B$32/(E102/$B$32)*((1/$B$32)^2)+(($B$15*(($D$16/$E$16)*(1/$B$32)^2)))+(($B$16*($B$19*$B$18*(1/$B$32)^2)))+($B$17*($B$20*$B$19*$B$18*(1/$B$32)^2)) -> 422.46343 | E102: =F102/$B$24 -> 9.1437632 | F102: =G103-(I102+$B$44) -> 2514.5349 | G102: =$B$42/H102 -> 3246.9622 | H102: 49 | I102: =($B$24*($B$33/$B$34))*($B$34-$B$33)+(0.5*$B$35*$B$36*$B$37*H102^2) -> 613.5331 | J102: 24.748982 | K102: 23.14774 | M102: 2 | N102: 6750 | O102: =((N102*60)*($C$6/$B$6)*($D$15/$E$15)*(RADIANS(1.9*PI())/1000)*($D$16/$E$16)) -> 20.78141 | P102: =((N102/60)*1.9)/(($E$6)*($E$15/$D$15)*($E$16/$D$16)) -> 24.748982 | Q102: =P102*3.6 -> 89.096336 | R102: =$B$42/P102 -> 6428.5936 | S102: =R102-(X102+$B$44) -> 6242.7637 | T102: =S102/$B$39 -> 22.700959 | U102: =(($D$27)*($B$40)*(($B$34-$B$33)/$B$34)/(1-($D$27)*($B$21/$B$34))-(X102/$D$21)) -> 9.9772794 | V102: =(($B$24/$D$21)*($B$40*($B$33/$B$21))-(X102/$D$22)) -> 9.6471887 | W102: =($B$24*($B$33/$B$34))*($B$34-$B$33)+(0.5*$B$35*$B$36*$B$37*P102^2) -> 228.46864 | X102: =(0.5*$B$35*$B$36*$B$37*(P102^2)) -> 131.87489 | Y102: =(X102*P102) -> 3263.7694
D103: =(($B$24+(($B$45*$B$40)-($B$45*E103))*B$32)/E103/$B$32)*((1/$B$32)^2)+(($B$46*$B$40)-($B$46*E103))*B$32/(E103/$B$32)*((1/$B$32)^2)+(($B$15*(($D$16/$E$16)*(1/$B$32)^2)))+(($B$16*($B$19*$B$18*(1/$B$32)^2)))+($B$17*($B$20*$B$19*$B$18*(1/$B$32)^2)) -> 459.48131 | E103: =F103/$B$24 -> 8.8393724 | F103: =G104-(I103+$B$44) -> 2430.8274 | G103: =$B$42/H103 -> 3182.023 | H103: 50 | I103: =($B$24*($B$33/$B$34))*($B$34-$B$33)+(0.5*$B$35*$B$36*$B$37*H103^2) -> 634.84797 | J103: 25.665611 | K103: 21.999777 | M103: 2 | N103: 7000 | O103: =((N103*60)*($C$6/$B$6)*($D$15/$E$15)*(RADIANS(1.9*PI())/1000)*($D$16/$E$16)) -> 21.551091 | P103: =((N103/60)*1.9)/(($E$6)*($E$15/$D$15)*($E$16/$D$16)) -> 25.665611 | Q103: =P103*3.6 -> 92.396201 | R103: =$B$42/P103 -> 6199.0009 | S103: =R103-(X103+$B$44) -> 6003.2216 | T103: =S103/$B$39 -> 21.829897 | U103: =(($D$27)*($B$40)*(($B$34-$B$33)/$B$34)/(1-($D$27)*($B$21/$B$34))-(X103/$D$21)) -> 9.9422405 | V103: =(($B$24/$D$21)*($B$40*($B$33/$B$21))-(X103/$D$22)) -> 9.6120844 | W103: =($B$24*($B$33/$B$34))*($B$34-$B$33)+(0.5*$B$35*$B$36*$B$37*P103^2) -> 238.41805 | X103: =(0.5*$B$35*$B$36*$B$37*(P103^2)) -> 141.8243 | Y103: =(X103*P103) -> 3640.0074
D104: =(($B$24+(($B$45*$B$40)-($B$45*E104))*B$32)/E104/$B$32)*((1/$B$32)^2)+(($B$46*$B$40)-($B$46*E104))*B$32/(E104/$B$32)*((1/$B$32)^2)+(($B$15*(($D$16/$E$16)*(1/$B$32)^2)))+(($B$16*($B$19*$B$18*(1/$B$32)^2)))+($B$17*($B$20*$B$19*$B$18*(1/$B$32)^2)) -> 498.17422 | E104: =F104/$B$24 -> 8.542142 | F104: =G105-(I104+$B$44) -> 2349.089 | G104: =$B$42/H104 -> 3119.6304 | H104: 51 | I104: =($B$24*($B$33/$B$34))*($B$34-$B$33)+(0.5*$B$35*$B$36*$B$37*H104^2) -> 656.59344 | J104: 26.58224 | K104: 20.930984 | M104: 2 | N104: 7250 | O104: =((N104*60)*($C$6/$B$6)*($D$15/$E$15)*(RADIANS(1.9*PI())/1000)*($D$16/$E$16)) -> 22.320773 | P104: =((N104/60)*1.9)/(($E$6)*($E$15/$D$15)*($E$16/$D$16)) -> 26.58224 | Q104: =P104*3.6 -> 95.696065 | R104: =$B$42/P104 -> 5985.2423 | S104: =R104-(X104+$B$44) -> 5779.1518 | T104: =S104/$B$39 -> 21.015097 | U104: =(($D$27)*($B$40)*(($B$34-$B$33)/$B$34)/(1-($D$27)*($B$21/$B$34))-(X104/$D$21)) -> 9.9059274 | V104: =(($B$24/$D$21)*($B$40*($B$33/$B$21))-(X104/$D$22)) -> 9.5757036 | W104: =($B$24*($B$33/$B$34))*($B$34-$B$33)+(0.5*$B$35*$B$36*$B$37*P104^2) -> 248.72926 | X104: =(0.5*$B$35*$B$36*$B$37*(P104^2)) -> 152.13551 | Y104: =(X104*P104) -> 4044.1026
D105: =(($B$24+(($B$45*$B$40)-($B$45*E105))*B$32)/E105/$B$32)*((1/$B$32)^2)+(($B$46*$B$40)-($B$46*E105))*B$32/(E105/$B$32)*((1/$B$32)^2)+(($B$15*(($D$16/$E$16)*(1/$B$32)^2)))+(($B$16*($B$19*$B$18*(1/$B$32)^2)))+($B$17*($B$20*$B$19*$B$18*(1/$B$32)^2)) -> 538.69374 | E105: =F105/$B$24 -> 8.251578 | F105: =G106-(I105+$B$44) -> 2269.184 | G105: =$B$42/H105 -> 3059.6375 | H105: 52 | I105: =($B$24*($B$33/$B$34))*($B$34-$B$33)+(0.5*$B$35*$B$36*$B$37*H105^2) -> 678.76951 | J105: 27.498869 | K105: 19.933443 | M105: 2 | N105: 7500 | O105: =((N105*60)*($C$6/$B$6)*($D$15/$E$15)*(RADIANS(1.9*PI())/1000)*($D$16/$E$16)) -> 23.090455 | P105: =((N105/60)*1.9)/(($E$6)*($E$15/$D$15)*($E$16/$D$16)) -> 27.498869 | Q105: =P105*3.6 -> 98.995929 | R105: =$B$42/P105 -> 5785.7342 | S105: =R105-(X105+$B$44) -> 5568.9707 | T105: =S105/$B$39 -> 20.250803 | U105: =(($D$27)*($B$40)*(($B$34-$B$33)/$B$34)/(1-($D$27)*($B$21/$B$34))-(X105/$D$21)) -> 9.8683402 | V105: =(($B$24/$D$21)*($B$40*($B$33/$B$21))-(X105/$D$22)) -> 9.5380462 | W105: =($B$24*($B$33/$B$34))*($B$34-$B$33)+(0.5*$B$35*$B$36*$B$37*P105^2) -> 259.40226 | X105: =(0.5*$B$35*$B$36*$B$37*(P105^2)) -> 162.80851 | Y105: =(X105*P105) -> 4477.05
D106: =(($B$24+(($B$45*$B$40)-($B$45*E106))*B$32)/E106/$B$32)*((1/$B$32)^2)+(($B$46*$B$40)-($B$46*E106))*B$32/(E106/$B$32)*((1/$B$32)^2)+(($B$15*(($D$16/$E$16)*(1/$B$32)^2)))+(($B$16*($B$19*$B$18*(1/$B$32)^2)))+($B$17*($B$20*$B$19*$B$18*(1/$B$32)^2)) -> 581.20882 | E106: =F106/$B$24 -> 7.9672232 | F106: =G107-(I106+$B$44) -> 2190.9864 | G106: =$B$42/H106 -> 3001.9085 | H106: 53 | I106: =($B$24*($B$33/$B$34))*($B$34-$B$33)+(0.5*$B$35*$B$36*$B$37*H106^2) -> 701.37619 | J106: 28.415498 | K106: 19.00026 | M106: 2 | N106: 7750 | O106: =((N106*60)*($C$6/$B$6)*($D$15/$E$15)*(RADIANS(1.9*PI())/1000)*($D$16/$E$16)) -> 23.860137 | P106: =((N106/60)*1.9)/(($E$6)*($E$15/$D$15)*($E$16/$D$16)) -> 28.415498 | Q106: =P106*3.6 -> 102.29579 | R106: =$B$42/P106 -> 5599.0976 | S106: =R106-(X106+$B$44) -> 5371.2993 | T106: =S106/$B$39 -> 19.531997 | U106: =(($D$27)*($B$40)*(($B$34-$B$33)/$B$34)/(1-($D$27)*($B$21/$B$34))-(X106/$D$21)) -> 9.8294788 | V106: =(($B$24/$D$21)*($B$40*($B$33/$B$21))-(X106/$D$22)) -> 9.4991124 | W106: =($B$24*($B$33/$B$34))*($B$34-$B$33)+(0.5*$B$35*$B$36*$B$37*P106^2) -> 270.43706 | X106: =(0.5*$B$35*$B$36*$B$37*(P106^2)) -> 173.84331 | Y106: =(X106*P106) -> 4939.8443
... D135: =(($B$24+(($B$45*$B$40)-($B$45*E135))*B$32)/E135/$B$32)*((1/$B$32)^2)+(($B$46*$B$40)-($B$46*E135))*B$32/(E135/$B$32)*((1/$B$32)^2)+(($B$15*(($D$16/$E$16)*(1/$B$32)^2)))+(($B$16*($B$19*$B$18*(1/$B$32)^2)))+($B$17*($B$20*$B$19*$B$18*(1/$B$32)^2)) -> 7830.5561 | E135: =F135/$B$24 -> 1.1587055 | F135: =G136-(I135+$B$44) -> 318.64402 | G135: =$B$42/H135 -> 1940.2579 | H135: 82 | I135: =($B$24*($B$33/$B$34))*($B$34-$B$33)+(0.5*$B$35*$B$36*$B$37*H135^2) -> 1544.2823 | J135: 54.997739 | K135: 5.4691077 | M135: 2 | N135: 15000 | O135: =((N135*60)*($C$6/$B$6)*($D$15/$E$15)*(RADIANS(1.9*PI())/1000)*($D$16/$E$16)) -> 46.18091 | P135: =((N135/60)*1.9)/(($E$6)*($E$15/$D$15)*($E$16/$D$16)) -> 54.997739 | Q135: =P135*3.6 -> 197.99186 | R135: =$B$42/P135 -> 2892.8671 | S135: =R135-(X135+$B$44) -> 2187.6781 | T135: =S135/$B$39 -> 7.9551929 | U135: =(($D$27)*($B$40)*(($B$34-$B$33)/$B$34)/(1-($D$27)*($B$21/$B$34))-(X135/$D$21)) -> 8.1482471 | V135: =(($B$24/$D$21)*($B$40*($B$33/$B$21))-(X135/$D$22)) -> 7.8147444 | W135: =($B$24*($B$33/$B$34))*($B$34-$B$33)+(0.5*$B$35*$B$36*$B$37*P135^2) -> 747.82779 | X135: =(0.5*$B$35*$B$36*$B$37*(P135^2)) -> 651.23404 | Y135: =(X135*P135) -> 35816.4
D136: =(($B$24+(($B$45*$B$40)-($B$45*E136))*B$32)/E136/$B$32)*((1/$B$32)^2)+(($B$46*$B$40)-($B$46*E136))*B$32/(E136/$B$32)*((1/$B$32)^2)+(($B$15*(($D$16/$E$16)*(1/$B$32)^2)))+(($B$16*($B$19*$B$18*(1/$B$32)^2)))+($B$17*($B$20*$B$19*$B$18*(1/$B$32)^2)) -> 9731.9957 | E136: =F136/$B$24 -> 0.94654264 | F136: =G137-(I136+$B$44) -> 260.29923 | G136: =$B$42/H136 -> 1916.8813 | H136: 83 | I136: =($B$24*($B$33/$B$34))*($B$34-$B$33)+(0.5*$B$35*$B$36*$B$37*H136^2) -> 1579.8071 | J136: 21.460266 | K136: 28.073545 | M136: 3 | N136: 5000 | O136: =((N136*60)*($B$7/$C$7)*($D$15/$E$15)*(RADIANS(1.9*PI())/1000)*($D$16/$E$16)) -> 4.2360868 | P136: =((N136/60)*1.9)/(($E$7)*($E$15/$D$15)*($E$16/$D$16)) -> 21.460266 | Q136: =P136*3.6 -> 77.256958 | R136: =$B$42/P136 -> 7413.7546 | S136: =R136-(X136+$B$44) -> 7260.644 | T136: =S136/$B$39 -> 26.402342 | U136: =(($D$27)*($B$40)*(($B$34-$B$33)/$B$34)/(1-($D$27)*($B$21/$B$34))-(X136/$D$21)) -> 10.092507 | V136: =(($B$24/$D$21)*($B$40*($B$33/$B$21))-(X136/$D$23)) -> 9.762214 | W136: =($B$24*($B$33/$B$34))*($B$34-$B$33)+(0.5*$B$35*$B$36*$B$37*P136^2) -> 195.74944 | X136: =(0.5*$B$35*$B$36*$B$37*(P136^2)) -> 99.15569 | Y136: =(X136*P136) -> 2127.9075
D137: =(($B$24+(($B$45*$B$40)-($B$45*E137))*B$32)/E137/$B$32)*((1/$B$32)^2)+(($B$46*$B$40)-($B$46*E137))*B$32/(E137/$B$32)*((1/$B$32)^2)+(($B$15*(($D$16/$E$16)*(1/$B$32)^2)))+(($B$16*($B$19*$B$18*(1/$B$32)^2)))+($B$17*($B$20*$B$19*$B$18*(1/$B$32)^2)) -> 12725.046 | E137: =F137/$B$24 -> 0.73476644 | F137: =G138-(I137+$B$44) -> 202.06077 | G137: =$B$42/H137 -> 1894.0613 | H137: 84 | I137: =($B$24*($B$33/$B$34))*($B$34-$B$33)+(0.5*$B$35*$B$36*$B$37*H137^2) -> 1615.7624 | J137: 22.53328 | K137: 26.308366 | M137: 3 | N137: 5250 | O137: =((N137*60)*($B$7/$C$7)*($D$15/$E$15)*(RADIANS(1.9*PI())/1000)*($D$16/$E$16)) -> 4.4478911 | P137: =((N137/60)*1.9)/(($E$7)*($E$15/$D$15)*($E$16/$D$16)) -> 22.53328 | Q137: =P137*3.6 -> 81.119806 | R137: =$B$42/P137 -> 7060.7187 | S137: =R137-(X137+$B$44) -> 6897.4446 | T137: =S137/$B$39 -> 25.081617 | U137: =(($D$27)*($B$40)*(($B$34-$B$33)/$B$34)/(1-($D$27)*($B$21/$B$34))-(X137/$D$21)) -> 10.056714 | V137: =(($B$24/$D$21)*($B$40*($B$33/$B$21))-(X137/$D$23)) -> 9.7263118 | W137: =($B$24*($B$33/$B$34))*($B$34-$B$33)+(0.5*$B$35*$B$36*$B$37*P137^2) -> 205.9129 | X137: =(0.5*$B$35*$B$36*$B$37*(P137^2)) -> 109.31915 | Y137: =(X137*P137) -> 2463.3189
D138: =(($B$24+(($B$45*$B$40)-($B$45*E138))*B$32)/E138/$B$32)*((1/$B$32)^2)+(($B$46*$B$40)-($B$46*E138))*B$32/(E138/$B$32)*((1/$B$32)^2)+(($B$15*(($D$16/$E$16)*(1/$B$32)^2)))+(($B$16*($B$19*$B$18*(1/$B$32)^2)))+($B$17*($B$20*$B$19*$B$18*(1/$B$32)^2)) -> 18130.628 | E138: =F138/$B$24 -> 0.52330881 | F138: =G139-(I138+$B$44) -> 143.90992 | G138: =$B$42/H138 -> 1871.7782 | H138: 85 | I138: =($B$24*($B$33/$B$34))*($B$34-$B$33)+(0.5*$B$35*$B$36*$B$37*H138^2) -> 1652.1484 | J138: 23.606293 | K138: 24.703657 | M138: 3 | N138: 5500 | O138: =((N138*60)*($B$7/$C$7)*($D$15/$E$15)*(RADIANS(1.9*PI())/1000)*($D$16/$E$16)) -> 4.6596954 | P138: =((N138/60)*1.9)/(($E$7)*($E$15/$D$15)*($E$16/$D$16)) -> 23.606293 | Q138: =P138*3.6 -> 84.982654 | R138: =$B$42/P138 -> 6739.777 | S138: =R138-(X138+$B$44) -> 6565.8436 | T138: =S138/$B$39 -> 23.875795 | U138: =(($D$27)*($B$40)*(($B$34-$B$33)/$B$34)/(1-($D$27)*($B$21/$B$34))-(X138/$D$21)) -> 10.019175 | V138: =(($B$24/$D$21)*($B$40*($B$33/$B$21))-(X138/$D$23)) -> 9.6886581 | W138: =($B$24*($B$33/$B$34))*($B$34-$B$33)+(0.5*$B$35*$B$36*$B$37*P138^2) -> 216.57214 | X138: =(0.5*$B$35*$B$36*$B$37*(P138^2)) -> 119.97839 | Y138: =(X138*P138) -> 2832.2449
D139: =(($B$24+(($B$45*$B$40)-($B$45*E139))*B$32)/E139/$B$32)*((1/$B$32)^2)+(($B$46*$B$40)-($B$46*E139))*B$32/(E139/$B$32)*((1/$B$32)^2)+(($B$15*(($D$16/$E$16)*(1/$B$32)^2)))+(($B$16*($B$19*$B$18*(1/$B$32)^2)))+($B$17*($B$20*$B$19*$B$18*(1/$B$32)^2)) -> 30841.347 | E139: =F139/$B$24 -> 0.31210478 | F139: =G140-(I139+$B$44) -> 85.828814 | G139: =$B$42/H139 -> 1850.0134 | H139: 86 | I139: =($B$24*($B$33/$B$34))*($B$34-$B$33)+(0.5*$B$35*$B$36*$B$37*H139^2) -> 1688.965 | J139: 24.679306 | K139: 23.238488 | M139: 3 | N139: 5750 | O139: =((N139*60)*($B$7/$C$7)*($D$15/$E$15)*(RADIANS(1.9*PI())/1000)*($D$16/$E$16)) -> 4.8714998 | P139: =((N139/60)*1.9)/(($E$7)*($E$15/$D$15)*($E$16/$D$16)) -> 24.679306 | Q139: =P139*3.6 -> 88.845502 | R139: =$B$42/P139 -> 6446.7432 | S139: =R139-(X139+$B$44) -> 6261.6548 | T139: =S139/$B$39 -> 22.769654 | U139: =(($D$27)*($B$40)*(($B$34-$B$33)/$B$34)/(1-($D$27)*($B$21/$B$34))-(X139/$D$21)) -> 9.9798907 | V139: =(($B$24/$D$21)*($B$40*($B$33/$B$21))-(X139/$D$23)) -> 9.6492532 | W139: =($B$24*($B$33/$B$34))*($B$34-$B$33)+(0.5*$B$35*$B$36*$B$37*P139^2) -> 227.72715 | X139: =(0.5*$B$35*$B$36*$B$37*(P139^2)) -> 131.1334 | Y139: =(X139*P139) -> 3236.2813
D140: =(($B$24+(($B$45*$B$40)-($B$45*E140))*B$32)/E140/$B$32)*((1/$B$32)^2)+(($B$46*$B$40)-($B$46*E140))*B$32/(E140/$B$32)*((1/$B$32)^2)+(($B$15*(($D$16/$E$16)*(1/$B$32)^2)))+(($B$16*($B$19*$B$18*(1/$B$32)^2)))+($B$17*($B$20*$B$19*$B$18*(1/$B$32)^2)) -> 96579.271 | E140: =F140/$B$24 -> 0.10109231 | F140: =G141-(I140+$B$44) -> 27.800385 | G140: =$B$42/H140 -> 1828.7488 | H140: 87 | I140: =($B$24*($B$33/$B$34))*($B$34-$B$33)+(0.5*$B$35*$B$36*$B$37*H140^2) -> 1726.2122 | J140: 25.752319 | K140: 21.895417 | M140: 3 | N140: 6000 | O140: =((N140*60)*($B$7/$C$7)*($D$15/$E$15)*(RADIANS(1.9*PI())/1000)*($D$16/$E$16)) -> 5.0833041 | P140: =((N140/60)*1.9)/(($E$7)*($E$15/$D$15)*($E$16/$D$16)) -> 25.752319 | Q140: =P140*3.6 -> 92.70835 | R140: =$B$42/P140 -> 6178.1289 | S140: =R140-(X140+$B$44) -> 5981.3897 | T140: =S140/$B$39 -> 21.750508 | U140: =(($D$27)*($B$40)*(($B$34-$B$33)/$B$34)/(1-($D$27)*($B$21/$B$34))-(X140/$D$21)) -> 9.93886 | V140: =(($B$24/$D$21)*($B$40*($B$33/$B$21))-(X140/$D$23)) -> 9.6080969 | W140: =($B$24*($B$33/$B$34))*($B$34-$B$33)+(0.5*$B$35*$B$36*$B$37*P140^2) -> 239.37794 | X140: =(0.5*$B$35*$B$36*$B$37*(P140^2)) -> 142.78419 | Y140: =(X140*P140) -> 3677.0242
D141: =(($B$24+(($B$45*$B$40)-($B$45*E141))*B$32)/E141/$B$32)*((1/$B$32)^2)+(($B$46*$B$40)-($B$46*E141))*B$32/(E141/$B$32)*((1/$B$32)^2)+(($B$15*(($D$16/$E$16)*(1/$B$32)^2)))+(($B$16*($B$19*$B$18*(1/$B$32)^2)))+($B$17*($B$20*$B$19*$B$18*(1/$B$32)^2)) -> -90183.266 | E141: =F141/$B$24 -> -0.10978783 | F141: =G142-(I141+$B$44) -> -30.191653 | G141: =$B$42/H141 -> 1807.9676 | H141: 88 | I141: =($B$24*($B$33/$B$34))*($B$34-$B$33)+(0.5*$B$35*$B$36*$B$37*H141^2) -> 1763.89 | J141: 26.825333 | K141: 20.659791 | M141: 3 | N141: 6250 | O141: =((N141*60)*($B$7/$C$7)*($D$15/$E$15)*(RADIANS(1.9*PI())/1000)*($D$16/$E$16)) -> 5.2951085 | P141: =((N141/60)*1.9)/(($E$7)*($E$15/$D$15)*($E$16/$D$16)) -> 26.825333 | Q141: =P141*3.6 -> 96.571198 | R141: =$B$42/P141 -> 5931.0037 | S141: =R141-(X141+$B$44) -> 5722.118 | T141: =S141/$B$39 -> 20.807702 | U141: =(($D$27)*($B$40)*(($B$34-$B$33)/$B$34)/(1-($D$27)*($B$21/$B$34))-(X141/$D$21)) -> 9.8960833 | V141: =(($B$24/$D$21)*($B$40*($B$33/$B$21))-(X141/$D$23)) -> 9.5651893 | W141: =($B$24*($B$33/$B$34))*($B$34-$B$33)+(0.5*$B$35*$B$36*$B$37*P141^2) -> 251.52452 | X141: =(0.5*$B$35*$B$36*$B$37*(P141^2)) -> 154.93077 | Y141: =(X141*P141) -> 4156.0694
D142: =(($B$24+(($B$45*$B$40)-($B$45*E142))*B$32)/E142/$B$32)*((1/$B$32)^2)+(($B$46*$B$40)-($B$46*E142))*B$32/(E142/$B$32)*((1/$B$32)^2)+(($B$15*(($D$16/$E$16)*(1/$B$32)^2)))+(($B$16*($B$19*$B$18*(1/$B$32)^2)))+($B$17*($B$20*$B$19*$B$18*(1/$B$32)^2)) -> -31312.607 | E142: =F142/$B$24 -> -0.32059224 | F142: =G143-(I142+$B$44) -> -88.162866 | G142: =$B$42/H142 -> 1787.6534 | H142: 89 | I142: =($B$24*($B$33/$B$34))*($B$34-$B$33)+(0.5*$B$35*$B$36*$B$37*H142^2) -> 1801.9984 | J142: 27.898346 | K142: 19.519213 | M142: 3 | N142: 6500 | O142: =((N142*60)*($B$7/$C$7)*($D$15/$E$15)*(RADIANS(1.9*PI())/1000)*($D$16/$E$16)) -> 5.5069128 | P142: =((N142/60)*1.9)/(($E$7)*($E$15/$D$15)*($E$16/$D$16)) -> 27.898346 | Q142: =P142*3.6 -> 100.43405 | R142: =$B$42/P142 -> 5702.8882 | S142: =R142-(X142+$B$44) -> 5481.3601 | T142: =S142/$B$39 -> 19.932218 | U142: =(($D$27)*($B$40)*(($B$34-$B$33)/$B$34)/(1-($D$27)*($B$21/$B$34))-(X142/$D$21)) -> 9.8515606 | V142: =(($B$24/$D$21)*($B$40*($B$33/$B$21))-(X142/$D$23)) -> 9.5205304 | W142: =($B$24*($B$33/$B$34))*($B$34-$B$33)+(0.5*$B$35*$B$36*$B$37*P142^2) -> 264.16687 | X142: =(0.5*$B$35*$B$36*$B$37*(P142^2)) -> 167.57312 | Y142: =(X142*P142) -> 4675.0128
D143: =(($B$24+(($B$45*$B$40)-($B$45*E143))*B$32)/E143/$B$32)*((1/$B$32)^2)+(($B$46*$B$40)-($B$46*E143))*B$32/(E143/$B$32)*((1/$B$32)^2)+(($B$15*(($D$16/$E$16)*(1/$B$32)^2)))+(($B$16*($B$19*$B$18*(1/$B$32)^2)))+($B$17*($B$20*$B$19*$B$18*(1/$B$32)^2)) -> -19150.539 | E143: =F143/$B$24 -> -0.53137505 | F143: =G144-(I143+$B$44) -> -146.12814 | G143: =$B$42/H143 -> 1767.7905 | H143: 90 | I143: =($B$24*($B$33/$B$34))*($B$34-$B$33)+(0.5*$B$35*$B$36*$B$37*H143^2) -> 1840.5374 | J143: 28.971359 | K143: 18.463123 | M143: 3 | N143: 6750 | O143: =((N143*60)*($B$7/$C$7)*($D$15/$E$15)*(RADIANS(1.9*PI())/1000)*($D$16/$E$16)) -> 5.7187171 | P143: =((N143/60)*1.9)/(($E$7)*($E$15/$D$15)*($E$16/$D$16)) -> 28.971359 | Q143: =P143*3.6 -> 104.29689 | R143: =$B$42/P143 -> 5491.6701 | S143: =R143-(X143+$B$44) -> 5257.0039 | T143: =S143/$B$39 -> 19.116378 | U143: =(($D$27)*($B$40)*(($B$34-$B$33)/$B$34)/(1-($D$27)*($B$21/$B$34))-(X143/$D$21)) -> 9.8052919 | V143: =(($B$24/$D$21)*($B$40*($B$33/$B$21))-(X143/$D$23)) -> 9.4741201 | W143: =($B$24*($B$33/$B$34))*($B$34-$B$33)+(0.5*$B$35*$B$36*$B$37*P143^2) -> 277.305 | X143: =(0.5*$B$35*$B$36*$B$37*(P143^2)) -> 180.71125 | Y143: =(X143*P143) -> 5235.4504
D144: =(($B$24+(($B$45*$B$40)-($B$45*E144))*B$32)/E144/$B$32)*((1/$B$32)^2)+(($B$46*$B$40)-($B$46*E144))*B$32/(E144/$B$32)*((1/$B$32)^2)+(($B$15*(($D$16/$E$16)*(1/$B$32)^2)))+(($B$16*($B$19*$B$18*(1/$B$32)^2)))+($B$17*($B$20*$B$19*$B$18*(1/$B$32)^2)) -> -2050.5716 | E144: =F144/$B$24 -> -7.030771 | F144: =G145-(I144+$B$44) -> -1933.462 | G144: =$B$42/H144 -> 1748.3643 | H144: 91 | I144: =($B$24*($B$33/$B$34))*($B$34-$B$33)+(0.5*$B$35*$B$36*$B$37*H144^2) -> 1879.507 | J144: 30.044373 | K144: 17.482467 | M144: 3 | N144: 7000 | O144: =((N144*60)*($B$7/$C$7)*($D$15/$E$15)*(RADIANS(1.9*PI())/1000)*($D$16/$E$16)) -> 5.9305215 | P144: =((N144/60)*1.9)/(($E$7)*($E$15/$D$15)*($E$16/$D$16)) -> 30.044373 | Q144: =P144*3.6 -> 108.15974 | R144: =$B$42/P144 -> 5295.539 | S144: =R144-(X144+$B$44) -> 5047.2389 | T144: =S144/$B$39 -> 18.353596 | U144: =(($D$27)*($B$40)*(($B$34-$B$33)/$B$34)/(1-($D$27)*($B$21/$B$34))-(X144/$D$21)) -> 9.7572773 | V144: =(($B$24/$D$21)*($B$40*($B$33/$B$21))-(X144/$D$23)) -> 9.4259585 | W144: =($B$24*($B$33/$B$34))*($B$34-$B$33)+(0.5*$B$35*$B$36*$B$37*P144^2) -> 290.9389 | X144: =(0.5*$B$35*$B$36*$B$37*(P144^2)) -> 194.34515 | Y144: =(X144*P144) -> 5838.9782
J145: 31.117386 | K145: 16.569443 | M145: 3 | N145: 7250 | O145: =((N145*60)*($B$7/$C$7)*($D$15/$E$15)*(RADIANS(1.9*PI())/1000)*($D$16/$E$16)) -> 6.1423258 | P145: =((N145/60)*1.9)/(($E$7)*($E$15/$D$15)*($E$16/$D$16)) -> 31.117386 | Q145: =P145*3.6 -> 112.02259 | R145: =$B$42/P145 -> 5112.9342 | S145: =R145-(X145+$B$44) -> 4850.5044 | T145: =S145/$B$39 -> 17.638198 | U145: =(($D$27)*($B$40)*(($B$34-$B$33)/$B$34)/(1-($D$27)*($B$21/$B$34))-(X145/$D$21)) -> 9.7075166 | V145: =(($B$24/$D$21)*($B$40*($B$33/$B$21))-(X145/$D$23)) -> 9.3760456 | W145: =($B$24*($B$33/$B$34))*($B$34-$B$33)+(0.5*$B$35*$B$36*$B$37*P145^2) -> 305.06859 | X145: =(0.5*$B$35*$B$36*$B$37*(P145^2)) -> 208.47484 | Y145: =(X145*P145) -> 6487.192
J146: 32.190399 | K146: 15.717288 | M146: 3 | N146: 7500 | O146: =((N146*60)*($B$7/$C$7)*($D$15/$E$15)*(RADIANS(1.9*PI())/1000)*($D$16/$E$16)) -> 6.3541301 | P146: =((N146/60)*1.9)/(($E$7)*($E$15/$D$15)*($E$16/$D$16)) -> 32.190399 | Q146: =P146*3.6 -> 115.88544 | R146: =$B$42/P146 -> 4942.5031 | S146: =R146-(X146+$B$44) -> 4665.4478 | T146: =S146/$B$39 -> 16.965265 | U146: =(($D$27)*($B$40)*(($B$34-$B$33)/$B$34)/(1-($D$27)*($B$21/$B$34))-(X146/$D$21)) -> 9.65601 | V146: =(($B$24/$D$21)*($B$40*($B$33/$B$21))-(X146/$D$23)) -> 9.3243813 | W146: =($B$24*($B$33/$B$34))*($B$34-$B$33)+(0.5*$B$35*$B$36*$B$37*P146^2) -> 319.69405 | X146: =(0.5*$B$35*$B$36*$B$37*(P146^2)) -> 223.1003 | Y146: =(X146*P146) -> 7181.6879
J147: 33.263413 | K147: 14.92011 | M147: 3 | N147: 7750 | O147: =((N147*60)*($B$7/$C$7)*($D$15/$E$15)*(RADIANS(1.9*PI())/1000)*($D$16/$E$16)) -> 6.5659345 | P147: =((N147/60)*1.9)/(($E$7)*($E$15/$D$15)*($E$16/$D$16)) -> 33.263413 | Q147: =P147*3.6 -> 119.74829 | R147: =$B$42/P147 -> 4783.0675 | S147: =R147-(X147+$B$44) -> 4490.891 | T147: =S147/$B$39 -> 16.330513 | U147: =(($D$27)*($B$40)*(($B$34-$B$33)/$B$34)/(1-($D$27)*($B$21/$B$34))-(X147/$D$21)) -> 9.6027573 | V147: =(($B$24/$D$21)*($B$40*($B$33/$B$21))-(X147/$D$23)) -> 9.2709657 | W147: =($B$24*($B$33/$B$34))*($B$34-$B$33)+(0.5*$B$35*$B$36*$B$37*P147^2) -> 334.8153 | X147: =(0.5*$B$35*$B$36*$B$37*(P147^2)) -> 238.22155 | Y147: =(X147*P147) -> 7924.0616
J148: 34.336426 | K148: 14.172755 | M148: 3 | N148: 8000 | O148: =((N148*60)*($B$7/$C$7)*($D$15/$E$15)*(RADIANS(1.9*PI())/1000)*($D$16/$E$16)) -> 6.7777388 | P148: =((N148/60)*1.9)/(($E$7)*($E$15/$D$15)*($E$16/$D$16)) -> 34.336426 | Q148: =P148*3.6 -> 123.61113 | R148: =$B$42/P148 -> 4633.5967 | S148: =R148-(X148+$B$44) -> 4325.8031 | T148: =S148/$B$39 -> 15.730193 | U148: =(($D$27)*($B$40)*(($B$34-$B$33)/$B$34)/(1-($D$27)*($B$21/$B$34))-(X148/$D$21)) -> 9.5477587 | V148: =(($B$24/$D$21)*($B$40*($B$33/$B$21))-(X148/$D$23)) -> 9.2157988 | W148: =($B$24*($B$33/$B$34))*($B$34-$B$33)+(0.5*$B$35*$B$36*$B$37*P148^2) -> 350.43232 | X148: =(0.5*$B$35*$B$36*$B$37*(P148^2)) -> 253.83857 | Y148: =(X148*P148) -> 8715.9092
J149: 35.409439 | K149: 13.470695 | M149: 3 | N149: 8250 | O149: =((N149*60)*($B$7/$C$7)*($D$15/$E$15)*(RADIANS(1.9*PI())/1000)*($D$16/$E$16)) -> 6.9895432 | P149: =((N149/60)*1.9)/(($E$7)*($E$15/$D$15)*($E$16/$D$16)) -> 35.409439 | Q149: =P149*3.6 -> 127.47398 | R149: =$B$42/P149 -> 4493.1846 | S149: =R149-(X149+$B$44) -> 4169.2783 | T149: =S149/$B$39 -> 15.161012 | U149: =(($D$27)*($B$40)*(($B$34-$B$33)/$B$34)/(1-($D$27)*($B$21/$B$34))-(X149/$D$21)) -> 9.4910141 | V149: =(($B$24/$D$21)*($B$40*($B$33/$B$21))-(X149/$D$23)) -> 9.1588806 | W149: =($B$24*($B$33/$B$34))*($B$34-$B$33)+(0.5*$B$35*$B$36*$B$37*P149^2) -> 366.54512 | X149: =(0.5*$B$35*$B$36*$B$37*(P149^2)) -> 269.95137 | Y149: =(X149*P149) -> 9558.8265
J150: 36.482453 | K150: 12.809933 | M150: 3 | N150: 8500 | O150: =((N150*60)*($B$7/$C$7)*($D$15/$E$15)*(RADIANS(1.9*PI())/1000)*($D$16/$E$16)) -> 7.2013475 | P150: =((N150/60)*1.9)/(($E$7)*($E$15/$D$15)*($E$16/$D$16)) -> 36.482453 | Q150: =P150*3.6 -> 131.33683 | R150: =$B$42/P150 -> 4361.0321 | S150: =R150-(X150+$B$44) -> 4020.5172 | T150: =S150/$B$39 -> 14.620063 | U150: =(($D$27)*($B$40)*(($B$34-$B$33)/$B$34)/(1-($D$27)*($B$21/$B$34))-(X150/$D$21)) -> 9.4325235 | V150: =(($B$24/$D$21)*($B$40*($B$33/$B$21))-(X150/$D$23)) -> 9.100211 | W150: =($B$24*($B$33/$B$34))*($B$34-$B$33)+(0.5*$B$35*$B$36*$B$37*P150^2) -> 383.15369 | X150: =(0.5*$B$35*$B$36*$B$37*(P150^2)) -> 286.55994 | Y150: =(X150*P150) -> 10454.41
...

Sheet lap sim
C5: length (m) | E5: length (m) | F5: angle (radians) | G5: radius (m) | H5: lean angle | I5: velocity | J5: time | R5: length (m) | S5: time | T5: v | U5: a
B6: straight 1 | C6: 562.244 | D6: corner 1 | E6: =F6*G6 -> 155.06851 | F6: =RADIANS(142.78) -> 2.4919811 | G6: 62.227 | H6: 48 | I6: =SQRT(TAN(H6)*G6*9.81) -> 27.066842 | J6: =E6/I6 -> 5.729095 | Q6: straight 1 | R6: 1 | S6: =1/T6 -> 0.02392917 | T6: 41.79 | U6: =LOOKUP(T6,'bike sim'!J53:J299,'bike sim'!K53:K299) -> 10.514653
B7: straight 2 | C7: 560.155 | D7: corner 2 | E7: =F7*G7 -> 215.19235 | F7: =RADIANS(138.35) -> 2.414663 | G7: 89.119 | H7: 48 | I7: =SQRT(TAN(H7)*G7*9.81) -> 32.391667 | J7: =E7/I7 -> 6.6434479 | Q7: straight 1 | R7: 2 | S7: =1/T7 -> 0.02378596 | T7: =T6+(U6*S6) -> 42.041607 | U7: =LOOKUP(T7,'bike sim'!J54:J300,'bike sim'!K54:K300) -> 10.40836
B8: straight 3 | C8: 539.446 | D8: corner 3 | E8: =F8*G8 -> 65.194331 | F8: =RADIANS(90) -> 1.5707963 | G8: 41.504 | H8: 51 | I8: =SQRT(TAN(H8)*G8*9.81) -> 19.175384 | J8: =E8/I8 -> 3.399897 | Q8: straight 1 | R8: 3 | S8: =1/T8 -> 0.023646711 | T8: =T7+(U7*S7) -> 42.28918 | U8: =LOOKUP(T8,'bike sim'!J55:J301,'bike sim'!K55:K301) -> 9.8376666
B9: straight 4 | C9: 208.401 | D9: corner 4 | E9: =F9*G9 -> 105.74072 | F9: =RADIANS(37.77) -> 0.65921086 | G9: 160.405 | H9: 54 | I9: =SQRT(TAN(H9)*G9*9.81) -> 32.561844 | J9: =E9/I9 -> 3.2473811 | Q9: straight 1 | R9: 4 | S9: =1/T9 -> 0.023517344 | T9: =T8+(U8*S8) -> 42.521808 | U9: =LOOKUP(T9,'bike sim'!J56:J302,'bike sim'!K56:K302) -> 9.8376666
B10: straight 5 | C10: 287.66 | D10: corner 5 | E10: =F10*G10 -> 65.703185 | F10: =RADIANS(86.82) -> 1.5152949 | G10: 43.36 | H10: 45 | I10: =SQRT(TAN(H10)*G10*9.81) -> 26.248622 | J10: =E10/I10 -> 2.5031099 | Q10: straight 1 | R10: 5 | S10: =1/T10 -> 0.023390082 | T10: =T9+(U9*S9) -> 42.753164 | U10: =LOOKUP(T10,'bike sim'!J57:J303,'bike sim'!K57:K303) -> 9.8376666
B11: straight 6 | C11: 55.64 | D11: corner 6 | E11: =F11*G11 -> 132.12948 | F11: =RADIANS(111.56) -> 1.9470893 | G11: 67.86 | H11: 51 | I11: =SQRT(TAN(H11)*G11*9.81) -> 24.519185 | J11: =E11/I11 -> 5.3888204 | Q11: straight 1 | R11: 6 | S11: =1/T11 -> 0.023264867 | T11: =T10+(U10*S10) -> 42.983268 | U11: =LOOKUP(T11,'bike sim'!J58:J304,'bike sim'!K58:K304) -> 9.8376666
B12: straight 7 | C12: 215.242 | D12: corner 7 | E12: =F12*G12 -> 65.740862 | F12: =RADIANS(130.81) -> 2.2830652 | G12: 28.795 | H12: 51 | I12: =SQRT(TAN(H12)*G12*9.81) -> 15.971939 | J12: =E12/I12 -> 4.1160227 | Q12: straight 1 | R12: 7 | S12: =1/T12 -> 0.023141645 | T12: =T11+(U11*S11) -> 43.21214 | U12: =LOOKUP(T12,'bike sim'!J59:J305,'bike sim'!K59:K305) -> 9.8376666
B13: straight 8 | C13: 384.346 | D13: corner 8 | E13: =F13*G13 -> 109.95574 | F13: =RADIANS(180) -> 3.1415927 | G13: 35 | H13: 54 | I13: =SQRT(TAN(H13)*G13*9.81) -> 15.21017 | J13: =E13/I13 -> 7.2290937 | Q13: straight 1 | R13: 8 | S13: =1/T13 -> 0.023020364 | T13: =T12+(U12*S12) -> 43.4398 | U13: =LOOKUP(T13,'bike sim'!J60:J306,'bike sim'!K60:K306) -> 9.8376666
B14: straight 9 | C14: 800 | D14: corner 9 | E14: =F14*G14 -> 46.053302 | F14: =RADIANS(110.91) -> 1.9357447 | G14: 23.791 | H14: 54.3 | I14: =SQRT(TAN(H14)*G14*9.81) -> 17.025634 | J14: =E14/I14 -> 2.7049391 | Q14: straight 1 | R14: 9 | S14: =1/T14 -> 0.022900973 | T14: =T13+(U13*S13) -> 43.666266 | U14: =LOOKUP(T14,'bike sim'!J61:J307,'bike sim'!K61:K307) -> 9.2995839
B15: straight 10 | C15: 182.098 | D15: corner 10 | E15: =F15*G15 -> 136.24121 | F15: =RADIANS(49.74) -> 0.86812677 | G15: 156.937 | H15: 51 | I15: =SQRT(TAN(H15)*G15*9.81) -> 37.287371 | J15: =E15/I15 -> 3.6538165 | Q15: straight 1 | R15: 10 | S15: =1/T15 -> 0.022789823 | T15: =T14+(U14*S14) -> 43.879236 | U15: =LOOKUP(T15,'bike sim'!J62:J308,'bike sim'!K62:K308) -> 9.2995839
B16: straight 11 | C16: 51.539 | D16: corner 11 | E16: =F16*G16 -> 38.786555 | F16: =RADIANS(80.53) -> 1.4055136 | G16: 27.596 | H16: 51 | I16: =SQRT(TAN(H16)*G16*9.81) -> 15.635874 | J16: =E16/I16 -> 2.4806131 | Q16: straight 1 | R16: 11 | S16: =1/T16 -> 0.022680277 | T16: =T15+(U15*S15) -> 44.091172 | U16: =LOOKUP(T16,'bike sim'!J63:J309,'bike sim'!K63:K309) -> 9.2995839
B17: straight 12 | C17: 87.137 | Q17: straight 1 | R17: 12 | S17: =1/T17 -> 0.022572299 | T17: =T16+(U16*S16) -> 44.302089 | U17: =LOOKUP(T17,'bike sim'!J64:J310,'bike sim'!K64:K310) -> 9.5141858
Q18: straight 1 | R18: 13 | S18: =1/T18 -> 0.022463406 | T18: =T17+(U17*S17) -> 44.516846 | U18: =LOOKUP(T18,'bike sim'!J65:J311,'bike sim'!K65:K311) -> 8.9357666
Q19: straight 1 | R19: 14 | S19: =1/T19 -> 0.022362573 | T19: =T18+(U18*S18) -> 44.717574 | U19: =LOOKUP(T19,'bike sim'!J66:J312,'bike sim'!K66:K312) -> 8.9357666
Q20: straight 1 | R20: 15 | S20: =1/T20 -> 0.022263087 | T20: =T19+(U19*S19) -> 44.9174 | U20: =LOOKUP(T20,'bike sim'!J67:J313,'bike sim'!K67:K313) -> 8.9357666
Q21: straight 1 | R21: 16 | S21: =1/T21 -> 0.022164919 | T21: =T20+(U20*S20) -> 45.116338 | U21: =LOOKUP(T21,'bike sim'!J68:J314,'bike sim'!K68:K314) -> 8.9357666
Q22: straight 1 | R22: 17 | S22: =1/T22 -> 0.022068041 | T22: =T21+(U21*S21) -> 45.314399 | U22: =LOOKUP(T22,'bike sim'!J69:J315,'bike sim'!K69:K315) -> 8.9357666
Q23: straight 1 | R23: 18 | S23: =1/T23 -> 0.021972423 | T23: =T22+(U22*S22) -> 45.511594 | U23: =LOOKUP(T23,'bike sim'!J70:J316,'bike sim'!K70:K316) -> 8.9357666
Q24: straight 1 | R24: 19 | S24: =1/T24 -> 0.02187804 | T24: =T23+(U23*S23) -> 45.707934 | U24: =LOOKUP(T24,'bike sim'!J71:J317,'bike sim'!K71:K317) -> 8.7162034
Q25: straight 1 | R25: 20 | S25: =1/T25 -> 0.021787144 | T25: =T24+(U24*S24) -> 45.898627 | U25: =LOOKUP(T25,'bike sim'!J72:J318,'bike sim'!K72:K318) -> 8.3619748
Q26: straight 1 | R26: 21 | S26: =1/T26 -> 0.021701007 | T26: =T25+(U25*S25) -> 46.080811 | U26: =LOOKUP(T26,'bike sim'!J73:J319,'bike sim'!K73:K319) -> 8.3619748
Q27: straight 1 | R27: 22 | S27: =1/T27 -> 0.021615885 | T27: =T26+(U26*S26) -> 46.262274 | U27: =LOOKUP(T27,'bike sim'!J74:J320,'bike sim'!K74:K320) -> 8.3619748
Q28: straight 1 | R28: 23 | S28: =1/T28 -> 0.021531758 | T28: =T27+(U27*S27) -> 46.443026 | U28: =LOOKUP(T28,'bike sim'!J75:J321,'bike sim'!K75:K321) -> 8.2460621
Q29: straight 1 | R29: 24 | S29: =1/T29 -> 0.021449756 | T29: =T28+(U28*S28) -> 46.620578 | U29: =LOOKUP(T29,'bike sim'!J76:J322,'bike sim'!K76:K322) -> 8.2460621
... Q35: straight 1 | R35: 30 | S35: =1/T35 -> 0.020983957 | T35: =T34+(U34*S34) -> 47.655454 | U35: =LOOKUP(T35,'bike sim'!J82:J328,'bike sim'!K82:K328) -> 7.8542146
Q36: straight 1 | R36: 31 | S36: =1/T36 -> 0.020911636 | T36: =T35+(U35*S35) -> 47.820266 | U36: =LOOKUP(T36,'bike sim'!J4:J249,'bike sim'!K4:K249) -> 7.8810022
Q37: straight 1 | R37: 32 | S37: =1/T37 -> 0.020839815 | T37: =T36+(U36*S36) -> 47.985071 | U37: =LOOKUP(T37,'bike sim'!J5:J250,'bike sim'!K5:K250) -> 7.8810022
Q38: straight 1 | R38: 33 | S38: =1/T38 -> 0.02076873 | T38: =T37+(U37*S37) -> 48.14931 | U38: =LOOKUP(T38,'bike sim'!J6:J251,'bike sim'!K6:K251) -> 7.6943901
Q39: straight 1 | R39: 34 | S39: =1/T39 -> 0.020700028 | T39: =T38+(U38*S38) -> 48.309112 | U39: =LOOKUP(T39,'bike sim'!J7:J252,'bike sim'!K7:K252) -> 7.6943901
Q40: straight 1 | R40: 35 | S40: =1/T40 -> 0.020632005 | T40: =T39+(U39*S39) -> 48.468386 | U40: =LOOKUP(T40,'bike sim'!J8:J253,'bike sim'!K8:K253) -> 7.6943901
Q41: straight 1 | R41: 36 | S41: =1/T41 -> 0.020564649 | T41: =T40+(U40*S40) -> 48.627137 | U41: =LOOKUP(T41,'bike sim'!J9:J254,'bike sim'!K9:K254) -> 7.3794916
Q42: straight 1 | R42: 37 | S42: =1/T42 -> 0.02050067 | T42: =T41+(U41*S41) -> 48.778894 | U42: =LOOKUP(T42,'bike sim'!J10:J255,'bike sim'!K10:K255) -> 7.3794916
Q43: straight 1 | R43: 38 | S43: =1/T43 -> 0.020437285 | T43: =T42+(U42*S42) -> 48.930178 | U43: =LOOKUP(T43,'bike sim'!J11:J256,'bike sim'!K11:K256) -> 7.3794916
Q44: straight 1 | R44: 39 | S44: =1/T44 -> 0.020374485 | T44: =T43+(U43*S43) -> 49.080995 | U44: =LOOKUP(T44,'bike sim'!J12:J257,'bike sim'!K12:K257) -> 7.3794916
Q45: straight 1 | R45: 40 | S45: =1/T45 -> 0.020312261 | T45: =T44+(U44*S44) -> 49.231348 | U45: =LOOKUP(T45,'bike sim'!J13:J258,'bike sim'!K13:K258) -> 7.3794916
Q46: straight 1 | R46: 41 | S46: =1/T46 -> 0.020250604 | T46: =T45+(U45*S45) -> 49.381243 | U46: =LOOKUP(T46,'bike sim'!J14:J259,'bike sim'!K14:K259) -> 7.1216301
Q47: straight 1 | R47: 42 | S47: =1/T47 -> 0.020191635 | T47: =T46+(U46*S46) -> 49.52546 | U47: =LOOKUP(T47,'bike sim'!J15:J260,'bike sim'!K15:K260) -> 7.1216301
... Q86: straight 1 | R86: 81 | S86: =1/T86 -> 0.018383113 | T86: =T85+(U85*S85) -> 54.397751 | U86: =LOOKUP(T86,'bike sim'!J54:J299,'bike sim'!K54:K299) -> 5.8322815
Q87: straight 1 | R87: 82 | S87: =1/T87 -> 0.018346952 | T87: =T86+(U86*S86) -> 54.504966 | U87: =LOOKUP(T87,'bike sim'!J1:J246,'bike sim'!K1:K246) -> 5.895898
Q88: straight 1 | R88: 83 | S88: =1/T88 -> 0.018310612 | T88: =T87+(U87*S87) -> 54.613138 | U88: =LOOKUP(T88,'bike sim'!J2:J247,'bike sim'!K2:K247) -> 5.895898
Q89: straight 1 | R89: 84 | S89: =1/T89 -> 0.018274488 | T89: =T88+(U88*S88) -> 54.721095 | U89: =LOOKUP(T89,'bike sim'!J3:J248,'bike sim'!K3:K248) -> 5.717383
Q90: straight 1 | R90: 85 | S90: =1/T90 -> 0.018239662 | T90: =T89+(U89*S89) -> 54.825578 | U90: =LOOKUP(T90,'bike sim'!J4:J249,'bike sim'!K4:K249) -> 5.717383
Q91: straight 1 | R91: 86 | S91: =1/T91 -> 0.018205034 | T91: =T90+(U90*S90) -> 54.929861 | U91: =LOOKUP(T91,'bike sim'!J5:J250,'bike sim'!K5:K250) -> 5.717383
Q92: straight 1 | R92: 87 | S92: =1/T92 -> 0.018170603 | T92: =T91+(U91*S91) -> 55.033946 | U92: =LOOKUP(T92,'bike sim'!J6:J251,'bike sim'!K6:K251) -> 5.717383
Q93: straight 1 | R93: 88 | S93: =1/T93 -> 0.018136367 | T93: =T92+(U92*S92) -> 55.137834 | U93: =LOOKUP(T93,'bike sim'!J7:J252,'bike sim'!K7:K252) -> 5.717383
Q94: straight 1 | R94: 89 | S94: =1/T94 -> 0.018102324 | T94: =T93+(U93*S93) -> 55.241527 | U94: =LOOKUP(T94,'bike sim'!J8:J253,'bike sim'!K8:K253) -> 5.717383
Q95: straight 1 | R95: 90 | S95: =1/T95 -> 0.018068471 | T95: =T94+(U94*S94) -> 55.345025 | U95: =LOOKUP(T95,'bike sim'!J9:J254,'bike sim'!K9:K254) -> 5.717383
Q96: straight 1 | R96: 91 | S96: =1/T96 -> 0.018034809 | T96: =T95+(U95*S95) -> 55.448329 | U96: =LOOKUP(T96,'bike sim'!J10:J255,'bike sim'!K10:K255) -> 5.717383
Q97: straight 1 | R97: 92 | S97: =1/T97 -> 0.018001333 | T97: =T96+(U96*S96) -> 55.551441 | U97: =LOOKUP(T97,'bike sim'!J11:J256,'bike sim'!K11:K256) -> 5.3495677
Q98: straight 1 | R98: 93 | S98: =1/T98 -> 0.017970182 | T98: =T97+(U97*S97) -> 55.64774 | U98: =LOOKUP(T98,'bike sim'!J12:J257,'bike sim'!K12:K257) -> 5.3495677
... Q140: straight 1 | R140: 135 | S140: =1/T140 -> 0.016863867 | T140: =T139+(U139*S139) -> 59.29838 | U140: =LOOKUP(T140,'bike sim'!J54:J299,'bike sim'!K54:K299) -> 4.4843261
Q141: straight 1 | R141: 136 | S141: =1/T141 -> 0.016842388 | T141: =T140+(U140*S140) -> 59.374003 | U141: =LOOKUP(T141,'bike sim'!J1:J246,'bike sim'!K1:K246) -> 4.6285681
Q142: straight 1 | R142: 137 | S142: =1/T142 -> 0.016820304 | T142: =T141+(U141*S141) -> 59.451959 | U142: =LOOKUP(T142,'bike sim'!J2:J247,'bike sim'!K2:K247) -> 4.6285681
Q143: straight 1 | R143: 138 | S143: =1/T143 -> 0.016798306 | T143: =T142+(U142*S142) -> 59.529813 | U143: =LOOKUP(T143,'bike sim'!J3:J248,'bike sim'!K3:K248) -> 4.6664822
Q144: straight 1 | R144: 139 | S144: =1/T144 -> 0.016776215 | T144: =T143+(U143*S143) -> 59.608202 | U144: =LOOKUP(T144,'bike sim'!J4:J249,'bike sim'!K4:K249) -> 4.6664822
Q145: straight 1 | R145: 140 | S145: =1/T145 -> 0.016754211 | T145: =T144+(U144*S144) -> 59.686488 | U145: =LOOKUP(T145,'bike sim'!J5:J250,'bike sim'!K5:K250) -> 4.348768
Q146: straight 1 | R146: 141 | S146: =1/T146 -> 0.016733784 | T146: =T145+(U145*S145) -> 59.759348 | U146: =LOOKUP(T146,'bike sim'!J6:J251,'bike sim'!K6:K251) -> 4.348768
Q147: straight 1 | R147: 142 | S147: =1/T147 -> 0.016713431 | T147: =T146+(U146*S146) -> 59.832119 | U147: =LOOKUP(T147,'bike sim'!J7:J252,'bike sim'!K7:K252) -> 4.348768
Q148: straight 1 | R148: 143 | S148: =1/T148 -> 0.016693153 | T148: =T147+(U147*S147) -> 59.904802 | U148: =LOOKUP(T148,'bike sim'!J8:J253,'bike sim'!K8:K253) -> 4.348768
Q149: straight 1 | R149: 144 | S149: =1/T149 -> 0.016672948 | T149: =T148+(U148*S148) -> 59.977397 | U149: =LOOKUP(T149,'bike sim'!J9:J254,'bike sim'!K9:K254) -> 4.348768
Q150: straight 1 | R150: 145 | S150: =1/T150 -> 0.016652816 | T150: =T149+(U149*S149) -> 60.049903 | U150: =LOOKUP(T150,'bike sim'!J10:J255,'bike sim'!K10:K255) -> 4.348768
Q151: straight 1 | R151: 146 | S151: =1/T151 -> 0.016632757 | T151: =T150+(U150*S150) -> 60.122323 | U151: =LOOKUP(T151,'bike sim'!J11:J256,'bike sim'!K11:K256) -> 4.348768
Q152: straight 1 | R152: 147 | S152: =1/T152 -> 0.016612771 | T152: =T151+(U151*S151) -> 60.194655 | U152: =LOOKUP(T152,'bike sim'!J12:J257,'bike sim'!K12:K257) -> 4.348768
... Q194: straight 1 | R194: 189 | S194: =1/T194 -> 0.015877999 | T194: =T193+(U193*S193) -> 62.980227 | U194: =LOOKUP(T194,'bike sim'!J54:J299,'bike sim'!K54:K299) -> 3.7871078
Q195: straight 1 | R195: 190 | S195: =1/T195 -> 0.015862854 | T195: =T194+(U194*S194) -> 63.040359 | U195: =LOOKUP(T195,'bike sim'!J1:J246,'bike sim'!K1:K246) -> 3.8111404
Q196: straight 1 | R196: 191 | S196: =1/T196 -> 0.015847656 | T196: =T195+(U195*S195) -> 63.100814 | U196: =LOOKUP(T196,'bike sim'!J2:J247,'bike sim'!K2:K247) -> 3.8111404
Q197: straight 1 | R197: 192 | S197: =1/T197 -> 0.015832502 | T197: =T196+(U196*S196) -> 63.161212 | U197: =LOOKUP(T197,'bike sim'!J3:J248,'bike sim'!K3:K248) -> 3.7557015
Q198: straight 1 | R198: 193 | S198: =1/T198 -> 0.015817611 | T198: =T197+(U197*S197) -> 63.220674 | U198: =LOOKUP(T198,'bike sim'!J4:J249,'bike sim'!K4:K249) -> 3.7557015
Q199: straight 1 | R199: 194 | S199: =1/T199 -> 0.015802761 | T199: =T198+(U198*S198) -> 63.28008 | U199: =LOOKUP(T199,'bike sim'!J5:J250,'bike sim'!K5:K250) -> 3.7557015
Q200: straight 1 | R200: 195 | S200: =1/T200 -> 0.015787954 | T200: =T199+(U199*S199) -> 63.339431 | U200: =LOOKUP(T200,'bike sim'!J6:J251,'bike sim'!K6:K251) -> 3.7557015
Q201: straight 1 | R201: 196 | S201: =1/T201 -> 0.015773188 | T201: =T200+(U200*S200) -> 63.398726 | U201: =LOOKUP(T201,'bike sim'!J7:J252,'bike sim'!K7:K252) -> 3.7557015
Q202: straight 1 | R202: 197 | S202: =1/T202 -> 0.015758463 | T202: =T201+(U201*S201) -> 63.457965 | U202: =LOOKUP(T202,'bike sim'!J8:J253,'bike sim'!K8:K253) -> 3.7557015
Q203: straight 1 | R203: 198 | S203: =1/T203 -> 0.01574378 | T203: =T202+(U202*S202) -> 63.517149 | U203: =LOOKUP(T203,'bike sim'!J9:J254,'bike sim'!K9:K254) -> 3.7557015
Q204: straight 1 | R204: 199 | S204: =1/T204 -> 0.015729137 | T204: =T203+(U203*S203) -> 63.576278 | U204: =LOOKUP(T204,'bike sim'!J10:J255,'bike sim'!K10:K255) -> 3.7557015
Q205: straight 1 | R205: 200 | S205: =1/T205 -> 0.015714536 | T205: =T204+(U204*S204) -> 63.635352 | U205: =LOOKUP(T205,'bike sim'!J11:J256,'bike sim'!K11:K256) -> 3.7557015
Q206: straight 1 | R206: 201 | S206: =1/T206 -> 0.015699974 | T206: =T205+(U205*S205) -> 63.694371 | U206: =LOOKUP(T206,'bike sim'!J12:J257,'bike sim'!K12:K257) -> 3.7557015
... Q248: straight 1 | R248: 243 | S248: =1/T248 -> 0.0151754 | T248: =T247+(U247*S247) -> 65.896122 | U248: =LOOKUP(T248,'bike sim'!J54:J299,'bike sim'!K54:K299) -> 3.1426761
Q249: straight 1 | R249: 244 | S249: =1/T249 -> 0.015164425 | T249: =T248+(U248*S248) -> 65.943814 | U249: =LOOKUP(T249,'bike sim'!J1:J246,'bike sim'!K1:K246) -> 3.0862516
Q250: straight 1 | R250: 245 | S250: =1/T250 -> 0.01515367 | T250: =T249+(U249*S249) -> 65.990615 | U250: =LOOKUP(T250,'bike sim'!J2:J247,'bike sim'!K2:K247) -> 3.0862516
Q251: straight 1 | R251: 246 | S251: =1/T251 -> 0.015142938 | T251: =T250+(U250*S250) -> 66.037383 | U251: =LOOKUP(T251,'bike sim'!J3:J248,'bike sim'!K3:K248) -> 3.2131088
Q252: straight 1 | R252: 247 | S252: =1/T252 -> 0.015131789 | T252: =T251+(U251*S251) -> 66.086039 | U252: =LOOKUP(T252,'bike sim'!J4:J249,'bike sim'!K4:K249) -> 3.2131088
Q253: straight 1 | R253: 248 | S253: =1/T253 -> 0.015120665 | T253: =T252+(U252*S252) -> 66.134659 | U253: =LOOKUP(T253,'bike sim'!J5:J250,'bike sim'!K5:K250) -> 3.2131088
Q254: straight 1 | R254: 249 | S254: =1/T254 -> 0.015109565 | T254: =T253+(U253*S253) -> 66.183243 | U254: =LOOKUP(T254,'bike sim'!J6:J251,'bike sim'!K6:K251) -> 3.2131088
Q255: straight 1 | R255: 250 | S255: =1/T255 -> 0.015098489 | T255: =T254+(U254*S254) -> 66.231792 | U255: =LOOKUP(T255,'bike sim'!J7:J252,'bike sim'!K7:K252) -> 3.2131088
Q256: straight 1 | R256: 251 | S256: =1/T256 -> 0.015087438 | T256: =T255+(U255*S255) -> 66.280305 | U256: =LOOKUP(T256,'bike sim'!J8:J253,'bike sim'!K8:K253) -> 3.2131088
Q257: straight 1 | R257: 252 | S257: =1/T257 -> 0.015076411 | T257: =T256+(U256*S256) -> 66.328783 | U257: =LOOKUP(T257,'bike sim'!J9:J254,'bike sim'!K9:K254) -> 3.2131088
Q258: straight 1 | R258: 253 | S258: =1/T258 -> 0.015065408 | T258: =T257+(U257*S257) -> 66.377225 | U258: =LOOKUP(T258,'bike sim'!J10:J255,'bike sim'!K10:K255) -> 3.2131088
Q259: straight 1 | R259: 254 | S259: =1/T259 -> 0.01505443 | T259: =T258+(U258*S258) -> 66.425632 | U259: =LOOKUP(T259,'bike sim'!J11:J256,'bike sim'!K11:K256) -> 3.2131088
Q260: straight 1 | R260: 255 | S260: =1/T260 -> 0.015043475 | T260: =T259+(U259*S259) -> 66.474003 | U260: =LOOKUP(T260,'bike sim'!J12:J257,'bike sim'!K12:K257) -> 3.2131088
... Q302: straight 1 | R302: 297 | S302: =1/T302 -> 0.014640244 | T302: =T301+(U301*S301) -> 68.304871 | U302: =LOOKUP(T302,'bike sim'!J54:J299,'bike sim'!K54:K299) -> 2.8729449
Q303: straight 1 | R303: 298 | S303: =1/T303 -> 0.014631235 | T303: =T302+(U302*S302) -> 68.346932 | U303: =LOOKUP('lap sim'!T303,'bike sim'!J1:J246,'bike sim'!K1:K246) -> 2.6469251
Q304: straight 1 | R304: 299 | S304: =1/T304 -> 0.014622949 | T304: =T303+(U303*S303) -> 68.38566 | U304: =LOOKUP('lap sim'!T304,'bike sim'!J1:J246,'bike sim'!K1:K246) -> 2.6469251
Q305: straight 1 | R305: 300 | S305: =1/T305 -> 0.014614677 | T305: =T304+(U304*S304) -> 68.424366 | U305: =LOOKUP('lap sim'!T305,'bike sim'!J1:J246,'bike sim'!K1:K246) -> 2.6469251
Q306: straight 1 | R306: 301 | S306: =1/T306 -> 0.014606419 | T306: =T305+(U305*S305) -> 68.46305 | U306: =LOOKUP('lap sim'!T306,'bike sim'!J2:J247,'bike sim'!K2:K247) -> 2.6469251
Q307: straight 1 | R307: 302 | S307: =1/T307 -> 0.014598175 | T307: =T306+(U306*S306) -> 68.501712 | U307: =LOOKUP('lap sim'!T307,'bike sim'!J3:J248,'bike sim'!K3:K248) -> 2.7148093
Q308: straight 1 | R308: 303 | S308: =1/T308 -> 0.014589735 | T308: =T307+(U307*S307) -> 68.541343 | U308: =LOOKUP('lap sim'!T308,'bike sim'!J4:J249,'bike sim'!K4:K249) -> 2.7148093
Q309: straight 1 | R309: 304 | S309: =1/T309 -> 0.014581308 | T309: =T308+(U308*S308) -> 68.580951 | U309: =LOOKUP('lap sim'!T309,'bike sim'!J5:J250,'bike sim'!K5:K250) -> 2.7148093
Q310: straight 1 | R310: 305 | S310: =1/T310 -> 0.014572897 | T310: =T309+(U309*S309) -> 68.620537 | U310: =LOOKUP('lap sim'!T310,'bike sim'!J6:J251,'bike sim'!K6:K251) -> 2.7148093
Q311: straight 1 | R311: 306 | S311: =1/T311 -> 0.0145645 | T311: =T310+(U310*S310) -> 68.660099 | U311: =LOOKUP('lap sim'!T311,'bike sim'!J7:J252,'bike sim'!K7:K252) -> 2.7148093
...
