Workbook

Sheet bike sim
A4: gear | B4: Driver | C4: Driven | D4: gear ratio | E4: rear divided by front | F4: Gear | G4: RPM | H4: Velocity | I4: formula m/s | J4: formula mph | K4: driving force | L4: net driving force | M4: a | N4: rpm | O4: hp | P4: hp (watts) | Q4: torque
A5: 1 | B5: 15 | C5: 38 | D5: =38/15 -> 2.5333333 | E5: =D5 -> 2.5333333 | F5: 1 | G5: 15000 | H5: =((G5*60)*(B5/C5)*($D$15/$E$15)*(RADIANS(1.9*PI())/1000)*($D$16/$E$16)) -> 8.8384517 | I5: =((G5/60)*1.9)/((E5)*(E15/D15)*(E16/D16)) -> 44.776119 | J5: =I5*2.23694 -> 100.16149 | K5: =$B$42/I5 -> 3553.259 | L5: =K5-($B$41+$B$44) -> 1739.4984 | M5: =L5/$B$39 -> 6.3254488 | N5: 5000 | O5: 70 | P5: =O5*745.7 -> 52199 | Q5: =(O5/N5)*5252 -> 73.528
A6: 2 | B6: 16 | C6: 33 | D6: =33/16 -> 2.0625 | E6: =D6 -> 2.0625 | F6: 2 | G6: 15000 | H6: =((G6*60)*(B6/C6)*($D$15/$E$15)*(RADIANS(1.9*PI())/1000)*($D$16/$E$16)) -> 10.856118 | I6: =((G6/60)*1.9)/((E6)*(E15/D15)*(E16/D16)) -> 54.997739 | J6: =I6*2.23694 -> 123.02664 | K6: =$B$42/I6 -> 2892.8671 | L6: =K6-($B$41+$B$44) -> 1079.1065 | M6: =L6/$B$39 -> 3.9240238 | N6: 5250 | O6: 76 | P6: =O6*745.7 -> 56673.2 | Q6: =(O6/N6)*5252 -> 76.028952
A7: 3 | B7: 21 | C7: 37 | D7: =37/21 -> 1.7619048 | E7: =D7 -> 1.7619048 | F7: 3 | G7: 15000 | H7: =((G7*60)*($B$7/$C$7)*($D$15/$E$15)*(RADIANS(1.9*PI())/1000)*($D$16/$E$16)) -> 12.70826 | I7: =((G7/60)*1.9)/(($E$7)*($E$15/$D$15)*($E$16/$D$16)) -> 64.380799 | J7: =I7*2.23694 -> 144.01598 | K7: =$B$42/I7 -> 2471.2515 | L7: =K7-($B$41+$B$44) -> 657.49098 | M7: =L7/$B$39 -> 2.3908763 | N7: 5500 | O7: 80 | P7: =O7*745.7 -> 59656 | Q7: =(O7/N7)*5252 -> 76.392727
A8: 4 | B8: 23 | C8: 35 | D8: =35/23 -> 1.5217391 | E8: =D8 -> 1.5217391 | F8: 4 | G8: 15000 | H8: =((G8*60)*($B$8/$C$8)*($D$15/$E$15)*(RADIANS(1.9*PI())/1000)*($D$16/$E$16)) -> 14.713918 | I8: =((G8/60)*1.9)/(($E$8)*($E$15/$D$15)*($E$16/$D$16)) -> 74.541578 | J8: =I8*2.23694 -> 166.74504 | K8: =$B$42/I8 -> 2134.3947 | L8: =K8-($B$41+$B$44) -> 320.63413 | M8: =L8/$B$39 -> 1.1659423 | N8: 5750 | O8: 83 | P8: =O8*745.7 -> 61893.1 | Q8: =(O8/N8)*5252 -> 75.811478
A9: 5 | B9: 22 | C9: 30 | D9: =30/22 -> 1.3636364 | E9: =D9 -> 1.3636364 | F9: 5 | G9: 15000 | H9: =((G9*60)*($B$9/$C$9)*($D$15/$E$15)*(RADIANS(1.9*PI())/1000)*($D$16/$E$16)) -> 16.419879 | I9: =((G9/60)*1.9)/(($E$9)*($E$15/$D$15)*($E$16/$D$16)) -> 83.18408 | J9: =I9*2.23694 -> 186.0778 | K9: =$B$42/I9 -> 1912.6394 | L9: =K9-($B$41+$B$44) -> 98.87884 | M9: =L9/$B$39 -> 0.35955942 | N9: 6000 | O9: 87 | P9: =O9*745.7 -> 64875.9 | Q9: =(O9/N9)*5252 -> 76.154
A10: 6 | B10: 26 | C10: 33 | D10: =33/26 -> 1.2692308 | E10: =D10 -> 1.2692308 | F10: 6 | G10: 15000 | H10: =((G10*60)*($B$10/$C$10)*($D$15/$E$15)*(RADIANS(1.9*PI())/1000)*($D$16/$E$16)) -> 17.641192 | I10: =((G10/60)*1.9)/(($E$10)*($E$15/$D$15)*($E$16/$D$16)) -> 89.371325 | J10: =I10*2.23694 -> 199.91829 | K10: =$B$42/I10 -> 1780.2259 | L10: =K10-($B$41+$B$44) -> -33.534657 | M10: =L10/$B$39 -> -0.12194421 | N10: 6250 | O10: 93 | P10: =O10*745.7 -> 69350.1 | Q10: =(O10/N10)*5252 -> 78.14976
B11: =D5*D10*D6*D7*D8*D9 -> 24.246446 | C11: =C5+C6+C7+C8+C9+C10 -> 206 | N11: 6500 | O11: 96 | P11: =O11*745.7 -> 71587.2 | Q11: =(O11/N11)*5252 -> 77.568
N12: 6750 | O12: 100 | P12: =O12*745.7 -> 74570 | Q12: =(O12/N12)*5252 -> 77.807407
A13: interia front | C13: chain size | D13: front sproket | E13: rear sproket | F13: chain | G13: primary drive ratio | N13: 7000 | O13: 105 | P13: =O13*745.7 -> 78298.5 | Q13: =(O13/N13)*5252 -> 78.78
A14: inertia rear | C14: =5/8 -> 0.625 | D14: 15 | E14: 42 | F14: 118 | G14: 1.634 | N14: 7250 | O14: 110 | P14: =O14*745.7 -> 82027 | Q14: =(O14/N14)*5252 -> 79.685517
A15: inertia s | B15: 0.007 | C15: primary | D15: 41 | E15: 67 | N15: 7500 | O15: 115 | P15: =O15*745.7 -> 85755.5 | Q15: =(O15/N15)*5252 -> 80.530667
A16: inertia p | B16: 0.005 | C16: final | D16: 16 | E16: 41 | N16: 7750 | O16: 125 | P16: =O16*745.7 -> 93212.5 | Q16: =(O16/N16)*5252 -> 84.709677
A17: inertia m | B17: 0.05 | C17: diam | N17: 8000 | O17: 133 | P17: =O17*745.7 -> 99178.1 | Q17: =(O17/N17)*5252 -> 87.3145
A18: tsr | B18: =41/16 -> 2.5625 | C18: RPM | D18: 13000 | E18: 13000 | N18: 8250 | O18: 140 | P18: =O18*745.7 -> 104398 | Q18: =(O18/N18)*5252 -> 89.124848
A19: tps | B19: =41/39 -> 1.0512821 | C19: if | D19: 0.5 | N19: 8500 | O19: 145 | P19: =O19*745.7 -> 108126.5 | Q19: =(O19/N19)*5252 -> 89.592941
A20: tmp | B20: =67/41 -> 1.6341463 | C20: ir | D20: 0.6 | N20: 8750 | O20: 147 | P20: =O20*745.7 -> 109617.9 | Q20: =(O20/N20)*5252 -> 88.2336
A21: cog | B21: 0.66 | C21: M*1 | D21: =(($B$24+($D$19)*((1/$B$32)^2)+($D$20)*((1/$B$32)^2)+(($B$15*((B18)*(1/$B$32)^2)))+(($B$16*(B20*B18*(1/$B$32)^2)))+($B$17*(B18*D5*B20*(1/$B$32)^2)))) -> 283.95297 | N21: 9000 | O21: 147 | P21: =O21*745.7 -> 109617.9 | Q21: =(O21/N21)*5252 -> 85.782667
A22: power (kw) | B22: 132.4 | C22: M*2 | D22: =(($B$24+($D$19)*((1/$B$32)^2)+($D$20)*((1/$B$32)^2)+(($B$15*((B18)*(1/$B$32)^2)))+(($B$16*(B20*B18*(1/$B$32)^2)))+($B$17*(B18*D6*B20*(1/$B$32)^2)))) -> 283.42425 | N22: 9250 | O22: 153 | P22: =O22*745.7 -> 114092.1 | Q22: =(O22/N22)*5252 -> 86.870919
A23: torque(nm) | B23: 112.7 | C23: M*3 | D23: =(($B$24+($D$19)*((1/$B$32)^2)+($D$20)*((1/$B$32)^2)+(($B$15*((B18)*(1/$B$32)^2)))+(($B$16*(B20*B18*(1/$B$32)^2)))+($B$17*(B18*D7*B20*(1/$B$32)^2)))) -> 283.08669 | N23: 9500 | O23: 156 | P23: =O23*745.7 -> 116329.2 | Q23: =(O23/N23)*5252 -> 86.243368
A24: weight (kg) | B24: 275 | C24: M*4 | D24: =(($B$24+($D$19)*((1/$B$32)^2)+($D$20)*((1/$B$32)^2)+(($B$15*((B18)*(1/$B$32)^2)))+(($B$16*(B20*B18*(1/$B$32)^2)))+($B$17*(B18*D8*B20*(1/$B$32)^2)))) -> 282.817 | N24: 9750 | O24: 162 | P24: =O24*745.7 -> 120803.4 | Q24: =(O24/N24)*5252 -> 87.264
A25: catergory | B25: superbike | C25: M*5 | D25: =(($B$24+($D$19)*((1/$B$32)^2)+($D$20)*((1/$B$32)^2)+(($B$15*((B18)*(1/$B$32)^2)))+(($B$16*(B20*B18*(1/$B$32)^2)))+($B$17*(B18*D9*B20*(1/$B$32)^2)))) -> 282.63946 | N25: 10000 | O25: 169 | P25: =O25*745.7 -> 126023.3 | Q25: =(O25/N25)*5252 -> 88.7588
A26: max rpm | B26: 15000 | C26: M*6 | D26: =(($B$24+($D$19)*((1/$B$32)^2)+($D$20)*((1/$B$32)^2)+(($B$15*((B18)*(1/$B$32)^2)))+(($B$16*(B20*B18*(1/$B$32)^2)))+($B$17*(B18*D11*B20*(1/$B$32)^2)))) -> 281.10817 | N26: 10250 | O26: 170 | P26: =O26*745.7 -> 126769 | Q26: =(O26/N26)*5252 -> 87.106341
A27: tyre circumference | B27: 1.9 | D27: =B33/B21 -> 1.0643939 | N27: 10500 | O27: 175 | P27: =O27*745.7 -> 130497.5 | Q27: =(O27/N27)*5252 -> 87.533333
A28: real top speed m/s | B28: =(B26/60*B27)/(E10*B29*B30) -> 90.408368 | N28: 10750 | O28: 180 | P28: =O28*745.7 -> 134226 | Q28: =(O28/N28)*5252 -> 87.940465
A29: primary reduction gear | B29: 1.634 | N29: 11000 | O29: 185 | P29: =O29*745.7 -> 137954.5 | Q29: =(O29/N29)*5252 -> 88.329091
A30: secondary reduction gear | B30: =38/15 -> 2.5333333 | N30: 11250 | O30: 187 | P30: =O30*745.7 -> 139445.9 | Q30: =(O30/N30)*5252 -> 87.299911
A31: therotical top speed mph | B31: 200 | N31: 11500 | O31: 190 | P31: =O31*745.7 -> 141683 | Q31: =(O31/N31)*5252 -> 86.772174
A32: wheel radius | B32: 0.4318 | N32: 11750 | O32: 190 | P32: =O32*745.7 -> 141683 | Q32: =(O32/N32)*5252 -> 84.925957
A33: b | B33: =B34/2 -> 0.7025 | N33: 12000 | O33: 190 | P33: =O33*745.7 -> 141683 | Q33: =(O33/N33)*5252 -> 83.156667
A34: wheelbase | B34: 1.405 | N34: 12250 | O34: 195 | P34: =O34*745.7 -> 145411.5 | Q34: =(O34/N34)*5252 -> 83.603265
A35: density of air (kg/m^3) | B35: 1.167 | N35: 12500 | O35: 195 | P35: =O35*745.7 -> 145411.5 | Q35: =(O35/N35)*5252 -> 81.9312
A36: drag coefficent (CD) | B36: 0.7 | N36: 12750 | O36: 200 | P36: =O36*745.7 -> 149140 | Q36: =(O36/N36)*5252 -> 82.384314
A37: frontal area (m^2) | B37: 0.52711883 | N37: 13000 | O37: 200 | P37: =O37*745.7 -> 149140 | Q37: =(O37/N37)*5252 -> 80.8
A38: velocity (m/s) | B38: =B28 -> 90.408368 | N38: 13250 | O38: 200 | P38: =O38*745.7 -> 149140 | Q38: =(O38/N38)*5252 -> 79.275472
A39: total mass (kg) | B39: =B24 -> 275 | N39: 13500 | O39: 195 | P39: =O39*745.7 -> 145411.5 | Q39: =(O39/N39)*5252 -> 75.862222
A40: gravity (m/s^2) | B40: 9.81 | N40: 13750 | O40: 190 | P40: =O40*745.7 -> 141683 | Q40: =(O40/N40)*5252 -> 72.573091
A41: areo drag force(n) | B41: =(0.5*B35*B36*B37*B38^2) -> 1759.8056 | N41: 14000 | O41: 185 | P41: =O41*745.7 -> 137954.5 | Q41: =(O41/N41)*5252 -> 69.401429
A42: power (w) | B42: =(B41*B38) -> 159101.15 | N42: 14250
A43: power (kw) | B43: =B42*10^-3 -> 159.10115 | N43: 14500
...

Sheet lap sim
C5: length (m) | E5: length (m) | F5: angle (radians) | G5: radius (m) | H5: lean angle | I5: velocity | J5: time | R5: length (m) | S5: time | T5: v | U5: a
B6: straight 1 | C6: 562.244 | D6: corner 1 | E6: =F6*G6 -> 155.06851 | F6: =RADIANS(142.78) -> 2.4919811 | G6: 62.227 | H6: 48 | I6: =SQRT(TAN(H6)*G6*9.81) -> 27.066842 | J6: =E6/I6 -> 5.729095 | Q6: straight 1 | R6: 1 | S6: =1/T6 -> 0.02392917 | T6: 41.79 | U6: =LOOKUP(T6,'bike sim'!J53:J299,'bike sim'!K53:K299) -> 10.514653
B7: straight 2 | C7: 560.155 | D7: corner 2 | E7: =F7*G7 -> 215.19235 | F7: =RADIANS(138.35) -> 2.414663 | G7: 89.119 | H7: 48 | I7: =SQRT(TAN(H7)*G7*9.81) -> 32.391667 | J7: =E7/I7 -> 6.6434479 | Q7: straight 1 | R7: 2 | S7: =1/T7 -> 0.02378596 | T7: =T6+(U6*S6) -> 42.041607 | U7: =LOOKUP(T7,'bike sim'!J54:J300,'bike sim'!K54:K300) -> 10.40836
B8: straight 3 | C8: 539.446 | D8: corner 3 | E8: =F8*G8 -> 65.194331 | F8: =RADIANS(90) -> 1.5707963 | G8: 41.504 | H8: 51 | I8: =SQRT(TAN(H8)*G8*9.81) -> 19.175384 | J8: =E8/I8 -> 3.399897 | Q8: straight 1 | R8: 3 | S8: =1/T8 -> 0.023646711 | T8: =T7+(U7*S7) -> 42.28918 | U8: =LOOKUP(T8,'bike sim'!J55:J301,'bike sim'!K55:K301) -> 9.8376666
B9: straight 4 | C9: 208.401 | D9: corner 4 | E9: =F9*G9 -> 105.74072 | F9: =RADIANS(37.77) -> 0.65921086 | G9: 160.405 | H9: 54 | I9: =SQRT(TAN(H9)*G9*9.81) -> 32.561844 | J9: =E9/I9 -> 3.2473811 | Q9: straight 1 | R9: 4 | S9: =1/T9 -> 0.023517344 | T9: =T8+(U8*S8) -> 42.521808 | U9: =LOOKUP(T9,'bike sim'!J56:J302,'bike sim'!K56:K302) -> 9.8376666
B10: straight 5 | C10: 287.66 | D10: corner 5 | E10: =F10*G10 -> 65.703185 | F10: =RADIANS(86.82) -> 1.5152949 | G10: 43.36 | H10: 45 | I10: =SQRT(TAN(H10)*G10*9.81) -> 26.248622 | J10: =E10/I10 -> 2.5031099 | Q10: straight 1 | R10: 5 | S10: =1/T10 -> 0.023390082 | T10: =T9+(U9*S9) -> 42.753164 | U10: =LOOKUP(T10,'bike sim'!J57:J303,'bike sim'!K57:K303) -> 9.8376666
B11: straight 6 | C11: 55.64 | D11: corner 6 | E11: =F11*G11 -> 132.12948 | F11: =RADIANS(111.56) -> 1.9470893 | G11: 67.86 | H11: 51 | I11: =SQRT(TAN(H11)*G11*9.81) -> 24.519185 | J11: =E11/I11 -> 5.3888204 | Q11: straight 1 | R11: 6 | S11: =1/T11 -> 0.023264867 | T11: =T10+(U10*S10) -> 42.983268 | U11: =LOOKUP(T11,'bike sim'!J58:J304,'bike sim'!K58:K304) -> 9.8376666
B12: straight 7 | C12: 215.242 | D12: corner 7 | E12: =F12*G12 -> 65.740862 | F12: =RADIANS(130.81) -> 2.2830652 | G12: 28.795 | H12: 51 | I12: =SQRT(TAN(H12)*G12*9.81) -> 15.971939 | J12: =E12/I12 -> 4.1160227 | Q12: straight 1 | R12: 7 | S12: =1/T12 -> 0.023141645 | T12: =T11+(U11*S11) -> 43.21214 | U12: =LOOKUP(T12,'bike sim'!J59:J305,'bike sim'!K59:K305) -> 9.8376666
B13: straight 8 | C13: 384.346 | D13: corner 8 | E13: =F13*G13 -> 109.95574 | F13: =RADIANS(180) -> 3.1415927 | G13: 35 | H13: 54 | I13: =SQRT(TAN(H13)*G13*9.81) -> 15.21017 | J13: =E13/I13 -> 7.2290937 | Q13: straight 1 | R13: 8 | S13: =1/T13 -> 0.023020364 | T13: =T12+(U12*S12) -> 43.4398 | U13: =LOOKUP(T13,'bike sim'!J60:J306,'bike sim'!K60:K306) -> 9.8376666
B14: straight 9 | C14: 800 | D14: corner 9 | E14: =F14*G14 -> 46.053302 | F14: =RADIANS(110.91) -> 1.9357447 | G14: 23.791 | H14: 54.3 | I14: =SQRT(TAN(H14)*G14*9.81) -> 17.025634 | J14: =E14/I14 -> 2.7049391 | Q14: straight 1 | R14: 9 | S14: =1/T14 -> 0.022900973 | T14: =T13+(U13*S13) -> 43.666266 | U14: =LOOKUP(T14,'bike sim'!J61:J307,'bike sim'!K61:K307) -> 9.2995839
B15: straight 10 | C15: 182.098 | D15: corner 10 | E15: =F15*G15 -> 136.24121 | F15: =RADIANS(49.74) -> 0.86812677 | G15: 156.937 | H15: 51 | I15: =SQRT(TAN(H15)*G15*9.81) -> 37.287371 | J15: =E15/I15 -> 3.6538165 | Q15: straight 1 | R15: 10 | S15: =1/T15 -> 0.022789823 | T15: =T14+(U14*S14) -> 43.879236 | U15: =LOOKUP(T15,'bike sim'!J62:J308,'bike sim'!K62:K308) -> 9.2995839
B16: straight 11 | C16: 51.539 | D16: corner 11 | E16: =F16*G16 -> 38.786555 | F16: =RADIANS(80.53) -> 1.4055136 | G16: 27.596 | H16: 51 | I16: =SQRT(TAN(H16)*G16*9.81) -> 15.635874 | J16: =E16/I16 -> 2.4806131 | Q16: straight 1 | R16: 11 | S16: =1/T16 -> 0.022680277 | T16: =T15+(U15*S15) -> 44.091172 | U16: =LOOKUP(T16,'bike sim'!J63:J309,'bike sim'!K63:K309) -> 9.2995839
B17: straight 12 | C17: 87.137 | Q17: straight 1 | R17: 12 | S17: =1/T17 -> 0.022572299 | T17: =T16+(U16*S16) -> 44.302089 | U17: =LOOKUP(T17,'bike sim'!J64:J310,'bike sim'!K64:K310) -> 9.5141858
Q18: straight 1 | R18: 13 | S18: =1/T18 -> 0.022463406 | T18: =T17+(U17*S17) -> 44.516846 | U18: =LOOKUP(T18,'bike sim'!J65:J311,'bike sim'!K65:K311) -> 8.9357666
Q19: straight 1 | R19: 14 | S19: =1/T19 -> 0.022362573 | T19: =T18+(U18*S18) -> 44.717574 | U19: =LOOKUP(T19,'bike sim'!J66:J312,'bike sim'!K66:K312) -> 8.9357666
Q20: straight 1 | R20: 15 | S20: =1/T20 -> 0.022263087 | T20: =T19+(U19*S19) -> 44.9174 | U20: =LOOKUP(T20,'bike sim'!J67:J313,'bike sim'!K67:K313) -> 8.9357666
Q21: straight 1 | R21: 16 | S21: =1/T21 -> 0.022164919 | T21: =T20+(U20*S20) -> 45.116338 | U21: =LOOKUP(T21,'bike sim'!J68:J314,'bike sim'!K68:K314) -> 8.9357666
Q22: straight 1 | R22: 17 | S22: =1/T22 -> 0.022068041 | T22: =T21+(U21*S21) -> 45.314399 | U22: =LOOKUP(T22,'bike sim'!J69:J315,'bike sim'!K69:K315) -> 8.9357666
Q23: straight 1 | R23: 18 | S23: =1/T23 -> 0.021972423 | T23: =T22+(U22*S22) -> 45.511594 | U23: =LOOKUP(T23,'bike sim'!J70:J316,'bike sim'!K70:K316) -> 8.9357666
Q24: straight 1 | R24: 19 | S24: =1/T24 -> 0.02187804 | T24: =T23+(U23*S23) -> 45.707934 | U24: =LOOKUP(T24,'bike sim'!J71:J317,'bike sim'!K71:K317) -> 8.7162034
Q25: straight 1 | R25: 20 | S25: =1/T25 -> 0.021787144 | T25: =T24+(U24*S24) -> 45.898627 | U25: =LOOKUP(T25,'bike sim'!J72:J318,'bike sim'!K72:K318) -> 8.3619748
Q26: straight 1 | R26: 21 | S26: =1/T26 -> 0.021701007 | T26: =T25+(U25*S25) -> 46.080811 | U26: =LOOKUP(T26,'bike sim'!J73:J319,'bike sim'!K73:K319) -> 8.3619748
Q27: straight 1 | R27: 22 | S27: =1/T27 -> 0.021615885 | T27: =T26+(U26*S26) -> 46.262274 | U27: =LOOKUP(T27,'bike sim'!J74:J320,'bike sim'!K74:K320) -> 8.3619748
Q28: straight 1 | R28: 23 | S28: =1/T28 -> 0.021531758 | T28: =T27+(U27*S27) -> 46.443026 | U28: =LOOKUP(T28,'bike sim'!J75:J321,'bike sim'!K75:K321) -> 8.2460621
Q29: straight 1 | R29: 24 | S29: =1/T29 -> 0.021449756 | T29: =T28+(U28*S28) -> 46.620578 | U29: =LOOKUP(T29,'bike sim'!J76:J322,'bike sim'!K76:K322) -> 8.2460621
... Q35: straight 1 | R35: 30 | S35: =1/T35 -> 0.020983957 | T35: =T34+(U34*S34) -> 47.655454 | U35: =LOOKUP(T35,'bike sim'!J82:J328,'bike sim'!K82:K328) -> 7.8542146
Q36: straight 1 | R36: 31 | S36: =1/T36 -> 0.020911636 | T36: =T35+(U35*S35) -> 47.820266 | U36: =LOOKUP(T36,'bike sim'!J4:J249,'bike sim'!K4:K249) -> 7.8810022
Q37: straight 1 | R37: 32 | S37: =1/T37 -> 0.020839815 | T37: =T36+(U36*S36) -> 47.985071 | U37: =LOOKUP(T37,'bike sim'!J5:J250,'bike sim'!K5:K250) -> 7.8810022
Q38: straight 1 | R38: 33 | S38: =1/T38 -> 0.02076873 | T38: =T37+(U37*S37) -> 48.14931 | U38: =LOOKUP(T38,'bike sim'!J6:J251,'bike sim'!K6:K251) -> 7.6943901
Q39: straight 1 | R39: 34 | S39: =1/T39 -> 0.020700028 | T39: =T38+(U38*S38) -> 48.309112 | U39: =LOOKUP(T39,'bike sim'!J7:J252,'bike sim'!K7:K252) -> 7.6943901
Q40: straight 1 | R40: 35 | S40: =1/T40 -> 0.020632005 | T40: =T39+(U39*S39) -> 48.468386 | U40: =LOOKUP(T40,'bike sim'!J8:J253,'bike sim'!K8:K253) -> 7.6943901
Q41: straight 1 | R41: 36 | S41: =1/T41 -> 0.020564649 | T41: =T40+(U40*S40) -> 48.627137 | U41: =LOOKUP(T41,'bike sim'!J9:J254,'bike sim'!K9:K254) -> 7.3794916
Q42: straight 1 | R42: 37 | S42: =1/T42 -> 0.02050067 | T42: =T41+(U41*S41) -> 48.778894 | U42: =LOOKUP(T42,'bike sim'!J10:J255,'bike sim'!K10:K255) -> 7.3794916
Q43: straight 1 | R43: 38 | S43: =1/T43 -> 0.020437285 | T43: =T42+(U42*S42) -> 48.930178 | U43: =LOOKUP(T43,'bike sim'!J11:J256,'bike sim'!K11:K256) -> 7.3794916
Q44: straight 1 | R44: 39 | S44: =1/T44 -> 0.020374485 | T44: =T43+(U43*S43) -> 49.080995 | U44: =LOOKUP(T44,'bike sim'!J12:J257,'bike sim'!K12:K257) -> 7.3794916
Q45: straight 1 | R45: 40 | S45: =1/T45 -> 0.020312261 | T45: =T44+(U44*S44) -> 49.231348 | U45: =LOOKUP(T45,'bike sim'!J13:J258,'bike sim'!K13:K258) -> 7.3794916
Q46: straight 1 | R46: 41 | S46: =1/T46 -> 0.020250604 | T46: =T45+(U45*S45) -> 49.381243 | U46: =LOOKUP(T46,'bike sim'!J14:J259,'bike sim'!K14:K259) -> 7.1216301
Q47: straight 1 | R47: 42 | S47: =1/T47 -> 0.020191635 | T47: =T46+(U46*S46) -> 49.52546 | U47: =LOOKUP(T47,'bike sim'!J15:J260,'bike sim'!K15:K260) -> 7.1216301
... Q86: straight 1 | R86: 81 | S86: =1/T86 -> 0.018383113 | T86: =T85+(U85*S85) -> 54.397751 | U86: =LOOKUP(T86,'bike sim'!J54:J299,'bike sim'!K54:K299) -> 5.8322815
Q87: straight 1 | R87: 82 | S87: =1/T87 -> 0.018346952 | T87: =T86+(U86*S86) -> 54.504966 | U87: =LOOKUP(T87,'bike sim'!J1:J246,'bike sim'!K1:K246) -> 5.895898
...
