Workbook

Sheet BMW S1000rr 
A1: BMW S1000rr 2018 - Roadbike
B4: Gearbox Calculator | K4: Centre of gravity calculator | U4: Resistance to motion calculator
B7: Primary | C7: 46 | D7: 76 | M7: Level | O7: Level with rider | W7: Data | X7: Unit | Y7: Symbol
B8: Final | C8: 17 | D8: 45 | K8: Front wieght | M8: 106 | O8: 134 | U8: Mass | W8: 272 | X8: kg | Y8: M
K9: Rear wieght | M9: 99 | O9: 138.95 | U9: Area | W9: 0.43819232 | X9: m^2 | Y9: A
B10: tyre Dim | C10: 200/55/17 | D10: 0.63984375 | E10: m | K10: Total | M10: =M8+M9 -> 205 | O10: =O8+O9 -> 272.95 | U10: Drag coeficent | W10: 0.75 | Y10: Cd
B11: Rpm | C11: 14200 | M11: Rised level | O11: Rised with rider | U11: Velocity | W11: =F25/3.6 -> 86.272301 | X11: M/S | Y11: V
K12: Front wieght | M12: 113.8 | O12: 149.7 | U12: Density | W12: 1.167 | X12: KG/M^3 | Y12: w
B13: Gear ratios | F13: Speed | G13: Rev | H13: Falls | K13: Rear wieght | M13: =117.1-M21 -> 91.2 | O13: =151-M21 -> 125.1 | U13: gravity | W13: 9.81 | X13: M/S^2 | Y13: g
K14: Total | M14: =M12+M13 -> 205 | O14: =O12+O13 -> 274.8 | U14: angle of road plane | W14: 0
B15: 1st | C15: 17 | D15: 45 | F15: =(C11*60*(C15/D15)*D10*PI()*( C7/D7)/1000)*(C8/D8) -> 147.93824 | G15: =C11 -> 14200 | U15: angle of road plane | W15: =RADIANS(W14) -> 0 | X15: Radians
G16: =G15*(C15/D15)*(D17/C17) -> 11216.566 | H16: =G15-(G15*(C15/D15)*(D17/C17)) -> 2983.4343 | I16: ` | K16: Wheelbase | M16: 1.434 | N16: m | O16: rider wieght | Q16: =O10-Q17 -> 67.95 | R16: kg
B17: 2nd | C17: 22 | D17: 46 | F17: =(C11*60*(C17/D17)*D10*PI()*( C7/D7)/1000)*(C8/D8) -> 187.28754 | G17: =C11 -> 14200 | K17: Rw rad | M17: =G32 -> 0.31992188 | N17: m | O17: bike wieght | Q17: =M10 -> 205
G18: =G17*(C17/D17)*(D19/C19) -> 11730.435 | H18: =G17-(G17*(C17/D17)*(D19/C19)) -> 2469.5652 | K18: Fw rad | M18: =G33 -> 0.29453125 | O18: Total wieght | Q18: =Q16+Q17 -> 272.95 | U18: Areo Drag Force | W18: =SUM(0.5*W12*W10*W9*(W11*W11)) -> 1427.2816 | X18: Nm | Y18: Fd
B19: 3rd | C19: 22 | D19: 38 | F19: =(C11*60*(C19/D19)*D10*PI()*( C7/D7)/1000)*(C8/D8) -> 226.7165 | G19: =C11 -> 14200 | K19: rav | M19: =(M17+M18)/2 -> 0.30722656 | U19: Rolling resistence | W19: =SUM(0.02*W8*W13) -> 53.3664 | X19: Nm | Y19: Fw
G20: =G19*(C19/D19)*(D21/C21) -> 12331.579 | H20: =G19-(G19*(C19/D19)*(D21/C21)) -> 1868.4211 | K20: stool hieght | M20: 0.351 | N20: m | U20: road plane | W20: =SUM(W8*W13*(SIN(W15))) -> 0 | X20: Nm | Y20: Fp
B21: 4th | C21: 22 | D21: 33 | F21: =(C11*60*(C21/D21)*D10*PI()*( C7/D7)/1000)*(C8/D8) -> 261.06749 | G21: =C11 -> 14200 | K21: stool wieght | M21: 25.9 | N21: kg
G22: =G21*(C21/D21)*(D23/C23) -> 12874.667 | H22: =G21-(G21*(C21/D21)*(D23/C23)) -> 1325.3333 | K22: lifed angle | M22: =DEGREES(ASIN(M20/M16)) -> 14.168234 | U22: Total Force | W22: =SUM(W18:W20) -> 1480.648 | X22: Nm | Y22: F
B23: 5th | C23: 25 | D23: 34 | F23: =(C11*60*(C23/D23)*D10*PI()*( C7/D7)/1000)*(C8/D8) -> 287.94208 | G23: =C11 -> 14200
G24: =G23*(C23/D23)*(D25/C25) -> 13164.962 | H24: =G23-(G23*(C23/D23)*(D25/C25)) -> 1035.0384 | K24: Centre of gravity results | U24: Power | W24: =SUM(W22*W11) -> 127738.91 | X24: Watts | Y24: P
B25: 6th | C25: 23 | D25: 29 | F25: =(C11*60*(C25/D25)*D10*PI()*( C7/D7)/1000)*(C8/D8) -> 310.58029 | G25: =C11 -> 14200 | W25: =W24/1000 -> 127.73891 | X25: KW | Y25: P
C26: https://www.manua.ls/bmw/s-1000-rr-2018/manual?p=215 | W26: =W24*0.00134 -> 171.17014 | X26: Horsepower
M27: Front % | N27: Rear % | Q27: Bike | R27: W/rider
B28: Tyre dimentions | K28: W/outrider | M28: =(M16-Q28)/M16*100 -> 51.707317 | N28: =(Q28/M16)*100 -> 48.292683 | P28: Xcog | Q28: =(M9*M16)/Q17 -> 0.69251707 | R28: =(O9*M16)/Q18 -> 0.73000293
K29: W/rider | M29: =(M16-R28)/M16*100 -> 49.093241 | N29: =(R28/M16)*100 -> 50.906759
Q30: Bike | R30: W/rider
B31: Tyre size | C31: Tyre width | D31: Ratio | E31: Rim size | F31: DIM | G31: Radius | P31: Ycog | Q31: =((M16*(M9-M13))/(Q17*(TAN(RADIANS(M22)))))+M19 -> 0.52335709 | R31: =((M16*(O9-O13))/(Q18*(TAN(RADIANS(M22)))))+M19 -> 0.59545846
B32: 200/55/17 | C32: 200 | D32: 55 | E32: 17 | F32: =((((C32/25.6*D32/100+E32/2)*2*PI())*25)/PI())/1000 -> 0.63984375 | G32: =F32/2 -> 0.31992188
B33: 120/70/17 | C33: 120 | D33: 70 | E33: 17 | F33: =((((C33/25.6*D33/100+E33/2)*2*PI())*25)/PI())/1000 -> 0.5890625 | G33: =F33/2 -> 0.29453125

Sheet BMW Road speed & Driving Force
A1: BMW S1000rr 2018 | G1: Road speed (kph) | O1: Driving Force (N)
A2: RPM | B2: Power(hp) | C2: Torque (Nm) | D2: Power(kw) | G2: 1st | H2: 2nd | I2: 3nd | J2: 4th | K2: 5th | L2: 6th | O2: 1st | P2: 2nd | Q2: 3nd | R2: 4th | S2: 5th | T2: 6th
A3: 4000 | B3: 25 | C3: =9.5488*(D3*1000)/A3 -> 44.503368 | D3: =0.745699872*B3 -> 18.642497 | G3: =$A3*60*'BMW S1000rr '!$C$15/'BMW S1000rr '!$D$15*'BMW S1000rr '!$F$32*PI()*'BMW S1000rr '!$C$7/'BMW S1000rr '!$D$7/1000*'BMW S1000rr '!$C$8/'BMW S1000rr '!$D$8 -> 41.672744 | H3: =$A3*60*'BMW S1000rr '!$C$17/'BMW S1000rr '!$D$17*'BMW S1000rr '!$F$32*PI()*'BMW S1000rr '!$C$7/'BMW S1000rr '!$D$7/1000*'BMW S1000rr '!$C$8/'BMW S1000rr '!$D$8 -> 52.757055 | I3: =$A3*60*'BMW S1000rr '!$C$19/'BMW S1000rr '!$D$19*'BMW S1000rr '!$F$32*PI()*'BMW S1000rr '!$C$7/'BMW S1000rr '!$D$7/1000*'BMW S1000rr '!$C$8/'BMW S1000rr '!$D$8 -> 63.863803 | J3: =$A3*60*'BMW S1000rr '!$C$21/'BMW S1000rr '!$D$21*'BMW S1000rr '!$F$32*PI()*'BMW S1000rr '!$C$7/'BMW S1000rr '!$D$7/1000*'BMW S1000rr '!$C$8/'BMW S1000rr '!$D$8 -> 73.540137 | K3: =$A3*60*'BMW S1000rr '!$C$23/'BMW S1000rr '!$D$23*'BMW S1000rr '!$F$32*PI()*'BMW S1000rr '!$C$7/'BMW S1000rr '!$D$7/1000*'BMW S1000rr '!$C$8/'BMW S1000rr '!$D$8 -> 81.110445 | L3: =$A3*60*'BMW S1000rr '!$C$25/'BMW S1000rr '!$D$25*'BMW S1000rr '!$F$32*PI()*'BMW S1000rr '!$C$7/'BMW S1000rr '!$D$7/1000*'BMW S1000rr '!$C$8/'BMW S1000rr '!$D$8 -> 87.487404 | O3: =($C3*1000)/($G3*(1000/3600)) -> 3844.5303 | P3: =($C3*1000)/($H3*(1000/3600)) -> 3036.7906 | Q3: =($C3*1000)/($I3*(1000/3600)) -> 2508.6531 | R3: =($C3*1000)/($J3*(1000/3600)) -> 2178.5671 | S3: =($C3*1000)/($K3*(1000/3600)) -> 1975.2342 | T3: =($C3*1000)/($L3*(1000/3600)) -> 1831.2593
A4: 5000 | B4: 62.5 | C4: =9.5488*(D4*1000)/A4 -> 89.006737 | D4: =0.745699872*B4 -> 46.606242 | G4: =$A4*60*'BMW S1000rr '!$C$15/'BMW S1000rr '!$D$15*'BMW S1000rr '!$F$32*PI()*'BMW S1000rr '!$C$7/'BMW S1000rr '!$D$7/1000*'BMW S1000rr '!$C$8/'BMW S1000rr '!$D$8 -> 52.09093 | H4: =$A4*60*'BMW S1000rr '!$C$17/'BMW S1000rr '!$D$17*'BMW S1000rr '!$F$32*PI()*'BMW S1000rr '!$C$7/'BMW S1000rr '!$D$7/1000*'BMW S1000rr '!$C$8/'BMW S1000rr '!$D$8 -> 65.946318 | I4: =$A4*60*'BMW S1000rr '!$C$19/'BMW S1000rr '!$D$19*'BMW S1000rr '!$F$32*PI()*'BMW S1000rr '!$C$7/'BMW S1000rr '!$D$7/1000*'BMW S1000rr '!$C$8/'BMW S1000rr '!$D$8 -> 79.829754 | J4: =$A4*60*'BMW S1000rr '!$C$21/'BMW S1000rr '!$D$21*'BMW S1000rr '!$F$32*PI()*'BMW S1000rr '!$C$7/'BMW S1000rr '!$D$7/1000*'BMW S1000rr '!$C$8/'BMW S1000rr '!$D$8 -> 91.925171 | K4: =$A4*60*'BMW S1000rr '!$C$23/'BMW S1000rr '!$D$23*'BMW S1000rr '!$F$32*PI()*'BMW S1000rr '!$C$7/'BMW S1000rr '!$D$7/1000*'BMW S1000rr '!$C$8/'BMW S1000rr '!$D$8 -> 101.38806 | L4: =$A4*60*'BMW S1000rr '!$C$25/'BMW S1000rr '!$D$25*'BMW S1000rr '!$F$32*PI()*'BMW S1000rr '!$C$7/'BMW S1000rr '!$D$7/1000*'BMW S1000rr '!$C$8/'BMW S1000rr '!$D$8 -> 109.35926 | O4: =($C4*1000)/($G4*(1000/3600)) -> 6151.2484 | P4: =($C4*1000)/($H4*(1000/3600)) -> 4858.8649 | Q4: =($C4*1000)/($I4*(1000/3600)) -> 4013.8449 | R4: =($C4*1000)/($J4*(1000/3600)) -> 3485.7074 | S4: =($C4*1000)/($K4*(1000/3600)) -> 3160.3747 | T4: =($C4*1000)/($L4*(1000/3600)) -> 2930.0149
A5: 6000 | B5: 82.5 | C5: =9.5488*(D5*1000)/A5 -> 97.90741 | D5: =0.745699872*B5 -> 61.520239 | G5: =$A5*60*'BMW S1000rr '!$C$15/'BMW S1000rr '!$D$15*'BMW S1000rr '!$F$32*PI()*'BMW S1000rr '!$C$7/'BMW S1000rr '!$D$7/1000*'BMW S1000rr '!$C$8/'BMW S1000rr '!$D$8 -> 62.509116 | H5: =$A5*60*'BMW S1000rr '!$C$17/'BMW S1000rr '!$D$17*'BMW S1000rr '!$F$32*PI()*'BMW S1000rr '!$C$7/'BMW S1000rr '!$D$7/1000*'BMW S1000rr '!$C$8/'BMW S1000rr '!$D$8 -> 79.135582 | I5: =$A5*60*'BMW S1000rr '!$C$19/'BMW S1000rr '!$D$19*'BMW S1000rr '!$F$32*PI()*'BMW S1000rr '!$C$7/'BMW S1000rr '!$D$7/1000*'BMW S1000rr '!$C$8/'BMW S1000rr '!$D$8 -> 95.795705 | J5: =$A5*60*'BMW S1000rr '!$C$21/'BMW S1000rr '!$D$21*'BMW S1000rr '!$F$32*PI()*'BMW S1000rr '!$C$7/'BMW S1000rr '!$D$7/1000*'BMW S1000rr '!$C$8/'BMW S1000rr '!$D$8 -> 110.31021 | K5: =$A5*60*'BMW S1000rr '!$C$23/'BMW S1000rr '!$D$23*'BMW S1000rr '!$F$32*PI()*'BMW S1000rr '!$C$7/'BMW S1000rr '!$D$7/1000*'BMW S1000rr '!$C$8/'BMW S1000rr '!$D$8 -> 121.66567 | L5: =$A5*60*'BMW S1000rr '!$C$25/'BMW S1000rr '!$D$25*'BMW S1000rr '!$F$32*PI()*'BMW S1000rr '!$C$7/'BMW S1000rr '!$D$7/1000*'BMW S1000rr '!$C$8/'BMW S1000rr '!$D$8 -> 131.23111 | O5: =($C5*1000)/($G5*(1000/3600)) -> 5638.6444 | P5: =($C5*1000)/($H5*(1000/3600)) -> 4453.9595 | Q5: =($C5*1000)/($I5*(1000/3600)) -> 3679.3578 | R5: =($C5*1000)/($J5*(1000/3600)) -> 3195.2318 | S5: =($C5*1000)/($K5*(1000/3600)) -> 2897.0102 | T5: =($C5*1000)/($L5*(1000/3600)) -> 2685.847
A6: 7000 | B6: 102.5 | C6: =9.5488*(D6*1000)/A6 -> 104.26503 | D6: =0.745699872*B6 -> 76.434237 | G6: =$A6*60*'BMW S1000rr '!$C$15/'BMW S1000rr '!$D$15*'BMW S1000rr '!$F$32*PI()*'BMW S1000rr '!$C$7/'BMW S1000rr '!$D$7/1000*'BMW S1000rr '!$C$8/'BMW S1000rr '!$D$8 -> 72.927303 | H6: =$A6*60*'BMW S1000rr '!$C$17/'BMW S1000rr '!$D$17*'BMW S1000rr '!$F$32*PI()*'BMW S1000rr '!$C$7/'BMW S1000rr '!$D$7/1000*'BMW S1000rr '!$C$8/'BMW S1000rr '!$D$8 -> 92.324846 | I6: =$A6*60*'BMW S1000rr '!$C$19/'BMW S1000rr '!$D$19*'BMW S1000rr '!$F$32*PI()*'BMW S1000rr '!$C$7/'BMW S1000rr '!$D$7/1000*'BMW S1000rr '!$C$8/'BMW S1000rr '!$D$8 -> 111.76166 | J6: =$A6*60*'BMW S1000rr '!$C$21/'BMW S1000rr '!$D$21*'BMW S1000rr '!$F$32*PI()*'BMW S1000rr '!$C$7/'BMW S1000rr '!$D$7/1000*'BMW S1000rr '!$C$8/'BMW S1000rr '!$D$8 -> 128.69524 | K6: =$A6*60*'BMW S1000rr '!$C$23/'BMW S1000rr '!$D$23*'BMW S1000rr '!$F$32*PI()*'BMW S1000rr '!$C$7/'BMW S1000rr '!$D$7/1000*'BMW S1000rr '!$C$8/'BMW S1000rr '!$D$8 -> 141.94328 | L6: =$A6*60*'BMW S1000rr '!$C$25/'BMW S1000rr '!$D$25*'BMW S1000rr '!$F$32*PI()*'BMW S1000rr '!$C$7/'BMW S1000rr '!$D$7/1000*'BMW S1000rr '!$C$8/'BMW S1000rr '!$D$8 -> 153.10296 | O6: =($C6*1000)/($G6*(1000/3600)) -> 5146.9629 | P6: =($C6*1000)/($H6*(1000/3600)) -> 4065.5808 | Q6: =($C6*1000)/($I6*(1000/3600)) -> 3358.5233 | R6: =($C6*1000)/($J6*(1000/3600)) -> 2916.6123 | S6: =($C6*1000)/($K6*(1000/3600)) -> 2644.3952 | T6: =($C6*1000)/($L6*(1000/3600)) -> 2451.6452
A7: 8000 | B7: 122 | C7: =9.5488*(D7*1000)/A7 -> 108.58822 | D7: =0.745699872*B7 -> 90.975384 | G7: =$A7*60*'BMW S1000rr '!$C$15/'BMW S1000rr '!$D$15*'BMW S1000rr '!$F$32*PI()*'BMW S1000rr '!$C$7/'BMW S1000rr '!$D$7/1000*'BMW S1000rr '!$C$8/'BMW S1000rr '!$D$8 -> 83.345489 | H7: =$A7*60*'BMW S1000rr '!$C$17/'BMW S1000rr '!$D$17*'BMW S1000rr '!$F$32*PI()*'BMW S1000rr '!$C$7/'BMW S1000rr '!$D$7/1000*'BMW S1000rr '!$C$8/'BMW S1000rr '!$D$8 -> 105.51411 | I7: =$A7*60*'BMW S1000rr '!$C$19/'BMW S1000rr '!$D$19*'BMW S1000rr '!$F$32*PI()*'BMW S1000rr '!$C$7/'BMW S1000rr '!$D$7/1000*'BMW S1000rr '!$C$8/'BMW S1000rr '!$D$8 -> 127.72761 | J7: =$A7*60*'BMW S1000rr '!$C$21/'BMW S1000rr '!$D$21*'BMW S1000rr '!$F$32*PI()*'BMW S1000rr '!$C$7/'BMW S1000rr '!$D$7/1000*'BMW S1000rr '!$C$8/'BMW S1000rr '!$D$8 -> 147.08027 | K7: =$A7*60*'BMW S1000rr '!$C$23/'BMW S1000rr '!$D$23*'BMW S1000rr '!$F$32*PI()*'BMW S1000rr '!$C$7/'BMW S1000rr '!$D$7/1000*'BMW S1000rr '!$C$8/'BMW S1000rr '!$D$8 -> 162.22089 | L7: =$A7*60*'BMW S1000rr '!$C$25/'BMW S1000rr '!$D$25*'BMW S1000rr '!$F$32*PI()*'BMW S1000rr '!$C$7/'BMW S1000rr '!$D$7/1000*'BMW S1000rr '!$C$8/'BMW S1000rr '!$D$8 -> 174.97481 | O7: =($C7*1000)/($G7*(1000/3600)) -> 4690.3269 | P7: =($C7*1000)/($H7*(1000/3600)) -> 3704.8845 | Q7: =($C7*1000)/($I7*(1000/3600)) -> 3060.5567 | R7: =($C7*1000)/($J7*(1000/3600)) -> 2657.8519 | S7: =($C7*1000)/($K7*(1000/3600)) -> 2409.7857 | T7: =($C7*1000)/($L7*(1000/3600)) -> 2234.1364
A8: 9000 | B8: 147 | C8: =9.5488*(D8*1000)/A8 -> 116.30214 | D8: =0.745699872*B8 -> 109.61788 | G8: =$A8*60*'BMW S1000rr '!$C$15/'BMW S1000rr '!$D$15*'BMW S1000rr '!$F$32*PI()*'BMW S1000rr '!$C$7/'BMW S1000rr '!$D$7/1000*'BMW S1000rr '!$C$8/'BMW S1000rr '!$D$8 -> 93.763675 | H8: =$A8*60*'BMW S1000rr '!$C$17/'BMW S1000rr '!$D$17*'BMW S1000rr '!$F$32*PI()*'BMW S1000rr '!$C$7/'BMW S1000rr '!$D$7/1000*'BMW S1000rr '!$C$8/'BMW S1000rr '!$D$8 -> 118.70337 | I8: =$A8*60*'BMW S1000rr '!$C$19/'BMW S1000rr '!$D$19*'BMW S1000rr '!$F$32*PI()*'BMW S1000rr '!$C$7/'BMW S1000rr '!$D$7/1000*'BMW S1000rr '!$C$8/'BMW S1000rr '!$D$8 -> 143.69356 | J8: =$A8*60*'BMW S1000rr '!$C$21/'BMW S1000rr '!$D$21*'BMW S1000rr '!$F$32*PI()*'BMW S1000rr '!$C$7/'BMW S1000rr '!$D$7/1000*'BMW S1000rr '!$C$8/'BMW S1000rr '!$D$8 -> 165.46531 | K8: =$A8*60*'BMW S1000rr '!$C$23/'BMW S1000rr '!$D$23*'BMW S1000rr '!$F$32*PI()*'BMW S1000rr '!$C$7/'BMW S1000rr '!$D$7/1000*'BMW S1000rr '!$C$8/'BMW S1000rr '!$D$8 -> 182.4985 | L8: =$A8*60*'BMW S1000rr '!$C$25/'BMW S1000rr '!$D$25*'BMW S1000rr '!$F$32*PI()*'BMW S1000rr '!$C$7/'BMW S1000rr '!$D$7/1000*'BMW S1000rr '!$C$8/'BMW S1000rr '!$D$8 -> 196.84666 | O8: =($C8*1000)/($G8*(1000/3600)) -> 4465.3507 | P8: =($C8*1000)/($H8*(1000/3600)) -> 3527.176 | Q8: =($C8*1000)/($I8*(1000/3600)) -> 2913.7541 | R8: =($C8*1000)/($J8*(1000/3600)) -> 2530.3654 | S8: =($C8*1000)/($K8*(1000/3600)) -> 2294.198 | T8: =($C8*1000)/($L8*(1000/3600)) -> 2126.9738
A9: 10000 | B9: 167.5 | C9: =9.5488*(D9*1000)/A9 -> 119.26903 | D9: =0.745699872*B9 -> 124.90473 | G9: =$A9*60*'BMW S1000rr '!$C$15/'BMW S1000rr '!$D$15*'BMW S1000rr '!$F$32*PI()*'BMW S1000rr '!$C$7/'BMW S1000rr '!$D$7/1000*'BMW S1000rr '!$C$8/'BMW S1000rr '!$D$8 -> 104.18186 | H9: =$A9*60*'BMW S1000rr '!$C$17/'BMW S1000rr '!$D$17*'BMW S1000rr '!$F$32*PI()*'BMW S1000rr '!$C$7/'BMW S1000rr '!$D$7/1000*'BMW S1000rr '!$C$8/'BMW S1000rr '!$D$8 -> 131.89264 | I9: =$A9*60*'BMW S1000rr '!$C$19/'BMW S1000rr '!$D$19*'BMW S1000rr '!$F$32*PI()*'BMW S1000rr '!$C$7/'BMW S1000rr '!$D$7/1000*'BMW S1000rr '!$C$8/'BMW S1000rr '!$D$8 -> 159.65951 | J9: =$A9*60*'BMW S1000rr '!$C$21/'BMW S1000rr '!$D$21*'BMW S1000rr '!$F$32*PI()*'BMW S1000rr '!$C$7/'BMW S1000rr '!$D$7/1000*'BMW S1000rr '!$C$8/'BMW S1000rr '!$D$8 -> 183.85034 | K9: =$A9*60*'BMW S1000rr '!$C$23/'BMW S1000rr '!$D$23*'BMW S1000rr '!$F$32*PI()*'BMW S1000rr '!$C$7/'BMW S1000rr '!$D$7/1000*'BMW S1000rr '!$C$8/'BMW S1000rr '!$D$8 -> 202.77611 | L9: =$A9*60*'BMW S1000rr '!$C$25/'BMW S1000rr '!$D$25*'BMW S1000rr '!$F$32*PI()*'BMW S1000rr '!$C$7/'BMW S1000rr '!$D$7/1000*'BMW S1000rr '!$C$8/'BMW S1000rr '!$D$8 -> 218.71851 | O9: =($C9*1000)/($G9*(1000/3600)) -> 4121.3364 | P9: =($C9*1000)/($H9*(1000/3600)) -> 3255.4395 | Q9: =($C9*1000)/($I9*(1000/3600)) -> 2689.2761 | R9: =($C9*1000)/($J9*(1000/3600)) -> 2335.424 | S9: =($C9*1000)/($K9*(1000/3600)) -> 2117.4511 | T9: =($C9*1000)/($L9*(1000/3600)) -> 1963.11
A10: 11000 | B10: 180 | C10: =9.5488*(D10*1000)/A10 -> 116.51791 | D10: =0.745699872*B10 -> 134.22598 | G10: =$A10*60*'BMW S1000rr '!$C$15/'BMW S1000rr '!$D$15*'BMW S1000rr '!$F$32*PI()*'BMW S1000rr '!$C$7/'BMW S1000rr '!$D$7/1000*'BMW S1000rr '!$C$8/'BMW S1000rr '!$D$8 -> 114.60005 | H10: =$A10*60*'BMW S1000rr '!$C$17/'BMW S1000rr '!$D$17*'BMW S1000rr '!$F$32*PI()*'BMW S1000rr '!$C$7/'BMW S1000rr '!$D$7/1000*'BMW S1000rr '!$C$8/'BMW S1000rr '!$D$8 -> 145.0819 | I10: =$A10*60*'BMW S1000rr '!$C$19/'BMW S1000rr '!$D$19*'BMW S1000rr '!$F$32*PI()*'BMW S1000rr '!$C$7/'BMW S1000rr '!$D$7/1000*'BMW S1000rr '!$C$8/'BMW S1000rr '!$D$8 -> 175.62546 | J10: =$A10*60*'BMW S1000rr '!$C$21/'BMW S1000rr '!$D$21*'BMW S1000rr '!$F$32*PI()*'BMW S1000rr '!$C$7/'BMW S1000rr '!$D$7/1000*'BMW S1000rr '!$C$8/'BMW S1000rr '!$D$8 -> 202.23538 | K10: =$A10*60*'BMW S1000rr '!$C$23/'BMW S1000rr '!$D$23*'BMW S1000rr '!$F$32*PI()*'BMW S1000rr '!$C$7/'BMW S1000rr '!$D$7/1000*'BMW S1000rr '!$C$8/'BMW S1000rr '!$D$8 -> 223.05372 | L10: =$A10*60*'BMW S1000rr '!$C$25/'BMW S1000rr '!$D$25*'BMW S1000rr '!$F$32*PI()*'BMW S1000rr '!$C$7/'BMW S1000rr '!$D$7/1000*'BMW S1000rr '!$C$8/'BMW S1000rr '!$D$8 -> 240.59036 | O10: =($C10*1000)/($G10*(1000/3600)) -> 3660.247 | P10: =($C10*1000)/($H10*(1000/3600)) -> 2891.2254 | Q10: =($C10*1000)/($I10*(1000/3600)) -> 2388.4036 | R10: =($C10*1000)/($J10*(1000/3600)) -> 2074.14 | S10: =($C10*1000)/($K10*(1000/3600)) -> 1880.5536 | T10: =($C10*1000)/($L10*(1000/3600)) -> 1743.48
A11: 12000 | B11: 189 | C11: =9.5488*(D11*1000)/A11 -> 112.14849 | D11: =0.745699872*B11 -> 140.93728 | G11: =$A11*60*'BMW S1000rr '!$C$15/'BMW S1000rr '!$D$15*'BMW S1000rr '!$F$32*PI()*'BMW S1000rr '!$C$7/'BMW S1000rr '!$D$7/1000*'BMW S1000rr '!$C$8/'BMW S1000rr '!$D$8 -> 125.01823 | H11: =$A11*60*'BMW S1000rr '!$C$17/'BMW S1000rr '!$D$17*'BMW S1000rr '!$F$32*PI()*'BMW S1000rr '!$C$7/'BMW S1000rr '!$D$7/1000*'BMW S1000rr '!$C$8/'BMW S1000rr '!$D$8 -> 158.27116 | I11: =$A11*60*'BMW S1000rr '!$C$19/'BMW S1000rr '!$D$19*'BMW S1000rr '!$F$32*PI()*'BMW S1000rr '!$C$7/'BMW S1000rr '!$D$7/1000*'BMW S1000rr '!$C$8/'BMW S1000rr '!$D$8 -> 191.59141 | J11: =$A11*60*'BMW S1000rr '!$C$21/'BMW S1000rr '!$D$21*'BMW S1000rr '!$F$32*PI()*'BMW S1000rr '!$C$7/'BMW S1000rr '!$D$7/1000*'BMW S1000rr '!$C$8/'BMW S1000rr '!$D$8 -> 220.62041 | K11: =$A11*60*'BMW S1000rr '!$C$23/'BMW S1000rr '!$D$23*'BMW S1000rr '!$F$32*PI()*'BMW S1000rr '!$C$7/'BMW S1000rr '!$D$7/1000*'BMW S1000rr '!$C$8/'BMW S1000rr '!$D$8 -> 243.33134 | L11: =$A11*60*'BMW S1000rr '!$C$25/'BMW S1000rr '!$D$25*'BMW S1000rr '!$F$32*PI()*'BMW S1000rr '!$C$7/'BMW S1000rr '!$D$7/1000*'BMW S1000rr '!$C$8/'BMW S1000rr '!$D$8 -> 262.46221 | O11: =($C11*1000)/($G11*(1000/3600)) -> 3229.4054 | P11: =($C11*1000)/($H11*(1000/3600)) -> 2550.9041 | Q11: =($C11*1000)/($I11*(1000/3600)) -> 2107.2686 | R11: =($C11*1000)/($J11*(1000/3600)) -> 1829.9964 | S11: =($C11*1000)/($K11*(1000/3600)) -> 1659.1967 | T11: =($C11*1000)/($L11*(1000/3600)) -> 1538.2578
A12: 13000 | B12: 193 | C12: =9.5488*(D12*1000)/A12 -> 105.71262 | D12: =0.745699872*B12 -> 143.92008 | G12: =$A12*60*'BMW S1000rr '!$C$15/'BMW S1000rr '!$D$15*'BMW S1000rr '!$F$32*PI()*'BMW S1000rr '!$C$7/'BMW S1000rr '!$D$7/1000*'BMW S1000rr '!$C$8/'BMW S1000rr '!$D$8 -> 135.43642 | H12: =$A12*60*'BMW S1000rr '!$C$17/'BMW S1000rr '!$D$17*'BMW S1000rr '!$F$32*PI()*'BMW S1000rr '!$C$7/'BMW S1000rr '!$D$7/1000*'BMW S1000rr '!$C$8/'BMW S1000rr '!$D$8 -> 171.46043 | I12: =$A12*60*'BMW S1000rr '!$C$19/'BMW S1000rr '!$D$19*'BMW S1000rr '!$F$32*PI()*'BMW S1000rr '!$C$7/'BMW S1000rr '!$D$7/1000*'BMW S1000rr '!$C$8/'BMW S1000rr '!$D$8 -> 207.55736 | J12: =$A12*60*'BMW S1000rr '!$C$21/'BMW S1000rr '!$D$21*'BMW S1000rr '!$F$32*PI()*'BMW S1000rr '!$C$7/'BMW S1000rr '!$D$7/1000*'BMW S1000rr '!$C$8/'BMW S1000rr '!$D$8 -> 239.00545 | K12: =$A12*60*'BMW S1000rr '!$C$23/'BMW S1000rr '!$D$23*'BMW S1000rr '!$F$32*PI()*'BMW S1000rr '!$C$7/'BMW S1000rr '!$D$7/1000*'BMW S1000rr '!$C$8/'BMW S1000rr '!$D$8 -> 263.60895 | L12: =$A12*60*'BMW S1000rr '!$C$25/'BMW S1000rr '!$D$25*'BMW S1000rr '!$F$32*PI()*'BMW S1000rr '!$C$7/'BMW S1000rr '!$D$7/1000*'BMW S1000rr '!$C$8/'BMW S1000rr '!$D$8 -> 284.33406 | O12: =($C12*1000)/($G12*(1000/3600)) -> 2809.9194 | P12: =($C12*1000)/($H12*(1000/3600)) -> 2219.5525 | Q12: =($C12*1000)/($I12*(1000/3600)) -> 1833.5434 | R12: =($C12*1000)/($J12*(1000/3600)) -> 1592.2877 | S12: =($C12*1000)/($K12*(1000/3600)) -> 1443.6741 | T12: =($C12*1000)/($L12*(1000/3600)) -> 1338.4447
A13: 14000 | B13: 192 | C13: =9.5488*(D13*1000)/A13 -> 97.653105 | D13: =0.745699872*B13 -> 143.17438 | G13: =$A13*60*'BMW S1000rr '!$C$15/'BMW S1000rr '!$D$15*'BMW S1000rr '!$F$32*PI()*'BMW S1000rr '!$C$7/'BMW S1000rr '!$D$7/1000*'BMW S1000rr '!$C$8/'BMW S1000rr '!$D$8 -> 145.85461 | H13: =$A13*60*'BMW S1000rr '!$C$17/'BMW S1000rr '!$D$17*'BMW S1000rr '!$F$32*PI()*'BMW S1000rr '!$C$7/'BMW S1000rr '!$D$7/1000*'BMW S1000rr '!$C$8/'BMW S1000rr '!$D$8 -> 184.64969 | I13: =$A13*60*'BMW S1000rr '!$C$19/'BMW S1000rr '!$D$19*'BMW S1000rr '!$F$32*PI()*'BMW S1000rr '!$C$7/'BMW S1000rr '!$D$7/1000*'BMW S1000rr '!$C$8/'BMW S1000rr '!$D$8 -> 223.52331 | J13: =$A13*60*'BMW S1000rr '!$C$21/'BMW S1000rr '!$D$21*'BMW S1000rr '!$F$32*PI()*'BMW S1000rr '!$C$7/'BMW S1000rr '!$D$7/1000*'BMW S1000rr '!$C$8/'BMW S1000rr '!$D$8 -> 257.39048 | K13: =$A13*60*'BMW S1000rr '!$C$23/'BMW S1000rr '!$D$23*'BMW S1000rr '!$F$32*PI()*'BMW S1000rr '!$C$7/'BMW S1000rr '!$D$7/1000*'BMW S1000rr '!$C$8/'BMW S1000rr '!$D$8 -> 283.88656 | L13: =$A13*60*'BMW S1000rr '!$C$25/'BMW S1000rr '!$D$25*'BMW S1000rr '!$F$32*PI()*'BMW S1000rr '!$C$7/'BMW S1000rr '!$D$7/1000*'BMW S1000rr '!$C$8/'BMW S1000rr '!$D$8 -> 306.20592 | O13: =($C13*1000)/($G13*(1000/3600)) -> 2410.2851 | P13: =($C13*1000)/($H13*(1000/3600)) -> 1903.8818 | Q13: =($C13*1000)/($I13*(1000/3600)) -> 1572.7719 | R13: =($C13*1000)/($J13*(1000/3600)) -> 1365.8282 | S13: =($C13*1000)/($K13*(1000/3600)) -> 1238.3509 | T13: =($C13*1000)/($L13*(1000/3600)) -> 1148.0875
A14: 14200 | B14: 191 | C14: =9.5488*(D14*1000)/A14 -> 95.776263 | D14: =0.745699872*B14 -> 142.42868 | G14: =$A14*60*'BMW S1000rr '!$C$15/'BMW S1000rr '!$D$15*'BMW S1000rr '!$F$32*PI()*'BMW S1000rr '!$C$7/'BMW S1000rr '!$D$7/1000*'BMW S1000rr '!$C$8/'BMW S1000rr '!$D$8 -> 147.93824 | H14: =$A14*60*'BMW S1000rr '!$C$17/'BMW S1000rr '!$D$17*'BMW S1000rr '!$F$32*PI()*'BMW S1000rr '!$C$7/'BMW S1000rr '!$D$7/1000*'BMW S1000rr '!$C$8/'BMW S1000rr '!$D$8 -> 187.28754 | I14: =$A14*60*'BMW S1000rr '!$C$19/'BMW S1000rr '!$D$19*'BMW S1000rr '!$F$32*PI()*'BMW S1000rr '!$C$7/'BMW S1000rr '!$D$7/1000*'BMW S1000rr '!$C$8/'BMW S1000rr '!$D$8 -> 226.7165 | J14: =$A14*60*'BMW S1000rr '!$C$21/'BMW S1000rr '!$D$21*'BMW S1000rr '!$F$32*PI()*'BMW S1000rr '!$C$7/'BMW S1000rr '!$D$7/1000*'BMW S1000rr '!$C$8/'BMW S1000rr '!$D$8 -> 261.06749 | K14: =$A14*60*'BMW S1000rr '!$C$23/'BMW S1000rr '!$D$23*'BMW S1000rr '!$F$32*PI()*'BMW S1000rr '!$C$7/'BMW S1000rr '!$D$7/1000*'BMW S1000rr '!$C$8/'BMW S1000rr '!$D$8 -> 287.94208 | L14: =$A14*60*'BMW S1000rr '!$C$25/'BMW S1000rr '!$D$25*'BMW S1000rr '!$F$32*PI()*'BMW S1000rr '!$C$7/'BMW S1000rr '!$D$7/1000*'BMW S1000rr '!$C$8/'BMW S1000rr '!$D$8 -> 310.58029 | O14: =($C14*1000)/($G14*(1000/3600)) -> 2330.6654 | P14: =($C14*1000)/($H14*(1000/3600)) -> 1840.9903 | Q14: =($C14*1000)/($I14*(1000/3600)) -> 1520.8181 | R14: =($C14*1000)/($J14*(1000/3600)) -> 1320.7104 | S14: =($C14*1000)/($K14*(1000/3600)) -> 1197.4441 | T14: =($C14*1000)/($L14*(1000/3600)) -> 1110.1624

Sheet KTM 350 EXC-F
A1: KTM 350 EXC-F 2022
B4: Gearbox Calculator | K4: Centre of gravity calculator | U4: Resistance to motion calculator
B7: Primary | C7: 24 | D7: 73 | M7: Level | O7: Level with rider | W7: Data | X7: Unit | Y7: Symbol
B8: Final | C8: 14 | D8: 50 | K8: Front wieght | M8: 55.7 | O8: 86.2 | U8: Mass | W8: =Q18 -> 201.65 | X8: kg | Y8: M
K9: Rear wieght | M9: 57.75 | O9: 115.45 | U9: Area | W9: 0.36628391 | X9: m^2 | Y9: A
B10: tyre Dim | C10: 140/80/18 | D10: 0.63984375 | E10: m | K10: Total | M10: =M8+M9 -> 113.45 | O10: =O8+O9 -> 201.65 | U10: Drag coeficent | W10: 0.75 | Y10: Cd
B11: Rpm | C11: 14200 | M11: Rised level | O11: Rised with rider | U11: Velocity | W11: =F25/3.6 -> 56.931243 | X11: M/S | Y11: V
K12: Front wieght | M12: 60.85 | O12: 107.85 | U12: Density | W12: 1.167 | X12: KG/M^3 | Y12: w
B13: Gear ratios | F13: Speed | G13: Rev | H13: Falls | K13: Rear wieght | M13: =58.8-M21 -> 52.3 | O13: =99.6-M21 -> 93.1 | U13: gravity | W13: 9.81 | X13: M/S^2 | Y13: g
K14: Total | M14: =M12+M13 -> 113.15 | O14: =O12+O13 -> 200.95 | U14: angle of road plane | W14: 0
B15: 1st | C15: 14 | D15: 32 | F15: =(C11*60*(C15/D15)*D10*PI()*( C7/D7)/1000)*(C8/D8) -> 68.97439 | G15: =C11 -> 14200 | U15: angle of road plane | W15: =RADIANS(W14) -> 0 | X15: Radians
G16: =G15*(C15/D15)*(D17/C17) -> 10095.312 | H16: =G15-(G15*(C15/D15)*(D17/C17)) -> 4104.6875 | I16: ` | K16: Wheelbase | M16: 1.482 | N16: m | O16: rider wieght | Q16: =O10-Q17 -> 88.2 | R16: kg
B17: 2nd | C17: 16 | D17: 26 | F17: =(C11*60*(C17/D17)*D10*PI()*( C7/D7)/1000)*(C8/D8) -> 97.018923 | G17: =C11 -> 14200 | K17: Rw rad | M17: =G32 -> 0.334375 | N17: m | O17: bike wieght | Q17: =M10 -> 113.45
G18: =G17*(C17/D17)*(D19/C19) -> 10923.077 | H18: =G17-(G17*(C17/D17)*(D19/C19)) -> 3276.9231 | K18: Fw rad | M18: =G33 -> 0.340625 | O18: Total wieght | Q18: =Q16+Q17 -> 201.65 | U18: Areo Drag Force | W18: =SUM(0.5*W12*W10*W9*(W11*W11)) -> 519.54276 | X18: Nm | Y18: Fd
B19: 3rd | C19: 20 | D19: 25 | F19: =(C11*60*(C19/D19)*D10*PI()*( C7/D7)/1000)*(C8/D8) -> 126.1246 | G19: =C11 -> 14200 | K19: rav | M19: =(M17+M18)/2 -> 0.3375 | U19: Rolling resistence | W19: =SUM(0.02*W8*W13) -> 39.56373 | X19: Nm | Y19: Fw
G20: =G19*(C19/D19)*(D21/C21) -> 11876.364 | H20: =G19-(G19*(C19/D19)*(D21/C21)) -> 2323.6364 | K20: stool hieght | M20: 0.394 | N20: m | U20: road plane | W20: =SUM(W8*W13*(SIN(W15))) -> 0 | X20: Nm | Y20: Fp
B21: 4th | C21: 22 | D21: 23 | F21: =(C11*60*(C21/D21)*D10*PI()*( C7/D7)/1000)*(C8/D8) -> 150.80115 | G21: =C11 -> 14200 | K21: stool wieght | M21: 6.5 | N21: kg
G22: =G21*(C21/D21)*(D23/C23) -> 11952.696 | H22: =G21-(G21*(C21/D21)*(D23/C23)) -> 2247.3043 | K22: lifed angle | M22: =DEGREES(ASIN(M20/M16)) -> 15.417879 | U22: Total Force | W22: =SUM(W18:W20) -> 559.10649 | X22: Nm | Y22: F
B23: 5th | C23: 25 | D23: 22 | F23: =(C11*60*(C23/D23)*D10*PI()*( C7/D7)/1000)*(C8/D8) -> 179.15426 | G23: =C11 -> 14200
G24: =G23*(C23/D23)*(D25/C25) -> 12412.587 | H24: =G23-(G23*(C23/D23)*(D25/C25)) -> 1787.4126 | K24: Centre of gravity results | U24: Power required | W24: =SUM(W22*W11) -> 31830.627 | X24: Watts | Y24: P
B25: 6th | C25: 26 | D25: 20 | F25: =(C11*60*(C25/D25)*D10*PI()*( C7/D7)/1000)*(C8/D8) -> 204.95247 | G25: =C11 -> 14200 | W25: =W24/1000 -> 31.830627 | X25: KW | Y25: P
C26: https://ownersmanuals2.com/ktm/350-exc-f-2022-owners-manual-83199/page-14 | W26: =W24*0.00134 -> 42.65304 | X26: Horsepower
M27: Front % | N27: Rear % | Q27: Bike | R27: W/rider
B28: Tyre dimentions | K28: W/outrider | M28: =(M16-Q28)/M16*100 -> 49.096518 | N28: =(Q28/M16)*100 -> 50.903482 | P28: Xcog | Q28: =(M9*M16)/Q17 -> 0.7543896 | R28: =(O9*M16)/Q18 -> 0.8484845
K29: W/rider | M29: =(M16-R28)/M16*100 -> 42.747334 | N29: =(R28/M16)*100 -> 57.252666
Q30: Bike | R30: W/rider
B31: Tyre size | C31: Tyre width | D31: Ratio | E31: Rim size | F31: DIM | G31: Radius | P31: Ycog | Q31: =((M16*(M9-M13))/(Q17*(TAN(RADIANS(M22)))))+M19 -> 0.59565162 | R31: =((M16*(O9-O13))/(Q18*(TAN(RADIANS(M22)))))+M19 -> 0.93311023
B32: 140/80/18 | C32: 140 | D32: 80 | E32: 18 | F32: =((((C32/25.6*D32/100+E32/2)*2*PI())*25)/PI())/1000 -> 0.66875 | G32: =F32/2 -> 0.334375
B33: 80/10/21 | C33: 80 | D33: 100 | E33: 21 | F33: =((((C33/25.6*D33/100+E33/2)*2*PI())*25)/PI())/1000 -> 0.68125 | G33: =F33/2 -> 0.340625

Sheet KTM Road speed & Driving Force
A1: KTM 350 EXC-F | G1: Road speed (kph) | O1: Driving Force (N)
A2: RPM | B2: Power(hp) | C2: Torque (Nm) | D2: Power(kw) | G2: 1st | H2: 2nd | I2: 3nd | J2: 4th | K2: 5th | L2: 6th | O2: 1st | P2: 2nd | Q2: 3nd | R2: 4th | S2: 5th | T2: 6th
A3: 2000 | B3: 2.5 | C3: =9.5488*(D3*1000)/A3 -> 8.9006737 | D3: =0.745699872*B3 -> 1.8642497 | G3: =$A3*60*'KTM 350 EXC-F'!$C$15/'KTM 350 EXC-F'!$D$15*'KTM 350 EXC-F'!$F$32*PI()*'KTM 350 EXC-F'!$C$7/'KTM 350 EXC-F'!$D$7/1000*'KTM 350 EXC-F'!$C$8/'KTM 350 EXC-F'!$D$8 -> 10.153584 | H3: =$A3*60*'KTM 350 EXC-F'!$C$17/'KTM 350 EXC-F'!$D$17*'KTM 350 EXC-F'!$F$32*PI()*'KTM 350 EXC-F'!$C$7/'KTM 350 EXC-F'!$D$7/1000*'KTM 350 EXC-F'!$C$8/'KTM 350 EXC-F'!$D$8 -> 14.281965 | I3: =$A3*60*'KTM 350 EXC-F'!$C$19/'KTM 350 EXC-F'!$D$19*'KTM 350 EXC-F'!$F$32*PI()*'KTM 350 EXC-F'!$C$7/'KTM 350 EXC-F'!$D$7/1000*'KTM 350 EXC-F'!$C$8/'KTM 350 EXC-F'!$D$8 -> 18.566554 | J3: =$A3*60*'KTM 350 EXC-F'!$C$21/'KTM 350 EXC-F'!$D$21*'KTM 350 EXC-F'!$F$32*PI()*'KTM 350 EXC-F'!$C$7/'KTM 350 EXC-F'!$D$7/1000*'KTM 350 EXC-F'!$C$8/'KTM 350 EXC-F'!$D$8 -> 22.199141 | K3: =$A3*60*'KTM 350 EXC-F'!$C$23/'KTM 350 EXC-F'!$D$23*'KTM 350 EXC-F'!$F$32*PI()*'KTM 350 EXC-F'!$C$7/'KTM 350 EXC-F'!$D$7/1000*'KTM 350 EXC-F'!$C$8/'KTM 350 EXC-F'!$D$8 -> 26.372947 | L3: =$A3*60*'KTM 350 EXC-F'!$C$25/'KTM 350 EXC-F'!$D$25*'KTM 350 EXC-F'!$F$32*PI()*'KTM 350 EXC-F'!$C$7/'KTM 350 EXC-F'!$D$7/1000*'KTM 350 EXC-F'!$C$8/'KTM 350 EXC-F'!$D$8 -> 30.170651 | O3: =($C3*1000)/($G3*(1000/3600)) -> 3155.7747 | P3: =($C3*1000)/($H3*(1000/3600)) -> 2243.5586 | Q3: =($C3*1000)/($I3*(1000/3600)) -> 1725.8143 | R3: =($C3*1000)/($J3*(1000/3600)) -> 1443.4083 | S3: =($C3*1000)/($K3*(1000/3600)) -> 1214.9733 | T3: =($C3*1000)/($L3*(1000/3600)) -> 1062.0396
A4: 3000 | B4: 6 | C4: =9.5488*(D4*1000)/A4 -> 14.241078 | D4: =0.745699872*B4 -> 4.4741992 | G4: =$A4*60*'KTM 350 EXC-F'!$C$15/'KTM 350 EXC-F'!$D$15*'KTM 350 EXC-F'!$F$32*PI()*'KTM 350 EXC-F'!$C$7/'KTM 350 EXC-F'!$D$7/1000*'KTM 350 EXC-F'!$C$8/'KTM 350 EXC-F'!$D$8 -> 15.230377 | H4: =$A4*60*'KTM 350 EXC-F'!$C$17/'KTM 350 EXC-F'!$D$17*'KTM 350 EXC-F'!$F$32*PI()*'KTM 350 EXC-F'!$C$7/'KTM 350 EXC-F'!$D$7/1000*'KTM 350 EXC-F'!$C$8/'KTM 350 EXC-F'!$D$8 -> 21.422947 | I4: =$A4*60*'KTM 350 EXC-F'!$C$19/'KTM 350 EXC-F'!$D$19*'KTM 350 EXC-F'!$F$32*PI()*'KTM 350 EXC-F'!$C$7/'KTM 350 EXC-F'!$D$7/1000*'KTM 350 EXC-F'!$C$8/'KTM 350 EXC-F'!$D$8 -> 27.849832 | J4: =$A4*60*'KTM 350 EXC-F'!$C$21/'KTM 350 EXC-F'!$D$21*'KTM 350 EXC-F'!$F$32*PI()*'KTM 350 EXC-F'!$C$7/'KTM 350 EXC-F'!$D$7/1000*'KTM 350 EXC-F'!$C$8/'KTM 350 EXC-F'!$D$8 -> 33.298712 | K4: =$A4*60*'KTM 350 EXC-F'!$C$23/'KTM 350 EXC-F'!$D$23*'KTM 350 EXC-F'!$F$32*PI()*'KTM 350 EXC-F'!$C$7/'KTM 350 EXC-F'!$D$7/1000*'KTM 350 EXC-F'!$C$8/'KTM 350 EXC-F'!$D$8 -> 39.55942 | L4: =$A4*60*'KTM 350 EXC-F'!$C$25/'KTM 350 EXC-F'!$D$25*'KTM 350 EXC-F'!$F$32*PI()*'KTM 350 EXC-F'!$C$7/'KTM 350 EXC-F'!$D$7/1000*'KTM 350 EXC-F'!$C$8/'KTM 350 EXC-F'!$D$8 -> 45.255976 | O4: =($C4*1000)/($G4*(1000/3600)) -> 3366.1597 | P4: =($C4*1000)/($H4*(1000/3600)) -> 2393.1292 | Q4: =($C4*1000)/($I4*(1000/3600)) -> 1840.8686 | R4: =($C4*1000)/($J4*(1000/3600)) -> 1539.6356 | S4: =($C4*1000)/($K4*(1000/3600)) -> 1295.9715 | T4: =($C4*1000)/($L4*(1000/3600)) -> 1132.8422
A5: 4000 | B5: 10 | C5: =9.5488*(D5*1000)/A5 -> 17.801347 | D5: =0.745699872*B5 -> 7.4569987 | G5: =$A5*60*'KTM 350 EXC-F'!$C$15/'KTM 350 EXC-F'!$D$15*'KTM 350 EXC-F'!$F$32*PI()*'KTM 350 EXC-F'!$C$7/'KTM 350 EXC-F'!$D$7/1000*'KTM 350 EXC-F'!$C$8/'KTM 350 EXC-F'!$D$8 -> 20.307169 | H5: =$A5*60*'KTM 350 EXC-F'!$C$17/'KTM 350 EXC-F'!$D$17*'KTM 350 EXC-F'!$F$32*PI()*'KTM 350 EXC-F'!$C$7/'KTM 350 EXC-F'!$D$7/1000*'KTM 350 EXC-F'!$C$8/'KTM 350 EXC-F'!$D$8 -> 28.56393 | I5: =$A5*60*'KTM 350 EXC-F'!$C$19/'KTM 350 EXC-F'!$D$19*'KTM 350 EXC-F'!$F$32*PI()*'KTM 350 EXC-F'!$C$7/'KTM 350 EXC-F'!$D$7/1000*'KTM 350 EXC-F'!$C$8/'KTM 350 EXC-F'!$D$8 -> 37.133109 | J5: =$A5*60*'KTM 350 EXC-F'!$C$21/'KTM 350 EXC-F'!$D$21*'KTM 350 EXC-F'!$F$32*PI()*'KTM 350 EXC-F'!$C$7/'KTM 350 EXC-F'!$D$7/1000*'KTM 350 EXC-F'!$C$8/'KTM 350 EXC-F'!$D$8 -> 44.398282 | K5: =$A5*60*'KTM 350 EXC-F'!$C$23/'KTM 350 EXC-F'!$D$23*'KTM 350 EXC-F'!$F$32*PI()*'KTM 350 EXC-F'!$C$7/'KTM 350 EXC-F'!$D$7/1000*'KTM 350 EXC-F'!$C$8/'KTM 350 EXC-F'!$D$8 -> 52.745893 | L5: =$A5*60*'KTM 350 EXC-F'!$C$25/'KTM 350 EXC-F'!$D$25*'KTM 350 EXC-F'!$F$32*PI()*'KTM 350 EXC-F'!$C$7/'KTM 350 EXC-F'!$D$7/1000*'KTM 350 EXC-F'!$C$8/'KTM 350 EXC-F'!$D$8 -> 60.341302 | O5: =($C5*1000)/($G5*(1000/3600)) -> 3155.7747 | P5: =($C5*1000)/($H5*(1000/3600)) -> 2243.5586 | Q5: =($C5*1000)/($I5*(1000/3600)) -> 1725.8143 | R5: =($C5*1000)/($J5*(1000/3600)) -> 1443.4083 | S5: =($C5*1000)/($K5*(1000/3600)) -> 1214.9733 | T5: =($C5*1000)/($L5*(1000/3600)) -> 1062.0396
A6: 5000 | B6: 20 | C6: =9.5488*(D6*1000)/A6 -> 28.482156 | D6: =0.745699872*B6 -> 14.913997 | G6: =$A6*60*'KTM 350 EXC-F'!$C$15/'KTM 350 EXC-F'!$D$15*'KTM 350 EXC-F'!$F$32*PI()*'KTM 350 EXC-F'!$C$7/'KTM 350 EXC-F'!$D$7/1000*'KTM 350 EXC-F'!$C$8/'KTM 350 EXC-F'!$D$8 -> 25.383961 | H6: =$A6*60*'KTM 350 EXC-F'!$C$17/'KTM 350 EXC-F'!$D$17*'KTM 350 EXC-F'!$F$32*PI()*'KTM 350 EXC-F'!$C$7/'KTM 350 EXC-F'!$D$7/1000*'KTM 350 EXC-F'!$C$8/'KTM 350 EXC-F'!$D$8 -> 35.704912 | I6: =$A6*60*'KTM 350 EXC-F'!$C$19/'KTM 350 EXC-F'!$D$19*'KTM 350 EXC-F'!$F$32*PI()*'KTM 350 EXC-F'!$C$7/'KTM 350 EXC-F'!$D$7/1000*'KTM 350 EXC-F'!$C$8/'KTM 350 EXC-F'!$D$8 -> 46.416386 | J6: =$A6*60*'KTM 350 EXC-F'!$C$21/'KTM 350 EXC-F'!$D$21*'KTM 350 EXC-F'!$F$32*PI()*'KTM 350 EXC-F'!$C$7/'KTM 350 EXC-F'!$D$7/1000*'KTM 350 EXC-F'!$C$8/'KTM 350 EXC-F'!$D$8 -> 55.497853 | K6: =$A6*60*'KTM 350 EXC-F'!$C$23/'KTM 350 EXC-F'!$D$23*'KTM 350 EXC-F'!$F$32*PI()*'KTM 350 EXC-F'!$C$7/'KTM 350 EXC-F'!$D$7/1000*'KTM 350 EXC-F'!$C$8/'KTM 350 EXC-F'!$D$8 -> 65.932366 | L6: =$A6*60*'KTM 350 EXC-F'!$C$25/'KTM 350 EXC-F'!$D$25*'KTM 350 EXC-F'!$F$32*PI()*'KTM 350 EXC-F'!$C$7/'KTM 350 EXC-F'!$D$7/1000*'KTM 350 EXC-F'!$C$8/'KTM 350 EXC-F'!$D$8 -> 75.426627 | O6: =($C6*1000)/($G6*(1000/3600)) -> 4039.3917 | P6: =($C6*1000)/($H6*(1000/3600)) -> 2871.755 | Q6: =($C6*1000)/($I6*(1000/3600)) -> 2209.0423 | R6: =($C6*1000)/($J6*(1000/3600)) -> 1847.5627 | S6: =($C6*1000)/($K6*(1000/3600)) -> 1555.1658 | T6: =($C6*1000)/($L6*(1000/3600)) -> 1359.4107
A7: 6000 | B7: 25 | C7: =9.5488*(D7*1000)/A7 -> 29.668912 | D7: =0.745699872*B7 -> 18.642497 | G7: =$A7*60*'KTM 350 EXC-F'!$C$15/'KTM 350 EXC-F'!$D$15*'KTM 350 EXC-F'!$F$32*PI()*'KTM 350 EXC-F'!$C$7/'KTM 350 EXC-F'!$D$7/1000*'KTM 350 EXC-F'!$C$8/'KTM 350 EXC-F'!$D$8 -> 30.460753 | H7: =$A7*60*'KTM 350 EXC-F'!$C$17/'KTM 350 EXC-F'!$D$17*'KTM 350 EXC-F'!$F$32*PI()*'KTM 350 EXC-F'!$C$7/'KTM 350 EXC-F'!$D$7/1000*'KTM 350 EXC-F'!$C$8/'KTM 350 EXC-F'!$D$8 -> 42.845895 | I7: =$A7*60*'KTM 350 EXC-F'!$C$19/'KTM 350 EXC-F'!$D$19*'KTM 350 EXC-F'!$F$32*PI()*'KTM 350 EXC-F'!$C$7/'KTM 350 EXC-F'!$D$7/1000*'KTM 350 EXC-F'!$C$8/'KTM 350 EXC-F'!$D$8 -> 55.699663 | J7: =$A7*60*'KTM 350 EXC-F'!$C$21/'KTM 350 EXC-F'!$D$21*'KTM 350 EXC-F'!$F$32*PI()*'KTM 350 EXC-F'!$C$7/'KTM 350 EXC-F'!$D$7/1000*'KTM 350 EXC-F'!$C$8/'KTM 350 EXC-F'!$D$8 -> 66.597423 | K7: =$A7*60*'KTM 350 EXC-F'!$C$23/'KTM 350 EXC-F'!$D$23*'KTM 350 EXC-F'!$F$32*PI()*'KTM 350 EXC-F'!$C$7/'KTM 350 EXC-F'!$D$7/1000*'KTM 350 EXC-F'!$C$8/'KTM 350 EXC-F'!$D$8 -> 79.11884 | L7: =$A7*60*'KTM 350 EXC-F'!$C$25/'KTM 350 EXC-F'!$D$25*'KTM 350 EXC-F'!$F$32*PI()*'KTM 350 EXC-F'!$C$7/'KTM 350 EXC-F'!$D$7/1000*'KTM 350 EXC-F'!$C$8/'KTM 350 EXC-F'!$D$8 -> 90.511953 | O7: =($C7*1000)/($G7*(1000/3600)) -> 3506.4164 | P7: =($C7*1000)/($H7*(1000/3600)) -> 2492.8429 | Q7: =($C7*1000)/($I7*(1000/3600)) -> 1917.5715 | R7: =($C7*1000)/($J7*(1000/3600)) -> 1603.787 | S7: =($C7*1000)/($K7*(1000/3600)) -> 1349.9703 | T7: =($C7*1000)/($L7*(1000/3600)) -> 1180.044
A8: 7000 | B8: 32 | C8: =9.5488*(D8*1000)/A8 -> 32.551035 | D8: =0.745699872*B8 -> 23.862396 | G8: =$A8*60*'KTM 350 EXC-F'!$C$15/'KTM 350 EXC-F'!$D$15*'KTM 350 EXC-F'!$F$32*PI()*'KTM 350 EXC-F'!$C$7/'KTM 350 EXC-F'!$D$7/1000*'KTM 350 EXC-F'!$C$8/'KTM 350 EXC-F'!$D$8 -> 35.537545 | H8: =$A8*60*'KTM 350 EXC-F'!$C$17/'KTM 350 EXC-F'!$D$17*'KTM 350 EXC-F'!$F$32*PI()*'KTM 350 EXC-F'!$C$7/'KTM 350 EXC-F'!$D$7/1000*'KTM 350 EXC-F'!$C$8/'KTM 350 EXC-F'!$D$8 -> 49.986877 | I8: =$A8*60*'KTM 350 EXC-F'!$C$19/'KTM 350 EXC-F'!$D$19*'KTM 350 EXC-F'!$F$32*PI()*'KTM 350 EXC-F'!$C$7/'KTM 350 EXC-F'!$D$7/1000*'KTM 350 EXC-F'!$C$8/'KTM 350 EXC-F'!$D$8 -> 64.98294 | J8: =$A8*60*'KTM 350 EXC-F'!$C$21/'KTM 350 EXC-F'!$D$21*'KTM 350 EXC-F'!$F$32*PI()*'KTM 350 EXC-F'!$C$7/'KTM 350 EXC-F'!$D$7/1000*'KTM 350 EXC-F'!$C$8/'KTM 350 EXC-F'!$D$8 -> 77.696994 | K8: =$A8*60*'KTM 350 EXC-F'!$C$23/'KTM 350 EXC-F'!$D$23*'KTM 350 EXC-F'!$F$32*PI()*'KTM 350 EXC-F'!$C$7/'KTM 350 EXC-F'!$D$7/1000*'KTM 350 EXC-F'!$C$8/'KTM 350 EXC-F'!$D$8 -> 92.305313 | L8: =$A8*60*'KTM 350 EXC-F'!$C$25/'KTM 350 EXC-F'!$D$25*'KTM 350 EXC-F'!$F$32*PI()*'KTM 350 EXC-F'!$C$7/'KTM 350 EXC-F'!$D$7/1000*'KTM 350 EXC-F'!$C$8/'KTM 350 EXC-F'!$D$8 -> 105.59728 | O8: =($C8*1000)/($G8*(1000/3600)) -> 3297.4626 | P8: =($C8*1000)/($H8*(1000/3600)) -> 2344.2898 | Q8: =($C8*1000)/($I8*(1000/3600)) -> 1803.2999 | R8: =($C8*1000)/($J8*(1000/3600)) -> 1508.2144 | S8: =($C8*1000)/($K8*(1000/3600)) -> 1269.5231 | T8: =($C8*1000)/($L8*(1000/3600)) -> 1109.723
A9: 8000 | B9: 37 | C9: =9.5488*(D9*1000)/A9 -> 32.932493 | D9: =0.745699872*B9 -> 27.590895 | G9: =$A9*60*'KTM 350 EXC-F'!$C$15/'KTM 350 EXC-F'!$D$15*'KTM 350 EXC-F'!$F$32*PI()*'KTM 350 EXC-F'!$C$7/'KTM 350 EXC-F'!$D$7/1000*'KTM 350 EXC-F'!$C$8/'KTM 350 EXC-F'!$D$8 -> 40.614338 | H9: =$A9*60*'KTM 350 EXC-F'!$C$17/'KTM 350 EXC-F'!$D$17*'KTM 350 EXC-F'!$F$32*PI()*'KTM 350 EXC-F'!$C$7/'KTM 350 EXC-F'!$D$7/1000*'KTM 350 EXC-F'!$C$8/'KTM 350 EXC-F'!$D$8 -> 57.12786 | I9: =$A9*60*'KTM 350 EXC-F'!$C$19/'KTM 350 EXC-F'!$D$19*'KTM 350 EXC-F'!$F$32*PI()*'KTM 350 EXC-F'!$C$7/'KTM 350 EXC-F'!$D$7/1000*'KTM 350 EXC-F'!$C$8/'KTM 350 EXC-F'!$D$8 -> 74.266217 | J9: =$A9*60*'KTM 350 EXC-F'!$C$21/'KTM 350 EXC-F'!$D$21*'KTM 350 EXC-F'!$F$32*PI()*'KTM 350 EXC-F'!$C$7/'KTM 350 EXC-F'!$D$7/1000*'KTM 350 EXC-F'!$C$8/'KTM 350 EXC-F'!$D$8 -> 88.796564 | K9: =$A9*60*'KTM 350 EXC-F'!$C$23/'KTM 350 EXC-F'!$D$23*'KTM 350 EXC-F'!$F$32*PI()*'KTM 350 EXC-F'!$C$7/'KTM 350 EXC-F'!$D$7/1000*'KTM 350 EXC-F'!$C$8/'KTM 350 EXC-F'!$D$8 -> 105.49179 | L9: =$A9*60*'KTM 350 EXC-F'!$C$25/'KTM 350 EXC-F'!$D$25*'KTM 350 EXC-F'!$F$32*PI()*'KTM 350 EXC-F'!$C$7/'KTM 350 EXC-F'!$D$7/1000*'KTM 350 EXC-F'!$C$8/'KTM 350 EXC-F'!$D$8 -> 120.6826 | O9: =($C9*1000)/($G9*(1000/3600)) -> 2919.0916 | P9: =($C9*1000)/($H9*(1000/3600)) -> 2075.2917 | Q9: =($C9*1000)/($I9*(1000/3600)) -> 1596.3782 | R9: =($C9*1000)/($J9*(1000/3600)) -> 1335.1527 | S9: =($C9*1000)/($K9*(1000/3600)) -> 1123.8503 | T9: =($C9*1000)/($L9*(1000/3600)) -> 982.38661
A10: 9000 | B10: 45 | C10: =9.5488*(D10*1000)/A10 -> 35.602695 | D10: =0.745699872*B10 -> 33.556494 | G10: =$A10*60*'KTM 350 EXC-F'!$C$15/'KTM 350 EXC-F'!$D$15*'KTM 350 EXC-F'!$F$32*PI()*'KTM 350 EXC-F'!$C$7/'KTM 350 EXC-F'!$D$7/1000*'KTM 350 EXC-F'!$C$8/'KTM 350 EXC-F'!$D$8 -> 45.69113 | H10: =$A10*60*'KTM 350 EXC-F'!$C$17/'KTM 350 EXC-F'!$D$17*'KTM 350 EXC-F'!$F$32*PI()*'KTM 350 EXC-F'!$C$7/'KTM 350 EXC-F'!$D$7/1000*'KTM 350 EXC-F'!$C$8/'KTM 350 EXC-F'!$D$8 -> 64.268842 | I10: =$A10*60*'KTM 350 EXC-F'!$C$19/'KTM 350 EXC-F'!$D$19*'KTM 350 EXC-F'!$F$32*PI()*'KTM 350 EXC-F'!$C$7/'KTM 350 EXC-F'!$D$7/1000*'KTM 350 EXC-F'!$C$8/'KTM 350 EXC-F'!$D$8 -> 83.549495 | J10: =$A10*60*'KTM 350 EXC-F'!$C$21/'KTM 350 EXC-F'!$D$21*'KTM 350 EXC-F'!$F$32*PI()*'KTM 350 EXC-F'!$C$7/'KTM 350 EXC-F'!$D$7/1000*'KTM 350 EXC-F'!$C$8/'KTM 350 EXC-F'!$D$8 -> 99.896135 | K10: =$A10*60*'KTM 350 EXC-F'!$C$23/'KTM 350 EXC-F'!$D$23*'KTM 350 EXC-F'!$F$32*PI()*'KTM 350 EXC-F'!$C$7/'KTM 350 EXC-F'!$D$7/1000*'KTM 350 EXC-F'!$C$8/'KTM 350 EXC-F'!$D$8 -> 118.67826 | L10: =$A10*60*'KTM 350 EXC-F'!$C$25/'KTM 350 EXC-F'!$D$25*'KTM 350 EXC-F'!$F$32*PI()*'KTM 350 EXC-F'!$C$7/'KTM 350 EXC-F'!$D$7/1000*'KTM 350 EXC-F'!$C$8/'KTM 350 EXC-F'!$D$8 -> 135.76793 | O10: =($C10*1000)/($G10*(1000/3600)) -> 2805.1331 | P10: =($C10*1000)/($H10*(1000/3600)) -> 1994.2743 | Q10: =($C10*1000)/($I10*(1000/3600)) -> 1534.0572 | R10: =($C10*1000)/($J10*(1000/3600)) -> 1283.0296 | S10: =($C10*1000)/($K10*(1000/3600)) -> 1079.9762 | T10: =($C10*1000)/($L10*(1000/3600)) -> 944.03518
A11: 10000 | B11: 47 | C11: =9.5488*(D11*1000)/A11 -> 33.466533 | D11: =0.745699872*B11 -> 35.047894 | G11: =$A11*60*'KTM 350 EXC-F'!$C$15/'KTM 350 EXC-F'!$D$15*'KTM 350 EXC-F'!$F$32*PI()*'KTM 350 EXC-F'!$C$7/'KTM 350 EXC-F'!$D$7/1000*'KTM 350 EXC-F'!$C$8/'KTM 350 EXC-F'!$D$8 -> 50.767922 | H11: =$A11*60*'KTM 350 EXC-F'!$C$17/'KTM 350 EXC-F'!$D$17*'KTM 350 EXC-F'!$F$32*PI()*'KTM 350 EXC-F'!$C$7/'KTM 350 EXC-F'!$D$7/1000*'KTM 350 EXC-F'!$C$8/'KTM 350 EXC-F'!$D$8 -> 71.409824 | I11: =$A11*60*'KTM 350 EXC-F'!$C$19/'KTM 350 EXC-F'!$D$19*'KTM 350 EXC-F'!$F$32*PI()*'KTM 350 EXC-F'!$C$7/'KTM 350 EXC-F'!$D$7/1000*'KTM 350 EXC-F'!$C$8/'KTM 350 EXC-F'!$D$8 -> 92.832772 | J11: =$A11*60*'KTM 350 EXC-F'!$C$21/'KTM 350 EXC-F'!$D$21*'KTM 350 EXC-F'!$F$32*PI()*'KTM 350 EXC-F'!$C$7/'KTM 350 EXC-F'!$D$7/1000*'KTM 350 EXC-F'!$C$8/'KTM 350 EXC-F'!$D$8 -> 110.99571 | K11: =$A11*60*'KTM 350 EXC-F'!$C$23/'KTM 350 EXC-F'!$D$23*'KTM 350 EXC-F'!$F$32*PI()*'KTM 350 EXC-F'!$C$7/'KTM 350 EXC-F'!$D$7/1000*'KTM 350 EXC-F'!$C$8/'KTM 350 EXC-F'!$D$8 -> 131.86473 | L11: =$A11*60*'KTM 350 EXC-F'!$C$25/'KTM 350 EXC-F'!$D$25*'KTM 350 EXC-F'!$F$32*PI()*'KTM 350 EXC-F'!$C$7/'KTM 350 EXC-F'!$D$7/1000*'KTM 350 EXC-F'!$C$8/'KTM 350 EXC-F'!$D$8 -> 150.85325 | O11: =($C11*1000)/($G11*(1000/3600)) -> 2373.1426 | P11: =($C11*1000)/($H11*(1000/3600)) -> 1687.1561 | Q11: =($C11*1000)/($I11*(1000/3600)) -> 1297.8124 | R11: =($C11*1000)/($J11*(1000/3600)) -> 1085.4431 | S11: =($C11*1000)/($K11*(1000/3600)) -> 913.6599 | T11: =($C11*1000)/($L11*(1000/3600)) -> 798.65376
A12: 11000 | B12: 49 | C12: =9.5488*(D12*1000)/A12 -> 31.718764 | D12: =0.745699872*B12 -> 36.539294 | G12: =$A12*60*'KTM 350 EXC-F'!$C$15/'KTM 350 EXC-F'!$D$15*'KTM 350 EXC-F'!$F$32*PI()*'KTM 350 EXC-F'!$C$7/'KTM 350 EXC-F'!$D$7/1000*'KTM 350 EXC-F'!$C$8/'KTM 350 EXC-F'!$D$8 -> 55.844714 | H12: =$A12*60*'KTM 350 EXC-F'!$C$17/'KTM 350 EXC-F'!$D$17*'KTM 350 EXC-F'!$F$32*PI()*'KTM 350 EXC-F'!$C$7/'KTM 350 EXC-F'!$D$7/1000*'KTM 350 EXC-F'!$C$8/'KTM 350 EXC-F'!$D$8 -> 78.550807 | I12: =$A12*60*'KTM 350 EXC-F'!$C$19/'KTM 350 EXC-F'!$D$19*'KTM 350 EXC-F'!$F$32*PI()*'KTM 350 EXC-F'!$C$7/'KTM 350 EXC-F'!$D$7/1000*'KTM 350 EXC-F'!$C$8/'KTM 350 EXC-F'!$D$8 -> 102.11605 | J12: =$A12*60*'KTM 350 EXC-F'!$C$21/'KTM 350 EXC-F'!$D$21*'KTM 350 EXC-F'!$F$32*PI()*'KTM 350 EXC-F'!$C$7/'KTM 350 EXC-F'!$D$7/1000*'KTM 350 EXC-F'!$C$8/'KTM 350 EXC-F'!$D$8 -> 122.09528 | K12: =$A12*60*'KTM 350 EXC-F'!$C$23/'KTM 350 EXC-F'!$D$23*'KTM 350 EXC-F'!$F$32*PI()*'KTM 350 EXC-F'!$C$7/'KTM 350 EXC-F'!$D$7/1000*'KTM 350 EXC-F'!$C$8/'KTM 350 EXC-F'!$D$8 -> 145.05121 | L12: =$A12*60*'KTM 350 EXC-F'!$C$25/'KTM 350 EXC-F'!$D$25*'KTM 350 EXC-F'!$F$32*PI()*'KTM 350 EXC-F'!$C$7/'KTM 350 EXC-F'!$D$7/1000*'KTM 350 EXC-F'!$C$8/'KTM 350 EXC-F'!$D$8 -> 165.93858 | O12: =($C12*1000)/($G12*(1000/3600)) -> 2044.7334 | P12: =($C12*1000)/($H12*(1000/3600)) -> 1453.6776 | Q12: =($C12*1000)/($I12*(1000/3600)) -> 1118.2136 | R12: =($C12*1000)/($J12*(1000/3600)) -> 935.23317 | S12: =($C12*1000)/($K12*(1000/3600)) -> 787.22235 | T12: =($C12*1000)/($L12*(1000/3600)) -> 688.13143
A13: 12000 | B13: 50 | C13: =9.5488*(D13*1000)/A13 -> 29.668912 | D13: =0.745699872*B13 -> 37.284994 | G13: =$A13*60*'KTM 350 EXC-F'!$C$15/'KTM 350 EXC-F'!$D$15*'KTM 350 EXC-F'!$F$32*PI()*'KTM 350 EXC-F'!$C$7/'KTM 350 EXC-F'!$D$7/1000*'KTM 350 EXC-F'!$C$8/'KTM 350 EXC-F'!$D$8 -> 60.921507 | H13: =$A13*60*'KTM 350 EXC-F'!$C$17/'KTM 350 EXC-F'!$D$17*'KTM 350 EXC-F'!$F$32*PI()*'KTM 350 EXC-F'!$C$7/'KTM 350 EXC-F'!$D$7/1000*'KTM 350 EXC-F'!$C$8/'KTM 350 EXC-F'!$D$8 -> 85.691789 | I13: =$A13*60*'KTM 350 EXC-F'!$C$19/'KTM 350 EXC-F'!$D$19*'KTM 350 EXC-F'!$F$32*PI()*'KTM 350 EXC-F'!$C$7/'KTM 350 EXC-F'!$D$7/1000*'KTM 350 EXC-F'!$C$8/'KTM 350 EXC-F'!$D$8 -> 111.39933 | J13: =$A13*60*'KTM 350 EXC-F'!$C$21/'KTM 350 EXC-F'!$D$21*'KTM 350 EXC-F'!$F$32*PI()*'KTM 350 EXC-F'!$C$7/'KTM 350 EXC-F'!$D$7/1000*'KTM 350 EXC-F'!$C$8/'KTM 350 EXC-F'!$D$8 -> 133.19485 | K13: =$A13*60*'KTM 350 EXC-F'!$C$23/'KTM 350 EXC-F'!$D$23*'KTM 350 EXC-F'!$F$32*PI()*'KTM 350 EXC-F'!$C$7/'KTM 350 EXC-F'!$D$7/1000*'KTM 350 EXC-F'!$C$8/'KTM 350 EXC-F'!$D$8 -> 158.23768 | L13: =$A13*60*'KTM 350 EXC-F'!$C$25/'KTM 350 EXC-F'!$D$25*'KTM 350 EXC-F'!$F$32*PI()*'KTM 350 EXC-F'!$C$7/'KTM 350 EXC-F'!$D$7/1000*'KTM 350 EXC-F'!$C$8/'KTM 350 EXC-F'!$D$8 -> 181.02391 | O13: =($C13*1000)/($G13*(1000/3600)) -> 1753.2082 | P13: =($C13*1000)/($H13*(1000/3600)) -> 1246.4214 | Q13: =($C13*1000)/($I13*(1000/3600)) -> 958.78573 | R13: =($C13*1000)/($J13*(1000/3600)) -> 801.89352 | S13: =($C13*1000)/($K13*(1000/3600)) -> 674.98515 | T13: =($C13*1000)/($L13*(1000/3600)) -> 590.02199
A14: 13000 | B14: 50 | C14: =9.5488*(D14*1000)/A14 -> 27.386688 | D14: =0.745699872*B14 -> 37.284994 | G14: =$A14*60*'KTM 350 EXC-F'!$C$15/'KTM 350 EXC-F'!$D$15*'KTM 350 EXC-F'!$F$32*PI()*'KTM 350 EXC-F'!$C$7/'KTM 350 EXC-F'!$D$7/1000*'KTM 350 EXC-F'!$C$8/'KTM 350 EXC-F'!$D$8 -> 65.998299 | H14: =$A14*60*'KTM 350 EXC-F'!$C$17/'KTM 350 EXC-F'!$D$17*'KTM 350 EXC-F'!$F$32*PI()*'KTM 350 EXC-F'!$C$7/'KTM 350 EXC-F'!$D$7/1000*'KTM 350 EXC-F'!$C$8/'KTM 350 EXC-F'!$D$8 -> 92.832772 | I14: =$A14*60*'KTM 350 EXC-F'!$C$19/'KTM 350 EXC-F'!$D$19*'KTM 350 EXC-F'!$F$32*PI()*'KTM 350 EXC-F'!$C$7/'KTM 350 EXC-F'!$D$7/1000*'KTM 350 EXC-F'!$C$8/'KTM 350 EXC-F'!$D$8 -> 120.6826 | J14: =$A14*60*'KTM 350 EXC-F'!$C$21/'KTM 350 EXC-F'!$D$21*'KTM 350 EXC-F'!$F$32*PI()*'KTM 350 EXC-F'!$C$7/'KTM 350 EXC-F'!$D$7/1000*'KTM 350 EXC-F'!$C$8/'KTM 350 EXC-F'!$D$8 -> 144.29442 | K14: =$A14*60*'KTM 350 EXC-F'!$C$23/'KTM 350 EXC-F'!$D$23*'KTM 350 EXC-F'!$F$32*PI()*'KTM 350 EXC-F'!$C$7/'KTM 350 EXC-F'!$D$7/1000*'KTM 350 EXC-F'!$C$8/'KTM 350 EXC-F'!$D$8 -> 171.42415 | L14: =$A14*60*'KTM 350 EXC-F'!$C$25/'KTM 350 EXC-F'!$D$25*'KTM 350 EXC-F'!$F$32*PI()*'KTM 350 EXC-F'!$C$7/'KTM 350 EXC-F'!$D$7/1000*'KTM 350 EXC-F'!$C$8/'KTM 350 EXC-F'!$D$8 -> 196.10923 | O14: =($C14*1000)/($G14*(1000/3600)) -> 1493.8579 | P14: =($C14*1000)/($H14*(1000/3600)) -> 1062.0396 | Q14: =($C14*1000)/($I14*(1000/3600)) -> 816.95352 | R14: =($C14*1000)/($J14*(1000/3600)) -> 683.27022 | S14: =($C14*1000)/($K14*(1000/3600)) -> 575.13528 | T14: =($C14*1000)/($L14*(1000/3600)) -> 502.74063
B16: https://cloudfront-us-east-1.images.arcpublishing.com/octane/7LUNSV4GOFGSXDQCBI5R6C3NT4.jpg
