Workbook

Sheet Gearbox
B2: Gearbox: | J2: Swingarm:
J3: Chain Links | K3: 114 | AA3: Revs: | AC3: Gear Teeth:
J4: Chain Size (Inches) | K4: =5/8 -> 0.625 | AA4: 5000 | AC4: 1
C5: In | D5: Out | F5: Wheel Diameter (m) | G5: 0.640842 | J5: Swingarm Length (mm) | K5: =0.5*(K3-0.5*(C7+D7))*25.4*K4-95 -> 583.65625 | AA5: =AA4+100 -> 5100 | AC5: =AC4+1 -> 2
B6: Primary Drive | C6: 41 | D6: 67 | F6: RPM Limit | G6: 14500 | AA6: =AA5+100 -> 5200 | AC6: =AC5+1 -> 3
B7: Final Drive | C7: 16 | D7: 41 | AA7: =AA6+100 -> 5300 | AC7: =AC6+1 -> 4
AA8: =AA7+100 -> 5400 | AC8: =AC7+1 -> 5
AA9: =AA8+100 -> 5500 | AC9: =AC8+1 -> 6
C10: Mainshaft | D10: Countershaft | E10: Ratio | F10: Road Speed (km/h) | G10: Revs | H10: Rev Falls | AA10: =AA9+100 -> 5600 | AC10: =AC9+1 -> 7
B11: 1st Gear | C11: 15 | D11: 39 | E11: 2.6 | F11: =(($G$6*60*(C11/D11)*($C$6/$D$6)*$G$5*PI())/1000)*($C$7/$D$7) -> 160.87625 | G11: =$G$6 -> 14500 | AA11: =AA10+100 -> 5700 | AC11: =AC10+1 -> 8
G12: =$G$6*(C11/D11)*(D13/C13) -> 12138.009 | H12: =G11-G12 -> 2361.991 | AA12: =AA11+100 -> 5800 | AC12: =AC11+1 -> 9
B13: 2nd Gear | C13: 17 | D13: 37 | E13: 2.176 | F13: =(($G$6*60*(C13/D13)*($C$6/$D$6)*$G$5*PI())/1000)*($C$7/$D$7) -> 192.18189 | G13: 14500 | AA13: =AA12+100 -> 5900 | AC13: =AC12+1 -> 10
G14: =$G$6*(C13/D13)*(D15/C15) -> 12272.404 | H14: =G13-G14 -> 2227.596 | AA14: =AA13+100 -> 6000 | AC14: =AC13+1 -> 11
B15: 3rd Gear | C15: 19 | D15: 35 | E15: 1.824 | F15: =(($G$6*60*(C15/D15)*($C$6/$D$6)*$G$5*PI())/1000)*($C$7/$D$7) -> 227.06533 | G15: 14500 | AA15: =AA14+100 -> 6100 | AC15: =AC14+1 -> 12
G16: =$G$6*(C15/D15)*(D17/C17) -> 12428.571 | H16: =G15-G16 -> 2071.4286 | AA16: =AA15+100 -> 6200 | AC16: =AC15+1 -> 13
B17: 4th Gear | C17: 19 | D17: 30 | E17: 1.579 | F17: =(($G$6*60*(C17/D17)*($C$6/$D$6)*$G$5*PI())/1000)*($C$7/$D$7) -> 264.90955 | G17: 14500 | AA17: =AA16+100 -> 6300 | AC17: =AC16+1 -> 14
G18: =$G$6*(C17/D17)*(D19/C19) -> 12681.746 | H18: =G17-G18 -> 1818.254 | AA18: =AA17+100 -> 6400 | AC18: =AC17+1 -> 15
B19: 5th Gear | C19: 21 | D19: 29 | E19: 1.381 | F19: =(($G$6*60*(C19/D19)*($C$6/$D$6)*$G$5*PI())/1000)*($C$7/$D$7) -> 302.89114 | G19: 14500 | AA19: =AA18+100 -> 6500 | AC19: =AC18+1 -> 16
G20: =$G$6*(C19/D19)*(D21/C21) -> 13125 | H20: =G19-G20 -> 1375 | AA20: =AA19+100 -> 6600 | AC20: =AC19+1 -> 17
B21: 6th Gear | C21: 24 | D21: 30 | E21: 1.25 | F21: =(($G$6*60*(C21/D21)*($C$6/$D$6)*$G$5*PI())/1000)*($C$7/$D$7) -> 334.62259 | G21: 14500 | AA21: =AA20+100 -> 6700 | AC21: =AC20+1 -> 18
AA22: =AA21+100 -> 6800 | AC22: =AC21+1 -> 19
AA23: =AA22+100 -> 6900 | AC23: =AC22+1 -> 20
AA24: =AA23+100 -> 7000 | AC24: =AC23+1 -> 21
AA25: =AA24+100 -> 7100 | AC25: =AC24+1 -> 22
AA26: =AA25+100 -> 7200 | AC26: =AC25+1 -> 23
AA27: =AA26+100 -> 7300 | AC27: =AC26+1 -> 24
AA28: =AA27+100 -> 7400 | AC28: =AC27+1 -> 25
AA29: =AA28+100 -> 7500 | AC29: =AC28+1 -> 26
AA30: =AA29+100 -> 7600 | AC30: =AC29+1 -> 27
AA31: =AA30+100 -> 7700 | AC31: =AC30+1 -> 28
AA32: =AA31+100 -> 7800 | AC32: =AC31+1 -> 29
AA33: =AA32+100 -> 7900 | AC33: =AC32+1 -> 30
... AA78: =AA77+100 -> 12400 | AC78: =AC77+1 -> 75
AA79: =AA78+100 -> 12500
AA80: =AA79+100 -> 12600
AA81: =AA80+100 -> 12700
AA82: =AA81+100 -> 12800
AA83: =AA82+100 -> 12900
AA84: =AA83+100 -> 13000
AA85: =AA84+100 -> 13100
...

Sheet Road Speed and Driving Force
A1: RPM | B1: Power (hp) | C1: Torque (ft-lbs) | D1: Torque (Nm) | E1: Power (kW) | H1: Road Speed 1st(km/h) | I1: Road Speed 2nd (km/h) | J1: Road Speed 3rd (km/h) | K1: Road Speed 4th (km/h) | L1: Road Speed 5th (km/h) | M1: Road Speed 6th (km/h) | O1: Driving Force 1st (N) | P1: Driving Force 2nd (N) | Q1: Driving Force 3rd (N) | R1: Driving Force 4th (N) | S1: Driving Force 5th (N) | T1: Driving Force (6th) (N)
A2: 4000 | B2: 40 | C2: 53 | D2: =C2*1.3558 -> 71.8574 | E2: =B2*0.7457 -> 29.828 | H2: =((A2*60*(Gearbox!$C$11/Gearbox!$D$11)*(Gearbox!$C$6/Gearbox!$D$6)*Gearbox!$G$5*PI())/1000)*(Gearbox!$C$7/Gearbox!$D$7) -> 44.379654 | I2: =((A2*60*(Gearbox!$C$13/Gearbox!$D$13)*(Gearbox!$C$6/Gearbox!$D$6)*Gearbox!$G$5*PI())/1000)*(Gearbox!$C$7/Gearbox!$D$7) -> 53.015695 | J2: =((A2*60*(Gearbox!$C$15/Gearbox!$D$15)*(Gearbox!$C$6/Gearbox!$D$6)*Gearbox!$G$5*PI())/1000)*(Gearbox!$C$7/Gearbox!$D$7) -> 62.638712 | K2: =((A2*60*(Gearbox!$C$17/Gearbox!$D$17)*(Gearbox!$C$6/Gearbox!$D$6)*Gearbox!$G$5*PI())/1000)*(Gearbox!$C$7/Gearbox!$D$7) -> 73.078497 | L2: =((A2*60*(Gearbox!$C$19/Gearbox!$D$19)*(Gearbox!$C$6/Gearbox!$D$6)*Gearbox!$G$5*PI())/1000)*(Gearbox!$C$7/Gearbox!$D$7) -> 83.556176 | M2: =((A2*60*(Gearbox!$C$21/Gearbox!$D$21)*(Gearbox!$C$6/Gearbox!$D$6)*Gearbox!$G$5*PI())/1000)*(Gearbox!$C$7/Gearbox!$D$7) -> 92.309681 | O2: =($E2*1000)/(H2*(1000/3600)) -> 2419.5952 | P2: =($E2*1000)/(I2*(1000/3600)) -> 2025.453 | Q2: =($E2*1000)/(J2*(1000/3600)) -> 1714.2881 | R2: =($E2*1000)/(K2*(1000/3600)) -> 1469.3898 | S2: =($E2*1000)/(L2*(1000/3600)) -> 1285.133 | T2: =($E2*1000)/(M2*(1000/3600)) -> 1163.2669
A3: =A2+500 -> 4500 | B3: 48 | C3: 56 | D3: =C3*1.3558 -> 75.9248 | E3: =B3*0.7457 -> 35.7936 | H3: =((A3*60*(Gearbox!$C$11/Gearbox!$D$11)*(Gearbox!$C$6/Gearbox!$D$6)*Gearbox!$G$5*PI())/1000)*(Gearbox!$C$7/Gearbox!$D$7) -> 49.927111 | I3: =((A3*60*(Gearbox!$C$13/Gearbox!$D$13)*(Gearbox!$C$6/Gearbox!$D$6)*Gearbox!$G$5*PI())/1000)*(Gearbox!$C$7/Gearbox!$D$7) -> 59.642657 | J3: =((A3*60*(Gearbox!$C$15/Gearbox!$D$15)*(Gearbox!$C$6/Gearbox!$D$6)*Gearbox!$G$5*PI())/1000)*(Gearbox!$C$7/Gearbox!$D$7) -> 70.468551 | K3: =((A3*60*(Gearbox!$C$17/Gearbox!$D$17)*(Gearbox!$C$6/Gearbox!$D$6)*Gearbox!$G$5*PI())/1000)*(Gearbox!$C$7/Gearbox!$D$7) -> 82.213309 | L3: =((A3*60*(Gearbox!$C$19/Gearbox!$D$19)*(Gearbox!$C$6/Gearbox!$D$6)*Gearbox!$G$5*PI())/1000)*(Gearbox!$C$7/Gearbox!$D$7) -> 94.000699 | M3: =((A3*60*(Gearbox!$C$21/Gearbox!$D$21)*(Gearbox!$C$6/Gearbox!$D$6)*Gearbox!$G$5*PI())/1000)*(Gearbox!$C$7/Gearbox!$D$7) -> 103.84839 | O3: =($E3*1000)/(H3*(1000/3600)) -> 2580.9016 | P3: =($E3*1000)/(I3*(1000/3600)) -> 2160.4832 | Q3: =($E3*1000)/(J3*(1000/3600)) -> 1828.574 | R3: =($E3*1000)/(K3*(1000/3600)) -> 1567.3491 | S3: =($E3*1000)/(L3*(1000/3600)) -> 1370.8085 | T3: =($E3*1000)/(M3*(1000/3600)) -> 1240.8181
A4: =A3+500 -> 5000 | B4: 55 | C4: 56 | D4: =C4*1.3558 -> 75.9248 | E4: =B4*0.7457 -> 41.0135 | H4: =((A4*60*(Gearbox!$C$11/Gearbox!$D$11)*(Gearbox!$C$6/Gearbox!$D$6)*Gearbox!$G$5*PI())/1000)*(Gearbox!$C$7/Gearbox!$D$7) -> 55.474568 | I4: =((A4*60*(Gearbox!$C$13/Gearbox!$D$13)*(Gearbox!$C$6/Gearbox!$D$6)*Gearbox!$G$5*PI())/1000)*(Gearbox!$C$7/Gearbox!$D$7) -> 66.269619 | J4: =((A4*60*(Gearbox!$C$15/Gearbox!$D$15)*(Gearbox!$C$6/Gearbox!$D$6)*Gearbox!$G$5*PI())/1000)*(Gearbox!$C$7/Gearbox!$D$7) -> 78.29839 | K4: =((A4*60*(Gearbox!$C$17/Gearbox!$D$17)*(Gearbox!$C$6/Gearbox!$D$6)*Gearbox!$G$5*PI())/1000)*(Gearbox!$C$7/Gearbox!$D$7) -> 91.348121 | L4: =((A4*60*(Gearbox!$C$19/Gearbox!$D$19)*(Gearbox!$C$6/Gearbox!$D$6)*Gearbox!$G$5*PI())/1000)*(Gearbox!$C$7/Gearbox!$D$7) -> 104.44522 | M4: =((A4*60*(Gearbox!$C$21/Gearbox!$D$21)*(Gearbox!$C$6/Gearbox!$D$6)*Gearbox!$G$5*PI())/1000)*(Gearbox!$C$7/Gearbox!$D$7) -> 115.3871 | O4: =($E4*1000)/(H4*(1000/3600)) -> 2661.5548 | P4: =($E4*1000)/(I4*(1000/3600)) -> 2227.9983 | Q4: =($E4*1000)/(J4*(1000/3600)) -> 1885.7169 | R4: =($E4*1000)/(K4*(1000/3600)) -> 1616.3288 | S4: =($E4*1000)/(L4*(1000/3600)) -> 1413.6463 | T4: =($E4*1000)/(M4*(1000/3600)) -> 1279.5936
A5: =A4+500 -> 5500 | B5: 60 | C5: 57 | D5: =C5*1.3558 -> 77.2806 | E5: =B5*0.7457 -> 44.742 | H5: =((A5*60*(Gearbox!$C$11/Gearbox!$D$11)*(Gearbox!$C$6/Gearbox!$D$6)*Gearbox!$G$5*PI())/1000)*(Gearbox!$C$7/Gearbox!$D$7) -> 61.022024 | I5: =((A5*60*(Gearbox!$C$13/Gearbox!$D$13)*(Gearbox!$C$6/Gearbox!$D$6)*Gearbox!$G$5*PI())/1000)*(Gearbox!$C$7/Gearbox!$D$7) -> 72.896581 | J5: =((A5*60*(Gearbox!$C$15/Gearbox!$D$15)*(Gearbox!$C$6/Gearbox!$D$6)*Gearbox!$G$5*PI())/1000)*(Gearbox!$C$7/Gearbox!$D$7) -> 86.128229 | K5: =((A5*60*(Gearbox!$C$17/Gearbox!$D$17)*(Gearbox!$C$6/Gearbox!$D$6)*Gearbox!$G$5*PI())/1000)*(Gearbox!$C$7/Gearbox!$D$7) -> 100.48293 | L5: =((A5*60*(Gearbox!$C$19/Gearbox!$D$19)*(Gearbox!$C$6/Gearbox!$D$6)*Gearbox!$G$5*PI())/1000)*(Gearbox!$C$7/Gearbox!$D$7) -> 114.88974 | M5: =((A5*60*(Gearbox!$C$21/Gearbox!$D$21)*(Gearbox!$C$6/Gearbox!$D$6)*Gearbox!$G$5*PI())/1000)*(Gearbox!$C$7/Gearbox!$D$7) -> 126.92581 | O5: =($E5*1000)/(H5*(1000/3600)) -> 2639.5584 | P5: =($E5*1000)/(I5*(1000/3600)) -> 2209.5851 | Q5: =($E5*1000)/(J5*(1000/3600)) -> 1870.1325 | R5: =($E5*1000)/(K5*(1000/3600)) -> 1602.9707 | S5: =($E5*1000)/(L5*(1000/3600)) -> 1401.9633 | T5: =($E5*1000)/(M5*(1000/3600)) -> 1269.0185
A6: =A5+500 -> 6000 | B6: 63 | C6: 55 | D6: =C6*1.3558 -> 74.569 | E6: =B6*0.7457 -> 46.9791 | H6: =((A6*60*(Gearbox!$C$11/Gearbox!$D$11)*(Gearbox!$C$6/Gearbox!$D$6)*Gearbox!$G$5*PI())/1000)*(Gearbox!$C$7/Gearbox!$D$7) -> 66.569481 | I6: =((A6*60*(Gearbox!$C$13/Gearbox!$D$13)*(Gearbox!$C$6/Gearbox!$D$6)*Gearbox!$G$5*PI())/1000)*(Gearbox!$C$7/Gearbox!$D$7) -> 79.523542 | J6: =((A6*60*(Gearbox!$C$15/Gearbox!$D$15)*(Gearbox!$C$6/Gearbox!$D$6)*Gearbox!$G$5*PI())/1000)*(Gearbox!$C$7/Gearbox!$D$7) -> 93.958068 | K6: =((A6*60*(Gearbox!$C$17/Gearbox!$D$17)*(Gearbox!$C$6/Gearbox!$D$6)*Gearbox!$G$5*PI())/1000)*(Gearbox!$C$7/Gearbox!$D$7) -> 109.61775 | L6: =((A6*60*(Gearbox!$C$19/Gearbox!$D$19)*(Gearbox!$C$6/Gearbox!$D$6)*Gearbox!$G$5*PI())/1000)*(Gearbox!$C$7/Gearbox!$D$7) -> 125.33426 | M6: =((A6*60*(Gearbox!$C$21/Gearbox!$D$21)*(Gearbox!$C$6/Gearbox!$D$6)*Gearbox!$G$5*PI())/1000)*(Gearbox!$C$7/Gearbox!$D$7) -> 138.46452 | O6: =($E6*1000)/(H6*(1000/3600)) -> 2540.575 | P6: =($E6*1000)/(I6*(1000/3600)) -> 2126.7257 | Q6: =($E6*1000)/(J6*(1000/3600)) -> 1800.0025 | R6: =($E6*1000)/(K6*(1000/3600)) -> 1542.8593 | S6: =($E6*1000)/(L6*(1000/3600)) -> 1349.3897 | T6: =($E6*1000)/(M6*(1000/3600)) -> 1221.4303
A7: =A6+500 -> 6500 | B7: 70 | C7: 56 | D7: =C7*1.3558 -> 75.9248 | E7: =B7*0.7457 -> 52.199 | H7: =((A7*60*(Gearbox!$C$11/Gearbox!$D$11)*(Gearbox!$C$6/Gearbox!$D$6)*Gearbox!$G$5*PI())/1000)*(Gearbox!$C$7/Gearbox!$D$7) -> 72.116938 | I7: =((A7*60*(Gearbox!$C$13/Gearbox!$D$13)*(Gearbox!$C$6/Gearbox!$D$6)*Gearbox!$G$5*PI())/1000)*(Gearbox!$C$7/Gearbox!$D$7) -> 86.150504 | J7: =((A7*60*(Gearbox!$C$15/Gearbox!$D$15)*(Gearbox!$C$6/Gearbox!$D$6)*Gearbox!$G$5*PI())/1000)*(Gearbox!$C$7/Gearbox!$D$7) -> 101.78791 | K7: =((A7*60*(Gearbox!$C$17/Gearbox!$D$17)*(Gearbox!$C$6/Gearbox!$D$6)*Gearbox!$G$5*PI())/1000)*(Gearbox!$C$7/Gearbox!$D$7) -> 118.75256 | L7: =((A7*60*(Gearbox!$C$19/Gearbox!$D$19)*(Gearbox!$C$6/Gearbox!$D$6)*Gearbox!$G$5*PI())/1000)*(Gearbox!$C$7/Gearbox!$D$7) -> 135.77879 | M7: =((A7*60*(Gearbox!$C$21/Gearbox!$D$21)*(Gearbox!$C$6/Gearbox!$D$6)*Gearbox!$G$5*PI())/1000)*(Gearbox!$C$7/Gearbox!$D$7) -> 150.00323 | O7: =($E7*1000)/(H7*(1000/3600)) -> 2605.718 | P7: =($E7*1000)/(I7*(1000/3600)) -> 2181.2571 | Q7: =($E7*1000)/(J7*(1000/3600)) -> 1846.1564 | R7: =($E7*1000)/(K7*(1000/3600)) -> 1582.4198 | S7: =($E7*1000)/(L7*(1000/3600)) -> 1383.9894 | T7: =($E7*1000)/(M7*(1000/3600)) -> 1252.749
A8: =A7+500 -> 7000 | B8: 78 | C8: 58 | D8: =C8*1.3558 -> 78.6364 | E8: =B8*0.7457 -> 58.1646 | H8: =((A8*60*(Gearbox!$C$11/Gearbox!$D$11)*(Gearbox!$C$6/Gearbox!$D$6)*Gearbox!$G$5*PI())/1000)*(Gearbox!$C$7/Gearbox!$D$7) -> 77.664395 | I8: =((A8*60*(Gearbox!$C$13/Gearbox!$D$13)*(Gearbox!$C$6/Gearbox!$D$6)*Gearbox!$G$5*PI())/1000)*(Gearbox!$C$7/Gearbox!$D$7) -> 92.777466 | J8: =((A8*60*(Gearbox!$C$15/Gearbox!$D$15)*(Gearbox!$C$6/Gearbox!$D$6)*Gearbox!$G$5*PI())/1000)*(Gearbox!$C$7/Gearbox!$D$7) -> 109.61775 | K8: =((A8*60*(Gearbox!$C$17/Gearbox!$D$17)*(Gearbox!$C$6/Gearbox!$D$6)*Gearbox!$G$5*PI())/1000)*(Gearbox!$C$7/Gearbox!$D$7) -> 127.88737 | L8: =((A8*60*(Gearbox!$C$19/Gearbox!$D$19)*(Gearbox!$C$6/Gearbox!$D$6)*Gearbox!$G$5*PI())/1000)*(Gearbox!$C$7/Gearbox!$D$7) -> 146.22331 | M8: =((A8*60*(Gearbox!$C$21/Gearbox!$D$21)*(Gearbox!$C$6/Gearbox!$D$6)*Gearbox!$G$5*PI())/1000)*(Gearbox!$C$7/Gearbox!$D$7) -> 161.54194 | O8: =($E8*1000)/(H8*(1000/3600)) -> 2696.1204 | P8: =($E8*1000)/(I8*(1000/3600)) -> 2256.9334 | Q8: =($E8*1000)/(J8*(1000/3600)) -> 1910.2068 | R8: =($E8*1000)/(K8*(1000/3600)) -> 1637.3201 | S8: =($E8*1000)/(L8*(1000/3600)) -> 1432.0053 | T8: =($E8*1000)/(M8*(1000/3600)) -> 1296.2117
A9: =A8+500 -> 7500 | B9: 88 | C9: 65 | D9: =C9*1.3558 -> 88.127 | E9: =B9*0.7457 -> 65.6216 | H9: =((A9*60*(Gearbox!$C$11/Gearbox!$D$11)*(Gearbox!$C$6/Gearbox!$D$6)*Gearbox!$G$5*PI())/1000)*(Gearbox!$C$7/Gearbox!$D$7) -> 83.211852 | I9: =((A9*60*(Gearbox!$C$13/Gearbox!$D$13)*(Gearbox!$C$6/Gearbox!$D$6)*Gearbox!$G$5*PI())/1000)*(Gearbox!$C$7/Gearbox!$D$7) -> 99.404428 | J9: =((A9*60*(Gearbox!$C$15/Gearbox!$D$15)*(Gearbox!$C$6/Gearbox!$D$6)*Gearbox!$G$5*PI())/1000)*(Gearbox!$C$7/Gearbox!$D$7) -> 117.44758 | K9: =((A9*60*(Gearbox!$C$17/Gearbox!$D$17)*(Gearbox!$C$6/Gearbox!$D$6)*Gearbox!$G$5*PI())/1000)*(Gearbox!$C$7/Gearbox!$D$7) -> 137.02218 | L9: =((A9*60*(Gearbox!$C$19/Gearbox!$D$19)*(Gearbox!$C$6/Gearbox!$D$6)*Gearbox!$G$5*PI())/1000)*(Gearbox!$C$7/Gearbox!$D$7) -> 156.66783 | M9: =((A9*60*(Gearbox!$C$21/Gearbox!$D$21)*(Gearbox!$C$6/Gearbox!$D$6)*Gearbox!$G$5*PI())/1000)*(Gearbox!$C$7/Gearbox!$D$7) -> 173.08065 | O9: =($E9*1000)/(H9*(1000/3600)) -> 2838.9917 | P9: =($E9*1000)/(I9*(1000/3600)) -> 2376.5316 | Q9: =($E9*1000)/(J9*(1000/3600)) -> 2011.4314 | R9: =($E9*1000)/(K9*(1000/3600)) -> 1724.0841 | S9: =($E9*1000)/(L9*(1000/3600)) -> 1507.8894 | T9: =($E9*1000)/(M9*(1000/3600)) -> 1364.8999
A10: =A9+500 -> 8000 | B10: 111 | C10: 73 | D10: =C10*1.3558 -> 98.9734 | E10: =B10*0.7457 -> 82.7727 | H10: =((A10*60*(Gearbox!$C$11/Gearbox!$D$11)*(Gearbox!$C$6/Gearbox!$D$6)*Gearbox!$G$5*PI())/1000)*(Gearbox!$C$7/Gearbox!$D$7) -> 88.759308 | I10: =((A10*60*(Gearbox!$C$13/Gearbox!$D$13)*(Gearbox!$C$6/Gearbox!$D$6)*Gearbox!$G$5*PI())/1000)*(Gearbox!$C$7/Gearbox!$D$7) -> 106.03139 | J10: =((A10*60*(Gearbox!$C$15/Gearbox!$D$15)*(Gearbox!$C$6/Gearbox!$D$6)*Gearbox!$G$5*PI())/1000)*(Gearbox!$C$7/Gearbox!$D$7) -> 125.27742 | K10: =((A10*60*(Gearbox!$C$17/Gearbox!$D$17)*(Gearbox!$C$6/Gearbox!$D$6)*Gearbox!$G$5*PI())/1000)*(Gearbox!$C$7/Gearbox!$D$7) -> 146.15699 | L10: =((A10*60*(Gearbox!$C$19/Gearbox!$D$19)*(Gearbox!$C$6/Gearbox!$D$6)*Gearbox!$G$5*PI())/1000)*(Gearbox!$C$7/Gearbox!$D$7) -> 167.11235 | M10: =((A10*60*(Gearbox!$C$21/Gearbox!$D$21)*(Gearbox!$C$6/Gearbox!$D$6)*Gearbox!$G$5*PI())/1000)*(Gearbox!$C$7/Gearbox!$D$7) -> 184.61936 | O10: =($E10*1000)/(H10*(1000/3600)) -> 3357.1884 | P10: =($E10*1000)/(I10*(1000/3600)) -> 2810.3161 | Q10: =($E10*1000)/(J10*(1000/3600)) -> 2378.5748 | R10: =($E10*1000)/(K10*(1000/3600)) -> 2038.7784 | S10: =($E10*1000)/(L10*(1000/3600)) -> 1783.122 | T10: =($E10*1000)/(M10*(1000/3600)) -> 1614.0329
A11: =A10+500 -> 8500 | B11: 126 | C11: 78 | D11: =C11*1.3558 -> 105.7524 | E11: =B11*0.7457 -> 93.9582 | H11: =((A11*60*(Gearbox!$C$11/Gearbox!$D$11)*(Gearbox!$C$6/Gearbox!$D$6)*Gearbox!$G$5*PI())/1000)*(Gearbox!$C$7/Gearbox!$D$7) -> 94.306765 | I11: =((A11*60*(Gearbox!$C$13/Gearbox!$D$13)*(Gearbox!$C$6/Gearbox!$D$6)*Gearbox!$G$5*PI())/1000)*(Gearbox!$C$7/Gearbox!$D$7) -> 112.65835 | J11: =((A11*60*(Gearbox!$C$15/Gearbox!$D$15)*(Gearbox!$C$6/Gearbox!$D$6)*Gearbox!$G$5*PI())/1000)*(Gearbox!$C$7/Gearbox!$D$7) -> 133.10726 | K11: =((A11*60*(Gearbox!$C$17/Gearbox!$D$17)*(Gearbox!$C$6/Gearbox!$D$6)*Gearbox!$G$5*PI())/1000)*(Gearbox!$C$7/Gearbox!$D$7) -> 155.29181 | L11: =((A11*60*(Gearbox!$C$19/Gearbox!$D$19)*(Gearbox!$C$6/Gearbox!$D$6)*Gearbox!$G$5*PI())/1000)*(Gearbox!$C$7/Gearbox!$D$7) -> 177.55687 | M11: =((A11*60*(Gearbox!$C$21/Gearbox!$D$21)*(Gearbox!$C$6/Gearbox!$D$6)*Gearbox!$G$5*PI())/1000)*(Gearbox!$C$7/Gearbox!$D$7) -> 196.15807 | O11: =($E11*1000)/(H11*(1000/3600)) -> 3586.6941 | P11: =($E11*1000)/(I11*(1000/3600)) -> 3002.4363 | Q11: =($E11*1000)/(J11*(1000/3600)) -> 2541.18 | R11: =($E11*1000)/(K11*(1000/3600)) -> 2178.1543 | S11: =($E11*1000)/(L11*(1000/3600)) -> 1905.0207 | T11: =($E11*1000)/(M11*(1000/3600)) -> 1724.3722
A12: =A11+500 -> 9000 | B12: 136 | C12: 80 | D12: =C12*1.3558 -> 108.464 | E12: =B12*0.7457 -> 101.4152 | H12: =((A12*60*(Gearbox!$C$11/Gearbox!$D$11)*(Gearbox!$C$6/Gearbox!$D$6)*Gearbox!$G$5*PI())/1000)*(Gearbox!$C$7/Gearbox!$D$7) -> 99.854222 | I12: =((A12*60*(Gearbox!$C$13/Gearbox!$D$13)*(Gearbox!$C$6/Gearbox!$D$6)*Gearbox!$G$5*PI())/1000)*(Gearbox!$C$7/Gearbox!$D$7) -> 119.28531 | J12: =((A12*60*(Gearbox!$C$15/Gearbox!$D$15)*(Gearbox!$C$6/Gearbox!$D$6)*Gearbox!$G$5*PI())/1000)*(Gearbox!$C$7/Gearbox!$D$7) -> 140.9371 | K12: =((A12*60*(Gearbox!$C$17/Gearbox!$D$17)*(Gearbox!$C$6/Gearbox!$D$6)*Gearbox!$G$5*PI())/1000)*(Gearbox!$C$7/Gearbox!$D$7) -> 164.42662 | L12: =((A12*60*(Gearbox!$C$19/Gearbox!$D$19)*(Gearbox!$C$6/Gearbox!$D$6)*Gearbox!$G$5*PI())/1000)*(Gearbox!$C$7/Gearbox!$D$7) -> 188.0014 | M12: =((A12*60*(Gearbox!$C$21/Gearbox!$D$21)*(Gearbox!$C$6/Gearbox!$D$6)*Gearbox!$G$5*PI())/1000)*(Gearbox!$C$7/Gearbox!$D$7) -> 207.69678 | O12: =($E12*1000)/(H12*(1000/3600)) -> 3656.2773 | P12: =($E12*1000)/(I12*(1000/3600)) -> 3060.6846 | Q12: =($E12*1000)/(J12*(1000/3600)) -> 2590.4798 | R12: =($E12*1000)/(K12*(1000/3600)) -> 2220.4113 | S12: =($E12*1000)/(L12*(1000/3600)) -> 1941.9788 | T12: =($E12*1000)/(M12*(1000/3600)) -> 1757.8256
A13: =A12+500 -> 9500 | B13: 143 | C13: 79 | D13: =C13*1.3558 -> 107.1082 | E13: =B13*0.7457 -> 106.6351 | H13: =((A13*60*(Gearbox!$C$11/Gearbox!$D$11)*(Gearbox!$C$6/Gearbox!$D$6)*Gearbox!$G$5*PI())/1000)*(Gearbox!$C$7/Gearbox!$D$7) -> 105.40168 | I13: =((A13*60*(Gearbox!$C$13/Gearbox!$D$13)*(Gearbox!$C$6/Gearbox!$D$6)*Gearbox!$G$5*PI())/1000)*(Gearbox!$C$7/Gearbox!$D$7) -> 125.91228 | J13: =((A13*60*(Gearbox!$C$15/Gearbox!$D$15)*(Gearbox!$C$6/Gearbox!$D$6)*Gearbox!$G$5*PI())/1000)*(Gearbox!$C$7/Gearbox!$D$7) -> 148.76694 | K13: =((A13*60*(Gearbox!$C$17/Gearbox!$D$17)*(Gearbox!$C$6/Gearbox!$D$6)*Gearbox!$G$5*PI())/1000)*(Gearbox!$C$7/Gearbox!$D$7) -> 173.56143 | L13: =((A13*60*(Gearbox!$C$19/Gearbox!$D$19)*(Gearbox!$C$6/Gearbox!$D$6)*Gearbox!$G$5*PI())/1000)*(Gearbox!$C$7/Gearbox!$D$7) -> 198.44592 | M13: =((A13*60*(Gearbox!$C$21/Gearbox!$D$21)*(Gearbox!$C$6/Gearbox!$D$6)*Gearbox!$G$5*PI())/1000)*(Gearbox!$C$7/Gearbox!$D$7) -> 219.23549 | O13: =($E13*1000)/(H13*(1000/3600)) -> 3642.1276 | P13: =($E13*1000)/(I13*(1000/3600)) -> 3048.8398 | Q13: =($E13*1000)/(J13*(1000/3600)) -> 2580.4548 | R13: =($E13*1000)/(K13*(1000/3600)) -> 2211.8184 | S13: =($E13*1000)/(L13*(1000/3600)) -> 1934.4634 | T13: =($E13*1000)/(M13*(1000/3600)) -> 1751.0229
A14: =A13+500 -> 10000 | B14: 150 | C14: 79 | D14: =C14*1.3558 -> 107.1082 | E14: =B14*0.7457 -> 111.855 | H14: =((A14*60*(Gearbox!$C$11/Gearbox!$D$11)*(Gearbox!$C$6/Gearbox!$D$6)*Gearbox!$G$5*PI())/1000)*(Gearbox!$C$7/Gearbox!$D$7) -> 110.94914 | I14: =((A14*60*(Gearbox!$C$13/Gearbox!$D$13)*(Gearbox!$C$6/Gearbox!$D$6)*Gearbox!$G$5*PI())/1000)*(Gearbox!$C$7/Gearbox!$D$7) -> 132.53924 | J14: =((A14*60*(Gearbox!$C$15/Gearbox!$D$15)*(Gearbox!$C$6/Gearbox!$D$6)*Gearbox!$G$5*PI())/1000)*(Gearbox!$C$7/Gearbox!$D$7) -> 156.59678 | K14: =((A14*60*(Gearbox!$C$17/Gearbox!$D$17)*(Gearbox!$C$6/Gearbox!$D$6)*Gearbox!$G$5*PI())/1000)*(Gearbox!$C$7/Gearbox!$D$7) -> 182.69624 | L14: =((A14*60*(Gearbox!$C$19/Gearbox!$D$19)*(Gearbox!$C$6/Gearbox!$D$6)*Gearbox!$G$5*PI())/1000)*(Gearbox!$C$7/Gearbox!$D$7) -> 208.89044 | M14: =((A14*60*(Gearbox!$C$21/Gearbox!$D$21)*(Gearbox!$C$6/Gearbox!$D$6)*Gearbox!$G$5*PI())/1000)*(Gearbox!$C$7/Gearbox!$D$7) -> 230.7742 | O14: =($E14*1000)/(H14*(1000/3600)) -> 3629.3929 | P14: =($E14*1000)/(I14*(1000/3600)) -> 3038.1795 | Q14: =($E14*1000)/(J14*(1000/3600)) -> 2571.4322 | R14: =($E14*1000)/(K14*(1000/3600)) -> 2204.0847 | S14: =($E14*1000)/(L14*(1000/3600)) -> 1927.6995 | T14: =($E14*1000)/(M14*(1000/3600)) -> 1744.9004
... A22: =A21+500 -> 14000 | B22: 182 | C22: 68 | D22: =C22*1.3558 -> 92.1944 | E22: =B22*0.7457 -> 135.7174 | H22: =((A22*60*(Gearbox!$C$11/Gearbox!$D$11)*(Gearbox!$C$6/Gearbox!$D$6)*Gearbox!$G$5*PI())/1000)*(Gearbox!$C$7/Gearbox!$D$7) -> 155.32879 | I22: =((A22*60*(Gearbox!$C$13/Gearbox!$D$13)*(Gearbox!$C$6/Gearbox!$D$6)*Gearbox!$G$5*PI())/1000)*(Gearbox!$C$7/Gearbox!$D$7) -> 185.55493 | J22: =((A22*60*(Gearbox!$C$15/Gearbox!$D$15)*(Gearbox!$C$6/Gearbox!$D$6)*Gearbox!$G$5*PI())/1000)*(Gearbox!$C$7/Gearbox!$D$7) -> 219.23549 | K22: =((A22*60*(Gearbox!$C$17/Gearbox!$D$17)*(Gearbox!$C$6/Gearbox!$D$6)*Gearbox!$G$5*PI())/1000)*(Gearbox!$C$7/Gearbox!$D$7) -> 255.77474 | L22: =((A22*60*(Gearbox!$C$19/Gearbox!$D$19)*(Gearbox!$C$6/Gearbox!$D$6)*Gearbox!$G$5*PI())/1000)*(Gearbox!$C$7/Gearbox!$D$7) -> 292.44662 | M22: =((A22*60*(Gearbox!$C$21/Gearbox!$D$21)*(Gearbox!$C$6/Gearbox!$D$6)*Gearbox!$G$5*PI())/1000)*(Gearbox!$C$7/Gearbox!$D$7) -> 323.08388 | O22: =($E22*1000)/(H22*(1000/3600)) -> 3145.4738 | P22: =($E22*1000)/(I22*(1000/3600)) -> 2633.0889 | Q22: =($E22*1000)/(J22*(1000/3600)) -> 2228.5746 | R22: =($E22*1000)/(K22*(1000/3600)) -> 1910.2068 | S22: =($E22*1000)/(L22*(1000/3600)) -> 1670.6729 | T22: =($E22*1000)/(M22*(1000/3600)) -> 1512.247

Sheet Drag Calculations
E1: Up slope of 1%:
B2: Frontal Area of R1 | C2: 405273.72 | D2: mm^2 | E2: Angle of slope (degrees) | F2: =DEGREES(ATAN(1/100)) -> 0.5729387
C3: =C2/10^6 -> 0.40527372 | D3: m^2 | E3: Aero drag (N) | F3: =$C$12 -> 1333.2541
E4: Rolling resistance (N) | F4: =$C$13 -> 39.0438
B5: Mechanical top speed | C5: ='Road Speed and Driving Force'!M22 -> 323.08388 | D5: kmh | E5: Resistance up slope (N) | F5: =$C$9*9.81*SIN(RADIANS(F2)) -> 19.520924
C6: =(C5*1000)/3600 -> 89.745523 | D6: m/s | E6: Total resistance (N) | F6: =F3+F4+F5 -> 1391.8188
E7: Driving force at top speed of bike (N) | F7: ='Road Speed and Driving Force'!$T$22 -> 1512.247
B8: Conditions | C8: 1.167kg/m^3, 20oC, 987mbar | E8: Therefore, up slope it can reach top speed | H8: Slope Percentage (%) | I8: Driving Force Required To Reach Top Speed (N)
B9: Mass of wet bike (kg) | C9: 199 | H9: 1 | I9: =F6 -> 1391.8188
E10: Up slope of 2%: | H10: =H9+1 -> 2 | I10: =F15 -> 1411.3339
B11: Along flat plane: | E11: Angle of slope (degrees) | F11: =DEGREES(ATAN(2/100)) -> 1.1457628 | H11: =H10+1 -> 3 | I11: =F24 -> 1430.8373
B12: Aero drag (N) | C12: =0.5*1.167*0.7*C3*C6^2 -> 1333.2541 | E12: Aero drag (N) | F12: =$C$12 -> 1333.2541 | H12: =H11+1 -> 4 | I12: =F33 -> 1450.3231
B13: Rolling resistance (N) | C13: =0.02*199*9.81 -> 39.0438 | E13: Rolling resistance (N) | F13: =$C$13 -> 39.0438 | H13: =H12+1 -> 5 | I13: =F42 -> 1469.7856
B14: Total resistance (N) | C14: =C12+C13 -> 1372.2979 | E14: Resistance up slope (N) | F14: =$C$9*9.81*SIN(RADIANS(F11)) -> 39.035994 | H14: =H13+1 -> 6 | I14: =F51 -> 1489.219
B15: Driving force at top speed of bike (N) | C15: ='Road Speed and Driving Force'!T22 -> 1512.247 | E15: Total resistance (N) | F15: =F12+F13+F14 -> 1411.3339 | H15: =H14+1 -> 7 | I15: =F60 -> 1508.6176
B16: Therefore, along flat it can reach top speed | E16: Driving force at top speed of bike (N) | F16: ='Road Speed and Driving Force'!$T$22 -> 1512.247 | H16: =H15+1 -> 8 | I16: =F69 -> 1527.9757
E17: Therefore, up slope it can reach top speed
E19: Up slope of 3%:
E20: Angle of slope (degrees) | F20: =DEGREES(ATAN(3/100)) -> 1.718358
E21: Aero drag (N) | F21: =$C$12 -> 1333.2541
E22: Rolling resistance (N) | F22: =$C$13 -> 39.0438
E23: Resistance up slope (N) | F23: =$C$9*9.81*SIN(RADIANS(F20)) -> 58.539363
E24: Total resistance (N) | F24: =F21+F22+F23 -> 1430.8373
E25: Driving force at top speed of bike (N) | F25: ='Road Speed and Driving Force'!$T$22 -> 1512.247
E26: Therefore, up slope it can reach top speed
E28: Up slope of 4%:
E29: Angle of slope (degrees) | F29: =DEGREES(ATAN(4/100)) -> 2.29061
E30: Aero drag (N) | F30: =$C$12 -> 1333.2541
E31: Rolling resistance (N) | F31: =$C$13 -> 39.0438
E32: Resistance up slope (N) | F32: =$C$9*9.81*SIN(RADIANS(F29)) -> 78.025205
E33: Total resistance (N) | F33: =F30+F31+F32 -> 1450.3231
E34: Driving force at top speed of bike (N) | F34: ='Road Speed and Driving Force'!$T$22 -> 1512.247
E35: Therefore, up slope it can reach top speed
E37: Up slope of 5%:
E38: Angle of slope (degrees) | F38: =DEGREES(ATAN(5/100)) -> 2.8624052
E39: Aero drag (N) | F39: =$C$12 -> 1333.2541
E40: Rolling resistance (N) | F40: =$C$13 -> 39.0438
E41: Resistance up slope (N) | F41: =$C$9*9.81*SIN(RADIANS(F38)) -> 97.487716
E42: Total resistance (N) | F42: =F39+F40+F41 -> 1469.7856
E43: Driving force at top speed of bike (N) | F43: ='Road Speed and Driving Force'!$T$22 -> 1512.247
...
