Workbook

Sheet Calculations
C1: Engine Cycle Simulation Software | H1: Crank Angle | I1: Piston Position | J1: Piston Velocity | K1: Piston Accn | L1: Piston Velocity | M1: Piston Accn | N1: Volume (CC) | Y1: SuperFlow SF-110 Test Data
I2: mm | J2: mm/deg | K2: mm/deg/deg | L2: m/s | M2: m/s/s
B3: Comp Ratio | C3: 11.16 | E3: SI Units | H3: -180 | I3: =($C$5/2 + $C$8) - ( ($C$5/2)*COS(RADIANS(H3)) + SQRT($C$8^2 - ($C$5/2)^2*SIN(RADIANS(H3))^2) ) -> 81.4 | J3: 0 | K3: 0 | L3: =J3 * 6 * $C$11 / 1000 -> 0 | M3: =K3 * (6 * $C$11)^2 / 1000 -> 0 | N3: =$C$6 + $C$6*($C$3-1) * I3 / $C$5 -> 438.2532
B4: Bore | C4: 79 | D4: mm | E4: =C4/1000 -> 0.079 | F4: m | H4: -179 | I4: =($C$5/2 + $C$8) - ( ($C$5/2)*COS(RADIANS(H4)) + SQRT($C$8^2 - ($C$5/2)^2*SIN(RADIANS(H4))^2) ) -> 81.395643 | J4: =(I5 - I3)/2 -> -0.0087148866 | K4: =I5 - 2*I4 + I3 -> -0.00871499 | L4: =J4 * 6 * $C$11 / 1000 -> -0.20915728 | M4: =K4 * (6 * $C$11)^2 / 1000 -> -5019.8342 | N4: =$C$6 + $C$6*($C$3-1) * I4 / $C$5 -> 438.23184 | T4: Test Description: | AB4: Test Number
B5: Stroke | C5: 81.4 | D5: mm | E5: =C5/1000 -> 0.0814 | F5: m | H5: -178 | I5: =($C$5/2 + $C$8) - ( ($C$5/2)*COS(RADIANS(H5)) + SQRT($C$8^2 - ($C$5/2)^2*SIN(RADIANS(H5))^2) ) -> 81.38257 | J5: =(I6 - I4)/2 -> -0.017430186 | K5: =I6 - 2*I5 + I4 -> -0.0087156093 | L5: =J5 * 6 * $C$11 / 1000 -> -0.41832447 | M5: =K5 * (6 * $C$11)^2 / 1000 -> -5020.1909 | N5: =$C$6 + $C$6*($C$3-1) * I5 / $C$5 -> 438.16777 | T5: Head Description: | AB5: Serial Number
B6: Clearance Vol | C6: 39.27 | D6: cc | E6: =C6/1000000 -> 3.927e-05 | F6: m^3 | H6: -177 | I6: =($C$5/2 + $C$8) - ( ($C$5/2)*COS(RADIANS(H6)) + SQRT($C$8^2 - ($C$5/2)^2*SIN(RADIANS(H6))^2) ) -> 81.360782 | J6: =(I7 - I5)/2 -> -0.026146309 | K6: =I7 - 2*I6 + I5 -> -0.008716637 | L6: =J6 * 6 * $C$11 / 1000 -> -0.62751142 | M6: =K6 * (6 * $C$11)^2 / 1000 -> -5020.7829 | N6: =$C$6 + $C$6*($C$3-1) * I6 / $C$5 -> 438.06097 | T6: Intake Valve: | U6: 2 Litre Duratec | AB6: Valve Seat Angle | AE6: Degrees
B7: Cylinders | C7: 4 | H7: -176 | I7: =($C$5/2 + $C$8) - ( ($C$5/2)*COS(RADIANS(H7)) + SQRT($C$8^2 - ($C$5/2)^2*SIN(RADIANS(H7))^2) ) -> 81.330278 | J7: =(I8 - I6)/2 -> -0.034863661 | K7: =I8 - 2*I7 + I6 -> -0.0087180666 | L7: =J7 * 6 * $C$11 / 1000 -> -0.83672787 | M7: =K7 * (6 * $C$11)^2 / 1000 -> -5021.6064 | N7: =$C$6 + $C$6*($C$3-1) * I7 / $C$5 -> 437.91145 | T7: Intake Port: | AB7: Port Volume | AE7: cc
B8: Con Rod Length | C8: 137 | D8: mm | E8: =C8/1000 -> 0.137 | F8: m | H8: -175 | I8: =($C$5/2 + $C$8) - ( ($C$5/2)*COS(RADIANS(H8)) + SQRT($C$8^2 - ($C$5/2)^2*SIN(RADIANS(H8))^2) ) -> 81.291055 | J8: =(I9 - I7)/2 -> -0.043582639 | K8: =I9 - 2*I8 + I7 -> -0.0087198889 | L8: =J8 * 6 * $C$11 / 1000 -> -1.0459833 | M8: =K8 * (6 * $C$11)^2 / 1000 -> -5022.656 | N8: =$C$6 + $C$6*($C$3-1) * I8 / $C$5 -> 437.7192 | T8: Radiused Inlet: | AB8: Port Length | AE8: m
B9: Capacity | C9: =(((PI()*(0.5*E4)^2)*E5))*1000000*C7 -> 1595.9837 | D9: cc | E9: =C9/1000000 -> 0.0015959837 | F9: m^3 | H9: -174 | I9: =($C$5/2 + $C$8) - ( ($C$5/2)*COS(RADIANS(H9)) + SQRT($C$8^2 - ($C$5/2)^2*SIN(RADIANS(H9))^2) ) -> 81.243112 | J9: =(I10 - I8)/2 -> -0.052303629 | K9: =I10 - 2*I9 + I8 -> -0.008722092 | L9: =J9 * 6 * $C$11 / 1000 -> -1.2552871 | M9: =K9 * (6 * $C$11)^2 / 1000 -> -5023.925 | N9: =$C$6 + $C$6*($C$3-1) * I9 / $C$5 -> 437.48421 | T9: Exhaust Valve: | AB9: Exhaust Seat Angle | AE9: Degrees
B10: Mean Piston Spd | C10: {=AVERAGE(ABS(L3:L182))} -> 10.852507 | D10: m/s | H10: -173 | I10: =($C$5/2 + $C$8) - ( ($C$5/2)*COS(RADIANS(H10)) + SQRT($C$8^2 - ($C$5/2)^2*SIN(RADIANS(H10))^2) ) -> 81.186448 | J10: =(I11 - I9)/2 -> -0.061027006 | K10: =I11 - 2*I10 + I9 -> -0.0087246615 | L10: =J10 * 6 * $C$11 / 1000 -> -1.4646481 | M10: =K10 * (6 * $C$11)^2 / 1000 -> -5025.405 | N10: =$C$6 + $C$6*($C$3-1) * I10 / $C$5 -> 437.20647 | T10: Intake Manifold: | AB10: Runner Length | AE10: m
B11: RPM | C11: 4000 | H11: -172 | I11: =($C$5/2 + $C$8) - ( ($C$5/2)*COS(RADIANS(H11)) + SQRT($C$8^2 - ($C$5/2)^2*SIN(RADIANS(H11))^2) ) -> 81.121058 | J11: =(I12 - I10)/2 -> -0.069753127 | K11: =I12 - 2*I11 + I10 -> -0.0087275803 | L11: =J11 * 6 * $C$11 / 1000 -> -1.674075 | M11: =K11 * (6 * $C$11)^2 / 1000 -> -5027.0862 | N11: =$C$6 + $C$6*($C$3-1) * I11 / $C$5 -> 436.88596 | T11: Cylinder Bore: | AB11: Stroke | AE11: mm
H12: -171 | I12: =($C$5/2 + $C$8) - ( ($C$5/2)*COS(RADIANS(H12)) + SQRT($C$8^2 - ($C$5/2)^2*SIN(RADIANS(H12))^2) ) -> 81.046941 | J12: =(I13 - I11)/2 -> -0.078482331 | K12: =I13 - 2*I12 + I11 -> -0.0087308285 | L12: =J12 * 6 * $C$11 / 1000 -> -1.883576 | M12: =K12 * (6 * $C$11)^2 / 1000 -> -5028.9572 | N12: =$C$6 + $C$6*($C$3-1) * I12 / $C$5 -> 436.52268 | T12: Test Operator: | AB12: Head Porter
H13: -170 | I13: =($C$5/2 + $C$8) - ( ($C$5/2)*COS(RADIANS(H13)) + SQRT($C$8^2 - ($C$5/2)^2*SIN(RADIANS(H13))^2) ) -> 80.964094 | J13: =(I14 - I12)/2 -> -0.087214937 | K13: =I14 - 2*I13 + I12 -> -0.0087343837 | L13: =J13 * 6 * $C$11 / 1000 -> -2.0931585 | M13: =K13 * (6 * $C$11)^2 / 1000 -> -5031.005 | N13: =$C$6 + $C$6*($C$3-1) * I13 / $C$5 -> 436.1166
B14: Intake CFM Flow | C14: 240 | H14: -169 | I14: =($C$5/2 + $C$8) - ( ($C$5/2)*COS(RADIANS(H14)) + SQRT($C$8^2 - ($C$5/2)^2*SIN(RADIANS(H14))^2) ) -> 80.872512 | J14: =(I15 - I13)/2 -> -0.09595124 | K14: =I15 - 2*I14 + I13 -> -0.0087382208 | L14: =J14 * 6 * $C$11 / 1000 -> -2.3028298 | M14: =K14 * (6 * $C$11)^2 / 1000 -> -5033.2152 | N14: =$C$6 + $C$6*($C$3-1) * I14 / $C$5 -> 435.66771 | Y14: Test Setup Data
B15: Exhaust CFM Flow | C15: 246 | H15: -168 | I15: =($C$5/2 + $C$8) - ( ($C$5/2)*COS(RADIANS(H15)) + SQRT($C$8^2 - ($C$5/2)^2*SIN(RADIANS(H15))^2) ) -> 80.772191 | J15: =(I16 - I14)/2 -> -0.10469151 | K15: =I16 - 2*I15 + I14 -> -0.008742312 | L15: =J15 * 6 * $C$11 / 1000 -> -2.5125961 | M15: =K15 * (6 * $C$11)^2 / 1000 -> -5035.5717 | N15: =$C$6 + $C$6*($C$3-1) * I15 / $C$5 -> 435.17599 | U15: Diameter | W15: Stem | Y15: Lift Increments | AA15: Effective Area | AC15: Leakage | AE15: Seat Width
H16: -167 | I16: =($C$5/2 + $C$8) - ( ($C$5/2)*COS(RADIANS(H16)) + SQRT($C$8^2 - ($C$5/2)^2*SIN(RADIANS(H16))^2) ) -> 80.663129 | J16: =(I17 - I15)/2 -> -0.11343598 | K16: =I17 - 2*I16 + I15 -> -0.008746627 | L16: =J16 * 6 * $C$11 / 1000 -> -2.7224634 | M16: =K16 * (6 * $C$11)^2 / 1000 -> -5038.0571 | N16: =$C$6 + $C$6*($C$3-1) * I16 / $C$5 -> 434.64141 | T16: Intake Valve | U16: 35 | V16: mm | W16: 5.5 | X16: mm | Y16: 1.75 | Z16: mm | AA16: =PI()/4*(35^2-5.5^2)/100 -> 9.3835446 | AB16: sq.cm | AC16: 0 | AD16: litres/sec | AF16: mm
H17: -166 | I17: =($C$5/2 + $C$8) - ( ($C$5/2)*COS(RADIANS(H17)) + SQRT($C$8^2 - ($C$5/2)^2*SIN(RADIANS(H17))^2) ) -> 80.545319 | J17: =(I18 - I16)/2 -> -0.12218486 | K17: =I18 - 2*I17 + I16 -> -0.0087511325 | L17: =J17 * 6 * $C$11 / 1000 -> -2.9324365 | M17: =K17 * (6 * $C$11)^2 / 1000 -> -5040.6523 | N17: =$C$6 + $C$6*($C$3-1) * I17 / $C$5 -> 434.06397 | T17: Exhaust Valve | U17: 30 | V17: mm | W17: 5.5 | X17: mm | Y17: 1.5 | Z17: mm | AA17: =PI()/4*(30^2-5.5^2)/100 -> 6.8310005 | AB17: sq.cm | AC17: 0 | AD17: litres/sec | AF17: mm
H18: -165 | I18: =($C$5/2 + $C$8) - ( ($C$5/2)*COS(RADIANS(H18)) + SQRT($C$8^2 - ($C$5/2)^2*SIN(RADIANS(H18))^2) ) -> 80.418759 | J18: =(I19 - I17)/2 -> -0.13093832 | K18: =I19 - 2*I18 + I17 -> -0.0087557927 | L18: =J18 * 6 * $C$11 / 1000 -> -3.1425196 | M18: =K18 * (6 * $C$11)^2 / 1000 -> -5043.3366 | N18: =$C$6 + $C$6*($C$3-1) * I18 / $C$5 -> 433.44363
H19: -164 | I19: =($C$5/2 + $C$8) - ( ($C$5/2)*COS(RADIANS(H19)) + SQRT($C$8^2 - ($C$5/2)^2*SIN(RADIANS(H19))^2) ) -> 80.283443 | J19: =(I20 - I18)/2 -> -0.1396965 | K19: =I20 - 2*I19 + I18 -> -0.008760569 | L19: =J19 * 6 * $C$11 / 1000 -> -3.352716 | M19: =K19 * (6 * $C$11)^2 / 1000 -> -5046.0878 | N19: =$C$6 + $C$6*($C$3-1) * I19 / $C$5 -> 432.78038 | T19: Valve Lift/Diameter (L/D) Ratio | U19: 0.05 | V19: 0.1 | W19: 0.15 | X19: 0.2 | Y19: 0.25 | Z19: 0.3 | AA19: 0.35 | AB19: 0.4 | AC19: 0.45 | AD19: 0.5
H20: -163 | I20: =($C$5/2 + $C$8) - ( ($C$5/2)*COS(RADIANS(H20)) + SQRT($C$8^2 - ($C$5/2)^2*SIN(RADIANS(H20))^2) ) -> 80.139366 | J20: =(I21 - I19)/2 -> -0.14845949 | K20: =I21 - 2*I20 + I19 -> -0.0087654203 | L20: =J20 * 6 * $C$11 / 1000 -> -3.5630278 | M20: =K20 * (6 * $C$11)^2 / 1000 -> -5048.8821 | N20: =$C$6 + $C$6*($C$3-1) * I20 / $C$5 -> 432.07418 | T20: A. Intake Valve Lift (mm) | U20: 1.75 | V20: =U20+1.75 -> 3.5 | W20: =V20+1.75 -> 5.25 | X20: =W20+1.75 -> 7 | Y20: =X20+1.75 -> 8.75 | Z20: =Y20+1.75 -> 10.5 | AA20: =Z20+1.75 -> 12.25 | AB20: =AA20+1.75 -> 14 | AC20: =AB20+1.75 -> 15.75 | AD20: =AC20+1.75 -> 17.5
H21: -162 | I21: =($C$5/2 + $C$8) - ( ($C$5/2)*COS(RADIANS(H21)) + SQRT($C$8^2 - ($C$5/2)^2*SIN(RADIANS(H21))^2) ) -> 79.986524 | J21: =(I22 - I20)/2 -> -0.15722735 | K21: =I22 - 2*I21 + I20 -> -0.0087703026 | L21: =J21 * 6 * $C$11 / 1000 -> -3.7734565 | M21: =K21 * (6 * $C$11)^2 / 1000 -> -5051.6943 | N21: =$C$6 + $C$6*($C$3-1) * I21 / $C$5 -> 431.32503 | T21: B. Exhaust Valve Lift (mm) | U21: 1.5 | V21: =U21+1.5 -> 3 | W21: =V21+1.5 -> 4.5 | X21: =W21+1.5 -> 6 | Y21: =X21+1.5 -> 7.5 | Z21: =Y21+1.5 -> 9 | AA21: =Z21+1.5 -> 10.5 | AB21: =AA21+1.5 -> 12 | AC21: =AB21+1.5 -> 13.5 | AD21: =AC21+1.5 -> 15
H22: -161 | I22: =($C$5/2 + $C$8) - ( ($C$5/2)*COS(RADIANS(H22)) + SQRT($C$8^2 - ($C$5/2)^2*SIN(RADIANS(H22))^2) ) -> 79.824911 | J22: =(I23 - I21)/2 -> -0.16600009 | K22: =I23 - 2*I22 + I21 -> -0.008775169 | L22: =J22 * 6 * $C$11 / 1000 -> -3.9840022 | M22: =K22 * (6 * $C$11)^2 / 1000 -> -5054.4974 | N22: =$C$6 + $C$6*($C$3-1) * I22 / $C$5 -> 430.53288
H23: -160 | I23: =($C$5/2 + $C$8) - ( ($C$5/2)*COS(RADIANS(H23)) + SQRT($C$8^2 - ($C$5/2)^2*SIN(RADIANS(H23))^2) ) -> 79.654523 | J23: =(I24 - I22)/2 -> -0.17477766 | K23: =I24 - 2*I23 + I22 -> -0.0087799704 | L23: =J23 * 6 * $C$11 / 1000 -> -4.1946638 | M23: =K23 * (6 * $C$11)^2 / 1000 -> -5057.2629 | N23: =$C$6 + $C$6*($C$3-1) * I23 / $C$5 -> 429.69772 | T23: Range | U23: 1 | V23: 2 | W23: 3 | X23: 4 | Y23: 5 | Z23: 6
H24: -159 | I24: =($C$5/2 + $C$8) - ( ($C$5/2)*COS(RADIANS(H24)) + SQRT($C$8^2 - ($C$5/2)^2*SIN(RADIANS(H24))^2) ) -> 79.475356 | J24: =(I25 - I23)/2 -> -0.18355997 | K24: =I25 - 2*I24 + I23 -> -0.0087846544 | L24: =J24 * 6 * $C$11 / 1000 -> -4.4054393 | M24: =K24 * (6 * $C$11)^2 / 1000 -> -5059.961 | N24: =$C$6 + $C$6*($C$3-1) * I24 / $C$5 -> 428.81953 | T24: E. Intake | U24: 16.5 | V24: 33.2 | W24: 69.7 | X24: 138.2 | Y24: 207.8 | Z24: 279.5
H25: -158 | I25: =($C$5/2 + $C$8) - ( ($C$5/2)*COS(RADIANS(H25)) + SQRT($C$8^2 - ($C$5/2)^2*SIN(RADIANS(H25))^2) ) -> 79.287403 | J25: =(I26 - I24)/2 -> -0.19234688 | K25: =I26 - 2*I25 + I24 -> -0.0087891663 | L25: =J25 * 6 * $C$11 / 1000 -> -4.6163252 | M25: =K25 * (6 * $C$11)^2 / 1000 -> -5062.5598 | N25: =$C$6 + $C$6*($C$3-1) * I25 / $C$5 -> 427.89828 | T25: F. Exhaust | U25: 19.5 | V25: 37.1 | W25: 75 | X25: 148.5 | Y25: 219.6 | Z25: 284.6 | BI25: .
H26: -157 | I26: =($C$5/2 + $C$8) - ( ($C$5/2)*COS(RADIANS(H26)) + SQRT($C$8^2 - ($C$5/2)^2*SIN(RADIANS(H26))^2) ) -> 79.090662 | J26: =(I27 - I25)/2 -> -0.20113819 | K26: =I27 - 2*I26 + I25 -> -0.0087934485 | L26: =J26 * 6 * $C$11 / 1000 -> -4.8273166 | M26: =K26 * (6 * $C$11)^2 / 1000 -> -5065.0263 | N26: =$C$6 + $C$6*($C$3-1) * I26 / $C$5 -> 426.93395
H27: -156 | I27: =($C$5/2 + $C$8) - ( ($C$5/2)*COS(RADIANS(H27)) + SQRT($C$8^2 - ($C$5/2)^2*SIN(RADIANS(H27))^2) ) -> 78.885127 | J27: =(I28 - I26)/2 -> -0.20993364 | K27: =I28 - 2*I27 + I26 -> -0.0087974405 | L27: =J27 * 6 * $C$11 / 1000 -> -5.0384072 | M27: =K27 * (6 * $C$11)^2 / 1000 -> -5067.3257 | N27: =$C$6 + $C$6*($C$3-1) * I27 / $C$5 -> 425.92652 | Y27: Intake Valve Test Data
H28: -155 | I28: =($C$5/2 + $C$8) - ( ($C$5/2)*COS(RADIANS(H28)) + SQRT($C$8^2 - ($C$5/2)^2*SIN(RADIANS(H28))^2) ) -> 78.670795 | J28: =(I29 - I27)/2 -> -0.2187329 | K28: =I29 - 2*I28 + I27 -> -0.0088010795 | L28: =J28 * 6 * $C$11 / 1000 -> -5.2495895 | M28: =K28 * (6 * $C$11)^2 / 1000 -> -5069.4218 | N28: =$C$6 + $C$6*($C$3-1) * I28 / $C$5 -> 424.87596 | S28: 1 | T28: Test Number | U28: 1 | V28: 2 | W28: 3 | X28: 4 | Y28: 5 | Z28: 6 | AA28: 7 | AB28: 8 | AC28: 9 | AD28: 10 | AE28: 11
H29: -154 | I29: =($C$5/2 + $C$8) - ( ($C$5/2)*COS(RADIANS(H29)) + SQRT($C$8^2 - ($C$5/2)^2*SIN(RADIANS(H29))^2) ) -> 78.447661 | J29: =(I30 - I28)/2 -> -0.22753558 | K29: =I30 - 2*I29 + I28 -> -0.0088042996 | L29: =J29 * 6 * $C$11 / 1000 -> -5.460854 | M29: =K29 * (6 * $C$11)^2 / 1000 -> -5071.2766 | N29: =$C$6 + $C$6*($C$3-1) * I29 / $C$5 -> 423.78227 | S29: 2 | T29: Test Pressure | U29: 25 | V29: 25 | W29: 25 | X29: 25 | Y29: 25 | Z29: 25 | AA29: 25 | AB29: 25 | AC29: 25
H30: -153 | I30: =($C$5/2 + $C$8) - ( ($C$5/2)*COS(RADIANS(H30)) + SQRT($C$8^2 - ($C$5/2)^2*SIN(RADIANS(H30))^2) ) -> 78.215724 | J30: =(I31 - I29)/2 -> -0.23634125 | K30: =I31 - 2*I30 + I29 -> -0.0088070324 | L30: =J30 * 6 * $C$11 / 1000 -> -5.67219 | M30: =K30 * (6 * $C$11)^2 / 1000 -> -5072.8507 | N30: =$C$6 + $C$6*($C$3-1) * I30 / $C$5 -> 422.64543 | S30: 3 | T30: Valve Lift (A) | U30: 1.75 | V30: =U30+1.75 -> 3.5 | W30: =V30+1.75 -> 5.25 | X30: =W30+1.75 -> 7 | Y30: =X30+1.75 -> 8.75 | Z30: =Y30+1.75 -> 10.5 | AA30: =Z30+1.75 -> 12.25 | AB30: =AA30+1.75 -> 14 | AC30: =AB30+1.75 -> 15.75 | AD30: =AC30+1.75 -> 17.5
H31: -152 | I31: =($C$5/2 + $C$8) - ( ($C$5/2)*COS(RADIANS(H31)) + SQRT($C$8^2 - ($C$5/2)^2*SIN(RADIANS(H31))^2) ) -> 77.974979 | J31: =(I32 - I30)/2 -> -0.24514937 | K31: =I32 - 2*I31 + I30 -> -0.0088092068 | L31: =J31 * 6 * $C$11 / 1000 -> -5.8835849 | M31: =K31 * (6 * $C$11)^2 / 1000 -> -5074.1031 | N31: =$C$6 + $C$6*($C$3-1) * I31 / $C$5 -> 421.46541 | S31: 4 | T31: Flow Range (1-6) | U31: 2 | V31: 3 | W31: 4 | X31: 4 | Y31: 4 | Z31: 4 | AA31: 4 | AB31: 4 | AC31: N/A | AD31: N/A
H32: -151 | I32: =($C$5/2 + $C$8) - ( ($C$5/2)*COS(RADIANS(H32)) + SQRT($C$8^2 - ($C$5/2)^2*SIN(RADIANS(H32))^2) ) -> 77.725425 | J32: =(I33 - I31)/2 -> -0.25395935 | K32: =I33 - 2*I32 + I31 -> -0.008810749 | L32: =J32 * 6 * $C$11 / 1000 -> -6.0950244 | M32: =K32 * (6 * $C$11)^2 / 1000 -> -5074.9914 | N32: =$C$6 + $C$6*($C$3-1) * I32 / $C$5 -> 420.24222 | S32: 5 | T32: Flow Scale Reading (%) | U32: 89.5 | V32: 78 | W32: 55 | X32: 69 | Y32: 72 | Z32: 77 | AA32: 82.5 | AB32: 84 | AC32: N/A | AD32: N/A
H33: -150 | I33: =($C$5/2 + $C$8) - ( ($C$5/2)*COS(RADIANS(H33)) + SQRT($C$8^2 - ($C$5/2)^2*SIN(RADIANS(H33))^2) ) -> 77.46706 | J33: =(I34 - I32)/2 -> -0.26277051 | K33: =I34 - 2*I33 + I32 -> -0.0088115825 | L33: =J33 * 6 * $C$11 / 1000 -> -6.3064923 | M33: =K33 * (6 * $C$11)^2 / 1000 -> -5075.4715 | N33: =$C$6 + $C$6*($C$3-1) * I33 / $C$5 -> 418.97584 | S33: 6 | T33: Flow Scale (5./100) | U33: 0.895 | V33: =V32*0.01 -> 0.78 | W33: =W32*0.01 -> 0.55 | X33: =X32*0.01 -> 0.69 | Y33: =Y32*0.01 -> 0.72 | Z33: =Z32*0.01 -> 0.77 | AA33: =AA32*0.01 -> 0.825 | AB33: =AB32*0.01 -> 0.84
H34: -149 | I34: =($C$5/2 + $C$8) - ( ($C$5/2)*COS(RADIANS(H34)) + SQRT($C$8^2 - ($C$5/2)^2*SIN(RADIANS(H34))^2) ) -> 77.199884 | J34: =(I35 - I33)/2 -> -0.27158212 | K34: =I35 - 2*I34 + I33 -> -0.0088116284 | L34: =J34 * 6 * $C$11 / 1000 -> -6.5179709 | M34: =K34 * (6 * $C$11)^2 / 1000 -> -5075.498 | N34: =$C$6 + $C$6*($C$3-1) * I34 / $C$5 -> 417.66627 | S34: 7 | T34: Raw Test Flow l/s (6. x E) | U34: {=INDEX($U$24:$Z$24,U31)*U33} -> 29.714 | V34: {=INDEX($U$24:$Z$24,V31)*V33} -> 54.366 | W34: {=INDEX($U$24:$Z$24,W31)*W33} -> 76.01 | X34: {=INDEX($U$24:$Z$24,X31)*X33} -> 95.358 | Y34: {=INDEX($U$24:$Z$24,Y31)*Y33} -> 99.504 | Z34: {=INDEX($U$24:$Z$24,Z31)*Z33} -> 106.414 | AA34: {=INDEX($U$24:$Z$24,AA31)*AA33} -> 114.015 | AB34: {=INDEX($U$24:$Z$24,AB31)*AB33} -> 116.088
H35: -148 | I35: =($C$5/2 + $C$8) - ( ($C$5/2)*COS(RADIANS(H35)) + SQRT($C$8^2 - ($C$5/2)^2*SIN(RADIANS(H35))^2) ) -> 76.923896 | J35: =(I36 - I34)/2 -> -0.28039334 | K35: =I36 - 2*I35 + I34 -> -0.0088108051 | L35: =J35 * 6 * $C$11 / 1000 -> -6.7294401 | M35: =K35 * (6 * $C$11)^2 / 1000 -> -5075.0237 | N35: =$C$6 + $C$6*($C$3-1) * I35 / $C$5 -> 416.31352 | S35: 8 | T35: Leakage (l/s) | U35: 0 | V35: 0 | W35: 0 | X35: 0 | Y35: 0 | Z35: 0 | AA35: 0 | AB35: 0 | AC35: 0 | AD35: 0
H36: -147 | I36: =($C$5/2 + $C$8) - ( ($C$5/2)*COS(RADIANS(H36)) + SQRT($C$8^2 - ($C$5/2)^2*SIN(RADIANS(H36))^2) ) -> 76.639097 | J36: =(I37 - I35)/2 -> -0.28920325 | K36: =I37 - 2*I36 + I35 -> -0.0088090284 | L36: =J36 * 6 * $C$11 / 1000 -> -6.9408781 | M36: =K36 * (6 * $C$11)^2 / 1000 -> -5074.0004 | N36: =$C$6 + $C$6*($C$3-1) * I36 / $C$5 -> 414.91757 | S36: 9 | T36: Test Flow (l/s) (7-8) | U36: =U34-U35 -> 29.714 | V36: =V34-V35 -> 54.366 | W36: =W34-W35 -> 76.01 | X36: =X34-X35 -> 95.358 | Y36: =Y34-Y35 -> 99.504 | Z36: =Z34-Z35 -> 106.414 | AA36: =AA34-AA35 -> 114.015 | AB36: =AB34-AB35 -> 116.088
H37: -146 | I37: =($C$5/2 + $C$8) - ( ($C$5/2)*COS(RADIANS(H37)) + SQRT($C$8^2 - ($C$5/2)^2*SIN(RADIANS(H37))^2) ) -> 76.345489 | J37: =(I38 - I36)/2 -> -0.29801087 | K37: =I38 - 2*I37 + I36 -> -0.0088062117 | L37: =J37 * 6 * $C$11 / 1000 -> -7.1522609 | M37: =K37 * (6 * $C$11)^2 / 1000 -> -5072.378 | N37: =$C$6 + $C$6*($C$3-1) * I37 / $C$5 -> 413.47845 | S37: 10 | T37: Test Flow (l/s/sq cm) | U37: =U36/$AA$16 -> 3.1666072 | V37: =V36/$AA$16 -> 5.7937595 | W37: =W36/$AA$16 -> 8.1003505 | X37: =X36/$AA$16 -> 10.162258 | Y37: =Y36/$AA$16 -> 10.604095 | Z37: =Z36/$AA$16 -> 11.340491 | AA37: =AA36/$AA$16 -> 12.150526 | AB37: =AB36/$AA$16 -> 12.371444
H38: -145 | I38: =($C$5/2 + $C$8) - ( ($C$5/2)*COS(RADIANS(H38)) + SQRT($C$8^2 - ($C$5/2)^2*SIN(RADIANS(H38))^2) ) -> 76.043075 | J38: =(I39 - I37)/2 -> -0.30681511 | K38: =I39 - 2*I38 + I37 -> -0.008802266 | L38: =J38 * 6 * $C$11 / 1000 -> -7.3635627 | M38: =K38 * (6 * $C$11)^2 / 1000 -> -5070.1052 | N38: =$C$6 + $C$6*($C$3-1) * I38 / $C$5 -> 411.99616 | V38: Average Flow | W38: =AVERAGE(U36:AB36) -> 86.433625 | X38: l/s | AB38: Maximum Flow | AC38: =MAX(U36:AB36) -> 116.088 | AD38: l/s
H39: -144 | I39: =($C$5/2 + $C$8) - ( ($C$5/2)*COS(RADIANS(H39)) + SQRT($C$8^2 - ($C$5/2)^2*SIN(RADIANS(H39))^2) ) -> 75.731859 | J39: =(I40 - I38)/2 -> -0.31561479 | K39: =I40 - 2*I39 + I38 -> -0.0087970998 | L39: =J39 * 6 * $C$11 / 1000 -> -7.5747551 | M39: =K39 * (6 * $C$11)^2 / 1000 -> -5067.1295 | N39: =$C$6 + $C$6*($C$3-1) * I39 / $C$5 -> 410.47073
H40: -143 | I40: =($C$5/2 + $C$8) - ( ($C$5/2)*COS(RADIANS(H40)) + SQRT($C$8^2 - ($C$5/2)^2*SIN(RADIANS(H40))^2) ) -> 75.411846 | J40: =(I41 - I39)/2 -> -0.32440865 | K40: =I41 - 2*I40 + I39 -> -0.0087906194 | L40: =J40 * 6 * $C$11 / 1000 -> -7.7858077 | M40: =K40 * (6 * $C$11)^2 / 1000 -> -5063.3968 | N40: =$C$6 + $C$6*($C$3-1) * I40 / $C$5 -> 408.90218 | Y40: Exhaust Valve Test Data
H41: -142 | I41: =($C$5/2 + $C$8) - ( ($C$5/2)*COS(RADIANS(H41)) + SQRT($C$8^2 - ($C$5/2)^2*SIN(RADIANS(H41))^2) ) -> 75.083042 | J41: =(I42 - I40)/2 -> -0.33319533 | K41: =I42 - 2*I41 + I40 -> -0.0087827288 | L41: =J41 * 6 * $C$11 / 1000 -> -7.9966879 | M41: =K41 * (6 * $C$11)^2 / 1000 -> -5058.8518 | N41: =$C$6 + $C$6*($C$3-1) * I41 / $C$5 -> 407.29054 | S41: 1 | T41: Test Number | U41: 1 | V41: 2 | W41: 3 | X41: 4 | Y41: 5 | Z41: 6 | AA41: 7 | AB41: 8 | AC41: 9 | AD41: 10 | AE41: 11
H42: -141 | I42: =($C$5/2 + $C$8) - ( ($C$5/2)*COS(RADIANS(H42)) + SQRT($C$8^2 - ($C$5/2)^2*SIN(RADIANS(H42))^2) ) -> 74.745455 | J42: =(I43 - I41)/2 -> -0.34197336 | K42: =I43 - 2*I42 + I41 -> -0.0087733297 | L42: =J42 * 6 * $C$11 / 1000 -> -8.2073606 | M42: =K42 * (6 * $C$11)^2 / 1000 -> -5053.4379 | N42: =$C$6 + $C$6*($C$3-1) * I42 / $C$5 -> 405.63586 | S42: 2 | T42: Test Pressure | U42: 25 | V42: 25 | W42: 25 | X42: 25 | Y42: 25 | Z42: 25 | AA42: 25 | AB42: 25 | AC42: 25 | AD42: 25 | AE42: 25
H43: -140 | I43: =($C$5/2 + $C$8) - ( ($C$5/2)*COS(RADIANS(H43)) + SQRT($C$8^2 - ($C$5/2)^2*SIN(RADIANS(H43))^2) ) -> 74.399095 | J43: =(I44 - I42)/2 -> -0.35074118 | K43: =I44 - 2*I43 + I42 -> -0.0087623221 | L43: =J43 * 6 * $C$11 / 1000 -> -8.4177884 | M43: =K43 * (6 * $C$11)^2 / 1000 -> -5047.0975 | N43: =$C$6 + $C$6*($C$3-1) * I43 / $C$5 -> 403.93817 | S43: 3 | T43: Valve Lift (A) | U43: 1.5 | V43: =U43+1.5 -> 3 | W43: =V43+1.5 -> 4.5 | X43: =W43+1.5 -> 6 | Y43: =X43+1.5 -> 7.5 | Z43: =Y43+1.5 -> 9 | AA43: =Z43+1.5 -> 10.5 | AB43: =AA43+1.5 -> 12 | AC43: =AB43+1.5 -> 13.5 | AD43: =AC43+1.5 -> 15
H44: -139 | I44: =($C$5/2 + $C$8) - ( ($C$5/2)*COS(RADIANS(H44)) + SQRT($C$8^2 - ($C$5/2)^2*SIN(RADIANS(H44))^2) ) -> 74.043973 | J44: =(I45 - I43)/2 -> -0.35949715 | K44: =I45 - 2*I44 + I43 -> -0.0087496037 | L44: =J44 * 6 * $C$11 / 1000 -> -8.6279315 | M44: =K44 * (6 * $C$11)^2 / 1000 -> -5039.7717 | N44: =$C$6 + $C$6*($C$3-1) * I44 / $C$5 -> 402.19753 | S44: 4 | T44: Flow Range (1-6) | U44: 1 | V44: 3 | W44: 3 | X44: 3 | Y44: 3 | Z44: 3 | AA44: 3 | AB44: 3 | AC44: N/A | AD44: N/A
H45: -138 | I45: =($C$5/2 + $C$8) - ( ($C$5/2)*COS(RADIANS(H45)) + SQRT($C$8^2 - ($C$5/2)^2*SIN(RADIANS(H45))^2) ) -> 73.680101 | J45: =(I46 - I44)/2 -> -0.36823948 | K45: =I46 - 2*I45 + I44 -> -0.0087350703 | L45: =J45 * 6 * $C$11 / 1000 -> -8.8377476 | M45: =K45 * (6 * $C$11)^2 / 1000 -> -5031.4005 | N45: =$C$6 + $C$6*($C$3-1) * I45 / $C$5 -> 400.41401 | S45: 5 | T45: Flow Scale Reading (%) | U45: 91 | V45: 52 | W45: 73.5 | X45: 85 | Y45: 92.5 | Z45: 95 | AA45: 97.5 | AB45: 97.5 | AC45: N/A | AD45: N/A
H46: -137 | I46: =($C$5/2 + $C$8) - ( ($C$5/2)*COS(RADIANS(H46)) + SQRT($C$8^2 - ($C$5/2)^2*SIN(RADIANS(H46))^2) ) -> 73.307494 | J46: =(I47 - I45)/2 -> -0.37696633 | K46: =I47 - 2*I46 + I45 -> -0.0087186162 | L46: =J46 * 6 * $C$11 / 1000 -> -9.0471918 | M46: =K46 * (6 * $C$11)^2 / 1000 -> -5021.9229 | N46: =$C$6 + $C$6*($C$3-1) * I46 / $C$5 -> 398.58767 | S46: 6 | T46: Flow Scale (5./100) | U46: 0.91 | V46: =V45*0.01 -> 0.52 | W46: =W45*0.01 -> 0.735 | X46: =X45*0.01 -> 0.85 | Y46: =Y45*0.01 -> 0.925 | Z46: =Z45*0.01 -> 0.95 | AA46: =AA45*0.01 -> 0.975 | AB46: =AB45*0.01 -> 0.975
H47: -136 | I47: =($C$5/2 + $C$8) - ( ($C$5/2)*COS(RADIANS(H47)) + SQRT($C$8^2 - ($C$5/2)^2*SIN(RADIANS(H47))^2) ) -> 72.926168 | J47: =(I48 - I46)/2 -> -0.3856757 | K47: =I48 - 2*I47 + I46 -> -0.0087001337 | L47: =J47 * 6 * $C$11 / 1000 -> -9.2562168 | M47: =K47 * (6 * $C$11)^2 / 1000 -> -5011.277 | N47: =$C$6 + $C$6*($C$3-1) * I47 / $C$5 -> 396.7186 | S47: 7 | T47: Raw Test Flow l/s (6. xF.) | U47: {=INDEX($U$25:Z$25,U44)*U46} -> 17.745 | V47: {=INDEX($U$25:AA$25,V44)*V46} -> 39 | W47: {=INDEX($U$25:AB$25,W44)*W46} -> 55.125 | X47: {=INDEX($U$25:AC$25,X44)*X46} -> 63.75 | Y47: {=INDEX($U$25:AD$25,Y44)*Y46} -> 69.375 | Z47: {=INDEX($U$25:AE$25,Z44)*Z46} -> 71.25 | AA47: {=INDEX($U$25:AF$25,AA44)*AA46} -> 73.125 | AB47: {=INDEX($U$25:AG$25,AB44)*AB46} -> 73.125
H48: -135 | I48: =($C$5/2 + $C$8) - ( ($C$5/2)*COS(RADIANS(H48)) + SQRT($C$8^2 - ($C$5/2)^2*SIN(RADIANS(H48))^2) ) -> 72.536142 | J48: =(I49 - I47)/2 -> -0.39436553 | K48: =I49 - 2*I48 + I47 -> -0.008679514 | L48: =J48 * 6 * $C$11 / 1000 -> -9.4647726 | M48: =K48 * (6 * $C$11)^2 / 1000 -> -4999.4001 | N48: =$C$6 + $C$6*($C$3-1) * I48 / $C$5 -> 394.80688 | S48: 8 | T48: Leakage (l/s) | U48: 0 | V48: 0 | W48: 0 | X48: 0 | Y48: 0 | Z48: 0 | AA48: 0 | AB48: 0 | AC48: 0 | AD48: 0
H49: -134 | I49: =($C$5/2 + $C$8) - ( ($C$5/2)*COS(RADIANS(H49)) + SQRT($C$8^2 - ($C$5/2)^2*SIN(RADIANS(H49))^2) ) -> 72.137437 | J49: =(I50 - I48)/2 -> -0.40303361 | K49: =I50 - 2*I49 + I48 -> -0.0086566466 | L49: =J49 * 6 * $C$11 / 1000 -> -9.6728065 | M49: =K49 * (6 * $C$11)^2 / 1000 -> -4986.2284 | N49: =$C$6 + $C$6*($C$3-1) * I49 / $C$5 -> 392.85262 | S49: 9 | T49: Test Flow (l/s) (7-8) | U49: =U47-U48 -> 17.745 | V49: =V47-V48 -> 39 | W49: =W47-W48 -> 55.125 | X49: =X47-X48 -> 63.75 | Y49: =Y47-Y48 -> 69.375 | Z49: =Z47-Z48 -> 71.25 | AA49: =AA47-AA48 -> 73.125 | AB49: =AB47-AB48 -> 73.125
H50: -133 | I50: =($C$5/2 + $C$8) - ( ($C$5/2)*COS(RADIANS(H50)) + SQRT($C$8^2 - ($C$5/2)^2*SIN(RADIANS(H50))^2) ) -> 71.730075 | J50: =(I51 - I49)/2 -> -0.41167764 | K50: =I51 - 2*I50 + I49 -> -0.0086314198 | L50: =J50 * 6 * $C$11 / 1000 -> -9.8802633 | M50: =K50 * (6 * $C$11)^2 / 1000 -> -4971.6978 | N50: =$C$6 + $C$6*($C$3-1) * I50 / $C$5 -> 390.85593 | S50: 10 | T50: Test Flow (l/s/sq cm) | U50: =U49/$AA$16 -> 1.8910764 | V50: =V49/$AA$16 -> 4.1562119 | W50: =W49/$AA$16 -> 5.8746457 | X50: =X49/$AA$16 -> 6.793808 | Y50: =Y49/$AA$16 -> 7.3932616 | Z50: =Z49/$AA$16 -> 7.5930795 | AA50: =AA49/$AA$16 -> 7.7928974 | AB50: =AB49/$AA$16 -> 7.7928974
H51: -132 | I51: =($C$5/2 + $C$8) - ( ($C$5/2)*COS(RADIANS(H51)) + SQRT($C$8^2 - ($C$5/2)^2*SIN(RADIANS(H51))^2) ) -> 71.314082 | J51: =(I52 - I50)/2 -> -0.42029521 | K51: =I52 - 2*I51 + I50 -> -0.008603721 | L51: =J51 * 6 * $C$11 / 1000 -> -10.087085 | M51: =K51 * (6 * $C$11)^2 / 1000 -> -4955.7433 | N51: =$C$6 + $C$6*($C$3-1) * I51 / $C$5 -> 388.81694 | V51: Average Flow | W51: =AVERAGE(U49:AB49) -> 57.811875 | X51: l/s | AB51: Maximum Flow | AC51: =MAX(U49:AB49) -> 73.125 | AD51: l/s
H52: -131 | I52: =($C$5/2 + $C$8) - ( ($C$5/2)*COS(RADIANS(H52)) + SQRT($C$8^2 - ($C$5/2)^2*SIN(RADIANS(H52))^2) ) -> 70.889485 | J52: =(I53 - I51)/2 -> -0.42888379 | K52: =I53 - 2*I52 + I51 -> -0.0085734366 | L52: =J52 * 6 * $C$11 / 1000 -> -10.293211 | M52: =K52 * (6 * $C$11)^2 / 1000 -> -4938.2995 | N52: =$C$6 + $C$6*($C$3-1) * I52 / $C$5 -> 386.73577
H53: -130 | I53: =($C$5/2 + $C$8) - ( ($C$5/2)*COS(RADIANS(H53)) + SQRT($C$8^2 - ($C$5/2)^2*SIN(RADIANS(H53))^2) ) -> 70.456314 | J53: =(I54 - I52)/2 -> -0.43744073 | K53: =I54 - 2*I53 + I52 -> -0.0085404522 | L53: =J53 * 6 * $C$11 / 1000 -> -10.498578 | M53: =K53 * (6 * $C$11)^2 / 1000 -> -4919.3004 | N53: =$C$6 + $C$6*($C$3-1) * I53 / $C$5 -> 384.61258 | V53: Estimated KW/Cylinder: | W53: 60 | AA53: Exhaust/Intake flow ratio: | AB53: 0.586
H54: -129 | I54: =($C$5/2 + $C$8) - ( ($C$5/2)*COS(RADIANS(H54)) + SQRT($C$8^2 - ($C$5/2)^2*SIN(RADIANS(H54))^2) ) -> 70.014603 | J54: =(I55 - I53)/2 -> -0.44596329 | K54: =I55 - 2*I54 + I53 -> -0.0085046529 | L54: =J54 * 6 * $C$11 / 1000 -> -10.703119 | M54: =K54 * (6 * $C$11)^2 / 1000 -> -4898.6801 | N54: =$C$6 + $C$6*($C$3-1) * I54 / $C$5 -> 382.44752 | V54: Exhaust valve dia./bore ratio: | W54: 0.38 | AA54: Speed for peak power: | AB54: =AC38*60 -> 6965.28 | AC54: l/min
H55: -128 | I55: =($C$5/2 + $C$8) - ( ($C$5/2)*COS(RADIANS(H55)) + SQRT($C$8^2 - ($C$5/2)^2*SIN(RADIANS(H55))^2) ) -> 69.564388 | J55: =(I56 - I54)/2 -> -0.45444857 | K55: =I56 - 2*I55 + I54 -> -0.0084659235 | L55: =J55 * 6 * $C$11 / 1000 -> -10.906766 | M55: =K55 * (6 * $C$11)^2 / 1000 -> -4876.372 | N55: =$C$6 + $C$6*($C$3-1) * I55 / $C$5 -> 380.24079 | V55: Intake valve dia./bore ratio: | W55: 0.44 | AA55: Best intake runner lengths: | AE55: 15 | AF55: cm
H56: -127 | I56: =($C$5/2 + $C$8) - ( ($C$5/2)*COS(RADIANS(H56)) + SQRT($C$8^2 - ($C$5/2)^2*SIN(RADIANS(H56))^2) ) -> 69.105706 | J56: =(I57 - I55)/2 -> -0.46289361 | K56: =I57 - 2*I56 + I55 -> -0.0084241488 | L56: =J56 * 6 * $C$11 / 1000 -> -11.109447 | M56: =K56 * (6 * $C$11)^2 / 1000 -> -4852.3097 | N56: =$C$6 + $C$6*($C$3-1) * I56 / $C$5 -> 377.99255
H57: -126 | I57: =($C$5/2 + $C$8) - ( ($C$5/2)*COS(RADIANS(H57)) + SQRT($C$8^2 - ($C$5/2)^2*SIN(RADIANS(H57))^2) ) -> 68.6386 | J57: =(I58 - I56)/2 -> -0.47129529 | K57: =I58 - 2*I57 + I56 -> -0.0083792133 | L57: =J57 * 6 * $C$11 / 1000 -> -11.311087 | M57: =K57 * (6 * $C$11)^2 / 1000 -> -4826.4268 | N57: =$C$6 + $C$6*($C$3-1) * I57 / $C$5 -> 375.70303
H58: -125 | I58: =($C$5/2 + $C$8) - ( ($C$5/2)*COS(RADIANS(H58)) + SQRT($C$8^2 - ($C$5/2)^2*SIN(RADIANS(H58))^2) ) -> 68.163116 | J58: =(I59 - I57)/2 -> -0.4796504 | K58: =I59 - 2*I58 + I57 -> -0.008331002 | L58: =J58 * 6 * $C$11 / 1000 -> -11.51161 | M58: =K58 * (6 * $C$11)^2 / 1000 -> -4798.6572 | N58: =$C$6 + $C$6*($C$3-1) * I58 / $C$5 -> 373.37243
H59: -124 | I59: =($C$5/2 + $C$8) - ( ($C$5/2)*COS(RADIANS(H59)) + SQRT($C$8^2 - ($C$5/2)^2*SIN(RADIANS(H59))^2) ) -> 67.6793 | J59: =(I60 - I58)/2 -> -0.4879556 | K59: =I60 - 2*I59 + I58 -> -0.0082794005 | L59: =J59 * 6 * $C$11 / 1000 -> -11.710934 | M59: =K59 * (6 * $C$11)^2 / 1000 -> -4768.9347 | N59: =$C$6 + $C$6*($C$3-1) * I59 / $C$5 -> 371.001
H60: -123 | I60: =($C$5/2 + $C$8) - ( ($C$5/2)*COS(RADIANS(H60)) + SQRT($C$8^2 - ($C$5/2)^2*SIN(RADIANS(H60))^2) ) -> 67.187204 | J60: =(I61 - I59)/2 -> -0.49620745 | K60: =I61 - 2*I60 + I59 -> -0.0082242951 | L60: =J60 * 6 * $C$11 / 1000 -> -11.908979 | M60: =K60 * (6 * $C$11)^2 / 1000 -> -4737.194 | N60: =$C$6 + $C$6*($C$3-1) * I60 / $C$5 -> 368.58899
H61: -122 | I61: =($C$5/2 + $C$8) - ( ($C$5/2)*COS(RADIANS(H61)) + SQRT($C$8^2 - ($C$5/2)^2*SIN(RADIANS(H61))^2) ) -> 66.686885 | J61: =(I62 - I60)/2 -> -0.50440238 | K61: =I62 - 2*I61 + I60 -> -0.008165573 | L61: =J61 * 6 * $C$11 / 1000 -> -12.105657 | M61: =K61 * (6 * $C$11)^2 / 1000 -> -4703.3701 | N61: =$C$6 + $C$6*($C$3-1) * I61 / $C$5 -> 366.13667
H62: -121 | I62: =($C$5/2 + $C$8) - ( ($C$5/2)*COS(RADIANS(H62)) + SQRT($C$8^2 - ($C$5/2)^2*SIN(RADIANS(H62))^2) ) -> 66.1784 | J62: =(I63 - I61)/2 -> -0.51253673 | K62: =I63 - 2*I62 + I61 -> -0.0081031229 | L62: =J62 * 6 * $C$11 / 1000 -> -12.300881 | M62: =K62 * (6 * $C$11)^2 / 1000 -> -4667.3988 | N62: =$C$6 + $C$6*($C$3-1) * I62 / $C$5 -> 363.64432 | T62: 1 l/s = | U62: 2.11888 | V62: CFM
H63: -120 | I63: =($C$5/2 + $C$8) - ( ($C$5/2)*COS(RADIANS(H63)) + SQRT($C$8^2 - ($C$5/2)^2*SIN(RADIANS(H63))^2) ) -> 65.661811 | J63: =(I64 - I62)/2 -> -0.52060671 | K63: =I64 - 2*I63 + I62 -> -0.0080368347 | L63: =J63 * 6 * $C$11 / 1000 -> -12.494561 | M63: =K63 * (6 * $C$11)^2 / 1000 -> -4629.2168 | N63: =$C$6 + $C$6*($C$3-1) * I63 / $C$5 -> 361.11226 | T63: Intake CF | U63: =U36 * 2.11888 / $C$14 -> 0.262335 | V63: =V36 * 2.11888 / $C$14 -> 0.47997929 | W63: =W36 * 2.11888 / $C$14 -> 0.67106695 | X63: =X36 * 2.11888 / $C$14 -> 0.841884 | Y63: =Y36 * 2.11888 / $C$14 -> 0.87848765 | Z63: =Z36 * 2.11888 / $C$14 -> 0.93949373 | AA63: =AA36 * 2.11888 / $C$14 -> 1.0066004 | AB63: =AB36 * 2.11888 / $C$14 -> 1.0249023
H64: -119 | I64: =($C$5/2 + $C$8) - ( ($C$5/2)*COS(RADIANS(H64)) + SQRT($C$8^2 - ($C$5/2)^2*SIN(RADIANS(H64))^2) ) -> 65.137186 | J64: =(I65 - I63)/2 -> -0.52860843 | K64: =I65 - 2*I64 + I63 -> -0.0079666003 | L64: =J64 * 6 * $C$11 / 1000 -> -12.686602 | M64: =K64 * (6 * $C$11)^2 / 1000 -> -4588.7618 | N64: =$C$6 + $C$6*($C$3-1) * I64 / $C$5 -> 358.5408 | T64: Exhaust CF | U64: =U49 * 2.11888 / $C$15 -> 0.1528436 | V64: =V49 * 2.11888 / $C$15 -> 0.33592 | W64: =W49 * 2.11888 / $C$15 -> 0.47481 | X64: =X49 * 2.11888 / $C$15 -> 0.5491 | Y64: =Y49 * 2.11888 / $C$15 -> 0.59755 | Z64: =Z49 * 2.11888 / $C$15 -> 0.6137 | AA64: =AA49 * 2.11888 / $C$15 -> 0.62985 | AB64: =AB49 * 2.11888 / $C$15 -> 0.62985
H65: -118 | I65: =($C$5/2 + $C$8) - ( ($C$5/2)*COS(RADIANS(H65)) + SQRT($C$8^2 - ($C$5/2)^2*SIN(RADIANS(H65))^2) ) -> 64.604594 | J65: =(I66 - I64)/2 -> -0.53653788 | K65: =I66 - 2*I65 + I64 -> -0.0078923137 | L65: =J65 * 6 * $C$11 / 1000 -> -12.876909 | M65: =K65 * (6 * $C$11)^2 / 1000 -> -4545.9727 | N65: =$C$6 + $C$6*($C$3-1) * I65 / $C$5 -> 355.93029
H66: -117 | I66: =($C$5/2 + $C$8) - ( ($C$5/2)*COS(RADIANS(H66)) + SQRT($C$8^2 - ($C$5/2)^2*SIN(RADIANS(H66))^2) ) -> 64.06411 | J66: =(I67 - I65)/2 -> -0.54439097 | K66: =I67 - 2*I66 + I65 -> -0.007813871 | L66: =J66 * 6 * $C$11 / 1000 -> -13.065383 | M66: =K66 * (6 * $C$11)^2 / 1000 -> -4500.7897 | N66: =$C$6 + $C$6*($C$3-1) * I66 / $C$5 -> 353.2811
H67: -116 | I67: =($C$5/2 + $C$8) - ( ($C$5/2)*COS(RADIANS(H67)) + SQRT($C$8^2 - ($C$5/2)^2*SIN(RADIANS(H67))^2) ) -> 63.515813 | J67: =(I68 - I66)/2 -> -0.5521635 | K67: =I68 - 2*I67 + I66 -> -0.0077311712 | L67: =J67 * 6 * $C$11 / 1000 -> -13.251924 | M67: =K67 * (6 * $C$11)^2 / 1000 -> -4453.1546 | N67: =$C$6 + $C$6*($C$3-1) * I67 / $C$5 -> 350.59361
H68: -115 | I68: =($C$5/2 + $C$8) - ( ($C$5/2)*COS(RADIANS(H68)) + SQRT($C$8^2 - ($C$5/2)^2*SIN(RADIANS(H68))^2) ) -> 62.959783 | J68: =(I69 - I67)/2 -> -0.55985114 | K68: =I69 - 2*I68 + I67 -> -0.0076441161 | L68: =J68 * 6 * $C$11 / 1000 -> -13.436427 | M68: =K68 * (6 * $C$11)^2 / 1000 -> -4403.0108 | N68: =$C$6 + $C$6*($C$3-1) * I68 / $C$5 -> 347.86823
H69: -114 | I69: =($C$5/2 + $C$8) - ( ($C$5/2)*COS(RADIANS(H69)) + SQRT($C$8^2 - ($C$5/2)^2*SIN(RADIANS(H69))^2) ) -> 62.39611 | J69: =(I70 - I68)/2 -> -0.5674495 | K69: =I70 - 2*I69 + I68 -> -0.0075526104 | L69: =J69 * 6 * $C$11 / 1000 -> -13.618788 | M69: =K69 * (6 * $C$11)^2 / 1000 -> -4350.3036 | N69: =$C$6 + $C$6*($C$3-1) * I69 / $C$5 -> 345.10538
H70: -113 | I70: =($C$5/2 + $C$8) - ( ($C$5/2)*COS(RADIANS(H70)) + SQRT($C$8^2 - ($C$5/2)^2*SIN(RADIANS(H70))^2) ) -> 61.824884 | J70: =(I71 - I69)/2 -> -0.57495409 | K70: =I71 - 2*I70 + I69 -> -0.0074565627 | L70: =J70 * 6 * $C$11 / 1000 -> -13.798898 | M70: =K70 * (6 * $C$11)^2 / 1000 -> -4294.9801 | N70: =$C$6 + $C$6*($C$3-1) * I70 / $C$5 -> 342.30551
H71: -112 | I71: =($C$5/2 + $C$8) - ( ($C$5/2)*COS(RADIANS(H71)) + SQRT($C$8^2 - ($C$5/2)^2*SIN(RADIANS(H71))^2) ) -> 61.246202 | J71: =(I72 - I70)/2 -> -0.58236031 | K71: =I72 - 2*I71 + I70 -> -0.0073558851 | L71: =J71 * 6 * $C$11 / 1000 -> -13.976648 | M71: =K71 * (6 * $C$11)^2 / 1000 -> -4236.9898 | N71: =$C$6 + $C$6*($C$3-1) * I71 / $C$5 -> 339.46909
H72: -111 | I72: =($C$5/2 + $C$8) - ( ($C$5/2)*COS(RADIANS(H72)) + SQRT($C$8^2 - ($C$5/2)^2*SIN(RADIANS(H72))^2) ) -> 60.660164 | J72: =(I73 - I71)/2 -> -0.5896635 | K72: =I73 - 2*I72 + I71 -> -0.0072504938 | L72: =J72 * 6 * $C$11 / 1000 -> -14.151924 | M72: =K72 * (6 * $C$11)^2 / 1000 -> -4176.2844 | N72: =$C$6 + $C$6*($C$3-1) * I72 / $C$5 -> 336.59661
H73: -110 | I73: =($C$5/2 + $C$8) - ( ($C$5/2)*COS(RADIANS(H73)) + SQRT($C$8^2 - ($C$5/2)^2*SIN(RADIANS(H73))^2) ) -> 60.066875 | J73: =(I74 - I72)/2 -> -0.5968589 | K73: =I74 - 2*I73 + I72 -> -0.0071403094 | L73: =J73 * 6 * $C$11 / 1000 -> -14.324614 | M73: =K73 * (6 * $C$11)^2 / 1000 -> -4112.8182 | N73: =$C$6 + $C$6*($C$3-1) * I73 / $C$5 -> 333.6886
H74: -109 | I74: =($C$5/2 + $C$8) - ( ($C$5/2)*COS(RADIANS(H74)) + SQRT($C$8^2 - ($C$5/2)^2*SIN(RADIANS(H74))^2) ) -> 59.466446 | J74: =(I75 - I73)/2 -> -0.60394169 | K74: =I75 - 2*I74 + I73 -> -0.0070252568 | L74: =J74 * 6 * $C$11 / 1000 -> -14.494601 | M74: =K74 * (6 * $C$11)^2 / 1000 -> -4046.5479 | N74: =$C$6 + $C$6*($C$3-1) * I74 / $C$5 -> 330.74559
H75: -108 | I75: =($C$5/2 + $C$8) - ( ($C$5/2)*COS(RADIANS(H75)) + SQRT($C$8^2 - ($C$5/2)^2*SIN(RADIANS(H75))^2) ) -> 58.858992 | J75: =(I76 - I74)/2 -> -0.61090695 | K75: =I76 - 2*I75 + I74 -> -0.0069052662 | L75: =J75 * 6 * $C$11 / 1000 -> -14.661767 | M75: =K75 * (6 * $C$11)^2 / 1000 -> -3977.4333 | N75: =$C$6 + $C$6*($C$3-1) * I75 / $C$5 -> 327.76814
H76: -107 | I76: =($C$5/2 + $C$8) - ( ($C$5/2)*COS(RADIANS(H76)) + SQRT($C$8^2 - ($C$5/2)^2*SIN(RADIANS(H76))^2) ) -> 58.244632 | J76: =(I77 - I75)/2 -> -0.61774972 | K76: =I77 - 2*I76 + I75 -> -0.0067802727 | L76: =J76 * 6 * $C$11 / 1000 -> -14.825993 | M76: =K76 * (6 * $C$11)^2 / 1000 -> -3905.4371 | N76: =$C$6 + $C$6*($C$3-1) * I76 / $C$5 -> 324.75685
... H362: 179 | I362: =($C$5/2 + $C$8) - ( ($C$5/2)*COS(RADIANS(H362)) + SQRT($C$8^2 - ($C$5/2)^2*SIN(RADIANS(H362))^2) ) -> 81.395643 | J362: =(I363 - I361)/2 -> 0.0087148866 | K362: =I363 - 2*I362 + I361 -> -0.00871499 | L362: =J362 * 6 * $C$11 / 1000 -> 0.20915728 | M362: =K362 * (6 * $C$11)^2 / 1000 -> -5019.8342 | N362: =$C$6 + $C$6*($C$3-1) * I362 / $C$5 -> 438.23184
H363: 180 | I363: =($C$5/2 + $C$8) - ( ($C$5/2)*COS(RADIANS(H363)) + SQRT($C$8^2 - ($C$5/2)^2*SIN(RADIANS(H363))^2) ) -> 81.4 | J363: 0 | K363: 0 | L363: =J363 * 6 * $C$11 / 1000 -> 0 | M363: =K363 * (6 * $C$11)^2 / 1000 -> 0 | N363: =$C$6 + $C$6*($C$3-1) * I363 / $C$5 -> 438.2532

Sheet Camshaft
B1: Degree of Rotation | C1: Inlet Lift (mm) | D1: Exhaust Lift (mm) | E1: Inlet Velocity (mm/deg) | F1: Exhaust Velocity (mm/deg) | G1: Intake CF | H1: Exhaust CF
B2: 1 | C2: 0 | D2: 0 | E2: 0 | F2: 0 | G2: =IF(C2 <= MIN(Calculations!$U$30:$AC$30), 0, IFERROR(LOOKUP(C2, Calculations!$U$30:$AC$30, Calculations!$U$63:$AC$63), 0)) -> 0 | H2: =IF(D2 <= MIN(Calculations!$U$30:$AC$30), 0, IFERROR(LOOKUP(D2, Calculations!$U$30:$AC$30, Calculations!$U$64:$AC$64), 0)) -> 0
B3: 2 | C3: 0.01 | D3: 0 | E3: =(C4 - C2) / 2 -> 0.005 | F3: =(D4 - D2) / 2 -> 0 | G3: =IF(C3 <= MIN(Calculations!$U$30:$AC$30), 0, IFERROR(LOOKUP(C3, Calculations!$U$30:$AC$30, Calculations!$U$63:$AC$63), 0)) -> 0 | H3: =IF(D3 <= MIN(Calculations!$U$30:$AC$30), 0, IFERROR(LOOKUP(D3, Calculations!$U$30:$AC$30, Calculations!$U$64:$AC$64), 0)) -> 0
B4: 3 | C4: 0.01 | D4: 0 | E4: =(C5 - C3) / 2 -> 0 | F4: =(D5 - D3) / 2 -> 0 | G4: =IF(C4 <= MIN(Calculations!$U$30:$AC$30), 0, IFERROR(LOOKUP(C4, Calculations!$U$30:$AC$30, Calculations!$U$63:$AC$63), 0)) -> 0 | H4: =IF(D4 <= MIN(Calculations!$U$30:$AC$30), 0, IFERROR(LOOKUP(D4, Calculations!$U$30:$AC$30, Calculations!$U$64:$AC$64), 0)) -> 0
B5: 4 | C5: 0.01 | D5: 0 | E5: =(C6 - C4) / 2 -> 0 | F5: =(D6 - D4) / 2 -> 0 | G5: =IF(C5 <= MIN(Calculations!$U$30:$AC$30), 0, IFERROR(LOOKUP(C5, Calculations!$U$30:$AC$30, Calculations!$U$63:$AC$63), 0)) -> 0 | H5: =IF(D5 <= MIN(Calculations!$U$30:$AC$30), 0, IFERROR(LOOKUP(D5, Calculations!$U$30:$AC$30, Calculations!$U$64:$AC$64), 0)) -> 0
B6: 5 | C6: 0.01 | D6: 0 | E6: =(C7 - C5) / 2 -> 0.005 | F6: =(D7 - D5) / 2 -> 0 | G6: =IF(C6 <= MIN(Calculations!$U$30:$AC$30), 0, IFERROR(LOOKUP(C6, Calculations!$U$30:$AC$30, Calculations!$U$63:$AC$63), 0)) -> 0 | H6: =IF(D6 <= MIN(Calculations!$U$30:$AC$30), 0, IFERROR(LOOKUP(D6, Calculations!$U$30:$AC$30, Calculations!$U$64:$AC$64), 0)) -> 0
B7: 6 | C7: 0.02 | D7: 0 | E7: =(C8 - C6) / 2 -> 0.005 | F7: =(D8 - D6) / 2 -> 0 | G7: =IF(C7 <= MIN(Calculations!$U$30:$AC$30), 0, IFERROR(LOOKUP(C7, Calculations!$U$30:$AC$30, Calculations!$U$63:$AC$63), 0)) -> 0 | H7: =IF(D7 <= MIN(Calculations!$U$30:$AC$30), 0, IFERROR(LOOKUP(D7, Calculations!$U$30:$AC$30, Calculations!$U$64:$AC$64), 0)) -> 0
B8: 7 | C8: 0.02 | D8: 0 | E8: =(C9 - C7) / 2 -> 0 | F8: =(D9 - D7) / 2 -> 0 | G8: =IF(C8 <= MIN(Calculations!$U$30:$AC$30), 0, IFERROR(LOOKUP(C8, Calculations!$U$30:$AC$30, Calculations!$U$63:$AC$63), 0)) -> 0 | H8: =IF(D8 <= MIN(Calculations!$U$30:$AC$30), 0, IFERROR(LOOKUP(D8, Calculations!$U$30:$AC$30, Calculations!$U$64:$AC$64), 0)) -> 0
B9: 8 | C9: 0.02 | D9: 0 | E9: =(C10 - C8) / 2 -> 0.005 | F9: =(D10 - D8) / 2 -> 0 | G9: =IF(C9 <= MIN(Calculations!$U$30:$AC$30), 0, IFERROR(LOOKUP(C9, Calculations!$U$30:$AC$30, Calculations!$U$63:$AC$63), 0)) -> 0 | H9: =IF(D9 <= MIN(Calculations!$U$30:$AC$30), 0, IFERROR(LOOKUP(D9, Calculations!$U$30:$AC$30, Calculations!$U$64:$AC$64), 0)) -> 0
B10: 9 | C10: 0.03 | D10: 0 | E10: =(C11 - C9) / 2 -> 0.005 | F10: =(D11 - D9) / 2 -> 0 | G10: =IF(C10 <= MIN(Calculations!$U$30:$AC$30), 0, IFERROR(LOOKUP(C10, Calculations!$U$30:$AC$30, Calculations!$U$63:$AC$63), 0)) -> 0 | H10: =IF(D10 <= MIN(Calculations!$U$30:$AC$30), 0, IFERROR(LOOKUP(D10, Calculations!$U$30:$AC$30, Calculations!$U$64:$AC$64), 0)) -> 0
B11: 10 | C11: 0.03 | D11: 0 | E11: =(C12 - C10) / 2 -> 0 | F11: =(D12 - D10) / 2 -> 0 | G11: =IF(C11 <= MIN(Calculations!$U$30:$AC$30), 0, IFERROR(LOOKUP(C11, Calculations!$U$30:$AC$30, Calculations!$U$63:$AC$63), 0)) -> 0 | H11: =IF(D11 <= MIN(Calculations!$U$30:$AC$30), 0, IFERROR(LOOKUP(D11, Calculations!$U$30:$AC$30, Calculations!$U$64:$AC$64), 0)) -> 0
B12: 11 | C12: 0.03 | D12: 0 | E12: =(C13 - C11) / 2 -> 0.005 | F12: =(D13 - D11) / 2 -> 0 | G12: =IF(C12 <= MIN(Calculations!$U$30:$AC$30), 0, IFERROR(LOOKUP(C12, Calculations!$U$30:$AC$30, Calculations!$U$63:$AC$63), 0)) -> 0 | H12: =IF(D12 <= MIN(Calculations!$U$30:$AC$30), 0, IFERROR(LOOKUP(D12, Calculations!$U$30:$AC$30, Calculations!$U$64:$AC$64), 0)) -> 0
B13: 12 | C13: 0.04 | D13: 0 | E13: =(C14 - C12) / 2 -> 0.005 | F13: =(D14 - D12) / 2 -> 0 | G13: =IF(C13 <= MIN(Calculations!$U$30:$AC$30), 0, IFERROR(LOOKUP(C13, Calculations!$U$30:$AC$30, Calculations!$U$63:$AC$63), 0)) -> 0 | H13: =IF(D13 <= MIN(Calculations!$U$30:$AC$30), 0, IFERROR(LOOKUP(D13, Calculations!$U$30:$AC$30, Calculations!$U$64:$AC$64), 0)) -> 0
B14: 13 | C14: 0.04 | D14: 0 | E14: =(C15 - C13) / 2 -> 0 | F14: =(D15 - D13) / 2 -> 0 | G14: =IF(C14 <= MIN(Calculations!$U$30:$AC$30), 0, IFERROR(LOOKUP(C14, Calculations!$U$30:$AC$30, Calculations!$U$63:$AC$63), 0)) -> 0 | H14: =IF(D14 <= MIN(Calculations!$U$30:$AC$30), 0, IFERROR(LOOKUP(D14, Calculations!$U$30:$AC$30, Calculations!$U$64:$AC$64), 0)) -> 0
... B24: 23 | C24: 0.07 | D24: 0 | E24: =(C25 - C23) / 2 -> 0.005 | F24: =(D25 - D23) / 2 -> 0 | G24: =IF(C24 <= MIN(Calculations!$U$30:$AC$30), 0, IFERROR(LOOKUP(C24, Calculations!$U$30:$AC$30, Calculations!$U$63:$AC$63), 0)) -> 0 | H24: =IF(D24 <= MIN(Calculations!$U$30:$AC$30), 0, IFERROR(LOOKUP(D24, Calculations!$U$30:$AC$30, Calculations!$U$64:$AC$64), 0)) -> 0
B25: 24 | C25: 0.08 | D25: 0 | E25: =(C26 - C24) / 2 -> 0.005 | F25: =(D26 - D24) / 2 -> 0 | G25: =IF(C25 <= MIN(Calculations!$U$30:$AC$30), 0, IFERROR(LOOKUP(C25, Calculations!$U$30:$AC$30, Calculations!$U$63:$AC$63), 0)) -> 0 | H25: =IF(D25 <= MIN(Calculations!$U$30:$AC$30), 0, IFERROR(LOOKUP(D25, Calculations!$U$30:$AC$30, Calculations!$U$64:$AC$64), 0)) -> 0 | J25: The inlet valve opens shortly after the start of the intake stroke and reaches a mximum lift of 9.36mm at 182 degrees of rotation.
B26: 25 | C26: 0.08 | D26: 0 | E26: =(C27 - C25) / 2 -> 0 | F26: =(D27 - D25) / 2 -> 0 | G26: =IF(C26 <= MIN(Calculations!$U$30:$AC$30), 0, IFERROR(LOOKUP(C26, Calculations!$U$30:$AC$30, Calculations!$U$63:$AC$63), 0)) -> 0 | H26: =IF(D26 <= MIN(Calculations!$U$30:$AC$30), 0, IFERROR(LOOKUP(D26, Calculations!$U$30:$AC$30, Calculations!$U$64:$AC$64), 0)) -> 0 | J26: The exhaust valve opens at approximately 468 degrees of rotation and reaches a peak of 8.02 mm at 537 degrees of rotaion.
B27: 26 | C27: 0.08 | D27: 0 | E27: =(C28 - C26) / 2 -> 0.005 | F27: =(D28 - D26) / 2 -> 0 | G27: =IF(C27 <= MIN(Calculations!$U$30:$AC$30), 0, IFERROR(LOOKUP(C27, Calculations!$U$30:$AC$30, Calculations!$U$63:$AC$63), 0)) -> 0 | H27: =IF(D27 <= MIN(Calculations!$U$30:$AC$30), 0, IFERROR(LOOKUP(D27, Calculations!$U$30:$AC$30, Calculations!$U$64:$AC$64), 0)) -> 0 | J27: Both lift curves show a smooth rise and fall, showing a well designed camshaft profile. There is no significant overlap in this cam profile meaning the camshaft is designed for low pumping losses.
B28: 27 | C28: 0.09 | D28: 0 | E28: =(C29 - C27) / 2 -> 0.005 | F28: =(D29 - D27) / 2 -> 0 | G28: =IF(C28 <= MIN(Calculations!$U$30:$AC$30), 0, IFERROR(LOOKUP(C28, Calculations!$U$30:$AC$30, Calculations!$U$63:$AC$63), 0)) -> 0 | H28: =IF(D28 <= MIN(Calculations!$U$30:$AC$30), 0, IFERROR(LOOKUP(D28, Calculations!$U$30:$AC$30, Calculations!$U$64:$AC$64), 0)) -> 0 | J28: The full 720 degree rotation shows one complete 4 stroke engine cycle. Each valve only opens during its respective stroke with no lift throughout the rest of the cycle.
B29: 28 | C29: 0.09 | D29: 0 | E29: =(C30 - C28) / 2 -> 0.005 | F29: =(D30 - D28) / 2 -> 0 | G29: =IF(C29 <= MIN(Calculations!$U$30:$AC$30), 0, IFERROR(LOOKUP(C29, Calculations!$U$30:$AC$30, Calculations!$U$63:$AC$63), 0)) -> 0 | H29: =IF(D29 <= MIN(Calculations!$U$30:$AC$30), 0, IFERROR(LOOKUP(D29, Calculations!$U$30:$AC$30, Calculations!$U$64:$AC$64), 0)) -> 0
B30: 29 | C30: 0.1 | D30: 0 | E30: =(C31 - C29) / 2 -> 0.005 | F30: =(D31 - D29) / 2 -> 0 | G30: =IF(C30 <= MIN(Calculations!$U$30:$AC$30), 0, IFERROR(LOOKUP(C30, Calculations!$U$30:$AC$30, Calculations!$U$63:$AC$63), 0)) -> 0 | H30: =IF(D30 <= MIN(Calculations!$U$30:$AC$30), 0, IFERROR(LOOKUP(D30, Calculations!$U$30:$AC$30, Calculations!$U$64:$AC$64), 0)) -> 0
B31: 30 | C31: 0.1 | D31: 0 | E31: =(C32 - C30) / 2 -> 0.005 | F31: =(D32 - D30) / 2 -> 0 | G31: =IF(C31 <= MIN(Calculations!$U$30:$AC$30), 0, IFERROR(LOOKUP(C31, Calculations!$U$30:$AC$30, Calculations!$U$63:$AC$63), 0)) -> 0 | H31: =IF(D31 <= MIN(Calculations!$U$30:$AC$30), 0, IFERROR(LOOKUP(D31, Calculations!$U$30:$AC$30, Calculations!$U$64:$AC$64), 0)) -> 0
B32: 31 | C32: 0.11 | D32: 0 | E32: =(C33 - C31) / 2 -> 0.005 | F32: =(D33 - D31) / 2 -> 0 | G32: =IF(C32 <= MIN(Calculations!$U$30:$AC$30), 0, IFERROR(LOOKUP(C32, Calculations!$U$30:$AC$30, Calculations!$U$63:$AC$63), 0)) -> 0 | H32: =IF(D32 <= MIN(Calculations!$U$30:$AC$30), 0, IFERROR(LOOKUP(D32, Calculations!$U$30:$AC$30, Calculations!$U$64:$AC$64), 0)) -> 0
B33: 32 | C33: 0.11 | D33: 0 | E33: =(C34 - C32) / 2 -> 0 | F33: =(D34 - D32) / 2 -> 0 | G33: =IF(C33 <= MIN(Calculations!$U$30:$AC$30), 0, IFERROR(LOOKUP(C33, Calculations!$U$30:$AC$30, Calculations!$U$63:$AC$63), 0)) -> 0 | H33: =IF(D33 <= MIN(Calculations!$U$30:$AC$30), 0, IFERROR(LOOKUP(D33, Calculations!$U$30:$AC$30, Calculations!$U$64:$AC$64), 0)) -> 0
B34: 33 | C34: 0.11 | D34: 0 | E34: =(C35 - C33) / 2 -> 0.005 | F34: =(D35 - D33) / 2 -> 0 | G34: =IF(C34 <= MIN(Calculations!$U$30:$AC$30), 0, IFERROR(LOOKUP(C34, Calculations!$U$30:$AC$30, Calculations!$U$63:$AC$63), 0)) -> 0 | H34: =IF(D34 <= MIN(Calculations!$U$30:$AC$30), 0, IFERROR(LOOKUP(D34, Calculations!$U$30:$AC$30, Calculations!$U$64:$AC$64), 0)) -> 0
B35: 34 | C35: 0.12 | D35: 0 | E35: =(C36 - C34) / 2 -> 0.005 | F35: =(D36 - D34) / 2 -> 0 | G35: =IF(C35 <= MIN(Calculations!$U$30:$AC$30), 0, IFERROR(LOOKUP(C35, Calculations!$U$30:$AC$30, Calculations!$U$63:$AC$63), 0)) -> 0 | H35: =IF(D35 <= MIN(Calculations!$U$30:$AC$30), 0, IFERROR(LOOKUP(D35, Calculations!$U$30:$AC$30, Calculations!$U$64:$AC$64), 0)) -> 0
B36: 35 | C36: 0.12 | D36: 0 | E36: =(C37 - C35) / 2 -> 0 | F36: =(D37 - D35) / 2 -> 0 | G36: =IF(C36 <= MIN(Calculations!$U$30:$AC$30), 0, IFERROR(LOOKUP(C36, Calculations!$U$30:$AC$30, Calculations!$U$63:$AC$63), 0)) -> 0 | H36: =IF(D36 <= MIN(Calculations!$U$30:$AC$30), 0, IFERROR(LOOKUP(D36, Calculations!$U$30:$AC$30, Calculations!$U$64:$AC$64), 0)) -> 0
B37: 36 | C37: 0.12 | D37: 0 | E37: =(C38 - C36) / 2 -> 0.005 | F37: =(D38 - D36) / 2 -> 0 | G37: =IF(C37 <= MIN(Calculations!$U$30:$AC$30), 0, IFERROR(LOOKUP(C37, Calculations!$U$30:$AC$30, Calculations!$U$63:$AC$63), 0)) -> 0 | H37: =IF(D37 <= MIN(Calculations!$U$30:$AC$30), 0, IFERROR(LOOKUP(D37, Calculations!$U$30:$AC$30, Calculations!$U$64:$AC$64), 0)) -> 0
B38: 37 | C38: 0.13 | D38: 0 | E38: =(C39 - C37) / 2 -> 0.005 | F38: =(D39 - D37) / 2 -> 0 | G38: =IF(C38 <= MIN(Calculations!$U$30:$AC$30), 0, IFERROR(LOOKUP(C38, Calculations!$U$30:$AC$30, Calculations!$U$63:$AC$63), 0)) -> 0 | H38: =IF(D38 <= MIN(Calculations!$U$30:$AC$30), 0, IFERROR(LOOKUP(D38, Calculations!$U$30:$AC$30, Calculations!$U$64:$AC$64), 0)) -> 0
B39: 38 | C39: 0.13 | D39: 0 | E39: =(C40 - C38) / 2 -> 0 | F39: =(D40 - D38) / 2 -> 0 | G39: =IF(C39 <= MIN(Calculations!$U$30:$AC$30), 0, IFERROR(LOOKUP(C39, Calculations!$U$30:$AC$30, Calculations!$U$63:$AC$63), 0)) -> 0 | H39: =IF(D39 <= MIN(Calculations!$U$30:$AC$30), 0, IFERROR(LOOKUP(D39, Calculations!$U$30:$AC$30, Calculations!$U$64:$AC$64), 0)) -> 0
B40: 39 | C40: 0.13 | D40: 0 | E40: =(C41 - C39) / 2 -> 0.005 | F40: =(D41 - D39) / 2 -> 0 | G40: =IF(C40 <= MIN(Calculations!$U$30:$AC$30), 0, IFERROR(LOOKUP(C40, Calculations!$U$30:$AC$30, Calculations!$U$63:$AC$63), 0)) -> 0 | H40: =IF(D40 <= MIN(Calculations!$U$30:$AC$30), 0, IFERROR(LOOKUP(D40, Calculations!$U$30:$AC$30, Calculations!$U$64:$AC$64), 0)) -> 0
... B58: 57 | C58: 0.2 | D58: 0 | E58: =(C59 - C57) / 2 -> 0.005 | F58: =(D59 - D57) / 2 -> 0 | G58: =IF(C58 <= MIN(Calculations!$U$30:$AC$30), 0, IFERROR(LOOKUP(C58, Calculations!$U$30:$AC$30, Calculations!$U$63:$AC$63), 0)) -> 0 | H58: =IF(D58 <= MIN(Calculations!$U$30:$AC$30), 0, IFERROR(LOOKUP(D58, Calculations!$U$30:$AC$30, Calculations!$U$64:$AC$64), 0)) -> 0
B59: 58 | C59: 0.2 | D59: 0 | E59: =(C60 - C58) / 2 -> 0 | F59: =(D60 - D58) / 2 -> 0 | G59: =IF(C59 <= MIN(Calculations!$U$30:$AC$30), 0, IFERROR(LOOKUP(C59, Calculations!$U$30:$AC$30, Calculations!$U$63:$AC$63), 0)) -> 0 | H59: =IF(D59 <= MIN(Calculations!$U$30:$AC$30), 0, IFERROR(LOOKUP(D59, Calculations!$U$30:$AC$30, Calculations!$U$64:$AC$64), 0)) -> 0 | J59: The valve velocity graph shows the rate of change of the valve lift against the crank angle throughout the engine cycle. The velocity of both valves starts at 0 and increases during the opening period.
B60: 59 | C60: 0.2 | D60: 0 | E60: =(C61 - C59) / 2 -> 0.005 | F60: =(D61 - D59) / 2 -> 0 | G60: =IF(C60 <= MIN(Calculations!$U$30:$AC$30), 0, IFERROR(LOOKUP(C60, Calculations!$U$30:$AC$30, Calculations!$U$63:$AC$63), 0)) -> 0 | H60: =IF(D60 <= MIN(Calculations!$U$30:$AC$30), 0, IFERROR(LOOKUP(D60, Calculations!$U$30:$AC$30, Calculations!$U$64:$AC$64), 0)) -> 0 | J60: The inlet valve reaches a peak velocity of 0.31mm/deg while the exhaust valve reaches a peak velocity 0.35mm/deg.
B61: 60 | C61: 0.21 | D61: 0 | E61: =(C62 - C60) / 2 -> 0.005 | F61: =(D62 - D60) / 2 -> 0 | G61: =IF(C61 <= MIN(Calculations!$U$30:$AC$30), 0, IFERROR(LOOKUP(C61, Calculations!$U$30:$AC$30, Calculations!$U$63:$AC$63), 0)) -> 0 | H61: =IF(D61 <= MIN(Calculations!$U$30:$AC$30), 0, IFERROR(LOOKUP(D61, Calculations!$U$30:$AC$30, Calculations!$U$64:$AC$64), 0)) -> 0 | J61: The velocity then falls to 0mm/deg, which is when it begins negative as each valve begins to close, reaching negative peaks of similar values to the opening peak velocities.
B62: 61 | C62: 0.21 | D62: 0 | E62: =(C63 - C61) / 2 -> 0 | F62: =(D63 - D61) / 2 -> 0 | G62: =IF(C62 <= MIN(Calculations!$U$30:$AC$30), 0, IFERROR(LOOKUP(C62, Calculations!$U$30:$AC$30, Calculations!$U$63:$AC$63), 0)) -> 0 | H62: =IF(D62 <= MIN(Calculations!$U$30:$AC$30), 0, IFERROR(LOOKUP(D62, Calculations!$U$30:$AC$30, Calculations!$U$64:$AC$64), 0)) -> 0 | J62: The symmetric pattern of the graph shows that the cam profile is well designed and esnures smooth valve motion and reduced valvetrain stress.
B63: 62 | C63: 0.21 | D63: 0 | E63: =(C64 - C62) / 2 -> 0.005 | F63: =(D64 - D62) / 2 -> 0 | G63: =IF(C63 <= MIN(Calculations!$U$30:$AC$30), 0, IFERROR(LOOKUP(C63, Calculations!$U$30:$AC$30, Calculations!$U$63:$AC$63), 0)) -> 0 | H63: =IF(D63 <= MIN(Calculations!$U$30:$AC$30), 0, IFERROR(LOOKUP(D63, Calculations!$U$30:$AC$30, Calculations!$U$64:$AC$64), 0)) -> 0
B64: 63 | C64: 0.22 | D64: 0 | E64: =(C65 - C63) / 2 -> 0.005 | F64: =(D65 - D63) / 2 -> 0 | G64: =IF(C64 <= MIN(Calculations!$U$30:$AC$30), 0, IFERROR(LOOKUP(C64, Calculations!$U$30:$AC$30, Calculations!$U$63:$AC$63), 0)) -> 0 | H64: =IF(D64 <= MIN(Calculations!$U$30:$AC$30), 0, IFERROR(LOOKUP(D64, Calculations!$U$30:$AC$30, Calculations!$U$64:$AC$64), 0)) -> 0
B65: 64 | C65: 0.22 | D65: 0 | E65: =(C66 - C64) / 2 -> 0 | F65: =(D66 - D64) / 2 -> 0 | G65: =IF(C65 <= MIN(Calculations!$U$30:$AC$30), 0, IFERROR(LOOKUP(C65, Calculations!$U$30:$AC$30, Calculations!$U$63:$AC$63), 0)) -> 0 | H65: =IF(D65 <= MIN(Calculations!$U$30:$AC$30), 0, IFERROR(LOOKUP(D65, Calculations!$U$30:$AC$30, Calculations!$U$64:$AC$64), 0)) -> 0
B66: 65 | C66: 0.22 | D66: 0 | E66: =(C67 - C65) / 2 -> 0 | F66: =(D67 - D65) / 2 -> 0 | G66: =IF(C66 <= MIN(Calculations!$U$30:$AC$30), 0, IFERROR(LOOKUP(C66, Calculations!$U$30:$AC$30, Calculations!$U$63:$AC$63), 0)) -> 0 | H66: =IF(D66 <= MIN(Calculations!$U$30:$AC$30), 0, IFERROR(LOOKUP(D66, Calculations!$U$30:$AC$30, Calculations!$U$64:$AC$64), 0)) -> 0
B67: 66 | C67: 0.22 | D67: 0 | E67: =(C68 - C66) / 2 -> 0.005 | F67: =(D68 - D66) / 2 -> 0 | G67: =IF(C67 <= MIN(Calculations!$U$30:$AC$30), 0, IFERROR(LOOKUP(C67, Calculations!$U$30:$AC$30, Calculations!$U$63:$AC$63), 0)) -> 0 | H67: =IF(D67 <= MIN(Calculations!$U$30:$AC$30), 0, IFERROR(LOOKUP(D67, Calculations!$U$30:$AC$30, Calculations!$U$64:$AC$64), 0)) -> 0
B68: 67 | C68: 0.23 | D68: 0 | E68: =(C69 - C67) / 2 -> 0.005 | F68: =(D69 - D67) / 2 -> 0 | G68: =IF(C68 <= MIN(Calculations!$U$30:$AC$30), 0, IFERROR(LOOKUP(C68, Calculations!$U$30:$AC$30, Calculations!$U$63:$AC$63), 0)) -> 0 | H68: =IF(D68 <= MIN(Calculations!$U$30:$AC$30), 0, IFERROR(LOOKUP(D68, Calculations!$U$30:$AC$30, Calculations!$U$64:$AC$64), 0)) -> 0
B69: 68 | C69: 0.23 | D69: 0 | E69: =(C70 - C68) / 2 -> 0 | F69: =(D70 - D68) / 2 -> 0 | G69: =IF(C69 <= MIN(Calculations!$U$30:$AC$30), 0, IFERROR(LOOKUP(C69, Calculations!$U$30:$AC$30, Calculations!$U$63:$AC$63), 0)) -> 0 | H69: =IF(D69 <= MIN(Calculations!$U$30:$AC$30), 0, IFERROR(LOOKUP(D69, Calculations!$U$30:$AC$30, Calculations!$U$64:$AC$64), 0)) -> 0
B70: 69 | C70: 0.23 | D70: 0 | E70: =(C71 - C69) / 2 -> 0 | F70: =(D71 - D69) / 2 -> 0 | G70: =IF(C70 <= MIN(Calculations!$U$30:$AC$30), 0, IFERROR(LOOKUP(C70, Calculations!$U$30:$AC$30, Calculations!$U$63:$AC$63), 0)) -> 0 | H70: =IF(D70 <= MIN(Calculations!$U$30:$AC$30), 0, IFERROR(LOOKUP(D70, Calculations!$U$30:$AC$30, Calculations!$U$64:$AC$64), 0)) -> 0
B71: 70 | C71: 0.23 | D71: 0 | E71: =(C72 - C70) / 2 -> 0.005 | F71: =(D72 - D70) / 2 -> 0 | G71: =IF(C71 <= MIN(Calculations!$U$30:$AC$30), 0, IFERROR(LOOKUP(C71, Calculations!$U$30:$AC$30, Calculations!$U$63:$AC$63), 0)) -> 0 | H71: =IF(D71 <= MIN(Calculations!$U$30:$AC$30), 0, IFERROR(LOOKUP(D71, Calculations!$U$30:$AC$30, Calculations!$U$64:$AC$64), 0)) -> 0
B72: 71 | C72: 0.24 | D72: 0 | E72: =(C73 - C71) / 2 -> 0.005 | F72: =(D73 - D71) / 2 -> 0 | G72: =IF(C72 <= MIN(Calculations!$U$30:$AC$30), 0, IFERROR(LOOKUP(C72, Calculations!$U$30:$AC$30, Calculations!$U$63:$AC$63), 0)) -> 0 | H72: =IF(D72 <= MIN(Calculations!$U$30:$AC$30), 0, IFERROR(LOOKUP(D72, Calculations!$U$30:$AC$30, Calculations!$U$64:$AC$64), 0)) -> 0
B73: 72 | C73: 0.24 | D73: 0 | E73: =(C74 - C72) / 2 -> 0 | F73: =(D74 - D72) / 2 -> 0 | G73: =IF(C73 <= MIN(Calculations!$U$30:$AC$30), 0, IFERROR(LOOKUP(C73, Calculations!$U$30:$AC$30, Calculations!$U$63:$AC$63), 0)) -> 0 | H73: =IF(D73 <= MIN(Calculations!$U$30:$AC$30), 0, IFERROR(LOOKUP(D73, Calculations!$U$30:$AC$30, Calculations!$U$64:$AC$64), 0)) -> 0
B74: 73 | C74: 0.24 | D74: 0 | E74: =(C75 - C73) / 2 -> 0 | F74: =(D75 - D73) / 2 -> 0 | G74: =IF(C74 <= MIN(Calculations!$U$30:$AC$30), 0, IFERROR(LOOKUP(C74, Calculations!$U$30:$AC$30, Calculations!$U$63:$AC$63), 0)) -> 0 | H74: =IF(D74 <= MIN(Calculations!$U$30:$AC$30), 0, IFERROR(LOOKUP(D74, Calculations!$U$30:$AC$30, Calculations!$U$64:$AC$64), 0)) -> 0
... B361: 360 | C361: 0 | D361: 0 | E361: =(C362 - C360) / 2 -> 0 | F361: =(D362 - D360) / 2 -> 0 | G361: =IF(C361 <= MIN(Calculations!$U$30:$AC$30), 0, IFERROR(LOOKUP(C361, Calculations!$U$30:$AC$30, Calculations!$U$63:$AC$63), 0)) -> 0 | H361: =IF(D361 <= MIN(Calculations!$U$30:$AC$30), 0, IFERROR(LOOKUP(D361, Calculations!$U$30:$AC$30, Calculations!$U$64:$AC$64), 0)) -> 0
B362: =B361+1 -> 361 | C362: 0 | D362: 0 | E362: =(C363 - C361) / 2 -> 0 | F362: =(D363 - D361) / 2 -> 0 | G362: =IF(C362 <= MIN(Calculations!$U$30:$AC$30), 0, IFERROR(LOOKUP(C362, Calculations!$U$30:$AC$30, Calculations!$U$63:$AC$63), 0)) -> 0 | H362: =IF(D362 <= MIN(Calculations!$U$30:$AC$30), 0, IFERROR(LOOKUP(D362, Calculations!$U$30:$AC$30, Calculations!$U$64:$AC$64), 0)) -> 0
B363: =B362+1 -> 362 | C363: 0 | D363: 0 | E363: =(C364 - C362) / 2 -> 0 | F363: =(D364 - D362) / 2 -> 0 | G363: =IF(C363 <= MIN(Calculations!$U$30:$AC$30), 0, IFERROR(LOOKUP(C363, Calculations!$U$30:$AC$30, Calculations!$U$63:$AC$63), 0)) -> 0 | H363: =IF(D363 <= MIN(Calculations!$U$30:$AC$30), 0, IFERROR(LOOKUP(D363, Calculations!$U$30:$AC$30, Calculations!$U$64:$AC$64), 0)) -> 0
B364: =B363+1 -> 363 | C364: 0 | D364: 0 | E364: =(C365 - C363) / 2 -> 0 | F364: =(D365 - D363) / 2 -> 0 | G364: =IF(C364 <= MIN(Calculations!$U$30:$AC$30), 0, IFERROR(LOOKUP(C364, Calculations!$U$30:$AC$30, Calculations!$U$63:$AC$63), 0)) -> 0 | H364: =IF(D364 <= MIN(Calculations!$U$30:$AC$30), 0, IFERROR(LOOKUP(D364, Calculations!$U$30:$AC$30, Calculations!$U$64:$AC$64), 0)) -> 0
B365: =B364+1 -> 364 | C365: 0 | D365: 0 | E365: =(C366 - C364) / 2 -> 0 | F365: =(D366 - D364) / 2 -> 0 | G365: =IF(C365 <= MIN(Calculations!$U$30:$AC$30), 0, IFERROR(LOOKUP(C365, Calculations!$U$30:$AC$30, Calculations!$U$63:$AC$63), 0)) -> 0 | H365: =IF(D365 <= MIN(Calculations!$U$30:$AC$30), 0, IFERROR(LOOKUP(D365, Calculations!$U$30:$AC$30, Calculations!$U$64:$AC$64), 0)) -> 0
B366: =B365+1 -> 365 | C366: 0 | D366: 0 | E366: =(C367 - C365) / 2 -> 0 | F366: =(D367 - D365) / 2 -> 0 | G366: =IF(C366 <= MIN(Calculations!$U$30:$AC$30), 0, IFERROR(LOOKUP(C366, Calculations!$U$30:$AC$30, Calculations!$U$63:$AC$63), 0)) -> 0 | H366: =IF(D366 <= MIN(Calculations!$U$30:$AC$30), 0, IFERROR(LOOKUP(D366, Calculations!$U$30:$AC$30, Calculations!$U$64:$AC$64), 0)) -> 0
B367: =B366+1 -> 366 | C367: 0 | D367: 0 | E367: =(C368 - C366) / 2 -> 0 | F367: =(D368 - D366) / 2 -> 0 | G367: =IF(C367 <= MIN(Calculations!$U$30:$AC$30), 0, IFERROR(LOOKUP(C367, Calculations!$U$30:$AC$30, Calculations!$U$63:$AC$63), 0)) -> 0 | H367: =IF(D367 <= MIN(Calculations!$U$30:$AC$30), 0, IFERROR(LOOKUP(D367, Calculations!$U$30:$AC$30, Calculations!$U$64:$AC$64), 0)) -> 0
B368: =B367+1 -> 367 | C368: 0 | D368: 0 | E368: =(C369 - C367) / 2 -> 0 | F368: =(D369 - D367) / 2 -> 0 | G368: =IF(C368 <= MIN(Calculations!$U$30:$AC$30), 0, IFERROR(LOOKUP(C368, Calculations!$U$30:$AC$30, Calculations!$U$63:$AC$63), 0)) -> 0 | H368: =IF(D368 <= MIN(Calculations!$U$30:$AC$30), 0, IFERROR(LOOKUP(D368, Calculations!$U$30:$AC$30, Calculations!$U$64:$AC$64), 0)) -> 0
B369: =B368+1 -> 368 | C369: 0 | D369: 0 | E369: =(C370 - C368) / 2 -> 0 | F369: =(D370 - D368) / 2 -> 0 | G369: =IF(C369 <= MIN(Calculations!$U$30:$AC$30), 0, IFERROR(LOOKUP(C369, Calculations!$U$30:$AC$30, Calculations!$U$63:$AC$63), 0)) -> 0 | H369: =IF(D369 <= MIN(Calculations!$U$30:$AC$30), 0, IFERROR(LOOKUP(D369, Calculations!$U$30:$AC$30, Calculations!$U$64:$AC$64), 0)) -> 0
B370: =B369+1 -> 369 | C370: 0 | D370: 0 | E370: =(C371 - C369) / 2 -> 0 | F370: =(D371 - D369) / 2 -> 0 | G370: =IF(C370 <= MIN(Calculations!$U$30:$AC$30), 0, IFERROR(LOOKUP(C370, Calculations!$U$30:$AC$30, Calculations!$U$63:$AC$63), 0)) -> 0 | H370: =IF(D370 <= MIN(Calculations!$U$30:$AC$30), 0, IFERROR(LOOKUP(D370, Calculations!$U$30:$AC$30, Calculations!$U$64:$AC$64), 0)) -> 0
B371: =B370+1 -> 370 | C371: 0 | D371: 0 | E371: =(C372 - C370) / 2 -> 0 | F371: =(D372 - D370) / 2 -> 0 | G371: =IF(C371 <= MIN(Calculations!$U$30:$AC$30), 0, IFERROR(LOOKUP(C371, Calculations!$U$30:$AC$30, Calculations!$U$63:$AC$63), 0)) -> 0 | H371: =IF(D371 <= MIN(Calculations!$U$30:$AC$30), 0, IFERROR(LOOKUP(D371, Calculations!$U$30:$AC$30, Calculations!$U$64:$AC$64), 0)) -> 0
B372: =B371+1 -> 371 | C372: 0 | D372: 0 | E372: =(C373 - C371) / 2 -> 0 | F372: =(D373 - D371) / 2 -> 0 | G372: =IF(C372 <= MIN(Calculations!$U$30:$AC$30), 0, IFERROR(LOOKUP(C372, Calculations!$U$30:$AC$30, Calculations!$U$63:$AC$63), 0)) -> 0 | H372: =IF(D372 <= MIN(Calculations!$U$30:$AC$30), 0, IFERROR(LOOKUP(D372, Calculations!$U$30:$AC$30, Calculations!$U$64:$AC$64), 0)) -> 0
B373: =B372+1 -> 372 | C373: 0 | D373: 0 | E373: =(C374 - C372) / 2 -> 0 | F373: =(D374 - D372) / 2 -> 0 | G373: =IF(C373 <= MIN(Calculations!$U$30:$AC$30), 0, IFERROR(LOOKUP(C373, Calculations!$U$30:$AC$30, Calculations!$U$63:$AC$63), 0)) -> 0 | H373: =IF(D373 <= MIN(Calculations!$U$30:$AC$30), 0, IFERROR(LOOKUP(D373, Calculations!$U$30:$AC$30, Calculations!$U$64:$AC$64), 0)) -> 0
... B720: =B719+1 -> 719 | C720: 0 | D720: 0 | E720: =(C721 - C719) / 2 -> 0 | F720: =(D721 - D719) / 2 -> 0 | G720: =IF(C720 <= MIN(Calculations!$U$30:$AC$30), 0, IFERROR(LOOKUP(C720, Calculations!$U$30:$AC$30, Calculations!$U$63:$AC$63), 0)) -> 0 | H720: =IF(D720 <= MIN(Calculations!$U$30:$AC$30), 0, IFERROR(LOOKUP(D720, Calculations!$U$30:$AC$30, Calculations!$U$64:$AC$64), 0)) -> 0
B721: =B720+1 -> 720 | C721: 0 | D721: 0 | E721: 0 | F721: =(D722 - D720) / 2 -> 0 | G721: =IF(C721 <= MIN(Calculations!$U$30:$AC$30), 0, IFERROR(LOOKUP(C721, Calculations!$U$30:$AC$30, Calculations!$U$63:$AC$63), 0)) -> 0 | H721: =IF(D721 <= MIN(Calculations!$U$30:$AC$30), 0, IFERROR(LOOKUP(D721, Calculations!$U$30:$AC$30, Calculations!$U$64:$AC$64), 0)) -> 0

Sheet Piston Graph sumarries
