Workbook

Sheet Data Entry
A1: GRIP STRENGTH, PHYSICAL ACTIVITY & MOOD | Data Entry Template
A2: MSc Sport & Exercise Nutrition / Outdoor Education — Complete all yellow cells. Calculated fields (green) will fill automatically.
A3: # | B3: DEMOGRAPHICS | F3: GRIP STRENGTH (kg) — Dominant | J3: GRIP STRENGTH (kg) — Non-Dominant | N3: IPAQ-SF (MET-min/week) | S3: BRUMS Subscales (0–16 each)
A4: # | B4: Participant ID | C4: Age (yrs) | D4: Sex (M/F/P) | E4: Dom. Hand (R/L) | F4: Dom Trial 1 | G4: Dom Trial 2 | H4: Dom Trial 3 | I4: Dom BEST ✦ | J4: Non-Dom Trial 1 | K4: Non-Dom Trial 2 | L4: Non-Dom Trial 3 | M4: Non-Dom BEST ✦ | N4: Vig. METs | O4: Mod. METs | P4: Walk METs | Q4: TOTAL METs ✦ | R4: Activity Cat. ✦ | S4: Anger | T4: Confusion | U4: Depression | V4: Fatigue | W4: Tension | X4: Vigour
A5: 1 | B5: 1 | D5: F | E5: R | I5: 16.8 | M5: 12.5 | N5: 1440 | O5: 150 | P5: 2079 | Q5: =IF(COUNT(N5:P5)=0,"",SUM(N5:P5)) -> 3669 | R5: =IF(Q5="","",IF(Q5<600,"Low",IF(Q5<3000,"Moderate","High"))) -> High | S5: 0 | T5: 2 | U5: 2 | V5: 8 | W5: 1 | X5: 5
A6: 2 | B6: 2 | D6: F | E6: R | I6: 30.6 | M6: 29.1 | N6: 480 | O6: 2160 | P6: 2376 | Q6: 5016 | R6: =IF(Q6="","",IF(Q6<600,"Low",IF(Q6<3000,"Moderate","High"))) -> High | S6: 6 | T6: 8 | U6: 3 | V6: 12 | W6: 6 | X6: 6
A7: 3 | B7: 3 | D7: F | E7: R | I7: 32.5 | M7: 31.6 | N7: 2240 | O7: 300 | P7: 1386 | Q7: 3926 | R7: =IF(Q7="","",IF(Q7<600,"Low",IF(Q7<3000,"Moderate","High"))) -> High | S7: 0 | T7: 0 | U7: 0 | V7: 2 | W7: 1 | X7: 8
A8: 4 | B8: 4 | D8: F | E8: R | I8: 25.9 | M8: 26.1 | N8: 2400 | O8: 1980 | P8: 4380 | Q8: =IF(COUNT(N8:P8)=0,"",SUM(N8:P8)) -> 8760 | R8: =IF(Q8="","",IF(Q8<600,"Low",IF(Q8<3000,"Moderate","High"))) -> High | S8: 0 | T8: 2 | U8: 0 | V8: 5 | W8: 2 | X8: 8
A9: 5 | B9: 5 | D9: M | E9: R | I9: 35.9 | M9: 29.1 | N9: 1440 | O9: 480 | P9: 1039.5 | Q9: =IF(COUNT(N9:P9)=0,"",SUM(N9:P9)) -> 2959.5 | R9: =IF(Q9="","",IF(Q9<600,"Low",IF(Q9<3000,"Moderate","High"))) -> Moderate | S9: 0 | T9: 0 | U9: 0 | V9: 2 | W9: 0 | X9: 14
A10: 6 | B10: 6 | D10: M | E10: R | I10: 38.1 | M10: 35.4 | N10: 460 | O10: 1386 | P10: 1866 | Q10: =IF(COUNT(N10:P10)=0,"",SUM(N10:P10)) -> 3712 | R10: =IF(Q10="","",IF(Q10<600,"Low",IF(Q10<3000,"Moderate","High"))) -> High | S10: 0 | T10: 2 | U10: 0 | V10: 3 | W10: 0 | X10: 10
A11: 7 | B11: 7 | D11: M | E11: R | I11: 52 | M11: 48 | N11: 4320 | O11: 1440 | P11: 2772 | Q11: =IF(COUNT(N11:P11)=0,"",SUM(N11:P11)) -> 8532 | R11: =IF(Q11="","",IF(Q11<600,"Low",IF(Q11<3000,"Moderate","High"))) -> High | S11: 0 | T11: 1 | U11: 0 | V11: 6 | W11: 2 | X11: 8
A12: 8 | B12: 8 | D12: M | E12: R | I12: 41.5 | M12: 43 | N12: 1440 | O12: 1200 | P12: 2772 | Q12: =IF(COUNT(N12:P12)=0,"",SUM(N12:P12)) -> 5412 | R12: =IF(Q12="","",IF(Q12<600,"Low",IF(Q12<3000,"Moderate","High"))) -> High | S12: 3 | T12: 6 | U12: 0 | V12: 9 | W12: 7 | X12: 8
A13: 9 | B13: 9 | D13: M | E13: R | I13: 43.3 | M13: 44 | N13: 0 | O13: 1680 | P13: 2772 | Q13: =IF(COUNT(N13:P13)=0,"",SUM(N13:P13)) -> 4452 | R13: =IF(Q13="","",IF(Q13<600,"Low",IF(Q13<3000,"Moderate","High"))) -> High | S13: 0 | T13: 5 | U13: 0 | V13: 14 | W13: 0 | X13: 1
A14: 10 | B14: 10 | D14: M | E14: R | I14: 48.4 | M14: 51.9 | N14: 1920 | O14: 0 | P14: 6930 | Q14: =IF(COUNT(N14:P14)=0,"",SUM(N14:P14)) -> 8850 | R14: =IF(Q14="","",IF(Q14<600,"Low",IF(Q14<3000,"Moderate","High"))) -> High | S14: 0 | T14: 1 | U14: 0 | V14: 5 | W14: 4 | X14: 6
A15: 11 | I15: =IF(COUNT(F15:H15)=0,"",MAX(F15:H15)) | M15: =IF(COUNT(J15:L15)=0,"",MAX(J15:L15)) | Q15: =IF(COUNT(N15:P15)=0,"",SUM(N15:P15)) | R15: =IF(Q15="","",IF(Q15<600,"Low",IF(Q15<3000,"Moderate","High")))
A16: 12 | I16: =IF(COUNT(F16:H16)=0,"",MAX(F16:H16)) | M16: =IF(COUNT(J16:L16)=0,"",MAX(J16:L16)) | Q16: =IF(COUNT(N16:P16)=0,"",SUM(N16:P16)) | R16: =IF(Q16="","",IF(Q16<600,"Low",IF(Q16<3000,"Moderate","High")))
A17: 13 | I17: =IF(COUNT(F17:H17)=0,"",MAX(F17:H17)) | M17: =IF(COUNT(J17:L17)=0,"",MAX(J17:L17)) | Q17: =IF(COUNT(N17:P17)=0,"",SUM(N17:P17)) | R17: =IF(Q17="","",IF(Q17<600,"Low",IF(Q17<3000,"Moderate","High")))
A18: 14 | I18: =IF(COUNT(F18:H18)=0,"",MAX(F18:H18)) | M18: =IF(COUNT(J18:L18)=0,"",MAX(J18:L18)) | Q18: =IF(COUNT(N18:P18)=0,"",SUM(N18:P18)) | R18: =IF(Q18="","",IF(Q18<600,"Low",IF(Q18<3000,"Moderate","High")))
A19: 15 | I19: =IF(COUNT(F19:H19)=0,"",MAX(F19:H19)) | M19: =IF(COUNT(J19:L19)=0,"",MAX(J19:L19)) | Q19: =IF(COUNT(N19:P19)=0,"",SUM(N19:P19)) | R19: =IF(Q19="","",IF(Q19<600,"Low",IF(Q19<3000,"Moderate","High")))
A20: 16 | I20: =IF(COUNT(F20:H20)=0,"",MAX(F20:H20)) | M20: =IF(COUNT(J20:L20)=0,"",MAX(J20:L20)) | Q20: =IF(COUNT(N20:P20)=0,"",SUM(N20:P20)) | R20: =IF(Q20="","",IF(Q20<600,"Low",IF(Q20<3000,"Moderate","High")))
A21: 17 | I21: =IF(COUNT(F21:H21)=0,"",MAX(F21:H21)) | M21: =IF(COUNT(J21:L21)=0,"",MAX(J21:L21)) | Q21: =IF(COUNT(N21:P21)=0,"",SUM(N21:P21)) | R21: =IF(Q21="","",IF(Q21<600,"Low",IF(Q21<3000,"Moderate","High")))
A22: 18 | I22: =IF(COUNT(F22:H22)=0,"",MAX(F22:H22)) | M22: =IF(COUNT(J22:L22)=0,"",MAX(J22:L22)) | Q22: =IF(COUNT(N22:P22)=0,"",SUM(N22:P22)) | R22: =IF(Q22="","",IF(Q22<600,"Low",IF(Q22<3000,"Moderate","High")))
A23: 19 | I23: =IF(COUNT(F23:H23)=0,"",MAX(F23:H23)) | M23: =IF(COUNT(J23:L23)=0,"",MAX(J23:L23)) | Q23: =IF(COUNT(N23:P23)=0,"",SUM(N23:P23)) | R23: =IF(Q23="","",IF(Q23<600,"Low",IF(Q23<3000,"Moderate","High")))
A24: 20 | I24: =IF(COUNT(F24:H24)=0,"",MAX(F24:H24)) | M24: =IF(COUNT(J24:L24)=0,"",MAX(J24:L24)) | Q24: =IF(COUNT(N24:P24)=0,"",SUM(N24:P24)) | R24: =IF(Q24="","",IF(Q24<600,"Low",IF(Q24<3000,"Moderate","High")))
A25: 21 | I25: =IF(COUNT(F25:H25)=0,"",MAX(F25:H25)) | M25: =IF(COUNT(J25:L25)=0,"",MAX(J25:L25)) | Q25: =IF(COUNT(N25:P25)=0,"",SUM(N25:P25)) | R25: =IF(Q25="","",IF(Q25<600,"Low",IF(Q25<3000,"Moderate","High")))
A26: 22 | I26: =IF(COUNT(F26:H26)=0,"",MAX(F26:H26)) | M26: =IF(COUNT(J26:L26)=0,"",MAX(J26:L26)) | Q26: =IF(COUNT(N26:P26)=0,"",SUM(N26:P26)) | R26: =IF(Q26="","",IF(Q26<600,"Low",IF(Q26<3000,"Moderate","High")))
... A34: 30 | I34: =IF(COUNT(F34:H34)=0,"",MAX(F34:H34)) | M34: =IF(COUNT(J34:L34)=0,"",MAX(J34:L34)) | Q34: =IF(COUNT(N34:P34)=0,"",SUM(N34:P34)) | R34: =IF(Q34="","",IF(Q34<600,"Low",IF(Q34<3000,"Moderate","High")))
A36: Class Mean → | F36: =IFERROR(AVERAGE(F5:F34),"") | G36: =IFERROR(AVERAGE(G5:G34),"") | H36: =IFERROR(AVERAGE(H5:H34),"") | I36: =IFERROR(AVERAGE(I5:I34),"") -> 36.5 | J36: =IFERROR(AVERAGE(J5:J34),"") | K36: =IFERROR(AVERAGE(K5:K34),"") | L36: =IFERROR(AVERAGE(L5:L34),"") | M36: =IFERROR(AVERAGE(M5:M34),"") -> 35.07 | ... Q36: =IFERROR(AVERAGE(Q5:Q34),"") -> 5528.85 | S36: =IFERROR(AVERAGE(S5:S34),"") -> 0.9 | T36: =IFERROR(AVERAGE(T5:T34),"") -> 2.7 | U36: =IFERROR(AVERAGE(U5:U34),"") -> 0.5 | V36: =IFERROR(AVERAGE(V5:V34),"") -> 6.6 | W36: =IFERROR(AVERAGE(W5:W34),"") -> 2.3 | X36: =IFERROR(AVERAGE(X5:X34),"") -> 7.4
A37: Class SD → | F37: =IFERROR(STDEV(F5:F34),"") | G37: =IFERROR(STDEV(G5:G34),"") | H37: =IFERROR(STDEV(H5:H34),"") | I37: =IFERROR(STDEV(I5:I34),"") -> 10.579225 | J37: =IFERROR(STDEV(J5:J34),"") | K37: =IFERROR(STDEV(K5:K34),"") | L37: =IFERROR(STDEV(L5:L34),"") | M37: =IFERROR(STDEV(M5:M34),"") -> 11.861989 | ... Q37: =IFERROR(STDEV(Q5:Q34),"") -> 2305.9398 | S37: =IFERROR(STDEV(S5:S34),"") -> 2.0248457 | T37: =IFERROR(STDEV(T5:T34),"") -> 2.7100635 | U37: =IFERROR(STDEV(U5:U34),"") -> 1.0801234 | V37: =IFERROR(STDEV(V5:V34),"") -> 4.1150132 | W37: =IFERROR(STDEV(W5:W34),"") -> 2.5407785 | X37: =IFERROR(STDEV(X5:X34),"") -> 3.3730962
A38: Class N → | F38: =COUNT(F5:F34) -> 0 | G38: =COUNT(G5:G34) -> 0 | H38: =COUNT(H5:H34) -> 0 | I38: =COUNT(I5:I34) -> 10 | J38: =COUNT(J5:J34) -> 0 | K38: =COUNT(K5:K34) -> 0 | L38: =COUNT(L5:L34) -> 0 | M38: =COUNT(M5:M34) -> 10 | ... Q38: =COUNT(Q5:Q34) -> 10 | S38: =COUNT(S5:S34) -> 10 | T38: =COUNT(T5:T34) -> 10 | U38: =COUNT(U5:U34) -> 10 | V38: =COUNT(V5:V34) -> 10 | W38: =COUNT(W5:W34) -> 10 | X38: =COUNT(X5:X34) -> 10
A40: KEY: 🟡 Yellow = Enter your data here 🟢 Green = Auto-calculated (do not edit) 🔵 Blue = Demographic info ✦ = Best / total score calculated automatically

Sheet SPSS Export
A1: SPSS EXPORT — Copy rows 3 onwards into SPSS Data View (no formulas, clean numeric codes)
A2: Sex coded: 1=Male 2=Female 3=Prefer not to say | Dom Hand: 1=Right 2=Left 3=Ambidextrous | IPAQ_Cat: 1=Low 2=Moderate 3=High
A3: ParticipantID | B3: Age | C3: Sex | D3: DomHand | E3: GripDom | F3: GripNonDom | G3: IPAQ_Vig | H3: IPAQ_Mod | I3: IPAQ_Walk | J3: IPAQ_Total | K3: IPAQ_Cat | L3: BRUMS_Anger | M3: BRUMS_Confuse | N3: BRUMS_Dep | O3: BRUMS_Fatigue | P3: BRUMS_Tension | Q3: BRUMS_Vigour | R3: Notes
A4: ='Data Entry'!B5 -> 1 | B4: ='Data Entry'!C5 -> 0 | C4: =IF('Data Entry'!D5="","",IF('Data Entry'!D5="M",1,IF('Data Entry'!D5="F",2,3))) -> 2 | D4: =IF('Data Entry'!E5="","",IF('Data Entry'!E5="R",1,IF('Data Entry'!E5="L",2,3))) -> 1 | E4: ='Data Entry'!I5 -> 16.8 | F4: ='Data Entry'!M5 -> 12.5 | G4: ='Data Entry'!N5 -> 1440 | H4: ='Data Entry'!O5 -> 150 | I4: ='Data Entry'!P5 -> 2079 | J4: ='Data Entry'!Q5 -> 3669 | K4: =IF('Data Entry'!R5="","",IF('Data Entry'!R5="Low",1,IF('Data Entry'!R5="Moderate",2,3))) -> 3 | L4: ='Data Entry'!S5 -> 0 | M4: ='Data Entry'!T5 -> 2 | N4: ='Data Entry'!U5 -> 2 | O4: ='Data Entry'!V5 -> 8 | P4: ='Data Entry'!W5 -> 1 | Q4: ='Data Entry'!X5 -> 5
A5: ='Data Entry'!B6 -> 2 | B5: ='Data Entry'!C6 -> 0 | C5: =IF('Data Entry'!D6="","",IF('Data Entry'!D6="M",1,IF('Data Entry'!D6="F",2,3))) -> 2 | D5: =IF('Data Entry'!E6="","",IF('Data Entry'!E6="R",1,IF('Data Entry'!E6="L",2,3))) -> 1 | E5: ='Data Entry'!I6 -> 30.6 | F5: ='Data Entry'!M6 -> 29.1 | G5: ='Data Entry'!N6 -> 480 | H5: ='Data Entry'!O6 -> 2160 | I5: ='Data Entry'!P6 -> 2376 | J5: ='Data Entry'!Q6 -> 5016 | K5: =IF('Data Entry'!R6="","",IF('Data Entry'!R6="Low",1,IF('Data Entry'!R6="Moderate",2,3))) -> 3 | L5: ='Data Entry'!S6 -> 6 | M5: ='Data Entry'!T6 -> 8 | N5: ='Data Entry'!U6 -> 3 | O5: ='Data Entry'!V6 -> 12 | P5: ='Data Entry'!W6 -> 6 | Q5: ='Data Entry'!X6 -> 6
A6: ='Data Entry'!B7 -> 3 | B6: ='Data Entry'!C7 -> 0 | C6: =IF('Data Entry'!D7="","",IF('Data Entry'!D7="M",1,IF('Data Entry'!D7="F",2,3))) -> 2 | D6: =IF('Data Entry'!E7="","",IF('Data Entry'!E7="R",1,IF('Data Entry'!E7="L",2,3))) -> 1 | E6: ='Data Entry'!I7 -> 32.5 | F6: ='Data Entry'!M7 -> 31.6 | G6: ='Data Entry'!N7 -> 2240 | H6: ='Data Entry'!O7 -> 300 | I6: ='Data Entry'!P7 -> 1386 | J6: ='Data Entry'!Q7 -> 3926 | K6: =IF('Data Entry'!R7="","",IF('Data Entry'!R7="Low",1,IF('Data Entry'!R7="Moderate",2,3))) -> 3 | L6: ='Data Entry'!S7 -> 0 | M6: ='Data Entry'!T7 -> 0 | N6: ='Data Entry'!U7 -> 0 | O6: ='Data Entry'!V7 -> 2 | P6: ='Data Entry'!W7 -> 1 | Q6: ='Data Entry'!X7 -> 8
A7: ='Data Entry'!B8 -> 4 | B7: ='Data Entry'!C8 -> 0 | C7: =IF('Data Entry'!D8="","",IF('Data Entry'!D8="M",1,IF('Data Entry'!D8="F",2,3))) -> 2 | D7: =IF('Data Entry'!E8="","",IF('Data Entry'!E8="R",1,IF('Data Entry'!E8="L",2,3))) -> 1 | E7: ='Data Entry'!I8 -> 25.9 | F7: ='Data Entry'!M8 -> 26.1 | G7: ='Data Entry'!N8 -> 2400 | H7: ='Data Entry'!O8 -> 1980 | I7: ='Data Entry'!P8 -> 4380 | J7: ='Data Entry'!Q8 -> 8760 | K7: =IF('Data Entry'!R8="","",IF('Data Entry'!R8="Low",1,IF('Data Entry'!R8="Moderate",2,3))) -> 3 | L7: ='Data Entry'!S8 -> 0 | M7: ='Data Entry'!T8 -> 2 | N7: ='Data Entry'!U8 -> 0 | O7: ='Data Entry'!V8 -> 5 | P7: ='Data Entry'!W8 -> 2 | Q7: ='Data Entry'!X8 -> 8
A8: ='Data Entry'!B9 -> 5 | B8: ='Data Entry'!C9 -> 0 | C8: =IF('Data Entry'!D9="","",IF('Data Entry'!D9="M",1,IF('Data Entry'!D9="F",2,3))) -> 1 | D8: =IF('Data Entry'!E9="","",IF('Data Entry'!E9="R",1,IF('Data Entry'!E9="L",2,3))) -> 1 | E8: ='Data Entry'!I9 -> 35.9 | F8: ='Data Entry'!M9 -> 29.1 | G8: ='Data Entry'!N9 -> 1440 | H8: ='Data Entry'!O9 -> 480 | I8: ='Data Entry'!P9 -> 1039.5 | J8: ='Data Entry'!Q9 -> 2959.5 | K8: =IF('Data Entry'!R9="","",IF('Data Entry'!R9="Low",1,IF('Data Entry'!R9="Moderate",2,3))) -> 2 | L8: ='Data Entry'!S9 -> 0 | M8: ='Data Entry'!T9 -> 0 | N8: ='Data Entry'!U9 -> 0 | O8: ='Data Entry'!V9 -> 2 | P8: ='Data Entry'!W9 -> 0 | Q8: ='Data Entry'!X9 -> 14
A9: ='Data Entry'!B10 -> 6 | B9: ='Data Entry'!C10 -> 0 | C9: =IF('Data Entry'!D10="","",IF('Data Entry'!D10="M",1,IF('Data Entry'!D10="F",2,3))) -> 1 | D9: =IF('Data Entry'!E10="","",IF('Data Entry'!E10="R",1,IF('Data Entry'!E10="L",2,3))) -> 1 | E9: ='Data Entry'!I10 -> 38.1 | F9: ='Data Entry'!M10 -> 35.4 | G9: ='Data Entry'!N10 -> 460 | H9: ='Data Entry'!O10 -> 1386 | I9: ='Data Entry'!P10 -> 1866 | J9: ='Data Entry'!Q10 -> 3712 | K9: =IF('Data Entry'!R10="","",IF('Data Entry'!R10="Low",1,IF('Data Entry'!R10="Moderate",2,3))) -> 3 | L9: ='Data Entry'!S10 -> 0 | M9: ='Data Entry'!T10 -> 2 | N9: ='Data Entry'!U10 -> 0 | O9: ='Data Entry'!V10 -> 3 | P9: ='Data Entry'!W10 -> 0 | Q9: ='Data Entry'!X10 -> 10
A10: ='Data Entry'!B11 -> 7 | B10: ='Data Entry'!C11 -> 0 | C10: =IF('Data Entry'!D11="","",IF('Data Entry'!D11="M",1,IF('Data Entry'!D11="F",2,3))) -> 1 | D10: =IF('Data Entry'!E11="","",IF('Data Entry'!E11="R",1,IF('Data Entry'!E11="L",2,3))) -> 1 | E10: ='Data Entry'!I11 -> 52 | F10: ='Data Entry'!M11 -> 48 | G10: ='Data Entry'!N11 -> 4320 | H10: ='Data Entry'!O11 -> 1440 | I10: ='Data Entry'!P11 -> 2772 | J10: ='Data Entry'!Q11 -> 8532 | K10: =IF('Data Entry'!R11="","",IF('Data Entry'!R11="Low",1,IF('Data Entry'!R11="Moderate",2,3))) -> 3 | L10: ='Data Entry'!S11 -> 0 | M10: ='Data Entry'!T11 -> 1 | N10: ='Data Entry'!U11 -> 0 | O10: ='Data Entry'!V11 -> 6 | P10: ='Data Entry'!W11 -> 2 | Q10: ='Data Entry'!X11 -> 8
A11: ='Data Entry'!B12 -> 8 | B11: ='Data Entry'!C12 -> 0 | C11: =IF('Data Entry'!D12="","",IF('Data Entry'!D12="M",1,IF('Data Entry'!D12="F",2,3))) -> 1 | D11: =IF('Data Entry'!E12="","",IF('Data Entry'!E12="R",1,IF('Data Entry'!E12="L",2,3))) -> 1 | E11: ='Data Entry'!I12 -> 41.5 | F11: ='Data Entry'!M12 -> 43 | G11: ='Data Entry'!N12 -> 1440 | H11: ='Data Entry'!O12 -> 1200 | I11: ='Data Entry'!P12 -> 2772 | J11: ='Data Entry'!Q12 -> 5412 | K11: =IF('Data Entry'!R12="","",IF('Data Entry'!R12="Low",1,IF('Data Entry'!R12="Moderate",2,3))) -> 3 | L11: ='Data Entry'!S12 -> 3 | M11: ='Data Entry'!T12 -> 6 | N11: ='Data Entry'!U12 -> 0 | O11: ='Data Entry'!V12 -> 9 | P11: ='Data Entry'!W12 -> 7 | Q11: ='Data Entry'!X12 -> 8
A12: ='Data Entry'!B13 -> 9 | B12: ='Data Entry'!C13 -> 0 | C12: =IF('Data Entry'!D13="","",IF('Data Entry'!D13="M",1,IF('Data Entry'!D13="F",2,3))) -> 1 | D12: =IF('Data Entry'!E13="","",IF('Data Entry'!E13="R",1,IF('Data Entry'!E13="L",2,3))) -> 1 | E12: ='Data Entry'!I13 -> 43.3 | F12: ='Data Entry'!M13 -> 44 | G12: ='Data Entry'!N13 -> 0 | H12: ='Data Entry'!O13 -> 1680 | I12: ='Data Entry'!P13 -> 2772 | J12: ='Data Entry'!Q13 -> 4452 | K12: =IF('Data Entry'!R13="","",IF('Data Entry'!R13="Low",1,IF('Data Entry'!R13="Moderate",2,3))) -> 3 | L12: ='Data Entry'!S13 -> 0 | M12: ='Data Entry'!T13 -> 5 | N12: ='Data Entry'!U13 -> 0 | O12: ='Data Entry'!V13 -> 14 | P12: ='Data Entry'!W13 -> 0 | Q12: ='Data Entry'!X13 -> 1
A13: ='Data Entry'!B14 -> 10 | B13: ='Data Entry'!C14 -> 0 | C13: =IF('Data Entry'!D14="","",IF('Data Entry'!D14="M",1,IF('Data Entry'!D14="F",2,3))) -> 1 | D13: =IF('Data Entry'!E14="","",IF('Data Entry'!E14="R",1,IF('Data Entry'!E14="L",2,3))) -> 1 | E13: ='Data Entry'!I14 -> 48.4 | F13: ='Data Entry'!M14 -> 51.9 | G13: ='Data Entry'!N14 -> 1920 | H13: ='Data Entry'!O14 -> 0 | I13: ='Data Entry'!P14 -> 6930 | J13: ='Data Entry'!Q14 -> 8850 | K13: =IF('Data Entry'!R14="","",IF('Data Entry'!R14="Low",1,IF('Data Entry'!R14="Moderate",2,3))) -> 3 | L13: ='Data Entry'!S14 -> 0 | M13: ='Data Entry'!T14 -> 1 | N13: ='Data Entry'!U14 -> 0 | O13: ='Data Entry'!V14 -> 5 | P13: ='Data Entry'!W14 -> 4 | Q13: ='Data Entry'!X14 -> 6
A14: ='Data Entry'!B15 -> 0 | B14: ='Data Entry'!C15 -> 0 | C14: =IF('Data Entry'!D15="","",IF('Data Entry'!D15="M",1,IF('Data Entry'!D15="F",2,3))) | D14: =IF('Data Entry'!E15="","",IF('Data Entry'!E15="R",1,IF('Data Entry'!E15="L",2,3))) | E14: ='Data Entry'!I15 | F14: ='Data Entry'!M15 | G14: ='Data Entry'!N15 -> 0 | H14: ='Data Entry'!O15 -> 0 | I14: ='Data Entry'!P15 -> 0 | J14: ='Data Entry'!Q15 | K14: =IF('Data Entry'!R15="","",IF('Data Entry'!R15="Low",1,IF('Data Entry'!R15="Moderate",2,3))) | L14: ='Data Entry'!S15 -> 0 | M14: ='Data Entry'!T15 -> 0 | N14: ='Data Entry'!U15 -> 0 | O14: ='Data Entry'!V15 -> 0 | P14: ='Data Entry'!W15 -> 0 | Q14: ='Data Entry'!X15 -> 0
A15: ='Data Entry'!B16 -> 0 | B15: ='Data Entry'!C16 -> 0 | C15: =IF('Data Entry'!D16="","",IF('Data Entry'!D16="M",1,IF('Data Entry'!D16="F",2,3))) | D15: =IF('Data Entry'!E16="","",IF('Data Entry'!E16="R",1,IF('Data Entry'!E16="L",2,3))) | E15: ='Data Entry'!I16 | F15: ='Data Entry'!M16 | G15: ='Data Entry'!N16 -> 0 | H15: ='Data Entry'!O16 -> 0 | I15: ='Data Entry'!P16 -> 0 | J15: ='Data Entry'!Q16 | K15: =IF('Data Entry'!R16="","",IF('Data Entry'!R16="Low",1,IF('Data Entry'!R16="Moderate",2,3))) | L15: ='Data Entry'!S16 -> 0 | M15: ='Data Entry'!T16 -> 0 | N15: ='Data Entry'!U16 -> 0 | O15: ='Data Entry'!V16 -> 0 | P15: ='Data Entry'!W16 -> 0 | Q15: ='Data Entry'!X16 -> 0
... A33: ='Data Entry'!B34 -> 0 | B33: ='Data Entry'!C34 -> 0 | C33: =IF('Data Entry'!D34="","",IF('Data Entry'!D34="M",1,IF('Data Entry'!D34="F",2,3))) | D33: =IF('Data Entry'!E34="","",IF('Data Entry'!E34="R",1,IF('Data Entry'!E34="L",2,3))) | E33: ='Data Entry'!I34 | F33: ='Data Entry'!M34 | G33: ='Data Entry'!N34 -> 0 | H33: ='Data Entry'!O34 -> 0 | I33: ='Data Entry'!P34 -> 0 | J33: ='Data Entry'!Q34 | K33: =IF('Data Entry'!R34="","",IF('Data Entry'!R34="Low",1,IF('Data Entry'!R34="Moderate",2,3))) | L33: ='Data Entry'!S34 -> 0 | M33: ='Data Entry'!T34 -> 0 | N33: ='Data Entry'!U34 -> 0 | O33: ='Data Entry'!V34 -> 0 | P33: ='Data Entry'!W34 -> 0 | Q33: ='Data Entry'!X34 -> 0

Sheet Instructions
A1: HOW TO USE THIS SPREADSHEET
A2: STEP 1 — Complete your three tasks
A3: Before entering data here, complete your hand dynamometer test, IPAQ-SF questionnaire, and BRUMS questionnaire using your printed task sheet. Calculate all scores first.
A4: STEP 2 — Enter your data in the 'Data Entry' tab
A5: Open the 'Data Entry' sheet. Find your row (1–30) and enter your Participant ID in column B.
A6: 🟡 YELLOW cells = enter your data. 🔵 BLUE cells = demographics. 🟢 GREEN cells = calculated automatically — do not edit.
A7: Grip Strength (cols F–H, J–L): Enter all three trial values. The BEST score calculates automatically in col I / M.
A8: IPAQ-SF (cols N–P): Enter your calculated Vigorous, Moderate, and Walking MET-min/week scores from your task sheet. Total and Category fill automatically.
A9: BRUMS (cols S–X): Enter your subscale totals (0–16 each) for Anger, Confusion, Depression, Fatigue, Tension, and Vigour.
A10: STEP 3 — Check the class summary row
A11: Rows 36–38 show class Mean, SD, and N as data is entered. These update automatically as participants fill in their rows.
A12: STEP 4 — Export to SPSS (for the tutor)
... A22: • This file is for in-class use only. Data will not be retained beyond this session.
