Workbook

Sheet Student Feedback
B3: MARKING CRITERIA and STUDENT FEEDBACK
B5: This section details the assessment criteria. The extent to which these are demonstrated by you determines your mark. The
B6: marks available for each criterion are shown. Lecturers will use the space provided to comment on the achievement of the
B7: task(s), including those areas in which you have performed well and areas that would benefit from development/improvement.
B9: Common Assessment Criteria Applied | J9: Marks Available | K9: Marks Awarded
B10: 1. Engagement with Literature Skills
J12: =IF('Marking Criteria'!D49 = 0, "", 'Marking Criteria'!D49) | K12: =IF('Marking Criteria'!H49 = 0, "", 'Marking Criteria'!H49)
B18: 2. Knowledge and Understanding Skills
J20: =IF('Marking Criteria'!D50 = 0, "", 'Marking Criteria'!D50) -> 20 | K20: =IF('Marking Criteria'!H50 = 0, "", 'Marking Criteria'!H50) -> #REF!
B26: 3. Cognitive and Intellectual Skills
J28: =IF('Marking Criteria'!D51 = 0, "", 'Marking Criteria'!D51) -> 10 | K28: =IF('Marking Criteria'!H51 = 0, "", 'Marking Criteria'!H51) -> 4
B34: 4. Practical Application Skills
J36: =IF('Marking Criteria'!D52 = 0, "", 'Marking Criteria'!D52) -> 70 | K36: =IF('Marking Criteria'!H52 = 0, "", 'Marking Criteria'!H52) -> #REF!
B42: 5. Transferable Skills for Life and Professional Practice
J44: =IF('Marking Criteria'!D53 = 0, "", 'Marking Criteria'!D53) | K44: =IF('Marking Criteria'!H53 = 0, "", 'Marking Criteria'!H53)
B51: Assignment Mark (Assessment marks are subject to ratification at the Exam | H51: Late Submission Penalties (tick if appropriate) | J51: ='Marking Criteria'!M48 -> #REF!
B52: Board. These comments and marks are to give feedback on module work and are for | H52: Late Submission ?
B53: guidance only until they are confirmed. ) | H53: 1st/2nd/3rd attempt? | I53: 1st

Sheet Marking Criteria
B8: Assignment Marking Agreement Form (not to be seen by students)
C9: Marking scheme | I9: Marks available | J9: 1st marker | K9: 2nd marker (Sample 2nd Marking) | L9: 3rd marker (if required) | M9: ß AGREED MARK AWARDED | N9: Error ?
B10: 1 | C10: Engagement with Literature Skills
N11: =IF(J11>I11,"*",IF(K11>I11,"*",IF(L11>I11,"*"," ")))
C12: Not Applicable | I12: 0 | N12: =IF(J12>I12,"*",IF(K12>I12,"*",IF(L12>I12,"*"," ")))
N14: =IF(J14>I14,"*",IF(K14>I14,"*",IF(L14>I14,"*"," ")))
B15: 2 | C15: Knowledge and Understanding of Subject | N15: =IF(J15>I15,"*",IF(K15>I15,"*",IF(L15>I15,"*"," ")))
N16: =IF(J16>I17,"*",IF(K16>I17,"*",IF(L16>I17,"*"," ")))
C17: IP Addressing Subnet A | I17: 4 | J17: ='Device Config'!J7 -> 0 | N17: =IF(J17>I18,"*",IF(K17>I18,"*",IF(L17>I18,"*"," ")))
C18: IP Addressing Subnet B | I18: 4 | J18: ='Device Config'!#REF! -> #REF! | N18: =IF(J18>I20,"*",IF(K18>I20,"*",IF(L18>I20,"*"," "))) -> #REF!
C19: IP Addressing Subnet C | I19: 4 | J19: ='Device Config'!#REF! -> #REF!
C20: IP Addressing Subnet D | I20: 4 | J20: ='Device Config'!#REF! -> #REF! | N20: =IF(J20>I21,"*",IF(K20>I21,"*",IF(L20>I21,"*"," "))) -> #REF!
C21: IP Addressing Subnet E | I21: 4 | J21: ='Device Config'!#REF! -> #REF!
N22: =IF(J22>I22,"*",IF(K22>I22,"*",IF(L22>I22,"*"," ")))
B23: 3 | C23: Cognitive and Intellectual Skills | N23: =IF(J23>I23,"*",IF(K23>I23,"*",IF(L23>I23,"*"," ")))
N24: =IF(J24>I24,"*",IF(K24>I24,"*",IF(L24>I24,"*"," ")))
C25: Can PC1 ping PC2 | I25: 2 | J25: ='Device Config'!J42 -> 0 | N25: =IF(J25>I25,"*",IF(K25>I25,"*",IF(L25>I25,"*"," ")))
C26: Can PC1 ping Lo1 | I26: 2 | J26: ='Device Config'!J43 -> 0 | N26: =IF(J26>I26,"*",IF(K26>I26,"*",IF(L26>I26,"*"," ")))
C27: Can PC2 ping Lo2 | I27: 2 | J27: ='Device Config'!J44 -> 0
C28: PC1 establish telnet connect on R1 | I28: 2 | J28: ='Device Config'!J46 -> 2 | N28: =IF(J28>I28,"*",IF(K28>I28,"*",IF(L28>I28,"*"," ")))
C29: PC1 establish SSH connect on R1 | I29: 2 | J29: ='Device Config'!J47 -> 2 | N29: =IF(J29>I29,"*",IF(K29>I29,"*",IF(L29>I29,"*"," ")))
N30: =IF(J30>I30,"*",IF(K30>I30,"*",IF(L30>I30,"*"," ")))
B31: 4 | C31: Practical Application Skills | N31: =IF(J31>I31,"*",IF(K31>I31,"*",IF(L31>I31,"*"," ")))
N32: =IF(J32>I32,"*",IF(K32>I32,"*",IF(L32>I32,"*"," ")))
C33: Completion of Lab Activities (Part 1 - Task 1) | I33: 5 | J33: ='Device Config'!J3 -> 10 | N33: =IF(J33>I33,"*",IF(K33>I33,"*",IF(L33>I33,"*"," "))) -> *
C34: Completion of Lab Activities (Part 1 - Task 2) | I34: 5 | J34: ='Device Config'!J4 -> 10 | N34: =IF(J34>I34,"*",IF(K34>I34,"*",IF(L34>I34,"*"," "))) -> *
C35: Completion of Lab Activities (Part 1 - Task 3) | I35: 5 | J35: ='Device Config'!#REF! -> #REF! | N35: =IF(J35>I35,"*",IF(K35>I35,"*",IF(L35>I35,"*"," "))) -> #REF!
C36: Completion of Lab Activities (Part 1 - Task 4) | I36: 5 | J36: ='Device Config'!#REF! -> #REF! | N36: =IF(J36>I36,"*",IF(K36>I36,"*",IF(L36>I36,"*"," "))) -> #REF!
C37: Infrastructure Setup (2.1.1) | I37: 5 | J37: ='Device Config'!#REF! -> #REF! | N37: =IF(J37>I37,"*",IF(K37>I37,"*",IF(L37>I37,"*"," "))) -> #REF!
C38: Device Configuration (2.1.2) for R1 and R2 | I38: 16 | J38: ='Device Config'!J18 -> 5 | N38: =IF(J38>I38,"*",IF(K38>I38,"*",IF(L38>I38,"*"," ")))
C39: Device Configuration (2.1.3) for S1 and S2 | I39: 4 | J39: ='Device Config'!J25 -> 7 | N39: =IF(J39>I39,"*",IF(K39>I39,"*",IF(L39>I39,"*"," "))) -> *
C40: Router Configuration (2.1.4) | I40: 25 | J40: ='Device Config'!J39 -> 14 | N40: =IF(J40>I40,"*",IF(K40>I40,"*",IF(L40>I40,"*"," ")))
N41: =IF(J41>I41,"*",IF(K41>I41,"*",IF(L41>I41,"*"," ")))
N42: =IF(J42>I42,"*",IF(K42>I42,"*",IF(L42>I42,"*"," ")))
B43: 5 | C43: Transferable Skills for Life and Professional Practice | N43: =IF(J43>I43,"*",IF(K43>I43,"*",IF(L43>I43,"*"," ")))
N44: =IF(J44>I44,"*",IF(K44>I44,"*",IF(L44>I44,"*"," ")))
C45: Not Applicable | I45: 0 | N45: =IF(J45>I45,"*",IF(K45>I45,"*",IF(L45>I45,"*"," ")))
N47: =IF(J47>I47,"*",IF(K47>I47,"*",IF(L47>I47,"*"," ")))
C48: Totals | G48: Days Late ? | H48: 0 | I48: =SUM(I11:I47) -> 100 | J48: =SUM(J11:J47) -> #REF! | K48: =SUM(K11:K47) -> 0 | L48: =SUM(L11:L47) -> 0 | M48: =IF(L48<>0, L48,IF(K48<>0,K48,IF(J48<>0,J48,0))) -> #REF! | N48: =IF(H48>0,"*","")
C49: Sec1 | D49: =SUM(I11:I14) -> 0 | E49: =SUM(J11:J14) -> 0 | F49: =SUM(K11:K14) -> 0 | G49: =SUM(L11:L14) -> 0 | H49: =IF(G49>0,G49,IF(F49>0,F49,IF(E49>0,E49,0))) -> 0
C50: Sec2 | D50: =SUM(I17:I22) -> 20 | E50: =SUM(J16:J22) -> #REF! | F50: =SUM(K16:K22) -> 0 | G50: =SUM(L16:L22) -> 0 | H50: =IF(G50>0,G50,IF(F50>0,F50,IF(E50>0,E50,0))) -> #REF!
C51: Sec3 | D51: =SUM(I24:I30) -> 10 | E51: =SUM(J24:J30) -> 4 | F51: =SUM(K24:K30) -> 0 | G51: =SUM(L24:L30) -> 0 | H51: =IF(G51>0,G51,IF(F51>0,F51,IF(E51>0,E51,0))) -> 4
C52: Sec4 | D52: =SUM(I32:I42) -> 70 | E52: =SUM(J32:J42) -> #REF! | F52: =SUM(K32:K42) -> 0 | G52: =SUM(L32:L42) -> 0 | H52: =IF(G52>0,G52,IF(F52>0,F52,IF(E52>0,E52,0))) -> #REF!
C53: Sec5 | D53: =SUM(I44:I47) -> 0 | E53: =SUM(J44:J47) -> 0 | F53: =SUM(K44:K47) -> 0 | G53: =SUM(L44:L47) -> 0 | H53: =IF(G53>0,G53,IF(F53>0,F53,IF(E53>0,E53,0))) -> 0
B54: 1st Marker Name | E54: Paul John | H54: 1st Marker Signature | J54: Paul John
B55: 2nd Marker Name | E55: Neil Griffiths | H55: 2nd Marker Signature | J55: Neil Griffiths
B56: 3rd Marker Name | H56: 3rd Marker Signature
B57: Reasons for awarding the final mark where there is more than one marker
B58: Type 1: second (or double) as sampling or moderation has been used
B60: Notes:
B61: 1 | C61: The 3rd marker may be used where there is more than a 10 percentage point difference (in the TOTAL mark) between markers 1 and 2 OR when it is not possible to get agreement between markers 1 and 2. Reasons must be given where an agreed mark is given.
B62: 2 | C62: This form is for internal use only and is NOT to be returned to the student. The final agreed marks must be transferred to the student feedback sheet in the assignment specification.
B63: 3 | C63: The external examiner MUST be shown this form.

Sheet Device Config
F1: Max | H1: Test | J1: Chloe Roberts | L1: Max Morton-Lewis | N1: Cody John | P1: Lydia Holland | R1: Daffydd Davies | T1: William Rowlands
B2: Task 1 - Activities
C3: Subnet and VSLM | F3: 10 | H3: 10 | J3: 10 | L3: 10 | N3: 10 | P3: 10 | R3: 10 | T3: 10
C4: Final Exam on NetAcad | F4: 10 | H4: 10 | J4: 10 | L4: 10 | N4: 9 | P4: 10 | R4: 10 | T4: 9
B6: 2.1 - IP Addressing
C7: Allocation of IP Addresses
B9: 2.2 - Initial Setup
C10: a | D10: Setting up devices on PT | F10: 5 | H10: 5 | J10: 5 | L10: 5 | N10: 5 | P10: 5 | R10: 5 | T10: 5
B12: 2.3 - Basic Router Configuration
C13: a | D13: Set hostname | F13: 1 | H13: 1 | J13: 1 | L13: 1 | N13: 1 | P13: 1 | R13: 1 | T13: 1
C14: b | D14: Disable domain lookup | F14: 1 | H14: 1 | J14: 1 | L14: 1 | N14: 1 | P14: 0 | R14: 1 | T14: 1
C15: c | D15: MOTD | F15: 1 | H15: 1 | J15: 1 | L15: 1 | N15: 1 | P15: 0.5 | R15: 1 | T15: 1
C16: d | D16: Prvilege Exec Password (“C15coPa55”) | F16: 1 | H16: 1 | J16: 1 | L16: 1 | N16: 1 | P16: 1 | R16: 1 | T16: 0
C17: e | D17: Access port password to “Con@C15co | F17: 1 | H17: 1 | J17: 1 | L17: 1 | N17: 1 | P17: 0 | R17: 0 | T17: 0
D18: Total | H18: =SUM(H13:H17) -> 5 | J18: =SUM(J13:J17) -> 5 | L18: =SUM(L13:L17) -> 5 | N18: =SUM(N13:N17) -> 5 | P18: =SUM(P13:P17) -> 2.5 | R18: =SUM(R13:R17) -> 4 | T18: =SUM(T13:T17) -> 3
B20: 2.4 - Interface Configuration
C21: a | D21: IP Addressing Table | F21: 6 | H21: 6 | J21: 3 | L21: 2 | N21: 2 | P21: 1 | R21: 2 | T21: 1
C22: b | D22: Use of approriate labels | F22: 1 | H22: 1 | J22: 1 | L22: 1 | N22: 1 | P22: 1 | R22: 1 | T22: 1
C23: c | D23: Bandwidth on Router - 2048kpbs | F23: 1 | H23: 1 | J23: 1 | L23: 1 | N23: 1 | P23: 0 | R23: 1 | T23: 0
C24: d | D24: Clock rate on DCE | F24: 2 | H24: 2 | J24: 2 | L24: 2 | N24: 0 | P24: 0 | R24: 2 | T24: 0
D25: Total | H25: =SUM(H21:H24) -> 10 | J25: =SUM(J21:J24) -> 7 | L25: =SUM(L21:L24) -> 6 | N25: =SUM(N21:N24) -> 4 | P25: =SUM(P21:P24) -> 2 | R25: =SUM(R21:R24) -> 6 | T25: =SUM(T21:T24) -> 2
B27: 2.5 - Router Configuration
C28: a | D28: Enable RIPv2 on all routers | F28: 15 | H28: 15 | J28: 0 | L28: 0 | N28: 0 | P28: 0 | R28: 0 | T28: 0
C29: b | D29: Disable auto summarisation | F29: 2 | H29: 2 | J29: 0 | L29: 0 | N29: 0 | P29: 0 | R29: 0 | T29: 0
C30: c | D30: Enable IP V6 Routing | F30: 2 | H30: 2 | J30: 0 | L30: 0 | N30: 0 | P30: 0 | R30: 0 | T30: 0
C31: d | D31: Branch-> HQ IPV6 Static Route | F31: 3 | H31: 3 | J31: 0 | L31: 0 | N31: 0 | P31: 0 | R31: 0 | T31: 0
C32: e | D32: HQ -> Branch IPV6 Static Route | F32: 3 | H32: 3 | J32: 0 | L32: 0 | N32: 0 | P32: 0 | R32: 0 | T32: 0
D33: Total | H33: =SUM(H28:H32) -> 25 | J33: =SUM(J28:J32) -> 0 | L33: =SUM(L28:L32) -> 0 | N33: =SUM(N28:N32) -> 0 | P33: =SUM(P28:P32) -> 0 | R33: =SUM(R28:R32) -> 0 | T33: =SUM(T28:T32) -> 0
B35: 2.6 - Swtich Configuration
C36: a | D36: Configure switch, set priv exec p/w, access password “C15co!CON”, vty line password “C15co!VTY” , banner | F36: 8 | H36: 8 | J36: 7 | L36: 6 | N36: 6 | P36: 4 | R36: 2 | T36: 0
C37: b | D37: VLAN 1 from addressing table | F37: 1 | H37: 1 | J37: 1 | L37: 0 | N37: 0 | P37: 0 | R37: 1 | T37: 1
C38: c | D38: SSH setup, domain set to soac.com, key modulus to 1024 bits. username SSHadmin with an encrypted password of 55HAdm!n2024 | F38: 6 | H38: 6 | J38: 6 | L38: 6 | N38: 6 | P38: 6 | R38: 2 | T38: 0
D39: Total | H39: =SUM(H36:H38) -> 15 | J39: =SUM(J36:J38) -> 14 | L39: =SUM(L36:L38) -> 12 | N39: =SUM(N36:N38) -> 12 | P39: =SUM(P36:P38) -> 10 | R39: =SUM(R36:R38) -> 5 | T39: =SUM(T36:T38) -> 1
B41: 2.1.5 - Network Connectivety
C42: a.i | D42: Ping PC1 to PC3 | F42: 4 | H42: 4 | J42: 0 | L42: 0 | N42: 0 | P42: 0 | R42: 0 | T42: 0
C43: a.ii | D43: Ping PC1 to any loopback on HQ | F43: 4 | H43: 4 | J43: 0 | L43: 0 | N43: 0 | P43: 0 | R43: 0 | T43: 0
C44: a.iii | D44: Ping PC3 to PC2 | F44: 4 | H44: 4 | J44: 0 | L44: 0 | N44: 0 | P44: 0 | R44: 0 | T44: 0
C45: iv | D45: Ping PC3 to any loopback on Branch | F45: 4 | H45: 4 | J45: 0 | L45: 0 | N45: 0 | P45: 0 | R45: 0 | T45: 0
C46: b.i | D46: PC1 -> AS1 - Telnet | F46: 2 | H46: 2 | J46: 2 | L46: 0 | N46: 0 | P46: 0 | R46: 0 | T46: 0
C47: b.ii | D47: PC1 -> AS1 - SSH | F47: 2 | H47: 2 | J47: 2 | L47: 0 | N47: 0 | P47: 0 | R47: 0 | T47: 0
D48: Total | H48: =SUM(H42:H47) -> 20 | J48: =SUM(J42:J47) -> 4 | L48: =SUM(L42:L47) -> 0 | N48: =SUM(N42:N47) -> 0 | P48: =SUM(P42:P47) -> 0 | R48: =SUM(R42:R47) -> 0 | T48: =SUM(T42:T47) -> 0
F50: =SUM(F2:F47) -> 100 | H50: =H48+H39+H33+H25+H18+H10+H4+H3 -> 100 | J50: =J48+J39+J33+J25+J18+J10+J4+J3 -> 55 | L50: =L48+L39+L33+L25+L18+L10+L4+L3 -> 48 | N50: =N48+N39+N33+N25+N18+N10+N4+N3 -> 45 | P50: =P48+P39+P33+P25+P18+P10+P4+P3 -> 39.5 | R50: =R48+R39+R33+R25+R18+R10+R4+R3 -> 40 | T50: =T48+T39+T33+T25+T18+T10+T4+T3 -> 30
