Workbook

Sheet Bike Data
A1: First Year (2020)
A2: 1998 ZX6R
A3: Wheelbase | B3: 1.378 | C3: Rake | D3: 23.5 | E3: Swingarm L
A4: Front Wheel Radius | B4: 0.28 | C4: Fork Offset | D4: 0.028 | E4: Swingarm A
A5: Rear Wheel Radius | B5: 0.302 | C5: Trail | D5: ='ZX6R Diagram'!J10 -> 0.091215114 | E5: Chain Pitch | F5: 520
A6: Swingarm Length | B6: 0.509105 | C6: Fork Length | D6: 0.679948 | E6: Front sprock | F6: 15
A7: Swingarm Angle | B7: 10 | C7: Weight | D7: =CoG!F7 -> 187.5 | E7: rear sprock | F7: 40
A8: CRF450R
A9: Wheelbase | B9: 1.477 | C9: Rake | D9: 26.79 | E9: Swingarm L
A10: Front Wheel Radius | B10: 0.331 | C10: Fork Offset | D10: 0.024 | E10: Swingarm A
A11: Rear Wheel Radius | B11: 0.319 | C11: Trail | E11: Chain Pitch | F11: 520
A12: Swingarm Length | B12: 0.55951 | C12: Fork Length | D12: 0.878949 | E12: Front sprock | F12: 13
A13: Swingarm Angle | B13: 16 | C13: Weight | D13: =CoG!F15 -> 84 | E13: rear sprock | F13: 48
A14: RC213
A15: Wheelbase | B15: 1.435 | C15: Rake(online) | D15: 15 | E15: Swingarm L
A16: Front Wheel Radius | B16: 0.299959 | C16: Fork Offset | D16: 0.03024 | E16: Swingarm A
A17: Rear Wheel Radius | B17: 0.299959 | C17: Ground Trail | D17: ='RC213'!J10 -> 0.04906702 | E17: Chain Pitch
A18: Swingarm Length | B18: 0.617068 | C18: Fork Length | D18: 0.712554 | E18: Front sprock
A19: Swingarm Angle | B19: 9 | C19: Weight | D19: 160 | E19: rear sprock
A20: DAKAR Bike
A21: Wheelbase | B21: 1.491 | C21: Rake | D21: 26.5 | E21: FORK KICK | F21: 0.032524
A22: Front Wheel Radius | B22: 0.3477 | C22: Fork Offset | D22: 0.014545 | E22: Swingarm A
A23: Rear Wheel Radius | B23: 0.3406 | C23: Trail | E23: Chain Pitch | F23: 520
A24: Swingarm Length | B24: 0.650199 | C24: Fork Length | D24: 0.89316 | E24: Front sprock | F24: 14
A25: Swingarm Angle | B25: 10 | C25: Weight | D25: 111 | E25: rear sprock | F25: 48

Sheet CoG
A1: First Year (2020)
A2: ZX6R
C3: W/O Rider | D3: W/ Rider
A4: Level | B4: Front | C4: 101.5 | D4: 131.5 | E4: Radius AV | F4: =AVERAGE('Bike Data'!$B$4,'Bike Data'!$B$5) -> 0.291
B5: Rear | C5: 86 | D5: 141 | E5: Stool Height | F5: 0.345
A6: Inclined | B6: Front | C6: 108 | D6: 150 | E6: Stool Weight | F6: 0
B7: Rear | C7: 79 | D7: 124.5 | E7: Weight of Bike | F7: =C4+C5 -> 187.5
A8: CoG | B8: X | C8: =(C5*'Bike Data'!B3)/F7 -> 0.63204267 | D8: =(D5*'Bike Data'!B3)/F9 -> 0.71302018 | E8: Rider Weight | F8: =(D4+D5)-F7 -> 85
B9: Y | C9: =('Bike Data'!B3*(C5-C7))/(F7*TAN(ASIN(F5/'Bike Data'!B3)))+F4 -> 0.48993889 | D9: =('Bike Data'!B3*(D5-D7))/(F9*TAN(ASIN(F5/'Bike Data'!B3)))+F4 -> 0.61365646 | E9: Total Weight | F9: =SUM(F7,F8) -> 272.5
A10: CRF450R
C11: W/O Rider | D11: W/ Rider
A12: Level | B12: Front | C12: 36.5 | D12: 61.5 | E12: Radius AV | F12: =AVERAGE('Bike Data'!$B$10,'Bike Data'!$B$11) -> 0.325
B13: Rear | C13: 47.5 | D13: 108.5 | E13: Stool Height | F13: 0.345
A14: Inclined | B14: Front | C14: 39.5 | D14: 79 | E14: Stool Weight | F14: 0
B15: Rear | C15: 45.5 | D15: 92.5 | E15: Weight of Bike | F15: =C12+C13 -> 84
A16: CoG | B16: X | C16: =(C13*'Bike Data'!B9)/F15 -> 0.83520833 | D16: =(D13*'Bike Data'!B9)/F17 -> 0.94267353 | E16: Rider Weight | F16: =D12+D13-F15 -> 86
B17: Y | C17: =('Bike Data'!B9*(C13-C15))/(F15*TAN(ASIN(F13/'Bike Data'!B9)))+F12 -> 0.47138936 | D17: =('Bike Data'!B9*(D13-D15))/(F17*TAN(ASIN(F13/'Bike Data'!B9)))+F12 -> 0.90366853 | E17: Total Weight | F17: =SUM(F15,F16) -> 170

Sheet Gearing Calculator
A1: ZX6R | I1: CRF450R
A2: Primary | B2: 44 | C2: 89 | E2: =C2/B2 -> 2.0227273 | I2: Primary | J2: 23 | K2: 63 | M2: =K2/J2 -> 2.7391304
A3: Final | B3: ='Bike Data'!$F$36 -> 0 | C3: 40 | E3: =C3/B3 -> #DIV/0! | I3: Final | J3: 13 | K3: 48 | M3: =K3/J3 -> 3.6923077
A4: Diam | D4: ='Bike Data'!$B$5*2 -> 0.604 | G4: Circ | H4: =D4*PI() -> 1.897522 | I4: Diam | L4: ='Bike Data'!$B$11*2 -> 0.638 | O4: Circ | P4: =L4*PI() -> 2.0043361
A5: RPM | B5: 9000 | C5: 12500 | I5: RPM | J5: 9000 | K5: 9850
A6: Ratios | F6: Speeds | G6: Rev | H6: Falls | I6: Ratios | N6: Speeds | O6: Rev | P6: Falls
A8: 1 | C8: 13 | D8: 38 | E8: =D8/C8 -> 2.9230769 | F8: =$C$5*60*(1/E8)*(1/$E$2)*$D$4*PI()/1000*(1/$E$3) -> #DIV/0! | G8: =$C$5 -> 12500 | I8: 1 | K8: 15 | L8: 27 | M8: =L8/K8 -> 1.8 | N8: =$K$5*60*(1/M8)*(1/$M$2)*$L$4*PI()/1000*(1/$M$3) -> 65.069119 | O8: =$K$5 -> 9850
G9: =$C$5*(1/E8)*E10 -> 8819.9013 | H9: =$C$5-G9 -> 3680.0987 | O9: =$K$5*(1/M8)*M10 -> 8047.3856 | P9: =$K$5-O9 -> 1802.6144
A10: 2 | C10: 16 | D10: 33 | E10: =D10/C10 -> 2.0625 | F10: =$C$5*60*(1/E10)*(1/$E$2)*$D$4*PI()/1000*(1/$E$3) -> #DIV/0! | G10: =$C$5 -> 12500 | I10: 2 | K10: 17 | L10: 25 | M10: =L10/K10 -> 1.4705882 | N10: =$K$5*60*(1/M10)*(1/$M$2)*$L$4*PI()/1000*(1/$M$3) -> 79.644602 | O10: =$K$5 -> 9850
G11: =$C$5*(1/E10)*E12 -> 9888.3573 | H11: =$C$5-G11 -> 2611.6427 | O11: =$K$5*(1/M10)*M12 -> 8274 | P11: =#REF!-O11 -> #REF!
A12: 3 | C12: 19 | D12: 31 | E12: =D12/C12 -> 1.6315789 | F12: =$C$5*60*(1/E12)*(1/$E$2)*$D$4*PI()/1000*(1/$E$3) -> #DIV/0! | G12: =$C$5 -> 12500 | I12: 3 | K12: 17 | L12: 21 | M12: =L12/K12 -> 1.2352941 | N12: =$K$5*60*(1/M12)*(1/$M$2)*$L$4*PI()/1000*(1/$M$3) -> 94.815002 | O12: =$K$5 -> 9850
G13: =$C$5*(1/E12)*E14 -> 10579.877 | H13: =$C$5-G13 -> 1920.1229 | O13: =$K$5*(1/M12)*M14 -> 8372.5 | P13: =$K$5-O13 -> 1477.5
A14: 4 | C14: 21 | D14: 29 | E14: =D14/C14 -> 1.3809524 | F14: =$C$5*60*(1/E14)*(1/$E$2)*$D$4*PI()/1000*(1/$E$3) -> #DIV/0! | G14: =$C$5 -> 12500 | I14: 4 | K14: 20 | L14: 21 | M14: =L14/K14 -> 1.05 | N14: =$K$5*60*(1/M14)*(1/$M$2)*$L$4*PI()/1000*(1/$M$3) -> 111.54706 | O14: =$K$5 -> 9850
G15: =$C$5*(1/E14)*E16 -> 11019.49 | H15: =$C$5-G15 -> 1480.5097 | O15: =$K$5*(1/M14)*M16 -> 8528.1385 | P15: =$K$5-O15 -> 1321.8615
A16: 5 | C16: 23 | D16: 28 | E16: =D16/C16 -> 1.2173913 | F16: =$C$5*60*(1/E16)*(1/$E$2)*$D$4*PI()/1000*(1/$E$3) -> #DIV/0! | G16: =$C$5 -> 12500 | I16: 5 | K16: 22 | L16: 20 | M16: =L16/K16 -> 0.90909091 | N16: =$K$5*60*(1/M16)*(1/$M$2)*$L$4*PI()/1000*(1/$M$3) -> 128.83686 | O16: =$K$5 -> 9850
G17: =$C$5*(1/E16)*E18 -> 11123.512 | H17: =$C$5-G17 -> 1376.4881 | O17: 0 | P17: 0
A18: 6 | C18: 24 | D18: 26 | E18: =D18/C18 -> 1.0833333 | F18: =$C$5*60*(1/E18)*(1/$E$2)*$D$4*PI()/1000*(1/$E$3) -> #DIV/0! | G18: =$C$5 -> 12500 | I18: 6 | K18: 0 | L18: 0 | M18: 0 | N18: 0 | O18: 0

Sheet ZX6R Diagram
O1: Front | Q1: Rear
D2: CoG W/O Rider | E2: X | F2: =CoG!C8 -> 0.63204267 | G2: m | I2: Front Radius | J2: ='Bike Data'!B4 -> 0.28 | K2: m | M2: Degree | N2: Radian | O2: X | P2: Y | Q2: X | R2: Y | T2: 1G line | W2: Rake | Z2: Rake | AC2: Swingarm | AF2: Fork offset | AI2: Line through stem | AL2: Approximate frame | AO2: Approx Frame 2
E3: Y | F3: =CoG!C9 -> 0.48993889 | G3: m | I3: Rear Radius | J3: ='Bike Data'!B5 -> 0.302 | K3: m | M3: 0 | N3: 0 | O3: =J$3*COS(N3) -> 0.302 | P3: =J$3*SIN(N3)+J$3 -> 0.302 | Q3: =J$3*COS(N3)+J$4 -> 1.68 | R3: =J$3*SIN(N3)+J$3 -> 0.302 | T3: =J4 -> 1.378 | U3: 0 | W3: 0 | X3: =J2 -> 0.28 | Z3: 0 | AA3: =J2 -> 0.28 | AC3: =J4 -> 1.378 | AD3: =J3 -> 0.302 | AF3: =Z4+J9*COS(RADIANS(J5)) -> 0.29680631 | AG3: =AA4-J9*SIN(RADIANS(J5)) -> 0.89238819 | AI3: =AF4 -> 0.25693141 | AJ3: =AG4 -> 0.80068218 | AL3: =AF3 -> 0.29680631 | AM3: =AG3 -> 0.89238819 | AO3: =AC4 -> 0.87662945 | AP3: =AD4 -> 0.39040516
D4: CoG W/ Rider | E4: X | F4: =CoG!D8 -> 0.71302018 | G4: m | I4: Wheel Base | J4: ='Bike Data'!B3 -> 1.378 | K4: m | M4: 1 | N4: =RADIANS(M4) -> 0.017453293 | O4: =J$3*COS(N4) -> 0.301954 | P4: =J$3*SIN(N4)+J$3 -> 0.30727063 | Q4: =J$3*COS(N4)+J$4 -> 1.679954 | R4: =J$3*SIN(N4)+J$3 -> 0.30727063 | T4: =T3-0.03 -> 1.348 | U4: =U3+0.03 -> 0.03 | W4: =W3+0.01 -> 0.01 | X4: =W4/TAN(RADIANS(J$5)) + J$2 -> 0.30299843 | Z4: =J8*SIN(RADIANS(J5)) -> 0.27112863 | AA4: =AA3+J8*COS(RADIANS(J5)) -> 0.90355316 | AC4: =AC3-J7*COS(RADIANS(J6)) -> 0.87662945 | AD4: =AD3+J7*SIN(RADIANS(J6)) -> 0.39040516 | AF4: =AF3-0.1*SIN(RADIANS(J5)) -> 0.25693141 | AG4: =AG3-0.1*COS(RADIANS(J5)) -> 0.80068218 | AI4: =AI3-(AJ3-AJ4)*TAN(RADIANS(J5)) -> -0.091215114 | AJ4: 0 | AL4: =AC4 -> 0.87662945 | AM4: =0.56 -> 0.56 | AO4: =AL4 -> 0.87662945 | AP4: =AM4 -> 0.56
E5: Y | F5: =CoG!D9 -> 0.61365646 | G5: m | I5: Rake | J5: ='Bike Data'!D3 -> 23.5 | M5: 2 | N5: =RADIANS(M5) -> 0.034906585 | O5: =J$3*COS(N5) -> 0.30181603 | P5: =J$3*SIN(N5)+J$3 -> 0.31253965 | Q5: =J$3*COS(N5)+J$4 -> 1.679816 | R5: =J$3*SIN(N5)+J$3 -> 0.31253965 | T5: =T4-0.03 -> 1.318 | U5: =U4+0.03 -> 0.06 | W5: =W4+0.01 -> 0.02 | X5: =W5/TAN(RADIANS(J$5)) + J$2 -> 0.32599685
I6: Swingarm Angle | J6: ='Bike Data'!B7 -> 10 | M6: 3 | N6: =RADIANS(M6) -> 0.052359878 | O6: =J$3*COS(N6) -> 0.30158612 | P6: =J$3*SIN(N6)+J$3 -> 0.31780546 | Q6: =J$3*COS(N6)+J$4 -> 1.6795861 | R6: =J$3*SIN(N6)+J$3 -> 0.31780546 | T6: =T5-0.03 -> 1.288 | U6: =U5+0.03 -> 0.09 | W6: =W5+0.01 -> 0.03 | X6: =W6/TAN(RADIANS(J$5)) + J$2 -> 0.34899528
I7: SWINGARM LENGTH | J7: ='Bike Data'!B6 -> 0.509105 | M7: 4 | N7: =RADIANS(M7) -> 0.06981317 | O7: =J$3*COS(N7) -> 0.30126434 | P7: =J$3*SIN(N7)+J$3 -> 0.32306646 | Q7: =J$3*COS(N7)+J$4 -> 1.6792643 | R7: =J$3*SIN(N7)+J$3 -> 0.32306646 | T7: =T6-0.03 -> 1.258 | U7: =U6+0.03 -> 0.12 | W7: =W6+0.01 -> 0.04 | X7: =W7/TAN(RADIANS(J$5)) + J$2 -> 0.3719937
I8: Fork Length | J8: ='Bike Data'!D6 -> 0.679948 | M8: 5 | N8: =RADIANS(M8) -> 0.087266463 | O8: =J$3*COS(N8) -> 0.3008508 | P8: =J$3*SIN(N8)+J$3 -> 0.32832103 | Q8: =J$3*COS(N8)+J$4 -> 1.6788508 | R8: =J$3*SIN(N8)+J$3 -> 0.32832103 | T8: =T7-0.03 -> 1.228 | U8: =U7+0.03 -> 0.15 | W8: =W7+0.01 -> 0.05 | X8: =W8/TAN(RADIANS(J$5)) + J$2 -> 0.39499213
I9: Fork offset | J9: ='Bike Data'!D4 -> 0.028 | M9: 6 | N9: =RADIANS(M9) -> 0.10471976 | O9: =J$3*COS(N9) -> 0.30034561 | P9: =J$3*SIN(N9)+J$3 -> 0.3335676 | Q9: =J$3*COS(N9)+J$4 -> 1.6783456 | R9: =J$3*SIN(N9)+J$3 -> 0.3335676 | T9: =T8-0.03 -> 1.198 | U9: =U8+0.03 -> 0.18 | W9: =W8+0.01 -> 0.06 | X9: =W9/TAN(RADIANS(J$5)) + J$2 -> 0.41799055
I10: Ground Trail | J10: =ABS(AI4) -> 0.091215114 | M10: 7 | N10: =RADIANS(M10) -> 0.12217305 | O10: =J$3*COS(N10) -> 0.29974894 | P10: =J$3*SIN(N10)+J$3 -> 0.33880454 | Q10: =J$3*COS(N10)+J$4 -> 1.6777489 | R10: =J$3*SIN(N10)+J$3 -> 0.33880454 | T10: =T9-0.03 -> 1.168 | U10: =U9+0.03 -> 0.21 | W10: =W9+0.01 -> 0.07 | X10: =W10/TAN(RADIANS(J$5)) + J$2 -> 0.44098898
I11: Normal Trail | J11: =J10*COS(RADIANS(J5)) -> 0.083649739 | M11: 8 | N11: =RADIANS(M11) -> 0.13962634 | O11: =J$3*COS(N11) -> 0.29906096 | P11: =J$3*SIN(N11)+J$3 -> 0.34403028 | Q11: =J$3*COS(N11)+J$4 -> 1.677061 | R11: =J$3*SIN(N11)+J$3 -> 0.34403028 | T11: =T10-0.03 -> 1.138 | U11: =U10+0.03 -> 0.24 | W11: =W10+0.01 -> 0.08 | X11: =W11/TAN(RADIANS(J$5)) + J$2 -> 0.4639874
I12: Rear Ground Trail | J12: =J4+J10 -> 1.4692151 | M12: 9 | N12: =RADIANS(M12) -> 0.15707963 | O12: =J$3*COS(N12) -> 0.29828188 | P12: =J$3*SIN(N12)+J$3 -> 0.34924321 | Q12: =J$3*COS(N12)+J$4 -> 1.6762819 | R12: =J$3*SIN(N12)+J$3 -> 0.34924321 | T12: =T11-0.03 -> 1.108 | U12: =U11+0.03 -> 0.27 | W12: =W11+0.01 -> 0.09 | X12: =W12/TAN(RADIANS(J$5)) + J$2 -> 0.48698583
I13: Rear Normal Trail | J13: =J12*COS(RADIANS(J5)) -> 1.3473585 | M13: 10 | N13: =RADIANS(M13) -> 0.17453293 | O13: =J$3*COS(N13) -> 0.29741194 | P13: =J$3*SIN(N13)+J$3 -> 0.35444175 | Q13: =J$3*COS(N13)+J$4 -> 1.6754119 | R13: =J$3*SIN(N13)+J$3 -> 0.35444175 | T13: =T12-0.03 -> 1.078 | U13: =U12+0.03 -> 0.3 | W13: =W12+0.01 -> 0.1 | X13: =W13/TAN(RADIANS(J$5)) + J$2 -> 0.50998425
I14: Normal Trail Ratio | J14: =J11/J13 -> 0.062084247 | M14: 11 | N14: =RADIANS(M14) -> 0.19198622 | O14: =J$3*COS(N14) -> 0.29645141 | P14: =J$3*SIN(N14)+J$3 -> 0.35962432 | Q14: =J$3*COS(N14)+J$4 -> 1.6744514 | R14: =J$3*SIN(N14)+J$3 -> 0.35962432 | T14: =T13-0.03 -> 1.048 | U14: =U13+0.03 -> 0.33 | W14: =W13+0.01 -> 0.11 | X14: =W14/TAN(RADIANS(J$5)) + J$2 -> 0.53298268
I15: Trail ratio* weight ratio unloaded | J15: =J14*(CoG!C4/CoG!C5) -> 0.07327385 | M15: 12 | N15: =RADIANS(M15) -> 0.20943951 | O15: =J$3*COS(N15) -> 0.29540058 | P15: =J$3*SIN(N15)+J$3 -> 0.36478933 | Q15: =J$3*COS(N15)+J$4 -> 1.6734006 | R15: =J$3*SIN(N15)+J$3 -> 0.36478933 | T15: =T14-0.03 -> 1.018 | U15: =U14+0.03 -> 0.36 | W15: =W14+0.01 -> 0.12 | X15: =W15/TAN(RADIANS(J$5)) + J$2 -> 0.55598111
I16: "" loaded | J16: =J14*(CoG!D4/CoG!D5) -> 0.057901266 | M16: 13 | N16: =RADIANS(M16) -> 0.2268928 | O16: =J$3*COS(N16) -> 0.29425976 | P16: =J$3*SIN(N16)+J$3 -> 0.36993522 | Q16: =J$3*COS(N16)+J$4 -> 1.6722598 | R16: =J$3*SIN(N16)+J$3 -> 0.36993522 | T16: =T15-0.03 -> 0.988 | U16: =U15+0.03 -> 0.39 | W16: =W15+0.01 -> 0.13 | X16: =W16/TAN(RADIANS(J$5)) + J$2 -> 0.57897953
M17: 14 | N17: =RADIANS(M17) -> 0.2443461 | O17: =J$3*COS(N17) -> 0.29302931 | P17: =J$3*SIN(N17)+J$3 -> 0.37506041 | Q17: =J$3*COS(N17)+J$4 -> 1.6710293 | R17: =J$3*SIN(N17)+J$3 -> 0.37506041 | T17: =T16-0.03 -> 0.958 | U17: =U16+0.03 -> 0.42 | W17: =W16+0.01 -> 0.14 | X17: =W17/TAN(RADIANS(J$5)) + J$2 -> 0.60197796
M18: 15 | N18: =RADIANS(M18) -> 0.26179939 | O18: =J$3*COS(N18) -> 0.2917096 | P18: =J$3*SIN(N18)+J$3 -> 0.38016335 | Q18: =J$3*COS(N18)+J$4 -> 1.6697096 | R18: =J$3*SIN(N18)+J$3 -> 0.38016335 | T18: =T17-0.03 -> 0.928 | U18: =U17+0.03 -> 0.45 | W18: =W17+0.01 -> 0.15 | X18: =W18/TAN(RADIANS(J$5)) + J$2 -> 0.62497638
M19: 16 | N19: =RADIANS(M19) -> 0.27925268 | O19: =J$3*COS(N19) -> 0.29030103 | P19: =J$3*SIN(N19)+J$3 -> 0.38524248 | Q19: =J$3*COS(N19)+J$4 -> 1.668301 | R19: =J$3*SIN(N19)+J$3 -> 0.38524248 | T19: =T18-0.03 -> 0.898 | U19: =U18+0.03 -> 0.48 | W19: =W18+0.01 -> 0.16 | X19: =W19/TAN(RADIANS(J$5)) + J$2 -> 0.64797481
M20: 17 | N20: =RADIANS(M20) -> 0.29670597 | O20: =J$3*COS(N20) -> 0.28880404 | P20: =J$3*SIN(N20)+J$3 -> 0.39029625 | Q20: =J$3*COS(N20)+J$4 -> 1.666804 | R20: =J$3*SIN(N20)+J$3 -> 0.39029625 | T20: =T19-0.03 -> 0.868 | U20: =U19+0.03 -> 0.51 | W20: =W19+0.01 -> 0.17 | X20: =W20/TAN(RADIANS(J$5)) + J$2 -> 0.67097323
M21: 18 | N21: =RADIANS(M21) -> 0.31415927 | O21: =J$3*COS(N21) -> 0.28721907 | P21: =J$3*SIN(N21)+J$3 -> 0.39532313 | Q21: =J$3*COS(N21)+J$4 -> 1.6652191 | R21: =J$3*SIN(N21)+J$3 -> 0.39532313 | T21: =T20-0.03 -> 0.838 | U21: =U20+0.03 -> 0.54 | W21: =W20+0.01 -> 0.18 | X21: =W21/TAN(RADIANS(J$5)) + J$2 -> 0.69397166
M22: 19 | N22: =RADIANS(M22) -> 0.33161256 | O22: =J$3*COS(N22) -> 0.28554661 | P22: =J$3*SIN(N22)+J$3 -> 0.40032158 | Q22: =J$3*COS(N22)+J$4 -> 1.6635466 | R22: =J$3*SIN(N22)+J$3 -> 0.40032158 | T22: =T21-0.03 -> 0.808 | U22: =U21+0.03 -> 0.57 | W22: =W21+0.01 -> 0.19 | X22: =W22/TAN(RADIANS(J$5)) + J$2 -> 0.71697008
M23: 20 | N23: =RADIANS(M23) -> 0.34906585 | O23: =J$3*COS(N23) -> 0.28378717 | P23: =J$3*SIN(N23)+J$3 -> 0.40529008 | Q23: =J$3*COS(N23)+J$4 -> 1.6617872 | R23: =J$3*SIN(N23)+J$3 -> 0.40529008 | T23: =T22-0.03 -> 0.778 | U23: =U22+0.03 -> 0.6 | W23: =W22+0.01 -> 0.2 | X23: =W23/TAN(RADIANS(J$5)) + J$2 -> 0.73996851
M24: 21 | N24: =RADIANS(M24) -> 0.36651914 | O24: =J$3*COS(N24) -> 0.28194129 | P24: =J$3*SIN(N24)+J$3 -> 0.41022712 | Q24: =J$3*COS(N24)+J$4 -> 1.6599413 | R24: =J$3*SIN(N24)+J$3 -> 0.41022712 | T24: =T23-0.03 -> 0.748 | U24: =U23+0.03 -> 0.63 | W24: =W23+0.01 -> 0.21 | X24: =W24/TAN(RADIANS(J$5)) + J$2 -> 0.76296693
M25: 22 | N25: =RADIANS(M25) -> 0.38397244 | O25: =J$3*COS(N25) -> 0.28000952 | P25: =J$3*SIN(N25)+J$3 -> 0.41513119 | Q25: =J$3*COS(N25)+J$4 -> 1.6580095 | R25: =J$3*SIN(N25)+J$3 -> 0.41513119 | T25: =T24-0.03 -> 0.718 | U25: =U24+0.03 -> 0.66 | W25: =W24+0.01 -> 0.22 | X25: =W25/TAN(RADIANS(J$5)) + J$2 -> 0.78596536
M26: 23 | N26: =RADIANS(M26) -> 0.40142573 | O26: =J$3*COS(N26) -> 0.27799247 | P26: =J$3*SIN(N26)+J$3 -> 0.4200008 | Q26: =J$3*COS(N26)+J$4 -> 1.6559925 | R26: =J$3*SIN(N26)+J$3 -> 0.4200008 | T26: =T25-0.03 -> 0.688 | U26: =U25+0.03 -> 0.69 | W26: =W25+0.01 -> 0.23 | X26: =W26/TAN(RADIANS(J$5)) + J$2 -> 0.80896379
M27: 24 | N27: =RADIANS(M27) -> 0.41887902 | O27: =J$3*COS(N27) -> 0.27589073 | P27: =J$3*SIN(N27)+J$3 -> 0.42483447 | Q27: =J$3*COS(N27)+J$4 -> 1.6538907 | R27: =J$3*SIN(N27)+J$3 -> 0.42483447 | T27: =T26-0.03 -> 0.658 | U27: =U26+0.03 -> 0.72 | W27: =W26+0.01 -> 0.24 | X27: =W27/TAN(RADIANS(J$5)) + J$2 -> 0.83196221
M28: 25 | N28: =RADIANS(M28) -> 0.43633231 | O28: =J$3*COS(N28) -> 0.27370495 | P28: =J$3*SIN(N28)+J$3 -> 0.42963072 | Q28: =J$3*COS(N28)+J$4 -> 1.651705 | R28: =J$3*SIN(N28)+J$3 -> 0.42963072 | W28: =W27+0.01 -> 0.25 | X28: =W28/TAN(RADIANS(J$5)) + J$2 -> 0.85496064
M29: 26 | N29: =RADIANS(M29) -> 0.45378561 | O29: =J$3*COS(N29) -> 0.2714358 | P29: =J$3*SIN(N29)+J$3 -> 0.43438809 | Q29: =J$3*COS(N29)+J$4 -> 1.6494358 | R29: =J$3*SIN(N29)+J$3 -> 0.43438809 | W29: =W28+0.01 -> 0.26 | X29: =W29/TAN(RADIANS(J$5)) + J$2 -> 0.87795906
M30: 27 | N30: =RADIANS(M30) -> 0.4712389 | O30: =J$3*COS(N30) -> 0.26908397 | P30: =J$3*SIN(N30)+J$3 -> 0.43910513 | Q30: =J$3*COS(N30)+J$4 -> 1.647084 | R30: =J$3*SIN(N30)+J$3 -> 0.43910513 | W30: =W29+0.01 -> 0.27 | X30: =W30/TAN(RADIANS(J$5)) + J$2 -> 0.90095749
M31: 28 | N31: =RADIANS(M31) -> 0.48869219 | O31: =J$3*COS(N31) -> 0.26665017 | P31: =J$3*SIN(N31)+J$3 -> 0.44378041 | Q31: =J$3*COS(N31)+J$4 -> 1.6446502 | R31: =J$3*SIN(N31)+J$3 -> 0.44378041 | W31: =W30+0.01 -> 0.28 | X31: =W31/TAN(RADIANS(J$5)) + J$2 -> 0.92395591
M32: 29 | N32: =RADIANS(M32) -> 0.50614548 | O32: =J$3*COS(N32) -> 0.26413515 | P32: =J$3*SIN(N32)+J$3 -> 0.44841251 | Q32: =J$3*COS(N32)+J$4 -> 1.6421352 | R32: =J$3*SIN(N32)+J$3 -> 0.44841251 | W32: =W31+0.01 -> 0.29 | X32: =W32/TAN(RADIANS(J$5)) + J$2 -> 0.94695434
M33: 30 | N33: =RADIANS(M33) -> 0.52359878 | O33: =J$3*COS(N33) -> 0.26153967 | P33: =J$3*SIN(N33)+J$3 -> 0.453 | Q33: =J$3*COS(N33)+J$4 -> 1.6395397 | R33: =J$3*SIN(N33)+J$3 -> 0.453 | W33: =W32+0.01 -> 0.3 | X33: =W33/TAN(RADIANS(J$5)) + J$2 -> 0.96995276
M34: 31 | N34: =RADIANS(M34) -> 0.54105207 | O34: =J$3*COS(N34) -> 0.25886452 | P34: =J$3*SIN(N34)+J$3 -> 0.4575415 | Q34: =J$3*COS(N34)+J$4 -> 1.6368645 | R34: =J$3*SIN(N34)+J$3 -> 0.4575415
M35: 32 | N35: =RADIANS(M35) -> 0.55850536 | O35: =J$3*COS(N35) -> 0.25611053 | P35: =J$3*SIN(N35)+J$3 -> 0.46203562 | Q35: =J$3*COS(N35)+J$4 -> 1.6341105 | R35: =J$3*SIN(N35)+J$3 -> 0.46203562
M36: 33 | N36: =RADIANS(M36) -> 0.57595865 | O36: =J$3*COS(N36) -> 0.25327851 | P36: =J$3*SIN(N36)+J$3 -> 0.46648099 | Q36: =J$3*COS(N36)+J$4 -> 1.6312785 | R36: =J$3*SIN(N36)+J$3 -> 0.46648099
M37: 34 | N37: =RADIANS(M37) -> 0.59341195 | O37: =J$3*COS(N37) -> 0.25036935 | P37: =J$3*SIN(N37)+J$3 -> 0.47087626 | Q37: =J$3*COS(N37)+J$4 -> 1.6283693 | R37: =J$3*SIN(N37)+J$3 -> 0.47087626
M38: 35 | N38: =RADIANS(M38) -> 0.61086524 | O38: =J$3*COS(N38) -> 0.24738392 | P38: =J$3*SIN(N38)+J$3 -> 0.47522008 | Q38: =J$3*COS(N38)+J$4 -> 1.6253839 | R38: =J$3*SIN(N38)+J$3 -> 0.47522008
M39: 36 | N39: =RADIANS(M39) -> 0.62831853 | O39: =J$3*COS(N39) -> 0.24432313 | P39: =J$3*SIN(N39)+J$3 -> 0.47951115 | Q39: =J$3*COS(N39)+J$4 -> 1.6223231 | R39: =J$3*SIN(N39)+J$3 -> 0.47951115
M40: 37 | N40: =RADIANS(M40) -> 0.64577182 | O40: =J$3*COS(N40) -> 0.24118792 | P40: =J$3*SIN(N40)+J$3 -> 0.48374814 | Q40: =J$3*COS(N40)+J$4 -> 1.6191879 | R40: =J$3*SIN(N40)+J$3 -> 0.48374814
...

Sheet CRF450R Diagram
O1: Front | Q1: Rear
D2: CoG W/O Rider | E2: X | F2: =CoG!C16 -> 0.83520833 | G2: m | I2: Front Radius | J2: ='Bike Data'!B10 -> 0.331 | K2: m | M2: Degree | N2: Radian | O2: X | P2: Y | Q2: X | R2: Y | T2: 1G line | W2: Rake | Z2: Swingarm | AC2: Fork offset | AF2: Line through stem | AI2: Approximate frame | AL2: Approx Frame 2
E3: Y | F3: =CoG!C17 -> 0.47138936 | G3: m | I3: Rear Radius | J3: ='Bike Data'!B11 -> 0.319 | K3: m | M3: 0 | N3: 0 | O3: =J$3*COS(N3) -> 0.319 | P3: =J$3*SIN(N3)+J$3 -> 0.319 | Q3: =J$3*COS(N3)+J$4 -> 1.796 | R3: =J$3*SIN(N3)+J$3 -> 0.319 | T3: =J4 -> 1.477 | U3: 0 | W3: =W8 -> 0.026779935 | X3: =X8 -> 0.31747835 | Z3: =J4 -> 1.477 | AA3: =J3 -> 0.319 | AC3: =W4+J9*COS(RADIANS(J5)) -> 0.44436531 | AD3: =X4-J9*SIN(RADIANS(J5)) -> 1.1047892 | AF3: =AC4 -> 0.39929314 | AG3: =AD4 -> 1.0155228 | AI3: =AC3 -> 0.44436531 | AJ3: =AD3 -> 1.1047892 | AL3: =Z4 -> 0.93916447 | AM3: =AA4 -> 0.47322186
D4: CoG W/ Rider | E4: X | F4: =CoG!D16 -> 0.94267353 | G4: m | I4: Wheel Base | J4: ='Bike Data'!B9 -> 1.477 | K4: m | M4: 1 | N4: =RADIANS(M4) -> 0.017453293 | O4: =J$3*COS(N4) -> 0.31895141 | P4: =J$3*SIN(N4)+J$3 -> 0.32456732 | Q4: =J$3*COS(N4)+J$4 -> 1.7959514 | R4: =J$3*SIN(N4)+J$3 -> 0.32456732 | T4: =T3-0.03 -> 1.447 | U4: =U3+0.03 -> 0.03 | W4: =W3+J8*SIN(RADIANS(J5)) -> 0.42294136 | X4: =X7+J8*COS(RADIANS(J5)) -> 1.1156066 | Z4: =Z3-J7*COS(RADIANS(J6)) -> 0.93916447 | AA4: =AA3+J7*SIN(RADIANS(J6)) -> 0.47322186 | AC4: =AC3-0.1*SIN(RADIANS(J5)) -> 0.39929314 | AD4: =AD3-0.1*COS(RADIANS(J5)) -> 1.0155228 | AF4: =AF3-(AG3-AG4)*TAN(RADIANS(J5)) -> -0.11346189 | AG4: 0 | AI4: =Z4 -> 0.93916447 | AJ4: 0.73 | AL4: =Z4 -> 0.93916447 | AM4: =0.73 -> 0.73
E5: Y | F5: =CoG!D17 -> 0.90366853 | G5: m | I5: Rake | J5: ='Bike Data'!D9 -> 26.79 | M5: 2 | N5: =RADIANS(M5) -> 0.034906585 | O5: =J$3*COS(N5) -> 0.31880567 | P5: =J$3*SIN(N5)+J$3 -> 0.33013294 | Q5: =J$3*COS(N5)+J$4 -> 1.7958057 | R5: =J$3*SIN(N5)+J$3 -> 0.33013294 | T5: =T4-0.03 -> 1.417 | U5: =U4+0.03 -> 0.06
I6: S Angle | J6: ='Bike Data'!B13 -> 16 | M6: 3 | N6: =RADIANS(M6) -> 0.052359878 | O6: =J$3*COS(N6) -> 0.31856282 | P6: =J$3*SIN(N6)+J$3 -> 0.33569517 | Q6: =J$3*COS(N6)+J$4 -> 1.7955628 | R6: =J$3*SIN(N6)+J$3 -> 0.33569517 | T6: =T5-0.03 -> 1.387 | U6: =U5+0.03 -> 0.09 | W6: Fork kick
I7: S Length | J7: ='Bike Data'!B12 -> 0.55951 | M7: 4 | N7: =RADIANS(M7) -> 0.06981317 | O7: =J$3*COS(N7) -> 0.31822293 | P7: =J$3*SIN(N7)+J$3 -> 0.34125232 | Q7: =J$3*COS(N7)+J$4 -> 1.7952229 | R7: =J$3*SIN(N7)+J$3 -> 0.34125232 | T7: =T6-0.03 -> 1.357 | U7: =U6+0.03 -> 0.12 | W7: 0 | X7: =J2 -> 0.331
I8: Fork Length | J8: ='Bike Data'!D12 -> 0.878949 | M8: 5 | N8: =RADIANS(M8) -> 0.087266463 | O8: =J$3*COS(N8) -> 0.31778611 | P8: =J$3*SIN(N8)+J$3 -> 0.34680268 | Q8: =J$3*COS(N8)+J$4 -> 1.7947861 | R8: =J$3*SIN(N8)+J$3 -> 0.34680268 | T8: =T7-0.03 -> 1.327 | U8: =U7+0.03 -> 0.15 | W8: =0.03*COS(RADIANS(J5)) -> 0.026779935 | X8: =X7-0.03*SIN(RADIANS(J5)) -> 0.31747835
I9: Fork offset | J9: ='Bike Data'!D10 -> 0.024 | M9: 6 | N9: =RADIANS(M9) -> 0.10471976 | O9: =J$3*COS(N9) -> 0.31725248 | P9: =J$3*SIN(N9)+J$3 -> 0.35234458 | Q9: =J$3*COS(N9)+J$4 -> 1.7942525 | R9: =J$3*SIN(N9)+J$3 -> 0.35234458 | T9: =T8-0.03 -> 1.297 | U9: =U8+0.03 -> 0.18
I10: Ground Trail | J10: =ABS(AF4) -> 0.11346189 | M10: 7 | N10: =RADIANS(M10) -> 0.12217305 | O10: =J$3*COS(N10) -> 0.31662222 | P10: =J$3*SIN(N10)+J$3 -> 0.35787632 | Q10: =J$3*COS(N10)+J$4 -> 1.7936222 | R10: =J$3*SIN(N10)+J$3 -> 0.35787632 | T10: =T9-0.03 -> 1.267 | U10: =U9+0.03 -> 0.21
I11: Normal Trail | J11: =J10*COS(RADIANS(J5)) -> 0.1012834 | M11: 8 | N11: =RADIANS(M11) -> 0.13962634 | O11: =J$3*COS(N11) -> 0.31589551 | P11: =J$3*SIN(N11)+J$3 -> 0.36339622 | Q11: =J$3*COS(N11)+J$4 -> 1.7928955 | R11: =J$3*SIN(N11)+J$3 -> 0.36339622 | T11: =T10-0.03 -> 1.237 | U11: =U10+0.03 -> 0.24
I12: Rear Ground Trail | J12: =J4+J10 -> 1.5904619 | M12: 9 | N12: =RADIANS(M12) -> 0.15707963 | O12: =J$3*COS(N12) -> 0.31507258 | P12: =J$3*SIN(N12)+J$3 -> 0.36890259 | Q12: =J$3*COS(N12)+J$4 -> 1.7920726 | R12: =J$3*SIN(N12)+J$3 -> 0.36890259 | T12: =T11-0.03 -> 1.207 | U12: =U11+0.03 -> 0.27
I13: Rear Normal Trail | J13: =J12*COS(RADIANS(J5)) -> 1.4197489 | M13: 10 | N13: =RADIANS(M13) -> 0.17453293 | O13: =J$3*COS(N13) -> 0.31415367 | P13: =J$3*SIN(N13)+J$3 -> 0.37439377 | Q13: =J$3*COS(N13)+J$4 -> 1.7911537 | R13: =J$3*SIN(N13)+J$3 -> 0.37439377 | T13: =T12-0.03 -> 1.177 | U13: =U12+0.03 -> 0.3
I14: Normal Trail Ratio | J14: =J11/J13 -> 0.071338956 | M14: 11 | N14: =RADIANS(M14) -> 0.19198622 | O14: =J$3*COS(N14) -> 0.31313907 | P14: =J$3*SIN(N14)+J$3 -> 0.37986807 | Q14: =J$3*COS(N14)+J$4 -> 1.7901391 | R14: =J$3*SIN(N14)+J$3 -> 0.37986807 | T14: =T13-0.03 -> 1.147 | U14: =U13+0.03 -> 0.33
I15: Trail ratio* weight ratio unloaded | J15: =J14*(CoG!C13/CoG!C14) -> 0.085787352 | M15: 12 | N15: =RADIANS(M15) -> 0.20943951 | O15: =J$3*COS(N15) -> 0.31202908 | P15: =J$3*SIN(N15)+J$3 -> 0.38532383 | Q15: =J$3*COS(N15)+J$4 -> 1.7890291 | R15: =J$3*SIN(N15)+J$3 -> 0.38532383 | T15: =T14-0.03 -> 1.117 | U15: =U14+0.03 -> 0.36
I16: "" loaded | J16: =J14*(CoG!D13/CoG!D14) -> 0.097978186 | M16: 13 | N16: =RADIANS(M16) -> 0.2268928 | O16: =J$3*COS(N16) -> 0.31082405 | P16: =J$3*SIN(N16)+J$3 -> 0.39075939 | Q16: =J$3*COS(N16)+J$4 -> 1.7878241 | R16: =J$3*SIN(N16)+J$3 -> 0.39075939 | T16: =T15-0.03 -> 1.087 | U16: =U15+0.03 -> 0.39
M17: 14 | N17: =RADIANS(M17) -> 0.2443461 | O17: =J$3*COS(N17) -> 0.30952434 | P17: =J$3*SIN(N17)+J$3 -> 0.39617308 | Q17: =J$3*COS(N17)+J$4 -> 1.7865243 | R17: =J$3*SIN(N17)+J$3 -> 0.39617308 | T17: =T16-0.03 -> 1.057 | U17: =U16+0.03 -> 0.42
M18: 15 | N18: =RADIANS(M18) -> 0.26179939 | O18: =J$3*COS(N18) -> 0.30813034 | P18: =J$3*SIN(N18)+J$3 -> 0.40156328 | Q18: =J$3*COS(N18)+J$4 -> 1.7851303 | R18: =J$3*SIN(N18)+J$3 -> 0.40156328 | T18: =T17-0.03 -> 1.027 | U18: =U17+0.03 -> 0.45
M19: 16 | N19: =RADIANS(M19) -> 0.27925268 | O19: =J$3*COS(N19) -> 0.30664248 | P19: =J$3*SIN(N19)+J$3 -> 0.40692832 | Q19: =J$3*COS(N19)+J$4 -> 1.7836425 | R19: =J$3*SIN(N19)+J$3 -> 0.40692832 | T19: =T18-0.03 -> 0.997 | U19: =U18+0.03 -> 0.48
M20: 17 | N20: =RADIANS(M20) -> 0.29670597 | O20: =J$3*COS(N20) -> 0.30506122 | P20: =J$3*SIN(N20)+J$3 -> 0.41226657 | Q20: =J$3*COS(N20)+J$4 -> 1.7820612 | R20: =J$3*SIN(N20)+J$3 -> 0.41226657 | T20: =T19-0.03 -> 0.967 | U20: =U19+0.03 -> 0.51
M21: 18 | N21: =RADIANS(M21) -> 0.31415927 | O21: =J$3*COS(N21) -> 0.30338703 | P21: =J$3*SIN(N21)+J$3 -> 0.41757642 | Q21: =J$3*COS(N21)+J$4 -> 1.780387 | R21: =J$3*SIN(N21)+J$3 -> 0.41757642 | T21: =T20-0.03 -> 0.937 | U21: =U20+0.03 -> 0.54
M22: 19 | N22: =RADIANS(M22) -> 0.33161256 | O22: =J$3*COS(N22) -> 0.30162043 | P22: =J$3*SIN(N22)+J$3 -> 0.42285624 | Q22: =J$3*COS(N22)+J$4 -> 1.7786204 | R22: =J$3*SIN(N22)+J$3 -> 0.42285624 | T22: =T21-0.03 -> 0.907 | U22: =U21+0.03 -> 0.57
M23: 20 | N23: =RADIANS(M23) -> 0.34906585 | O23: =J$3*COS(N23) -> 0.29976195 | P23: =J$3*SIN(N23)+J$3 -> 0.42810443 | Q23: =J$3*COS(N23)+J$4 -> 1.7767619 | R23: =J$3*SIN(N23)+J$3 -> 0.42810443 | T23: =T22-0.03 -> 0.877 | U23: =U22+0.03 -> 0.6
M24: 21 | N24: =RADIANS(M24) -> 0.36651914 | O24: =J$3*COS(N24) -> 0.29781216 | P24: =J$3*SIN(N24)+J$3 -> 0.43331938 | Q24: =J$3*COS(N24)+J$4 -> 1.7748122 | R24: =J$3*SIN(N24)+J$3 -> 0.43331938 | T24: =T23-0.03 -> 0.847 | U24: =U23+0.03 -> 0.63
M25: 22 | N25: =RADIANS(M25) -> 0.38397244 | O25: =J$3*COS(N25) -> 0.29577165 | P25: =J$3*SIN(N25)+J$3 -> 0.4384995 | Q25: =J$3*COS(N25)+J$4 -> 1.7727716 | R25: =J$3*SIN(N25)+J$3 -> 0.4384995 | T25: =T24-0.03 -> 0.817 | U25: =U24+0.03 -> 0.66
M26: 23 | N26: =RADIANS(M26) -> 0.40142573 | O26: =J$3*COS(N26) -> 0.29364105 | P26: =J$3*SIN(N26)+J$3 -> 0.44364323 | Q26: =J$3*COS(N26)+J$4 -> 1.770641 | R26: =J$3*SIN(N26)+J$3 -> 0.44364323 | T26: =T25-0.03 -> 0.787 | U26: =U25+0.03 -> 0.69
M27: 24 | N27: =RADIANS(M27) -> 0.41887902 | O27: =J$3*COS(N27) -> 0.291421 | P27: =J$3*SIN(N27)+J$3 -> 0.44874899 | Q27: =J$3*COS(N27)+J$4 -> 1.768421 | R27: =J$3*SIN(N27)+J$3 -> 0.44874899 | T27: =T26-0.03 -> 0.757 | U27: =U26+0.03 -> 0.72
M28: 25 | N28: =RADIANS(M28) -> 0.43633231 | O28: =J$3*COS(N28) -> 0.28911218 | P28: =J$3*SIN(N28)+J$3 -> 0.45381523 | Q28: =J$3*COS(N28)+J$4 -> 1.7661122 | R28: =J$3*SIN(N28)+J$3 -> 0.45381523 | T28: =T27-0.03 -> 0.727 | U28: =U27+0.03 -> 0.75
... M38: 35 | N38: =RADIANS(M38) -> 0.61086524 | O38: =J$3*COS(N38) -> 0.2613095 | P38: =J$3*SIN(N38)+J$3 -> 0.50197088 | Q38: =J$3*COS(N38)+J$4 -> 1.7383095 | R38: =J$3*SIN(N38)+J$3 -> 0.50197088 | T38: =T37-0.03 -> 0.427 | U38: =U37+0.03 -> 1.05
M39: 36 | N39: =RADIANS(M39) -> 0.62831853 | O39: =J$3*COS(N39) -> 0.25807642 | P39: =J$3*SIN(N39)+J$3 -> 0.5065035 | Q39: =J$3*COS(N39)+J$4 -> 1.7350764 | R39: =J$3*SIN(N39)+J$3 -> 0.5065035
M40: 37 | N40: =RADIANS(M40) -> 0.64577182 | O40: =J$3*COS(N40) -> 0.25476473 | P40: =J$3*SIN(N40)+J$3 -> 0.51097899 | Q40: =J$3*COS(N40)+J$4 -> 1.7317647 | R40: =J$3*SIN(N40)+J$3 -> 0.51097899
M41: 38 | N41: =RADIANS(M41) -> 0.66322512 | O41: =J$3*COS(N41) -> 0.25137543 | P41: =J$3*SIN(N41)+J$3 -> 0.51539601 | Q41: =J$3*COS(N41)+J$4 -> 1.7283754 | R41: =J$3*SIN(N41)+J$3 -> 0.51539601
M42: 39 | N42: =RADIANS(M42) -> 0.68067841 | O42: =J$3*COS(N42) -> 0.24790956 | P42: =J$3*SIN(N42)+J$3 -> 0.5197532 | Q42: =J$3*COS(N42)+J$4 -> 1.7249096 | R42: =J$3*SIN(N42)+J$3 -> 0.5197532
M43: 40 | N43: =RADIANS(M43) -> 0.6981317 | O43: =J$3*COS(N43) -> 0.24436818 | P43: =J$3*SIN(N43)+J$3 -> 0.52404925 | Q43: =J$3*COS(N43)+J$4 -> 1.7213682 | R43: =J$3*SIN(N43)+J$3 -> 0.52404925
M44: 41 | N44: =RADIANS(M44) -> 0.71558499 | O44: =J$3*COS(N44) -> 0.24075236 | P44: =J$3*SIN(N44)+J$3 -> 0.52828283 | Q44: =J$3*COS(N44)+J$4 -> 1.7177524 | R44: =J$3*SIN(N44)+J$3 -> 0.52828283
M45: 42 | N45: =RADIANS(M45) -> 0.73303829 | O45: =J$3*COS(N45) -> 0.2370632 | P45: =J$3*SIN(N45)+J$3 -> 0.53245266 | Q45: =J$3*COS(N45)+J$4 -> 1.7140632 | R45: =J$3*SIN(N45)+J$3 -> 0.53245266
M46: 43 | N46: =RADIANS(M46) -> 0.75049158 | O46: =J$3*COS(N46) -> 0.23330183 | P46: =J$3*SIN(N46)+J$3 -> 0.53655748 | Q46: =J$3*COS(N46)+J$4 -> 1.7103018 | R46: =J$3*SIN(N46)+J$3 -> 0.53655748
M47: 44 | N47: =RADIANS(M47) -> 0.76794487 | O47: =J$3*COS(N47) -> 0.2294694 | P47: =J$3*SIN(N47)+J$3 -> 0.54059602 | Q47: =J$3*COS(N47)+J$4 -> 1.7064694 | R47: =J$3*SIN(N47)+J$3 -> 0.54059602
M48: 45 | N48: =RADIANS(M48) -> 0.78539816 | O48: =J$3*COS(N48) -> 0.22556706 | P48: =J$3*SIN(N48)+J$3 -> 0.54456706 | Q48: =J$3*COS(N48)+J$4 -> 1.7025671 | R48: =J$3*SIN(N48)+J$3 -> 0.54456706
M49: 46 | N49: =RADIANS(M49) -> 0.80285146 | O49: =J$3*COS(N49) -> 0.22159602 | P49: =J$3*SIN(N49)+J$3 -> 0.5484694 | Q49: =J$3*COS(N49)+J$4 -> 1.698596 | R49: =J$3*SIN(N49)+J$3 -> 0.5484694
...

Sheet RC213
O1: Front | Q1: Rear
D2: CoG W/O Rider | E2: X | G2: m | I2: Front Radius | J2: ='Bike Data'!B16 -> 0.299959 | K2: m | M2: Degree | N2: Radian | O2: X | P2: Y | Q2: X | R2: Y | T2: 1G line | W2: Rake | Z2: Swingarm | AC2: Fork offset | AF2: Line through stem | AI2: Approximate frame | AL2: Approx Frame 2
E3: Y | G3: m | I3: Rear Radius | J3: ='Bike Data'!B17 -> 0.299959 | K3: m | M3: 0 | N3: 0 | O3: =J$3*COS(N3) -> 0.299959 | P3: =J$3*SIN(N3)+J$3 -> 0.299959 | Q3: =J$3*COS(N3)+J$4 -> 1.734959 | R3: =J$3*SIN(N3)+J$3 -> 0.299959 | T3: =J4 -> 1.435 | U3: 0 | W3: 0 | X3: =J2 -> 0.299959 | Z3: =J4 -> 1.435 | AA3: =J3 -> 0.299959 | AC3: =W4+J9*COS(RADIANS(J7)) -> 0.21363214 | AD3: =X4-J9*SIN(RADIANS(J7)) -> 0.98040662 | AF3: =AC4 -> 0.18775024 | AG3: =AD4 -> 0.88381404 | AI3: =AC3 -> 0.21363214 | AJ3: =AD3 -> 0.98040662 | AL3: =Z4 -> 0.82552913 | AM3: =AA4 -> 0.3964897
D4: CoG W/ Rider | E4: X | G4: m | I4: Wheel Base | J4: ='Bike Data'!B15 -> 1.435 | K4: m | M4: 1 | N4: =RADIANS(M4) -> 0.017453293 | O4: =J$3*COS(N4) -> 0.29991331 | P4: =J$3*SIN(N4)+J$3 -> 0.30519401 | Q4: =J$3*COS(N4)+J$4 -> 1.7349133 | R4: =J$3*SIN(N4)+J$3 -> 0.30519401 | T4: =T3-0.03 -> 1.405 | U4: =U3+0.03 -> 0.03 | W4: =J8*SIN(RADIANS(J7)) -> 0.18442255 | X4: =X3+J8*COS(RADIANS(J7)) -> 0.98823331 | Z4: =Z3-J6*COS(RADIANS(J5)) -> 0.82552913 | AA4: =AA3+J6*SIN(RADIANS(J5)) -> 0.3964897 | AC4: =AC3-0.1*SIN(RADIANS(J7)) -> 0.18775024 | AD4: =AD3-0.1*COS(RADIANS(J7)) -> 0.88381404 | AF4: =AF3-(AG3-AG4)*TAN(RADIANS(J7)) -> -0.04906702 | AG4: 0 | AI4: =Z4 -> 0.82552913 | AJ4: 0.6 | AL4: =AI4 -> 0.82552913 | AM4: =AJ4 -> 0.6
E5: Y | G5: m | I5: Swingarm Angle | J5: ='Bike Data'!B19 -> 9 | M5: 2 | N5: =RADIANS(M5) -> 0.034906585 | O5: =J$3*COS(N5) -> 0.29977627 | P5: =J$3*SIN(N5)+J$3 -> 0.31042742 | Q5: =J$3*COS(N5)+J$4 -> 1.7347763 | R5: =J$3*SIN(N5)+J$3 -> 0.31042742 | T5: =T4-0.03 -> 1.375 | U5: =U4+0.03 -> 0.06
I6: Swingarm Length | J6: ='Bike Data'!B18 -> 0.617068 | M6: 3 | N6: =RADIANS(M6) -> 0.052359878 | O6: =J$3*COS(N6) -> 0.29954792 | P6: =J$3*SIN(N6)+J$3 -> 0.31565764 | Q6: =J$3*COS(N6)+J$4 -> 1.7345479 | R6: =J$3*SIN(N6)+J$3 -> 0.31565764 | T6: =T5-0.03 -> 1.345 | U6: =U5+0.03 -> 0.09
I7: Rake | J7: ='Bike Data'!D15 -> 15 | M7: 4 | N7: =RADIANS(M7) -> 0.06981317 | O7: =J$3*COS(N7) -> 0.29922831 | P7: =J$3*SIN(N7)+J$3 -> 0.32088308 | Q7: =J$3*COS(N7)+J$4 -> 1.7342283 | R7: =J$3*SIN(N7)+J$3 -> 0.32088308 | T7: =T6-0.03 -> 1.315 | U7: =U6+0.03 -> 0.12
I8: Fork Length | J8: ='Bike Data'!D18 -> 0.712554 | M8: 5 | N8: =RADIANS(M8) -> 0.087266463 | O8: =J$3*COS(N8) -> 0.29881757 | P8: =J$3*SIN(N8)+J$3 -> 0.32610215 | Q8: =J$3*COS(N8)+J$4 -> 1.7338176 | R8: =J$3*SIN(N8)+J$3 -> 0.32610215 | T8: =T7-0.03 -> 1.285 | U8: =U7+0.03 -> 0.15
I9: Fork offset | J9: ='Bike Data'!D16 -> 0.03024 | M9: 6 | N9: =RADIANS(M9) -> 0.10471976 | O9: =J$3*COS(N9) -> 0.29831579 | P9: =J$3*SIN(N9)+J$3 -> 0.33131325 | Q9: =J$3*COS(N9)+J$4 -> 1.7333158 | R9: =J$3*SIN(N9)+J$3 -> 0.33131325 | T9: =T8-0.03 -> 1.255 | U9: =U8+0.03 -> 0.18
I10: Ground Trail | J10: =ABS(AF4) -> 0.04906702 | M10: 7 | N10: =RADIANS(M10) -> 0.12217305 | O10: =J$3*COS(N10) -> 0.29772315 | P10: =J$3*SIN(N10)+J$3 -> 0.33651481 | Q10: =J$3*COS(N10)+J$4 -> 1.7327232 | R10: =J$3*SIN(N10)+J$3 -> 0.33651481 | T10: =T9-0.03 -> 1.225 | U10: =U9+0.03 -> 0.21
I11: Normal Trail | J11: =J10*COS(RADIANS(J7)) -> 0.047395102 | M11: 8 | N11: =RADIANS(M11) -> 0.13962634 | O11: =J$3*COS(N11) -> 0.29703982 | P11: =J$3*SIN(N11)+J$3 -> 0.34170522 | Q11: =J$3*COS(N11)+J$4 -> 1.7320398 | R11: =J$3*SIN(N11)+J$3 -> 0.34170522 | T11: =T10-0.03 -> 1.195 | U11: =U10+0.03 -> 0.24
I12: Rear Ground Trail | J12: =J4+J10 -> 1.484067 | M12: 9 | N12: =RADIANS(M12) -> 0.15707963 | O12: =J$3*COS(N12) -> 0.29626601 | P12: =J$3*SIN(N12)+J$3 -> 0.34688293 | Q12: =J$3*COS(N12)+J$4 -> 1.731266 | R12: =J$3*SIN(N12)+J$3 -> 0.34688293 | T12: =T11-0.03 -> 1.165 | U12: =U11+0.03 -> 0.27
I13: Rear Normal Trail | J13: =J12*COS(RADIANS(J7)) -> 1.4334987 | M13: 10 | N13: =RADIANS(M13) -> 0.17453293 | O13: =J$3*COS(N13) -> 0.29540195 | P13: =J$3*SIN(N13)+J$3 -> 0.35204633 | Q13: =J$3*COS(N13)+J$4 -> 1.7304019 | R13: =J$3*SIN(N13)+J$3 -> 0.35204633 | T13: =T12-0.03 -> 1.135 | U13: =U12+0.03 -> 0.3
I14: Normal Trail Ratio | J14: =J11/J13 -> 0.033062537 | M14: 11 | N14: =RADIANS(M14) -> 0.19198622 | O14: =J$3*COS(N14) -> 0.29444791 | P14: =J$3*SIN(N14)+J$3 -> 0.35719388 | Q14: =J$3*COS(N14)+J$4 -> 1.7294479 | R14: =J$3*SIN(N14)+J$3 -> 0.35719388 | T14: =T13-0.03 -> 1.105 | U14: =U13+0.03 -> 0.33
M15: 12 | N15: =RADIANS(M15) -> 0.20943951 | O15: =J$3*COS(N15) -> 0.29340418 | P15: =J$3*SIN(N15)+J$3 -> 0.36232398 | Q15: =J$3*COS(N15)+J$4 -> 1.7284042 | R15: =J$3*SIN(N15)+J$3 -> 0.36232398 | T15: =T14-0.03 -> 1.075 | U15: =U14+0.03 -> 0.36
M16: 13 | N16: =RADIANS(M16) -> 0.2268928 | O16: =J$3*COS(N16) -> 0.29227107 | P16: =J$3*SIN(N16)+J$3 -> 0.36743509 | Q16: =J$3*COS(N16)+J$4 -> 1.7272711 | R16: =J$3*SIN(N16)+J$3 -> 0.36743509 | T16: =T15-0.03 -> 1.045 | U16: =U15+0.03 -> 0.39
M17: 14 | N17: =RADIANS(M17) -> 0.2443461 | O17: =J$3*COS(N17) -> 0.29104894 | P17: =J$3*SIN(N17)+J$3 -> 0.37252565 | Q17: =J$3*COS(N17)+J$4 -> 1.7260489 | R17: =J$3*SIN(N17)+J$3 -> 0.37252565 | T17: =T16-0.03 -> 1.015 | U17: =U16+0.03 -> 0.42
M18: 15 | N18: =RADIANS(M18) -> 0.26179939 | O18: =J$3*COS(N18) -> 0.28973814 | P18: =J$3*SIN(N18)+J$3 -> 0.3775941 | Q18: =J$3*COS(N18)+J$4 -> 1.7247381 | R18: =J$3*SIN(N18)+J$3 -> 0.3775941 | T18: =T17-0.03 -> 0.985 | U18: =U17+0.03 -> 0.45
M19: 16 | N19: =RADIANS(M19) -> 0.27925268 | O19: =J$3*COS(N19) -> 0.2883391 | P19: =J$3*SIN(N19)+J$3 -> 0.38263891 | Q19: =J$3*COS(N19)+J$4 -> 1.7233391 | R19: =J$3*SIN(N19)+J$3 -> 0.38263891 | T19: =T18-0.03 -> 0.955 | U19: =U18+0.03 -> 0.48
M20: 17 | N20: =RADIANS(M20) -> 0.29670597 | O20: =J$3*COS(N20) -> 0.28685222 | P20: =J$3*SIN(N20)+J$3 -> 0.38765852 | Q20: =J$3*COS(N20)+J$4 -> 1.7218522 | R20: =J$3*SIN(N20)+J$3 -> 0.38765852 | T20: =T19-0.03 -> 0.925 | U20: =U19+0.03 -> 0.51
M21: 18 | N21: =RADIANS(M21) -> 0.31415927 | O21: =J$3*COS(N21) -> 0.28527796 | P21: =J$3*SIN(N21)+J$3 -> 0.39265143 | Q21: =J$3*COS(N21)+J$4 -> 1.720278 | R21: =J$3*SIN(N21)+J$3 -> 0.39265143 | T21: =T20-0.03 -> 0.895 | U21: =U20+0.03 -> 0.54
M22: 19 | N22: =RADIANS(M22) -> 0.33161256 | O22: =J$3*COS(N22) -> 0.28361681 | P22: =J$3*SIN(N22)+J$3 -> 0.3976161 | Q22: =J$3*COS(N22)+J$4 -> 1.7186168 | R22: =J$3*SIN(N22)+J$3 -> 0.3976161 | T22: =T21-0.03 -> 0.865 | U22: =U21+0.03 -> 0.57
M23: 20 | N23: =RADIANS(M23) -> 0.34906585 | O23: =J$3*COS(N23) -> 0.28186926 | P23: =J$3*SIN(N23)+J$3 -> 0.40255102 | Q23: =J$3*COS(N23)+J$4 -> 1.7168693 | R23: =J$3*SIN(N23)+J$3 -> 0.40255102 | T23: =T22-0.03 -> 0.835 | U23: =U22+0.03 -> 0.6
M24: 21 | N24: =RADIANS(M24) -> 0.36651914 | O24: =J$3*COS(N24) -> 0.28003585 | P24: =J$3*SIN(N24)+J$3 -> 0.40745469 | Q24: =J$3*COS(N24)+J$4 -> 1.7150359 | R24: =J$3*SIN(N24)+J$3 -> 0.40745469 | T24: =T23-0.03 -> 0.805 | U24: =U23+0.03 -> 0.63
M25: 22 | N25: =RADIANS(M25) -> 0.38397244 | O25: =J$3*COS(N25) -> 0.27811714 | P25: =J$3*SIN(N25)+J$3 -> 0.41232562 | Q25: =J$3*COS(N25)+J$4 -> 1.7131171 | R25: =J$3*SIN(N25)+J$3 -> 0.41232562 | T25: =T24-0.03 -> 0.775 | U25: =U24+0.03 -> 0.66
M26: 23 | N26: =RADIANS(M26) -> 0.40142573 | O26: =J$3*COS(N26) -> 0.27611372 | P26: =J$3*SIN(N26)+J$3 -> 0.41716232 | Q26: =J$3*COS(N26)+J$4 -> 1.7111137 | R26: =J$3*SIN(N26)+J$3 -> 0.41716232 | T26: =T25-0.03 -> 0.745 | U26: =U25+0.03 -> 0.69
M27: 24 | N27: =RADIANS(M27) -> 0.41887902 | O27: =J$3*COS(N27) -> 0.27402618 | P27: =J$3*SIN(N27)+J$3 -> 0.42196332 | Q27: =J$3*COS(N27)+J$4 -> 1.7090262 | R27: =J$3*SIN(N27)+J$3 -> 0.42196332 | T27: =T26-0.03 -> 0.715 | U27: =U26+0.03 -> 0.72
M28: 25 | N28: =RADIANS(M28) -> 0.43633231 | O28: =J$3*COS(N28) -> 0.27185518 | P28: =J$3*SIN(N28)+J$3 -> 0.42672715 | Q28: =J$3*COS(N28)+J$4 -> 1.7068552 | R28: =J$3*SIN(N28)+J$3 -> 0.42672715
M29: 26 | N29: =RADIANS(M29) -> 0.45378561 | O29: =J$3*COS(N29) -> 0.26960136 | P29: =J$3*SIN(N29)+J$3 -> 0.43145237 | Q29: =J$3*COS(N29)+J$4 -> 1.7046014 | R29: =J$3*SIN(N29)+J$3 -> 0.43145237
M30: 27 | N30: =RADIANS(M30) -> 0.4712389 | O30: =J$3*COS(N30) -> 0.26726543 | P30: =J$3*SIN(N30)+J$3 -> 0.43613754 | Q30: =J$3*COS(N30)+J$4 -> 1.7022654 | R30: =J$3*SIN(N30)+J$3 -> 0.43613754
M31: 28 | N31: =RADIANS(M31) -> 0.48869219 | O31: =J$3*COS(N31) -> 0.26484808 | P31: =J$3*SIN(N31)+J$3 -> 0.44078122 | Q31: =J$3*COS(N31)+J$4 -> 1.6998481 | R31: =J$3*SIN(N31)+J$3 -> 0.44078122
M32: 29 | N32: =RADIANS(M32) -> 0.50614548 | O32: =J$3*COS(N32) -> 0.26235005 | P32: =J$3*SIN(N32)+J$3 -> 0.44538201 | Q32: =J$3*COS(N32)+J$4 -> 1.6973501 | R32: =J$3*SIN(N32)+J$3 -> 0.44538201
M33: 30 | N33: =RADIANS(M33) -> 0.52359878 | O33: =J$3*COS(N33) -> 0.25977211 | P33: =J$3*SIN(N33)+J$3 -> 0.4499385 | Q33: =J$3*COS(N33)+J$4 -> 1.6947721 | R33: =J$3*SIN(N33)+J$3 -> 0.4499385
M34: 31 | N34: =RADIANS(M34) -> 0.54105207 | O34: =J$3*COS(N34) -> 0.25711505 | P34: =J$3*SIN(N34)+J$3 -> 0.45444931 | Q34: =J$3*COS(N34)+J$4 -> 1.692115 | R34: =J$3*SIN(N34)+J$3 -> 0.45444931
M35: 32 | N35: =RADIANS(M35) -> 0.55850536 | O35: =J$3*COS(N35) -> 0.25437966 | P35: =J$3*SIN(N35)+J$3 -> 0.45891305 | Q35: =J$3*COS(N35)+J$4 -> 1.6893797 | R35: =J$3*SIN(N35)+J$3 -> 0.45891305
M36: 33 | N36: =RADIANS(M36) -> 0.57595865 | O36: =J$3*COS(N36) -> 0.25156678 | P36: =J$3*SIN(N36)+J$3 -> 0.46332838 | Q36: =J$3*COS(N36)+J$4 -> 1.6865668 | R36: =J$3*SIN(N36)+J$3 -> 0.46332838
M37: 34 | N37: =RADIANS(M37) -> 0.59341195 | O37: =J$3*COS(N37) -> 0.24867728 | P37: =J$3*SIN(N37)+J$3 -> 0.46769394 | Q37: =J$3*COS(N37)+J$4 -> 1.6836773 | R37: =J$3*SIN(N37)+J$3 -> 0.46769394
M38: 35 | N38: =RADIANS(M38) -> 0.61086524 | O38: =J$3*COS(N38) -> 0.24571203 | P38: =J$3*SIN(N38)+J$3 -> 0.47200841 | Q38: =J$3*COS(N38)+J$4 -> 1.680712 | R38: =J$3*SIN(N38)+J$3 -> 0.47200841
M39: 36 | N39: =RADIANS(M39) -> 0.62831853 | O39: =J$3*COS(N39) -> 0.24267193 | P39: =J$3*SIN(N39)+J$3 -> 0.47627048 | Q39: =J$3*COS(N39)+J$4 -> 1.6776719 | R39: =J$3*SIN(N39)+J$3 -> 0.47627048
... M363: 360 | N363: =RADIANS(M363) -> 6.2831853 | O363: =J$3*COS(N363) -> 0.299959 | P363: =J$3*SIN(N363)+J$3 -> 0.299959 | Q363: =J$3*COS(N363)+J$4 -> 1.734959 | R363: =J$3*SIN(N363)+J$3 -> 0.299959

Sheet DAKAR CRF450
O1: Front | Q1: Rear
D2: CoG W/O Rider | E2: X | G2: m | I2: Front Radius | J2: ='Bike Data'!B22 -> 0.3477 | K2: m | M2: Degree | N2: Radian | O2: X | P2: Y | Q2: X | R2: Y | T2: 1G line | W2: Rake | Z2: Swingarm | AC2: Fork offset | AF2: Line through stem | AI2: Approximate frame | AL2: Approx Frame 2
E3: Y | G3: m | I3: Rear Radius | J3: ='Bike Data'!B23 -> 0.3406 | K3: m | M3: 0 | N3: 0 | O3: =J$3*COS(N3) -> 0.3406 | P3: =J$3*SIN(N3)+J$3 -> 0.3406 | Q3: =J$3*COS(N3)+J$4 -> 1.8316 | R3: =J$3*SIN(N3)+J$3 -> 0.3406 | T3: =J4 -> 1.491 | U3: 0 | W3: =W8 -> 0.032524 | X3: =X8 -> 0.3477 | Z3: =J4 -> 1.491 | AA3: =J3 -> 0.3406 | AC3: =W4+J9*COS(RADIANS(J5)) -> 0.44406686 | AD3: =X4-J9*SIN(RADIANS(J5)) -> 1.1405296 | AF3: =AC4 -> 0.39944708 | AG3: =AD4 -> 1.0510362 | AI3: =AC3 -> 0.44406686 | AJ3: =AD3 -> 1.1405296 | AL3: =Z4 -> 0.85067898 | AM3: =AA4 -> 0.45350587
D4: CoG W/ Rider | E4: X | G4: m | I4: Wheel Base | J4: ='Bike Data'!B21 -> 1.491 | K4: m | M4: 1 | N4: =RADIANS(M4) -> 0.017453293 | O4: =J$3*COS(N4) -> 0.34054812 | P4: =J$3*SIN(N4)+J$3 -> 0.34654429 | Q4: =J$3*COS(N4)+J$4 -> 1.8315481 | R4: =J$3*SIN(N4)+J$3 -> 0.34654429 | T4: =T3-0.03 -> 1.461 | U4: =U3+0.03 -> 0.03 | W4: =W3+J8*SIN(RADIANS(J5)) -> 0.43105004 | X4: =X7+J8*COS(RADIANS(J5)) -> 1.1470196 | Z4: =Z3-J7*COS(RADIANS(J6)) -> 0.85067898 | AA4: =AA3+J7*SIN(RADIANS(J6)) -> 0.45350587 | AC4: =AC3-0.1*SIN(RADIANS(J5)) -> 0.39944708 | AD4: =AD3-0.1*COS(RADIANS(J5)) -> 1.0510362 | AF4: =AF3-(AG3-AG4)*TAN(RADIANS(J5)) -> -0.12458024 | AG4: 0 | AI4: =Z4 -> 0.85067898 | AJ4: 0.73 | AL4: =Z4 -> 0.85067898 | AM4: =0.73 -> 0.73
E5: Y | G5: m | I5: Rake | J5: ='Bike Data'!D21 -> 26.5 | M5: 2 | N5: =RADIANS(M5) -> 0.034906585 | O5: =J$3*COS(N5) -> 0.34039252 | P5: =J$3*SIN(N5)+J$3 -> 0.35248677 | Q5: =J$3*COS(N5)+J$4 -> 1.8313925 | R5: =J$3*SIN(N5)+J$3 -> 0.35248677 | T5: =T4-0.03 -> 1.431 | U5: =U4+0.03 -> 0.06
I6: S Angle | J6: ='Bike Data'!B25 -> 10 | M6: 3 | N6: =RADIANS(M6) -> 0.052359878 | O6: =J$3*COS(N6) -> 0.34013322 | P6: =J$3*SIN(N6)+J$3 -> 0.35842563 | Q6: =J$3*COS(N6)+J$4 -> 1.8311332 | R6: =J$3*SIN(N6)+J$3 -> 0.35842563 | T6: =T5-0.03 -> 1.401 | U6: =U5+0.03 -> 0.09 | W6: Fork kick
I7: S Length | J7: ='Bike Data'!B24 -> 0.650199 | M7: 4 | N7: =RADIANS(M7) -> 0.06981317 | O7: =J$3*COS(N7) -> 0.33977032 | P7: =J$3*SIN(N7)+J$3 -> 0.36435905 | Q7: =J$3*COS(N7)+J$4 -> 1.8307703 | R7: =J$3*SIN(N7)+J$3 -> 0.36435905 | T7: =T6-0.03 -> 1.371 | U7: =U6+0.03 -> 0.12 | W7: 0 | X7: =J2 -> 0.3477
I8: Fork Length | J8: ='Bike Data'!D24 -> 0.89316 | M8: 5 | N8: =RADIANS(M8) -> 0.087266463 | O8: =J$3*COS(N8) -> 0.33930391 | P8: =J$3*SIN(N8)+J$3 -> 0.37028525 | Q8: =J$3*COS(N8)+J$4 -> 1.8303039 | R8: =J$3*SIN(N8)+J$3 -> 0.37028525 | T8: =T7-0.03 -> 1.341 | U8: =U7+0.03 -> 0.15 | W8: =J11 -> 0.032524 | X8: =X7 -> 0.3477
I9: Fork offset | J9: ='Bike Data'!D22 -> 0.014545 | M9: 6 | N9: =RADIANS(M9) -> 0.10471976 | O9: =J$3*COS(N9) -> 0.33873416 | P9: =J$3*SIN(N9)+J$3 -> 0.37620239 | Q9: =J$3*COS(N9)+J$4 -> 1.8297342 | R9: =J$3*SIN(N9)+J$3 -> 0.37620239 | T9: =T8-0.03 -> 1.311 | U9: =U8+0.03 -> 0.18
I10: Ground Trail | J10: =ABS(AF4) -> 0.12458024 | M10: 7 | N10: =RADIANS(M10) -> 0.12217305 | O10: =J$3*COS(N10) -> 0.33806122 | P10: =J$3*SIN(N10)+J$3 -> 0.3821087 | Q10: =J$3*COS(N10)+J$4 -> 1.8290612 | R10: =J$3*SIN(N10)+J$3 -> 0.3821087 | T10: =T9-0.03 -> 1.281 | U10: =U9+0.03 -> 0.21
I11: Fork Kick | J11: ='Bike Data'!F21 -> 0.032524 | M11: 8 | N11: =RADIANS(M11) -> 0.13962634 | O11: =J$3*COS(N11) -> 0.3372853 | P11: =J$3*SIN(N11)+J$3 -> 0.38800236 | Q11: =J$3*COS(N11)+J$4 -> 1.8282853 | R11: =J$3*SIN(N11)+J$3 -> 0.38800236 | T11: =T10-0.03 -> 1.251 | U11: =U10+0.03 -> 0.24
I12: Normal Trail | J12: =J10*COS(RADIANS(J5)) -> 0.11149113 | M12: 9 | N12: =RADIANS(M12) -> 0.15707963 | O12: =J$3*COS(N12) -> 0.33640665 | P12: =J$3*SIN(N12)+J$3 -> 0.39388158 | Q12: =J$3*COS(N12)+J$4 -> 1.8274066 | R12: =J$3*SIN(N12)+J$3 -> 0.39388158 | T12: =T11-0.03 -> 1.221 | U12: =U11+0.03 -> 0.27
I13: Rear Ground Trail | J13: =J4+J10 -> 1.6155802 | M13: 10 | N13: =RADIANS(M13) -> 0.17453293 | O13: =J$3*COS(N13) -> 0.33542552 | P13: =J$3*SIN(N13)+J$3 -> 0.39974457 | Q13: =J$3*COS(N13)+J$4 -> 1.8264255 | R13: =J$3*SIN(N13)+J$3 -> 0.39974457 | T13: =T12-0.03 -> 1.191 | U13: =U12+0.03 -> 0.3
I14: Rear Normal Trail | J14: =J13*COS(RADIANS(J5)) -> 1.4458383 | M14: 11 | N14: =RADIANS(M14) -> 0.19198622 | O14: =J$3*COS(N14) -> 0.33434222 | P14: =J$3*SIN(N14)+J$3 -> 0.40558954 | Q14: =J$3*COS(N14)+J$4 -> 1.8253422 | R14: =J$3*SIN(N14)+J$3 -> 0.40558954 | T14: =T13-0.03 -> 1.161 | U14: =U13+0.03 -> 0.33
I15: Normal Trail Ratio | J15: =J12/J14 -> 0.077111761 | M15: 12 | N15: =RADIANS(M15) -> 0.20943951 | O15: =J$3*COS(N15) -> 0.33315707 | P15: =J$3*SIN(N15)+J$3 -> 0.41141472 | Q15: =J$3*COS(N15)+J$4 -> 1.8241571 | R15: =J$3*SIN(N15)+J$3 -> 0.41141472 | T15: =T14-0.03 -> 1.131 | U15: =U14+0.03 -> 0.36
M16: 13 | N16: =RADIANS(M16) -> 0.2268928 | O16: =J$3*COS(N16) -> 0.33187044 | P16: =J$3*SIN(N16)+J$3 -> 0.41721833 | Q16: =J$3*COS(N16)+J$4 -> 1.8228704 | R16: =J$3*SIN(N16)+J$3 -> 0.41721833 | T16: =T15-0.03 -> 1.101 | U16: =U15+0.03 -> 0.39
M17: 14 | N17: =RADIANS(M17) -> 0.2443461 | O17: =J$3*COS(N17) -> 0.33048272 | P17: =J$3*SIN(N17)+J$3 -> 0.4229986 | Q17: =J$3*COS(N17)+J$4 -> 1.8214827 | R17: =J$3*SIN(N17)+J$3 -> 0.4229986 | T17: =T16-0.03 -> 1.071 | U17: =U16+0.03 -> 0.42
M18: 15 | N18: =RADIANS(M18) -> 0.26179939 | O18: =J$3*COS(N18) -> 0.32899434 | P18: =J$3*SIN(N18)+J$3 -> 0.42875377 | Q18: =J$3*COS(N18)+J$4 -> 1.8199943 | R18: =J$3*SIN(N18)+J$3 -> 0.42875377 | T18: =T17-0.03 -> 1.041 | U18: =U17+0.03 -> 0.45
M19: 16 | N19: =RADIANS(M19) -> 0.27925268 | O19: =J$3*COS(N19) -> 0.32740573 | P19: =J$3*SIN(N19)+J$3 -> 0.43448208 | Q19: =J$3*COS(N19)+J$4 -> 1.8184057 | R19: =J$3*SIN(N19)+J$3 -> 0.43448208 | T19: =T18-0.03 -> 1.011 | U19: =U18+0.03 -> 0.48
M20: 17 | N20: =RADIANS(M20) -> 0.29670597 | O20: =J$3*COS(N20) -> 0.3257174 | P20: =J$3*SIN(N20)+J$3 -> 0.4401818 | Q20: =J$3*COS(N20)+J$4 -> 1.8167174 | R20: =J$3*SIN(N20)+J$3 -> 0.4401818 | T20: =T19-0.03 -> 0.981 | U20: =U19+0.03 -> 0.51
M21: 18 | N21: =RADIANS(M21) -> 0.31415927 | O21: =J$3*COS(N21) -> 0.32392985 | P21: =J$3*SIN(N21)+J$3 -> 0.44585119 | Q21: =J$3*COS(N21)+J$4 -> 1.8149298 | R21: =J$3*SIN(N21)+J$3 -> 0.44585119 | T21: =T20-0.03 -> 0.951 | U21: =U20+0.03 -> 0.54
M22: 19 | N22: =RADIANS(M22) -> 0.33161256 | O22: =J$3*COS(N22) -> 0.32204363 | P22: =J$3*SIN(N22)+J$3 -> 0.45148851 | Q22: =J$3*COS(N22)+J$4 -> 1.8130436 | R22: =J$3*SIN(N22)+J$3 -> 0.45148851 | T22: =T21-0.03 -> 0.921 | U22: =U21+0.03 -> 0.57
M23: 20 | N23: =RADIANS(M23) -> 0.34906585 | O23: =J$3*COS(N23) -> 0.32005931 | P23: =J$3*SIN(N23)+J$3 -> 0.45709206 | Q23: =J$3*COS(N23)+J$4 -> 1.8110593 | R23: =J$3*SIN(N23)+J$3 -> 0.45709206 | T23: =T22-0.03 -> 0.891 | U23: =U22+0.03 -> 0.6
M24: 21 | N24: =RADIANS(M24) -> 0.36651914 | O24: =J$3*COS(N24) -> 0.31797749 | P24: =J$3*SIN(N24)+J$3 -> 0.46266012 | Q24: =J$3*COS(N24)+J$4 -> 1.8089775 | R24: =J$3*SIN(N24)+J$3 -> 0.46266012 | T24: =T23-0.03 -> 0.861 | U24: =U23+0.03 -> 0.63
M25: 22 | N25: =RADIANS(M25) -> 0.38397244 | O25: =J$3*COS(N25) -> 0.31579882 | P25: =J$3*SIN(N25)+J$3 -> 0.46819101 | Q25: =J$3*COS(N25)+J$4 -> 1.8067988 | R25: =J$3*SIN(N25)+J$3 -> 0.46819101 | T25: =T24-0.03 -> 0.831 | U25: =U24+0.03 -> 0.66
M26: 23 | N26: =RADIANS(M26) -> 0.40142573 | O26: =J$3*COS(N26) -> 0.31352395 | P26: =J$3*SIN(N26)+J$3 -> 0.47368302 | Q26: =J$3*COS(N26)+J$4 -> 1.804524 | R26: =J$3*SIN(N26)+J$3 -> 0.47368302 | T26: =T25-0.03 -> 0.801 | U26: =U25+0.03 -> 0.69
M27: 24 | N27: =RADIANS(M27) -> 0.41887902 | O27: =J$3*COS(N27) -> 0.31115358 | P27: =J$3*SIN(N27)+J$3 -> 0.4791345 | Q27: =J$3*COS(N27)+J$4 -> 1.8021536 | R27: =J$3*SIN(N27)+J$3 -> 0.4791345 | T27: =T26-0.03 -> 0.771 | U27: =U26+0.03 -> 0.72
... M38: 35 | N38: =RADIANS(M38) -> 0.61086524 | O38: =J$3*COS(N38) -> 0.27900319 | P38: =J$3*SIN(N38)+J$3 -> 0.53596013 | Q38: =J$3*COS(N38)+J$4 -> 1.7700032 | R38: =J$3*SIN(N38)+J$3 -> 0.53596013 | T38: =T37-0.03 -> 0.441 | U38: =U37+0.03 -> 1.05
M39: 36 | N39: =RADIANS(M39) -> 0.62831853 | O39: =J$3*COS(N39) -> 0.27555119 | P39: =J$3*SIN(N39)+J$3 -> 0.54079966 | Q39: =J$3*COS(N39)+J$4 -> 1.7665512 | R39: =J$3*SIN(N39)+J$3 -> 0.54079966
M40: 37 | N40: =RADIANS(M40) -> 0.64577182 | O40: =J$3*COS(N40) -> 0.27201525 | P40: =J$3*SIN(N40)+J$3 -> 0.5455782 | Q40: =J$3*COS(N40)+J$4 -> 1.7630153 | R40: =J$3*SIN(N40)+J$3 -> 0.5455782
M41: 38 | N41: =RADIANS(M41) -> 0.66322512 | O41: =J$3*COS(N41) -> 0.26839646 | P41: =J$3*SIN(N41)+J$3 -> 0.5502943 | Q41: =J$3*COS(N41)+J$4 -> 1.7593965 | R41: =J$3*SIN(N41)+J$3 -> 0.5502943
M42: 39 | N42: =RADIANS(M42) -> 0.68067841 | O42: =J$3*COS(N42) -> 0.26469591 | P42: =J$3*SIN(N42)+J$3 -> 0.55494653 | Q42: =J$3*COS(N42)+J$4 -> 1.7556959 | R42: =J$3*SIN(N42)+J$3 -> 0.55494653
M43: 40 | N43: =RADIANS(M43) -> 0.6981317 | O43: =J$3*COS(N43) -> 0.26091474 | P43: =J$3*SIN(N43)+J$3 -> 0.55953346 | Q43: =J$3*COS(N43)+J$4 -> 1.7519147 | R43: =J$3*SIN(N43)+J$3 -> 0.55953346
M44: 41 | N44: =RADIANS(M44) -> 0.71558499 | O44: =J$3*COS(N44) -> 0.25705408 | P44: =J$3*SIN(N44)+J$3 -> 0.56405371 | Q44: =J$3*COS(N44)+J$4 -> 1.7480541 | R44: =J$3*SIN(N44)+J$3 -> 0.56405371
M45: 42 | N45: =RADIANS(M45) -> 0.73303829 | O45: =J$3*COS(N45) -> 0.25311513 | P45: =J$3*SIN(N45)+J$3 -> 0.56850588 | Q45: =J$3*COS(N45)+J$4 -> 1.7441151 | R45: =J$3*SIN(N45)+J$3 -> 0.56850588
M46: 43 | N46: =RADIANS(M46) -> 0.75049158 | O46: =J$3*COS(N46) -> 0.24909907 | P46: =J$3*SIN(N46)+J$3 -> 0.57288864 | Q46: =J$3*COS(N46)+J$4 -> 1.7400991 | R46: =J$3*SIN(N46)+J$3 -> 0.57288864
M47: 44 | N47: =RADIANS(M47) -> 0.76794487 | O47: =J$3*COS(N47) -> 0.24500714 | P47: =J$3*SIN(N47)+J$3 -> 0.57720064 | Q47: =J$3*COS(N47)+J$4 -> 1.7360071 | R47: =J$3*SIN(N47)+J$3 -> 0.57720064
M48: 45 | N48: =RADIANS(M48) -> 0.78539816 | O48: =J$3*COS(N48) -> 0.24084057 | P48: =J$3*SIN(N48)+J$3 -> 0.58144057 | Q48: =J$3*COS(N48)+J$4 -> 1.7318406 | R48: =J$3*SIN(N48)+J$3 -> 0.58144057
M49: 46 | N49: =RADIANS(M49) -> 0.80285146 | O49: =J$3*COS(N49) -> 0.23660064 | P49: =J$3*SIN(N49)+J$3 -> 0.58560714 | Q49: =J$3*COS(N49)+J$4 -> 1.7276006 | R49: =J$3*SIN(N49)+J$3 -> 0.58560714
M50: 47 | N50: =RADIANS(M50) -> 0.82030475 | O50: =J$3*COS(N50) -> 0.23228864 | P50: =J$3*SIN(N50)+J$3 -> 0.58969907 | Q50: =J$3*COS(N50)+J$4 -> 1.7232886 | R50: =J$3*SIN(N50)+J$3 -> 0.58969907
...
