Workbook

Sheet Task 1 RPM Data
B2: Ford Sigma 1.6L Data | J2: 6000 | T2: 5000 | AD2: 4000 | AN2: 2000 | AX2: MFB | AY2: C.A
B3: C.A (deg) | C3: Vol (cc) | D3: delta V (cc) | E3: Log V (cc) | F3: Vol (m³) | G3: delta V (m³) | H3: Log V (m³) | J3: real P (bar) | K3: delta P (bar) | L3: log P (bar) | M3: real P (Pa) | N3: delta P (Pa) | O3: Log P (Pa) | P3: n (poly index) | Q3: work done (j) | R3: temp (K) | T3: real P (bar) | U3: delta P (bar) | V3: log P | W3: real P (Pa) | X3: delta P (Pa) | Y3: Log P (Pa) | Z3: n (poly index) | AA3: work done (j) | AB3: temp (K) | AD3: real P (bar) | AE3: delta P (bar) | AF3: log P | AG3: real P (Pa) | AH3: delta P (Pa) | AI3: Log P (Pa) | AJ3: n (poly index) | AK3: work done (j) | AL3: temp (K) | AN3: real P (bar) | AO3: delta P (bar) | AP3: log P | AQ3: real P (Pa) | AR3: delta P (Pa) | AS3: Log P (Pa) | AT3: n (poly index) | AU3: work done (j) | AV3: temp (K) | AY3: 6000RPM | AZ3: 5000RPM | BA3: 4000RPM | BB3: 2000RPM
B4: -360 | C4: 39.27 | D4: =C5-C4 -> 0.04 | E4: =LOG(C4) -> 1.5940609 | F4: =C4*10^-6 -> 3.927e-05 | G4: =F5-F4 -> 4e-08 | H4: =LOG(F4) -> -4.4059391 | J4: 1.079 | K4: =J5-J4 -> -0.019 | L4: =LOG(J4) -> 0.033021445 | M4: =J4*100000 -> 107900 | N4: =M5-M4 -> -1900 | O4: =LOG(M4) -> 5.0330214 | P4: =(L5-L4)/(E4-E5) -> 17.450434 | Q4: =G4*M4 -> 0.004316 | R4: =(M4*F4)/((BE$4+BE$5)*286.9)+273 -> 299.87231 | T4: 0.921 | U4: =T5-T4 -> -0.048 | V4: =LOG(T4) -> -0.03574037 | W4: =T4*100000 -> 92100 | X4: =W5-W4 -> -4800 | Y4: =LOG(W4) -> 4.9642596 | Z4: =(V5-V4)/(E4-E5) -> 52.574416 | AA4: =W4*G4 -> 0.003684 | AB4: =(W4*F4)/((BE$4+BE$5)*286.9)+273 -> 295.93735 | AD4: 0.901 | AE4: =AD5-AD4 -> -0.007 | AF4: =LOG(AD4) -> -0.045275209 | AG4: =AD4*100000 -> 90100 | AH4: =AG5-AG4 -> -700 | AI4: =LOG(AG4) -> 4.9547248 | AJ4: =(AF5-AF4)/(E4-E5) -> 7.661041 | AK4: =AG4*G4 -> 0.003604 | AL4: =(AG4*F4)/((BE$4+BE$5)*286.9)+273 -> 295.43925 | AN4: 1.001 | AO4: =(AN5-AN4) -> -0.007 | AP4: =LOG(AN4) -> 0.00043407748 | AQ4: =AN4*100000 -> 100100 | AR4: =AQ5-AQ4 -> -700 | AS4: =LOG(AQ4) -> 5.0004341 | AT4: =(AP5-AP4)/(E4-E5) -> 6.8930101 | AU4: =AQ4*G4 -> 0.004004 | AV4: =(AQ4*F4)/((BE$4+BE$5)*286.9)+273 -> 297.92974 | AX4: 0 | AY4: -9 | AZ4: -7 | BA4: -5 | BB4: -5 | BD4: fuel mass (kg) | BE4: 3.86e-05
B5: -359 | C5: 39.31 | D5: =C6-C5 -> 0.12 | E5: =LOG(C5) -> 1.594503 | F5: =C5*10^-6 -> 3.931e-05 | G5: =F6-F5 -> 1.2e-07 | H5: =LOG(F5) -> -4.405497 | J5: 1.06 | K5: =J6-J5 -> -0.035 | L5: =LOG(J5) -> 0.025305865 | M5: =J5*100000 -> 106000 | N5: =M6-M5 -> -3500 | O5: =LOG(M5) -> 5.0253059 | P5: =(L6-L5)/(E5-E6) -> 11.015814 | Q5: =G5*M5 -> 0.01272 | R5: =(M5*F5)/((BE$4+BE$5)*286.9)+273 -> 299.42601 | T5: 0.873 | U5: =T6-T5 -> -0.038 | V5: =LOG(T5) -> -0.058985756 | W5: =T5*100000 -> 87300 | X5: =W6-W5 -> -3800 | Y5: =LOG(W5) -> 4.9410142 | Z5: =(V6-V5)/(E5-E6) -> 14.600954 | AA5: =W5*G5 -> 0.010476 | AB5: =(W5*F5)/((BE$4+BE$5)*286.9)+273 -> 294.76407 | AD5: 0.894 | AE5: =AD6-AD5 -> 0.003 | AF5: =LOG(AD5) -> -0.048662481 | AG5: =AD5*100000 -> 89400 | AH5: =AG6-AG5 -> 300 | AI5: =LOG(AG5) -> 4.9513375 | AJ5: =(AF6-AF5)/(E5-E6) -> -1.0991068 | AK5: =AG5*G5 -> 0.010728 | AL5: =(AG5*F5)/((BE$4+BE$5)*286.9)+273 -> 295.2876 | AN5: 0.994 | AO5: =(AN6-AN5) -> 0.003 | AP5: =LOG(AN5) -> -0.0026136156 | AQ5: =AN5*100000 -> 99400 | AR5: =AQ6-AQ5 -> 300 | AS5: =LOG(AQ5) -> 4.9973864 | AT5: =(AP6-AP5)/(E5-E6) -> -0.98869913 | AU5: =AQ5*G5 -> 0.011928 | AV5: =(AQ5*F5)/((BE$4+BE$5)*286.9)+273 -> 297.78062 | AX5: 0.02 | AY5: -6.066 | AZ5: -2.328 | BA5: -3.566 | BB5: 1.664 | BD5: air mass (kg) | BE5: 0.000511
B6: -358 | C6: 39.43 | D6: =C7-C6 -> 0.2 | E6: =LOG(C6) -> 1.5958268 | F6: =C6*10^-6 -> 3.943e-05 | G6: =F7-F6 -> 2e-07 | H6: =LOG(F6) -> -4.4041732 | J6: 1.025 | K6: =J7-J6 -> -0.048 | L6: =LOG(J6) -> 0.010723865 | M6: =J6*100000 -> 102500 | N6: =M7-M6 -> -4800 | O6: =LOG(M6) -> 5.0107239 | P6: =(L7-L6)/(E6-E7) -> 9.4795188 | Q6: =G6*M6 -> 0.0205 | R6: =(M6*F6)/((BE$4+BE$5)*286.9)+273 -> 298.63146 | T6: 0.835 | U6: =T7-T6 -> -0.03 | V6: =LOG(T6) -> -0.078313525 | W6: =T6*100000 -> 83500 | X6: =W7-W6 -> -3000 | Y6: =LOG(W6) -> 4.9216865 | Z6: =(V7-V6)/(E6-E7) -> 7.2318889 | AA6: =W6*G6 -> 0.0167 | AB6: =(W6*F6)/((BE$4+BE$5)*286.9)+273 -> 293.88026 | AD6: 0.897 | AE6: =AD7-AD6 -> 0.004 | AF6: =LOG(AD6) -> -0.047207557 | AG6: =AD6*100000 -> 89700 | AH6: =AG7-AG6 -> 400 | AI6: =LOG(AG6) -> 4.9527924 | AJ6: =(AF7-AF6)/(E6-E7) -> -0.87942115 | AK6: =AG6*G6 -> 0.01794 | AL6: =(AG6*F6)/((BE$4+BE$5)*286.9)+273 -> 295.43065 | AN6: 0.997 | AO6: =(AN7-AN6) -> -0.004 | AP6: =LOG(AN6) -> -0.0013048417 | AQ6: =AN6*100000 -> 99700 | AR6: =AQ7-AQ6 -> -400 | AS6: =LOG(AQ6) -> 4.9986952 | AT6: =(AP7-AP6)/(E6-E7) -> 0.79457224 | AU6: =AQ6*G6 -> 0.01994 | AV6: =(AQ6*F6)/((BE$4+BE$5)*286.9)+273 -> 297.93128 | AX6: 0.05 | AY6: -1.731 | AZ6: 0.284 | BA6: -1.177 | BB6: 3.512
B7: -357 | C7: 39.63 | D7: =C8-C7 -> 0.27 | E7: =LOG(C7) -> 1.5980241 | F7: =C7*10^-6 -> 3.963e-05 | G7: =F8-F7 -> 2.7e-07 | H7: =LOG(F7) -> -4.4019759 | J7: 0.977 | K7: =J8-J7 -> -0.041 | L7: =LOG(J7) -> -0.010105436 | M7: =J7*100000 -> 97700 | N7: =M8-M7 -> -4100 | O7: =LOG(M7) -> 4.9898946 | P7: =(L8-L7)/(E7-E8) -> 6.3139472 | Q7: =G7*M7 -> 0.026379 | R7: =(M7*F7)/((BE$4+BE$5)*286.9)+273 -> 297.55508 | T7: 0.805 | U7: =T8-T7 -> -0.034 | V7: =LOG(T7) -> -0.09420412 | W7: =T7*100000 -> 80500 | X7: =W8-W7 -> -3400 | Y7: =LOG(W7) -> 4.9057959 | Z7: =(V8-V7)/(E7-E8) -> 6.3555866 | AA7: =W7*G7 -> 0.021735 | AB7: =(W7*F7)/((BE$4+BE$5)*286.9)+273 -> 293.23218 | AD7: 0.901 | AE7: =AD8-AD7 -> -0.003 | AF7: =LOG(AD7) -> -0.045275209 | AG7: =AD7*100000 -> 90100 | AH7: =AG8-AG7 -> -300 | AI7: =LOG(AG7) -> 4.9547248 | AJ7: =(AF8-AF7)/(E7-E8) -> 0.49119738 | AK7: =AG7*G7 -> 0.024327 | AL7: =(AG7*F7)/((BE$4+BE$5)*286.9)+273 -> 295.64496 | AN7: 0.993 | AO7: =(AN8-AN7) -> 0.002 | AP7: =LOG(AN7) -> -0.0030507515 | AQ7: =AN7*100000 -> 99300 | AR7: =AQ8-AQ7 -> 200 | AS7: =LOG(AQ7) -> 4.9969492 | AT7: =(AP8-AP7)/(E7-E8) -> -0.29633252 | AU7: =AQ7*G7 -> 0.026811 | AV7: =(AQ7*F7)/((BE$4+BE$5)*286.9)+273 -> 297.95721 | AX7: 0.1 | AY7: 1.476 | AZ7: 2.811 | BA7: 1.142 | BB7: 5.5
B8: -356 | C8: 39.9 | D8: =C9-C8 -> 0.36 | E8: =LOG(C8) -> 1.6009729 | F8: =C8*10^-6 -> 3.99e-05 | G8: =F9-F8 -> 3.6e-07 | H8: =LOG(F8) -> -4.3990271 | J8: 0.936 | K8: =J9-J8 -> -0.016 | L8: =LOG(J8) -> -0.028724151 | M8: =J8*100000 -> 93600 | N8: =M9-M8 -> -1600 | O8: =LOG(M8) -> 4.9712758 | P8: =(L9-L8)/(E8-E9) -> 1.9195749 | Q8: =G8*M8 -> 0.033696 | R8: =(M8*F8)/((BE$4+BE$5)*286.9)+273 -> 296.6849 | T8: 0.771 | U8: =T9-T8 -> -0.047 | V8: =LOG(T8) -> -0.11294562 | W8: =T8*100000 -> 77100 | X8: =W9-W8 -> -4700 | Y8: =LOG(W8) -> 4.8870544 | Z8: =(V9-V8)/(E8-E9) -> 7.0024835 | AA8: =W8*G8 -> 0.027756 | AB8: =(W8*F8)/((BE$4+BE$5)*286.9)+273 -> 292.50967 | AD8: 0.898 | AE8: =AD9-AD8 -> -0.01 | AF8: =LOG(AD8) -> -0.046723663 | AG8: =AD8*100000 -> 89800 | AH8: =AG9-AG8 -> -1000 | AI8: =LOG(AG8) -> 4.9532763 | AJ8: =(AF9-AF8)/(E8-E9) -> 1.2467385 | AK8: =AG8*G8 -> 0.032328 | AL8: =(AG8*F8)/((BE$4+BE$5)*286.9)+273 -> 295.72333 | AN8: 0.995 | AO8: =(AN9-AN8) -> -0.004 | AP8: =LOG(AN8) -> -0.0021769193 | AQ8: =AN8*100000 -> 99500 | AR8: =AQ9-AQ8 -> -400 | AS8: =LOG(AQ8) -> 4.9978231 | AT8: =(AP9-AP8)/(E8-E9) -> 0.44847023 | AU8: =AQ8*G8 -> 0.03582 | AV8: =(AQ8*F8)/((BE$4+BE$5)*286.9)+273 -> 298.17785 | AX8: 0.5 | AY8: 13.911 | AZ8: 13.235 | BA8: 10.511 | BB8: 13.876
B9: -355 | C9: 40.26 | D9: =C10-C9 -> 0.43 | E9: =LOG(C9) -> 1.6048738 | F9: =C9*10^-6 -> 4.026e-05 | G9: =F10-F9 -> 4.3e-07 | H9: =LOG(F9) -> -4.3951262 | J9: 0.92 | K9: =J10-J9 -> 0.004 | L9: =LOG(J9) -> -0.036212173 | M9: =J9*100000 -> 92000 | N9: =M10-M9 -> 400 | O9: =LOG(M9) -> 4.9637878 | P9: =(L10-L9)/(E9-E10) -> -0.40836082 | Q9: =G9*M9 -> 0.03956 | R9: =(M9*F9)/((BE$4+BE$5)*286.9)+273 -> 296.49007 | T9: 0.724 | U9: =T10-T9 -> -0.043 | V9: =LOG(T9) -> -0.14026143 | W9: =T9*100000 -> 72400 | X9: =W10-W9 -> -4300 | Y9: =LOG(W9) -> 4.8597386 | Z9: =(V10-V9)/(E9-E10) -> 5.7633115 | AA9: =W9*G9 -> 0.031132 | AB9: =(W9*F9)/((BE$4+BE$5)*286.9)+273 -> 291.48566 | AD9: 0.888 | AE9: =AD10-AD9 -> -0.01 | AF9: =LOG(AD9) -> -0.051587034 | AG9: =AD9*100000 -> 88800 | AH9: =AG10-AG9 -> -1000 | AI9: =LOG(AG9) -> 4.948413 | AJ9: =(AF10-AF9)/(E9-E10) -> 1.0660026 | AK9: =AG9*G9 -> 0.038184 | AL9: =(AG9*F9)/((BE$4+BE$5)*286.9)+273 -> 295.67302 | AN9: 0.991 | AO9: =(AN10-AN9) -> -0.001 | AP9: =LOG(AN9) -> -0.0039263455 | AQ9: =AN9*100000 -> 99100 | AR9: =AQ10-AQ9 -> -100 | AS9: =LOG(AQ9) -> 4.9960737 | AT9: =(AP10-AP9)/(E9-E10) -> 0.095029813 | AU9: =AQ9*G9 -> 0.042613 | AV9: =(AQ9*F9)/((BE$4+BE$5)*286.9)+273 -> 298.30289 | AX9: 0.9 | AY9: 28.811 | AZ9: 25.864 | BA9: 21.59 | BB9: 22.29
B10: -354 | C10: 40.69 | D10: =C11-C10 -> 0.51 | E10: =LOG(C10) -> 1.6094877 | F10: =C10*10^-6 -> 4.069e-05 | G10: =F11-F10 -> 5.1e-07 | H10: =LOG(F10) -> -4.3905123 | J10: 0.924 | K10: =J11-J10 -> -0.014 | L10: =LOG(J10) -> -0.034328029 | M10: =J10*100000 -> 92400 | N10: =M11-M10 -> -1400 | O10: =LOG(M10) -> 4.965672 | P10: =(L11-L10)/(E10-E11) -> 1.2257227 | Q10: =G10*M10 -> 0.047124 | R10: =(M10*F10)/((BE$4+BE$5)*286.9)+273 -> 296.84418 | T10: 0.681 | U10: =T11-T10 -> -0.034 | V10: =LOG(T10) -> -0.16685289 | W10: =T10*100000 -> 68100 | X10: =W11-W10 -> -3400 | Y10: =LOG(W10) -> 4.8331471 | Z10: =(V11-V10)/(E10-E11) -> 4.1117892 | AA10: =W10*G10 -> 0.034731 | AB10: =(W10*F10)/((BE$4+BE$5)*286.9)+273 -> 290.57347 | AD10: 0.878 | AE10: =AD11-AD10 -> -0.004 | AF10: =LOG(AD10) -> -0.056505484 | AG10: =AD10*100000 -> 87800 | AH10: =AG11-AG10 -> -400 | AI10: =LOG(AG10) -> 4.9434945 | AJ10: =(AF11-AF10)/(E10-E11) -> 0.36659094 | AK10: =AG10*G10 -> 0.044778 | AL10: =(AG10*F10)/((BE$4+BE$5)*286.9)+273 -> 295.65713 | AN10: 0.99 | AO10: =(AN11-AN10) -> -0.005 | AP10: =LOG(AN10) -> -0.0043648054 | AQ10: =AN10*100000 -> 99000 | AR10: =AQ11-AQ10 -> -500 | AS10: =LOG(AQ10) -> 4.9956352 | AT10: =(AP11-AP10)/(E10-E11) -> 0.40649847 | AU10: =AQ10*G10 -> 0.05049 | AV10: =(AQ10*F10)/((BE$4+BE$5)*286.9)+273 -> 298.54734 | AX10: 1 | AY10: 37.5 | AZ10: 35 | BA10: 32.5 | BB10: 29
B11: -353 | C11: 41.2 | D11: =C12-C11 -> 0.59 | E11: =LOG(C11) -> 1.6148972 | F11: =C11*10^-6 -> 4.12e-05 | G11: =F12-F11 -> 5.9e-07 | H11: =LOG(F11) -> -4.3851028 | J11: 0.91 | K11: =J12-J11 -> -0.036 | L11: =LOG(J11) -> -0.040958608 | M11: =J11*100000 -> 91000 | N11: =M12-M11 -> -3600 | O11: =LOG(M11) -> 4.9590414 | P11: =(L12-L11)/(E11-E12) -> 2.8387886 | Q11: =G11*M11 -> 0.05369 | R11: =(M11*F11)/((BE$4+BE$5)*286.9)+273 -> 296.77723 | T11: 0.647 | U11: =T12-T11 -> -0.027 | V11: =LOG(T11) -> -0.18909572 | W11: =T11*100000 -> 64700 | X11: =W12-W11 -> -2700 | Y11: =LOG(W11) -> 4.8109043 | Z11: =(V12-V11)/(E11-E12) -> 2.9979152 | AA11: =W11*G11 -> 0.038173 | AB11: =(W11*F11)/((BE$4+BE$5)*286.9)+273 -> 289.90535 | AD11: 0.874 | AE11: =AD12-AD11 -> 0.004 | AF11: =LOG(AD11) -> -0.058488567 | AG11: =AD11*100000 -> 87400 | AH11: =AG12-AG11 -> 400 | AI11: =LOG(AG11) -> 4.9415114 | AJ11: =(AF12-AF11)/(E11-E12) -> -0.32113902 | AK11: =AG11*G11 -> 0.051566 | AL11: =(AG11*F11)/((BE$4+BE$5)*286.9)+273 -> 295.8366 | AN11: 0.985 | AO11: =(AN12-AN11) -> -0.001 | AP11: =LOG(AN11) -> -0.0065637695 | AQ11: =AN11*100000 -> 98500 | AR11: =AQ12-AQ11 -> -100 | AS11: =LOG(AQ11) -> 4.9934362 | AT11: =(AP12-AP11)/(E11-E12) -> 0.071436597 | AU11: =AQ11*G11 -> 0.058115 | AV11: =(AQ11*F11)/((BE$4+BE$5)*286.9)+273 -> 298.7369
B12: -352 | C12: 41.79 | D12: =C13-C12 -> 0.66 | E12: =LOG(C12) -> 1.6210724 | F12: =C12*10^-6 -> 4.179e-05 | G12: =F13-F12 -> 6.6e-07 | H12: =LOG(F12) -> -4.3789276 | J12: 0.874 | K12: =J13-J12 -> -0.037 | L12: =LOG(J12) -> -0.058488567 | M12: =J12*100000 -> 87400 | N12: =M13-M12 -> -3700 | O12: =LOG(M12) -> 4.9415114 | P12: =(L13-L12)/(E12-E13) -> 2.7604823 | Q12: =G12*M12 -> 0.057684 | R12: =(M12*F12)/((BE$4+BE$5)*286.9)+273 -> 296.16363 | T12: 0.62 | U12: =T13-T12 -> -0.02 | V12: =LOG(T12) -> -0.20760831 | W12: =T12*100000 -> 62000 | X12: =W13-W12 -> -2000 | Y12: =LOG(W12) -> 4.7923917 | Z12: =(V13-V12)/(E12-E13) -> 2.0925441 | AA12: =W12*G12 -> 0.04092 | AB12: =(W12*F12)/((BE$4+BE$5)*286.9)+273 -> 289.43186 | AD12: 0.878 | AE12: =AD13-AD12 -> -0.005 | AF12: =LOG(AD12) -> -0.056505484 | AG12: =AD12*100000 -> 87800 | AH12: =AG13-AG12 -> -500 | AI12: =LOG(AG12) -> 4.9434945 | AJ12: =(AF13-AF12)/(E12-E13) -> 0.36446059 | AK12: =AG12*G12 -> 0.057948 | AL12: =(AG12*F12)/((BE$4+BE$5)*286.9)+273 -> 296.26964 | AN12: 0.984 | AO12: =(AN13-AN12) -> 0.003 | AP12: =LOG(AN12) -> -0.0070049016 | AQ12: =AN12*100000 -> 98400 | AR12: =AQ13-AQ12 -> 300 | AS12: =LOG(AQ12) -> 4.9929951 | AT12: =(AP13-AP12)/(E12-E13) -> -0.19426766 | AU12: =AQ12*G12 -> 0.064944 | AV12: =(AQ12*F12)/((BE$4+BE$5)*286.9)+273 -> 299.07896
B13: -351 | C13: 42.45 | D13: =C14-C13 -> 0.75 | E13: =LOG(C13) -> 1.6278777 | F13: =C13*10^-6 -> 4.245e-05 | G13: =F14-F13 -> 7.5e-07 | H13: =LOG(F13) -> -4.3721223 | J13: 0.837 | K13: =J14-J13 -> -0.026 | L13: =LOG(J13) -> -0.077274542 | M13: =J13*100000 -> 83700 | N13: =M14-M13 -> -2600 | O13: =LOG(M13) -> 4.9227255 | P13: =(L14-L13)/(E13-E14) -> 1.8018025 | Q13: =G13*M13 -> 0.062775 | R13: =(M13*F13)/((BE$4+BE$5)*286.9)+273 -> 295.53336 | T13: 0.6 | U13: =T14-T13 -> -0.007 | V13: =LOG(T13) -> -0.22184875 | W13: =T13*100000 -> 60000 | X13: =W14-W13 -> -700 | Y13: =LOG(W13) -> 4.7781513 | Z13: =(V14-V13)/(E13-E14) -> 0.670066 | AA13: =W13*G13 -> 0.045 | AB13: =(W13*F13)/((BE$4+BE$5)*286.9)+273 -> 289.15294 | AD13: 0.873 | AE13: =AD14-AD13 -> -0.015 | AF13: =LOG(AD13) -> -0.058985756 | AG13: =AD13*100000 -> 87300 | AH13: =AG14-AG13 -> -1500 | AI13: =LOG(AG13) -> 4.9410142 | AJ13: =(AF14-AF13)/(E13-E14) -> 0.98960086 | AK13: =AG13*G13 -> 0.065475 | AL13: =(AG13*F13)/((BE$4+BE$5)*286.9)+273 -> 296.50253 | AN13: 0.987 | AO13: =(AN14-AN13) -> 0.001 | AP13: =LOG(AN13) -> -0.0056828473 | AQ13: =AN13*100000 -> 98700 | AR13: =AQ14-AQ13 -> 100 | AS13: =LOG(AQ13) -> 4.9943172 | AT13: =(AP14-AP13)/(E13-E14) -> -0.057821312 | AU13: =AQ13*G13 -> 0.074025 | AV13: =(AQ13*F13)/((BE$4+BE$5)*286.9)+273 -> 299.57159
B14: -350 | C14: 43.2 | D14: =C15-C14 -> 0.82 | E14: =LOG(C14) -> 1.6354837 | F14: =C14*10^-6 -> 4.32e-05 | G14: =F15-F14 -> 8.2e-07 | H14: =LOG(F14) -> -4.3645163 | J14: 0.811 | K14: =J15-J14 -> -0.018 | L14: =LOG(J14) -> -0.090979146 | M14: =J14*100000 -> 81100 | N14: =M15-M14 -> -1800 | O14: =LOG(M14) -> 4.9090209 | P14: =(L15-L14)/(E14-E15) -> 1.1936467 | Q14: =G14*M14 -> 0.066502 | R14: =(M14*F14)/((BE$4+BE$5)*286.9)+273 -> 295.21914 | T14: 0.593 | U14: =T15-T14 -> 0 | V14: =LOG(T14) -> -0.22694531 | W14: =T14*100000 -> 59300 | X14: =W15-W14 -> 0 | Y14: =LOG(W14) -> 4.7730547 | Z14: =(V15-V14)/(E14-E15) -> 0 | AA14: =W14*G14 -> 0.048626 | AB14: =(W14*F14)/((BE$4+BE$5)*286.9)+273 -> 289.24655 | AD14: 0.858 | AE14: =AD15-AD14 -> -0.023 | AF14: =LOG(AD14) -> -0.066512712 | AG14: =AD14*100000 -> 85800 | AH14: =AG15-AG14 -> -2300 | AI14: =LOG(AG14) -> 4.9334873 | AJ14: =(AF15-AF14)/(E14-E15) -> 1.4450638 | AK14: =AG14*G14 -> 0.070356 | AL14: =(AG14*F14)/((BE$4+BE$5)*286.9)+273 -> 296.50681 | AN14: 0.988 | AO14: =(AN15-AN14) -> 0.003 | AP14: =LOG(AN14) -> -0.0052430554 | AQ14: =AN14*100000 -> 98800 | AR14: =AQ15-AQ14 -> 300 | AS14: =LOG(AQ14) -> 4.9947569 | AT14: =(AP15-AP14)/(E14-E15) -> -0.16123719 | AU14: =AQ14*G14 -> 0.081016 | AV14: =(AQ14*F14)/((BE$4+BE$5)*286.9)+273 -> 300.06845
B15: -349 | C15: 44.02 | D15: =C16-C15 -> 0.89 | E15: =LOG(C15) -> 1.64365 | F15: =C15*10^-6 -> 4.402e-05 | G15: =F16-F15 -> 8.9e-07 | H15: =LOG(F15) -> -4.35635 | J15: 0.793 | K15: =J16-J15 -> -0.005 | L15: =LOG(J15) -> -0.10072681 | M15: =J15*100000 -> 79300 | N15: =M16-M15 -> -500 | O15: =LOG(M15) -> 4.8992732 | P15: =(L16-L15)/(E15-E16) -> 0.3159973 | Q15: =G15*M15 -> 0.070577 | R15: =(M15*F15)/((BE$4+BE$5)*286.9)+273 -> 295.13839 | T15: 0.593 | U15: =T16-T15 -> 0.01 | V15: =LOG(T15) -> -0.22694531 | W15: =T15*100000 -> 59300 | X15: =W16-W15 -> 1000 | Y15: =LOG(W15) -> 4.7730547 | Z15: =(V16-V15)/(E15-E16) -> -0.83545435 | AA15: =W15*G15 -> 0.052777 | AB15: =(W15*F15)/((BE$4+BE$5)*286.9)+273 -> 289.55493 | AD15: 0.835 | AE15: =AD16-AD15 -> -0.031 | AF15: =LOG(AD15) -> -0.078313525 | AG15: =AD15*100000 -> 83500 | AH15: =AG16-AG15 -> -3100 | AI15: =LOG(AG15) -> 4.9216865 | AJ15: =(AF16-AF15)/(E15-E16) -> 1.8900719 | AK15: =AG15*G15 -> 0.074315 | AL15: =(AG15*F15)/((BE$4+BE$5)*286.9)+273 -> 296.31091 | AN15: 0.991 | AO15: =(AN16-AN15) -> 0.002 | AP15: =LOG(AN15) -> -0.0039263455 | AQ15: =AN15*100000 -> 99100 | AR15: =AQ16-AQ15 -> 200 | AS15: =LOG(AQ15) -> 4.9960737 | AT15: =(AP16-AP15)/(E15-E16) -> -0.10072384 | AU15: =AQ15*G15 -> 0.088199 | AV15: =(AQ15*F15)/((BE$4+BE$5)*286.9)+273 -> 300.666
B16: -348 | C16: 44.91 | D16: =C17-C16 -> 0.98 | E16: =LOG(C16) -> 1.6523431 | F16: =C16*10^-6 -> 4.491e-05 | G16: =F17-F16 -> 9.8e-07 | H16: =LOG(F16) -> -4.3476569 | J16: 0.788 | K16: =J17-J16 -> 0.018 | L16: =LOG(J16) -> -0.10347378 | M16: =J16*100000 -> 78800 | N16: =M17-M16 -> 1800 | O16: =LOG(M16) -> 4.8965262 | P16: =(L17-L16)/(E16-E17) -> -1.0462743 | Q16: =G16*M16 -> 0.077224 | R16: =(M16*F16)/((BE$4+BE$5)*286.9)+273 -> 295.44357 | T16: 0.603 | U16: =T17-T16 -> 0.01 | V16: =LOG(T16) -> -0.21968269 | W16: =T16*100000 -> 60300 | X16: =W17-W16 -> 1000 | Y16: =LOG(W16) -> 4.7803173 | Z16: =(V17-V16)/(E16-E17) -> -0.76193711 | AA16: =W16*G16 -> 0.059094 | AB16: =(W16*F16)/((BE$4+BE$5)*286.9)+273 -> 290.17446 | AD16: 0.804 | AE16: =AD17-AD16 -> -0.021 | AF16: =LOG(AD16) -> -0.094743951 | AG16: =AD16*100000 -> 80400 | AH16: =AG17-AG16 -> -2100 | AI16: =LOG(AG16) -> 4.905256 | AJ16: =(AF17-AF16)/(E16-E17) -> 1.2260569 | AK16: =AG16*G16 -> 0.078792 | AL16: =(AG16*F16)/((BE$4+BE$5)*286.9)+273 -> 295.89928 | AN16: 0.993 | AO16: =(AN17-AN16) -> 0.006 | AP16: =LOG(AN16) -> -0.0030507515 | AQ16: =AN16*100000 -> 99300 | AR16: =AQ17-AQ16 -> 600 | AS16: =LOG(AQ16) -> 4.9969492 | AT16: =(AP17-AP16)/(E16-E17) -> -0.27906549 | AU16: =AQ16*G16 -> 0.097314 | AV16: =(AQ16*F16)/((BE$4+BE$5)*286.9)+273 -> 301.28232
B17: -347 | C17: 45.89 | D17: =C18-C17 -> 1.04 | E17: =LOG(C17) -> 1.6617181 | F17: =C17*10^-6 -> 4.589e-05 | G17: =F18-F17 -> 1.04e-06 | H17: =LOG(F17) -> -4.3382819 | J17: 0.806 | K17: =J18-J17 -> 0.03 | L17: =LOG(J17) -> -0.093664958 | M17: =J17*100000 -> 80600 | N17: =M18-M17 -> 3000 | O17: =LOG(M17) -> 4.906335 | P17: =(L18-L17)/(E17-E18) -> -1.6307466 | Q17: =G17*M17 -> 0.083824 | R17: =(M17*F17)/((BE$4+BE$5)*286.9)+273 -> 296.45718 | T17: 0.613 | U17: =T18-T17 -> 0.009 | V17: =LOG(T17) -> -0.21253953 | W17: =T17*100000 -> 61300 | X17: =W18-W17 -> 900 | Y17: =LOG(W17) -> 4.7874605 | Z17: =(V18-V17)/(E17-E18) -> -0.65038915 | AA17: =W17*G17 -> 0.063752 | AB17: =(W17*F17)/((BE$4+BE$5)*286.9)+273 -> 290.84026 | AD17: 0.783 | AE17: =AD18-AD17 -> -0.011 | AF17: =LOG(AD17) -> -0.10623824 | AG17: =AD17*100000 -> 78300 | AH17: =AG18-AG17 -> -1100 | AI17: =LOG(AG17) -> 4.8937618 | AJ17: =(AF18-AF17)/(E17-E18) -> 0.63133459 | AK17: =AG17*G17 -> 0.081432 | AL17: =(AG17*F17)/((BE$4+BE$5)*286.9)+273 -> 295.78781 | AN17: 0.999 | AO17: =(AN18-AN17) -> 0.004 | AP17: =LOG(AN17) -> -0.00043451177 | AQ17: =AN17*100000 -> 99900 | AR17: =AQ18-AQ17 -> 400 | AS17: =LOG(AQ17) -> 4.9995655 | AT17: =(AP18-AP17)/(E17-E18) -> -0.17831445 | AU17: =AQ17*G17 -> 0.103896 | AV17: =(AQ17*F17)/((BE$4+BE$5)*286.9)+273 -> 302.0741
B18: -346 | C18: 46.93 | D18: =C19-C18 -> 1.13 | E18: =LOG(C18) -> 1.6714506 | F18: =C18*10^-6 -> 4.693e-05 | G18: =F19-F18 -> 1.13e-06 | H18: =LOG(F18) -> -4.3285494 | J18: 0.836 | K18: =J19-J18 -> 0.03 | L18: =LOG(J18) -> -0.077793723 | M18: =J18*100000 -> 83600 | N18: =M19-M18 -> 3000 | O18: =LOG(M18) -> 4.9222063 | P18: =(L19-L18)/(E18-E19) -> -1.4817865 | Q18: =G18*M18 -> 0.094468 | R18: =(M18*F18)/((BE$4+BE$5)*286.9)+273 -> 297.88167 | T18: 0.622 | U18: =T19-T18 -> 0.001 | V18: =LOG(T18) -> -0.20620962 | W18: =T18*100000 -> 62200 | X18: =W19-W18 -> 100 | Y18: =LOG(W18) -> 4.7937904 | Z18: =(V19-V18)/(E18-E19) -> -0.067516465 | AA18: =W18*G18 -> 0.070286 | AB18: =(W18*F18)/((BE$4+BE$5)*286.9)+273 -> 291.51244 | AD18: 0.772 | AE18: =AD19-AD18 -> -0.005 | AF18: =LOG(AD18) -> -0.1123827 | AG18: =AD18*100000 -> 77200 | AH18: =AG19-AG18 -> -500 | AI18: =LOG(AG18) -> 4.8876173 | AJ18: =(AF19-AF18)/(E18-E19) -> 0.27309382 | AK18: =AG18*G18 -> 0.087236 | AL18: =(AG18*F18)/((BE$4+BE$5)*286.9)+273 -> 295.97685 | AN18: 1.003 | AO18: =(AN19-AN18) -> 0.003 | AP18: =LOG(AN18) -> 0.001300933 | AQ18: =AN18*100000 -> 100300 | AR18: =AQ19-AQ18 -> 300 | AS18: =LOG(AQ18) -> 5.0013009 | AT18: =(AP19-AP18)/(E18-E19) -> -0.12552222 | AU18: =AQ18*G18 -> 0.113339 | AV18: =(AQ18*F18)/((BE$4+BE$5)*286.9)+273 -> 302.85205
B19: -345 | C19: 48.06 | D19: =C20-C19 -> 1.2 | E19: =LOG(C19) -> 1.6817838 | F19: =C19*10^-6 -> 4.806e-05 | G19: =F20-F19 -> 1.2e-06 | H19: =LOG(F19) -> -4.3182162 | J19: 0.866 | K19: =J20-J19 -> 0.011 | L19: =LOG(J19) -> -0.062482108 | M19: =J19*100000 -> 86600 | N19: =M20-M19 -> 1100 | O19: =LOG(M19) -> 4.9375179 | P19: =(L20-L19)/(E19-E20) -> -0.51179956 | Q19: =G19*M19 -> 0.10392 | R19: =(M19*F19)/((BE$4+BE$5)*286.9)+273 -> 299.39517 | T19: 0.623 | U19: =T20-T19 -> -0.002 | V19: =LOG(T19) -> -0.20551195 | W19: =T19*100000 -> 62300 | X19: =W20-W19 -> -200 | Y19: =LOG(W19) -> 4.794488 | Z19: =(V20-V19)/(E19-E20) -> 0.13037936 | AA19: =W19*G19 -> 0.07476 | AB19: =(W19*F19)/((BE$4+BE$5)*286.9)+273 -> 291.98867 | AD19: 0.767 | AE19: =AD20-AD19 -> -0.004 | AF19: =LOG(AD19) -> -0.11520464 | AG19: =AD19*100000 -> 76700 | AH19: =AG20-AG19 -> -400 | AI19: =LOG(AG19) -> 4.8847954 | AJ19: =(AF20-AF19)/(E19-E20) -> 0.21201588 | AK19: =AG19*G19 -> 0.09204 | AL19: =(AG19*F19)/((BE$4+BE$5)*286.9)+273 -> 296.3777 | AN19: 1.006 | AO19: =(AN20-AN19) -> 0.005 | AP19: =LOG(AN19) -> 0.0025979807 | AQ19: =AN19*100000 -> 100600 | AR19: =AQ20-AQ19 -> 500 | AS19: =LOG(AQ19) -> 5.002598 | AT19: =(AP20-AP19)/(E19-E20) -> -0.20103137 | AU19: =AQ19*G19 -> 0.12072 | AV19: =(AQ19*F19)/((BE$4+BE$5)*286.9)+273 -> 303.66228
B20: -344 | C20: 49.26 | D20: =C21-C20 -> 1.27 | E20: =LOG(C20) -> 1.6924944 | F20: =C20*10^-6 -> 4.926e-05 | G20: =F21-F20 -> 1.27e-06 | H20: =LOG(F20) -> -4.3075056 | J20: 0.877 | K20: =J21-J20 -> -0.001 | L20: =LOG(J20) -> -0.057000407 | M20: =J20*100000 -> 87700 | N20: =M21-M20 -> -100 | O20: =LOG(M20) -> 4.9429996 | P20: =(L21-L20)/(E20-E21) -> 0.044820633 | Q20: =G20*M20 -> 0.111379 | R20: =(M20*F20)/((BE$4+BE$5)*286.9)+273 -> 300.39787 | T20: 0.621 | U20: =T21-T20 -> -0.003 | V20: =LOG(T20) -> -0.2069084 | W20: =T20*100000 -> 62100 | X20: =W21-W20 -> -300 | Y20: =LOG(W20) -> 4.7930916 | Z20: =(V21-V20)/(E20-E21) -> 0.19024386 | AA20: =W20*G20 -> 0.078867 | AB20: =(W20*F20)/((BE$4+BE$5)*286.9)+273 -> 292.40031 | AD20: 0.763 | AE20: =AD21-AD20 -> -0.002 | AF20: =LOG(AD20) -> -0.11747546 | AG20: =AD20*100000 -> 76300 | AH20: =AG21-AG20 -> -200 | AI20: =LOG(AG20) -> 4.8825245 | AJ20: =(AF21-AF20)/(E20-E21) -> 0.10311103 | AK20: =AG20*G20 -> 0.096901 | AL20: =(AG20*F20)/((BE$4+BE$5)*286.9)+273 -> 296.83646 | AN20: 1.011 | AO20: =(AN21-AN20) -> 0.011 | AP20: =LOG(AN20) -> 0.0047511556 | AQ20: =AN20*100000 -> 101100 | AR20: =AQ21-AQ20 -> 1100 | AS20: =LOG(AQ20) -> 5.0047512 | AT20: =(AP21-AP20)/(E20-E21) -> -0.42512769 | AU20: =AQ20*G20 -> 0.128397 | AV20: =(AQ20*F20)/((BE$4+BE$5)*286.9)+273 -> 304.58408
B21: -343 | C21: 50.53 | D21: =C22-C21 -> 1.34 | E21: =LOG(C21) -> 1.7035493 | F21: =C21*10^-6 -> 5.053e-05 | G21: =F22-F21 -> 1.34e-06 | H21: =LOG(F21) -> -4.2964507 | J21: 0.876 | K21: =J22-J21 -> -0.004 | L21: =LOG(J21) -> -0.057495894 | M21: =J21*100000 -> 87600 | N21: =M22-M21 -> -400 | O21: =LOG(M21) -> 4.9425041 | P21: =(L22-L21)/(E21-E22) -> 0.17485968 | Q21: =G21*M21 -> 0.117384 | R21: =(M21*F21)/((BE$4+BE$5)*286.9)+273 -> 301.07218 | T21: 0.618 | U21: =T22-T21 -> 0 | V21: =LOG(T21) -> -0.20901152 | W21: =T21*100000 -> 61800 | X21: =W22-W21 -> 0 | Y21: =LOG(W21) -> 4.7909885 | Z21: =(V22-V21)/(E21-E22) -> 0 | AA21: =W21*G21 -> 0.082812 | AB21: =(W21*F21)/((BE$4+BE$5)*286.9)+273 -> 292.80435 | AD21: 0.761 | AE21: =AD22-AD21 -> 0.005 | AF21: =LOG(AD21) -> -0.11861534 | AG21: =AD21*100000 -> 76100 | AH21: =AG22-AG21 -> 500 | AI21: =LOG(AG21) -> 4.8813847 | AJ21: =(AF22-AF21)/(E21-E22) -> -0.25020898 | AK21: =AG21*G21 -> 0.101974 | AL21: =(AG21*F21)/((BE$4+BE$5)*286.9)+273 -> 297.3869 | AN21: 1.022 | AO21: =(AN22-AN21) -> 0.012 | AP21: =LOG(AN21) -> 0.0094508958 | AQ21: =AN21*100000 -> 102200 | AR21: =AQ22-AQ21 -> 1200 | AS21: =LOG(AQ21) -> 5.0094509 | AT21: =(AP22-AP21)/(E21-E22) -> -0.44599854 | AU21: =AQ21*G21 -> 0.136948 | AV21: =(AQ21*F21)/((BE$4+BE$5)*286.9)+273 -> 305.75088
B22: -342 | C22: 51.87 | D22: =C23-C22 -> 1.42 | E22: =LOG(C22) -> 1.7149162 | F22: =C22*10^-6 -> 5.187e-05 | G22: =F23-F22 -> 1.42e-06 | H22: =LOG(F22) -> -4.2850838 | J22: 0.872 | K22: =J23-J22 -> -0.016 | L22: =LOG(J22) -> -0.059483515 | M22: =J22*100000 -> 87200 | N22: =M23-M22 -> -1600 | O22: =LOG(M22) -> 4.9405165 | P22: =(L23-L22)/(E22-E23) -> 0.68568475 | Q22: =G22*M22 -> 0.123824 | R22: =(M22*F22)/((BE$4+BE$5)*286.9)+273 -> 301.68504 | T22: 0.618 | U22: =T23-T22 -> 0.001 | V22: =LOG(T22) -> -0.20901152 | W22: =T22*100000 -> 61800 | X22: =W23-W22 -> 100 | Y22: =LOG(W22) -> 4.7909885 | Z22: =(V23-V22)/(E22-E23) -> -0.059864069 | AA22: =W22*G22 -> 0.087756 | AB22: =(W22*F22)/((BE$4+BE$5)*286.9)+273 -> 293.32954 | AD22: 0.766 | AE22: =AD23-AD22 -> 0.01 | AF22: =LOG(AD22) -> -0.11577123 | AG22: =AD22*100000 -> 76600 | AH22: =AG23-AG22 -> 1000 | AI22: =LOG(AG22) -> 4.8842288 | AJ22: =(AF23-AF22)/(E22-E23) -> -0.48023914 | AK22: =AG22*G22 -> 0.108772 | AL22: =(AG22*F22)/((BE$4+BE$5)*286.9)+273 -> 298.1981 | AN22: 1.034 | AO22: =(AN23-AN22) -> 0.003 | AP22: =LOG(AN22) -> 0.014520539 | AQ22: =AN22*100000 -> 103400 | AR22: =AQ23-AQ22 -> 300 | AS22: =LOG(AQ22) -> 5.0145205 | AT22: =(AP23-AP22)/(E22-E23) -> -0.10726976 | AU22: =AQ22*G22 -> 0.146828 | AV22: =(AQ22*F22)/((BE$4+BE$5)*286.9)+273 -> 307.01414
... B722: 358 | C722: 39.43 | D722: =C723-C722 -> -0.12 | E722: =LOG(C722) -> 1.5958268 | F722: =C722*10^-6 -> 3.943e-05 | G722: =F723-F722 -> -1.2e-07 | H722: =LOG(F722) -> -4.4041732 | J722: 1.056 | K722: =J723-J722 -> 0.022 | L722: =LOG(J722) -> 0.023663918 | M722: =J722*100000 -> 105600 | N722: =M723-M722 -> 2200 | O722: =LOG(M722) -> 5.0236639 | P722: =(L723-L722)/(E722-E723) -> 6.7648392 | Q722: =G722*M722 -> -0.012672 | R722: =(M722*F722)/((BE$4+BE$5)*286.9)+273 -> 299.40666 | T722: 1.019 | U722: =T723-T722 -> -0.05 | V722: =LOG(T722) -> 0.008174184 | W722: =T722*100000 -> 101900 | X722: =W723-W722 -> -5000 | Y722: =LOG(W722) -> 5.0081742 | Z722: =(V723-V722)/(E722-E723) -> -16.506654 | AA722: =W722*G722 -> -0.012228 | AB722: =(W722*F722)/((BE$4+BE$5)*286.9)+273 -> 298.48142 | AD722: 0.935 | AE722: =AD723-AD722 -> -0.022 | AF722: =LOG(AD722) -> -0.029188389 | AG722: =AD722*100000 -> 93500 | AH722: =AG723-AG722 -> -2200 | AI722: =LOG(AG722) -> 4.9708116 | AJ722: =(AF723-AF722)/(E722-E723) -> -7.8118709 | AK722: =AG722*G722 -> -0.01122 | AL722: =(AG722*F722)/((BE$4+BE$5)*286.9)+273 -> 296.38089 | AN722: 1 | AO722: =(AN723-AN722) -> 0.001 | AP722: =LOG(AN722) -> 0 | AQ722: =AN722*100000 -> 100000 | AR722: =AQ723-AQ722 -> 100 | AS722: =LOG(AQ722) -> 5 | AT722: =(AP723-AP722)/(E722-E723) -> 0.32791915 | AU722: =AQ722*G722 -> -0.012 | AV722: =(AQ722*F722)/((BE$4+BE$5)*286.9)+273 -> 298.0063
B723: 359 | C723: 39.31 | D723: =C4-C723 -> -0.04 | E723: =LOG(C723) -> 1.594503 | F723: =C723*10^-6 -> 3.931e-05 | G723: =F4-F723 -> -4e-08 | H723: =LOG(F723) -> -4.405497 | J723: 1.078 | K723: =J4-J723 -> 0.001 | L723: =LOG(J723) -> 0.032618761 | M723: =J723*100000 -> 107800 | N723: =M4-M723 -> 100 | O723: =LOG(M723) -> 5.0326188 | P723: =(L4-L723)/(E723-E4) -> 0.91075567 | Q723: =G723*M723 -> -0.004312 | R723: =(M723*F723)/((BE$4+BE$5)*286.9)+273 -> 299.87476 | T723: 0.969 | U723: =T4-T723 -> -0.048 | V723: =LOG(T723) -> -0.013676223 | W723: =T723*100000 -> 96900 | X723: =W724-W723 -> -96900 | Y723: =LOG(W723) -> 4.9863238 | Z723: =(V4-V723)/(E723-E4) -> -49.90279 | AA723: =W723*G723 -> -0.003876 | AB723: =(W723*F723)/((BE$4+BE$5)*286.9)+273 -> 297.15736 | AD723: 0.913 | AE723: =AD4-AD723 -> -0.012 | AF723: =LOG(AD723) -> -0.039529222 | AG723: =AD723*100000 -> 91300 | AH723: =AG4-AG723 -> -1200 | AI723: =LOG(AG723) -> 4.9604708 | AJ723: =(AF4-AF723)/(E723-E4) -> -12.995778 | AK723: =AG723*G723 -> -0.003652 | AL723: =(AG723*F723)/((BE$4+BE$5)*286.9)+273 -> 295.76127 | AN723: 1.001 | AO723: =(AN4-AN723) -> 0 | AP723: =LOG(AN723) -> 0.00043407748 | AQ723: =AN723*100000 -> 100100 | AR723: =AQ4-AQ723 -> 0 | AS723: =LOG(AQ723) -> 5.0004341 | AT723: =(AP724-AP723)/(E723-E724) -> -0.00027223371 | AU723: =AQ723*G723 -> -0.004004 | AV723: =(AQ723*F723)/((BE$4+BE$5)*286.9)+273 -> 297.95513

Sheet Graphs from Task 1 Data

Sheet Simulation
H2: C.A | I2: Piston Position | K2: Piston Velocity | L2: Piston Acceleration | N2: Volume (cc) | O2: Volume (m³) | P2: dV (m³) | R2: Pressure (Bar) | S2: dP (Bar) | T2: Pressure (Pa) | V2: MFB | W2: Burn Rate | X2: dQr (J) | Y2: Temp (K) | Z2: WD (J)
H3: -360 | I3: =($E$14+(0.5*$E$8)-((0.5*$E$8)*COS(RADIANS(H3))+(($E$14^2)-((0.5*$E$8)^2)*(SIN(RADIANS(H3))*(SIN(RADIANS(H3)))))^0.5))*1000 -> 0 | K3: =I4-I3 -> 0.0080268789 | L3: =K4-K3 -> 0.016049788 | N3: =O3*10^6 -> 39.27 | O3: 3.927e-05 | P3: =O4-O3 -> 4e-08 | R3: ='Task 1 RPM Data'!J4 -> 1.079 | S3: =R3-R2 -> #VALUE! | T3: =R3*100000 -> 107900 | V3: 0 | W3: =V4-V3 -> 0 | X3: =($C$30*W3)*$C$31*$C$34 -> 0 | Y3: 299.87231 | Z3: =T3*P3 -> 0.004316
H4: -359 | I4: =($E$14+(0.5*$E$8)-((0.5*$E$8)*COS(RADIANS(H4))+(($E$14^2)-((0.5*$E$8)^2)*(SIN(RADIANS(H4))*(SIN(RADIANS(H4)))))^0.5))*1000 -> 0.0080268789 | K4: =I5-I4 -> 0.024076667 | L4: =K5-K4 -> 0.016037879 | N4: =O4*10^6 -> 39.31 | O4: 3.931e-05 | P4: =O5-O4 -> 1.2e-07 | R4: ='Task 1 RPM Data'!J5 -> 1.06 | S4: =R4-R3 -> -0.019 | T4: =R4*100000 -> 106000 | V4: 0 | W4: =V5-V4 -> 0 | X4: =($C$30*W4)*$C$31*$C$34 -> 0 | Y4: 299.42601 | Z4: =T4*P4 -> 0.01272
B5: Spec | C5: Given Units | E5: SI Units | H5: -358 | I5: =($E$14+(0.5*$E$8)-((0.5*$E$8)*COS(RADIANS(H5))+(($E$14^2)-((0.5*$E$8)^2)*(SIN(RADIANS(H5))*(SIN(RADIANS(H5)))))^0.5))*1000 -> 0.032103546 | K5: =I6-I5 -> 0.040114546 | L5: =K6-K5 -> 0.01601804 | N5: =O5*10^6 -> 39.43 | O5: 3.943e-05 | P5: =O6-O5 -> 2e-07 | R5: ='Task 1 RPM Data'!J6 -> 1.025 | S5: =R5-R4 -> -0.035 | T5: =R5*100000 -> 102500 | V5: 0 | W5: =V6-V5 -> 0 | X5: =($C$30*W5)*$C$31*$C$34 -> 0 | Y5: 298.63146 | Z5: =T5*P5 -> 0.0205
B6: Comp Ratio | C6: 11 | H6: -357 | I6: =($E$14+(0.5*$E$8)-((0.5*$E$8)*COS(RADIANS(H6))+(($E$14^2)-((0.5*$E$8)^2)*(SIN(RADIANS(H6))*(SIN(RADIANS(H6)))))^0.5))*1000 -> 0.072218091 | K6: =I7-I6 -> 0.056132586 | L6: =K7-K6 -> 0.015990283 | N6: =O6*10^6 -> 39.63 | O6: 3.963e-05 | P6: =O7-O6 -> 2.7e-07 | R6: ='Task 1 RPM Data'!J7 -> 0.977 | S6: =R6-R5 -> -0.048 | T6: =R6*100000 -> 97700 | V6: 0 | W6: =V7-V6 -> 0 | X6: =($C$30*W6)*$C$31*$C$34 -> 0 | Y6: 297.55508 | Z6: =T6*P6 -> 0.026379
B7: Bore | C7: 79 | D7: mm | E7: =C7/1000 -> 0.079 | F7: m | H7: -356 | I7: =($E$14+(0.5*$E$8)-((0.5*$E$8)*COS(RADIANS(H7))+(($E$14^2)-((0.5*$E$8)^2)*(SIN(RADIANS(H7))*(SIN(RADIANS(H7)))))^0.5))*1000 -> 0.12835068 | K7: =I8-I7 -> 0.07212287 | L7: =K8-K7 -> 0.015954625 | N7: =O7*10^6 -> 39.9 | O7: 3.99e-05 | P7: =O8-O7 -> 3.6e-07 | R7: ='Task 1 RPM Data'!J8 -> 0.936 | S7: =R7-R6 -> -0.041 | T7: =R7*100000 -> 93600 | V7: 0 | W7: =V8-V7 -> 0 | X7: =($C$30*W7)*$C$31*$C$34 -> 0 | Y7: 296.6849 | Z7: =T7*P7 -> 0.033696
B8: Stroke | C8: 81.4 | D8: mm | E8: =C8/1000 -> 0.0814 | F8: m | H8: -355 | I8: =($E$14+(0.5*$E$8)-((0.5*$E$8)*COS(RADIANS(H8))+(($E$14^2)-((0.5*$E$8)^2)*(SIN(RADIANS(H8))*(SIN(RADIANS(H8)))))^0.5))*1000 -> 0.20047355 | K8: =I9-I8 -> 0.088077495 | L8: =K9-K8 -> 0.015911088 | N8: =O8*10^6 -> 40.26 | O8: 4.026e-05 | P8: =O9-O8 -> 4.3e-07 | R8: ='Task 1 RPM Data'!J9 -> 0.92 | S8: =R8-R7 -> -0.016 | T8: =R8*100000 -> 92000 | V8: 0 | W8: =V9-V8 -> 0 | X8: =($C$30*W8)*$C$31*$C$34 -> 0 | Y8: 296.49007 | Z8: =T8*P8 -> 0.03956
B9: Clearance V | C9: 39.9 | D9: cc | E9: =C9/1000000 -> 3.99e-05 | F9: m³ | H9: -354 | I9: =($E$14+(0.5*$E$8)-((0.5*$E$8)*COS(RADIANS(H9))+(($E$14^2)-((0.5*$E$8)^2)*(SIN(RADIANS(H9))*(SIN(RADIANS(H9)))))^0.5))*1000 -> 0.28855104 | K9: =I10-I9 -> 0.10398858 | L9: =K10-K9 -> 0.015859699 | N9: =O9*10^6 -> 40.69 | O9: 4.069e-05 | P9: =O10-O9 -> 5.1e-07 | R9: ='Task 1 RPM Data'!J10 -> 0.924 | S9: =R9-R8 -> 0.004 | T9: =R9*100000 -> 92400 | V9: 0 | W9: =V10-V9 -> 0 | X9: =($C$30*W9)*$C$31*$C$34 -> 0 | Y9: 296.84418 | Z9: =T9*P9 -> 0.047124
B10: swept V | C10: =(((PI()*(($C$7/2)*10^-3)^2)*($C$8*10^-3)))*10^6 -> 398.99593 | D10: cc | E10: =C10*10^-6 -> 0.00039899593 | F10: m³ | H10: -353 | I10: =($E$14+(0.5*$E$8)-((0.5*$E$8)*COS(RADIANS(H10))+(($E$14^2)-((0.5*$E$8)^2)*(SIN(RADIANS(H10))*(SIN(RADIANS(H10)))))^0.5))*1000 -> 0.39253963 | K10: =I11-I10 -> 0.11984828 | L10: =K11-K10 -> 0.01580049 | N10: =O10*10^6 -> 41.2 | O10: 4.12e-05 | P10: =O11-O10 -> 5.9e-07 | R10: ='Task 1 RPM Data'!J11 -> 0.91 | S10: =R10-R9 -> -0.014 | T10: =R10*100000 -> 91000 | V10: 0 | W10: =V11-V10 -> 0 | X10: =($C$30*W10)*$C$31*$C$34 -> 0 | Y10: 296.77723 | Z10: =T10*P10 -> 0.05369
B11: cylinders | C11: 4 | H11: -352 | I11: =($E$14+(0.5*$E$8)-((0.5*$E$8)*COS(RADIANS(H11))+(($E$14^2)-((0.5*$E$8)^2)*(SIN(RADIANS(H11))*(SIN(RADIANS(H11)))))^0.5))*1000 -> 0.51238791 | K11: =I12-I11 -> 0.13564877 | L11: =K12-K11 -> 0.015733498 | N11: =O11*10^6 -> 41.79 | O11: 4.179e-05 | P11: =O12-O11 -> 6.6e-07 | R11: ='Task 1 RPM Data'!J12 -> 0.874 | S11: =R11-R10 -> -0.036 | T11: =R11*100000 -> 87400 | V11: 0 | W11: =V12-V11 -> 0 | X11: =($C$30*W11)*$C$31*$C$34 -> 0 | Y11: 296.16363 | Z11: =T11*P11 -> 0.057684
B12: RPM | C12: 6000 | H12: -351 | I12: =($E$14+(0.5*$E$8)-((0.5*$E$8)*COS(RADIANS(H12))+(($E$14^2)-((0.5*$E$8)^2)*(SIN(RADIANS(H12))*(SIN(RADIANS(H12)))))^0.5))*1000 -> 0.64803668 | K12: =I13-I12 -> 0.15138227 | L12: =K13-K12 -> 0.015658765 | N12: =O12*10^6 -> 42.45 | O12: 4.245e-05 | P12: =O13-O12 -> 7.5e-07 | R12: ='Task 1 RPM Data'!J13 -> 0.837 | S12: =R12-R11 -> -0.037 | T12: =R12*100000 -> 83700 | V12: 0 | W12: =V13-V12 -> 0 | X12: =($C$30*W12)*$C$31*$C$34 -> 0 | Y12: 295.53336 | Z12: =T12*P12 -> 0.062775
B13: total cyl volume | C13: =C9+C10 -> 438.89593 | D13: m³ | H13: -350 | I13: =($E$14+(0.5*$E$8)-((0.5*$E$8)*COS(RADIANS(H13))+(($E$14^2)-((0.5*$E$8)^2)*(SIN(RADIANS(H13))*(SIN(RADIANS(H13)))))^0.5))*1000 -> 0.79941895 | K13: =I14-I13 -> 0.16704103 | L13: =K14-K13 -> 0.015576338 | N13: =O13*10^6 -> 43.2 | O13: 4.32e-05 | P13: =O14-O13 -> 8.2e-07 | R13: ='Task 1 RPM Data'!J14 -> 0.811 | S13: =R13-R12 -> -0.026 | T13: =R13*100000 -> 81100 | V13: 0 | W13: =V14-V13 -> 0 | X13: =($C$30*W13)*$C$31*$C$34 -> 0 | Y13: 295.21914 | Z13: =T13*P13 -> 0.066502
B14: Con Rod Length | C14: 138 | D14: mm | E14: =C14/1000 -> 0.138 | F14: m | H14: -349 | I14: =($E$14+(0.5*$E$8)-((0.5*$E$8)*COS(RADIANS(H14))+(($E$14^2)-((0.5*$E$8)^2)*(SIN(RADIANS(H14))*(SIN(RADIANS(H14)))))^0.5))*1000 -> 0.96645998 | K14: =I15-I14 -> 0.18261737 | L14: =K15-K14 -> 0.015486269 | N14: =O14*10^6 -> 44.02 | O14: 4.402e-05 | P14: =O15-O14 -> 8.9e-07 | R14: ='Task 1 RPM Data'!J15 -> 0.793 | S14: =R14-R13 -> -0.018 | T14: =R14*100000 -> 79300 | V14: 0 | W14: =V15-V14 -> 0 | X14: =($C$30*W14)*$C$31*$C$34 -> 0 | Y14: 295.13839 | Z14: =T14*P14 -> 0.070577
B15: Capacity | C15: 1596 | D15: cc | E15: =C15/1000000 -> 0.001596 | F15: m³ | H15: -348 | I15: =($E$14+(0.5*$E$8)-((0.5*$E$8)*COS(RADIANS(H15))+(($E$14^2)-((0.5*$E$8)^2)*(SIN(RADIANS(H15))*(SIN(RADIANS(H15)))))^0.5))*1000 -> 1.1490774 | K15: =I16-I15 -> 0.19810364 | L15: =K16-K15 -> 0.015388614 | N15: =O15*10^6 -> 44.91 | O15: 4.491e-05 | P15: =O16-O15 -> 9.8e-07 | R15: ='Task 1 RPM Data'!J16 -> 0.788 | S15: =R15-R14 -> -0.005 | T15: =R15*100000 -> 78800 | V15: 0 | W15: =V16-V15 -> 0 | X15: =($C$30*W15)*$C$31*$C$34 -> 0 | Y15: 295.44357 | Z15: =T15*P15 -> 0.077224
B16: Comb Start | C16: -12.5 | D16: Deg | H16: -347 | I16: =($E$14+(0.5*$E$8)-((0.5*$E$8)*COS(RADIANS(H16))+(($E$14^2)-((0.5*$E$8)^2)*(SIN(RADIANS(H16))*(SIN(RADIANS(H16)))))^0.5))*1000 -> 1.347181 | K16: =I17-I16 -> 0.21349226 | L16: =K17-K16 -> 0.015283434 | N16: =O16*10^6 -> 45.89 | O16: 4.589e-05 | P16: =O17-O16 -> 1.04e-06 | R16: ='Task 1 RPM Data'!J17 -> 0.806 | S16: =R16-R15 -> 0.018 | T16: =R16*100000 -> 80600 | V16: 0 | W16: =V17-V16 -> 0 | X16: =($C$30*W16)*$C$31*$C$34 -> 0 | Y16: 296.45718 | Z16: =T16*P16 -> 0.083824
B17: Comb End | C17: 38 | H17: -346 | I17: =($E$14+(0.5*$E$8)-((0.5*$E$8)*COS(RADIANS(H17))+(($E$14^2)-((0.5*$E$8)^2)*(SIN(RADIANS(H17))*(SIN(RADIANS(H17)))))^0.5))*1000 -> 1.5606733 | K17: =I18-I17 -> 0.22877569 | L17: =K18-K17 -> 0.015170797 | N17: =O17*10^6 -> 46.93 | O17: 4.693e-05 | P17: =O18-O17 -> 1.13e-06 | R17: ='Task 1 RPM Data'!J18 -> 0.836 | S17: =R17-R16 -> 0.03 | T17: =R17*100000 -> 83600 | V17: 0 | W17: =V18-V17 -> 0 | X17: =($C$30*W17)*$C$31*$C$34 -> 0 | Y17: 297.88167 | Z17: =T17*P17 -> 0.094468
B18: WD | C18: =SUM(Z183:Z542) -> 771.71754 | D18: J | H18: -345 | I18: =($E$14+(0.5*$E$8)-((0.5*$E$8)*COS(RADIANS(H18))+(($E$14^2)-((0.5*$E$8)^2)*(SIN(RADIANS(H18))*(SIN(RADIANS(H18)))))^0.5))*1000 -> 1.7894489 | K18: =I19-I18 -> 0.24394649 | L18: =K19-K18 -> 0.015050774 | N18: =O18*10^6 -> 48.06 | O18: 4.806e-05 | P18: =O19-O18 -> 1.2e-06 | R18: ='Task 1 RPM Data'!J19 -> 0.866 | S18: =R18-R17 -> 0.03 | T18: =R18*100000 -> 86600 | V18: 0 | W18: =V19-V18 -> 0 | X18: =($C$30*W18)*$C$31*$C$34 -> 0 | Y18: 299.39517 | Z18: =T18*P18 -> 0.10392
B19: Power | C19: =(C18*C12)/60 -> 77171.754 | D19: KW | H19: -344 | I19: =($E$14+(0.5*$E$8)-((0.5*$E$8)*COS(RADIANS(H19))+(($E$14^2)-((0.5*$E$8)^2)*(SIN(RADIANS(H19))*(SIN(RADIANS(H19)))))^0.5))*1000 -> 2.0333954 | K19: =I20-I19 -> 0.25899726 | L19: =K20-K19 -> 0.01492344 | N19: =O19*10^6 -> 49.26 | O19: 4.926e-05 | P19: =O20-O19 -> 1.27e-06 | R19: ='Task 1 RPM Data'!J20 -> 0.877 | S19: =R19-R18 -> 0.011 | T19: =R19*100000 -> 87700 | V19: 0 | W19: =V20-V19 -> 0 | X19: =($C$30*W19)*$C$31*$C$34 -> 0 | Y19: 300.39787 | Z19: =T19*P19 -> 0.111379
B20: Brake Horse Power | C20: =C19*0.000745699872 -> 57.546967 | D20: BHP | H20: -343 | I20: =($E$14+(0.5*$E$8)-((0.5*$E$8)*COS(RADIANS(H20))+(($E$14^2)-((0.5*$E$8)^2)*(SIN(RADIANS(H20))*(SIN(RADIANS(H20)))))^0.5))*1000 -> 2.2923927 | K20: =I21-I20 -> 0.2739207 | L20: =K21-K20 -> 0.014788878 | N20: =O20*10^6 -> 50.53 | O20: 5.053e-05 | P20: =O21-O20 -> 1.34e-06 | R20: ='Task 1 RPM Data'!J21 -> 0.876 | S20: =R20-R19 -> -0.001 | T20: =R20*100000 -> 87600 | V20: 0 | W20: =V21-V20 -> 0 | X20: =($C$30*W20)*$C$31*$C$34 -> 0 | Y20: 301.07218 | Z20: =T20*P20 -> 0.117384
B21: n Compression | C21: 1.3087 | H21: -342 | I21: =($E$14+(0.5*$E$8)-((0.5*$E$8)*COS(RADIANS(H21))+(($E$14^2)-((0.5*$E$8)^2)*(SIN(RADIANS(H21))*(SIN(RADIANS(H21)))))^0.5))*1000 -> 2.5663134 | K21: =I22-I21 -> 0.28870958 | L21: =K22-K21 -> 0.014647174 | N21: =O21*10^6 -> 51.87 | O21: 5.187e-05 | P21: =O22-O21 -> 1.42e-06 | R21: ='Task 1 RPM Data'!J22 -> 0.872 | S21: =R21-R20 -> -0.004 | T21: =R21*100000 -> 87200 | V21: 0 | W21: =V22-V21 -> 0 | X21: =($C$30*W21)*$C$31*$C$34 -> 0 | Y21: 301.68504 | Z21: =T21*P21 -> 0.123824
B22: n Expansion | C22: 1.3119 | H22: -341 | I22: =($E$14+(0.5*$E$8)-((0.5*$E$8)*COS(RADIANS(H22))+(($E$14^2)-((0.5*$E$8)^2)*(SIN(RADIANS(H22))*(SIN(RADIANS(H22)))))^0.5))*1000 -> 2.855023 | K22: =I23-I22 -> 0.30335675 | L22: =K23-K22 -> 0.014498417 | N22: =O22*10^6 -> 53.29 | O22: 5.329e-05 | P22: =O23-O22 -> 1.49e-06 | R22: ='Task 1 RPM Data'!J23 -> 0.856 | S22: =R22-R21 -> -0.016 | T22: =R22*100000 -> 85600 | V22: 0 | W22: =V23-V22 -> 0 | X22: =($C$30*W22)*$C$31*$C$34 -> 0 | Y22: 301.92959 | Z22: =T22*P22 -> 0.127544
B23: Wiebe a | C23: 5 | H23: -340 | I23: =($E$14+(0.5*$E$8)-((0.5*$E$8)*COS(RADIANS(H23))+(($E$14^2)-((0.5*$E$8)^2)*(SIN(RADIANS(H23))*(SIN(RADIANS(H23)))))^0.5))*1000 -> 3.1583797 | K23: =I24-I23 -> 0.31785517 | L23: =K24-K23 -> 0.014342706 | N23: =O23*10^6 -> 54.78 | O23: 5.478e-05 | P23: =O24-O23 -> 1.56e-06 | R23: ='Task 1 RPM Data'!J24 -> 0.833 | S23: =R23-R22 -> -0.023 | T23: =R23*100000 -> 83300 | V23: 0 | W23: =V24-V23 -> 0 | X23: =($C$30*W23)*$C$31*$C$34 -> 0 | Y23: 301.93942 | Z23: =T23*P23 -> 0.129948
B24: Wiebe m | C24: 1.85 | H24: -339 | I24: =($E$14+(0.5*$E$8)-((0.5*$E$8)*COS(RADIANS(H24))+(($E$14^2)-((0.5*$E$8)^2)*(SIN(RADIANS(H24))*(SIN(RADIANS(H24)))))^0.5))*1000 -> 3.4762349 | K24: =I25-I24 -> 0.33219788 | L24: =K25-K24 -> 0.01418014 | N24: =O24*10^6 -> 56.34 | O24: 5.634e-05 | P24: =O25-O24 -> 1.63e-06 | R24: ='Task 1 RPM Data'!J25 -> 0.803 | S24: =R24-R23 -> -0.03 | T24: =R24*100000 -> 80300 | V24: 0 | W24: =V25-V24 -> 0 | X24: =($C$30*W24)*$C$31*$C$34 -> 0 | Y24: 301.69162 | Z24: =T24*P24 -> 0.130889
B25: Bdur | C25: 60 | D25: Deg | H25: -338 | I25: =($E$14+(0.5*$E$8)-((0.5*$E$8)*COS(RADIANS(H25))+(($E$14^2)-((0.5*$E$8)^2)*(SIN(RADIANS(H25))*(SIN(RADIANS(H25)))))^0.5))*1000 -> 3.8084328 | K25: =I26-I25 -> 0.34637802 | L25: =K26-K25 -> 0.014010825 | N25: =O25*10^6 -> 57.97 | O25: 5.797e-05 | P25: =O26-O25 -> 1.7e-06 | R25: ='Task 1 RPM Data'!J26 -> 0.761 | S25: =R25-R24 -> -0.042 | T25: =R25*100000 -> 76100 | V25: 0 | W25: =V26-V25 -> 0 | X25: =($C$30*W25)*$C$31*$C$34 -> 0 | Y25: 300.97761 | Z25: =T25*P25 -> 0.12937
B26: Cyl V | C26: 0.000438 | D26: m³ | H26: -337 | I26: =($E$14+(0.5*$E$8)-((0.5*$E$8)*COS(RADIANS(H26))+(($E$14^2)-((0.5*$E$8)^2)*(SIN(RADIANS(H26))*(SIN(RADIANS(H26)))))^0.5))*1000 -> 4.1548108 | K26: =I27-I26 -> 0.36038884 | L26: =K27-K26 -> 0.013834871 | N26: =O26*10^6 -> 59.67 | O26: 5.967e-05 | P26: =O27-O26 -> 1.77e-06 | R26: ='Task 1 RPM Data'!J27 -> 0.728 | S26: =R26-R25 -> -0.033 | T26: =R26*100000 -> 72800 | V26: 0 | W26: =V27-V26 -> 0 | X26: =($C$30*W26)*$C$31*$C$34 -> 0 | Y26: 300.54927 | Z26: =T26*P26 -> 0.128856
B27: Air Density | C27: 1.2 | D27: kg/m³ | H27: -336 | I27: =($E$14+(0.5*$E$8)-((0.5*$E$8)*COS(RADIANS(H27))+(($E$14^2)-((0.5*$E$8)^2)*(SIN(RADIANS(H27))*(SIN(RADIANS(H27)))))^0.5))*1000 -> 4.5151996 | K27: =I28-I27 -> 0.37422371 | L27: =K28-K27 -> 0.013652394 | N27: =O27*10^6 -> 61.44 | O27: 6.144e-05 | P27: =O28-O27 -> 1.84e-06 | R27: ='Task 1 RPM Data'!J28 -> 0.7 | S27: =R27-R26 -> -0.028 | T27: =R27*100000 -> 70000 | V27: 0 | W27: =V28-V27 -> 0 | X27: =($C$30*W27)*$C$31*$C$34 -> 0 | Y27: 300.27545 | Z27: =T27*P27 -> 0.1288
B28: Air Mass | C28: 0.00046 | D28: kg/m³ | H28: -335 | I28: =($E$14+(0.5*$E$8)-((0.5*$E$8)*COS(RADIANS(H28))+(($E$14^2)-((0.5*$E$8)^2)*(SIN(RADIANS(H28))*(SIN(RADIANS(H28)))))^0.5))*1000 -> 4.8894233 | K28: =I29-I28 -> 0.38787611 | L28: =K29-K28 -> 0.013463514 | N28: =O28*10^6 -> 63.28 | O28: 6.328e-05 | P28: =O29-O28 -> 1.9e-06 | R28: ='Task 1 RPM Data'!J29 -> 0.68 | S28: =R28-R27 -> -0.02 | T28: =R28*100000 -> 68000 | V28: 0 | W28: =V29-V28 -> 0 | X28: =($C$30*W28)*$C$31*$C$34 -> 0 | Y28: 300.28966 | Z28: =T28*P28 -> 0.1292
B29: Fuel Ratio | C29: 14.7 | H29: -334 | I29: =($E$14+(0.5*$E$8)-((0.5*$E$8)*COS(RADIANS(H29))+(($E$14^2)-((0.5*$E$8)^2)*(SIN(RADIANS(H29))*(SIN(RADIANS(H29)))))^0.5))*1000 -> 5.2772994 | K29: =I30-I29 -> 0.40133962 | L29: =K30-K29 -> 0.013268356 | N29: =O29*10^6 -> 65.18 | O29: 6.518e-05 | P29: =O30-O29 -> 1.97e-06 | R29: ='Task 1 RPM Data'!J30 -> 0.666 | S29: =R29-R28 -> -0.014 | T29: =R29*100000 -> 66600 | V29: 0 | W29: =V30-V29 -> 0 | X29: =($C$30*W29)*$C$31*$C$34 -> 0 | Y29: 300.53032 | Z29: =T29*P29 -> 0.131202
B30: Fuel Mass | C30: 3.13e-05 | D30: kg | H30: -333 | I30: =($E$14+(0.5*$E$8)-((0.5*$E$8)*COS(RADIANS(H30))+(($E$14^2)-((0.5*$E$8)^2)*(SIN(RADIANS(H30))*(SIN(RADIANS(H30)))))^0.5))*1000 -> 5.6786391 | K30: =I31-I30 -> 0.41460798 | L30: =K31-K30 -> 0.013067049 | N30: =O30*10^6 -> 67.15 | O30: 6.715e-05 | P30: =O31-O30 -> 2.04e-06 | R30: ='Task 1 RPM Data'!J31 -> 0.657 | S30: =R30-R29 -> -0.009 | T30: =R30*100000 -> 65700 | V30: 0 | W30: =V31-V30 -> 0 | X30: =($C$30*W30)*$C$31*$C$34 -> 0 | Y30: 300.97912 | Z30: =T30*P30 -> 0.134028
B31: LHV | C31: 44000000 | D31: J/kg*K | H31: -332 | I31: =($E$14+(0.5*$E$8)-((0.5*$E$8)*COS(RADIANS(H31))+(($E$14^2)-((0.5*$E$8)^2)*(SIN(RADIANS(H31))*(SIN(RADIANS(H31)))))^0.5))*1000 -> 6.093247 | K31: =I32-I31 -> 0.42767502 | L31: =K32-K31 -> 0.012859728 | N31: =O31*10^6 -> 69.19 | O31: 6.919e-05 | P31: =O32-O31 -> 2.1e-06 | R31: ='Task 1 RPM Data'!J32 -> 0.657 | S31: =R31-R30 -> 0 | T31: =R31*100000 -> 65700 | V31: 0 | W31: =V32-V31 -> 0 | X31: =($C$30*W31)*$C$31*$C$34 -> 0 | Y31: 301.82912 | Z31: =T31*P31 -> 0.13797
B32: P Ambient | C32: 1.095 | D32: Bar | E32: =C32*100000 -> 109500 | F32: Pa | H32: -331 | I32: =($E$14+(0.5*$E$8)-((0.5*$E$8)*COS(RADIANS(H32))+(($E$14^2)-((0.5*$E$8)^2)*(SIN(RADIANS(H32))*(SIN(RADIANS(H32)))))^0.5))*1000 -> 6.5209221 | K32: =I33-I32 -> 0.44053475 | L32: =K33-K32 -> 0.012646531 | N32: =O32*10^6 -> 71.29 | O32: 7.129e-05 | P32: =O33-O32 -> 2.16e-06 | R32: ='Task 1 RPM Data'!J33 -> 0.659 | S32: =R32-R31 -> 0.002 | T32: =R32*100000 -> 65900 | V32: 0 | W32: =V33-V32 -> 0 | X32: =($C$30*W32)*$C$31*$C$34 -> 0 | Y32: 302.79454 | Z32: =T32*P32 -> 0.142344
B33: T Ambient | C33: 298 | D33: K | H33: -330 | I33: =($E$14+(0.5*$E$8)-((0.5*$E$8)*COS(RADIANS(H33))+(($E$14^2)-((0.5*$E$8)^2)*(SIN(RADIANS(H33))*(SIN(RADIANS(H33)))))^0.5))*1000 -> 6.9614568 | K33: =I34-I33 -> 0.45318128 | L33: =K34-K33 -> 0.012427602 | N33: =O33*10^6 -> 73.45 | O33: 7.345e-05 | P33: =O34-O33 -> 2.22e-06 | R33: ='Task 1 RPM Data'!J34 -> 0.674 | S33: =R33-R32 -> 0.015 | T33: =R33*100000 -> 67400 | V33: 0 | W33: =V34-V33 -> 0 | X33: =($C$30*W33)*$C$31*$C$34 -> 0 | Y33: 304.39601 | Z33: =T33*P33 -> 0.149628
B34: Comb Efficiency | C34: 0.9 | H34: -329 | I34: =($E$14+(0.5*$E$8)-((0.5*$E$8)*COS(RADIANS(H34))+(($E$14^2)-((0.5*$E$8)^2)*(SIN(RADIANS(H34))*(SIN(RADIANS(H34)))))^0.5))*1000 -> 7.4146381 | K34: =I35-I34 -> 0.46560889 | L34: =K35-K34 -> 0.01220309 | N34: =O34*10^6 -> 75.67 | O34: 7.567e-05 | P34: =O35-O34 -> 2.29e-06 | R34: ='Task 1 RPM Data'!J35 -> 0.673 | S34: =R34-R33 -> -0.001 | T34: =R34*100000 -> 67300 | V34: 0 | W34: =V35-V34 -> 0 | X34: =($C$30*W34)*$C$31*$C$34 -> 0 | Y34: 305.29695 | Z34: =T34*P34 -> 0.154117
B35: V Efficiency | C35: 0.9 | H35: -328 | I35: =($E$14+(0.5*$E$8)-((0.5*$E$8)*COS(RADIANS(H35))+(($E$14^2)-((0.5*$E$8)^2)*(SIN(RADIANS(H35))*(SIN(RADIANS(H35)))))^0.5))*1000 -> 7.880247 | K35: =I36-I35 -> 0.47781198 | L35: =K36-K35 -> 0.011973145 | N35: =O35*10^6 -> 77.96 | O35: 7.796e-05 | P35: =O36-O35 -> 2.35e-06 | R35: ='Task 1 RPM Data'!J36 -> 0.675 | S35: =R35-R34 -> 0.002 | T35: =R35*100000 -> 67500 | V35: 0 | W35: =V36-V35 -> 0 | X35: =($C$30*W35)*$C$31*$C$34 -> 0 | Y35: 306.37324 | Z35: =T35*P35 -> 0.158625
B36: Gamma | C36: 1.4 | D36: RSH | H36: -327 | I36: =($E$14+(0.5*$E$8)-((0.5*$E$8)*COS(RADIANS(H36))+(($E$14^2)-((0.5*$E$8)^2)*(SIN(RADIANS(H36))*(SIN(RADIANS(H36)))))^0.5))*1000 -> 8.358059 | K36: =I37-I36 -> 0.48978512 | L36: =K37-K36 -> 0.011737926 | N36: =O36*10^6 -> 80.31 | O36: 8.031e-05 | P36: =O37-O36 -> 2.4e-06 | R36: ='Task 1 RPM Data'!J37 -> 0.676 | S36: =R36-R35 -> 0.001 | T36: =R36*100000 -> 67600 | V36: 0 | W36: =V37-V36 -> 0 | X36: =($C$30*W36)*$C$31*$C$34 -> 0 | Y36: 307.43016 | Z36: =T36*P36 -> 0.16224
B37: R | C37: 286.9 | D37: J/kg*K | H37: -326 | I37: =($E$14+(0.5*$E$8)-((0.5*$E$8)*COS(RADIANS(H37))+(($E$14^2)-((0.5*$E$8)^2)*(SIN(RADIANS(H37))*(SIN(RADIANS(H37)))))^0.5))*1000 -> 8.8478441 | K37: =I38-I37 -> 0.50152305 | L37: =K38-K37 -> 0.011497594 | N37: =O37*10^6 -> 82.71 | O37: 8.271e-05 | P37: =O38-O37 -> 2.46e-06 | R37: ='Task 1 RPM Data'!J38 -> 0.676 | S37: =R37-R36 -> 0 | T37: =R37*100000 -> 67600 | V37: 0 | W37: =V38-V37 -> 0 | X37: =($C$30*W37)*$C$31*$C$34 -> 0 | Y37: 308.45908 | Z37: =T37*P37 -> 0.166296
B38: Lambda | C38: 1 | H38: -325 | I38: =($E$14+(0.5*$E$8)-((0.5*$E$8)*COS(RADIANS(H38))+(($E$14^2)-((0.5*$E$8)^2)*(SIN(RADIANS(H38))*(SIN(RADIANS(H38)))))^0.5))*1000 -> 9.3493671 | K38: =I39-I38 -> 0.51302064 | L38: =K39-K38 -> 0.011252313 | N38: =O38*10^6 -> 85.17 | O38: 8.517e-05 | P38: =O39-O38 -> 2.52e-06 | R38: ='Task 1 RPM Data'!J39 -> 0.664 | S38: =R38-R37 -> -0.012 | T38: =R38*100000 -> 66400 | V38: 0 | W38: =V39-V38 -> 0 | X38: =($C$30*W38)*$C$31*$C$34 -> 0 | Y38: 308.86555 | Z38: =T38*P38 -> 0.167328
H39: -324 | I39: =($E$14+(0.5*$E$8)-((0.5*$E$8)*COS(RADIANS(H39))+(($E$14^2)-((0.5*$E$8)^2)*(SIN(RADIANS(H39))*(SIN(RADIANS(H39)))))^0.5))*1000 -> 9.8623878 | K39: =I40-I39 -> 0.52427295 | L39: =K40-K39 -> 0.011002254 | N39: =O39*10^6 -> 87.69 | O39: 8.769e-05 | P39: =O40-O39 -> 2.57e-06 | R39: ='Task 1 RPM Data'!J40 -> 0.653 | S39: =R39-R38 -> -0.011 | T39: =R39*100000 -> 65300 | V39: 0 | W39: =V40-V39 -> 0 | X39: =($C$30*W39)*$C$31*$C$34 -> 0 | Y39: 309.31499 | Z39: =T39*P39 -> 0.167821
H40: -323 | I40: =($E$14+(0.5*$E$8)-((0.5*$E$8)*COS(RADIANS(H40))+(($E$14^2)-((0.5*$E$8)^2)*(SIN(RADIANS(H40))*(SIN(RADIANS(H40)))))^0.5))*1000 -> 10.386661 | K40: =I41-I40 -> 0.53527521 | L40: =K41-K40 -> 0.01074759 | N40: =O40*10^6 -> 90.26 | O40: 9.026e-05 | P40: =O41-O40 -> 2.63e-06 | R40: ='Task 1 RPM Data'!J41 -> 0.637 | S40: =R40-R39 -> -0.016 | T40: =R40*100000 -> 63700 | V40: 0 | W40: =V41-V40 -> 0 | X40: =($C$30*W40)*$C$31*$C$34 -> 0 | Y40: 309.46343 | Z40: =T40*P40 -> 0.167531
H41: -322 | I41: =($E$14+(0.5*$E$8)-((0.5*$E$8)*COS(RADIANS(H41))+(($E$14^2)-((0.5*$E$8)^2)*(SIN(RADIANS(H41))*(SIN(RADIANS(H41)))))^0.5))*1000 -> 10.921936 | K41: =I42-I41 -> 0.5460228 | L41: =K42-K41 -> 0.010488499 | N41: =O41*10^6 -> 92.89 | O41: 9.289e-05 | P41: =O42-O41 -> 2.68e-06 | R41: ='Task 1 RPM Data'!J42 -> 0.631 | S41: =R41-R40 -> -0.006 | T41: =R41*100000 -> 63100 | V41: 0 | W41: =V42-V41 -> 0 | X41: =($C$30*W41)*$C$31*$C$34 -> 0 | Y41: 310.17244 | Z41: =T41*P41 -> 0.169108
...
