Workbook
Name AGG: Sheet7!$A$12:$A$61
Name cross_tabs: 'Cross tabs2'!$A$1
Name cross_tabs: 'Cross tabs3'!$A$1
Name cross_tabs: 'Cross tabs1'!$A$1
Name CROSS_TABS_1: 'Cross tabs3'!$A$1
Name CROSS_TABS_1: 'Cross tabs2'!$A$1
Name CROSS_TABS_2: 'Cross tabs3'!$D$14
Name cross_tabs_3: 'Cross tabs5'!$A$14
Name cross_tabs_3: 'Cross tabs4'!$A$14
Name CROSS_TABS_4: 'Cross tabs5'!$B$14
Name CROSS_TABS_5: 'Cross tabs6'!$D$8
Name DATA1: 'Cross tabs1'!$A$17:$E$67
Name DATA1: 'Cross tabs2'!$A$17:$E$67
Name DATA1: 'Cross tabs3'!$A$17:$E$67
Name DATA1: Sheet2!$A$19:$E$69
Name DATA1: Sheet3!$A$19:$E$69
Name DATA1: Sheet1!$A$19:$E$69
Name QUART: Sheet7!$D$15:$E$18
Name RETURN_1: Sheet1!$H$17
Name return_2: Sheet2!$A$6
Name return_3: Sheet3!$A$5
Name RETURN_4: Sheet4!$A$6
Name RETURN_5: Sheet5!$G$15
Name RETURN_6: Sheet6!#REF!
Name RETURN_7: Sheet7!$G$15

Sheet CONTENTS
A1: TOPIC | B1: Subtopic | C1: Link
A3: Two Way Pivot (Contingency) Tables | C3: Two-way pivot tables (absolute count)
B4: Absolute count
A5: Two Way Pivot (Contingency) Tables | C5: Two-way pivot tables (percentage count)
B6: Percentage count
A7: Two Way Pivot (Contingency) Tables | C7: Changing the type of statistic calculated in the table
B8: Average
A9: Three Way Pivot (Contingency) Tables | C9: Three-way pivot tables
B10: Percentage count
A11: Refreshing Data in Contingency Tables | C11: Refreshing data
A13: Two Way Pivot (Contingency) Tables | C13: Further uses of pivot tables
B14: Average
A16: Categorizing Data with Contingency Tables | B16: Vlookup function | C16: Vlookup function

Sheet Sheet1
A1: CONTENTS | C1: Two-way pivot tables (absolute count)
B3: Contingency Tables (Cross Tabulation) using the Excel Pivot Table Routine
B4: In this sheet we have the marks data from the excel_2_descriptive statistics file.
B5: Additionally however we have added a field giving the gender (m or f) for each student.
B6: The addition of this extra field allows scope for further analysis in a variety of ways.
B7: For example, we can now calculate the pass and fail rates for the males and the females. | I7: NOTE
B9: To pursue this idea first of all select all the data (including the field headers). So select A19:E69.
B10: Now, from the main menu select Data and then Pivot Table. A wizard routine will be initiated.
B11: Accept the default for the first two wizard screens and on the third click Layout.
B12: Now, from the right hand side of this screen, drag the gender button into the row area and the verdict
B13: button into the column area. Finally, drag the verdict button into the central data area.
B14: By default Excel will show "count of verdict" and for the moment accept this by clicking ok.
B15: At the next screen select "existing worksheet" and define the output range as G19.
B16: Click Finish and the results should resemble those shown in the following link.
A17: 35 | B17: 35 | C17: 40 | G17: ='Cross tabs1'!AR7 | K17: Cross tabs 1
A18: 0.4 | B18: 0.6
A19: TEST 1 | B19: TEST 2 | C19: AGGREGATE | D19: VERDICT | E19: GENDER
A20: 57 | B20: 38 | C20: =$A$18*A20+$B$18*B20 -> 45.6 | D20: =IF((A20>=$A$17)*(B20>=$B$17)*(C20>=$C$17),"PASS","FAIL") -> PASS | E20: M
A21: 50 | B21: 34 | C21: =$A$18*A21+$B$18*B21 -> 40.4 | D21: =IF((A21>=$A$17)*(B21>=$B$17)*(C21>=$C$17),"PASS","FAIL") -> FAIL | E21: M
A22: 36 | B22: 69 | C22: =$A$18*A22+$B$18*B22 -> 55.8 | D22: =IF((A22>=$A$17)*(B22>=$B$17)*(C22>=$C$17),"PASS","FAIL") -> PASS | E22: F | G22: PROCEED TO SHEET 2 (Two-way pivot tables (percentage count))
A23: 47 | B23: 83 | C23: =$A$18*A23+$B$18*B23 -> 68.6 | D23: =IF((A23>=$A$17)*(B23>=$B$17)*(C23>=$C$17),"PASS","FAIL") -> PASS | E23: M
A24: 97 | B24: 66 | C24: =$A$18*A24+$B$18*B24 -> 78.4 | D24: =IF((A24>=$A$17)*(B24>=$B$17)*(C24>=$C$17),"PASS","FAIL") -> PASS | E24: F
A25: 92 | B25: 88 | C25: =$A$18*A25+$B$18*B25 -> 89.6 | D25: =IF((A25>=$A$17)*(B25>=$B$17)*(C25>=$C$17),"PASS","FAIL") -> PASS | E25: F
A26: 97 | B26: 90 | C26: =$A$18*A26+$B$18*B26 -> 92.8 | D26: =IF((A26>=$A$17)*(B26>=$B$17)*(C26>=$C$17),"PASS","FAIL") -> PASS | E26: F
A27: 4 | B27: 46 | C27: =$A$18*A27+$B$18*B27 -> 29.2 | D27: =IF((A27>=$A$17)*(B27>=$B$17)*(C27>=$C$17),"PASS","FAIL") -> FAIL | E27: M
A28: 6 | B28: 52 | C28: =$A$18*A28+$B$18*B28 -> 33.6 | D28: =IF((A28>=$A$17)*(B28>=$B$17)*(C28>=$C$17),"PASS","FAIL") -> FAIL | E28: M
A29: 81 | B29: 70 | C29: =$A$18*A29+$B$18*B29 -> 74.4 | D29: =IF((A29>=$A$17)*(B29>=$B$17)*(C29>=$C$17),"PASS","FAIL") -> PASS | E29: F
A30: 24 | B30: 90 | C30: =$A$18*A30+$B$18*B30 -> 63.6 | D30: =IF((A30>=$A$17)*(B30>=$B$17)*(C30>=$C$17),"PASS","FAIL") -> FAIL | E30: M
A31: 37 | B31: 6 | C31: =$A$18*A31+$B$18*B31 -> 18.4 | D31: =IF((A31>=$A$17)*(B31>=$B$17)*(C31>=$C$17),"PASS","FAIL") -> FAIL | E31: F
A32: 96 | B32: 88 | C32: =$A$18*A32+$B$18*B32 -> 91.2 | D32: =IF((A32>=$A$17)*(B32>=$B$17)*(C32>=$C$17),"PASS","FAIL") -> PASS | E32: M
A33: 70 | B33: 44 | C33: =$A$18*A33+$B$18*B33 -> 54.4 | D33: =IF((A33>=$A$17)*(B33>=$B$17)*(C33>=$C$17),"PASS","FAIL") -> PASS | E33: F
A34: 52 | B34: 11 | C34: =$A$18*A34+$B$18*B34 -> 27.4 | D34: =IF((A34>=$A$17)*(B34>=$B$17)*(C34>=$C$17),"PASS","FAIL") -> FAIL | E34: F
... A69: 81 | B69: 71 | C69: =$A$18*A69+$B$18*B69 -> 75 | D69: =IF((A69>=$A$17)*(B69>=$B$17)*(C69>=$C$17),"PASS","FAIL") -> PASS | E69: M

Sheet Sheet2
A1: CONTENTS | C1: Two-way pivot tables (percentage count)
B3: Changing the arithmetical format of the Pivot (Contingency) Table | AA3: Count of VERDICT | AB3: VERDICT
B4: The procedure carried out in Sheet1 calculates the absolute number of students | AA4: GENDER | AB4: FAIL | AC4: PASS | AD4: Grand Total
B5: in each of the categories - fail/female, fail/male, pass/female, pass/male. | AA5: F | AB5: 0.28 | AC5: 0.3 | AD5: 0.58
B6: However since these are absolute figures they do not provide us with pass or fail rates. | AA6: M | AB6: 0.2 | AC6: 0.22 | AD6: 0.42
B7: The pivot table from sheet1 is reproduced below and to obtain pass and fail rates we proceed | AA7: Grand Total | AB7: 0.48 | AC7: 0.52 | AD7: 1
B8: as follows.
B9: Double click on the G19 cell (count of verdict)
B10: A new screen will appear and from this select Options. | AB10: =IF(H21=AB5,1,0) -> 0 | AC10: =IF(I21=AC5,1,0) -> 0
B11: Now, under the "show data as" tab, scroll down and select % of total | AB11: =IF(H22=AB6,1,0) -> 0 | AC11: =IF(I22=AC6,1,0) -> 0
B12: Click ok and the results shown in the following link will be obtained. | K12: Cross tabs 2
AB13: =IF(SUM(AB10:AC11)=4,"CORRECT","")
B14: Notice that figure in I23 confirms the overall pass rate of 52% (26/50) that we calculated previously.
B15: However this more detailed analysis allows us to note that the female pass rate (30%) (15/50) exceeds
B16: the male pass rate (11/50 = 22%) by 8%.
A19: TEST 1 | B19: TEST 2 | C19: AGGREGATE | D19: VERDICT | E19: GENDER | G19: Count of VERDICT | H19: VERDICT
A20: =Sheet1!A20 -> 57 | B20: =Sheet1!B20 -> 38 | C20: =Sheet1!C20 -> 45.6 | D20: =Sheet1!D20 -> PASS | E20: =Sheet1!E20 -> M | G20: GENDER | H20: FAIL | I20: PASS | J20: Grand Total
A21: =Sheet1!A21 -> 50 | B21: =Sheet1!B21 -> 34 | C21: =Sheet1!C21 -> 40.4 | D21: =Sheet1!D21 -> FAIL | E21: =Sheet1!E21 -> M | G21: F | H21: 14 | I21: 15 | J21: 29
A22: =Sheet1!A22 -> 36 | B22: =Sheet1!B22 -> 69 | C22: =Sheet1!C22 -> 55.8 | D22: =Sheet1!D22 -> PASS | E22: =Sheet1!E22 -> F | G22: M | H22: 10 | I22: 11 | J22: 21
A23: =Sheet1!A23 -> 47 | B23: =Sheet1!B23 -> 83 | C23: =Sheet1!C23 -> 68.6 | D23: =Sheet1!D23 -> PASS | E23: =Sheet1!E23 -> M | G23: Grand Total | H23: 24 | I23: 26 | J23: 50
A24: =Sheet1!A24 -> 97 | B24: =Sheet1!B24 -> 66 | C24: =Sheet1!C24 -> 78.4 | D24: =Sheet1!D24 -> PASS | E24: =Sheet1!E24 -> F
A25: =Sheet1!A25 -> 92 | B25: =Sheet1!B25 -> 88 | C25: =Sheet1!C25 -> 89.6 | D25: =Sheet1!D25 -> PASS | E25: =Sheet1!E25 -> F
A26: =Sheet1!A26 -> 97 | B26: =Sheet1!B26 -> 90 | C26: =Sheet1!C26 -> 92.8 | D26: =Sheet1!D26 -> PASS | E26: =Sheet1!E26 -> F
A27: =Sheet1!A27 -> 4 | B27: =Sheet1!B27 -> 46 | C27: =Sheet1!C27 -> 29.2 | D27: =Sheet1!D27 -> FAIL | E27: =Sheet1!E27 -> M | G27: PROCEED TO SHEET 3 (Changing the type of statistic calculated in the table)
A28: =Sheet1!A28 -> 6 | B28: =Sheet1!B28 -> 52 | C28: =Sheet1!C28 -> 33.6 | D28: =Sheet1!D28 -> FAIL | E28: =Sheet1!E28 -> M
A29: =Sheet1!A29 -> 81 | B29: =Sheet1!B29 -> 70 | C29: =Sheet1!C29 -> 74.4 | D29: =Sheet1!D29 -> PASS | E29: =Sheet1!E29 -> F
A30: =Sheet1!A30 -> 24 | B30: =Sheet1!B30 -> 90 | C30: =Sheet1!C30 -> 63.6 | D30: =Sheet1!D30 -> FAIL | E30: =Sheet1!E30 -> M
A31: =Sheet1!A31 -> 37 | B31: =Sheet1!B31 -> 6 | C31: =Sheet1!C31 -> 18.4 | D31: =Sheet1!D31 -> FAIL | E31: =Sheet1!E31 -> F
A32: =Sheet1!A32 -> 96 | B32: =Sheet1!B32 -> 88 | C32: =Sheet1!C32 -> 91.2 | D32: =Sheet1!D32 -> PASS | E32: =Sheet1!E32 -> M
A33: =Sheet1!A33 -> 70 | B33: =Sheet1!B33 -> 44 | C33: =Sheet1!C33 -> 54.4 | D33: =Sheet1!D33 -> PASS | E33: =Sheet1!E33 -> F
A34: =Sheet1!A34 -> 52 | B34: =Sheet1!B34 -> 11 | C34: =Sheet1!C34 -> 27.4 | D34: =Sheet1!D34 -> FAIL | E34: =Sheet1!E34 -> F
A35: =Sheet1!A35 -> 46 | B35: =Sheet1!B35 -> 2 | C35: =Sheet1!C35 -> 19.6 | D35: =Sheet1!D35 -> FAIL | E35: =Sheet1!E35 -> F
A36: =Sheet1!A36 -> 93 | B36: =Sheet1!B36 -> 63 | C36: =Sheet1!C36 -> 75 | D36: =Sheet1!D36 -> PASS | E36: =Sheet1!E36 -> M
A37: =Sheet1!A37 -> 7 | B37: =Sheet1!B37 -> 83 | C37: =Sheet1!C37 -> 52.6 | D37: =Sheet1!D37 -> FAIL | E37: =Sheet1!E37 -> F
A38: =Sheet1!A38 -> 66 | B38: =Sheet1!B38 -> 46 | C38: =Sheet1!C38 -> 54 | D38: =Sheet1!D38 -> PASS | E38: =Sheet1!E38 -> F
A39: =Sheet1!A39 -> 94 | B39: =Sheet1!B39 -> 11 | C39: =Sheet1!C39 -> 44.2 | D39: =Sheet1!D39 -> FAIL | E39: =Sheet1!E39 -> F
... A69: =Sheet1!A69 -> 81 | B69: =Sheet1!B69 -> 71 | C69: =Sheet1!C69 -> 75 | D69: =Sheet1!D69 -> PASS | E69: =Sheet1!E69 -> M

Sheet Sheet3
A1: CONTENTS | C1: Changing the type of statistic calculated in the table
B3: Calculating different type of Statistics in the Pivot (Contingency) Table | AA3: Average of AGGREGATE | AB3: VERDICT
B4: The previous two sheets have calculated count and percentage count of verdict as | AA4: GENDER | AB4: FAIL | AC4: PASS | AD4: Grand Total
B5: the statistic in the central data area. However it is an easy matter to change both the | AA5: F | AB5: 38.8 | AC5: 71.173333 | AD5: 55.544828
B6: field variable and the type of statistic calculated in the central data area. | AA6: M | AB6: 35.68 | AC6: 74.490909 | AD6: 56.009524
B7: For example suppose that we required the average aggregate mark for each gender/ | AA7: Grand Total | AB7: 37.5 | AC7: 72.576923 | AD7: 55.74
B8: verdict combination. The pivot table from Sheet2 is reproduced below and can be modified as follows.
B9: To do this we must first of all remove the verdict field from the data area and then replace it | AB9: =IF(H21=AB5,1,0) -> 0 | AC9: =IF(I21=AC5,1,0) -> 0
B10: with the aggregate field. | AB10: =IF(H22=AB6,1,0) -> 0 | AC10: =IF(I22=AC6,1,0) -> 0
B11: So right click with the mouse anywhere on the table and from the menu that appears select Show Field List.
B12: Now drag the count of verdict button into this list. The pivot table will become empty. | AB12: =IF(SUM(AB9:AC10)=4,"CORRECT","")
B13: Next drag the aggregate field from the field list into the data area of the table.
B14: The aggregate field now shows in G19, but it will usually show sum of aggregate.
B15: So double left click on G19 and from the list that appears select average.
B16: The results should resemble those shown in the following link. | I16: Cross tabs 3
A19: TEST 1 | B19: TEST 2 | C19: AGGREGATE | D19: VERDICT | E19: GENDER | G19: Sum of VERDICT | H19: VERDICT
A20: =Sheet2!A20 -> 57 | B20: =Sheet2!B20 -> 38 | C20: =Sheet2!C20 -> 45.6 | D20: =Sheet2!D20 -> PASS | E20: =Sheet2!E20 -> M | G20: GENDER | H20: FAIL | I20: PASS | J20: Grand Total
A21: =Sheet2!A21 -> 50 | B21: =Sheet2!B21 -> 34 | C21: =Sheet2!C21 -> 40.4 | D21: =Sheet2!D21 -> FAIL | E21: =Sheet2!E21 -> M | G21: F | H21: 0 | I21: 0 | J21: 0
A22: =Sheet2!A22 -> 36 | B22: =Sheet2!B22 -> 69 | C22: =Sheet2!C22 -> 55.8 | D22: =Sheet2!D22 -> PASS | E22: =Sheet2!E22 -> F | G22: M | H22: 0 | I22: 0 | J22: 0
A23: =Sheet2!A23 -> 47 | B23: =Sheet2!B23 -> 83 | C23: =Sheet2!C23 -> 68.6 | D23: =Sheet2!D23 -> PASS | E23: =Sheet2!E23 -> M | G23: Grand Total | H23: 0 | I23: 0 | J23: 0
A24: =Sheet2!A24 -> 97 | B24: =Sheet2!B24 -> 66 | C24: =Sheet2!C24 -> 78.4 | D24: =Sheet2!D24 -> PASS | E24: =Sheet2!E24 -> F
A25: =Sheet2!A25 -> 92 | B25: =Sheet2!B25 -> 88 | C25: =Sheet2!C25 -> 89.6 | D25: =Sheet2!D25 -> PASS | E25: =Sheet2!E25 -> F
A26: =Sheet2!A26 -> 97 | B26: =Sheet2!B26 -> 90 | C26: =Sheet2!C26 -> 92.8 | D26: =Sheet2!D26 -> PASS | E26: =Sheet2!E26 -> F | G26: PROCEED TO SHEET 4 (Three-way pivot tables)
A27: =Sheet2!A27 -> 4 | B27: =Sheet2!B27 -> 46 | C27: =Sheet2!C27 -> 29.2 | D27: =Sheet2!D27 -> FAIL | E27: =Sheet2!E27 -> M
A28: =Sheet2!A28 -> 6 | B28: =Sheet2!B28 -> 52 | C28: =Sheet2!C28 -> 33.6 | D28: =Sheet2!D28 -> FAIL | E28: =Sheet2!E28 -> M
A29: =Sheet2!A29 -> 81 | B29: =Sheet2!B29 -> 70 | C29: =Sheet2!C29 -> 74.4 | D29: =Sheet2!D29 -> PASS | E29: =Sheet2!E29 -> F
A30: =Sheet2!A30 -> 24 | B30: =Sheet2!B30 -> 90 | C30: =Sheet2!C30 -> 63.6 | D30: =Sheet2!D30 -> FAIL | E30: =Sheet2!E30 -> M
A31: =Sheet2!A31 -> 37 | B31: =Sheet2!B31 -> 6 | C31: =Sheet2!C31 -> 18.4 | D31: =Sheet2!D31 -> FAIL | E31: =Sheet2!E31 -> F
A32: =Sheet2!A32 -> 96 | B32: =Sheet2!B32 -> 88 | C32: =Sheet2!C32 -> 91.2 | D32: =Sheet2!D32 -> PASS | E32: =Sheet2!E32 -> M
A33: =Sheet2!A33 -> 70 | B33: =Sheet2!B33 -> 44 | C33: =Sheet2!C33 -> 54.4 | D33: =Sheet2!D33 -> PASS | E33: =Sheet2!E33 -> F
A34: =Sheet2!A34 -> 52 | B34: =Sheet2!B34 -> 11 | C34: =Sheet2!C34 -> 27.4 | D34: =Sheet2!D34 -> FAIL | E34: =Sheet2!E34 -> F
A35: =Sheet2!A35 -> 46 | B35: =Sheet2!B35 -> 2 | C35: =Sheet2!C35 -> 19.6 | D35: =Sheet2!D35 -> FAIL | E35: =Sheet2!E35 -> F
A36: =Sheet2!A36 -> 93 | B36: =Sheet2!B36 -> 63 | C36: =Sheet2!C36 -> 75 | D36: =Sheet2!D36 -> PASS | E36: =Sheet2!E36 -> M
A37: =Sheet2!A37 -> 7 | B37: =Sheet2!B37 -> 83 | C37: =Sheet2!C37 -> 52.6 | D37: =Sheet2!D37 -> FAIL | E37: =Sheet2!E37 -> F
A38: =Sheet2!A38 -> 66 | B38: =Sheet2!B38 -> 46 | C38: =Sheet2!C38 -> 54 | D38: =Sheet2!D38 -> PASS | E38: =Sheet2!E38 -> F
... A69: =Sheet2!A69 -> 81 | B69: =Sheet2!B69 -> 71 | C69: =Sheet2!C69 -> 75 | D69: =Sheet2!D69 -> PASS | E69: =Sheet2!E69 -> M

Sheet Sheet4
A1: CONTENTS | C1: Three-way pivot tables
B3: Three way Pivot (Contingency) tables | AA3: Count of VERDICT | AC3: VERDICT
B4: The previous 3 sheets have created two way pivot tables (gender by verdict). | AA4: GENDER | AB4: GROUP | AC4: FAIL | AD4: PASS | AE4: Grand Total
B5: However, Excel can handle three, or even four way cross tabulation. | AA5: F | AB5: A | AC5: 0.1 | AD5: 0.18 | AE5: 0.28
B6: For example suppose that the 50 students had been members of two different study groups - A & B. | AB6: B | AC6: 0.18 | AD6: 0.12 | AE6: 0.3
B7: We have added data for this new field (group) to column F. | AA7: F Total | AC7: 0.28 | AD7: 0.3 | AE7: 0.58
B8: The task set is to cross tabulate verdict with both gender and study group and to return the | AA8: M | AB8: A | AC8: 0.1 | AD8: 0.12 | AE8: 0.22
B9: percentage pass rates as the statistic in the data area. | AB9: B | AC9: 0.1 | AD9: 0.1 | AE9: 0.2
B10: First of all expand the data range to include the additional field: so select A19:F69. | AA10: M Total | AC10: 0.2 | AD10: 0.22 | AE10: 0.42
B11: Now select Data, Pivot Table and accept the first two screens of the wizard. | AA11: Grand Total | AC11: 0.48 | AD11: 0.52 | AE11: 1
B12: At the third screen, select layout and then drag the verdict button into the column area.
B13: Next drag the gender and group fields into the row area.
B14: Now drag the verdict field into the central data area. Click OK. | AC14: =IF(I21=AC5,1,0) -> 0 | AD14: =IF(J21=AD5,1,0) -> 0
B15: Finally, at the next screen define the output range to be G19 and click Finish. | AC15: =IF(I22=AC6,1,0) -> 0 | AD15: =IF(J22=AD6,1,0) -> 0
B16: Excel will have produced an absolute count of verdict in the pivot table. However, to obtain | AC16: =IF(I23=AC7,1,0) -> 0 | AD16: =IF(J23=AD7,1,0) -> 0
B17: the percentage count proceed as before. Double click on G19, select options and then % of total. | AC17: =IF(I24=AC8,1,0) -> 0 | AD17: =IF(J24=AD8,1,0) -> 0
B18: The results should be the same as shown in the following link. | K18: Cross tabs 4 | AC18: =IF(I25=AC9,1,0) -> 0 | AD18: =IF(J25=AD9,1,0) -> 0
A19: TEST 1 | B19: TEST 2 | C19: AGGREGATE | D19: VERDICT | E19: GENDER | F19: GROUP | AC19: =IF(I26=AC10,1,0) -> 0 | AD19: =IF(J26=AD10,1,0) -> 0
A20: 57 | B20: 38 | C20: =Sheet3!C20 -> 45.6 | D20: =Sheet3!D20 -> PASS | E20: M | F20: A | AC20: =IF(I27=AC11,1,0) -> 0 | AD20: =IF(J27=AD11,1,0) -> 0
A21: 50 | B21: 34 | C21: =Sheet3!C21 -> 40.4 | D21: =Sheet3!D21 -> FAIL | E21: M | F21: A
A22: 36 | B22: 69 | C22: =Sheet3!C22 -> 55.8 | D22: =Sheet3!D22 -> PASS | E22: F | F22: A | AC22: =SUM(AC14:AD20) -> 0
A23: 47 | B23: 83 | C23: =Sheet3!C23 -> 68.6 | D23: =Sheet3!D23 -> PASS | E23: M | F23: A | I23: PROCEED TO SHEET 5 (Refreshing data) | AC23: =IF(AC22=14,"CORRECT","")
A24: 97 | B24: 66 | C24: =Sheet3!C24 -> 78.4 | D24: =Sheet3!D24 -> PASS | E24: F | F24: A
A25: 92 | B25: 88 | C25: =Sheet3!C25 -> 89.6 | D25: =Sheet3!D25 -> PASS | E25: F | F25: A
A26: 97 | B26: 90 | C26: =Sheet3!C26 -> 92.8 | D26: =Sheet3!D26 -> PASS | E26: F | F26: A
A27: 4 | B27: 46 | C27: =Sheet3!C27 -> 29.2 | D27: =Sheet3!D27 -> FAIL | E27: M | F27: A
A28: 6 | B28: 52 | C28: =Sheet3!C28 -> 33.6 | D28: =Sheet3!D28 -> FAIL | E28: M | F28: A
A29: 81 | B29: 70 | C29: =Sheet3!C29 -> 74.4 | D29: =Sheet3!D29 -> PASS | E29: F | F29: A
A30: 24 | B30: 90 | C30: =Sheet3!C30 -> 63.6 | D30: =Sheet3!D30 -> FAIL | E30: M | F30: A
A31: 37 | B31: 6 | C31: =Sheet3!C31 -> 18.4 | D31: =Sheet3!D31 -> FAIL | E31: F | F31: A | G31: =AC23
A32: 96 | B32: 88 | C32: =Sheet3!C32 -> 91.2 | D32: =Sheet3!D32 -> PASS | E32: M | F32: A
A33: 70 | B33: 44 | C33: =Sheet3!C33 -> 54.4 | D33: =Sheet3!D33 -> PASS | E33: F | F33: A
A34: 52 | B34: 11 | C34: =Sheet3!C34 -> 27.4 | D34: =Sheet3!D34 -> FAIL | E34: F | F34: A
A35: 46 | B35: 2 | C35: =Sheet3!C35 -> 19.6 | D35: =Sheet3!D35 -> FAIL | E35: F | F35: A
A36: 93 | B36: 63 | C36: =Sheet3!C36 -> 75 | D36: =Sheet3!D36 -> PASS | E36: M | F36: A
A37: 7 | B37: 83 | C37: =Sheet3!C37 -> 52.6 | D37: =Sheet3!D37 -> FAIL | E37: F | F37: A
A38: 66 | B38: 46 | C38: =Sheet3!C38 -> 54 | D38: =Sheet3!D38 -> PASS | E38: F | F38: A
A39: 94 | B39: 11 | C39: =Sheet3!C39 -> 44.2 | D39: =Sheet3!D39 -> FAIL | E39: F | F39: A
A40: 71 | B40: 50 | C40: =Sheet3!C40 -> 58.4 | D40: =Sheet3!D40 -> PASS | E40: M | F40: A
A41: 85 | B41: 91 | C41: =Sheet3!C41 -> 88.6 | D41: =Sheet3!D41 -> PASS | E41: F | F41: A
...

Sheet Sheet5
A1: CONTENTS | C1: Refreshing data
B3: Refreshing Data in a Pivot (Contingency) Table
B4: The pivot table created in Sheet4 is reproduced below.
B5: Now suppose that due to a marking error the marks for Test 1 are to be
B6: universally raised by 15 marks or to 100 (if an extra 15 marks would exceed 100).
B7: This has been effected in the data set below
B8: Clearly the pivot table is no longer necessarily correct (as you will see the overall pass rate rises to 58%).
B9: But do we need to go through the entire pivot table procedure again in order
B10: to accommodate these changed marks?
B11: The answer is "no".
B12: Simply right click anywhere on the pivot table and select Refresh Data
B13: The results shown in the following link will be obtained. | L13: Cross tabs 5
D18: ='Cross tabs5'!U14 -> INCORRECT
A19: TEST 1 | B19: TEST 2 | C19: AGGREGATE | D19: VERDICT | E19: GENDER | F19: GROUP | G19: Count of VERDICT | I19: VERDICT
A20: 72 | B20: 38 | C20: =A20*0.4+B20*0.6 -> 51.6 | D20: =IF((A20>35)*(B20>35)*(C20>40),"PASS","FAIL") -> PASS | E20: M | F20: A | G20: GENDER | H20: GROUP | I20: FAIL | J20: PASS | K20: Grand Total
A21: 65 | B21: 34 | C21: =A21*0.4+B21*0.6 -> 46.4 | D21: =IF((A21>35)*(B21>35)*(C21>40),"PASS","FAIL") -> FAIL | E21: M | F21: A | G21: F | H21: A | I21: 0.1 | J21: 0.18 | K21: 0.28
A22: 51 | B22: 69 | C22: =A22*0.4+B22*0.6 -> 61.8 | D22: =IF((A22>35)*(B22>35)*(C22>40),"PASS","FAIL") -> PASS | E22: F | F22: A | H22: B | I22: 0.18 | J22: 0.12 | K22: 0.3
A23: 62 | B23: 83 | C23: =A23*0.4+B23*0.6 -> 74.6 | D23: =IF((A23>35)*(B23>35)*(C23>40),"PASS","FAIL") -> PASS | E23: M | F23: A | G23: F Total | I23: 0.28 | J23: 0.3 | K23: 0.58
A24: 100 | B24: 66 | C24: =A24*0.4+B24*0.6 -> 79.6 | D24: =IF((A24>35)*(B24>35)*(C24>40),"PASS","FAIL") -> PASS | E24: F | F24: A | G24: M | H24: A | I24: 0.1 | J24: 0.12 | K24: 0.22
A25: 100 | B25: 88 | C25: =A25*0.4+B25*0.6 -> 92.8 | D25: =IF((A25>35)*(B25>35)*(C25>40),"PASS","FAIL") -> PASS | E25: F | F25: A | H25: B | I25: 0.1 | J25: 0.1 | K25: 0.2
A26: 100 | B26: 90 | C26: =A26*0.4+B26*0.6 -> 94 | D26: =IF((A26>35)*(B26>35)*(C26>40),"PASS","FAIL") -> PASS | E26: F | F26: A | G26: M Total | I26: 0.2 | J26: 0.22 | K26: 0.42
A27: 19 | B27: 46 | C27: =A27*0.4+B27*0.6 -> 35.2 | D27: =IF((A27>35)*(B27>35)*(C27>40),"PASS","FAIL") -> FAIL | E27: M | F27: A | G27: Grand Total | I27: 0.48 | J27: 0.52 | K27: 1
A28: 21 | B28: 52 | C28: =A28*0.4+B28*0.6 -> 39.6 | D28: =IF((A28>35)*(B28>35)*(C28>40),"PASS","FAIL") -> FAIL | E28: M | F28: A
A29: 96 | B29: 70 | C29: =A29*0.4+B29*0.6 -> 80.4 | D29: =IF((A29>35)*(B29>35)*(C29>40),"PASS","FAIL") -> PASS | E29: F | F29: A
A30: 39 | B30: 90 | C30: =A30*0.4+B30*0.6 -> 69.6 | D30: =IF((A30>35)*(B30>35)*(C30>40),"PASS","FAIL") -> PASS | E30: M | F30: A
A31: 52 | B31: 6 | C31: =A31*0.4+B31*0.6 -> 24.4 | D31: =IF((A31>35)*(B31>35)*(C31>40),"PASS","FAIL") -> FAIL | E31: F | F31: A
A32: 100 | B32: 88 | C32: =A32*0.4+B32*0.6 -> 92.8 | D32: =IF((A32>35)*(B32>35)*(C32>40),"PASS","FAIL") -> PASS | E32: M | F32: A | I32: PROCEED TO SHEET 6 (Further uses of pivot tables)
A33: 85 | B33: 44 | C33: =A33*0.4+B33*0.6 -> 60.4 | D33: =IF((A33>35)*(B33>35)*(C33>40),"PASS","FAIL") -> PASS | E33: F | F33: A
A34: 67 | B34: 11 | C34: =A34*0.4+B34*0.6 -> 33.4 | D34: =IF((A34>35)*(B34>35)*(C34>40),"PASS","FAIL") -> FAIL | E34: F | F34: A
A35: 61 | B35: 2 | C35: =A35*0.4+B35*0.6 -> 25.6 | D35: =IF((A35>35)*(B35>35)*(C35>40),"PASS","FAIL") -> FAIL | E35: F | F35: A
A36: 100 | B36: 63 | C36: =A36*0.4+B36*0.6 -> 77.8 | D36: =IF((A36>35)*(B36>35)*(C36>40),"PASS","FAIL") -> PASS | E36: M | F36: A
A37: 22 | B37: 83 | C37: =A37*0.4+B37*0.6 -> 58.6 | D37: =IF((A37>35)*(B37>35)*(C37>40),"PASS","FAIL") -> FAIL | E37: F | F37: A
A38: 81 | B38: 46 | C38: =A38*0.4+B38*0.6 -> 60 | D38: =IF((A38>35)*(B38>35)*(C38>40),"PASS","FAIL") -> PASS | E38: F | F38: A
A39: 100 | B39: 11 | C39: =A39*0.4+B39*0.6 -> 46.6 | D39: =IF((A39>35)*(B39>35)*(C39>40),"PASS","FAIL") -> FAIL | E39: F | F39: A
A40: 86 | B40: 50 | C40: =A40*0.4+B40*0.6 -> 64.4 | D40: =IF((A40>35)*(B40>35)*(C40>40),"PASS","FAIL") -> PASS | E40: M | F40: A
A41: 100 | B41: 91 | C41: =A41*0.4+B41*0.6 -> 94.6 | D41: =IF((A41>35)*(B41>35)*(C41>40),"PASS","FAIL") -> PASS | E41: F | F41: A
A42: 100 | B42: 91 | C42: =A42*0.4+B42*0.6 -> 94.6 | D42: =IF((A42>35)*(B42>35)*(C42>40),"PASS","FAIL") -> PASS | E42: M | F42: A
A43: 15 | B43: 56 | C43: =A43*0.4+B43*0.6 -> 39.6 | D43: =IF((A43>35)*(B43>35)*(C43>40),"PASS","FAIL") -> FAIL | E43: M | F43: A
A44: 97 | B44: 57 | C44: =A44*0.4+B44*0.6 -> 73 | D44: =IF((A44>35)*(B44>35)*(C44>40),"PASS","FAIL") -> PASS | E44: F | F44: A
... A69: 96 | B69: 71 | C69: =A69*0.4+B69*0.6 -> 81 | D69: =IF((A69>35)*(B69>35)*(C69>40),"PASS","FAIL") -> PASS | E69: M | F69: B
...

Sheet Sheet6
A1: CONTENTS | C1: Further uses of pivot tables
AA3: Average of AGGREGATE | AB3: GROUP
C4: Further uses for Pivot (Contingency) Tables | AA4: GENDER | AB4: A | AC4: B | AD4: Grand Total
C5: In this sheet we have the (amended) data from Sheet5 | AA5: F | AB5: 63.228571 | AC5: 58.133333 | AD5: 60.593103
C6: Using gender as the row field and group as the column field. the task is to prepare | AA6: M | AB6: 62.381818 | AC6: 59.24 | AD6: 60.885714
C7: a Pivot Table that will calculate the average aggregate mark for each gender/group | AA7: Grand Total | AB7: 62.856 | AC7: 58.576 | AD7: 60.716
C8: combination
C9: Output the pivot table to G17.
C10: The results should resemble those shown in the following link. | J10: Cross tabs 6 | AB10: =IF(AB5=H18,1,0) -> 0 | AC10: =IF(AC5=I18,1,0) -> 0
AB11: =IF(AB6=H19,1,0) -> 0 | AC11: =IF(AC6=I19,1,0) -> 0
G13: ='Cross tabs6'!R8
A17: TEST 1 | B17: TEST 2 | C17: AGGREGATE | D17: VERDICT | E17: GENDER | F17: GROUP
A18: 72 | B18: 38 | C18: =A18*0.4+B18*0.6 -> 51.6 | D18: =IF((A18>35)*(B18>35)*(C18>40),"PASS","FAIL") -> PASS | E18: M | F18: A
A19: 65 | B19: 34 | C19: =A19*0.4+B19*0.6 -> 46.4 | D19: =IF((A19>35)*(B19>35)*(C19>40),"PASS","FAIL") -> FAIL | E19: M | F19: A | H19: PROCEED TO SHEET 7 (Vlookup function)
A20: 51 | B20: 69 | C20: =A20*0.4+B20*0.6 -> 61.8 | D20: =IF((A20>35)*(B20>35)*(C20>40),"PASS","FAIL") -> PASS | E20: F | F20: A
A21: 62 | B21: 83 | C21: =A21*0.4+B21*0.6 -> 74.6 | D21: =IF((A21>35)*(B21>35)*(C21>40),"PASS","FAIL") -> PASS | E21: M | F21: A
A22: 100 | B22: 66 | C22: =A22*0.4+B22*0.6 -> 79.6 | D22: =IF((A22>35)*(B22>35)*(C22>40),"PASS","FAIL") -> PASS | E22: F | F22: A
A23: 100 | B23: 88 | C23: =A23*0.4+B23*0.6 -> 92.8 | D23: =IF((A23>35)*(B23>35)*(C23>40),"PASS","FAIL") -> PASS | E23: F | F23: A
A24: 100 | B24: 90 | C24: =A24*0.4+B24*0.6 -> 94 | D24: =IF((A24>35)*(B24>35)*(C24>40),"PASS","FAIL") -> PASS | E24: F | F24: A
A25: 19 | B25: 46 | C25: =A25*0.4+B25*0.6 -> 35.2 | D25: =IF((A25>35)*(B25>35)*(C25>40),"PASS","FAIL") -> FAIL | E25: M | F25: A
A26: 21 | B26: 52 | C26: =A26*0.4+B26*0.6 -> 39.6 | D26: =IF((A26>35)*(B26>35)*(C26>40),"PASS","FAIL") -> FAIL | E26: M | F26: A
A27: 96 | B27: 70 | C27: =A27*0.4+B27*0.6 -> 80.4 | D27: =IF((A27>35)*(B27>35)*(C27>40),"PASS","FAIL") -> PASS | E27: F | F27: A
A28: 39 | B28: 90 | C28: =A28*0.4+B28*0.6 -> 69.6 | D28: =IF((A28>35)*(B28>35)*(C28>40),"PASS","FAIL") -> PASS | E28: M | F28: A
A29: 52 | B29: 6 | C29: =A29*0.4+B29*0.6 -> 24.4 | D29: =IF((A29>35)*(B29>35)*(C29>40),"PASS","FAIL") -> FAIL | E29: F | F29: A
A30: 100 | B30: 88 | C30: =A30*0.4+B30*0.6 -> 92.8 | D30: =IF((A30>35)*(B30>35)*(C30>40),"PASS","FAIL") -> PASS | E30: M | F30: A
A31: 85 | B31: 44 | C31: =A31*0.4+B31*0.6 -> 60.4 | D31: =IF((A31>35)*(B31>35)*(C31>40),"PASS","FAIL") -> PASS | E31: F | F31: A
... A67: 96 | B67: 71 | C67: =A67*0.4+B67*0.6 -> 81 | D67: =IF((A67>35)*(B67>35)*(C67>40),"PASS","FAIL") -> PASS | E67: M | F67: B

Sheet Sheet7
A1: CONTENTS | C1: Vlookup function
B3: Using the VLOOKUP function to categorize numerical data for use in Pivot (Contingency) tables | AA3: =VLOOKUP(A12,QUART,2) -> Q2 | AB3: =IF(AA3=B12,1,0) -> 0 | AC3: =SUM(AB3:AB52) -> 0 | AE3: Count of GENDER | AF3: GENDER
B4: With naturally Categorical data like gender or verdict, each field variable can only adopt either of two values | AA4: =VLOOKUP(A13,QUART,2) -> Q2 | AB4: =IF(AA4=B13,1,0) -> 0 | AE4: QUARTILE | AF4: F | AG4: M | AH4: Grand Total
B5: and so the pivot table will contain 2x2 = 4 cells. However with Numerical data such as the aggregate mark - | AA5: =VLOOKUP(A14,QUART,2) -> Q3 | AB5: =IF(AA5=B14,1,0) -> 0 | AE5: Q1 | AF5: 7 | AG5: 6 | AH5: 13
B6: -where there are a large number of different values - then using this field variable as a row or column | AA6: =VLOOKUP(A15,QUART,2) -> Q3 | AB6: =IF(AA6=B15,1,0) -> 0 | AC6: =IF(AC3=50,"CORRECT","") | AE6: Q2 | AF6: 8 | AG6: 4 | AH6: 12
B7: item will create enormous pivot tables. | AA7: =VLOOKUP(A16,QUART,2) -> Q4 | AB7: =IF(AA7=B16,1,0) -> 0 | AE7: Q3 | AF7: 8 | AG7: 4 | AH7: 12
B8: One solution is to categorize the numerical data - but what should be the basis of the categories? | AA8: =VLOOKUP(A17,QUART,2) -> Q4 | AB8: =IF(AA8=B17,1,0) -> 0 | AE8: Q4 | AF8: 6 | AG8: 7 | AH8: 13
A9: =AC6 | B9: One simple solution would be to classify the marks into bands of 25 marks, but a better approach is to | AA9: =VLOOKUP(A18,QUART,2) -> Q4 | AB9: =IF(AA9=B18,1,0) -> 0 | AE9: Grand Total | AF9: 29 | AG9: 21 | AH9: 50
B10: use the data quartiles to give us four categories. | AA10: =VLOOKUP(A19,QUART,2) -> Q1 | AB10: =IF(AA10=B19,1,0) -> 0
A11: AGGREGATE | B11: QUARTILE | C11: GENDER | D11: The aggregate marks have been reproduced in the A12:A61 range and named as AGG. | AA11: =VLOOKUP(A20,QUART,2) -> Q1 | AB11: =IF(AA11=B20,1,0) -> 0
A12: 45.6 | C12: M | D12: The next step is to create a table containing the quartiles. This has been done in the | AA12: =VLOOKUP(A21,QUART,2) -> Q3 | AB12: =IF(AA12=B21,1,0) -> 0 | AF12: =IF(GETPIVOTDATA("GENDER",$AE$3,"QUARTILE","Q1","GENDER","F")=F30,1,0) -> 0 | AG12: =IF(GETPIVOTDATA("GENDER",$AE$3,"QUARTILE","Q1","GENDER","M")=G30,1,0) -> 0
A13: 40.4 | C13: M | D13: D15:E15 range below and this table named as Quart. Notice that the entry in D15 is simply | AA13: =VLOOKUP(A22,QUART,2) -> Q3 | AB13: =IF(AA13=B22,1,0) -> 0 | AF13: =IF(GETPIVOTDATA("GENDER",$AE$3,"QUARTILE","Q2","GENDER","F")=F31,1,0) -> 0 | AG13: =IF(GETPIVOTDATA("GENDER",$AE$3,"QUARTILE","Q2","GENDER","M")=G31,1,0) -> 0
A14: 55.8 | C14: F | D14: zero while D15:D17 contain the Excel functions for the first second and third quartiles. | AA14: =VLOOKUP(A23,QUART,2) -> Q1 | AB14: =IF(AA14=B23,1,0) -> 0 | AF14: =IF(GETPIVOTDATA("GENDER",$AE$3,"QUARTILE","Q3","GENDER","F")=F32,1,0) -> 0 | AG14: =IF(GETPIVOTDATA("GENDER",$AE$3,"QUARTILE","Q3","GENDER","M")=G32,1,0) -> 0
A15: 68.6 | C15: M | D15: 0 | E15: Q1 | AA15: =VLOOKUP(A24,QUART,2) -> Q4 | AB15: =IF(AA15=B24,1,0) -> 0 | AF15: =IF(GETPIVOTDATA("GENDER",$AE$3,"QUARTILE","Q4","GENDER","F")=F33,1,0) -> 0 | AG15: =IF(GETPIVOTDATA("GENDER",$AE$3,"QUARTILE","Q4","GENDER","M")=G33,1,0) -> 0
A16: 78.4 | C16: F | D16: =QUARTILE(AGG,1) -> 37.55 | E16: Q2 | AA16: =VLOOKUP(A25,QUART,2) -> Q2 | AB16: =IF(AA16=B25,1,0) -> 0
A17: 89.6 | C17: F | D17: =QUARTILE(AGG,2) -> 55.1 | E17: Q3 | F17: We are now going to use a vlookup function in B12 to | AA17: =VLOOKUP(A26,QUART,2) -> Q1 | AB17: =IF(AA17=B26,1,0) -> 0 | AF17: =IF((ISERR(AF12))+(SUM(AF12:AG15))<>8,"INCORRECT",IF(SUM(AF12:AG15)=8,"CORRECT","")) -> INCORRECT
A18: 92.8 | C18: F | D18: =QUARTILE(AGG,3) -> 74.85 | E18: Q4 | F18: classify the first aggregate mark as being in either Q1,Q2, Q3 or Q4 | AA18: =VLOOKUP(A27,QUART,2) -> Q1 | AB18: =IF(AA18=B27,1,0) -> 0
A19: 29.2 | C19: M | F19: The function to do this is: | AA19: =VLOOKUP(A28,QUART,2) -> Q4 | AB19: =IF(AA19=B28,1,0) -> 0
A20: 33.6 | C20: M | F20: =VLOOKUP(A12,QUART,2) | AA20: =VLOOKUP(A29,QUART,2) -> Q2 | AB20: =IF(AA20=B29,1,0) -> 0
A21: 74.4 | C21: F | F21: Enter this now to B12 and copy down to B61. | AA21: =VLOOKUP(A30,QUART,2) -> Q2 | AB21: =IF(AA21=B30,1,0) -> 0
A22: 63.6 | C22: M | E22: With the aggregate marks now categorized into their quartiles, we can now | AA22: =VLOOKUP(A31,QUART,2) -> Q2 | AB22: =IF(AA22=B31,1,0) -> 0
A23: 18.4 | C23: F | E23: perform a cross tabulation of quartile with gender. Use quartile as the row | AA23: =VLOOKUP(A32,QUART,2) -> Q3 | AB23: =IF(AA23=B32,1,0) -> 0
A24: 91.2 | C24: M | E24: item, gender as the column item and absolute count of gender in the main data area. | AA24: =VLOOKUP(A33,QUART,2) -> Q4 | AB24: =IF(AA24=B33,1,0) -> 0
A25: 54.4 | C25: F | E25: Output the table to E28. | G25: Click on the following link for the solution. | AA25: =VLOOKUP(A34,QUART,2) -> Q4 | AB25: =IF(AA25=B34,1,0) -> 0
A26: 27.4 | C26: F | K26: Cross tabs 7 | AA26: =VLOOKUP(A35,QUART,2) -> Q1 | AB26: =IF(AA26=B35,1,0) -> 0
A27: 19.6 | C27: F | AA27: =VLOOKUP(A36,QUART,2) -> Q3 | AB27: =IF(AA27=B36,1,0) -> 0
A28: 75 | C28: M | AA28: =VLOOKUP(A37,QUART,2) -> Q3 | AB28: =IF(AA28=B37,1,0) -> 0
A29: 52.6 | C29: F | AA29: =VLOOKUP(A38,QUART,2) -> Q3 | AB29: =IF(AA29=B38,1,0) -> 0
A30: 54 | C30: F | AA30: =VLOOKUP(A39,QUART,2) -> Q1 | AB30: =IF(AA30=B39,1,0) -> 0
A31: 44.2 | C31: F | K31: =IF(ISBLANK(F30),"",AF17) | AA31: =VLOOKUP(A40,QUART,2) -> Q3 | AB31: =IF(AA31=B40,1,0) -> 0
A32: 58.4 | C32: M | AA32: =VLOOKUP(A41,QUART,2) -> Q1 | AB32: =IF(AA32=B41,1,0) -> 0
A33: 88.6 | C33: F | AA33: =VLOOKUP(A42,QUART,2) -> Q3 | AB33: =IF(AA33=B42,1,0) -> 0
A34: 92.6 | C34: M | AA34: =VLOOKUP(A43,QUART,2) -> Q4 | AB34: =IF(AA34=B43,1,0) -> 0
A35: 33.6 | C35: M | AA35: =VLOOKUP(A44,QUART,2) -> Q3 | AB35: =IF(AA35=B44,1,0) -> 0
A36: 67 | C36: F | AA36: =VLOOKUP(A45,QUART,2) -> Q1 | AB36: =IF(AA36=B45,1,0) -> 0
A37: 61.8 | C37: F | AA37: =VLOOKUP(A46,QUART,2) -> Q2 | AB37: =IF(AA37=B46,1,0) -> 0
A38: 71.8 | C38: F | AA38: =VLOOKUP(A47,QUART,2) -> Q2 | AB38: =IF(AA38=B47,1,0) -> 0
A39: 14 | C39: M | AA39: =VLOOKUP(A48,QUART,2) -> Q2 | AB39: =IF(AA39=B48,1,0) -> 0
A40: 64.6 | C40: F | AA40: =VLOOKUP(A49,QUART,2) -> Q2 | AB40: =IF(AA40=B49,1,0) -> 0
A41: 23 | C41: M | AA41: =VLOOKUP(A50,QUART,2) -> Q1 | AB41: =IF(AA41=B50,1,0) -> 0
...

Sheet Cross tabs1
A1: CONTENTS | AR1: =GETPIVOTDATA("VERDICT",Sheet1!$G$19,"VERDICT","FAIL","GENDER","F") -> #REF! | AS1: =GETPIVOTDATA("VERDICT",Sheet1!$G$19,"VERDICT","PASS","GENDER","F") -> #REF!
D2: Count of VERDICT | E2: VERDICT | AR2: =GETPIVOTDATA("VERDICT",Sheet1!$G$19,"VERDICT","FAIL","GENDER","M") -> #REF! | AS2: =GETPIVOTDATA("VERDICT",Sheet1!$G$19,"VERDICT","PASS","GENDER","M") -> #REF!
D3: GENDER | E3: FAIL | F3: PASS | G3: Grand Total
D4: F | E4: 14 | F4: 15 | G4: 29 | AR4: =IF(GETPIVOTDATA("VERDICT",$D$2,"VERDICT","FAIL","GENDER","F")=AR1,1,0) -> #REF! | AS4: =IF(GETPIVOTDATA("VERDICT",$D$2,"VERDICT","PASS","GENDER","F")=AS1,1,0) -> #REF!
D5: M | E5: 10 | F5: 11 | G5: 21 | AR5: =IF(GETPIVOTDATA("VERDICT",$D$2,"VERDICT","FAIL","GENDER","M")=AR2,1,0) -> #REF! | AS5: =IF(GETPIVOTDATA("VERDICT",$D$2,"VERDICT","PASS","GENDER","M")=AS2,1,0) -> #REF!
D6: Grand Total | E6: 24 | F6: 26 | G6: 50 | AR6: =IF(ISERR(AR1),0,SUM(AR4:AS5)) -> 0
AR7: =IF(AR6=4,"CORRECT PROCEED TO SHEET2",IF(AR6=0,"","INCORRECT"))
A11: Return to Two-way pivot tables (absolute count)

Sheet Cross tabs2
A1: CONTENTS | D1: Count of VERDICT | E1: VERDICT | AR1: =GETPIVOTDATA("VERDICT",Sheet2!$G$19,"VERDICT","FAIL","GENDER","F") -> 14 | AS1: =GETPIVOTDATA("VERDICT",Sheet2!$G$19,"VERDICT","PASS","GENDER","F") -> 15
D2: GENDER | E2: FAIL | F2: PASS | G2: Grand Total | AR2: =GETPIVOTDATA("VERDICT",Sheet2!$G$19,"VERDICT","FAIL","GENDER","M") -> 10 | AS2: =GETPIVOTDATA("VERDICT",Sheet2!$G$19,"VERDICT","PASS","GENDER","M") -> 11
D3: F | E3: 0.28 | F3: 0.3 | G3: 0.58
D4: M | E4: 0.2 | F4: 0.22 | G4: 0.42 | AR4: =IF(GETPIVOTDATA("VERDICT",$D$1,"VERDICT","FAIL","GENDER","F")=AR1,1,0) -> 0 | AS4: =IF(GETPIVOTDATA("VERDICT",$D$1,"VERDICT","PASS","GENDER","F")=AS1,1,0) -> 0
D5: Grand Total | E5: 0.48 | F5: 0.52 | G5: 1 | AR5: =IF(GETPIVOTDATA("VERDICT",$D$1,"VERDICT","FAIL","GENDER","M")=AR2,1,0) -> 0 | AS5: =IF(GETPIVOTDATA("VERDICT",$D$1,"VERDICT","PASS","GENDER","M")=AS2,1,0) -> 0
AR6: =IF(ISERR(AR1),0,SUM(AR4:AS5)) -> 0
AR7: =IF(AR6=4,"CORRECT PROCEED TO SHEET3",IF(AR6=0,"","INCORRECT"))
A11: Return to Two-way pivot tables (percentage count)

Sheet Cross tabs3
A1: CONTENTS | D1: Average of AGGREGATE | E1: GENDER | AP1: =IF(AR1=AR4,1,0) -> #REF! | AQ1: =IF(AS1=AS4,1,0) -> #REF! | AR1: =GETPIVOTDATA("AGGREGATE",Sheet3!$G$19,"VERDICT","FAIL","GENDER","F") -> #REF! | AS1: =GETPIVOTDATA("AGGREGATE",Sheet3!$G$19,"VERDICT","FAIL","GENDER","M") -> #REF!
D2: VERDICT | E2: F | F2: M | G2: Grand Total | AP2: =IF(AR2=AR5,1,0) -> #REF! | AQ2: =IF(AS2=AS5,1,0) -> #REF! | AR2: =GETPIVOTDATA("AGGREGATE",Sheet3!$G$19,"VERDICT","PASS","GENDER","F") -> #REF! | AS2: =GETPIVOTDATA("AGGREGATE",Sheet3!$G$19,"VERDICT","PASS","GENDER","M") -> #REF!
D3: FAIL | E3: 38.8 | F3: 35.68 | G3: 37.5
D4: PASS | E4: 71.173333 | F4: 74.490909 | G4: 72.576923 | AR4: =GETPIVOTDATA("AGGREGATE",D1,"VERDICT","FAIL","GENDER","F") -> 38.8 | AS4: =GETPIVOTDATA("AGGREGATE",$D$1,"VERDICT","FAIL","GENDER","M") -> 35.68
D5: Grand Total | E5: 55.544828 | F5: 56.009524 | G5: 55.74 | AR5: =GETPIVOTDATA("AGGREGATE",$D$1,"VERDICT","PASS","GENDER","F") -> 71.173333 | AS5: =GETPIVOTDATA("AGGREGATE",$D$1,"VERDICT","PASS","GENDER","M") -> 74.490909
AR6: =IF(ISERR(AR1),0,SUM(AP1:AQ2)) -> 0
AR7: =IF(AR6=4,"CORRECT PROCEED TO SHEET4",IF(AR6=0,"","INCORRECT"))
A11: Return to Changing the type of statistic calculated in the table

Sheet Cross tabs4
A1: CONTENTS | D1: Count of VERDICT | F1: VERDICT | U1: =GETPIVOTDATA("VERDICT",$D$1,"VERDICT","FAIL","GENDER","F","GROUP","A") -> 0.1 | V1: =GETPIVOTDATA("VERDICT",$D$1,"VERDICT","PASS","GENDER","F","GROUP","A") -> 0.18
D2: GENDER | E2: GROUP | F2: FAIL | G2: PASS | H2: Grand Total | U2: =GETPIVOTDATA("VERDICT",$D$1,"VERDICT","FAIL","GENDER","F","GROUP","B") -> 0.18 | V2: =GETPIVOTDATA("VERDICT",$D$1,"VERDICT","PASS","GENDER","F","GROUP","B") -> 0.12
D3: F | E3: A | F3: 0.1 | G3: 0.18 | H3: 0.28 | U3: =GETPIVOTDATA("VERDICT",$D$1,"VERDICT","FAIL","GENDER","M","GROUP","A") -> 0.1 | V3: =GETPIVOTDATA("VERDICT",$D$1,"VERDICT","PASS","GENDER","M","GROUP","A") -> 0.12
E4: B | F4: 0.18 | G4: 0.12 | H4: 0.3 | U4: =GETPIVOTDATA("VERDICT",$D$1,"VERDICT","FAIL","GENDER","M","GROUP","B") -> 0.1 | V4: =GETPIVOTDATA("VERDICT",$D$1,"VERDICT","PASS","GENDER","M","GROUP","B") -> 0.1
D5: F Total | F5: 0.28 | G5: 0.3 | H5: 0.58 | U5: =GETPIVOTDATA("VERDICT",Sheet4!$G$19,"VERDICT","FAIL","GENDER","F","GROUP","A") -> #REF! | V5: =GETPIVOTDATA("VERDICT",Sheet4!$G$19,"VERDICT","PASS","GENDER","F","GROUP","A") -> #REF!
D6: M | E6: A | F6: 0.1 | G6: 0.12 | H6: 0.22 | U6: =GETPIVOTDATA("VERDICT",Sheet4!$G$19,"VERDICT","FAIL","GENDER","F","GROUP","B") -> #REF! | V6: =GETPIVOTDATA("VERDICT",Sheet4!$G$19,"VERDICT","PASS","GENDER","F","GROUP","B") -> #REF!
E7: B | F7: 0.1 | G7: 0.1 | H7: 0.2 | U7: =GETPIVOTDATA("VERDICT",Sheet4!$G$19,"VERDICT","FAIL","GENDER","M","GROUP","A") -> #REF! | V7: =GETPIVOTDATA("VERDICT",Sheet4!$G$19,"VERDICT","PASS","GENDER","M","GROUP","A") -> #REF!
D8: M Total | F8: 0.2 | G8: 0.22 | H8: 0.42 | U8: =GETPIVOTDATA("VERDICT",Sheet4!$G$19,"VERDICT","FAIL","GENDER","M","GROUP","B") -> #REF! | V8: =GETPIVOTDATA("VERDICT",Sheet4!$G$19,"VERDICT","PASS","GENDER","M","GROUP","B") -> #REF!
D9: Grand Total | F9: 0.48 | G9: 0.52 | H9: 1 | U9: =IF(U1=U5,1,0) -> #REF! | V9: =IF(V1=V5,1,0) -> #REF!
U10: =IF(U2=U6,1,0) -> #REF! | V10: =IF(V2=V6,1,0) -> #REF!
U11: =IF(U3=U7,1,0) -> #REF! | V11: =IF(V3=V7,1,0) -> #REF!
U12: =IF(U4=U8,1,0) -> #REF! | V12: =IF(V4=V8,1,0) -> #REF!
U13: =IF(ISERR(U5),0,SUM(U9:V12)) -> 0
A14: Return to Three-way pivot tables | U14: =IF(U13=8,"CORRECT PROCEED TO SHEET5",IF(U13=0,"","INCORRECT"))

Sheet Cross tabs5
A1: CONTENTS | D1: Count of VERDICT | F1: VERDICT | U1: =GETPIVOTDATA("VERDICT",$D$1,"VERDICT","FAIL","GENDER","F","GROUP","A") -> 0.1 | V1: =GETPIVOTDATA("VERDICT",$D$1,"VERDICT","PASS","GENDER","F","GROUP","A") -> 0.18
D2: GENDER | E2: GROUP | F2: FAIL | G2: PASS | H2: Grand Total | U2: =GETPIVOTDATA("VERDICT",$D$1,"VERDICT","FAIL","GENDER","F","GROUP","B") -> 0.16 | V2: =GETPIVOTDATA("VERDICT",$D$1,"VERDICT","PASS","GENDER","F","GROUP","B") -> 0.14
D3: F | E3: A | F3: 0.1 | G3: 0.18 | H3: 0.28 | U3: =GETPIVOTDATA("VERDICT",$D$1,"VERDICT","FAIL","GENDER","M","GROUP","A") -> 0.08 | V3: =GETPIVOTDATA("VERDICT",$D$1,"VERDICT","PASS","GENDER","M","GROUP","A") -> 0.14
E4: B | F4: 0.16 | G4: 0.14 | H4: 0.3 | U4: =GETPIVOTDATA("VERDICT",$D$1,"VERDICT","FAIL","GENDER","M","GROUP","B") -> 0.08 | V4: =GETPIVOTDATA("VERDICT",$D$1,"VERDICT","PASS","GENDER","M","GROUP","B") -> 0.12
D5: F Total | F5: 0.26 | G5: 0.32 | H5: 0.58 | U5: =GETPIVOTDATA("VERDICT",Sheet5!$G$19,"VERDICT","FAIL","GENDER","F","GROUP","A") -> 0.1 | V5: =GETPIVOTDATA("VERDICT",Sheet5!$G$19,"VERDICT","PASS","GENDER","F","GROUP","A") -> 0.18
D6: M | E6: A | F6: 0.08 | G6: 0.14 | H6: 0.22 | U6: =GETPIVOTDATA("VERDICT",Sheet5!$G$19,"VERDICT","FAIL","GENDER","F","GROUP","B") -> 0.18 | V6: =GETPIVOTDATA("VERDICT",Sheet5!$G$19,"VERDICT","PASS","GENDER","F","GROUP","B") -> 0.12
E7: B | F7: 0.08 | G7: 0.12 | H7: 0.2 | U7: =GETPIVOTDATA("VERDICT",Sheet5!$G$19,"VERDICT","FAIL","GENDER","M","GROUP","A") -> 0.1 | V7: =GETPIVOTDATA("VERDICT",Sheet5!$G$19,"VERDICT","PASS","GENDER","M","GROUP","A") -> 0.12
D8: M Total | F8: 0.16 | G8: 0.26 | H8: 0.42 | U8: =GETPIVOTDATA("VERDICT",Sheet5!$G$19,"VERDICT","FAIL","GENDER","M","GROUP","B") -> 0.1 | V8: =GETPIVOTDATA("VERDICT",Sheet5!$G$19,"VERDICT","PASS","GENDER","M","GROUP","B") -> 0.1
D9: Grand Total | F9: 0.42 | G9: 0.58 | H9: 1 | U9: =IF(U1=U5,1,0) -> 1 | V9: =IF(V1=V5,1,0) -> 1
U10: =IF(U2=U6,1,0) -> 0 | V10: =IF(V2=V6,1,0) -> 0
U11: =IF(U3=U7,1,0) -> 0 | V11: =IF(V3=V7,1,0) -> 0
U12: =IF(U4=U8,1,0) -> 0 | V12: =IF(V4=V8,1,0) -> 0
U13: =IF(ISERR(U5),0,SUM(U9:V12)) -> 2
A14: Return to Refreshing data | U14: =IF(U13=8,"CORRECT PROCEED TO SHEET6",IF(U13=0,"","INCORRECT")) -> INCORRECT

Sheet Cross tabs6
A1: CONTENTS | D1: Average of AGGREGATE | E1: GROUP | R1: =GETPIVOTDATA("AGGREGATE",$D$1,"GENDER","F","GROUP","A") -> 63.228571 | S1: =GETPIVOTDATA("AGGREGATE",$D$1,"GENDER","F","GROUP","B") -> 58.133333
D2: GENDER | E2: A | F2: B | G2: Grand Total | R2: =GETPIVOTDATA("AGGREGATE",$D$1,"GENDER","M","GROUP","A") -> 62.381818 | S2: =GETPIVOTDATA("AGGREGATE",$D$1,"GENDER","M","GROUP","B") -> 59.24
D3: F | E3: 63.228571 | F3: 58.133333 | G3: 60.593103 | R3: =GETPIVOTDATA("AGGREGATE",Sheet6!$G$16,"GENDER","F","GROUP","A") -> #REF! | S3: =GETPIVOTDATA("AGGREGATE",Sheet6!$G$16,"GENDER","F","GROUP","B") -> #REF!
D4: M | E4: 62.381818 | F4: 59.24 | G4: 60.885714 | R4: =GETPIVOTDATA("AGGREGATE",Sheet6!$G$16,"GENDER","M","GROUP","A") -> #REF! | S4: =GETPIVOTDATA("AGGREGATE",Sheet6!$G$16,"GENDER","M","GROUP","B") -> #REF!
D5: Grand Total | E5: 62.856 | F5: 58.576 | G5: 60.716 | R5: =IF(R1=R3,1,0) -> #REF! | S5: =IF(S1=S3,1,0) -> #REF!
R6: =IF(R2=R4,1,0) -> #REF! | S6: =IF(S2=S4,1,0) -> #REF!
R7: =IF(ISERR(R3),0,SUM(R5:S6)) -> 0
D8: DIFFERENCES IN AVERAGE AGGREGATE MARKS | R8: =IF(R7=4,"CORRECT PROCEED TO SHEET7",IF(R7=0,"","INCORRECT"))
D9: FA - FB | E9: =GETPIVOTDATA("AGGREGATE",$D$1,"GENDER","F","GROUP","A")-GETPIVOTDATA("AGGREGATE",$D$1,"GENDER","F","GROUP","B") -> 5.0952381
D10: MA - MB | E10: =GETPIVOTDATA("AGGREGATE",$D$1,"GENDER","M","GROUP","A")-GETPIVOTDATA("AGGREGATE",$D$1,"GENDER","M","GROUP","B") -> 3.1418182
D11: FA -MA | E11: =GETPIVOTDATA("AGGREGATE",$D$1,"GENDER","F","GROUP","A")-GETPIVOTDATA("AGGREGATE",$D$1,"GENDER","M","GROUP","A") -> 0.84675325
D12: FB - MB | E12: =GETPIVOTDATA("AGGREGATE",$D$1,"GENDER","F","GROUP","B")-GETPIVOTDATA("AGGREGATE",$D$1,"GENDER","M","GROUP","B") -> -1.1066667
D13: FA -MB | E13: =GETPIVOTDATA("AGGREGATE",$D$1,"GENDER","F","GROUP","A")-GETPIVOTDATA("AGGREGATE",$D$1,"GENDER","M","GROUP","B") -> 3.9885714
D14: FB - MA | E14: =GETPIVOTDATA("AGGREGATE",$D$1,"GENDER","F","GROUP","B")-GETPIVOTDATA("AGGREGATE",$D$1,"GENDER","M","GROUP","A") -> -4.2484848
D15: F - M | E15: =GETPIVOTDATA("AGGREGATE",$D$1,"GENDER","F")-GETPIVOTDATA("AGGREGATE",$D$1,"GENDER","M") -> -0.29261084
D16: A - B | E16: =GETPIVOTDATA("AGGREGATE",$D$1,"GROUP","A")-GETPIVOTDATA("AGGREGATE",$D$1,"GROUP","B") -> 4.28
A20: Return to Further uses of pivot tables

Sheet Cross tabs7
A1: CONTENTS | D1: Count of GENDER | E1: GENDER
D2: QUARTILE | E2: F | F2: M | G2: Grand Total
D3: Q1 | E3: 7 | F3: 6 | G3: 13
D4: Q2 | E4: 8 | F4: 4 | G4: 12
D5: Q3 | E5: 8 | F5: 4 | G5: 12
D6: Q4 | E6: 6 | F6: 7 | G6: 13
D7: Grand Total | E7: 29 | F7: 21 | G7: 50
A12: Return to Vlookup function
