Workbook

Sheet Part 1
A2: 1
A22: 2
Z28: - | AA28: Peak | AB28: Mean
Z29: rpm | AA29: m/s | AB29: m/s
Z30: 2000 | AA30: =MAX('360x360 for Valve Lift (Inlet)'!$G$2:$G$362) -> 0.0088940596 | AB30: =AVERAGE('360x360 for Valve Lift (Inlet)'!$G$2:$G$362) -> 2.2337268e-19
Z31: 4000 | AA31: =MAX('360x360 for Valve Lift (Inlet)'!$H$2:$H$362) -> 0.017788119 | AB31: =AVERAGE('360x360 for Valve Lift (Inlet)'!$H$2:$H$362) -> 4.4674536e-19
Z32: 6000 | AA32: =MAX('360x360 for Valve Lift (Inlet)'!$I$2:$I$362) -> 0.026682179 | AB32: =AVERAGE('360x360 for Valve Lift (Inlet)'!$I$2:$I$362) -> -4.4659519e-19
Z33: 8000 | AA33: =MAX('360x360 for Valve Lift (Inlet)'!$J$2:$J$362) -> 0.035576239 | AB33: =AVERAGE('360x360 for Valve Lift (Inlet)'!$J$2:$J$362) -> 8.9349071e-19
Z34: 10000 | AA34: =MAX('360x360 for Valve Lift (Inlet)'!$K$2:$K$362) -> 0.044470298 | AB34: =AVERAGE('360x360 for Valve Lift (Inlet)'!$K$2:$K$362) -> -1.4905527e-18
Z35: 12000 | AA35: =MAX('360x360 for Valve Lift (Inlet)'!$L$2:$L$362) -> 0.053364358 | AB35: =AVERAGE('360x360 for Valve Lift (Inlet)'!$L$2:$L$362) -> -8.9319038e-19
A47: 3
A70: 4
A103: 5
AF116: Inlet | AJ116: Exhaust
AF117: - | AG117: Peak | AH117: Mean | AJ117: - | AK117: Peak | AL117: Mean
AF118: RPM | AG118: mm/sec | AH118: mm/sec | AJ118: RPM | AK118: mm/sec | AL118: mm/sec
AF119: 2000 | AG119: =MAX('Vel,Acc,Jer (Inlet)'!$E$3:$E$363) -> 2183.1395 | AH119: =AVERAGE('Vel,Acc,Jer (Inlet)'!$E$3:$E$363) -> -3.7330877e-06 | AJ119: 2000 | AK119: =MAX('Vel,Acc,Jer (Exh)'!$E$3:$E$363) -> 1936.5476 | AL119: =AVERAGE('Vel,Acc,Jer (Exh)'!$E$3:$E$363) -> -3.3114244e-06
AF120: 4000 | AG120: =MAX('Vel,Acc,Jer (Inlet)'!$E$3:$F$363) -> 4366.2789 | AH120: =AVERAGE('Vel,Acc,Jer (Inlet)'!$E$3:$F$363) -> -5.5996314e-06 | AJ120: 4000 | AK120: =MAX('Vel,Acc,Jer (Exh)'!$E$3:$F$363) -> 3873.0952 | AL120: =AVERAGE('Vel,Acc,Jer (Exh)'!$E$3:$F$363) -> -4.9671371e-06
AF121: 6000 | AG121: =MAX('Vel,Acc,Jer (Inlet)'!$G$3:$G$363) -> 6549.4184 | AH121: =AVERAGE('Vel,Acc,Jer (Inlet)'!$G$3:$G$363) -> -1.1199263e-05 | AJ121: 6000 | AK121: =MAX('Vel,Acc,Jer (Exh)'!$G$3:$G$363) -> 5809.6429 | AL121: =AVERAGE('Vel,Acc,Jer (Exh)'!$G$3:$G$363) -> -9.9342744e-06
AF122: 8000 | AG122: =MAX('Vel,Acc,Jer (Inlet)'!$H$3:$H$363) -> 8732.5579 | AH122: =AVERAGE('Vel,Acc,Jer (Inlet)'!$H$3:$H$363) -> -1.4932351e-05 | AJ122: 8000 | AK122: =MAX('Vel,Acc,Jer (Exh)'!$H$3:$H$363) -> 7746.1905 | AL122: =AVERAGE('Vel,Acc,Jer (Exh)'!$H$3:$H$363) -> -1.3245698e-05
AF123: 10000 | AG123: =MAX('Vel,Acc,Jer (Inlet)'!$I$3:$I$363) -> 10915.697 | AH123: =AVERAGE('Vel,Acc,Jer (Inlet)'!$I$3:$I$363) -> -1.8665438e-05 | AJ123: 10000 | AK123: =MAX('Vel,Acc,Jer (Exh)'!$I$3:$I$363) -> 9682.7381 | AL123: =AVERAGE('Vel,Acc,Jer (Exh)'!$I$3:$I$363) -> -1.6557123e-05
AF124: 12000 | AG124: =MAX('Vel,Acc,Jer (Inlet)'!$J$3:$J$363) -> 13098.837 | AH124: =AVERAGE('Vel,Acc,Jer (Inlet)'!$J$3:$J$363) -> -2.2398526e-05 | AJ124: 12000 | AK124: =MAX('Vel,Acc,Jer (Exh)'!$J$3:$J$363) -> 11619.286 | AL124: =AVERAGE('Vel,Acc,Jer (Exh)'!$J$3:$J$363) -> -1.9868549e-05
A172: 6
A208: 7
A233: 8
AM255: LIGHTENED
AM256: Masses (Standard) | AT256: Spring Data (Standard)
AM257: Intake | AQ257: Exhaust | AU257: Outer | AV257: Inner
AN258: Mass (Kg) | AO258: Quantity | AP258: Total (Kg) | AQ258: Mass (Kg) | AR258: Quantity | AS258: Total (Kg) | AT258: Initial Compression - Lo (m) | AU258: 0.009 | AV258: 0.009
AM259: Valve | AN259: 0.023 | AO259: 2 | AP259: =SUM(AN259*AO259) -> 0.046 | AQ259: =SUM(AS225*0.5) -> 0 | AR259: 2 | AS259: =SUM(AR259*AQ259) -> 0 | AT259: Amount of Coils
AM260: Shim | AN260: 0.001 | AO260: 2 | AP260: =SUM(AN260*AO260) -> 0.002 | AQ260: =SUM(AS226*0.5) -> 0 | AR260: 2 | AS260: =SUM(AR260*AQ260) -> 0 | AT260: Inner Diameter (m)
AM261: Bucket | AN261: 0.016 | AO261: 2 | AP261: =SUM(AN261*AO261) -> 0.032 | AQ261: =SUM(AS227*0.5) -> 0 | AR261: 2 | AS261: =SUM(AR261*AQ261) -> 0 | AT261: Pitch Diameter - D (m)
AM262: Collet | AN262: 0.00025 | AO262: 4 | AP262: =SUM(AN262*AO262) -> 0.001 | AQ262: =SUM(AS228*0.5) -> 0 | AR262: 4 | AS262: =SUM(AR262*AQ262) -> 0 | AT262: Wire Diameter - d (m)
AM263: Outer Spring | AN263: 0.024 | AO263: 1 | AP263: =SUM(AN263*AO263) -> 0.024 | AQ263: =SUM(AS229*0.5) -> 0 | AR263: 1 | AS263: =SUM(AR263*AQ263) -> 0 | AT263: Working coils - N
AM264: Inner Spring | AN264: 0.0085 | AO264: 1 | AP264: =SUM(AN264*AO264) -> 0.0085 | AQ264: =SUM(AS230*0.5) -> 0 | AR264: 1 | AS264: =SUM(AR264*AQ264) -> 0 | AT264: Modulus of Rigidity - G (N/m²)
AM265: Retainer | AN265: 0.0156 | AO265: 1 | AP265: 0.0156 | AQ265: 0.0156 | AR265: 1 | AS265: 0.0156 | AT265: C
AO266: Total Moving Mass (Intake) - M (Kg) | AP266: =SUM(AP259:AP265) -> 0.1291 | AR266: Total Moving Mass (Exhaust) - M (Kg) | AS266: =SUM(AS259:AS265) -> 0.0156 | AT266: Spring Stiffness - k (N/m) | AU266: 111500 | AV266: 50000 | AW266: 161500
AM268: LIGHTENED+STIFFENED
AM269: Masses (Standard) | AT269: Spring Data (Standard)
AM270: Intake | AQ270: Exhaust | AU270: Outer | AV270: Inner
...

Sheet Part 2
F1: SuperFlow SF-600 Test Data
P3: Bore | Q3: 79 | R3: mm
A4: Test Description: | I4: Test Number
A5: Head Description: | B5: 2.0 Duratec 16v | I5: Serial Number
A6: Intake Valve: | I6: Valve Seat Angle | L6: Degrees
A7: Intake Port: | I7: Port Volume | L7: cc
A8: Radiused Inlet: | I8: Port Length | L8: m
A9: Exhaust Valve: | I9: Exhaust Seat Angle | L9: Degrees
A10: Intake Manifold: | I10: Runner Length | L10: m
A11: Cylinder Bore: | I11: Stroke | L11: mm
A12: Test Operator: | I12: Head Porter
F14: Test Setup Data
B15: Diameter | D15: Stem | F15: Lift Increments | H15: Effective Area | J15: Leakage | L15: Seat Width
A16: Intake Valve | B16: 28.8 | C16: mm | D16: 6 | E16: mm | G16: mm | H16: 6.23 | I16: sq.cm | K16: litres/sec | M16: mm
A17: Exhaust Valve | B17: 24.5 | C17: mm | D17: 6 | E17: mm | G17: mm | H17: 4.43 | I17: sq.cm | K17: litres/sec | M17: mm
F19: Intake Valve Test Data
A20: Test Number | B20: 1 | C20: 2 | D20: 3 | E20: 4 | F20: 5 | G20: 6 | H20: 7 | I20: 8 | J20: 9 | K20: 10 | L20: 11
A21: Test Pressure | B21: 25 | C21: 25 | D21: 25 | E21: 25 | F21: 25 | G21: 25 | H21: 25 | I21: 25 | J21: 25 | K21: 25 | L21: 25
A22: Valve Lift | B22: 1.44 | C22: 2.88 | D22: 4.32 | E22: 5.76 | F22: 7.2 | G22: 8.64 | H22: 10.08 | I22: 11.52 | J22: 12.96 | K22: 13.46
A23: Corr. Flow Range | B23: 2 | C23: 3 | D23: 3 | E23: 4 | F23: 4 | G23: 4 | H23: 4 | I23: 4 | J23: 4 | K23: 4
A24: Corr. Test Flow | B24: 66.5 | C24: 61.5 | D24: 87 | E24: 53.5 | F24: 62 | G24: 68 | H24: 72 | I24: 75 | J24: 76 | K24: 78
A25: Test Flow (L/s)/sq.cm | B25: =SUM(B24*0.01) -> 0.665 | C25: =SUM(C24*0.01) -> 0.615 | D25: =SUM(D24*0.01) -> 0.87 | E25: =SUM(E24*0.01) -> 0.535 | F25: =SUM(F24*0.01) -> 0.62 | G25: =SUM(G24*0.01) -> 0.68 | H25: =SUM(H24*0.01) -> 0.72 | I25: =SUM(I24*0.01) -> 0.75 | ... K25: =SUM(K24*0.01) -> 0.78
A26: Potential Flow | B26: =B25*33.2 -> 22.078 | C26: =SUM(C25*39.7) -> 24.4155 | D26: =SUM(D25*69.7) -> 60.639 | E26: =SUM(E25*138.2) -> 73.937 | F26: =SUM(F25*138.2) -> 85.684 | G26: =SUM(G25*138.2) -> 93.976 | H26: =SUM(H25*138.2) -> 99.504 | I26: =SUM(I25*138.2) -> 103.65 | J26: =SUM(J25*138.2) -> 105.032 | K26: =SUM(K25*138.2) -> 107.796
A27: % Potential Flow | B27: 0 | C27: 0 | D27: 0 | E27: 0 | F27: 0 | G27: 0 | H27: 0 | I27: 0 | J27: 0 | K27: 0
A28: Lift/Diameter Ratio | B28: =SUM(B26-B27) -> 22.078 | C28: =SUM(C26-C27) -> 24.4155 | D28: =SUM(D26-D27) -> 60.639 | E28: =SUM(E26-E27) -> 73.937 | F28: =SUM(F26-F27) -> 85.684 | G28: =SUM(G26-G27) -> 93.976 | H28: =SUM(H26-H27) -> 99.504 | I28: =SUM(I26-I27) -> 103.65 | ... K28: =SUM(K26-K27) -> 107.796
A29: Cd | B29: =SUM(B28/6.23) -> 3.5438202 | C29: =SUM(C28/6.23) -> 3.9190209 | D29: =SUM(D28/6.23) -> 9.7333868 | E29: =SUM(E28/6.23) -> 11.867897 | F29: =SUM(F28/6.23) -> 13.753451 | G29: =SUM(G28/6.23) -> 15.08443 | H29: =SUM(H28/6.23) -> 15.97175 | I29: =SUM(I28/6.23) -> 16.637239 | ... K29: =SUM(K28/6.23) -> 17.302729
A30: % Velocity
C31: Average Flow | D31: =AVERAGE(B28:K28) -> 77.67115 | E31: l/s | I31: Maximum Flow | J31: 107.8 | K31: l/s
F33: Exhaust Valve Test Data
A34: Test Number | B34: 1 | C34: 2 | D34: 3 | E34: 4 | F34: 5 | G34: 6 | H34: 7 | I34: 8 | J34: 9 | K34: 10 | L34: 11
A35: Test Pressure | B35: 25 | C35: 25 | D35: 25 | E35: 25 | F35: 25 | G35: 25 | H35: 25 | I35: 25 | J35: 25 | K35: 25 | L35: 25
A36: Valve Lift | B36: 1.23 | C36: 2.45 | D36: 3.68 | E36: 4.9033333 | F36: 6.1283333 | G36: 7.3533333 | H36: 8.5783333 | I36: 9.8033333 | J36: 11.028333 | K36: 12.253333 | L36: 13.05
A37: Corr. Flow Range | B37: 2 | C37: 3 | D37: 3 | E37: 3 | F37: 4 | G37: 4 | H37: 4 | I37: 4 | J37: 4 | K37: 4 | L37: 4
A38: Corr. Test Flow | B38: 43.5 | C38: 42.5 | D38: 64 | E38: 79 | F38: 45 | G38: 42 | H38: 48 | I38: 49.5 | J38: 50.5 | K38: 51 | L38: 51.5
A39: Test Flow (L/s)/sq.cm | B39: =SUM(B38*0.01) -> 0.435 | C39: =SUM(C38*0.01) -> 0.425 | D39: =SUM(D38*0.01) -> 0.64 | E39: =SUM(E38*0.01) -> 0.79 | F39: =SUM(F38*0.01) -> 0.45 | G39: =SUM(G38*0.01) -> 0.42 | H39: =SUM(H38*0.01) -> 0.48 | I39: =SUM(I38*0.01) -> 0.495 | ... L39: =SUM(L38*0.01) -> 0.515
A40: Potential Flow | B40: =SUM(B39*37.1) -> 16.1385 | C40: =SUM(C39*75) -> 31.875 | D40: =SUM(D39*75) -> 48 | E40: =SUM(E39*75) -> 59.25 | F40: =SUM(F39*148.5) -> 66.825 | G40: =SUM(G39*148.5) -> 62.37 | H40: =SUM(H39*148.5) -> 71.28 | I40: =SUM(I39*148.5) -> 73.5075 | J40: =SUM(J39*148.5) -> 74.9925 | K40: =SUM(K39*148.5) -> 75.735 | L40: =SUM(L39*148.5) -> 76.4775
A41: % Potential Flow | B41: 0 | C41: 0 | D41: 0 | E41: 0 | F41: 0 | G41: 0 | H41: 0 | I41: 0 | J41: 0 | K41: 0 | L41: 0
A42: Lift/Diameter Ratio | B42: =SUM(B40-B41) -> 16.1385 | C42: =SUM(C40-C41) -> 31.875 | D42: =SUM(D40-D41) -> 48 | E42: =SUM(E40-E41) -> 59.25 | F42: =SUM(F40-F41) -> 66.825 | G42: =SUM(G40-G41) -> 62.37 | H42: =SUM(H40-H41) -> 71.28 | I42: =SUM(I40-I41) -> 73.5075 | ... L42: =SUM(L40-L41) -> 76.4775
A43: Cd | B43: =SUM(B42/4.43) -> 3.6430023 | C43: =SUM(C42/4.43) -> 7.1952596 | D43: =SUM(D42/4.43) -> 10.835214 | E43: =SUM(E42/4.43) -> 13.374718 | F43: =SUM(F42/4.43) -> 15.08465 | G43: =SUM(G42/4.43) -> 14.079007 | H43: =SUM(H42/4.43) -> 16.090293 | I43: =SUM(I42/4.43) -> 16.593115 | ... L43: =SUM(L42/4.43) -> 17.263544
A44: % Velocity
...

Sheet Masses & Spring Data
A1: Masses (Standard) | H1: Spring Data (Standard)
A2: Intake | E2: Exhaust | I2: Outer | J2: Inner
B3: Mass (Kg) | C3: Quantity | D3: Total (Kg) | E3: Mass (Kg) | F3: Quantity | G3: Total (Kg) | H3: Initial Compression - Lo (m) | I3: 0.009 | J3: 0.009
A4: Valve | B4: 0.047 | C4: 2 | D4: =B4*C4 -> 0.094 | E4: 0.041 | F4: 2 | G4: =E4*F4 -> 0.082 | H4: Amount of Coils
A5: Shim | B5: 0.002 | C5: 2 | D5: =B5*C5 -> 0.004 | E5: 0.002 | F5: 2 | G5: =E5*F5 -> 0.004 | H5: Inner Diameter (m)
A6: Bucket | B6: 0.032 | C6: 2 | D6: =B6*C6 -> 0.064 | E6: 0.032 | F6: 2 | G6: =E6*F6 -> 0.064 | H6: Pitch Diameter - D (m)
A7: Collet | B7: 0.0005 | C7: 4 | D7: =B7*C7 -> 0.002 | E7: 0.0005 | F7: 4 | G7: =E7*F7 -> 0.002 | H7: Wire Diameter - d (m)
A8: Outer Spring | B8: 0.049 | C8: 1 | D8: =B8*C8 -> 0.049 | E8: 0.049 | F8: 1 | G8: =E8*F8 -> 0.049 | H8: Working coils - N
A9: Inner Spring | B9: 0.017 | C9: 1 | D9: =B9*C9 -> 0.017 | E9: 0.017 | F9: 1 | G9: =E9*F9 -> 0.017 | H9: Modulus of Rigidity - G (N/m²)
A10: Retainer | B10: 0.0156 | C10: 1 | D10: =B10*C10 -> 0.0156 | E10: 0.0156 | F10: 1 | G10: =E10*F10 -> 0.0156 | H10: C
C11: Total Moving Mass (Intake) - M (Kg) | D11: =D4+D5+D6+D7+D8+D9+D10 -> 0.2456 | F11: Total Moving Mass (Exhaust) - M (Kg) | G11: =G4+G5+G6+G7+G8+G9+G10 -> 0.2336 | H11: Spring Stiffness - k (N/m) | I11: 111500 | J11: 50000 | K11: =SUM(I11:J11) -> 161500 | L11: 161500000
A16: Inlet Camsahft | B16: 1.6 | C16: kg
A17: Exhaust Camshaft | B17: 1.6 | C17: kg
A19: Masses (Standard) | H19: Spring Data (Standard)
A20: Intake | E20: Exhaust | I20: Outer | J20: Inner
B21: Mass (Kg) | C21: Quantity | D21: Total (Kg) | E21: Mass (Kg) | F21: Quantity | G21: Total (Kg) | H21: Initial Compression - Lo (m) | I21: 0.009 | J21: 0.009
A22: Valve | B22: 0.023 | C22: 2 | D22: =SUM(B22*C22) -> 0.046 | E22: =SUM(E4*0.5) -> 0.0205 | F22: 2 | G22: =SUM(F22*E22) -> 0.041 | H22: Amount of Coils
A23: Shim | B23: 0.001 | C23: 2 | D23: =SUM(B23*C23) -> 0.002 | E23: =SUM(E5*0.5) -> 0.001 | F23: 2 | G23: =SUM(F23*E23) -> 0.002 | H23: Inner Diameter (m)
A24: Bucket | B24: 0.016 | C24: 2 | D24: =SUM(B24*C24) -> 0.032 | E24: =SUM(E6*0.5) -> 0.016 | F24: 2 | G24: =SUM(F24*E24) -> 0.032 | H24: Pitch Diameter - D (m)
A25: Collet | B25: 0.00025 | C25: 4 | D25: =SUM(B25*C25) -> 0.001 | E25: =SUM(E7*0.5) -> 0.00025 | F25: 4 | G25: =SUM(F25*E25) -> 0.001 | H25: Wire Diameter - d (m)
A26: Outer Spring | B26: 0.024 | C26: 1 | D26: =SUM(B26*C26) -> 0.024 | E26: =SUM(E8*0.5) -> 0.0245 | F26: 1 | G26: =SUM(F26*E26) -> 0.0245 | H26: Working coils - N
A27: Inner Spring | B27: 0.0085 | C27: 1 | D27: =SUM(B27*C27) -> 0.0085 | E27: =SUM(E9*0.5) -> 0.0085 | F27: 1 | G27: =SUM(F27*E27) -> 0.0085 | H27: Modulus of Rigidity - G (N/m²)
A28: Retainer | B28: 0.0156 | C28: 1 | D28: 0.0156 | E28: 0.0156 | F28: 1 | G28: 0.0156 | H28: C
C29: Total Moving Mass (Intake) - M (Kg) | D29: =SUM(D22:D28) -> 0.1291 | F29: Total Moving Mass (Exhaust) - M (Kg) | G29: =SUM(G22:G28) -> 0.1246 | H29: Spring Stiffness - k (N/m) | I29: 111500 | J29: 50000 | K29: 161500
A31: Masses (Standard) | H31: Spring Data (Standard)
A32: Intake | E32: Exhaust | I32: Outer | J32: Inner
B33: Mass (Kg) | C33: Quantity | D33: Total (Kg) | E33: Mass (Kg) | F33: Quantity | G33: Total (Kg) | H33: Initial Compression - Lo (m) | I33: 0.009 | J33: 0.009
A34: Valve | B34: 0.023 | C34: 2 | D34: =SUM(B34*C34) -> 0.046 | E34: =SUM(E16*0.5) -> 0 | F34: 2 | G34: =SUM(F34*E34) -> 0 | H34: Amount of Coils
A35: Shim | B35: 0.001 | C35: 2 | D35: =SUM(B35*C35) -> 0.002 | E35: =SUM(E17*0.5) -> 0 | F35: 2 | G35: =SUM(F35*E35) -> 0 | H35: Inner Diameter (m)
A36: Bucket | B36: 0.016 | C36: 2 | D36: =SUM(B36*C36) -> 0.032 | E36: =SUM(E18*0.5) -> 0 | F36: 2 | G36: =SUM(F36*E36) -> 0 | H36: Pitch Diameter - D (m)
A37: Collet | B37: 0.00025 | C37: 4 | D37: =SUM(B37*C37) -> 0.001 | E37: =SUM(E19*0.5) -> 0 | F37: 4 | G37: =SUM(F37*E37) -> 0 | H37: Wire Diameter - d (m)
A38: Outer Spring | B38: 0.024 | C38: 1 | D38: =SUM(B38*C38) -> 0.024 | E38: =SUM(E20*0.5) -> #VALUE! | F38: 1 | G38: =SUM(F38*E38) -> #VALUE! | H38: Working coils - N
A39: Inner Spring | B39: 0.0085 | C39: 1 | D39: =SUM(B39*C39) -> 0.0085 | E39: =SUM(E21*0.5) -> #VALUE! | F39: 1 | G39: =SUM(F39*E39) -> #VALUE! | H39: Modulus of Rigidity - G (N/m²)
A40: Retainer | B40: 0.0156 | C40: 1 | D40: 0.0156 | E40: 0.0156 | F40: 1 | G40: 0.0156 | H40: C
C41: Total Moving Mass (Intake) - M (Kg) | D41: =SUM(D34:D40) -> 0.1291 | F41: Total Moving Mass (Exhaust) - M (Kg) | G41: =SUM(G34:G40) -> #VALUE! | H41: Spring Stiffness - k (N/m) | I41: =SUM(I29*1.5) -> 167250 | J41: =SUM(J29*1.5) -> 75000 | K41: =SUM(I41:J41) -> 242250

Sheet 360x360 for Valve Lift (Inlet)
A1: Crank angle (deg) | B1: Crank angle (radians) | C1: Cam Lift | D1: Piston position | E1: Change in piston position | F1: Cylinder volume (cc) | G1: Piston velocity m/s (2000rpm) | H1: Piston velocity (4000rpm) | I1: Piston velocity (6000rpm) | J1: Piston velocity (8000rpm) | K1: Piston velocity (10000rpm) | L1: Piston velocity (12000rpm) | N1: Bore(m) | O1: 0.079
A2: -360 | B2: =RADIANS(A2) -> -6.2831853 | C2: 6.8141432e-07 | D2: =$O$3*(1-COS(RADIANS(A2))) + ($O$5 - SQRT($O$5^2 - ($O$3*SIN(RADIANS(A2)))^2)) -> 0 | E2: 0 | F2: 39.27 | G2: =(E2/2) * ($O$6*6/1000) -> 0 | H2: =(E2/2) * ($O$7*6/1000) -> 0 | I2: =(E2/2) * ($O$8*6/1000) -> 0 | J2: =(E2/2) * ($O$9*6/1000) -> 0 | K2: =(E2/2) * ($O$10*6/1000) -> 0 | L2: =(E2/2) * ($O$11*6/1000) -> 0 | N2: Stroke (m) | O2: 0.0814
A3: =A2+2 -> -358 | B3: =RADIANS(A3) -> -6.2482787 | C3: 8.1769719e-07 | D3: =$O$3*(1-COS(RADIANS(A3))) + ($O$5 - SQRT($O$5^2 - ($O$3*SIN(RADIANS(A3)))^2)) -> 3.2156908e-05 | E3: =D3-D2 -> 3.2156908e-05 | F3: 39.43 | G3: =(E3/2) * ($O$6*6/1000) -> 0.00019294145 | H3: =(E3/2) * ($O$7*6/1000) -> 0.00038588289 | I3: =(E3/2) * ($O$8*6/1000) -> 0.00057882434 | J3: =(E3/2) * ($O$9*6/1000) -> 0.00077176578 | K3: =(E3/2) * ($O$10*6/1000) -> 0.00096470723 | L3: =(E3/2) * ($O$11*6/1000) -> 0.0011576487 | N3: Crank radius | O3: =1/2*O2 -> 0.0407
A4: =A3+2 -> -356 | B4: =RADIANS(A4) -> -6.2133721 | C4: 9.8011649e-07 | D4: =$O$3*(1-COS(RADIANS(A4))) + ($O$5 - SQRT($O$5^2 - ($O$3*SIN(RADIANS(A4)))^2)) -> 0.00012856392 | E4: =D4-D3 -> 9.640701e-05 | F4: 39.9 | G4: =(E4/2) * ($O$6*6/1000) -> 0.00057844206 | H4: =(E4/2) * ($O$7*6/1000) -> 0.0011568841 | I4: =(E4/2) * ($O$8*6/1000) -> 0.0017353262 | J4: =(E4/2) * ($O$9*6/1000) -> 0.0023137682 | K4: =(E4/2) * ($O$10*6/1000) -> 0.0028922103 | L4: =(E4/2) * ($O$11*6/1000) -> 0.0034706523 | N4: Clearance volume | O4: 39.27
A5: =A4+2 -> -354 | B5: =RADIANS(A5) -> -6.1784656 | C5: 1.1761398e-06 | D5: =$O$3*(1-COS(RADIANS(A5))) + ($O$5 - SQRT($O$5^2 - ($O$3*SIN(RADIANS(A5)))^2)) -> 0.00028903005 | E5: =D5-D4 -> 0.00016046613 | F5: 40.69 | G5: =(E5/2) * ($O$6*6/1000) -> 0.00096279678 | H5: =(E5/2) * ($O$7*6/1000) -> 0.0019255936 | I5: =(E5/2) * ($O$8*6/1000) -> 0.0028883903 | J5: =(E5/2) * ($O$9*6/1000) -> 0.0038511871 | K5: =(E5/2) * ($O$10*6/1000) -> 0.0048139839 | L5: =(E5/2) * ($O$11*6/1000) -> 0.0057767807 | N5: Conrod length | O5: 0.137
A6: =A5+2 -> -352 | B6: =RADIANS(A6) -> -6.143559 | C6: 1.4001664e-06 | D6: =$O$3*(1-COS(RADIANS(A6))) + ($O$5 - SQRT($O$5^2 - ($O$3*SIN(RADIANS(A6)))^2)) -> 0.00051323752 | E6: =D6-D5 -> 0.00022420748 | F6: 41.79 | G6: =(E6/2) * ($O$6*6/1000) -> 0.0013452449 | H6: =(E6/2) * ($O$7*6/1000) -> 0.0026904897 | I6: =(E6/2) * ($O$8*6/1000) -> 0.0040357346 | J6: =(E6/2) * ($O$9*6/1000) -> 0.0053809794 | K6: =(E6/2) * ($O$10*6/1000) -> 0.0067262243 | L6: =(E6/2) * ($O$11*6/1000) -> 0.0080714691 | N6: Crank speed (rpm) | O6: 2000
A7: =A6+2 -> -350 | B7: =RADIANS(A7) -> -6.1086524 | C7: 1.6801997e-06 | D7: =$O$3*(1-COS(RADIANS(A7))) + ($O$5 - SQRT($O$5^2 - ($O$3*SIN(RADIANS(A7)))^2)) -> 0.00080074256 | E7: =D7-D6 -> 0.00028750504 | F7: 43.2 | G7: =(E7/2) * ($O$6*6/1000) -> 0.0017250302 | H7: =(E7/2) * ($O$7*6/1000) -> 0.0034500605 | I7: =(E7/2) * ($O$8*6/1000) -> 0.0051750907 | J7: =(E7/2) * ($O$9*6/1000) -> 0.0069001209 | K7: =(E7/2) * ($O$10*6/1000) -> 0.0086251511 | L7: =(E7/2) * ($O$11*6/1000) -> 0.010350181 | O7: 4000
A8: =A7+2 -> -348 | B8: =RADIANS(A8) -> -6.0737458 | C8: 1.9975708e-06 | D8: =$O$3*(1-COS(RADIANS(A8))) + ($O$5 - SQRT($O$5^2 - ($O$3*SIN(RADIANS(A8)))^2)) -> 0.0011509765 | E8: =D8-D7 -> 0.00035023392 | F8: 44.91 | G8: =(E8/2) * ($O$6*6/1000) -> 0.0021014035 | H8: =(E8/2) * ($O$7*6/1000) -> 0.004202807 | I8: =(E8/2) * ($O$8*6/1000) -> 0.0063042105 | J8: =(E8/2) * ($O$9*6/1000) -> 0.008405614 | K8: =(E8/2) * ($O$10*6/1000) -> 0.010507017 | L8: =(E8/2) * ($O$11*6/1000) -> 0.012608421 | O8: 6000
A9: =A8+2 -> -346 | B9: =RADIANS(A9) -> -6.0388392 | C9: 2.3896173e-06 | D9: =$O$3*(1-COS(RADIANS(A9))) + ($O$5 - SQRT($O$5^2 - ($O$3*SIN(RADIANS(A9)))^2)) -> 0.0015632471 | E9: =D9-D8 -> 0.00041227063 | F9: 46.93 | G9: =(E9/2) * ($O$6*6/1000) -> 0.0024736238 | H9: =(E9/2) * ($O$7*6/1000) -> 0.0049472476 | I9: =(E9/2) * ($O$8*6/1000) -> 0.0074208713 | J9: =(E9/2) * ($O$9*6/1000) -> 0.0098944951 | K9: =(E9/2) * ($O$10*6/1000) -> 0.012368119 | L9: =(E9/2) * ($O$11*6/1000) -> 0.014841743 | O9: 8000
A10: =A9+2 -> -344 | B10: =RADIANS(A10) -> -6.0039326 | C10: 2.847005e-06 | D10: =$O$3*(1-COS(RADIANS(A10))) + ($O$5 - SQRT($O$5^2 - ($O$3*SIN(RADIANS(A10)))^2)) -> 0.0020367405 | E10: =D10-D9 -> 0.00047349343 | F10: 49.26 | G10: =(E10/2) * ($O$6*6/1000) -> 0.0028409606 | H10: =(E10/2) * ($O$7*6/1000) -> 0.0056819212 | I10: =(E10/2) * ($O$8*6/1000) -> 0.0085228818 | J10: =(E10/2) * ($O$9*6/1000) -> 0.011363842 | K10: =(E10/2) * ($O$10*6/1000) -> 0.014204803 | L10: =(E10/2) * ($O$11*6/1000) -> 0.017045764 | O10: 10000
A11: =A10+2 -> -342 | B11: =RADIANS(A11) -> -5.969026 | C11: 3.3790683e-06 | D11: =$O$3*(1-COS(RADIANS(A11))) + ($O$5 - SQRT($O$5^2 - ($O$3*SIN(RADIANS(A11)))^2)) -> 0.0025705232 | E11: =D11-D10 -> 0.00053378264 | F11: 51.87 | G11: =(E11/2) * ($O$6*6/1000) -> 0.0032026958 | H11: =(E11/2) * ($O$7*6/1000) -> 0.0064053916 | I11: =(E11/2) * ($O$8*6/1000) -> 0.0096080875 | J11: =(E11/2) * ($O$9*6/1000) -> 0.012810783 | K11: =(E11/2) * ($O$10*6/1000) -> 0.016013479 | L11: =(E11/2) * ($O$11*6/1000) -> 0.019216175 | O11: 12000
A12: =A11+2 -> -340 | B12: =RADIANS(A12) -> -5.9341195 | C12: 4.0231448e-06 | D12: =$O$3*(1-COS(RADIANS(A12))) + ($O$5 - SQRT($O$5^2 - ($O$3*SIN(RADIANS(A12)))^2)) -> 0.0031635441 | E12: =D12-D11 -> 0.00059302091 | F12: 54.78 | G12: =(E12/2) * ($O$6*6/1000) -> 0.0035581255 | H12: =(E12/2) * ($O$7*6/1000) -> 0.007116251 | I12: =(E12/2) * ($O$8*6/1000) -> 0.010674376 | J12: =(E12/2) * ($O$9*6/1000) -> 0.014232502 | K12: =(E12/2) * ($O$10*6/1000) -> 0.017790627 | L12: =(E12/2) * ($O$11*6/1000) -> 0.021348753 | N12: Crank speed (radians) | O12: =RADIANS(O6) -> 34.906585
A13: =A12+2 -> -338 | B13: =RADIANS(A13) -> -5.8992129 | C13: 4.7792347e-06 | D13: =$O$3*(1-COS(RADIANS(A13))) + ($O$5 - SQRT($O$5^2 - ($O$3*SIN(RADIANS(A13)))^2)) -> 0.0038146377 | E13: =D13-D12 -> 0.00065109362 | F13: 57.97 | G13: =(E13/2) * ($O$6*6/1000) -> 0.0039065617 | H13: =(E13/2) * ($O$7*6/1000) -> 0.0078131235 | I13: =(E13/2) * ($O$8*6/1000) -> 0.011719685 | J13: =(E13/2) * ($O$9*6/1000) -> 0.015626247 | K13: =(E13/2) * ($O$10*6/1000) -> 0.019532809 | L13: =(E13/2) * ($O$11*6/1000) -> 0.02343937 | O13: =RADIANS(O7) -> 69.81317
A14: =A13+2 -> -336 | B14: =RADIANS(A14) -> -5.8643063 | C14: 5.6660068e-06 | D14: =$O$3*(1-COS(RADIANS(A14))) + ($O$5 - SQRT($O$5^2 - ($O$3*SIN(RADIANS(A14)))^2)) -> 0.0045225268 | E14: =D14-D13 -> 0.00070788913 | F14: 61.44 | G14: =(E14/2) * ($O$6*6/1000) -> 0.0042473348 | H14: =(E14/2) * ($O$7*6/1000) -> 0.0084946695 | I14: =(E14/2) * ($O$8*6/1000) -> 0.012742004 | J14: =(E14/2) * ($O$9*6/1000) -> 0.016989339 | K14: =(E14/2) * ($O$10*6/1000) -> 0.021236674 | L14: =(E14/2) * ($O$11*6/1000) -> 0.025484009 | O14: =RADIANS(O8) -> 104.71976
A15: =A14+2 -> -334 | B15: =RADIANS(A15) -> -5.8293997 | C15: 6.7114643e-06 | D15: =$O$3*(1-COS(RADIANS(A15))) + ($O$5 - SQRT($O$5^2 - ($O$3*SIN(RADIANS(A15)))^2)) -> 0.0052858259 | E15: =D15-D14 -> 0.00076329909 | F15: 65.18 | G15: =(E15/2) * ($O$6*6/1000) -> 0.0045797946 | H15: =(E15/2) * ($O$7*6/1000) -> 0.0091595891 | I15: =(E15/2) * ($O$8*6/1000) -> 0.013739384 | J15: =(E15/2) * ($O$9*6/1000) -> 0.018319178 | K15: =(E15/2) * ($O$10*6/1000) -> 0.022898973 | L15: =(E15/2) * ($O$11*6/1000) -> 0.027478767 | O15: =RADIANS(O9) -> 139.62634
A16: =A15+2 -> -332 | B16: =RADIANS(A16) -> -5.7944931 | C16: 7.9529452e-06 | D16: =$O$3*(1-COS(RADIANS(A16))) + ($O$5 - SQRT($O$5^2 - ($O$3*SIN(RADIANS(A16)))^2)) -> 0.0061030447 | E16: =D16-D15 -> 0.00081721881 | F16: 69.19 | G16: =(E16/2) * ($O$6*6/1000) -> 0.0049033129 | H16: =(E16/2) * ($O$7*6/1000) -> 0.0098066257 | I16: =(E16/2) * ($O$8*6/1000) -> 0.014709939 | J16: =(E16/2) * ($O$9*6/1000) -> 0.019613251 | K16: =(E16/2) * ($O$10*6/1000) -> 0.024516564 | L16: =(E16/2) * ($O$11*6/1000) -> 0.029419877 | O16: =RADIANS(O10) -> 174.53293
A17: =A16+2 -> -330 | B17: =RADIANS(A17) -> -5.7595865 | C17: 9.4277872e-06 | D17: =$O$3*(1-COS(RADIANS(A17))) + ($O$5 - SQRT($O$5^2 - ($O$3*SIN(RADIANS(A17)))^2)) -> 0.0069725922 | E17: =D17-D16 -> 0.00086954749 | F17: 73.45 | G17: =(E17/2) * ($O$6*6/1000) -> 0.005217285 | H17: =(E17/2) * ($O$7*6/1000) -> 0.01043457 | I17: =(E17/2) * ($O$8*6/1000) -> 0.015651855 | J17: =(E17/2) * ($O$9*6/1000) -> 0.02086914 | K17: =(E17/2) * ($O$10*6/1000) -> 0.026086425 | L17: =(E17/2) * ($O$11*6/1000) -> 0.03130371 | O17: =RADIANS(O11) -> 209.43951
A18: =A17+2 -> -328 | B18: =RADIANS(A18) -> -5.7246799 | C18: 1.1107987e-05 | D18: =$O$3*(1-COS(RADIANS(A18))) + ($O$5 - SQRT($O$5^2 - ($O$3*SIN(RADIANS(A18)))^2)) -> 0.0078927808 | E18: =D18-D17 -> 0.0009201886 | F18: 77.96 | G18: =(E18/2) * ($O$6*6/1000) -> 0.0055211316 | H18: =(E18/2) * ($O$7*6/1000) -> 0.011042263 | I18: =(E18/2) * ($O$8*6/1000) -> 0.016563395 | J18: =(E18/2) * ($O$9*6/1000) -> 0.022084526 | K18: =(E18/2) * ($O$10*6/1000) -> 0.027605658 | L18: =(E18/2) * ($O$11*6/1000) -> 0.03312679
A19: =A18+2 -> -326 | B19: =RADIANS(A19) -> -5.6897734 | C19: 1.306822e-05 | D19: =$O$3*(1-COS(RADIANS(A19))) + ($O$5 - SQRT($O$5^2 - ($O$3*SIN(RADIANS(A19)))^2)) -> 0.008861831 | E19: =D19-D18 -> 0.00096905012 | F19: 82.71 | G19: =(E19/2) * ($O$6*6/1000) -> 0.0058143007 | H19: =(E19/2) * ($O$7*6/1000) -> 0.011628601 | I19: =(E19/2) * ($O$8*6/1000) -> 0.017442902 | J19: =(E19/2) * ($O$9*6/1000) -> 0.023257203 | K19: =(E19/2) * ($O$10*6/1000) -> 0.029071503 | L19: =(E19/2) * ($O$11*6/1000) -> 0.034885804
A20: =A19+2 -> -324 | B20: =RADIANS(A20) -> -5.6548668 | C20: 1.5495175e-05 | D20: =$O$3*(1-COS(RADIANS(A20))) + ($O$5 - SQRT($O$5^2 - ($O$3*SIN(RADIANS(A20)))^2)) -> 0.0098778758 | E20: =D20-D19 -> 0.0010160448 | F20: 87.69 | G20: =(E20/2) * ($O$6*6/1000) -> 0.006096269 | H20: =(E20/2) * ($O$7*6/1000) -> 0.012192538 | I20: =(E20/2) * ($O$8*6/1000) -> 0.018288807 | J20: =(E20/2) * ($O$9*6/1000) -> 0.024385076 | K20: =(E20/2) * ($O$10*6/1000) -> 0.030481345 | L20: =(E20/2) * ($O$11*6/1000) -> 0.036577614
A21: =A20+2 -> -322 | B21: =RADIANS(A21) -> -5.6199602 | C21: 1.8202163e-05 | D21: =$O$3*(1-COS(RADIANS(A21))) + ($O$5 - SQRT($O$5^2 - ($O$3*SIN(RADIANS(A21)))^2)) -> 0.010938966 | E21: =D21-D20 -> 0.0010610907 | F21: 92.89 | G21: =(E21/2) * ($O$6*6/1000) -> 0.0063665441 | H21: =(E21/2) * ($O$7*6/1000) -> 0.012733088 | I21: =(E21/2) * ($O$8*6/1000) -> 0.019099632 | J21: =(E21/2) * ($O$9*6/1000) -> 0.025466177 | K21: =(E21/2) * ($O$10*6/1000) -> 0.031832721 | L21: =(E21/2) * ($O$11*6/1000) -> 0.038199265
A22: =A21+2 -> -320 | B22: =RADIANS(A22) -> -5.5850536 | C22: 2.1469218e-05 | D22: =$O$3*(1-COS(RADIANS(A22))) + ($O$5 - SQRT($O$5^2 - ($O$3*SIN(RADIANS(A22)))^2)) -> 0.012043077 | E22: =D22-D21 -> 0.001104111 | F22: 98.3 | G22: =(E22/2) * ($O$6*6/1000) -> 0.0066246658 | H22: =(E22/2) * ($O$7*6/1000) -> 0.013249332 | I22: =(E22/2) * ($O$8*6/1000) -> 0.019873997 | J22: =(E22/2) * ($O$9*6/1000) -> 0.026498663 | K22: =(E22/2) * ($O$10*6/1000) -> 0.033123329 | L22: =(E22/2) * ($O$11*6/1000) -> 0.039747995
A23: =A22+2 -> -318 | B23: =RADIANS(A23) -> -5.550147 | C23: 2.5202995e-05 | D23: =$O$3*(1-COS(RADIANS(A23))) + ($O$5 - SQRT($O$5^2 - ($O$3*SIN(RADIANS(A23)))^2)) -> 0.013188112 | E23: =D23-D22 -> 0.0011450346 | F23: 103.92 | G23: =(E23/2) * ($O$6*6/1000) -> 0.0068702075 | H23: =(E23/2) * ($O$7*6/1000) -> 0.013740415 | I23: =(E23/2) * ($O$8*6/1000) -> 0.020610622 | J23: =(E23/2) * ($O$9*6/1000) -> 0.02748083 | K23: =(E23/2) * ($O$10*6/1000) -> 0.034351037 | L23: =(E23/2) * ($O$11*6/1000) -> 0.041221245
A24: =A23+2 -> -316 | B24: =RADIANS(A24) -> -5.5152404 | C24: 2.9590184e-05 | D24: =$O$3*(1-COS(RADIANS(A24))) + ($O$5 - SQRT($O$5^2 - ($O$3*SIN(RADIANS(A24)))^2)) -> 0.014371908 | E24: =D24-D23 -> 0.0011837964 | F24: 109.72 | G24: =(E24/2) * ($O$6*6/1000) -> 0.0071027784 | H24: =(E24/2) * ($O$7*6/1000) -> 0.014205557 | I24: =(E24/2) * ($O$8*6/1000) -> 0.021308335 | J24: =(E24/2) * ($O$9*6/1000) -> 0.028411113 | K24: =(E24/2) * ($O$10*6/1000) -> 0.035513892 | L24: =(E24/2) * ($O$11*6/1000) -> 0.04261667
A25: =A24+2 -> -314 | B25: =RADIANS(A25) -> -5.4803339 | C25: 3.4724127e-05 | D25: =$O$3*(1-COS(RADIANS(A25))) + ($O$5 - SQRT($O$5^2 - ($O$3*SIN(RADIANS(A25)))^2)) -> 0.015592246 | E25: =D25-D24 -> 0.0012203373 | F25: 115.7 | G25: =(E25/2) * ($O$6*6/1000) -> 0.007322024 | H25: =(E25/2) * ($O$7*6/1000) -> 0.014644048 | I25: =(E25/2) * ($O$8*6/1000) -> 0.021966072 | J25: =(E25/2) * ($O$9*6/1000) -> 0.029288096 | K25: =(E25/2) * ($O$10*6/1000) -> 0.03661012 | L25: =(E25/2) * ($O$11*6/1000) -> 0.043932144
A26: =A25+2 -> -312 | B26: =RADIANS(A26) -> -5.4454273 | C26: 4.069817e-05 | D26: =$O$3*(1-COS(RADIANS(A26))) + ($O$5 - SQRT($O$5^2 - ($O$3*SIN(RADIANS(A26)))^2)) -> 0.01684685 | E26: =D26-D25 -> 0.0012546047 | F26: 121.85 | G26: =(E26/2) * ($O$6*6/1000) -> 0.0075276283 | H26: =(E26/2) * ($O$7*6/1000) -> 0.015055257 | I26: =(E26/2) * ($O$8*6/1000) -> 0.022582885 | J26: =(E26/2) * ($O$9*6/1000) -> 0.030110513 | K26: =(E26/2) * ($O$10*6/1000) -> 0.037638142 | L26: =(E26/2) * ($O$11*6/1000) -> 0.04516577
A27: =A26+2 -> -310 | B27: =RADIANS(A27) -> -5.4105207 | C27: 4.7605658e-05 | D27: =$O$3*(1-COS(RADIANS(A27))) + ($O$5 - SQRT($O$5^2 - ($O$3*SIN(RADIANS(A27)))^2)) -> 0.018133403 | E27: =D27-D26 -> 0.0012865524 | F27: 128.16 | G27: =(E27/2) * ($O$6*6/1000) -> 0.0077193141 | H27: =(E27/2) * ($O$7*6/1000) -> 0.015438628 | I27: =(E27/2) * ($O$8*6/1000) -> 0.023157942 | J27: =(E27/2) * ($O$9*6/1000) -> 0.030877256 | K27: =(E27/2) * ($O$10*6/1000) -> 0.038596571 | L27: =(E27/2) * ($O$11*6/1000) -> 0.046315885
A28: =A27+2 -> -308 | B28: =RADIANS(A28) -> -5.3756141 | C28: 5.5726623e-05 | D28: =$O$3*(1-COS(RADIANS(A28))) + ($O$5 - SQRT($O$5^2 - ($O$3*SIN(RADIANS(A28)))^2)) -> 0.019449544 | E28: =D28-D27 -> 0.0013161408 | F28: 134.61 | G28: =(E28/2) * ($O$6*6/1000) -> 0.0078968446 | H28: =(E28/2) * ($O$7*6/1000) -> 0.015793689 | I28: =(E28/2) * ($O$8*6/1000) -> 0.023690534 | J28: =(E28/2) * ($O$9*6/1000) -> 0.031587378 | K28: =(E28/2) * ($O$10*6/1000) -> 0.039484223 | L28: =(E28/2) * ($O$11*6/1000) -> 0.047381068
A29: =A28+2 -> -306 | B29: =RADIANS(A29) -> -5.3407075 | C29: 6.515441e-05 | D29: =$O$3*(1-COS(RADIANS(A29))) + ($O$5 - SQRT($O$5^2 - ($O$3*SIN(RADIANS(A29)))^2)) -> 0.020792881 | E29: =D29-D28 -> 0.0013433373 | F29: 141.19 | G29: =(E29/2) * ($O$6*6/1000) -> 0.008060024 | H29: =(E29/2) * ($O$7*6/1000) -> 0.016120048 | I29: =(E29/2) * ($O$8*6/1000) -> 0.024180072 | J29: =(E29/2) * ($O$9*6/1000) -> 0.032240096 | K29: =(E29/2) * ($O$10*6/1000) -> 0.04030012 | L29: =(E29/2) * ($O$11*6/1000) -> 0.048360144
... A362: =A361+2 -> 360 | B362: =RADIANS(A362) -> 6.2831853 | C362: 5.6753412e-07 | D362: =$O$3*(1-COS(RADIANS(A362))) + ($O$5 - SQRT($O$5^2 - ($O$3*SIN(RADIANS(A362)))^2)) -> 0 | E362: =D362-D361 -> -3.2156908e-05 | F362: 39.27 | G362: =(E362/2) * ($O$6*6/1000) -> -0.00019294145 | H362: =(E362/2) * ($O$7*6/1000) -> -0.00038588289 | I362: =(E362/2) * ($O$8*6/1000) -> -0.00057882434 | J362: =(E362/2) * ($O$9*6/1000) -> -0.00077176578 | K362: =(E362/2) * ($O$10*6/1000) -> -0.00096470723 | L362: =(E362/2) * ($O$11*6/1000) -> -0.0011576487

Sheet 360x360 for Valve Lift (Exh)
A1: Crank angle (deg) | B1: Crank angle (radians) | C1: Cam Lift | D1: Piston position | E1: Change in piston position | F1: Cylinder volume (cc) | G1: Piston velocity m/s (2000rpm) | H1: Piston velocity (4000rpm) | I1: Piston velocity (6000rpm) | J1: Piston velocity (8000rpm) | K1: Piston velocity (10000rpm) | L1: Piston velocity (12000rpm) | N1: Bore(m) | O1: 0.079
A2: -360 | B2: =RADIANS(A2) -> -6.2831853 | C2: 6.0444662e-07 | D2: =$O$3*(1-COS(RADIANS(A2))) + ($O$5 - SQRT($O$5^2 - ($O$3*SIN(RADIANS(A2)))^2)) -> 0 | E2: 0 | F2: 39.27 | G2: =(E2/2) * ($O$6*6/1000) -> 0 | H2: =(E2/2) * ($O$7*6/1000) -> 0 | I2: =(E2/2) * ($O$8*6/1000) -> 0 | J2: =(E2/2) * ($O$9*6/1000) -> 0 | K2: =(E2/2) * ($O$10*6/1000) -> 0 | L2: =(E2/2) * ($O$11*6/1000) -> 0 | N2: Stroke (m) | O2: 0.0814
A3: =A2+2 -> -358 | B3: =RADIANS(A3) -> -6.2482787 | C3: 7.2533595e-07 | D3: =$O$3*(1-COS(RADIANS(A3))) + ($O$5 - SQRT($O$5^2 - ($O$3*SIN(RADIANS(A3)))^2)) -> 3.2156908e-05 | E3: =D3-D2 -> 3.2156908e-05 | F3: 39.43 | G3: =(E3/2) * ($O$6*6/1000) -> 0.00019294145 | H3: =(E3/2) * ($O$7*6/1000) -> 0.00038588289 | I3: =(E3/2) * ($O$8*6/1000) -> 0.00057882434 | J3: =(E3/2) * ($O$9*6/1000) -> 0.00077176578 | K3: =(E3/2) * ($O$10*6/1000) -> 0.00096470723 | L3: =(E3/2) * ($O$11*6/1000) -> 0.0011576487 | N3: Crank radius | O3: =1/2*O2 -> 0.0407
A4: =A3+2 -> -356 | B4: =RADIANS(A4) -> -6.2133721 | C4: 8.6940953e-07 | D4: =$O$3*(1-COS(RADIANS(A4))) + ($O$5 - SQRT($O$5^2 - ($O$3*SIN(RADIANS(A4)))^2)) -> 0.00012856392 | E4: =D4-D3 -> 9.640701e-05 | F4: 39.9 | G4: =(E4/2) * ($O$6*6/1000) -> 0.00057844206 | H4: =(E4/2) * ($O$7*6/1000) -> 0.0011568841 | I4: =(E4/2) * ($O$8*6/1000) -> 0.0017353262 | J4: =(E4/2) * ($O$9*6/1000) -> 0.0023137682 | K4: =(E4/2) * ($O$10*6/1000) -> 0.0028922103 | L4: =(E4/2) * ($O$11*6/1000) -> 0.0034706523 | N4: Clearance volume | O4: 39.27
A5: =A4+2 -> -354 | B5: =RADIANS(A5) -> -6.1784656 | C5: 1.0432914e-06 | D5: =$O$3*(1-COS(RADIANS(A5))) + ($O$5 - SQRT($O$5^2 - ($O$3*SIN(RADIANS(A5)))^2)) -> 0.00028903005 | E5: =D5-D4 -> 0.00016046613 | F5: 40.69 | G5: =(E5/2) * ($O$6*6/1000) -> 0.00096279678 | H5: =(E5/2) * ($O$7*6/1000) -> 0.0019255936 | I5: =(E5/2) * ($O$8*6/1000) -> 0.0028883903 | J5: =(E5/2) * ($O$9*6/1000) -> 0.0038511871 | K5: =(E5/2) * ($O$10*6/1000) -> 0.0048139839 | L5: =(E5/2) * ($O$11*6/1000) -> 0.0057767807 | N5: Conrod length | O5: 0.137
A6: =A5+2 -> -352 | B6: =RADIANS(A6) -> -6.143559 | C6: 1.2420136e-06 | D6: =$O$3*(1-COS(RADIANS(A6))) + ($O$5 - SQRT($O$5^2 - ($O$3*SIN(RADIANS(A6)))^2)) -> 0.00051323752 | E6: =D6-D5 -> 0.00022420748 | F6: 41.79 | G6: =(E6/2) * ($O$6*6/1000) -> 0.0013452449 | H6: =(E6/2) * ($O$7*6/1000) -> 0.0026904897 | I6: =(E6/2) * ($O$8*6/1000) -> 0.0040357346 | J6: =(E6/2) * ($O$9*6/1000) -> 0.0053809794 | K6: =(E6/2) * ($O$10*6/1000) -> 0.0067262243 | L6: =(E6/2) * ($O$11*6/1000) -> 0.0080714691 | N6: Crank speed (rpm) | O6: 2000
A7: =A6+2 -> -350 | B7: =RADIANS(A7) -> -6.1086524 | C7: 1.4904163e-06 | D7: =$O$3*(1-COS(RADIANS(A7))) + ($O$5 - SQRT($O$5^2 - ($O$3*SIN(RADIANS(A7)))^2)) -> 0.00080074256 | E7: =D7-D6 -> 0.00028750504 | F7: 43.2 | G7: =(E7/2) * ($O$6*6/1000) -> 0.0017250302 | H7: =(E7/2) * ($O$7*6/1000) -> 0.0034500605 | I7: =(E7/2) * ($O$8*6/1000) -> 0.0051750907 | J7: =(E7/2) * ($O$9*6/1000) -> 0.0069001209 | K7: =(E7/2) * ($O$10*6/1000) -> 0.0086251511 | L7: =(E7/2) * ($O$11*6/1000) -> 0.010350181 | O7: 4000
A8: =A7+2 -> -348 | B8: =RADIANS(A8) -> -6.0737458 | C8: 1.7719394e-06 | D8: =$O$3*(1-COS(RADIANS(A8))) + ($O$5 - SQRT($O$5^2 - ($O$3*SIN(RADIANS(A8)))^2)) -> 0.0011509765 | E8: =D8-D7 -> 0.00035023392 | F8: 44.91 | G8: =(E8/2) * ($O$6*6/1000) -> 0.0021014035 | H8: =(E8/2) * ($O$7*6/1000) -> 0.004202807 | I8: =(E8/2) * ($O$8*6/1000) -> 0.0063042105 | J8: =(E8/2) * ($O$9*6/1000) -> 0.008405614 | K8: =(E8/2) * ($O$10*6/1000) -> 0.010507017 | L8: =(E8/2) * ($O$11*6/1000) -> 0.012608421 | O8: 6000
A9: =A8+2 -> -346 | B9: =RADIANS(A9) -> -6.0388392 | C9: 2.1197032e-06 | D9: =$O$3*(1-COS(RADIANS(A9))) + ($O$5 - SQRT($O$5^2 - ($O$3*SIN(RADIANS(A9)))^2)) -> 0.0015632471 | E9: =D9-D8 -> 0.00041227063 | F9: 46.93 | G9: =(E9/2) * ($O$6*6/1000) -> 0.0024736238 | H9: =(E9/2) * ($O$7*6/1000) -> 0.0049472476 | I9: =(E9/2) * ($O$8*6/1000) -> 0.0074208713 | J9: =(E9/2) * ($O$9*6/1000) -> 0.0098944951 | K9: =(E9/2) * ($O$10*6/1000) -> 0.012368119 | L9: =(E9/2) * ($O$11*6/1000) -> 0.014841743 | O9: 8000
A10: =A9+2 -> -344 | B10: =RADIANS(A10) -> -6.0039326 | C10: 2.5254277e-06 | D10: =$O$3*(1-COS(RADIANS(A10))) + ($O$5 - SQRT($O$5^2 - ($O$3*SIN(RADIANS(A10)))^2)) -> 0.0020367405 | E10: =D10-D9 -> 0.00047349343 | F10: 49.26 | G10: =(E10/2) * ($O$6*6/1000) -> 0.0028409606 | H10: =(E10/2) * ($O$7*6/1000) -> 0.0056819212 | I10: =(E10/2) * ($O$8*6/1000) -> 0.0085228818 | J10: =(E10/2) * ($O$9*6/1000) -> 0.011363842 | K10: =(E10/2) * ($O$10*6/1000) -> 0.014204803 | L10: =(E10/2) * ($O$11*6/1000) -> 0.017045764 | O10: 10000
A11: =A10+2 -> -342 | B11: =RADIANS(A11) -> -5.969026 | C11: 2.9973928e-06 | D11: =$O$3*(1-COS(RADIANS(A11))) + ($O$5 - SQRT($O$5^2 - ($O$3*SIN(RADIANS(A11)))^2)) -> 0.0025705232 | E11: =D11-D10 -> 0.00053378264 | F11: 51.87 | G11: =(E11/2) * ($O$6*6/1000) -> 0.0032026958 | H11: =(E11/2) * ($O$7*6/1000) -> 0.0064053916 | I11: =(E11/2) * ($O$8*6/1000) -> 0.0096080875 | J11: =(E11/2) * ($O$9*6/1000) -> 0.012810783 | K11: =(E11/2) * ($O$10*6/1000) -> 0.016013479 | L11: =(E11/2) * ($O$11*6/1000) -> 0.019216175 | O11: 12000
A12: =A11+2 -> -340 | B12: =RADIANS(A12) -> -5.9341195 | C12: 3.5687191e-06 | D12: =$O$3*(1-COS(RADIANS(A12))) + ($O$5 - SQRT($O$5^2 - ($O$3*SIN(RADIANS(A12)))^2)) -> 0.0031635441 | E12: =D12-D11 -> 0.00059302091 | F12: 54.78 | G12: =(E12/2) * ($O$6*6/1000) -> 0.0035581255 | H12: =(E12/2) * ($O$7*6/1000) -> 0.007116251 | I12: =(E12/2) * ($O$8*6/1000) -> 0.010674376 | J12: =(E12/2) * ($O$9*6/1000) -> 0.014232502 | K12: =(E12/2) * ($O$10*6/1000) -> 0.017790627 | L12: =(E12/2) * ($O$11*6/1000) -> 0.021348753 | N12: Crank speed (radians) | O12: =RADIANS(O6) -> 34.906585
A13: =A12+2 -> -338 | B13: =RADIANS(A13) -> -5.8992129 | C13: 4.2394065e-06 | D13: =$O$3*(1-COS(RADIANS(A13))) + ($O$5 - SQRT($O$5^2 - ($O$3*SIN(RADIANS(A13)))^2)) -> 0.0038146377 | E13: =D13-D12 -> 0.00065109362 | F13: 57.97 | G13: =(E13/2) * ($O$6*6/1000) -> 0.0039065617 | H13: =(E13/2) * ($O$7*6/1000) -> 0.0078131235 | I13: =(E13/2) * ($O$8*6/1000) -> 0.011719685 | J13: =(E13/2) * ($O$9*6/1000) -> 0.015626247 | K13: =(E13/2) * ($O$10*6/1000) -> 0.019532809 | L13: =(E13/2) * ($O$11*6/1000) -> 0.02343937 | O13: =RADIANS(O7) -> 69.81317
A14: =A13+2 -> -336 | B14: =RADIANS(A14) -> -5.8643063 | C14: 5.0260151e-06 | D14: =$O$3*(1-COS(RADIANS(A14))) + ($O$5 - SQRT($O$5^2 - ($O$3*SIN(RADIANS(A14)))^2)) -> 0.0045225268 | E14: =D14-D13 -> 0.00070788913 | F14: 61.44 | G14: =(E14/2) * ($O$6*6/1000) -> 0.0042473348 | H14: =(E14/2) * ($O$7*6/1000) -> 0.0084946695 | I14: =(E14/2) * ($O$8*6/1000) -> 0.012742004 | J14: =(E14/2) * ($O$9*6/1000) -> 0.016989339 | K14: =(E14/2) * ($O$10*6/1000) -> 0.021236674 | L14: =(E14/2) * ($O$11*6/1000) -> 0.025484009 | O14: =RADIANS(O8) -> 104.71976
A15: =A14+2 -> -334 | B15: =RADIANS(A15) -> -5.8293997 | C15: 5.9533852e-06 | D15: =$O$3*(1-COS(RADIANS(A15))) + ($O$5 - SQRT($O$5^2 - ($O$3*SIN(RADIANS(A15)))^2)) -> 0.0052858259 | E15: =D15-D14 -> 0.00076329909 | F15: 65.18 | G15: =(E15/2) * ($O$6*6/1000) -> 0.0045797946 | H15: =(E15/2) * ($O$7*6/1000) -> 0.0091595891 | I15: =(E15/2) * ($O$8*6/1000) -> 0.013739384 | J15: =(E15/2) * ($O$9*6/1000) -> 0.018319178 | K15: =(E15/2) * ($O$10*6/1000) -> 0.022898973 | L15: =(E15/2) * ($O$11*6/1000) -> 0.027478767 | O15: =RADIANS(O9) -> 139.62634
A16: =A15+2 -> -332 | B16: =RADIANS(A16) -> -5.7944931 | C16: 7.0546373e-06 | D16: =$O$3*(1-COS(RADIANS(A16))) + ($O$5 - SQRT($O$5^2 - ($O$3*SIN(RADIANS(A16)))^2)) -> 0.0061030447 | E16: =D16-D15 -> 0.00081721881 | F16: 69.19 | G16: =(E16/2) * ($O$6*6/1000) -> 0.0049033129 | H16: =(E16/2) * ($O$7*6/1000) -> 0.0098066257 | I16: =(E16/2) * ($O$8*6/1000) -> 0.014709939 | J16: =(E16/2) * ($O$9*6/1000) -> 0.019613251 | K16: =(E16/2) * ($O$10*6/1000) -> 0.024516564 | L16: =(E16/2) * ($O$11*6/1000) -> 0.029419877 | O16: =RADIANS(O10) -> 174.53293
A17: =A16+2 -> -330 | B17: =RADIANS(A17) -> -5.7595865 | C17: 8.3628916e-06 | D17: =$O$3*(1-COS(RADIANS(A17))) + ($O$5 - SQRT($O$5^2 - ($O$3*SIN(RADIANS(A17)))^2)) -> 0.0069725922 | E17: =D17-D16 -> 0.00086954749 | F17: 73.45 | G17: =(E17/2) * ($O$6*6/1000) -> 0.005217285 | H17: =(E17/2) * ($O$7*6/1000) -> 0.01043457 | I17: =(E17/2) * ($O$8*6/1000) -> 0.015651855 | J17: =(E17/2) * ($O$9*6/1000) -> 0.02086914 | K17: =(E17/2) * ($O$10*6/1000) -> 0.026086425 | L17: =(E17/2) * ($O$11*6/1000) -> 0.03130371 | O17: =RADIANS(O11) -> 209.43951
A18: =A17+2 -> -328 | B18: =RADIANS(A18) -> -5.7246799 | C18: 9.853308e-06 | D18: =$O$3*(1-COS(RADIANS(A18))) + ($O$5 - SQRT($O$5^2 - ($O$3*SIN(RADIANS(A18)))^2)) -> 0.0078927808 | E18: =D18-D17 -> 0.0009201886 | F18: 77.96 | G18: =(E18/2) * ($O$6*6/1000) -> 0.0055211316 | H18: =(E18/2) * ($O$7*6/1000) -> 0.011042263 | I18: =(E18/2) * ($O$8*6/1000) -> 0.016563395 | J18: =(E18/2) * ($O$9*6/1000) -> 0.022084526 | K18: =(E18/2) * ($O$10*6/1000) -> 0.027605658 | L18: =(E18/2) * ($O$11*6/1000) -> 0.03312679
A19: =A18+2 -> -326 | B19: =RADIANS(A19) -> -5.6897734 | C19: 1.1592127e-05 | D19: =$O$3*(1-COS(RADIANS(A19))) + ($O$5 - SQRT($O$5^2 - ($O$3*SIN(RADIANS(A19)))^2)) -> 0.008861831 | E19: =D19-D18 -> 0.00096905012 | F19: 82.71 | G19: =(E19/2) * ($O$6*6/1000) -> 0.0058143007 | H19: =(E19/2) * ($O$7*6/1000) -> 0.011628601 | I19: =(E19/2) * ($O$8*6/1000) -> 0.017442902 | J19: =(E19/2) * ($O$9*6/1000) -> 0.023257203 | K19: =(E19/2) * ($O$10*6/1000) -> 0.029071503 | L19: =(E19/2) * ($O$11*6/1000) -> 0.034885804
A20: =A19+2 -> -324 | B20: =RADIANS(A20) -> -5.6548668 | C20: 1.3744951e-05 | D20: =$O$3*(1-COS(RADIANS(A20))) + ($O$5 - SQRT($O$5^2 - ($O$3*SIN(RADIANS(A20)))^2)) -> 0.0098778758 | E20: =D20-D19 -> 0.0010160448 | F20: 87.69 | G20: =(E20/2) * ($O$6*6/1000) -> 0.006096269 | H20: =(E20/2) * ($O$7*6/1000) -> 0.012192538 | I20: =(E20/2) * ($O$8*6/1000) -> 0.018288807 | J20: =(E20/2) * ($O$9*6/1000) -> 0.024385076 | K20: =(E20/2) * ($O$10*6/1000) -> 0.030481345 | L20: =(E20/2) * ($O$11*6/1000) -> 0.036577614
A21: =A20+2 -> -322 | B21: =RADIANS(A21) -> -5.6199602 | C21: 1.6146177e-05 | D21: =$O$3*(1-COS(RADIANS(A21))) + ($O$5 - SQRT($O$5^2 - ($O$3*SIN(RADIANS(A21)))^2)) -> 0.010938966 | E21: =D21-D20 -> 0.0010610907 | F21: 92.89 | G21: =(E21/2) * ($O$6*6/1000) -> 0.0063665441 | H21: =(E21/2) * ($O$7*6/1000) -> 0.012733088 | I21: =(E21/2) * ($O$8*6/1000) -> 0.019099632 | J21: =(E21/2) * ($O$9*6/1000) -> 0.025466177 | K21: =(E21/2) * ($O$10*6/1000) -> 0.031832721 | L21: =(E21/2) * ($O$11*6/1000) -> 0.038199265
A22: =A21+2 -> -320 | B22: =RADIANS(A22) -> -5.5850536 | C22: 1.9044209e-05 | D22: =$O$3*(1-COS(RADIANS(A22))) + ($O$5 - SQRT($O$5^2 - ($O$3*SIN(RADIANS(A22)))^2)) -> 0.012043077 | E22: =D22-D21 -> 0.001104111 | F22: 98.3 | G22: =(E22/2) * ($O$6*6/1000) -> 0.0066246658 | H22: =(E22/2) * ($O$7*6/1000) -> 0.013249332 | I22: =(E22/2) * ($O$8*6/1000) -> 0.019873997 | J22: =(E22/2) * ($O$9*6/1000) -> 0.026498663 | K22: =(E22/2) * ($O$10*6/1000) -> 0.033123329 | L22: =(E22/2) * ($O$11*6/1000) -> 0.039747995
A23: =A22+2 -> -318 | B23: =RADIANS(A23) -> -5.550147 | C23: 2.2356245e-05 | D23: =$O$3*(1-COS(RADIANS(A23))) + ($O$5 - SQRT($O$5^2 - ($O$3*SIN(RADIANS(A23)))^2)) -> 0.013188112 | E23: =D23-D22 -> 0.0011450346 | F23: 103.92 | G23: =(E23/2) * ($O$6*6/1000) -> 0.0068702075 | H23: =(E23/2) * ($O$7*6/1000) -> 0.013740415 | I23: =(E23/2) * ($O$8*6/1000) -> 0.020610622 | J23: =(E23/2) * ($O$9*6/1000) -> 0.02748083 | K23: =(E23/2) * ($O$10*6/1000) -> 0.034351037 | L23: =(E23/2) * ($O$11*6/1000) -> 0.041221245
A24: =A23+2 -> -316 | B24: =RADIANS(A24) -> -5.5152404 | C24: 2.6247888e-05 | D24: =$O$3*(1-COS(RADIANS(A24))) + ($O$5 - SQRT($O$5^2 - ($O$3*SIN(RADIANS(A24)))^2)) -> 0.014371908 | E24: =D24-D23 -> 0.0011837964 | F24: 109.72 | G24: =(E24/2) * ($O$6*6/1000) -> 0.0071027784 | H24: =(E24/2) * ($O$7*6/1000) -> 0.014205557 | I24: =(E24/2) * ($O$8*6/1000) -> 0.021308335 | J24: =(E24/2) * ($O$9*6/1000) -> 0.028411113 | K24: =(E24/2) * ($O$10*6/1000) -> 0.035513892 | L24: =(E24/2) * ($O$11*6/1000) -> 0.04261667
A25: =A24+2 -> -314 | B25: =RADIANS(A25) -> -5.4803339 | C25: 3.0801938e-05 | D25: =$O$3*(1-COS(RADIANS(A25))) + ($O$5 - SQRT($O$5^2 - ($O$3*SIN(RADIANS(A25)))^2)) -> 0.015592246 | E25: =D25-D24 -> 0.0012203373 | F25: 115.7 | G25: =(E25/2) * ($O$6*6/1000) -> 0.007322024 | H25: =(E25/2) * ($O$7*6/1000) -> 0.014644048 | I25: =(E25/2) * ($O$8*6/1000) -> 0.021966072 | J25: =(E25/2) * ($O$9*6/1000) -> 0.029288096 | K25: =(E25/2) * ($O$10*6/1000) -> 0.03661012 | L25: =(E25/2) * ($O$11*6/1000) -> 0.043932144
A26: =A25+2 -> -312 | B26: =RADIANS(A26) -> -5.4454273 | C26: 3.6101196e-05 | D26: =$O$3*(1-COS(RADIANS(A26))) + ($O$5 - SQRT($O$5^2 - ($O$3*SIN(RADIANS(A26)))^2)) -> 0.01684685 | E26: =D26-D25 -> 0.0012546047 | F26: 121.85 | G26: =(E26/2) * ($O$6*6/1000) -> 0.0075276283 | H26: =(E26/2) * ($O$7*6/1000) -> 0.015055257 | I26: =(E26/2) * ($O$8*6/1000) -> 0.022582885 | J26: =(E26/2) * ($O$9*6/1000) -> 0.030110513 | K26: =(E26/2) * ($O$10*6/1000) -> 0.037638142 | L26: =(E26/2) * ($O$11*6/1000) -> 0.04516577
A27: =A26+2 -> -310 | B27: =RADIANS(A27) -> -5.4105207 | C27: 4.2228463e-05 | D27: =$O$3*(1-COS(RADIANS(A27))) + ($O$5 - SQRT($O$5^2 - ($O$3*SIN(RADIANS(A27)))^2)) -> 0.018133403 | E27: =D27-D26 -> 0.0012865524 | F27: 128.16 | G27: =(E27/2) * ($O$6*6/1000) -> 0.0077193141 | H27: =(E27/2) * ($O$7*6/1000) -> 0.015438628 | I27: =(E27/2) * ($O$8*6/1000) -> 0.023157942 | J27: =(E27/2) * ($O$9*6/1000) -> 0.030877256 | K27: =(E27/2) * ($O$10*6/1000) -> 0.038596571 | L27: =(E27/2) * ($O$11*6/1000) -> 0.046315885
A28: =A27+2 -> -308 | B28: =RADIANS(A28) -> -5.3756141 | C28: 4.9432142e-05 | D28: =$O$3*(1-COS(RADIANS(A28))) + ($O$5 - SQRT($O$5^2 - ($O$3*SIN(RADIANS(A28)))^2)) -> 0.019449544 | E28: =D28-D27 -> 0.0013161408 | F28: 134.61 | G28: =(E28/2) * ($O$6*6/1000) -> 0.0078968446 | H28: =(E28/2) * ($O$7*6/1000) -> 0.015793689 | I28: =(E28/2) * ($O$8*6/1000) -> 0.023690534 | J28: =(E28/2) * ($O$9*6/1000) -> 0.031587378 | K28: =(E28/2) * ($O$10*6/1000) -> 0.039484223 | L28: =(E28/2) * ($O$11*6/1000) -> 0.047381068
A29: =A28+2 -> -306 | B29: =RADIANS(A29) -> -5.3407075 | C29: 5.7795033e-05 | D29: =$O$3*(1-COS(RADIANS(A29))) + ($O$5 - SQRT($O$5^2 - ($O$3*SIN(RADIANS(A29)))^2)) -> 0.020792881 | E29: =D29-D28 -> 0.0013433373 | F29: 141.19 | G29: =(E29/2) * ($O$6*6/1000) -> 0.008060024 | H29: =(E29/2) * ($O$7*6/1000) -> 0.016120048 | I29: =(E29/2) * ($O$8*6/1000) -> 0.024180072 | J29: =(E29/2) * ($O$9*6/1000) -> 0.032240096 | K29: =(E29/2) * ($O$10*6/1000) -> 0.04030012 | L29: =(E29/2) * ($O$11*6/1000) -> 0.048360144
... A362: =A361+2 -> 360 | B362: =RADIANS(A362) -> 6.2831853 | C362: 5.0342952e-07 | D362: =$O$3*(1-COS(RADIANS(A362))) + ($O$5 - SQRT($O$5^2 - ($O$3*SIN(RADIANS(A362)))^2)) -> 0 | E362: =D362-D361 -> -3.2156908e-05 | F362: 39.27 | G362: =(E362/2) * ($O$6*6/1000) -> -0.00019294145 | H362: =(E362/2) * ($O$7*6/1000) -> -0.00038588289 | I362: =(E362/2) * ($O$8*6/1000) -> -0.00057882434 | J362: =(E362/2) * ($O$9*6/1000) -> -0.00077176578 | K362: =(E362/2) * ($O$10*6/1000) -> -0.00096470723 | L362: =(E362/2) * ($O$11*6/1000) -> -0.0011576487

Sheet Vel,Acc,Jer (Inlet)
A1: Crank Angle (º) | B1: Cam Angle (º) | C1: Valve Lift (mm) | D1: Velocity | E1: Velocity @ | F1: Velocity @ | G1: Velocity @ | H1: Velocity @ | I1: Velocity @ | J1: Velocity @ | K1: Acceleration | L1: Acceleration @ | M1: Acceleration @ | N1: Acceleration @ | O1: Acceleration @ | P1: Acceleration @ | Q1: Acceleration @ | R1: Moving Mass | S1: ma @ | T1: ma @ | U1: ma @ | V1: ma @ | W1: ma @ | X1: ma @ | Y1: Spring Force (N) | Z1: Contact Force @ | AA1: Contact Force @ | AB1: Contact Force @ | AC1: Contact Force @ | AD1: Contact Force @ | AE1: Contact Force @
D2: (mm/degree) | E2: 2000 rpm (mm/sec) | F2: 4000 rpm (mm/sec) | G2: 6000 rpm (mm/sec) | H2: 8000 rpm (mm/sec) | I2: 10000 rpm (mm/sec) | J2: 12000 rpm (mm/sec) | K2: (mm/degree) | L2: 2000 rpm (mm/s/s) | M2: 4000 rpm (mm/s/s) | N2: 6000 rpm (mm/s/s) | O2: 8000 rpm (mm/s/s) | P2: 10000 rpm (mm/s/s) | Q2: 12000 rpm (mm/s/s) | R2: (kg) | S2: 2000rpm | T2: 4000rpm | U2: 6000rpm | V2: 8000rpm | W2: 10000rpm | X2: 12000rpm | Z2: 2000 rpm | AA2: 4000 rpm | AB2: 6000 rpm | AC2: 8000 rpm | AD2: 10000 rpm | AE2: 12000 rpm
A3: -360 | B3: 0 | C3: 6.8141432e-07 | D3: =SUM((C4-C3)/(B4-B3)) -> 1.3628286e-07 | E3: =SUM(D3*(6*2000)) -> 0.0016353944 | F3: =SUM(D3*(6*4000)) -> 0.0032707887 | G3: =SUM(D3*(6*6000)) -> 0.0049061831 | H3: =SUM(D3*(6*8000)) -> 0.0065415775 | I3: =SUM(D3*(6*10000)) -> 0.0081769719 | J3: =SUM(D3*(6*12000)) -> 0.0098123662 | K3: =SUM((C5-(2*C4)+C3)/((B4-B3)^2)) -> 2.613644e-08 | L3: =SUM($K$3*((6*2000)^2)) -> 3.7636473 | M3: =SUM(K3*((6*4000)^2)) -> 15.054589 | N3: =SUM(K3*((6*6000)^2)) -> 33.872826 | O3: =SUM(K3*((6*8000)^2)) -> 60.218357 | P3: =SUM(K3*((6*10000)^2)) -> 94.091183 | Q3: =SUM(K3*((6*12000)^2)) -> 135.4913 | R3: 0.2456 | S3: =SUM($R$3*L3) -> 0.92435178 | T3: =SUM($R$3*M3) -> 3.6974071 | U3: =SUM($R$3*N3) -> 8.319166 | V3: =SUM($R$3*O3) -> 14.789629 | W3: =SUM($R$3*P3) -> 23.108795 | X3: =SUM($R$3*Q3) -> 33.276664 | Y3: =SUM('Masses & Spring Data'!$K$11*('Masses & Spring Data'!$I$3+'Vel,Acc,Jer (Inlet)'!C3)) -> 1453.61 | Z3: =SUM(S3+Y3) -> 1454.5344 | AA3: =SUM(T3+Y4) -> 1457.3295 | AB3: =SUM(U3+Y3) -> 1461.9292 | AC3: =SUM(V3+Y3) -> 1468.3997 | AD3: =SUM(W3+Y3) -> 1476.7188 | AE3: =SUM(X3+Y3) -> 1486.8867
A4: -358 | B4: =B3+1 -> 1 | C4: 8.1769719e-07 | D4: =SUM((C5-C4)/(B5-B4)) -> 1.624193e-07 | E4: =SUM(D4*(6*2000)) -> 0.0019490316 | F4: =SUM(D4*(6*4000)) -> 0.0038980633 | G4: =SUM(D4*(6*6000)) -> 0.0058470949 | H4: =SUM(D4*(6*8000)) -> 0.0077961266 | I4: =SUM(D4*(6*10000)) -> 0.0097451582 | J4: =SUM(D4*(6*12000)) -> 0.01169419 | K4: =SUM((C6-(2*C5)+C4)/((B5-B4)^2)) -> 3.3603994e-08 | L4: =SUM(K4*((6*2000)^2)) -> 4.8389751 | M4: =SUM(K4*((6*4000)^2)) -> 19.355901 | N4: =SUM(K4*((6*6000)^2)) -> 43.550776 | O4: =SUM(K4*((6*8000)^2)) -> 77.423602 | P4: =SUM(K4*((6*10000)^2)) -> 120.97438 | Q4: =SUM(K4*((6*12000)^2)) -> 174.2031 | R4: 0.2456 | S4: =SUM($R$3*L4) -> 1.1884523 | T4: =SUM($R$3*M4) -> 4.7538092 | U4: =SUM($R$3*N4) -> 10.696071 | V4: =SUM($R$3*O4) -> 19.015237 | W4: =SUM($R$3*P4) -> 29.711307 | X4: =SUM($R$3*Q4) -> 42.784282 | Y4: =SUM('Masses & Spring Data'!$K$11*('Masses & Spring Data'!$I$3+'Vel,Acc,Jer (Inlet)'!C4)) -> 1453.6321 | Z4: =SUM(S4+Y4) -> 1454.8205 | AA4: =SUM(T4+Y5) -> 1458.4121 | AB4: =SUM(U4+Y4) -> 1464.3281 | AC4: =SUM(V4+Y4) -> 1472.6473 | AD4: =SUM(W4+Y4) -> 1483.3434 | AE4: =SUM(X4+Y4) -> 1496.4163
A5: -356 | B5: =B4+1 -> 2 | C5: 9.8011649e-07 | D5: =SUM((C6-C5)/(B6-B5)) -> 1.960233e-07 | E5: =SUM(D5*(6*2000)) -> 0.0023522796 | F5: =SUM(D5*(6*4000)) -> 0.0047045592 | G5: =SUM(D5*(6*6000)) -> 0.0070568387 | H5: =SUM(D5*(6*8000)) -> 0.0094091183 | I5: =SUM(D5*(6*10000)) -> 0.011761398 | J5: =SUM(D5*(6*12000)) -> 0.014113677 | K5: =SUM((C7-(2*C6)+C5)/((B6-B5)^2)) -> 2.8003328e-08 | L5: =SUM(K5*((6*2000)^2)) -> 4.0324793 | M5: =SUM(K5*((6*4000)^2)) -> 16.129917 | N5: =SUM(K5*((6*6000)^2)) -> 36.292313 | O5: =SUM(K5*((6*8000)^2)) -> 64.519668 | P5: =SUM(K5*((6*10000)^2)) -> 100.81198 | Q5: =SUM(K5*((6*12000)^2)) -> 145.16925 | R5: 0.2456 | S5: =SUM($R$3*L5) -> 0.99037691 | T5: =SUM($R$3*M5) -> 3.9615076 | U5: =SUM($R$3*N5) -> 8.9133922 | V5: =SUM($R$3*O5) -> 15.846031 | W5: =SUM($R$3*P5) -> 24.759423 | X5: =SUM($R$3*Q5) -> 35.653569 | Y5: =SUM('Masses & Spring Data'!$K$11*('Masses & Spring Data'!$I$3+'Vel,Acc,Jer (Inlet)'!C5)) -> 1453.6583 | Z5: =SUM(S5+Y5) -> 1454.6487 | AA5: =SUM(T5+Y6) -> 1457.6515 | AB5: =SUM(U5+Y5) -> 1462.5717 | AC5: =SUM(V5+Y5) -> 1469.5043 | AD5: =SUM(W5+Y5) -> 1478.4177 | AE5: =SUM(X5+Y5) -> 1489.3119
A6: -354 | B6: =B5+1 -> 3 | C6: 1.1761398e-06 | D6: =SUM((C7-C6)/(B7-B6)) -> 2.2402663e-07 | E6: =SUM(D6*(6*2000)) -> 0.0026883195 | F6: =SUM(D6*(6*4000)) -> 0.005376639 | G6: =SUM(D6*(6*6000)) -> 0.0080649585 | H6: =SUM(D6*(6*8000)) -> 0.010753278 | I6: =SUM(D6*(6*10000)) -> 0.013441598 | J6: =SUM(D6*(6*12000)) -> 0.016129917 | K6: =SUM((C8-(2*C7)+C6)/((B7-B6)^2)) -> 5.6006657e-08 | L6: =SUM(K6*((6*2000)^2)) -> 8.0649585 | M6: =SUM(K6*((6*4000)^2)) -> 32.259834 | N6: =SUM(K6*((6*6000)^2)) -> 72.584627 | O6: =SUM(K6*((6*8000)^2)) -> 129.03934 | P6: =SUM(K6*((6*10000)^2)) -> 201.62396 | Q6: =SUM(K6*((6*12000)^2)) -> 290.33851 | R6: 0.2456 | S6: =SUM($R$3*L6) -> 1.9807538 | T6: =SUM($R$3*M6) -> 7.9230153 | U6: =SUM($R$3*N6) -> 17.826784 | V6: =SUM($R$3*O6) -> 31.692061 | W6: =SUM($R$3*P6) -> 49.518845 | X6: =SUM($R$3*Q6) -> 71.307137 | Y6: =SUM('Masses & Spring Data'!$K$11*('Masses & Spring Data'!$I$3+'Vel,Acc,Jer (Inlet)'!C6)) -> 1453.6899 | Z6: =SUM(S6+Y6) -> 1455.6707 | AA6: =SUM(T6+Y7) -> 1461.6491 | AB6: =SUM(U6+Y6) -> 1471.5167 | AC6: =SUM(V6+Y6) -> 1485.382 | AD6: =SUM(W6+Y6) -> 1503.2088 | AE6: =SUM(X6+Y6) -> 1524.9971
A7: -352 | B7: =B6+1 -> 4 | C7: 1.4001664e-06 | D7: =SUM((C8-C7)/(B8-B7)) -> 2.8003328e-07 | E7: =SUM(D7*(6*2000)) -> 0.0033603994 | F7: =SUM(D7*(6*4000)) -> 0.0067207988 | G7: =SUM(D7*(6*6000)) -> 0.010081198 | H7: =SUM(D7*(6*8000)) -> 0.013441598 | I7: =SUM(D7*(6*10000)) -> 0.016801997 | J7: =SUM(D7*(6*12000)) -> 0.020162396 | K7: =SUM((C9-(2*C8)+C7)/((B8-B7)^2)) -> 3.7337771e-08 | L7: =SUM(K7*((6*2000)^2)) -> 5.376639 | M7: =SUM(K7*((6*4000)^2)) -> 21.506556 | N7: =SUM(K7*((6*6000)^2)) -> 48.389751 | O7: =SUM(K7*((6*8000)^2)) -> 86.026224 | P7: =SUM(K7*((6*10000)^2)) -> 134.41598 | Q7: =SUM(K7*((6*12000)^2)) -> 193.55901 | R7: 0.2456 | S7: =SUM($R$3*L7) -> 1.3205025 | T7: =SUM($R$3*M7) -> 5.2820102 | U7: =SUM($R$3*N7) -> 11.884523 | V7: =SUM($R$3*O7) -> 21.128041 | W7: =SUM($R$3*P7) -> 33.012564 | X7: =SUM($R$3*Q7) -> 47.538092 | Y7: =SUM('Masses & Spring Data'!$K$11*('Masses & Spring Data'!$I$3+'Vel,Acc,Jer (Inlet)'!C7)) -> 1453.7261 | Z7: =SUM(S7+Y7) -> 1455.0466 | AA7: =SUM(T7+Y8) -> 1459.0534 | AB7: =SUM(U7+Y7) -> 1465.6106 | AC7: =SUM(V7+Y7) -> 1474.8542 | AD7: =SUM(W7+Y7) -> 1486.7387 | AE7: =SUM(X7+Y7) -> 1501.2642
A8: -350 | B8: =B7+1 -> 5 | C8: 1.6801997e-06 | D8: =SUM((C9-C8)/(B9-B8)) -> 3.1737105e-07 | E8: =SUM(D8*(6*2000)) -> 0.0038084526 | F8: =SUM(D8*(6*4000)) -> 0.0076169053 | G8: =SUM(D8*(6*6000)) -> 0.011425358 | H8: =SUM(D8*(6*8000)) -> 0.015233811 | I8: =SUM(D8*(6*10000)) -> 0.019042263 | J8: =SUM(D8*(6*12000)) -> 0.022850716 | K8: =SUM((C10-(2*C9)+C8)/((B9-B8)^2)) -> 7.4675542e-08 | L8: =SUM(K8*((6*2000)^2)) -> 10.753278 | M8: =SUM(K8*((6*4000)^2)) -> 43.013112 | N8: =SUM(K8*((6*6000)^2)) -> 96.779503 | O8: =SUM(K8*((6*8000)^2)) -> 172.05245 | P8: =SUM(K8*((6*10000)^2)) -> 268.83195 | Q8: =SUM(K8*((6*12000)^2)) -> 387.11801 | R8: 0.2456 | S8: =SUM($R$3*L8) -> 2.6410051 | T8: =SUM($R$3*M8) -> 10.56402 | U8: =SUM($R$3*N8) -> 23.769046 | V8: =SUM($R$3*O8) -> 42.256081 | W8: =SUM($R$3*P8) -> 66.025127 | X8: =SUM($R$3*Q8) -> 95.076183 | Y8: =SUM('Masses & Spring Data'!$K$11*('Masses & Spring Data'!$I$3+'Vel,Acc,Jer (Inlet)'!C8)) -> 1453.7714 | Z8: =SUM(S8+Y8) -> 1456.4124 | AA8: =SUM(T8+Y9) -> 1464.3866 | AB8: =SUM(U8+Y8) -> 1477.5404 | AC8: =SUM(V8+Y8) -> 1496.0274 | AD8: =SUM(W8+Y8) -> 1519.7965 | AE8: =SUM(X8+Y8) -> 1548.8475
A9: -348 | B9: =B8+1 -> 6 | C9: 1.9975708e-06 | D9: =SUM((C10-C9)/(B10-B9)) -> 3.920466e-07 | E9: =SUM(D9*(6*2000)) -> 0.0047045592 | F9: =SUM(D9*(6*4000)) -> 0.0094091183 | G9: =SUM(D9*(6*6000)) -> 0.014113677 | H9: =SUM(D9*(6*8000)) -> 0.018818237 | I9: =SUM(D9*(6*10000)) -> 0.023522796 | J9: =SUM(D9*(6*12000)) -> 0.028227355 | K9: =SUM((C11-(2*C10)+C9)/((B10-B9)^2)) -> 6.5341099e-08 | L9: =SUM(K9*((6*2000)^2)) -> 9.4091183 | M9: =SUM(K9*((6*4000)^2)) -> 37.636473 | N9: =SUM(K9*((6*6000)^2)) -> 84.682065 | O9: =SUM(K9*((6*8000)^2)) -> 150.54589 | P9: =SUM(K9*((6*10000)^2)) -> 235.22796 | Q9: =SUM(K9*((6*12000)^2)) -> 338.72826 | R9: 0.2456 | S9: =SUM($R$3*L9) -> 2.3108795 | T9: =SUM($R$3*M9) -> 9.2435178 | U9: =SUM($R$3*N9) -> 20.797915 | V9: =SUM($R$3*O9) -> 36.974071 | W9: =SUM($R$3*P9) -> 57.771986 | X9: =SUM($R$3*Q9) -> 83.19166 | Y9: =SUM('Masses & Spring Data'!$K$11*('Masses & Spring Data'!$I$3+'Vel,Acc,Jer (Inlet)'!C9)) -> 1453.8226 | Z9: =SUM(S9+Y9) -> 1456.1335 | AA9: =SUM(T9+Y10) -> 1463.1294 | AB9: =SUM(U9+Y9) -> 1474.6205 | AC9: =SUM(V9+Y9) -> 1490.7967 | AD9: =SUM(W9+Y9) -> 1511.5946 | AE9: =SUM(X9+Y9) -> 1537.0143
A10: -346 | B10: =B9+1 -> 7 | C10: 2.3896173e-06 | D10: =SUM((C11-C10)/(B11-B10)) -> 4.573877e-07 | E10: =SUM(D10*(6*2000)) -> 0.0054886523 | F10: =SUM(D10*(6*4000)) -> 0.010977305 | G10: =SUM(D10*(6*6000)) -> 0.016465957 | H10: =SUM(D10*(6*8000)) -> 0.021954609 | I10: =SUM(D10*(6*10000)) -> 0.027443262 | J10: =SUM(D10*(6*12000)) -> 0.032931914 | K10: =SUM((C12-(2*C11)+C10)/((B11-B10)^2)) -> 7.4675542e-08 | L10: =SUM(K10*((6*2000)^2)) -> 10.753278 | M10: =SUM(K10*((6*4000)^2)) -> 43.013112 | N10: =SUM(K10*((6*6000)^2)) -> 96.779503 | O10: =SUM(K10*((6*8000)^2)) -> 172.05245 | P10: =SUM(K10*((6*10000)^2)) -> 268.83195 | Q10: =SUM(K10*((6*12000)^2)) -> 387.11801 | R10: 0.2456 | S10: =SUM($R$3*L10) -> 2.6410051 | T10: =SUM($R$3*M10) -> 10.56402 | U10: =SUM($R$3*N10) -> 23.769046 | V10: =SUM($R$3*O10) -> 42.256081 | W10: =SUM($R$3*P10) -> 66.025127 | X10: =SUM($R$3*Q10) -> 95.076183 | Y10: =SUM('Masses & Spring Data'!$K$11*('Masses & Spring Data'!$I$3+'Vel,Acc,Jer (Inlet)'!C10)) -> 1453.8859 | Z10: =SUM(S10+Y10) -> 1456.5269 | AA10: =SUM(T10+Y11) -> 1464.5238 | AB10: =SUM(U10+Y10) -> 1477.655 | AC10: =SUM(V10+Y10) -> 1496.142 | AD10: =SUM(W10+Y10) -> 1519.9111 | AE10: =SUM(X10+Y10) -> 1548.9621
A11: -344 | B11: =B10+1 -> 8 | C11: 2.847005e-06 | D11: =SUM((C12-C11)/(B12-B11)) -> 5.3206324e-07 | E11: =SUM(D11*(6*2000)) -> 0.0063847588 | F11: =SUM(D11*(6*4000)) -> 0.012769518 | G11: =SUM(D11*(6*6000)) -> 0.019154277 | H11: =SUM(D11*(6*8000)) -> 0.025539035 | I11: =SUM(D11*(6*10000)) -> 0.031923794 | J11: =SUM(D11*(6*12000)) -> 0.038308553 | K11: =SUM((C13-(2*C12)+C11)/((B12-B11)^2)) -> 1.1201331e-07 | L11: =SUM(K11*((6*2000)^2)) -> 16.129917 | M11: =SUM(K11*((6*4000)^2)) -> 64.519668 | N11: =SUM(K11*((6*6000)^2)) -> 145.16925 | O11: =SUM(K11*((6*8000)^2)) -> 258.07867 | P11: =SUM(K11*((6*10000)^2)) -> 403.24793 | Q11: =SUM(K11*((6*12000)^2)) -> 580.67702 | R11: 0.2456 | S11: =SUM($R$3*L11) -> 3.9615076 | T11: =SUM($R$3*M11) -> 15.846031 | U11: =SUM($R$3*N11) -> 35.653569 | V11: =SUM($R$3*O11) -> 63.384122 | W11: =SUM($R$3*P11) -> 99.037691 | X11: =SUM($R$3*Q11) -> 142.61427 | Y11: =SUM('Masses & Spring Data'!$K$11*('Masses & Spring Data'!$I$3+'Vel,Acc,Jer (Inlet)'!C11)) -> 1453.9598 | Z11: =SUM(S11+Y11) -> 1457.9213 | AA11: =SUM(T11+Y12) -> 1469.8918 | AB11: =SUM(U11+Y11) -> 1489.6134 | AC11: =SUM(V11+Y11) -> 1517.3439 | AD11: =SUM(W11+Y11) -> 1552.9975 | AE11: =SUM(X11+Y11) -> 1596.5741
A12: -342 | B12: =B11+1 -> 9 | C12: 3.3790683e-06 | D12: =SUM((C13-C12)/(B13-B12)) -> 6.4407655e-07 | E12: =SUM(D12*(6*2000)) -> 0.0077289186 | F12: =SUM(D12*(6*4000)) -> 0.015457837 | G12: =SUM(D12*(6*6000)) -> 0.023186756 | H12: =SUM(D12*(6*8000)) -> 0.030915674 | I12: =SUM(D12*(6*10000)) -> 0.038644593 | J12: =SUM(D12*(6*12000)) -> 0.046373512 | K12: =SUM((C14-(2*C13)+C12)/((B13-B12)^2)) -> 1.1201331e-07 | L12: =SUM(K12*((6*2000)^2)) -> 16.129917 | M12: =SUM(K12*((6*4000)^2)) -> 64.519668 | N12: =SUM(K12*((6*6000)^2)) -> 145.16925 | O12: =SUM(K12*((6*8000)^2)) -> 258.07867 | P12: =SUM(K12*((6*10000)^2)) -> 403.24793 | Q12: =SUM(K12*((6*12000)^2)) -> 580.67702 | R12: 0.2456 | S12: =SUM($R$3*L12) -> 3.9615076 | T12: =SUM($R$3*M12) -> 15.846031 | U12: =SUM($R$3*N12) -> 35.653569 | V12: =SUM($R$3*O12) -> 63.384122 | W12: =SUM($R$3*P12) -> 99.037691 | X12: =SUM($R$3*Q12) -> 142.61427 | Y12: =SUM('Masses & Spring Data'!$K$11*('Masses & Spring Data'!$I$3+'Vel,Acc,Jer (Inlet)'!C12)) -> 1454.0457 | Z12: =SUM(S12+Y12) -> 1458.0072 | AA12: =SUM(T12+Y13) -> 1469.9958 | AB12: =SUM(U12+Y12) -> 1489.6993 | AC12: =SUM(V12+Y12) -> 1517.4298 | AD12: =SUM(W12+Y12) -> 1553.0834 | AE12: =SUM(X12+Y12) -> 1596.66
A13: -340 | B13: =B12+1 -> 10 | C13: 4.0231448e-06 | D13: =SUM((C14-C13)/(B14-B13)) -> 7.5608986e-07 | E13: =SUM(D13*(6*2000)) -> 0.0090730784 | F13: =SUM(D13*(6*4000)) -> 0.018146157 | G13: =SUM(D13*(6*6000)) -> 0.027219235 | H13: =SUM(D13*(6*8000)) -> 0.036292313 | I13: =SUM(D13*(6*10000)) -> 0.045365392 | J13: =SUM(D13*(6*12000)) -> 0.05443847 | K13: =SUM((C15-(2*C14)+C13)/((B14-B13)^2)) -> 1.306822e-07 | L13: =SUM(K13*((6*2000)^2)) -> 18.818237 | M13: =SUM(K13*((6*4000)^2)) -> 75.272946 | N13: =SUM(K13*((6*6000)^2)) -> 169.36413 | O13: =SUM(K13*((6*8000)^2)) -> 301.09179 | P13: =SUM(K13*((6*10000)^2)) -> 470.45592 | Q13: =SUM(K13*((6*12000)^2)) -> 677.45652 | R13: 0.2456 | S13: =SUM($R$3*L13) -> 4.6217589 | T13: =SUM($R$3*M13) -> 18.487036 | U13: =SUM($R$3*N13) -> 41.59583 | V13: =SUM($R$3*O13) -> 73.948143 | W13: =SUM($R$3*P13) -> 115.54397 | X13: =SUM($R$3*Q13) -> 166.38332 | Y13: =SUM('Masses & Spring Data'!$K$11*('Masses & Spring Data'!$I$3+'Vel,Acc,Jer (Inlet)'!C13)) -> 1454.1497 | Z13: =SUM(S13+Y13) -> 1458.7715 | AA13: =SUM(T13+Y14) -> 1472.7589 | AB13: =SUM(U13+Y13) -> 1495.7456 | AC13: =SUM(V13+Y13) -> 1528.0979 | AD13: =SUM(W13+Y13) -> 1569.6937 | AE13: =SUM(X13+Y13) -> 1620.5331
