Workbook

Sheet Part 1
A2: 1
A22: 2
Z28: - | AA28: Peak | AB28: Mean
Z29: rpm | AA29: m/s | AB29: m/s
Z30: 2000 | AA30: =MAX('360x360 for Valve Lift (Inlet)'!$G$2:$G$362) -> 0.0088940596 | AB30: =AVERAGE('360x360 for Valve Lift (Inlet)'!$G$2:$G$362) -> 2.2337268e-19
Z31: 4000 | AA31: =MAX('360x360 for Valve Lift (Inlet)'!$H$2:$H$362) -> 0.017788119 | AB31: =AVERAGE('360x360 for Valve Lift (Inlet)'!$H$2:$H$362) -> 4.4674536e-19
Z32: 6000 | AA32: =MAX('360x360 for Valve Lift (Inlet)'!$I$2:$I$362) -> 0.026682179 | AB32: =AVERAGE('360x360 for Valve Lift (Inlet)'!$I$2:$I$362) -> -4.4659519e-19
Z33: 8000 | AA33: =MAX('360x360 for Valve Lift (Inlet)'!$J$2:$J$362) -> 0.035576239 | AB33: =AVERAGE('360x360 for Valve Lift (Inlet)'!$J$2:$J$362) -> 8.9349071e-19
Z34: 10000 | AA34: =MAX('360x360 for Valve Lift (Inlet)'!$K$2:$K$362) -> 0.044470298 | AB34: =AVERAGE('360x360 for Valve Lift (Inlet)'!$K$2:$K$362) -> -1.4905527e-18
Z35: 12000 | AA35: =MAX('360x360 for Valve Lift (Inlet)'!$L$2:$L$362) -> 0.053364358 | AB35: =AVERAGE('360x360 for Valve Lift (Inlet)'!$L$2:$L$362) -> -8.9319038e-19
A47: 3
A70: 4
A103: 5
AF116: Inlet | AJ116: Exhaust
AF117: - | AG117: Peak | AH117: Mean | AJ117: - | AK117: Peak | AL117: Mean
AF118: RPM | AG118: mm/sec | AH118: mm/sec | AJ118: RPM | AK118: mm/sec | AL118: mm/sec
AF119: 2000 | AG119: =MAX('Vel,Acc,Jer (Inlet)'!$E$3:$E$363) -> 2183.1395 | AH119: =AVERAGE('Vel,Acc,Jer (Inlet)'!$E$3:$E$363) -> -3.7330877e-06 | AJ119: 2000 | AK119: =MAX('Vel,Acc,Jer (Exh)'!$E$3:$E$363) -> 1936.5476 | AL119: =AVERAGE('Vel,Acc,Jer (Exh)'!$E$3:$E$363) -> -3.3114244e-06
AF120: 4000 | AG120: =MAX('Vel,Acc,Jer (Inlet)'!$E$3:$F$363) -> 4366.2789 | AH120: =AVERAGE('Vel,Acc,Jer (Inlet)'!$E$3:$F$363) -> -5.5996314e-06 | AJ120: 4000 | AK120: =MAX('Vel,Acc,Jer (Exh)'!$E$3:$F$363) -> 3873.0952 | AL120: =AVERAGE('Vel,Acc,Jer (Exh)'!$E$3:$F$363) -> -4.9671371e-06
AF121: 6000 | AG121: =MAX('Vel,Acc,Jer (Inlet)'!$G$3:$G$363) -> 6549.4184 | AH121: =AVERAGE('Vel,Acc,Jer (Inlet)'!$G$3:$G$363) -> -1.1199263e-05 | AJ121: 6000 | AK121: =MAX('Vel,Acc,Jer (Exh)'!$G$3:$G$363) -> 5809.6429 | AL121: =AVERAGE('Vel,Acc,Jer (Exh)'!$G$3:$G$363) -> -9.9342744e-06
AF122: 8000 | AG122: =MAX('Vel,Acc,Jer (Inlet)'!$H$3:$H$363) -> 8732.5579 | AH122: =AVERAGE('Vel,Acc,Jer (Inlet)'!$H$3:$H$363) -> -1.4932351e-05 | AJ122: 8000 | AK122: =MAX('Vel,Acc,Jer (Exh)'!$H$3:$H$363) -> 7746.1905 | AL122: =AVERAGE('Vel,Acc,Jer (Exh)'!$H$3:$H$363) -> -1.3245698e-05
AF123: 10000 | AG123: =MAX('Vel,Acc,Jer (Inlet)'!$I$3:$I$363) -> 10915.697 | AH123: =AVERAGE('Vel,Acc,Jer (Inlet)'!$I$3:$I$363) -> -1.8665438e-05 | AJ123: 10000 | AK123: =MAX('Vel,Acc,Jer (Exh)'!$I$3:$I$363) -> 9682.7381 | AL123: =AVERAGE('Vel,Acc,Jer (Exh)'!$I$3:$I$363) -> -1.6557123e-05
AF124: 12000 | AG124: =MAX('Vel,Acc,Jer (Inlet)'!$J$3:$J$363) -> 13098.837 | AH124: =AVERAGE('Vel,Acc,Jer (Inlet)'!$J$3:$J$363) -> -2.2398526e-05 | AJ124: 12000 | AK124: =MAX('Vel,Acc,Jer (Exh)'!$J$3:$J$363) -> 11619.286 | AL124: =AVERAGE('Vel,Acc,Jer (Exh)'!$J$3:$J$363) -> -1.9868549e-05
A172: 6
A208: 7
A233: 8
AM255: LIGHTENED
AM256: Masses (Standard) | AT256: Spring Data (Standard)
AM257: Intake | AQ257: Exhaust | AU257: Outer | AV257: Inner
AN258: Mass (Kg) | AO258: Quantity | AP258: Total (Kg) | AQ258: Mass (Kg) | AR258: Quantity | AS258: Total (Kg) | AT258: Initial Compression - Lo (m) | AU258: 0.009 | AV258: 0.009
AM259: Valve | AN259: 0.023 | AO259: 2 | AP259: =SUM(AN259*AO259) -> 0.046 | AQ259: =SUM(AS225*0.5) -> 0 | AR259: 2 | AS259: =SUM(AR259*AQ259) -> 0 | AT259: Amount of Coils
AM260: Shim | AN260: 0.001 | AO260: 2 | AP260: =SUM(AN260*AO260) -> 0.002 | AQ260: =SUM(AS226*0.5) -> 0 | AR260: 2 | AS260: =SUM(AR260*AQ260) -> 0 | AT260: Inner Diameter (m)
AM261: Bucket | AN261: 0.016 | AO261: 2 | AP261: =SUM(AN261*AO261) -> 0.032 | AQ261: =SUM(AS227*0.5) -> 0 | AR261: 2 | AS261: =SUM(AR261*AQ261) -> 0 | AT261: Pitch Diameter - D (m)
AM262: Collet | AN262: 0.00025 | AO262: 4 | AP262: =SUM(AN262*AO262) -> 0.001 | AQ262: =SUM(AS228*0.5) -> 0 | AR262: 4 | AS262: =SUM(AR262*AQ262) -> 0 | AT262: Wire Diameter - d (m)
AM263: Outer Spring | AN263: 0.024 | AO263: 1 | AP263: =SUM(AN263*AO263) -> 0.024 | AQ263: =SUM(AS229*0.5) -> 0 | AR263: 1 | AS263: =SUM(AR263*AQ263) -> 0 | AT263: Working coils - N
AM264: Inner Spring | AN264: 0.0085 | AO264: 1 | AP264: =SUM(AN264*AO264) -> 0.0085 | AQ264: =SUM(AS230*0.5) -> 0 | AR264: 1 | AS264: =SUM(AR264*AQ264) -> 0 | AT264: Modulus of Rigidity - G (N/m²)
AM265: Retainer | AN265: 0.0156 | AO265: 1 | AP265: 0.0156 | AQ265: 0.0156 | AR265: 1 | AS265: 0.0156 | AT265: C
AO266: Total Moving Mass (Intake) - M (Kg) | AP266: =SUM(AP259:AP265) -> 0.1291 | AR266: Total Moving Mass (Exhaust) - M (Kg) | AS266: =SUM(AS259:AS265) -> 0.0156 | AT266: Spring Stiffness - k (N/m) | AU266: 111500 | AV266: 50000 | AW266: 161500
AM268: LIGHTENED+STIFFENED
AM269: Masses (Standard) | AT269: Spring Data (Standard)
AM270: Intake | AQ270: Exhaust | AU270: Outer | AV270: Inner
AN271: Mass (Kg) | AO271: Quantity | AP271: Total (Kg) | AQ271: Mass (Kg) | AR271: Quantity | AS271: Total (Kg) | AT271: Initial Compression - Lo (m) | AU271: 0.009 | AV271: 0.009
AM272: Valve | AN272: 0.023 | AO272: 2 | AP272: =SUM(AN272*AO272) -> 0.046 | AQ272: =SUM(AS237*0.5) -> 0 | AR272: 2 | AS272: =SUM(AR272*AQ272) -> 0 | AT272: Amount of Coils
AM273: Shim | AN273: 0.001 | AO273: 2 | AP273: =SUM(AN273*AO273) -> 0.002 | AQ273: =SUM(AS238*0.5) -> 0 | AR273: 2 | AS273: =SUM(AR273*AQ273) -> 0 | AT273: Inner Diameter (m)
AM274: Bucket | AN274: 0.016 | AO274: 2 | AP274: =SUM(AN274*AO274) -> 0.032 | AQ274: =SUM(AQ255*0.5) -> 0 | AR274: 2 | AS274: =SUM(AR274*AQ274) -> 0 | AT274: Pitch Diameter - D (m)
AM275: Collet | AN275: 0.00025 | AO275: 4 | AP275: =SUM(AN275*AO275) -> 0.001 | AQ275: =SUM(AQ256*0.5) -> 0 | AR275: 4 | AS275: =SUM(AR275*AQ275) -> 0 | AT275: Wire Diameter - d (m)
AM276: Outer Spring | AN276: 0.024 | AO276: 1 | AP276: =SUM(AN276*AO276) -> 0.024 | AQ276: =SUM(AQ257*0.5) -> #VALUE! | AR276: 1 | AS276: =SUM(AR276*AQ276) -> #VALUE! | AT276: Working coils - N
AM277: Inner Spring | AN277: 0.0085 | AO277: 1 | AP277: =SUM(AN277*AO277) -> 0.0085 | AQ277: =SUM(AQ258*0.5) -> #VALUE! | AR277: 1 | AS277: =SUM(AR277*AQ277) -> #VALUE! | AT277: Modulus of Rigidity - G (N/m²)
AM278: Retainer | AN278: 0.0156 | AO278: 1 | AP278: 0.0156 | AQ278: 0.0156 | AR278: 1 | AS278: 0.0156 | AT278: C
AO279: Total Moving Mass (Intake) - M (Kg) | AP279: =SUM(AP272:AP278) -> 0.1291 | AR279: Total Moving Mass (Exhaust) - M (Kg) | AS279: =SUM(AS272:AS278) -> #VALUE! | AT279: Spring Stiffness - k (N/m) | AU279: =SUM(AU266*1.5) -> 167250 | AV279: =SUM(AV266*1.5) -> 75000 | AW279: =SUM(AU279:AV279) -> 242250

Sheet Part 2
F1: SuperFlow SF-600 Test Data
P3: Bore | Q3: 79 | R3: mm
A4: Test Description: | I4: Test Number
A5: Head Description: | B5: 2.0 Duratec 16v | I5: Serial Number
A6: Intake Valve: | I6: Valve Seat Angle | L6: Degrees
A7: Intake Port: | I7: Port Volume | L7: cc
A8: Radiused Inlet: | I8: Port Length | L8: m
A9: Exhaust Valve: | I9: Exhaust Seat Angle | L9: Degrees
A10: Intake Manifold: | I10: Runner Length | L10: m
A11: Cylinder Bore: | I11: Stroke | L11: mm
A12: Test Operator: | I12: Head Porter
F14: Test Setup Data
B15: Diameter | D15: Stem | F15: Lift Increments | H15: Effective Area | J15: Leakage | L15: Seat Width
A16: Intake Valve | B16: 28.8 | C16: mm | D16: 6 | E16: mm | G16: mm | H16: 6.23 | I16: sq.cm | K16: litres/sec | M16: mm
A17: Exhaust Valve | B17: 24.5 | C17: mm | D17: 6 | E17: mm | G17: mm | H17: 4.43 | I17: sq.cm | K17: litres/sec | M17: mm
F19: Intake Valve Test Data
A20: Test Number | B20: 1 | C20: 2 | D20: 3 | E20: 4 | F20: 5 | G20: 6 | H20: 7 | I20: 8 | J20: 9 | K20: 10 | L20: 11
A21: Test Pressure | B21: 25 | C21: 25 | D21: 25 | E21: 25 | F21: 25 | G21: 25 | H21: 25 | I21: 25 | J21: 25 | K21: 25 | L21: 25
A22: Valve Lift | B22: 1.44 | C22: 2.88 | D22: 4.32 | E22: 5.76 | F22: 7.2 | G22: 8.64 | H22: 10.08 | I22: 11.52 | J22: 12.96 | K22: 13.46
A23: Corr. Flow Range | B23: 2 | C23: 3 | D23: 3 | E23: 4 | F23: 4 | G23: 4 | H23: 4 | I23: 4 | J23: 4 | K23: 4
A24: Corr. Test Flow | B24: 66.5 | C24: 61.5 | D24: 87 | E24: 53.5 | F24: 62 | G24: 68 | H24: 72 | I24: 75 | J24: 76 | K24: 78
A25: Test Flow (L/s)/sq.cm | B25: =SUM(B24*0.01) -> 0.665 | C25: =SUM(C24*0.01) -> 0.615 | D25: =SUM(D24*0.01) -> 0.87 | E25: =SUM(E24*0.01) -> 0.535 | F25: =SUM(F24*0.01) -> 0.62 | G25: =SUM(G24*0.01) -> 0.68 | H25: =SUM(H24*0.01) -> 0.72 | I25: =SUM(I24*0.01) -> 0.75 | ... K25: =SUM(K24*0.01) -> 0.78
A26: Potential Flow | B26: =B25*33.2 -> 22.078 | C26: =SUM(C25*39.7) -> 24.4155 | D26: =SUM(D25*69.7) -> 60.639 | E26: =SUM(E25*138.2) -> 73.937 | F26: =SUM(F25*138.2) -> 85.684 | G26: =SUM(G25*138.2) -> 93.976 | H26: =SUM(H25*138.2) -> 99.504 | I26: =SUM(I25*138.2) -> 103.65 | J26: =SUM(J25*138.2) -> 105.032 | K26: =SUM(K25*138.2) -> 107.796
A27: % Potential Flow | B27: 0 | C27: 0 | D27: 0 | E27: 0 | F27: 0 | G27: 0 | H27: 0 | I27: 0 | J27: 0 | K27: 0
A28: Lift/Diameter Ratio | B28: =SUM(B26-B27) -> 22.078 | C28: =SUM(C26-C27) -> 24.4155 | D28: =SUM(D26-D27) -> 60.639 | E28: =SUM(E26-E27) -> 73.937 | F28: =SUM(F26-F27) -> 85.684 | G28: =SUM(G26-G27) -> 93.976 | H28: =SUM(H26-H27) -> 99.504 | I28: =SUM(I26-I27) -> 103.65 | ... K28: =SUM(K26-K27) -> 107.796
A29: Cd | B29: =SUM(B28/6.23) -> 3.5438202 | C29: =SUM(C28/6.23) -> 3.9190209 | D29: =SUM(D28/6.23) -> 9.7333868 | E29: =SUM(E28/6.23) -> 11.867897 | F29: =SUM(F28/6.23) -> 13.753451 | G29: =SUM(G28/6.23) -> 15.08443 | H29: =SUM(H28/6.23) -> 15.97175 | I29: =SUM(I28/6.23) -> 16.637239 | ... K29: =SUM(K28/6.23) -> 17.302729
A30: % Velocity
C31: Average Flow | D31: =AVERAGE(B28:K28) -> 77.67115 | E31: l/s | I31: Maximum Flow | J31: 107.8 | K31: l/s
F33: Exhaust Valve Test Data
A34: Test Number | B34: 1 | C34: 2 | D34: 3 | E34: 4 | F34: 5 | G34: 6 | H34: 7 | I34: 8 | J34: 9 | K34: 10 | L34: 11
A35: Test Pressure | B35: 25 | C35: 25 | D35: 25 | E35: 25 | F35: 25 | G35: 25 | H35: 25 | I35: 25 | J35: 25 | K35: 25 | L35: 25
A36: Valve Lift | B36: 1.23 | C36: 2.45 | D36: 3.68 | E36: 4.9033333 | F36: 6.1283333 | G36: 7.3533333 | H36: 8.5783333 | I36: 9.8033333 | J36: 11.028333 | K36: 12.253333 | L36: 13.05
A37: Corr. Flow Range | B37: 2 | C37: 3 | D37: 3 | E37: 3 | F37: 4 | G37: 4 | H37: 4 | I37: 4 | J37: 4 | K37: 4 | L37: 4
A38: Corr. Test Flow | B38: 43.5 | C38: 42.5 | D38: 64 | E38: 79 | F38: 45 | G38: 42 | H38: 48 | I38: 49.5 | J38: 50.5 | K38: 51 | L38: 51.5
A39: Test Flow (L/s)/sq.cm | B39: =SUM(B38*0.01) -> 0.435 | C39: =SUM(C38*0.01) -> 0.425 | D39: =SUM(D38*0.01) -> 0.64 | E39: =SUM(E38*0.01) -> 0.79 | F39: =SUM(F38*0.01) -> 0.45 | G39: =SUM(G38*0.01) -> 0.42 | H39: =SUM(H38*0.01) -> 0.48 | I39: =SUM(I38*0.01) -> 0.495 | ... L39: =SUM(L38*0.01) -> 0.515
A40: Potential Flow | B40: =SUM(B39*37.1) -> 16.1385 | C40: =SUM(C39*75) -> 31.875 | D40: =SUM(D39*75) -> 48 | E40: =SUM(E39*75) -> 59.25 | F40: =SUM(F39*148.5) -> 66.825 | G40: =SUM(G39*148.5) -> 62.37 | H40: =SUM(H39*148.5) -> 71.28 | I40: =SUM(I39*148.5) -> 73.5075 | J40: =SUM(J39*148.5) -> 74.9925 | K40: =SUM(K39*148.5) -> 75.735 | L40: =SUM(L39*148.5) -> 76.4775
A41: % Potential Flow | B41: 0 | C41: 0 | D41: 0 | E41: 0 | F41: 0 | G41: 0 | H41: 0 | I41: 0 | J41: 0 | K41: 0 | L41: 0
A42: Lift/Diameter Ratio | B42: =SUM(B40-B41) -> 16.1385 | C42: =SUM(C40-C41) -> 31.875 | D42: =SUM(D40-D41) -> 48 | E42: =SUM(E40-E41) -> 59.25 | F42: =SUM(F40-F41) -> 66.825 | G42: =SUM(G40-G41) -> 62.37 | H42: =SUM(H40-H41) -> 71.28 | I42: =SUM(I40-I41) -> 73.5075 | ... L42: =SUM(L40-L41) -> 76.4775
A43: Cd | B43: =SUM(B42/4.43) -> 3.6430023 | C43: =SUM(C42/4.43) -> 7.1952596 | D43: =SUM(D42/4.43) -> 10.835214 | E43: =SUM(E42/4.43) -> 13.374718 | F43: =SUM(F42/4.43) -> 15.08465 | G43: =SUM(G42/4.43) -> 14.079007 | H43: =SUM(H42/4.43) -> 16.090293 | I43: =SUM(I42/4.43) -> 16.593115 | ... L43: =SUM(L42/4.43) -> 17.263544
A44: % Velocity
C45: Average Flow | D45: =AVERAGE(B42:L42) -> 59.677364 | E45: l/s | I45: Maximum Flow | J45: 76.48 | K45: l/s
C47: Estimated KW/Cylinder: | D47: 12.5 | H47: Exhaust/Intake flow ratio: | I47: =SUM(J45/J31) -> 0.70946197
C48: Exhaust valve dia./bore ratio: | D48: =SUM(B17/Q3) -> 0.31012658 | H48: Speed for peak power: | J48: l/min
C49: Intake valve dia./bore ratio: | D49: =SUM(B16/Q3) -> 0.36455696 | H49: Best intake runner lengths: | M49: cm

Sheet Masses & Spring Data
A1: Masses (Standard) | H1: Spring Data (Standard)
A2: Intake | E2: Exhaust | I2: Outer | J2: Inner
B3: Mass (Kg) | C3: Quantity | D3: Total (Kg) | E3: Mass (Kg) | F3: Quantity | G3: Total (Kg) | H3: Initial Compression - Lo (m) | I3: 0.009 | J3: 0.009
A4: Valve | B4: 0.047 | C4: 2 | D4: =B4*C4 -> 0.094 | E4: 0.041 | F4: 2 | G4: =E4*F4 -> 0.082 | H4: Amount of Coils
A5: Shim | B5: 0.002 | C5: 2 | D5: =B5*C5 -> 0.004 | E5: 0.002 | F5: 2 | G5: =E5*F5 -> 0.004 | H5: Inner Diameter (m)
A6: Bucket | B6: 0.032 | C6: 2 | D6: =B6*C6 -> 0.064 | E6: 0.032 | F6: 2 | G6: =E6*F6 -> 0.064 | H6: Pitch Diameter - D (m)
A7: Collet | B7: 0.0005 | C7: 4 | D7: =B7*C7 -> 0.002 | E7: 0.0005 | F7: 4 | G7: =E7*F7 -> 0.002 | H7: Wire Diameter - d (m)
A8: Outer Spring | B8: 0.049 | C8: 1 | D8: =B8*C8 -> 0.049 | E8: 0.049 | F8: 1 | G8: =E8*F8 -> 0.049 | H8: Working coils - N
A9: Inner Spring | B9: 0.017 | C9: 1 | D9: =B9*C9 -> 0.017 | E9: 0.017 | F9: 1 | G9: =E9*F9 -> 0.017 | H9: Modulus of Rigidity - G (N/m²)
A10: Retainer | B10: 0.0156 | C10: 1 | D10: =B10*C10 -> 0.0156 | E10: 0.0156 | F10: 1 | G10: =E10*F10 -> 0.0156 | H10: C
C11: Total Moving Mass (Intake) - M (Kg) | D11: =D4+D5+D6+D7+D8+D9+D10 -> 0.2456 | F11: Total Moving Mass (Exhaust) - M (Kg) | G11: =G4+G5+G6+G7+G8+G9+G10 -> 0.2336 | H11: Spring Stiffness - k (N/m) | I11: 111500 | J11: 50000 | K11: =SUM(I11:J11) -> 161500 | L11: 161500000
A16: Inlet Camsahft | B16: 1.6 | C16: kg
A17: Exhaust Camshaft | B17: 1.6 | C17: kg
A19: Masses (Standard) | H19: Spring Data (Standard)
A20: Intake | E20: Exhaust | I20: Outer | J20: Inner
B21: Mass (Kg) | C21: Quantity | D21: Total (Kg) | E21: Mass (Kg) | F21: Quantity | G21: Total (Kg) | H21: Initial Compression - Lo (m) | I21: 0.009 | J21: 0.009
A22: Valve | B22: 0.023 | C22: 2 | D22: =SUM(B22*C22) -> 0.046 | E22: =SUM(E4*0.5) -> 0.0205 | F22: 2 | G22: =SUM(F22*E22) -> 0.041 | H22: Amount of Coils
A23: Shim | B23: 0.001 | C23: 2 | D23: =SUM(B23*C23) -> 0.002 | E23: =SUM(E5*0.5) -> 0.001 | F23: 2 | G23: =SUM(F23*E23) -> 0.002 | H23: Inner Diameter (m)
A24: Bucket | B24: 0.016 | C24: 2 | D24: =SUM(B24*C24) -> 0.032 | E24: =SUM(E6*0.5) -> 0.016 | F24: 2 | G24: =SUM(F24*E24) -> 0.032 | H24: Pitch Diameter - D (m)
A25: Collet | B25: 0.00025 | C25: 4 | D25: =SUM(B25*C25) -> 0.001 | E25: =SUM(E7*0.5) -> 0.00025 | F25: 4 | G25: =SUM(F25*E25) -> 0.001 | H25: Wire Diameter - d (m)
A26: Outer Spring | B26: 0.024 | C26: 1 | D26: =SUM(B26*C26) -> 0.024 | E26: =SUM(E8*0.5) -> 0.0245 | F26: 1 | G26: =SUM(F26*E26) -> 0.0245 | H26: Working coils - N
A27: Inner Spring | B27: 0.0085 | C27: 1 | D27: =SUM(B27*C27) -> 0.0085 | E27: =SUM(E9*0.5) -> 0.0085 | F27: 1 | G27: =SUM(F27*E27) -> 0.0085 | H27: Modulus of Rigidity - G (N/m²)
A28: Retainer | B28: 0.0156 | C28: 1 | D28: 0.0156 | E28: 0.0156 | F28: 1 | G28: 0.0156 | H28: C
C29: Total Moving Mass (Intake) - M (Kg) | D29: =SUM(D22:D28) -> 0.1291 | F29: Total Moving Mass (Exhaust) - M (Kg) | G29: =SUM(G22:G28) -> 0.1246 | H29: Spring Stiffness - k (N/m) | I29: 111500 | J29: 50000 | K29: 161500
A31: Masses (Standard) | H31: Spring Data (Standard)
A32: Intake | E32: Exhaust | I32: Outer | J32: Inner
B33: Mass (Kg) | C33: Quantity | D33: Total (Kg) | E33: Mass (Kg) | F33: Quantity | G33: Total (Kg) | H33: Initial Compression - Lo (m) | I33: 0.009 | J33: 0.009
A34: Valve | B34: 0.023 | C34: 2 | D34: =SUM(B34*C34) -> 0.046 | E34: =SUM(E16*0.5) -> 0 | F34: 2 | G34: =SUM(F34*E34) -> 0 | H34: Amount of Coils
A35: Shim | B35: 0.001 | C35: 2 | D35: =SUM(B35*C35) -> 0.002 | E35: =SUM(E17*0.5) -> 0 | F35: 2 | G35: =SUM(F35*E35) -> 0 | H35: Inner Diameter (m)
A36: Bucket | B36: 0.016 | C36: 2 | D36: =SUM(B36*C36) -> 0.032 | E36: =SUM(E18*0.5) -> 0 | F36: 2 | G36: =SUM(F36*E36) -> 0 | H36: Pitch Diameter - D (m)
A37: Collet | B37: 0.00025 | C37: 4 | D37: =SUM(B37*C37) -> 0.001 | E37: =SUM(E19*0.5) -> 0 | F37: 4 | G37: =SUM(F37*E37) -> 0 | H37: Wire Diameter - d (m)
A38: Outer Spring | B38: 0.024 | C38: 1 | D38: =SUM(B38*C38) -> 0.024 | E38: =SUM(E20*0.5) -> #VALUE! | F38: 1 | G38: =SUM(F38*E38) -> #VALUE! | H38: Working coils - N
A39: Inner Spring | B39: 0.0085 | C39: 1 | D39: =SUM(B39*C39) -> 0.0085 | E39: =SUM(E21*0.5) -> #VALUE! | F39: 1 | G39: =SUM(F39*E39) -> #VALUE! | H39: Modulus of Rigidity - G (N/m²)
A40: Retainer | B40: 0.0156 | C40: 1 | D40: 0.0156 | E40: 0.0156 | F40: 1 | G40: 0.0156 | H40: C
C41: Total Moving Mass (Intake) - M (Kg) | D41: =SUM(D34:D40) -> 0.1291 | F41: Total Moving Mass (Exhaust) - M (Kg) | G41: =SUM(G34:G40) -> #VALUE! | H41: Spring Stiffness - k (N/m) | I41: =SUM(I29*1.5) -> 167250 | J41: =SUM(J29*1.5) -> 75000 | K41: =SUM(I41:J41) -> 242250

Sheet 360x360 for Valve Lift (Inlet)
A1: Crank angle (deg) | B1: Crank angle (radians) | C1: Cam Lift | D1: Piston position | E1: Change in piston position | F1: Cylinder volume (cc) | G1: Piston velocity m/s (2000rpm) | H1: Piston velocity (4000rpm) | I1: Piston velocity (6000rpm) | J1: Piston velocity (8000rpm) | K1: Piston velocity (10000rpm) | L1: Piston velocity (12000rpm) | N1: Bore(m) | O1: 0.079
A2: -360 | B2: =RADIANS(A2) -> -6.2831853 | C2: 6.8141432e-07 | D2: =$O$3*(1-COS(RADIANS(A2))) + ($O$5 - SQRT($O$5^2 - ($O$3*SIN(RADIANS(A2)))^2)) -> 0 | E2: 0 | F2: 39.27 | G2: =(E2/2) * ($O$6*6/1000) -> 0 | H2: =(E2/2) * ($O$7*6/1000) -> 0 | I2: =(E2/2) * ($O$8*6/1000) -> 0 | J2: =(E2/2) * ($O$9*6/1000) -> 0 | K2: =(E2/2) * ($O$10*6/1000) -> 0 | L2: =(E2/2) * ($O$11*6/1000) -> 0 | N2: Stroke (m) | O2: 0.0814
A3: =A2+2 -> -358 | B3: =RADIANS(A3) -> -6.2482787 | C3: 8.1769719e-07 | D3: =$O$3*(1-COS(RADIANS(A3))) + ($O$5 - SQRT($O$5^2 - ($O$3*SIN(RADIANS(A3)))^2)) -> 3.2156908e-05 | E3: =D3-D2 -> 3.2156908e-05 | F3: 39.43 | G3: =(E3/2) * ($O$6*6/1000) -> 0.00019294145 | H3: =(E3/2) * ($O$7*6/1000) -> 0.00038588289 | I3: =(E3/2) * ($O$8*6/1000) -> 0.00057882434 | J3: =(E3/2) * ($O$9*6/1000) -> 0.00077176578 | K3: =(E3/2) * ($O$10*6/1000) -> 0.00096470723 | L3: =(E3/2) * ($O$11*6/1000) -> 0.0011576487 | N3: Crank radius | O3: =1/2*O2 -> 0.0407
A4: =A3+2 -> -356 | B4: =RADIANS(A4) -> -6.2133721 | C4: 9.8011649e-07 | D4: =$O$3*(1-COS(RADIANS(A4))) + ($O$5 - SQRT($O$5^2 - ($O$3*SIN(RADIANS(A4)))^2)) -> 0.00012856392 | E4: =D4-D3 -> 9.640701e-05 | F4: 39.9 | G4: =(E4/2) * ($O$6*6/1000) -> 0.00057844206 | H4: =(E4/2) * ($O$7*6/1000) -> 0.0011568841 | I4: =(E4/2) * ($O$8*6/1000) -> 0.0017353262 | J4: =(E4/2) * ($O$9*6/1000) -> 0.0023137682 | K4: =(E4/2) * ($O$10*6/1000) -> 0.0028922103 | L4: =(E4/2) * ($O$11*6/1000) -> 0.0034706523 | N4: Clearance volume | O4: 39.27
A5: =A4+2 -> -354 | B5: =RADIANS(A5) -> -6.1784656 | C5: 1.1761398e-06 | D5: =$O$3*(1-COS(RADIANS(A5))) + ($O$5 - SQRT($O$5^2 - ($O$3*SIN(RADIANS(A5)))^2)) -> 0.00028903005 | E5: =D5-D4 -> 0.00016046613 | F5: 40.69 | G5: =(E5/2) * ($O$6*6/1000) -> 0.00096279678 | H5: =(E5/2) * ($O$7*6/1000) -> 0.0019255936 | I5: =(E5/2) * ($O$8*6/1000) -> 0.0028883903 | J5: =(E5/2) * ($O$9*6/1000) -> 0.0038511871 | K5: =(E5/2) * ($O$10*6/1000) -> 0.0048139839 | L5: =(E5/2) * ($O$11*6/1000) -> 0.0057767807 | N5: Conrod length | O5: 0.137
A6: =A5+2 -> -352 | B6: =RADIANS(A6) -> -6.143559 | C6: 1.4001664e-06 | D6: =$O$3*(1-COS(RADIANS(A6))) + ($O$5 - SQRT($O$5^2 - ($O$3*SIN(RADIANS(A6)))^2)) -> 0.00051323752 | E6: =D6-D5 -> 0.00022420748 | F6: 41.79 | G6: =(E6/2) * ($O$6*6/1000) -> 0.0013452449 | H6: =(E6/2) * ($O$7*6/1000) -> 0.0026904897 | I6: =(E6/2) * ($O$8*6/1000) -> 0.0040357346 | J6: =(E6/2) * ($O$9*6/1000) -> 0.0053809794 | K6: =(E6/2) * ($O$10*6/1000) -> 0.0067262243 | L6: =(E6/2) * ($O$11*6/1000) -> 0.0080714691 | N6: Crank speed (rpm) | O6: 2000
A7: =A6+2 -> -350 | B7: =RADIANS(A7) -> -6.1086524 | C7: 1.6801997e-06 | D7: =$O$3*(1-COS(RADIANS(A7))) + ($O$5 - SQRT($O$5^2 - ($O$3*SIN(RADIANS(A7)))^2)) -> 0.00080074256 | E7: =D7-D6 -> 0.00028750504 | F7: 43.2 | G7: =(E7/2) * ($O$6*6/1000) -> 0.0017250302 | H7: =(E7/2) * ($O$7*6/1000) -> 0.0034500605 | I7: =(E7/2) * ($O$8*6/1000) -> 0.0051750907 | J7: =(E7/2) * ($O$9*6/1000) -> 0.0069001209 | K7: =(E7/2) * ($O$10*6/1000) -> 0.0086251511 | L7: =(E7/2) * ($O$11*6/1000) -> 0.010350181 | O7: 4000
A8: =A7+2 -> -348 | B8: =RADIANS(A8) -> -6.0737458 | C8: 1.9975708e-06 | D8: =$O$3*(1-COS(RADIANS(A8))) + ($O$5 - SQRT($O$5^2 - ($O$3*SIN(RADIANS(A8)))^2)) -> 0.0011509765 | E8: =D8-D7 -> 0.00035023392 | F8: 44.91 | G8: =(E8/2) * ($O$6*6/1000) -> 0.0021014035 | H8: =(E8/2) * ($O$7*6/1000) -> 0.004202807 | I8: =(E8/2) * ($O$8*6/1000) -> 0.0063042105 | J8: =(E8/2) * ($O$9*6/1000) -> 0.008405614 | K8: =(E8/2) * ($O$10*6/1000) -> 0.010507017 | L8: =(E8/2) * ($O$11*6/1000) -> 0.012608421 | O8: 6000
A9: =A8+2 -> -346 | B9: =RADIANS(A9) -> -6.0388392 | C9: 2.3896173e-06 | D9: =$O$3*(1-COS(RADIANS(A9))) + ($O$5 - SQRT($O$5^2 - ($O$3*SIN(RADIANS(A9)))^2)) -> 0.0015632471 | E9: =D9-D8 -> 0.00041227063 | F9: 46.93 | G9: =(E9/2) * ($O$6*6/1000) -> 0.0024736238 | H9: =(E9/2) * ($O$7*6/1000) -> 0.0049472476 | I9: =(E9/2) * ($O$8*6/1000) -> 0.0074208713 | J9: =(E9/2) * ($O$9*6/1000) -> 0.0098944951 | K9: =(E9/2) * ($O$10*6/1000) -> 0.012368119 | L9: =(E9/2) * ($O$11*6/1000) -> 0.014841743 | O9: 8000
A10: =A9+2 -> -344 | B10: =RADIANS(A10) -> -6.0039326 | C10: 2.847005e-06 | D10: =$O$3*(1-COS(RADIANS(A10))) + ($O$5 - SQRT($O$5^2 - ($O$3*SIN(RADIANS(A10)))^2)) -> 0.0020367405 | E10: =D10-D9 -> 0.00047349343 | F10: 49.26 | G10: =(E10/2) * ($O$6*6/1000) -> 0.0028409606 | H10: =(E10/2) * ($O$7*6/1000) -> 0.0056819212 | I10: =(E10/2) * ($O$8*6/1000) -> 0.0085228818 | J10: =(E10/2) * ($O$9*6/1000) -> 0.011363842 | K10: =(E10/2) * ($O$10*6/1000) -> 0.014204803 | L10: =(E10/2) * ($O$11*6/1000) -> 0.017045764 | O10: 10000
A11: =A10+2 -> -342 | B11: =RADIANS(A11) -> -5.969026 | C11: 3.3790683e-06 | D11: =$O$3*(1-COS(RADIANS(A11))) + ($O$5 - SQRT($O$5^2 - ($O$3*SIN(RADIANS(A11)))^2)) -> 0.0025705232 | E11: =D11-D10 -> 0.00053378264 | F11: 51.87 | G11: =(E11/2) * ($O$6*6/1000) -> 0.0032026958 | H11: =(E11/2) * ($O$7*6/1000) -> 0.0064053916 | I11: =(E11/2) * ($O$8*6/1000) -> 0.0096080875 | J11: =(E11/2) * ($O$9*6/1000) -> 0.012810783 | K11: =(E11/2) * ($O$10*6/1000) -> 0.016013479 | L11: =(E11/2) * ($O$11*6/1000) -> 0.019216175 | O11: 12000
A12: =A11+2 -> -340 | B12: =RADIANS(A12) -> -5.9341195 | C12: 4.0231448e-06 | D12: =$O$3*(1-COS(RADIANS(A12))) + ($O$5 - SQRT($O$5^2 - ($O$3*SIN(RADIANS(A12)))^2)) -> 0.0031635441 | E12: =D12-D11 -> 0.00059302091 | F12: 54.78 | G12: =(E12/2) * ($O$6*6/1000) -> 0.0035581255 | H12: =(E12/2) * ($O$7*6/1000) -> 0.007116251 | I12: =(E12/2) * ($O$8*6/1000) -> 0.010674376 | J12: =(E12/2) * ($O$9*6/1000) -> 0.014232502 | K12: =(E12/2) * ($O$10*6/1000) -> 0.017790627 | L12: =(E12/2) * ($O$11*6/1000) -> 0.021348753 | N12: Crank speed (radians) | O12: =RADIANS(O6) -> 34.906585
A13: =A12+2 -> -338 | B13: =RADIANS(A13) -> -5.8992129 | C13: 4.7792347e-06 | D13: =$O$3*(1-COS(RADIANS(A13))) + ($O$5 - SQRT($O$5^2 - ($O$3*SIN(RADIANS(A13)))^2)) -> 0.0038146377 | E13: =D13-D12 -> 0.00065109362 | F13: 57.97 | G13: =(E13/2) * ($O$6*6/1000) -> 0.0039065617 | H13: =(E13/2) * ($O$7*6/1000) -> 0.0078131235 | I13: =(E13/2) * ($O$8*6/1000) -> 0.011719685 | J13: =(E13/2) * ($O$9*6/1000) -> 0.015626247 | K13: =(E13/2) * ($O$10*6/1000) -> 0.019532809 | L13: =(E13/2) * ($O$11*6/1000) -> 0.02343937 | O13: =RADIANS(O7) -> 69.81317
A14: =A13+2 -> -336 | B14: =RADIANS(A14) -> -5.8643063 | C14: 5.6660068e-06 | D14: =$O$3*(1-COS(RADIANS(A14))) + ($O$5 - SQRT($O$5^2 - ($O$3*SIN(RADIANS(A14)))^2)) -> 0.0045225268 | E14: =D14-D13 -> 0.00070788913 | F14: 61.44 | G14: =(E14/2) * ($O$6*6/1000) -> 0.0042473348 | H14: =(E14/2) * ($O$7*6/1000) -> 0.0084946695 | I14: =(E14/2) * ($O$8*6/1000) -> 0.012742004 | J14: =(E14/2) * ($O$9*6/1000) -> 0.016989339 | K14: =(E14/2) * ($O$10*6/1000) -> 0.021236674 | L14: =(E14/2) * ($O$11*6/1000) -> 0.025484009 | O14: =RADIANS(O8) -> 104.71976
A15: =A14+2 -> -334 | B15: =RADIANS(A15) -> -5.8293997 | C15: 6.7114643e-06 | D15: =$O$3*(1-COS(RADIANS(A15))) + ($O$5 - SQRT($O$5^2 - ($O$3*SIN(RADIANS(A15)))^2)) -> 0.0052858259 | E15: =D15-D14 -> 0.00076329909 | F15: 65.18 | G15: =(E15/2) * ($O$6*6/1000) -> 0.0045797946 | H15: =(E15/2) * ($O$7*6/1000) -> 0.0091595891 | I15: =(E15/2) * ($O$8*6/1000) -> 0.013739384 | J15: =(E15/2) * ($O$9*6/1000) -> 0.018319178 | K15: =(E15/2) * ($O$10*6/1000) -> 0.022898973 | L15: =(E15/2) * ($O$11*6/1000) -> 0.027478767 | O15: =RADIANS(O9) -> 139.62634
A16: =A15+2 -> -332 | B16: =RADIANS(A16) -> -5.7944931 | C16: 7.9529452e-06 | D16: =$O$3*(1-COS(RADIANS(A16))) + ($O$5 - SQRT($O$5^2 - ($O$3*SIN(RADIANS(A16)))^2)) -> 0.0061030447 | E16: =D16-D15 -> 0.00081721881 | F16: 69.19 | G16: =(E16/2) * ($O$6*6/1000) -> 0.0049033129 | H16: =(E16/2) * ($O$7*6/1000) -> 0.0098066257 | I16: =(E16/2) * ($O$8*6/1000) -> 0.014709939 | J16: =(E16/2) * ($O$9*6/1000) -> 0.019613251 | K16: =(E16/2) * ($O$10*6/1000) -> 0.024516564 | L16: =(E16/2) * ($O$11*6/1000) -> 0.029419877 | O16: =RADIANS(O10) -> 174.53293
A17: =A16+2 -> -330 | B17: =RADIANS(A17) -> -5.7595865 | C17: 9.4277872e-06 | D17: =$O$3*(1-COS(RADIANS(A17))) + ($O$5 - SQRT($O$5^2 - ($O$3*SIN(RADIANS(A17)))^2)) -> 0.0069725922 | E17: =D17-D16 -> 0.00086954749 | F17: 73.45 | G17: =(E17/2) * ($O$6*6/1000) -> 0.005217285 | H17: =(E17/2) * ($O$7*6/1000) -> 0.01043457 | I17: =(E17/2) * ($O$8*6/1000) -> 0.015651855 | J17: =(E17/2) * ($O$9*6/1000) -> 0.02086914 | K17: =(E17/2) * ($O$10*6/1000) -> 0.026086425 | L17: =(E17/2) * ($O$11*6/1000) -> 0.03130371 | O17: =RADIANS(O11) -> 209.43951
A18: =A17+2 -> -328 | B18: =RADIANS(A18) -> -5.7246799 | C18: 1.1107987e-05 | D18: =$O$3*(1-COS(RADIANS(A18))) + ($O$5 - SQRT($O$5^2 - ($O$3*SIN(RADIANS(A18)))^2)) -> 0.0078927808 | E18: =D18-D17 -> 0.0009201886 | F18: 77.96 | G18: =(E18/2) * ($O$6*6/1000) -> 0.0055211316 | H18: =(E18/2) * ($O$7*6/1000) -> 0.011042263 | I18: =(E18/2) * ($O$8*6/1000) -> 0.016563395 | J18: =(E18/2) * ($O$9*6/1000) -> 0.022084526 | K18: =(E18/2) * ($O$10*6/1000) -> 0.027605658 | L18: =(E18/2) * ($O$11*6/1000) -> 0.03312679
A19: =A18+2 -> -326 | B19: =RADIANS(A19) -> -5.6897734 | C19: 1.306822e-05 | D19: =$O$3*(1-COS(RADIANS(A19))) + ($O$5 - SQRT($O$5^2 - ($O$3*SIN(RADIANS(A19)))^2)) -> 0.008861831 | E19: =D19-D18 -> 0.00096905012 | F19: 82.71 | G19: =(E19/2) * ($O$6*6/1000) -> 0.0058143007 | H19: =(E19/2) * ($O$7*6/1000) -> 0.011628601 | I19: =(E19/2) * ($O$8*6/1000) -> 0.017442902 | J19: =(E19/2) * ($O$9*6/1000) -> 0.023257203 | K19: =(E19/2) * ($O$10*6/1000) -> 0.029071503 | L19: =(E19/2) * ($O$11*6/1000) -> 0.034885804
A20: =A19+2 -> -324 | B20: =RADIANS(A20) -> -5.6548668 | C20: 1.5495175e-05 | D20: =$O$3*(1-COS(RADIANS(A20))) + ($O$5 - SQRT($O$5^2 - ($O$3*SIN(RADIANS(A20)))^2)) -> 0.0098778758 | E20: =D20-D19 -> 0.0010160448 | F20: 87.69 | G20: =(E20/2) * ($O$6*6/1000) -> 0.006096269 | H20: =(E20/2) * ($O$7*6/1000) -> 0.012192538 | I20: =(E20/2) * ($O$8*6/1000) -> 0.018288807 | J20: =(E20/2) * ($O$9*6/1000) -> 0.024385076 | K20: =(E20/2) * ($O$10*6/1000) -> 0.030481345 | L20: =(E20/2) * ($O$11*6/1000) -> 0.036577614
A21: =A20+2 -> -322 | B21: =RADIANS(A21) -> -5.6199602 | C21: 1.8202163e-05 | D21: =$O$3*(1-COS(RADIANS(A21))) + ($O$5 - SQRT($O$5^2 - ($O$3*SIN(RADIANS(A21)))^2)) -> 0.010938966 | E21: =D21-D20 -> 0.0010610907 | F21: 92.89 | G21: =(E21/2) * ($O$6*6/1000) -> 0.0063665441 | H21: =(E21/2) * ($O$7*6/1000) -> 0.012733088 | I21: =(E21/2) * ($O$8*6/1000) -> 0.019099632 | J21: =(E21/2) * ($O$9*6/1000) -> 0.025466177 | K21: =(E21/2) * ($O$10*6/1000) -> 0.031832721 | L21: =(E21/2) * ($O$11*6/1000) -> 0.038199265
A22: =A21+2 -> -320 | B22: =RADIANS(A22) -> -5.5850536 | C22: 2.1469218e-05 | D22: =$O$3*(1-COS(RADIANS(A22))) + ($O$5 - SQRT($O$5^2 - ($O$3*SIN(RADIANS(A22)))^2)) -> 0.012043077 | E22: =D22-D21 -> 0.001104111 | F22: 98.3 | G22: =(E22/2) * ($O$6*6/1000) -> 0.0066246658 | H22: =(E22/2) * ($O$7*6/1000) -> 0.013249332 | I22: =(E22/2) * ($O$8*6/1000) -> 0.019873997 | J22: =(E22/2) * ($O$9*6/1000) -> 0.026498663 | K22: =(E22/2) * ($O$10*6/1000) -> 0.033123329 | L22: =(E22/2) * ($O$11*6/1000) -> 0.039747995
A23: =A22+2 -> -318 | B23: =RADIANS(A23) -> -5.550147 | C23: 2.5202995e-05 | D23: =$O$3*(1-COS(RADIANS(A23))) + ($O$5 - SQRT($O$5^2 - ($O$3*SIN(RADIANS(A23)))^2)) -> 0.013188112 | E23: =D23-D22 -> 0.0011450346 | F23: 103.92 | G23: =(E23/2) * ($O$6*6/1000) -> 0.0068702075 | H23: =(E23/2) * ($O$7*6/1000) -> 0.013740415 | I23: =(E23/2) * ($O$8*6/1000) -> 0.020610622 | J23: =(E23/2) * ($O$9*6/1000) -> 0.02748083 | K23: =(E23/2) * ($O$10*6/1000) -> 0.034351037 | L23: =(E23/2) * ($O$11*6/1000) -> 0.041221245
A24: =A23+2 -> -316 | B24: =RADIANS(A24) -> -5.5152404 | C24: 2.9590184e-05 | D24: =$O$3*(1-COS(RADIANS(A24))) + ($O$5 - SQRT($O$5^2 - ($O$3*SIN(RADIANS(A24)))^2)) -> 0.014371908 | E24: =D24-D23 -> 0.0011837964 | F24: 109.72 | G24: =(E24/2) * ($O$6*6/1000) -> 0.0071027784 | H24: =(E24/2) * ($O$7*6/1000) -> 0.014205557 | I24: =(E24/2) * ($O$8*6/1000) -> 0.021308335 | J24: =(E24/2) * ($O$9*6/1000) -> 0.028411113 | K24: =(E24/2) * ($O$10*6/1000) -> 0.035513892 | L24: =(E24/2) * ($O$11*6/1000) -> 0.04261667
A25: =A24+2 -> -314 | B25: =RADIANS(A25) -> -5.4803339 | C25: 3.4724127e-05 | D25: =$O$3*(1-COS(RADIANS(A25))) + ($O$5 - SQRT($O$5^2 - ($O$3*SIN(RADIANS(A25)))^2)) -> 0.015592246 | E25: =D25-D24 -> 0.0012203373 | F25: 115.7 | G25: =(E25/2) * ($O$6*6/1000) -> 0.007322024 | H25: =(E25/2) * ($O$7*6/1000) -> 0.014644048 | I25: =(E25/2) * ($O$8*6/1000) -> 0.021966072 | J25: =(E25/2) * ($O$9*6/1000) -> 0.029288096 | K25: =(E25/2) * ($O$10*6/1000) -> 0.03661012 | L25: =(E25/2) * ($O$11*6/1000) -> 0.043932144
A26: =A25+2 -> -312 | B26: =RADIANS(A26) -> -5.4454273 | C26: 4.069817e-05 | D26: =$O$3*(1-COS(RADIANS(A26))) + ($O$5 - SQRT($O$5^2 - ($O$3*SIN(RADIANS(A26)))^2)) -> 0.01684685 | E26: =D26-D25 -> 0.0012546047 | F26: 121.85 | G26: =(E26/2) * ($O$6*6/1000) -> 0.0075276283 | H26: =(E26/2) * ($O$7*6/1000) -> 0.015055257 | I26: =(E26/2) * ($O$8*6/1000) -> 0.022582885 | J26: =(E26/2) * ($O$9*6/1000) -> 0.030110513 | K26: =(E26/2) * ($O$10*6/1000) -> 0.037638142 | L26: =(E26/2) * ($O$11*6/1000) -> 0.04516577
A27: =A26+2 -> -310 | B27: =RADIANS(A27) -> -5.4105207 | C27: 4.7605658e-05 | D27: =$O$3*(1-COS(RADIANS(A27))) + ($O$5 - SQRT($O$5^2 - ($O$3*SIN(RADIANS(A27)))^2)) -> 0.018133403 | E27: =D27-D26 -> 0.0012865524 | F27: 128.16 | G27: =(E27/2) * ($O$6*6/1000) -> 0.0077193141 | H27: =(E27/2) * ($O$7*6/1000) -> 0.015438628 | I27: =(E27/2) * ($O$8*6/1000) -> 0.023157942 | J27: =(E27/2) * ($O$9*6/1000) -> 0.030877256 | K27: =(E27/2) * ($O$10*6/1000) -> 0.038596571 | L27: =(E27/2) * ($O$11*6/1000) -> 0.046315885
A28: =A27+2 -> -308 | B28: =RADIANS(A28) -> -5.3756141 | C28: 5.5726623e-05 | D28: =$O$3*(1-COS(RADIANS(A28))) + ($O$5 - SQRT($O$5^2 - ($O$3*SIN(RADIANS(A28)))^2)) -> 0.019449544 | E28: =D28-D27 -> 0.0013161408 | F28: 134.61 | G28: =(E28/2) * ($O$6*6/1000) -> 0.0078968446 | H28: =(E28/2) * ($O$7*6/1000) -> 0.015793689 | I28: =(E28/2) * ($O$8*6/1000) -> 0.023690534 | J28: =(E28/2) * ($O$9*6/1000) -> 0.031587378 | K28: =(E28/2) * ($O$10*6/1000) -> 0.039484223 | L28: =(E28/2) * ($O$11*6/1000) -> 0.047381068
A29: =A28+2 -> -306 | B29: =RADIANS(A29) -> -5.3407075 | C29: 6.515441e-05 | D29: =$O$3*(1-COS(RADIANS(A29))) + ($O$5 - SQRT($O$5^2 - ($O$3*SIN(RADIANS(A29)))^2)) -> 0.020792881 | E29: =D29-D28 -> 0.0013433373 | F29: 141.19 | G29: =(E29/2) * ($O$6*6/1000) -> 0.008060024 | H29: =(E29/2) * ($O$7*6/1000) -> 0.016120048 | I29: =(E29/2) * ($O$8*6/1000) -> 0.024180072 | J29: =(E29/2) * ($O$9*6/1000) -> 0.032240096 | K29: =(E29/2) * ($O$10*6/1000) -> 0.04030012 | L29: =(E29/2) * ($O$11*6/1000) -> 0.048360144
... A362: =A361+2 -> 360 | B362: =RADIANS(A362) -> 6.2831853 | C362: 5.6753412e-07 | D362: =$O$3*(1-COS(RADIANS(A362))) + ($O$5 - SQRT($O$5^2 - ($O$3*SIN(RADIANS(A362)))^2)) -> 0 | E362: =D362-D361 -> -3.2156908e-05 | F362: 39.27 | G362: =(E362/2) * ($O$6*6/1000) -> -0.00019294145 | H362: =(E362/2) * ($O$7*6/1000) -> -0.00038588289 | I362: =(E362/2) * ($O$8*6/1000) -> -0.00057882434 | J362: =(E362/2) * ($O$9*6/1000) -> -0.00077176578 | K362: =(E362/2) * ($O$10*6/1000) -> -0.00096470723 | L362: =(E362/2) * ($O$11*6/1000) -> -0.0011576487

Sheet 360x360 for Valve Lift (Exh)
A1: Crank angle (deg) | B1: Crank angle (radians) | C1: Cam Lift | D1: Piston position | E1: Change in piston position | F1: Cylinder volume (cc) | G1: Piston velocity m/s (2000rpm) | H1: Piston velocity (4000rpm) | I1: Piston velocity (6000rpm) | J1: Piston velocity (8000rpm) | K1: Piston velocity (10000rpm) | L1: Piston velocity (12000rpm) | N1: Bore(m) | O1: 0.079
A2: -360 | B2: =RADIANS(A2) -> -6.2831853 | C2: 6.0444662e-07 | D2: =$O$3*(1-COS(RADIANS(A2))) + ($O$5 - SQRT($O$5^2 - ($O$3*SIN(RADIANS(A2)))^2)) -> 0 | E2: 0 | F2: 39.27 | G2: =(E2/2) * ($O$6*6/1000) -> 0 | H2: =(E2/2) * ($O$7*6/1000) -> 0 | I2: =(E2/2) * ($O$8*6/1000) -> 0 | J2: =(E2/2) * ($O$9*6/1000) -> 0 | K2: =(E2/2) * ($O$10*6/1000) -> 0 | L2: =(E2/2) * ($O$11*6/1000) -> 0 | N2: Stroke (m) | O2: 0.0814
A3: =A2+2 -> -358 | B3: =RADIANS(A3) -> -6.2482787 | C3: 7.2533595e-07 | D3: =$O$3*(1-COS(RADIANS(A3))) + ($O$5 - SQRT($O$5^2 - ($O$3*SIN(RADIANS(A3)))^2)) -> 3.2156908e-05 | E3: =D3-D2 -> 3.2156908e-05 | F3: 39.43 | G3: =(E3/2) * ($O$6*6/1000) -> 0.00019294145 | H3: =(E3/2) * ($O$7*6/1000) -> 0.00038588289 | I3: =(E3/2) * ($O$8*6/1000) -> 0.00057882434 | J3: =(E3/2) * ($O$9*6/1000) -> 0.00077176578 | K3: =(E3/2) * ($O$10*6/1000) -> 0.00096470723 | L3: =(E3/2) * ($O$11*6/1000) -> 0.0011576487 | N3: Crank radius | O3: =1/2*O2 -> 0.0407
A4: =A3+2 -> -356 | B4: =RADIANS(A4) -> -6.2133721 | C4: 8.6940953e-07 | D4: =$O$3*(1-COS(RADIANS(A4))) + ($O$5 - SQRT($O$5^2 - ($O$3*SIN(RADIANS(A4)))^2)) -> 0.00012856392 | E4: =D4-D3 -> 9.640701e-05 | F4: 39.9 | G4: =(E4/2) * ($O$6*6/1000) -> 0.00057844206 | H4: =(E4/2) * ($O$7*6/1000) -> 0.0011568841 | I4: =(E4/2) * ($O$8*6/1000) -> 0.0017353262 | J4: =(E4/2) * ($O$9*6/1000) -> 0.0023137682 | K4: =(E4/2) * ($O$10*6/1000) -> 0.0028922103 | L4: =(E4/2) * ($O$11*6/1000) -> 0.0034706523 | N4: Clearance volume | O4: 39.27
A5: =A4+2 -> -354 | B5: =RADIANS(A5) -> -6.1784656 | C5: 1.0432914e-06 | D5: =$O$3*(1-COS(RADIANS(A5))) + ($O$5 - SQRT($O$5^2 - ($O$3*SIN(RADIANS(A5)))^2)) -> 0.00028903005 | E5: =D5-D4 -> 0.00016046613 | F5: 40.69 | G5: =(E5/2) * ($O$6*6/1000) -> 0.00096279678 | H5: =(E5/2) * ($O$7*6/1000) -> 0.0019255936 | I5: =(E5/2) * ($O$8*6/1000) -> 0.0028883903 | J5: =(E5/2) * ($O$9*6/1000) -> 0.0038511871 | K5: =(E5/2) * ($O$10*6/1000) -> 0.0048139839 | L5: =(E5/2) * ($O$11*6/1000) -> 0.0057767807 | N5: Conrod length | O5: 0.137
A6: =A5+2 -> -352 | B6: =RADIANS(A6) -> -6.143559 | C6: 1.2420136e-06 | D6: =$O$3*(1-COS(RADIANS(A6))) + ($O$5 - SQRT($O$5^2 - ($O$3*SIN(RADIANS(A6)))^2)) -> 0.00051323752 | E6: =D6-D5 -> 0.00022420748 | F6: 41.79 | G6: =(E6/2) * ($O$6*6/1000) -> 0.0013452449 | H6: =(E6/2) * ($O$7*6/1000) -> 0.0026904897 | I6: =(E6/2) * ($O$8*6/1000) -> 0.0040357346 | J6: =(E6/2) * ($O$9*6/1000) -> 0.0053809794 | K6: =(E6/2) * ($O$10*6/1000) -> 0.0067262243 | L6: =(E6/2) * ($O$11*6/1000) -> 0.0080714691 | N6: Crank speed (rpm) | O6: 2000
A7: =A6+2 -> -350 | B7: =RADIANS(A7) -> -6.1086524 | C7: 1.4904163e-06 | D7: =$O$3*(1-COS(RADIANS(A7))) + ($O$5 - SQRT($O$5^2 - ($O$3*SIN(RADIANS(A7)))^2)) -> 0.00080074256 | E7: =D7-D6 -> 0.00028750504 | F7: 43.2 | G7: =(E7/2) * ($O$6*6/1000) -> 0.0017250302 | H7: =(E7/2) * ($O$7*6/1000) -> 0.0034500605 | I7: =(E7/2) * ($O$8*6/1000) -> 0.0051750907 | J7: =(E7/2) * ($O$9*6/1000) -> 0.0069001209 | K7: =(E7/2) * ($O$10*6/1000) -> 0.0086251511 | L7: =(E7/2) * ($O$11*6/1000) -> 0.010350181 | O7: 4000
A8: =A7+2 -> -348 | B8: =RADIANS(A8) -> -6.0737458 | C8: 1.7719394e-06 | D8: =$O$3*(1-COS(RADIANS(A8))) + ($O$5 - SQRT($O$5^2 - ($O$3*SIN(RADIANS(A8)))^2)) -> 0.0011509765 | E8: =D8-D7 -> 0.00035023392 | F8: 44.91 | G8: =(E8/2) * ($O$6*6/1000) -> 0.0021014035 | H8: =(E8/2) * ($O$7*6/1000) -> 0.004202807 | I8: =(E8/2) * ($O$8*6/1000) -> 0.0063042105 | J8: =(E8/2) * ($O$9*6/1000) -> 0.008405614 | K8: =(E8/2) * ($O$10*6/1000) -> 0.010507017 | L8: =(E8/2) * ($O$11*6/1000) -> 0.012608421 | O8: 6000
A9: =A8+2 -> -346 | B9: =RADIANS(A9) -> -6.0388392 | C9: 2.1197032e-06 | D9: =$O$3*(1-COS(RADIANS(A9))) + ($O$5 - SQRT($O$5^2 - ($O$3*SIN(RADIANS(A9)))^2)) -> 0.0015632471 | E9: =D9-D8 -> 0.00041227063 | F9: 46.93 | G9: =(E9/2) * ($O$6*6/1000) -> 0.0024736238 | H9: =(E9/2) * ($O$7*6/1000) -> 0.0049472476 | I9: =(E9/2) * ($O$8*6/1000) -> 0.0074208713 | J9: =(E9/2) * ($O$9*6/1000) -> 0.0098944951 | K9: =(E9/2) * ($O$10*6/1000) -> 0.012368119 | L9: =(E9/2) * ($O$11*6/1000) -> 0.014841743 | O9: 8000
A10: =A9+2 -> -344 | B10: =RADIANS(A10) -> -6.0039326 | C10: 2.5254277e-06 | D10: =$O$3*(1-COS(RADIANS(A10))) + ($O$5 - SQRT($O$5^2 - ($O$3*SIN(RADIANS(A10)))^2)) -> 0.0020367405 | E10: =D10-D9 -> 0.00047349343 | F10: 49.26 | G10: =(E10/2) * ($O$6*6/1000) -> 0.0028409606 | H10: =(E10/2) * ($O$7*6/1000) -> 0.0056819212 | I10: =(E10/2) * ($O$8*6/1000) -> 0.0085228818 | J10: =(E10/2) * ($O$9*6/1000) -> 0.011363842 | K10: =(E10/2) * ($O$10*6/1000) -> 0.014204803 | L10: =(E10/2) * ($O$11*6/1000) -> 0.017045764 | O10: 10000
A11: =A10+2 -> -342 | B11: =RADIANS(A11) -> -5.969026 | C11: 2.9973928e-06 | D11: =$O$3*(1-COS(RADIANS(A11))) + ($O$5 - SQRT($O$5^2 - ($O$3*SIN(RADIANS(A11)))^2)) -> 0.0025705232 | E11: =D11-D10 -> 0.00053378264 | F11: 51.87 | G11: =(E11/2) * ($O$6*6/1000) -> 0.0032026958 | H11: =(E11/2) * ($O$7*6/1000) -> 0.0064053916 | I11: =(E11/2) * ($O$8*6/1000) -> 0.0096080875 | J11: =(E11/2) * ($O$9*6/1000) -> 0.012810783 | K11: =(E11/2) * ($O$10*6/1000) -> 0.016013479 | L11: =(E11/2) * ($O$11*6/1000) -> 0.019216175 | O11: 12000
A12: =A11+2 -> -340 | B12: =RADIANS(A12) -> -5.9341195 | C12: 3.5687191e-06 | D12: =$O$3*(1-COS(RADIANS(A12))) + ($O$5 - SQRT($O$5^2 - ($O$3*SIN(RADIANS(A12)))^2)) -> 0.0031635441 | E12: =D12-D11 -> 0.00059302091 | F12: 54.78 | G12: =(E12/2) * ($O$6*6/1000) -> 0.0035581255 | H12: =(E12/2) * ($O$7*6/1000) -> 0.007116251 | I12: =(E12/2) * ($O$8*6/1000) -> 0.010674376 | J12: =(E12/2) * ($O$9*6/1000) -> 0.014232502 | K12: =(E12/2) * ($O$10*6/1000) -> 0.017790627 | L12: =(E12/2) * ($O$11*6/1000) -> 0.021348753 | N12: Crank speed (radians) | O12: =RADIANS(O6) -> 34.906585
A13: =A12+2 -> -338 | B13: =RADIANS(A13) -> -5.8992129 | C13: 4.2394065e-06 | D13: =$O$3*(1-COS(RADIANS(A13))) + ($O$5 - SQRT($O$5^2 - ($O$3*SIN(RADIANS(A13)))^2)) -> 0.0038146377 | E13: =D13-D12 -> 0.00065109362 | F13: 57.97 | G13: =(E13/2) * ($O$6*6/1000) -> 0.0039065617 | H13: =(E13/2) * ($O$7*6/1000) -> 0.0078131235 | I13: =(E13/2) * ($O$8*6/1000) -> 0.011719685 | J13: =(E13/2) * ($O$9*6/1000) -> 0.015626247 | K13: =(E13/2) * ($O$10*6/1000) -> 0.019532809 | L13: =(E13/2) * ($O$11*6/1000) -> 0.02343937 | O13: =RADIANS(O7) -> 69.81317
A14: =A13+2 -> -336 | B14: =RADIANS(A14) -> -5.8643063 | C14: 5.0260151e-06 | D14: =$O$3*(1-COS(RADIANS(A14))) + ($O$5 - SQRT($O$5^2 - ($O$3*SIN(RADIANS(A14)))^2)) -> 0.0045225268 | E14: =D14-D13 -> 0.00070788913 | F14: 61.44 | G14: =(E14/2) * ($O$6*6/1000) -> 0.0042473348 | H14: =(E14/2) * ($O$7*6/1000) -> 0.0084946695 | I14: =(E14/2) * ($O$8*6/1000) -> 0.012742004 | J14: =(E14/2) * ($O$9*6/1000) -> 0.016989339 | K14: =(E14/2) * ($O$10*6/1000) -> 0.021236674 | L14: =(E14/2) * ($O$11*6/1000) -> 0.025484009 | O14: =RADIANS(O8) -> 104.71976
A15: =A14+2 -> -334 | B15: =RADIANS(A15) -> -5.8293997 | C15: 5.9533852e-06 | D15: =$O$3*(1-COS(RADIANS(A15))) + ($O$5 - SQRT($O$5^2 - ($O$3*SIN(RADIANS(A15)))^2)) -> 0.0052858259 | E15: =D15-D14 -> 0.00076329909 | F15: 65.18 | G15: =(E15/2) * ($O$6*6/1000) -> 0.0045797946 | H15: =(E15/2) * ($O$7*6/1000) -> 0.0091595891 | I15: =(E15/2) * ($O$8*6/1000) -> 0.013739384 | J15: =(E15/2) * ($O$9*6/1000) -> 0.018319178 | K15: =(E15/2) * ($O$10*6/1000) -> 0.022898973 | L15: =(E15/2) * ($O$11*6/1000) -> 0.027478767 | O15: =RADIANS(O9) -> 139.62634
A16: =A15+2 -> -332 | B16: =RADIANS(A16) -> -5.7944931 | C16: 7.0546373e-06 | D16: =$O$3*(1-COS(RADIANS(A16))) + ($O$5 - SQRT($O$5^2 - ($O$3*SIN(RADIANS(A16)))^2)) -> 0.0061030447 | E16: =D16-D15 -> 0.00081721881 | F16: 69.19 | G16: =(E16/2) * ($O$6*6/1000) -> 0.0049033129 | H16: =(E16/2) * ($O$7*6/1000) -> 0.0098066257 | I16: =(E16/2) * ($O$8*6/1000) -> 0.014709939 | J16: =(E16/2) * ($O$9*6/1000) -> 0.019613251 | K16: =(E16/2) * ($O$10*6/1000) -> 0.024516564 | L16: =(E16/2) * ($O$11*6/1000) -> 0.029419877 | O16: =RADIANS(O10) -> 174.53293
A17: =A16+2 -> -330 | B17: =RADIANS(A17) -> -5.7595865 | C17: 8.3628916e-06 | D17: =$O$3*(1-COS(RADIANS(A17))) + ($O$5 - SQRT($O$5^2 - ($O$3*SIN(RADIANS(A17)))^2)) -> 0.0069725922 | E17: =D17-D16 -> 0.00086954749 | F17: 73.45 | G17: =(E17/2) * ($O$6*6/1000) -> 0.005217285 | H17: =(E17/2) * ($O$7*6/1000) -> 0.01043457 | I17: =(E17/2) * ($O$8*6/1000) -> 0.015651855 | J17: =(E17/2) * ($O$9*6/1000) -> 0.02086914 | K17: =(E17/2) * ($O$10*6/1000) -> 0.026086425 | L17: =(E17/2) * ($O$11*6/1000) -> 0.03130371 | O17: =RADIANS(O11) -> 209.43951
A18: =A17+2 -> -328 | B18: =RADIANS(A18) -> -5.7246799 | C18: 9.853308e-06 | D18: =$O$3*(1-COS(RADIANS(A18))) + ($O$5 - SQRT($O$5^2 - ($O$3*SIN(RADIANS(A18)))^2)) -> 0.0078927808 | E18: =D18-D17 -> 0.0009201886 | F18: 77.96 | G18: =(E18/2) * ($O$6*6/1000) -> 0.0055211316 | H18: =(E18/2) * ($O$7*6/1000) -> 0.011042263 | I18: =(E18/2) * ($O$8*6/1000) -> 0.016563395 | J18: =(E18/2) * ($O$9*6/1000) -> 0.022084526 | K18: =(E18/2) * ($O$10*6/1000) -> 0.027605658 | L18: =(E18/2) * ($O$11*6/1000) -> 0.03312679
A19: =A18+2 -> -326 | B19: =RADIANS(A19) -> -5.6897734 | C19: 1.1592127e-05 | D19: =$O$3*(1-COS(RADIANS(A19))) + ($O$5 - SQRT($O$5^2 - ($O$3*SIN(RADIANS(A19)))^2)) -> 0.008861831 | E19: =D19-D18 -> 0.00096905012 | F19: 82.71 | G19: =(E19/2) * ($O$6*6/1000) -> 0.0058143007 | H19: =(E19/2) * ($O$7*6/1000) -> 0.011628601 | I19: =(E19/2) * ($O$8*6/1000) -> 0.017442902 | J19: =(E19/2) * ($O$9*6/1000) -> 0.023257203 | K19: =(E19/2) * ($O$10*6/1000) -> 0.029071503 | L19: =(E19/2) * ($O$11*6/1000) -> 0.034885804
A20: =A19+2 -> -324 | B20: =RADIANS(A20) -> -5.6548668 | C20: 1.3744951e-05 | D20: =$O$3*(1-COS(RADIANS(A20))) + ($O$5 - SQRT($O$5^2 - ($O$3*SIN(RADIANS(A20)))^2)) -> 0.0098778758 | E20: =D20-D19 -> 0.0010160448 | F20: 87.69 | G20: =(E20/2) * ($O$6*6/1000) -> 0.006096269 | H20: =(E20/2) * ($O$7*6/1000) -> 0.012192538 | I20: =(E20/2) * ($O$8*6/1000) -> 0.018288807 | J20: =(E20/2) * ($O$9*6/1000) -> 0.024385076 | K20: =(E20/2) * ($O$10*6/1000) -> 0.030481345 | L20: =(E20/2) * ($O$11*6/1000) -> 0.036577614
A21: =A20+2 -> -322 | B21: =RADIANS(A21) -> -5.6199602 | C21: 1.6146177e-05 | D21: =$O$3*(1-COS(RADIANS(A21))) + ($O$5 - SQRT($O$5^2 - ($O$3*SIN(RADIANS(A21)))^2)) -> 0.010938966 | E21: =D21-D20 -> 0.0010610907 | F21: 92.89 | G21: =(E21/2) * ($O$6*6/1000) -> 0.0063665441 | H21: =(E21/2) * ($O$7*6/1000) -> 0.012733088 | I21: =(E21/2) * ($O$8*6/1000) -> 0.019099632 | J21: =(E21/2) * ($O$9*6/1000) -> 0.025466177 | K21: =(E21/2) * ($O$10*6/1000) -> 0.031832721 | L21: =(E21/2) * ($O$11*6/1000) -> 0.038199265
A22: =A21+2 -> -320 | B22: =RADIANS(A22) -> -5.5850536 | C22: 1.9044209e-05 | D22: =$O$3*(1-COS(RADIANS(A22))) + ($O$5 - SQRT($O$5^2 - ($O$3*SIN(RADIANS(A22)))^2)) -> 0.012043077 | E22: =D22-D21 -> 0.001104111 | F22: 98.3 | G22: =(E22/2) * ($O$6*6/1000) -> 0.0066246658 | H22: =(E22/2) * ($O$7*6/1000) -> 0.013249332 | I22: =(E22/2) * ($O$8*6/1000) -> 0.019873997 | J22: =(E22/2) * ($O$9*6/1000) -> 0.026498663 | K22: =(E22/2) * ($O$10*6/1000) -> 0.033123329 | L22: =(E22/2) * ($O$11*6/1000) -> 0.039747995
A23: =A22+2 -> -318 | B23: =RADIANS(A23) -> -5.550147 | C23: 2.2356245e-05 | D23: =$O$3*(1-COS(RADIANS(A23))) + ($O$5 - SQRT($O$5^2 - ($O$3*SIN(RADIANS(A23)))^2)) -> 0.013188112 | E23: =D23-D22 -> 0.0011450346 | F23: 103.92 | G23: =(E23/2) * ($O$6*6/1000) -> 0.0068702075 | H23: =(E23/2) * ($O$7*6/1000) -> 0.013740415 | I23: =(E23/2) * ($O$8*6/1000) -> 0.020610622 | J23: =(E23/2) * ($O$9*6/1000) -> 0.02748083 | K23: =(E23/2) * ($O$10*6/1000) -> 0.034351037 | L23: =(E23/2) * ($O$11*6/1000) -> 0.041221245
A24: =A23+2 -> -316 | B24: =RADIANS(A24) -> -5.5152404 | C24: 2.6247888e-05 | D24: =$O$3*(1-COS(RADIANS(A24))) + ($O$5 - SQRT($O$5^2 - ($O$3*SIN(RADIANS(A24)))^2)) -> 0.014371908 | E24: =D24-D23 -> 0.0011837964 | F24: 109.72 | G24: =(E24/2) * ($O$6*6/1000) -> 0.0071027784 | H24: =(E24/2) * ($O$7*6/1000) -> 0.014205557 | I24: =(E24/2) * ($O$8*6/1000) -> 0.021308335 | J24: =(E24/2) * ($O$9*6/1000) -> 0.028411113 | K24: =(E24/2) * ($O$10*6/1000) -> 0.035513892 | L24: =(E24/2) * ($O$11*6/1000) -> 0.04261667
A25: =A24+2 -> -314 | B25: =RADIANS(A25) -> -5.4803339 | C25: 3.0801938e-05 | D25: =$O$3*(1-COS(RADIANS(A25))) + ($O$5 - SQRT($O$5^2 - ($O$3*SIN(RADIANS(A25)))^2)) -> 0.015592246 | E25: =D25-D24 -> 0.0012203373 | F25: 115.7 | G25: =(E25/2) * ($O$6*6/1000) -> 0.007322024 | H25: =(E25/2) * ($O$7*6/1000) -> 0.014644048 | I25: =(E25/2) * ($O$8*6/1000) -> 0.021966072 | J25: =(E25/2) * ($O$9*6/1000) -> 0.029288096 | K25: =(E25/2) * ($O$10*6/1000) -> 0.03661012 | L25: =(E25/2) * ($O$11*6/1000) -> 0.043932144
A26: =A25+2 -> -312 | B26: =RADIANS(A26) -> -5.4454273 | C26: 3.6101196e-05 | D26: =$O$3*(1-COS(RADIANS(A26))) + ($O$5 - SQRT($O$5^2 - ($O$3*SIN(RADIANS(A26)))^2)) -> 0.01684685 | E26: =D26-D25 -> 0.0012546047 | F26: 121.85 | G26: =(E26/2) * ($O$6*6/1000) -> 0.0075276283 | H26: =(E26/2) * ($O$7*6/1000) -> 0.015055257 | I26: =(E26/2) * ($O$8*6/1000) -> 0.022582885 | J26: =(E26/2) * ($O$9*6/1000) -> 0.030110513 | K26: =(E26/2) * ($O$10*6/1000) -> 0.037638142 | L26: =(E26/2) * ($O$11*6/1000) -> 0.04516577
A27: =A26+2 -> -310 | B27: =RADIANS(A27) -> -5.4105207 | C27: 4.2228463e-05 | D27: =$O$3*(1-COS(RADIANS(A27))) + ($O$5 - SQRT($O$5^2 - ($O$3*SIN(RADIANS(A27)))^2)) -> 0.018133403 | E27: =D27-D26 -> 0.0012865524 | F27: 128.16 | G27: =(E27/2) * ($O$6*6/1000) -> 0.0077193141 | H27: =(E27/2) * ($O$7*6/1000) -> 0.015438628 | I27: =(E27/2) * ($O$8*6/1000) -> 0.023157942 | J27: =(E27/2) * ($O$9*6/1000) -> 0.030877256 | K27: =(E27/2) * ($O$10*6/1000) -> 0.038596571 | L27: =(E27/2) * ($O$11*6/1000) -> 0.046315885
A28: =A27+2 -> -308 | B28: =RADIANS(A28) -> -5.3756141 | C28: 4.9432142e-05 | D28: =$O$3*(1-COS(RADIANS(A28))) + ($O$5 - SQRT($O$5^2 - ($O$3*SIN(RADIANS(A28)))^2)) -> 0.019449544 | E28: =D28-D27 -> 0.0013161408 | F28: 134.61 | G28: =(E28/2) * ($O$6*6/1000) -> 0.0078968446 | H28: =(E28/2) * ($O$7*6/1000) -> 0.015793689 | I28: =(E28/2) * ($O$8*6/1000) -> 0.023690534 | J28: =(E28/2) * ($O$9*6/1000) -> 0.031587378 | K28: =(E28/2) * ($O$10*6/1000) -> 0.039484223 | L28: =(E28/2) * ($O$11*6/1000) -> 0.047381068
A29: =A28+2 -> -306 | B29: =RADIANS(A29) -> -5.3407075 | C29: 5.7795033e-05 | D29: =$O$3*(1-COS(RADIANS(A29))) + ($O$5 - SQRT($O$5^2 - ($O$3*SIN(RADIANS(A29)))^2)) -> 0.020792881 | E29: =D29-D28 -> 0.0013433373 | F29: 141.19 | G29: =(E29/2) * ($O$6*6/1000) -> 0.008060024 | H29: =(E29/2) * ($O$7*6/1000) -> 0.016120048 | I29: =(E29/2) * ($O$8*6/1000) -> 0.024180072 | J29: =(E29/2) * ($O$9*6/1000) -> 0.032240096 | K29: =(E29/2) * ($O$10*6/1000) -> 0.04030012 | L29: =(E29/2) * ($O$11*6/1000) -> 0.048360144
... A362: =A361+2 -> 360 | B362: =RADIANS(A362) -> 6.2831853 | C362: 5.0342952e-07 | D362: =$O$3*(1-COS(RADIANS(A362))) + ($O$5 - SQRT($O$5^2 - ($O$3*SIN(RADIANS(A362)))^2)) -> 0 | E362: =D362-D361 -> -3.2156908e-05 | F362: 39.27 | G362: =(E362/2) * ($O$6*6/1000) -> -0.00019294145 | H362: =(E362/2) * ($O$7*6/1000) -> -0.00038588289 | I362: =(E362/2) * ($O$8*6/1000) -> -0.00057882434 | J362: =(E362/2) * ($O$9*6/1000) -> -0.00077176578 | K362: =(E362/2) * ($O$10*6/1000) -> -0.00096470723 | L362: =(E362/2) * ($O$11*6/1000) -> -0.0011576487

Sheet Vel,Acc,Jer (Inlet)
A1: Crank Angle (º) | B1: Cam Angle (º) | C1: Valve Lift (mm) | D1: Velocity | E1: Velocity @ | F1: Velocity @ | G1: Velocity @ | H1: Velocity @ | I1: Velocity @ | J1: Velocity @ | K1: Acceleration | L1: Acceleration @ | M1: Acceleration @ | N1: Acceleration @ | O1: Acceleration @ | P1: Acceleration @ | Q1: Acceleration @ | R1: Moving Mass | S1: ma @ | T1: ma @ | U1: ma @ | V1: ma @ | W1: ma @ | X1: ma @ | Y1: Spring Force (N) | Z1: Contact Force @ | AA1: Contact Force @ | AB1: Contact Force @ | AC1: Contact Force @ | AD1: Contact Force @ | AE1: Contact Force @
D2: (mm/degree) | E2: 2000 rpm (mm/sec) | F2: 4000 rpm (mm/sec) | G2: 6000 rpm (mm/sec) | H2: 8000 rpm (mm/sec) | I2: 10000 rpm (mm/sec) | J2: 12000 rpm (mm/sec) | K2: (mm/degree) | L2: 2000 rpm (mm/s/s) | M2: 4000 rpm (mm/s/s) | N2: 6000 rpm (mm/s/s) | O2: 8000 rpm (mm/s/s) | P2: 10000 rpm (mm/s/s) | Q2: 12000 rpm (mm/s/s) | R2: (kg) | S2: 2000rpm | T2: 4000rpm | U2: 6000rpm | V2: 8000rpm | W2: 10000rpm | X2: 12000rpm | Z2: 2000 rpm | AA2: 4000 rpm | AB2: 6000 rpm | AC2: 8000 rpm | AD2: 10000 rpm | AE2: 12000 rpm
A3: -360 | B3: 0 | C3: 6.8141432e-07 | D3: =SUM((C4-C3)/(B4-B3)) -> 1.3628286e-07 | E3: =SUM(D3*(6*2000)) -> 0.0016353944 | F3: =SUM(D3*(6*4000)) -> 0.0032707887 | G3: =SUM(D3*(6*6000)) -> 0.0049061831 | H3: =SUM(D3*(6*8000)) -> 0.0065415775 | I3: =SUM(D3*(6*10000)) -> 0.0081769719 | J3: =SUM(D3*(6*12000)) -> 0.0098123662 | K3: =SUM((C5-(2*C4)+C3)/((B4-B3)^2)) -> 2.613644e-08 | L3: =SUM($K$3*((6*2000)^2)) -> 3.7636473 | M3: =SUM(K3*((6*4000)^2)) -> 15.054589 | N3: =SUM(K3*((6*6000)^2)) -> 33.872826 | O3: =SUM(K3*((6*8000)^2)) -> 60.218357 | P3: =SUM(K3*((6*10000)^2)) -> 94.091183 | Q3: =SUM(K3*((6*12000)^2)) -> 135.4913 | R3: 0.2456 | S3: =SUM($R$3*L3) -> 0.92435178 | T3: =SUM($R$3*M3) -> 3.6974071 | U3: =SUM($R$3*N3) -> 8.319166 | V3: =SUM($R$3*O3) -> 14.789629 | W3: =SUM($R$3*P3) -> 23.108795 | X3: =SUM($R$3*Q3) -> 33.276664 | Y3: =SUM('Masses & Spring Data'!$K$11*('Masses & Spring Data'!$I$3+'Vel,Acc,Jer (Inlet)'!C3)) -> 1453.61 | Z3: =SUM(S3+Y3) -> 1454.5344 | AA3: =SUM(T3+Y4) -> 1457.3295 | AB3: =SUM(U3+Y3) -> 1461.9292 | AC3: =SUM(V3+Y3) -> 1468.3997 | AD3: =SUM(W3+Y3) -> 1476.7188 | AE3: =SUM(X3+Y3) -> 1486.8867
A4: -358 | B4: =B3+1 -> 1 | C4: 8.1769719e-07 | D4: =SUM((C5-C4)/(B5-B4)) -> 1.624193e-07 | E4: =SUM(D4*(6*2000)) -> 0.0019490316 | F4: =SUM(D4*(6*4000)) -> 0.0038980633 | G4: =SUM(D4*(6*6000)) -> 0.0058470949 | H4: =SUM(D4*(6*8000)) -> 0.0077961266 | I4: =SUM(D4*(6*10000)) -> 0.0097451582 | J4: =SUM(D4*(6*12000)) -> 0.01169419 | K4: =SUM((C6-(2*C5)+C4)/((B5-B4)^2)) -> 3.3603994e-08 | L4: =SUM(K4*((6*2000)^2)) -> 4.8389751 | M4: =SUM(K4*((6*4000)^2)) -> 19.355901 | N4: =SUM(K4*((6*6000)^2)) -> 43.550776 | O4: =SUM(K4*((6*8000)^2)) -> 77.423602 | P4: =SUM(K4*((6*10000)^2)) -> 120.97438 | Q4: =SUM(K4*((6*12000)^2)) -> 174.2031 | R4: 0.2456 | S4: =SUM($R$3*L4) -> 1.1884523 | T4: =SUM($R$3*M4) -> 4.7538092 | U4: =SUM($R$3*N4) -> 10.696071 | V4: =SUM($R$3*O4) -> 19.015237 | W4: =SUM($R$3*P4) -> 29.711307 | X4: =SUM($R$3*Q4) -> 42.784282 | Y4: =SUM('Masses & Spring Data'!$K$11*('Masses & Spring Data'!$I$3+'Vel,Acc,Jer (Inlet)'!C4)) -> 1453.6321 | Z4: =SUM(S4+Y4) -> 1454.8205 | AA4: =SUM(T4+Y5) -> 1458.4121 | AB4: =SUM(U4+Y4) -> 1464.3281 | AC4: =SUM(V4+Y4) -> 1472.6473 | AD4: =SUM(W4+Y4) -> 1483.3434 | AE4: =SUM(X4+Y4) -> 1496.4163
A5: -356 | B5: =B4+1 -> 2 | C5: 9.8011649e-07 | D5: =SUM((C6-C5)/(B6-B5)) -> 1.960233e-07 | E5: =SUM(D5*(6*2000)) -> 0.0023522796 | F5: =SUM(D5*(6*4000)) -> 0.0047045592 | G5: =SUM(D5*(6*6000)) -> 0.0070568387 | H5: =SUM(D5*(6*8000)) -> 0.0094091183 | I5: =SUM(D5*(6*10000)) -> 0.011761398 | J5: =SUM(D5*(6*12000)) -> 0.014113677 | K5: =SUM((C7-(2*C6)+C5)/((B6-B5)^2)) -> 2.8003328e-08 | L5: =SUM(K5*((6*2000)^2)) -> 4.0324793 | M5: =SUM(K5*((6*4000)^2)) -> 16.129917 | N5: =SUM(K5*((6*6000)^2)) -> 36.292313 | O5: =SUM(K5*((6*8000)^2)) -> 64.519668 | P5: =SUM(K5*((6*10000)^2)) -> 100.81198 | Q5: =SUM(K5*((6*12000)^2)) -> 145.16925 | R5: 0.2456 | S5: =SUM($R$3*L5) -> 0.99037691 | T5: =SUM($R$3*M5) -> 3.9615076 | U5: =SUM($R$3*N5) -> 8.9133922 | V5: =SUM($R$3*O5) -> 15.846031 | W5: =SUM($R$3*P5) -> 24.759423 | X5: =SUM($R$3*Q5) -> 35.653569 | Y5: =SUM('Masses & Spring Data'!$K$11*('Masses & Spring Data'!$I$3+'Vel,Acc,Jer (Inlet)'!C5)) -> 1453.6583 | Z5: =SUM(S5+Y5) -> 1454.6487 | AA5: =SUM(T5+Y6) -> 1457.6515 | AB5: =SUM(U5+Y5) -> 1462.5717 | AC5: =SUM(V5+Y5) -> 1469.5043 | AD5: =SUM(W5+Y5) -> 1478.4177 | AE5: =SUM(X5+Y5) -> 1489.3119
A6: -354 | B6: =B5+1 -> 3 | C6: 1.1761398e-06 | D6: =SUM((C7-C6)/(B7-B6)) -> 2.2402663e-07 | E6: =SUM(D6*(6*2000)) -> 0.0026883195 | F6: =SUM(D6*(6*4000)) -> 0.005376639 | G6: =SUM(D6*(6*6000)) -> 0.0080649585 | H6: =SUM(D6*(6*8000)) -> 0.010753278 | I6: =SUM(D6*(6*10000)) -> 0.013441598 | J6: =SUM(D6*(6*12000)) -> 0.016129917 | K6: =SUM((C8-(2*C7)+C6)/((B7-B6)^2)) -> 5.6006657e-08 | L6: =SUM(K6*((6*2000)^2)) -> 8.0649585 | M6: =SUM(K6*((6*4000)^2)) -> 32.259834 | N6: =SUM(K6*((6*6000)^2)) -> 72.584627 | O6: =SUM(K6*((6*8000)^2)) -> 129.03934 | P6: =SUM(K6*((6*10000)^2)) -> 201.62396 | Q6: =SUM(K6*((6*12000)^2)) -> 290.33851 | R6: 0.2456 | S6: =SUM($R$3*L6) -> 1.9807538 | T6: =SUM($R$3*M6) -> 7.9230153 | U6: =SUM($R$3*N6) -> 17.826784 | V6: =SUM($R$3*O6) -> 31.692061 | W6: =SUM($R$3*P6) -> 49.518845 | X6: =SUM($R$3*Q6) -> 71.307137 | Y6: =SUM('Masses & Spring Data'!$K$11*('Masses & Spring Data'!$I$3+'Vel,Acc,Jer (Inlet)'!C6)) -> 1453.6899 | Z6: =SUM(S6+Y6) -> 1455.6707 | AA6: =SUM(T6+Y7) -> 1461.6491 | AB6: =SUM(U6+Y6) -> 1471.5167 | AC6: =SUM(V6+Y6) -> 1485.382 | AD6: =SUM(W6+Y6) -> 1503.2088 | AE6: =SUM(X6+Y6) -> 1524.9971
A7: -352 | B7: =B6+1 -> 4 | C7: 1.4001664e-06 | D7: =SUM((C8-C7)/(B8-B7)) -> 2.8003328e-07 | E7: =SUM(D7*(6*2000)) -> 0.0033603994 | F7: =SUM(D7*(6*4000)) -> 0.0067207988 | G7: =SUM(D7*(6*6000)) -> 0.010081198 | H7: =SUM(D7*(6*8000)) -> 0.013441598 | I7: =SUM(D7*(6*10000)) -> 0.016801997 | J7: =SUM(D7*(6*12000)) -> 0.020162396 | K7: =SUM((C9-(2*C8)+C7)/((B8-B7)^2)) -> 3.7337771e-08 | L7: =SUM(K7*((6*2000)^2)) -> 5.376639 | M7: =SUM(K7*((6*4000)^2)) -> 21.506556 | N7: =SUM(K7*((6*6000)^2)) -> 48.389751 | O7: =SUM(K7*((6*8000)^2)) -> 86.026224 | P7: =SUM(K7*((6*10000)^2)) -> 134.41598 | Q7: =SUM(K7*((6*12000)^2)) -> 193.55901 | R7: 0.2456 | S7: =SUM($R$3*L7) -> 1.3205025 | T7: =SUM($R$3*M7) -> 5.2820102 | U7: =SUM($R$3*N7) -> 11.884523 | V7: =SUM($R$3*O7) -> 21.128041 | W7: =SUM($R$3*P7) -> 33.012564 | X7: =SUM($R$3*Q7) -> 47.538092 | Y7: =SUM('Masses & Spring Data'!$K$11*('Masses & Spring Data'!$I$3+'Vel,Acc,Jer (Inlet)'!C7)) -> 1453.7261 | Z7: =SUM(S7+Y7) -> 1455.0466 | AA7: =SUM(T7+Y8) -> 1459.0534 | AB7: =SUM(U7+Y7) -> 1465.6106 | AC7: =SUM(V7+Y7) -> 1474.8542 | AD7: =SUM(W7+Y7) -> 1486.7387 | AE7: =SUM(X7+Y7) -> 1501.2642
A8: -350 | B8: =B7+1 -> 5 | C8: 1.6801997e-06 | D8: =SUM((C9-C8)/(B9-B8)) -> 3.1737105e-07 | E8: =SUM(D8*(6*2000)) -> 0.0038084526 | F8: =SUM(D8*(6*4000)) -> 0.0076169053 | G8: =SUM(D8*(6*6000)) -> 0.011425358 | H8: =SUM(D8*(6*8000)) -> 0.015233811 | I8: =SUM(D8*(6*10000)) -> 0.019042263 | J8: =SUM(D8*(6*12000)) -> 0.022850716 | K8: =SUM((C10-(2*C9)+C8)/((B9-B8)^2)) -> 7.4675542e-08 | L8: =SUM(K8*((6*2000)^2)) -> 10.753278 | M8: =SUM(K8*((6*4000)^2)) -> 43.013112 | N8: =SUM(K8*((6*6000)^2)) -> 96.779503 | O8: =SUM(K8*((6*8000)^2)) -> 172.05245 | P8: =SUM(K8*((6*10000)^2)) -> 268.83195 | Q8: =SUM(K8*((6*12000)^2)) -> 387.11801 | R8: 0.2456 | S8: =SUM($R$3*L8) -> 2.6410051 | T8: =SUM($R$3*M8) -> 10.56402 | U8: =SUM($R$3*N8) -> 23.769046 | V8: =SUM($R$3*O8) -> 42.256081 | W8: =SUM($R$3*P8) -> 66.025127 | X8: =SUM($R$3*Q8) -> 95.076183 | Y8: =SUM('Masses & Spring Data'!$K$11*('Masses & Spring Data'!$I$3+'Vel,Acc,Jer (Inlet)'!C8)) -> 1453.7714 | Z8: =SUM(S8+Y8) -> 1456.4124 | AA8: =SUM(T8+Y9) -> 1464.3866 | AB8: =SUM(U8+Y8) -> 1477.5404 | AC8: =SUM(V8+Y8) -> 1496.0274 | AD8: =SUM(W8+Y8) -> 1519.7965 | AE8: =SUM(X8+Y8) -> 1548.8475
A9: -348 | B9: =B8+1 -> 6 | C9: 1.9975708e-06 | D9: =SUM((C10-C9)/(B10-B9)) -> 3.920466e-07 | E9: =SUM(D9*(6*2000)) -> 0.0047045592 | F9: =SUM(D9*(6*4000)) -> 0.0094091183 | G9: =SUM(D9*(6*6000)) -> 0.014113677 | H9: =SUM(D9*(6*8000)) -> 0.018818237 | I9: =SUM(D9*(6*10000)) -> 0.023522796 | J9: =SUM(D9*(6*12000)) -> 0.028227355 | K9: =SUM((C11-(2*C10)+C9)/((B10-B9)^2)) -> 6.5341099e-08 | L9: =SUM(K9*((6*2000)^2)) -> 9.4091183 | M9: =SUM(K9*((6*4000)^2)) -> 37.636473 | N9: =SUM(K9*((6*6000)^2)) -> 84.682065 | O9: =SUM(K9*((6*8000)^2)) -> 150.54589 | P9: =SUM(K9*((6*10000)^2)) -> 235.22796 | Q9: =SUM(K9*((6*12000)^2)) -> 338.72826 | R9: 0.2456 | S9: =SUM($R$3*L9) -> 2.3108795 | T9: =SUM($R$3*M9) -> 9.2435178 | U9: =SUM($R$3*N9) -> 20.797915 | V9: =SUM($R$3*O9) -> 36.974071 | W9: =SUM($R$3*P9) -> 57.771986 | X9: =SUM($R$3*Q9) -> 83.19166 | Y9: =SUM('Masses & Spring Data'!$K$11*('Masses & Spring Data'!$I$3+'Vel,Acc,Jer (Inlet)'!C9)) -> 1453.8226 | Z9: =SUM(S9+Y9) -> 1456.1335 | AA9: =SUM(T9+Y10) -> 1463.1294 | AB9: =SUM(U9+Y9) -> 1474.6205 | AC9: =SUM(V9+Y9) -> 1490.7967 | AD9: =SUM(W9+Y9) -> 1511.5946 | AE9: =SUM(X9+Y9) -> 1537.0143
A10: -346 | B10: =B9+1 -> 7 | C10: 2.3896173e-06 | D10: =SUM((C11-C10)/(B11-B10)) -> 4.573877e-07 | E10: =SUM(D10*(6*2000)) -> 0.0054886523 | F10: =SUM(D10*(6*4000)) -> 0.010977305 | G10: =SUM(D10*(6*6000)) -> 0.016465957 | H10: =SUM(D10*(6*8000)) -> 0.021954609 | I10: =SUM(D10*(6*10000)) -> 0.027443262 | J10: =SUM(D10*(6*12000)) -> 0.032931914 | K10: =SUM((C12-(2*C11)+C10)/((B11-B10)^2)) -> 7.4675542e-08 | L10: =SUM(K10*((6*2000)^2)) -> 10.753278 | M10: =SUM(K10*((6*4000)^2)) -> 43.013112 | N10: =SUM(K10*((6*6000)^2)) -> 96.779503 | O10: =SUM(K10*((6*8000)^2)) -> 172.05245 | P10: =SUM(K10*((6*10000)^2)) -> 268.83195 | Q10: =SUM(K10*((6*12000)^2)) -> 387.11801 | R10: 0.2456 | S10: =SUM($R$3*L10) -> 2.6410051 | T10: =SUM($R$3*M10) -> 10.56402 | U10: =SUM($R$3*N10) -> 23.769046 | V10: =SUM($R$3*O10) -> 42.256081 | W10: =SUM($R$3*P10) -> 66.025127 | X10: =SUM($R$3*Q10) -> 95.076183 | Y10: =SUM('Masses & Spring Data'!$K$11*('Masses & Spring Data'!$I$3+'Vel,Acc,Jer (Inlet)'!C10)) -> 1453.8859 | Z10: =SUM(S10+Y10) -> 1456.5269 | AA10: =SUM(T10+Y11) -> 1464.5238 | AB10: =SUM(U10+Y10) -> 1477.655 | AC10: =SUM(V10+Y10) -> 1496.142 | AD10: =SUM(W10+Y10) -> 1519.9111 | AE10: =SUM(X10+Y10) -> 1548.9621
A11: -344 | B11: =B10+1 -> 8 | C11: 2.847005e-06 | D11: =SUM((C12-C11)/(B12-B11)) -> 5.3206324e-07 | E11: =SUM(D11*(6*2000)) -> 0.0063847588 | F11: =SUM(D11*(6*4000)) -> 0.012769518 | G11: =SUM(D11*(6*6000)) -> 0.019154277 | H11: =SUM(D11*(6*8000)) -> 0.025539035 | I11: =SUM(D11*(6*10000)) -> 0.031923794 | J11: =SUM(D11*(6*12000)) -> 0.038308553 | K11: =SUM((C13-(2*C12)+C11)/((B12-B11)^2)) -> 1.1201331e-07 | L11: =SUM(K11*((6*2000)^2)) -> 16.129917 | M11: =SUM(K11*((6*4000)^2)) -> 64.519668 | N11: =SUM(K11*((6*6000)^2)) -> 145.16925 | O11: =SUM(K11*((6*8000)^2)) -> 258.07867 | P11: =SUM(K11*((6*10000)^2)) -> 403.24793 | Q11: =SUM(K11*((6*12000)^2)) -> 580.67702 | R11: 0.2456 | S11: =SUM($R$3*L11) -> 3.9615076 | T11: =SUM($R$3*M11) -> 15.846031 | U11: =SUM($R$3*N11) -> 35.653569 | V11: =SUM($R$3*O11) -> 63.384122 | W11: =SUM($R$3*P11) -> 99.037691 | X11: =SUM($R$3*Q11) -> 142.61427 | Y11: =SUM('Masses & Spring Data'!$K$11*('Masses & Spring Data'!$I$3+'Vel,Acc,Jer (Inlet)'!C11)) -> 1453.9598 | Z11: =SUM(S11+Y11) -> 1457.9213 | AA11: =SUM(T11+Y12) -> 1469.8918 | AB11: =SUM(U11+Y11) -> 1489.6134 | AC11: =SUM(V11+Y11) -> 1517.3439 | AD11: =SUM(W11+Y11) -> 1552.9975 | AE11: =SUM(X11+Y11) -> 1596.5741
A12: -342 | B12: =B11+1 -> 9 | C12: 3.3790683e-06 | D12: =SUM((C13-C12)/(B13-B12)) -> 6.4407655e-07 | E12: =SUM(D12*(6*2000)) -> 0.0077289186 | F12: =SUM(D12*(6*4000)) -> 0.015457837 | G12: =SUM(D12*(6*6000)) -> 0.023186756 | H12: =SUM(D12*(6*8000)) -> 0.030915674 | I12: =SUM(D12*(6*10000)) -> 0.038644593 | J12: =SUM(D12*(6*12000)) -> 0.046373512 | K12: =SUM((C14-(2*C13)+C12)/((B13-B12)^2)) -> 1.1201331e-07 | L12: =SUM(K12*((6*2000)^2)) -> 16.129917 | M12: =SUM(K12*((6*4000)^2)) -> 64.519668 | N12: =SUM(K12*((6*6000)^2)) -> 145.16925 | O12: =SUM(K12*((6*8000)^2)) -> 258.07867 | P12: =SUM(K12*((6*10000)^2)) -> 403.24793 | Q12: =SUM(K12*((6*12000)^2)) -> 580.67702 | R12: 0.2456 | S12: =SUM($R$3*L12) -> 3.9615076 | T12: =SUM($R$3*M12) -> 15.846031 | U12: =SUM($R$3*N12) -> 35.653569 | V12: =SUM($R$3*O12) -> 63.384122 | W12: =SUM($R$3*P12) -> 99.037691 | X12: =SUM($R$3*Q12) -> 142.61427 | Y12: =SUM('Masses & Spring Data'!$K$11*('Masses & Spring Data'!$I$3+'Vel,Acc,Jer (Inlet)'!C12)) -> 1454.0457 | Z12: =SUM(S12+Y12) -> 1458.0072 | AA12: =SUM(T12+Y13) -> 1469.9958 | AB12: =SUM(U12+Y12) -> 1489.6993 | AC12: =SUM(V12+Y12) -> 1517.4298 | AD12: =SUM(W12+Y12) -> 1553.0834 | AE12: =SUM(X12+Y12) -> 1596.66
A13: -340 | B13: =B12+1 -> 10 | C13: 4.0231448e-06 | D13: =SUM((C14-C13)/(B14-B13)) -> 7.5608986e-07 | E13: =SUM(D13*(6*2000)) -> 0.0090730784 | F13: =SUM(D13*(6*4000)) -> 0.018146157 | G13: =SUM(D13*(6*6000)) -> 0.027219235 | H13: =SUM(D13*(6*8000)) -> 0.036292313 | I13: =SUM(D13*(6*10000)) -> 0.045365392 | J13: =SUM(D13*(6*12000)) -> 0.05443847 | K13: =SUM((C15-(2*C14)+C13)/((B14-B13)^2)) -> 1.306822e-07 | L13: =SUM(K13*((6*2000)^2)) -> 18.818237 | M13: =SUM(K13*((6*4000)^2)) -> 75.272946 | N13: =SUM(K13*((6*6000)^2)) -> 169.36413 | O13: =SUM(K13*((6*8000)^2)) -> 301.09179 | P13: =SUM(K13*((6*10000)^2)) -> 470.45592 | Q13: =SUM(K13*((6*12000)^2)) -> 677.45652 | R13: 0.2456 | S13: =SUM($R$3*L13) -> 4.6217589 | T13: =SUM($R$3*M13) -> 18.487036 | U13: =SUM($R$3*N13) -> 41.59583 | V13: =SUM($R$3*O13) -> 73.948143 | W13: =SUM($R$3*P13) -> 115.54397 | X13: =SUM($R$3*Q13) -> 166.38332 | Y13: =SUM('Masses & Spring Data'!$K$11*('Masses & Spring Data'!$I$3+'Vel,Acc,Jer (Inlet)'!C13)) -> 1454.1497 | Z13: =SUM(S13+Y13) -> 1458.7715 | AA13: =SUM(T13+Y14) -> 1472.7589 | AB13: =SUM(U13+Y13) -> 1495.7456 | AC13: =SUM(V13+Y13) -> 1528.0979 | AD13: =SUM(W13+Y13) -> 1569.6937 | AE13: =SUM(X13+Y13) -> 1620.5331
A14: -338 | B14: =B13+1 -> 11 | C14: 4.7792347e-06 | D14: =SUM((C15-C14)/(B15-B14)) -> 8.8677206e-07 | E14: =SUM(D14*(6*2000)) -> 0.010641265 | F14: =SUM(D14*(6*4000)) -> 0.021282529 | G14: =SUM(D14*(6*6000)) -> 0.031923794 | H14: =SUM(D14*(6*8000)) -> 0.042565059 | I14: =SUM(D14*(6*10000)) -> 0.053206324 | J14: =SUM(D14*(6*12000)) -> 0.063847588 | K14: =SUM((C16-(2*C15)+C14)/((B15-B14)^2)) -> 1.5868553e-07 | L14: =SUM(K14*((6*2000)^2)) -> 22.850716 | M14: =SUM(K14*((6*4000)^2)) -> 91.402864 | N14: =SUM(K14*((6*6000)^2)) -> 205.65644 | O14: =SUM(K14*((6*8000)^2)) -> 365.61145 | P14: =SUM(K14*((6*10000)^2)) -> 571.2679 | Q14: =SUM(K14*((6*12000)^2)) -> 822.62577 | R14: 0.2456 | S14: =SUM($R$3*L14) -> 5.6121358 | T14: =SUM($R$3*M14) -> 22.448543 | U14: =SUM($R$3*N14) -> 50.509222 | V14: =SUM($R$3*O14) -> 89.794173 | W14: =SUM($R$3*P14) -> 140.3034 | X14: =SUM($R$3*Q14) -> 202.03689 | Y14: =SUM('Masses & Spring Data'!$K$11*('Masses & Spring Data'!$I$3+'Vel,Acc,Jer (Inlet)'!C14)) -> 1454.2718 | Z14: =SUM(S14+Y14) -> 1459.884 | AA14: =SUM(T14+Y15) -> 1476.8636 | AB14: =SUM(U14+Y14) -> 1504.7811 | AC14: =SUM(V14+Y14) -> 1544.066 | AD14: =SUM(W14+Y14) -> 1594.5752 | AE14: =SUM(X14+Y14) -> 1656.3087
A15: -336 | B15: =B14+1 -> 12 | C15: 5.6660068e-06 | D15: =SUM((C16-C15)/(B16-B15)) -> 1.0454576e-06 | E15: =SUM(D15*(6*2000)) -> 0.012545491 | F15: =SUM(D15*(6*4000)) -> 0.025090982 | G15: =SUM(D15*(6*6000)) -> 0.037636473 | H15: =SUM(D15*(6*8000)) -> 0.050181964 | I15: =SUM(D15*(6*10000)) -> 0.062727455 | J15: =SUM(D15*(6*12000)) -> 0.075272946 | K15: =SUM((C17-(2*C16)+C15)/((B16-B15)^2)) -> 1.960233e-07 | L15: =SUM(K15*((6*2000)^2)) -> 28.227355 | M15: =SUM(K15*((6*4000)^2)) -> 112.90942 | N15: =SUM(K15*((6*6000)^2)) -> 254.04619 | O15: =SUM(K15*((6*8000)^2)) -> 451.63768 | P15: =SUM(K15*((6*10000)^2)) -> 705.68387 | Q15: =SUM(K15*((6*12000)^2)) -> 1016.1848 | R15: 0.2456 | S15: =SUM($R$3*L15) -> 6.9326384 | T15: =SUM($R$3*M15) -> 27.730553 | U15: =SUM($R$3*N15) -> 62.393745 | V15: =SUM($R$3*O15) -> 110.92221 | W15: =SUM($R$3*P15) -> 173.31596 | X15: =SUM($R$3*Q15) -> 249.57498 | Y15: =SUM('Masses & Spring Data'!$K$11*('Masses & Spring Data'!$I$3+'Vel,Acc,Jer (Inlet)'!C15)) -> 1454.4151 | Z15: =SUM(S15+Y15) -> 1461.3477 | AA15: =SUM(T15+Y16) -> 1482.3145 | AB15: =SUM(U15+Y15) -> 1516.8088 | AC15: =SUM(V15+Y15) -> 1565.3373 | AD15: =SUM(W15+Y15) -> 1627.731 | AE15: =SUM(X15+Y15) -> 1703.99
... A363: 360 | B363: =B362+1 -> 360 | C363: 5.6753412e-07 | D363: =SUM((C364-C363)/(B364-B363)) -> 1.5764837e-09 | E363: =SUM(D363*(6*2000)) -> 1.8917804e-05 | F363: =SUM(D363*(6*4000)) -> 3.7835608e-05 | G363: =SUM(D363*(6*6000)) -> 5.6753412e-05 | H363: =SUM(D363*(6*8000)) -> 7.5671216e-05 | I363: =SUM(D363*(6*10000)) -> 9.458902e-05 | J363: =SUM(D363*(6*12000)) -> 0.00011350682 | K363: =SUM((C365-(2*C364)+C363)/((B364-B363)^2)) -> 4.3791213e-12 | L363: =SUM(K363*((6*2000)^2)) -> 0.00063059347 | M363: =SUM(K363*((6*4000)^2)) -> 0.0025223739 | N363: =SUM(K363*((6*6000)^2)) -> 0.0056753412 | O363: =SUM(K363*((6*8000)^2)) -> 0.010089495 | P363: =SUM(K363*((6*10000)^2)) -> 0.015764837 | Q363: =SUM(K363*((6*12000)^2)) -> 0.022701365 | R363: 0.2456 | S363: =SUM($R$3*L363) -> 0.00015487376 | T363: =SUM($R$3*M363) -> 0.00061949502 | U363: =SUM($R$3*N363) -> 0.0013938638 | V363: =SUM($R$3*O363) -> 0.0024779801 | W363: =SUM($R$3*P363) -> 0.0038718439 | X363: =SUM($R$3*Q363) -> 0.0055754552 | Y363: =SUM('Masses & Spring Data'!$K$11*('Masses & Spring Data'!$I$3+'Vel,Acc,Jer (Inlet)'!C363)) -> 1453.5917 | Z363: =SUM(S363+Y363) -> 1453.5918 | AA363: =SUM(T363+Y364) -> 0.00061949502 | AB363: =SUM(U363+Y363) -> 1453.5931 | AC363: =SUM(V363+Y363) -> 1453.5941 | AD363: =SUM(W363+Y363) -> 1453.5955 | AE363: =SUM(X363+Y363) -> 1453.5972

Sheet Vel,Acc,Jer (Exh)
A1: Crank Angle (º) | B1: Cam Angle (º) | C1: Valve Lift (mm) | D1: Velocity | E1: Velocity @ | F1: Velocity @ | G1: Velocity @ | H1: Velocity @ | I1: Velocity @ | J1: Velocity @ | K1: Acceleration | L1: Acceleration @ | M1: Acceleration @ | N1: Acceleration @ | O1: Acceleration @ | P1: Acceleration @ | Q1: Acceleration @ | R1: Moving Mass | S1: ma @ | T1: ma @ | U1: ma @ | V1: ma @ | W1: ma @ | X1: ma @ | Y1: Spring Force (N) | Z1: Contact Force @ | AA1: Contact Force @ | AB1: Contact Force @ | AC1: Contact Force @ | AD1: Contact Force @ | AE1: Contact Force @
D2: (mm/degree) | E2: 2000 rpm (mm/sec) | F2: 4000 rpm (mm/sec) | G2: 6000 rpm (mm/sec) | H2: 8000 rpm (mm/sec) | I2: 10000 rpm (mm/sec) | J2: 12000 rpm (mm/sec) | K2: (mm/degree) | L2: 2000 rpm (mm/s/s) | M2: 4000 rpm (mm/s/s) | N2: 6000 rpm (mm/s/s) | O2: 8000 rpm (mm/s/s) | P2: 10000 rpm (mm/s/s) | Q2: 12000 rpm (mm/s/s) | R2: (kg) | S2: 2000rpm | T2: 4000rpm | U2: 6000rpm | V2: 8000rpm | W2: 10000rpm | X2: 12000rpm | Z2: 2000 rpm | AA2: 4000 rpm | AB2: 6000 rpm | AC2: 8000 rpm | AD2: 10000 rpm | AE2: 12000 rpm
A3: -360 | B3: 0 | C3: 6.0444662e-07 | D3: =SUM((C4-C3)/(B4-B3)) -> 1.2088932e-07 | E3: =SUM(D3*(6*2000)) -> 0.0014506719 | F3: =SUM(D3*(6*4000)) -> 0.0029013438 | G3: =SUM(D3*(6*6000)) -> 0.0043520157 | H3: =SUM(D3*(6*8000)) -> 0.0058026876 | I3: =SUM(D3*(6*10000)) -> 0.0072533595 | J3: =SUM(D3*(6*12000)) -> 0.0087040314 | K3: =SUM((C5-(2*C4)+C3)/((B4-B3)^2)) -> 2.3184254e-08 | L3: =SUM($K$3*((6*2000)^2)) -> 3.3385326 | M3: =SUM(K3*((6*4000)^2)) -> 13.35413 | N3: =SUM(K3*((6*6000)^2)) -> 30.046793 | O3: =SUM(K3*((6*8000)^2)) -> 53.416521 | P3: =SUM(K3*((6*10000)^2)) -> 83.463315 | Q3: =SUM(K3*((6*12000)^2)) -> 120.18717 | R3: 0.2336 | S3: =SUM($R$3*L3) -> 0.77988121 | T3: =SUM($R$3*M3) -> 3.1195248 | U3: =SUM($R$3*N3) -> 7.0189309 | V3: =SUM($R$3*O3) -> 12.478099 | W3: =SUM($R$3*P3) -> 19.49703 | X3: =SUM($R$3*Q3) -> 28.075724 | Y3: =SUM('Masses & Spring Data'!$K$11*('Masses & Spring Data'!$I$3+'Vel,Acc,Jer (Inlet)'!C3)) -> 1453.61 | Z3: =SUM(S3+Y3) -> 1454.3899 | AA3: =SUM(T3+Y4) -> 1456.7516 | AB3: =SUM(U3+Y3) -> 1460.629 | AC3: =SUM(V3+Y3) -> 1466.0881 | AD3: =SUM(W3+Y3) -> 1473.1071 | AE3: =SUM(X3+Y3) -> 1481.6858
A4: -358 | B4: =B3+1 -> 1 | C4: 7.2533595e-07 | D4: =SUM((C5-C4)/(B5-B4)) -> 1.4407358e-07 | E4: =SUM(D4*(6*2000)) -> 0.0017288829 | F4: =SUM(D4*(6*4000)) -> 0.0034577659 | G4: =SUM(D4*(6*6000)) -> 0.0051866488 | H4: =SUM(D4*(6*8000)) -> 0.0069155318 | I4: =SUM(D4*(6*10000)) -> 0.0086444147 | J4: =SUM(D4*(6*12000)) -> 0.010373298 | K4: =SUM((C6-(2*C5)+C4)/((B5-B4)^2)) -> 2.9808327e-08 | L4: =SUM(K4*((6*2000)^2)) -> 4.292399 | M4: =SUM(K4*((6*4000)^2)) -> 17.169596 | N4: =SUM(K4*((6*6000)^2)) -> 38.631591 | O4: =SUM(K4*((6*8000)^2)) -> 68.678385 | P4: =SUM(K4*((6*10000)^2)) -> 107.30998 | Q4: =SUM(K4*((6*12000)^2)) -> 154.52637 | R4: 0.2336 | S4: =SUM($R$3*L4) -> 1.0027044 | T4: =SUM($R$3*M4) -> 4.0108177 | U4: =SUM($R$3*N4) -> 9.0243397 | V4: =SUM($R$3*O4) -> 16.043271 | W4: =SUM($R$3*P4) -> 25.06761 | X4: =SUM($R$3*Q4) -> 36.097359 | Y4: =SUM('Masses & Spring Data'!$K$11*('Masses & Spring Data'!$I$3+'Vel,Acc,Jer (Inlet)'!C4)) -> 1453.6321 | Z4: =SUM(S4+Y4) -> 1454.6348 | AA4: =SUM(T4+Y5) -> 1457.6691 | AB4: =SUM(U4+Y4) -> 1462.6564 | AC4: =SUM(V4+Y4) -> 1469.6753 | AD4: =SUM(W4+Y4) -> 1478.6997 | AE4: =SUM(X4+Y4) -> 1489.7294
A5: -356 | B5: =B4+1 -> 2 | C5: 8.6940953e-07 | D5: =SUM((C6-C5)/(B6-B5)) -> 1.7388191e-07 | E5: =SUM(D5*(6*2000)) -> 0.0020865829 | F5: =SUM(D5*(6*4000)) -> 0.0041731657 | G5: =SUM(D5*(6*6000)) -> 0.0062597486 | H5: =SUM(D5*(6*8000)) -> 0.0083463315 | I5: =SUM(D5*(6*10000)) -> 0.010432914 | J5: =SUM(D5*(6*12000)) -> 0.012519497 | K5: =SUM((C7-(2*C6)+C5)/((B6-B5)^2)) -> 2.4840272e-08 | L5: =SUM(K5*((6*2000)^2)) -> 3.5769992 | M5: =SUM(K5*((6*4000)^2)) -> 14.307997 | N5: =SUM(K5*((6*6000)^2)) -> 32.192993 | O5: =SUM(K5*((6*8000)^2)) -> 57.231987 | P5: =SUM(K5*((6*10000)^2)) -> 89.42498 | Q5: =SUM(K5*((6*12000)^2)) -> 128.77197 | R5: 0.2336 | S5: =SUM($R$3*L5) -> 0.83558701 | T5: =SUM($R$3*M5) -> 3.3423481 | U5: =SUM($R$3*N5) -> 7.5202831 | V5: =SUM($R$3*O5) -> 13.369392 | W5: =SUM($R$3*P5) -> 20.889675 | X5: =SUM($R$3*Q5) -> 30.081132 | Y5: =SUM('Masses & Spring Data'!$K$11*('Masses & Spring Data'!$I$3+'Vel,Acc,Jer (Inlet)'!C5)) -> 1453.6583 | Z5: =SUM(S5+Y5) -> 1454.4939 | AA5: =SUM(T5+Y6) -> 1457.0323 | AB5: =SUM(U5+Y5) -> 1461.1786 | AC5: =SUM(V5+Y5) -> 1467.0277 | AD5: =SUM(W5+Y5) -> 1474.548 | AE5: =SUM(X5+Y5) -> 1483.7394
A6: -354 | B6: =B5+1 -> 3 | C6: 1.0432914e-06 | D6: =SUM((C7-C6)/(B7-B6)) -> 1.9872218e-07 | E6: =SUM(D6*(6*2000)) -> 0.0023846661 | F6: =SUM(D6*(6*4000)) -> 0.0047693323 | G6: =SUM(D6*(6*6000)) -> 0.0071539984 | H6: =SUM(D6*(6*8000)) -> 0.0095386645 | I6: =SUM(D6*(6*10000)) -> 0.011923331 | J6: =SUM(D6*(6*12000)) -> 0.014307997 | K6: =SUM((C8-(2*C7)+C6)/((B7-B6)^2)) -> 4.9680544e-08 | L6: =SUM(K6*((6*2000)^2)) -> 7.1539984 | M6: =SUM(K6*((6*4000)^2)) -> 28.615994 | N6: =SUM(K6*((6*6000)^2)) -> 64.385986 | O6: =SUM(K6*((6*8000)^2)) -> 114.46397 | P6: =SUM(K6*((6*10000)^2)) -> 178.84996 | Q6: =SUM(K6*((6*12000)^2)) -> 257.54394 | R6: 0.2336 | S6: =SUM($R$3*L6) -> 1.671174 | T6: =SUM($R$3*M6) -> 6.6846961 | U6: =SUM($R$3*N6) -> 15.040566 | V6: =SUM($R$3*O6) -> 26.738784 | W6: =SUM($R$3*P6) -> 41.779351 | X6: =SUM($R$3*Q6) -> 60.162265 | Y6: =SUM('Masses & Spring Data'!$K$11*('Masses & Spring Data'!$I$3+'Vel,Acc,Jer (Inlet)'!C6)) -> 1453.6899 | Z6: =SUM(S6+Y6) -> 1455.3611 | AA6: =SUM(T6+Y7) -> 1460.4108 | AB6: =SUM(U6+Y6) -> 1468.7305 | AC6: =SUM(V6+Y6) -> 1480.4287 | AD6: =SUM(W6+Y6) -> 1495.4693 | AE6: =SUM(X6+Y6) -> 1513.8522
A7: -352 | B7: =B6+1 -> 4 | C7: 1.2420136e-06 | D7: =SUM((C8-C7)/(B8-B7)) -> 2.4840272e-07 | E7: =SUM(D7*(6*2000)) -> 0.0029808327 | F7: =SUM(D7*(6*4000)) -> 0.0059616653 | G7: =SUM(D7*(6*6000)) -> 0.008942498 | H7: =SUM(D7*(6*8000)) -> 0.011923331 | I7: =SUM(D7*(6*10000)) -> 0.014904163 | J7: =SUM(D7*(6*12000)) -> 0.017884996 | K7: =SUM((C9-(2*C8)+C7)/((B8-B7)^2)) -> 3.3120363e-08 | L7: =SUM(K7*((6*2000)^2)) -> 4.7693323 | M7: =SUM(K7*((6*4000)^2)) -> 19.077329 | N7: =SUM(K7*((6*6000)^2)) -> 42.92399 | O7: =SUM(K7*((6*8000)^2)) -> 76.309316 | P7: =SUM(K7*((6*10000)^2)) -> 119.23331 | Q7: =SUM(K7*((6*12000)^2)) -> 171.69596 | R7: 0.2336 | S7: =SUM($R$3*L7) -> 1.114116 | T7: =SUM($R$3*M7) -> 4.4564641 | U7: =SUM($R$3*N7) -> 10.027044 | V7: =SUM($R$3*O7) -> 17.825856 | W7: =SUM($R$3*P7) -> 27.8529 | X7: =SUM($R$3*Q7) -> 40.108177 | Y7: =SUM('Masses & Spring Data'!$K$11*('Masses & Spring Data'!$I$3+'Vel,Acc,Jer (Inlet)'!C7)) -> 1453.7261 | Z7: =SUM(S7+Y7) -> 1454.8402 | AA7: =SUM(T7+Y8) -> 1458.2278 | AB7: =SUM(U7+Y7) -> 1463.7532 | AC7: =SUM(V7+Y7) -> 1471.552 | AD7: =SUM(W7+Y7) -> 1481.579 | AE7: =SUM(X7+Y7) -> 1493.8343
A8: -350 | B8: =B7+1 -> 5 | C8: 1.4904163e-06 | D8: =SUM((C9-C8)/(B9-B8)) -> 2.8152308e-07 | E8: =SUM(D8*(6*2000)) -> 0.003378277 | F8: =SUM(D8*(6*4000)) -> 0.006756554 | G8: =SUM(D8*(6*6000)) -> 0.010134831 | H8: =SUM(D8*(6*8000)) -> 0.013513108 | I8: =SUM(D8*(6*10000)) -> 0.016891385 | J8: =SUM(D8*(6*12000)) -> 0.020269662 | K8: =SUM((C10-(2*C9)+C8)/((B9-B8)^2)) -> 6.6240726e-08 | L8: =SUM(K8*((6*2000)^2)) -> 9.5386645 | M8: =SUM(K8*((6*4000)^2)) -> 38.154658 | N8: =SUM(K8*((6*6000)^2)) -> 85.847981 | O8: =SUM(K8*((6*8000)^2)) -> 152.61863 | P8: =SUM(K8*((6*10000)^2)) -> 238.46661 | Q8: =SUM(K8*((6*12000)^2)) -> 343.39192 | R8: 0.2336 | S8: =SUM($R$3*L8) -> 2.228232 | T8: =SUM($R$3*M8) -> 8.9129281 | U8: =SUM($R$3*N8) -> 20.054088 | V8: =SUM($R$3*O8) -> 35.651713 | W8: =SUM($R$3*P8) -> 55.705801 | X8: =SUM($R$3*Q8) -> 80.216353 | Y8: =SUM('Masses & Spring Data'!$K$11*('Masses & Spring Data'!$I$3+'Vel,Acc,Jer (Inlet)'!C8)) -> 1453.7714 | Z8: =SUM(S8+Y8) -> 1455.9996 | AA8: =SUM(T8+Y9) -> 1462.7355 | AB8: =SUM(U8+Y8) -> 1473.8254 | AC8: =SUM(V8+Y8) -> 1489.4231 | AD8: =SUM(W8+Y8) -> 1509.4772 | AE8: =SUM(X8+Y8) -> 1533.9877
A9: -348 | B9: =B8+1 -> 6 | C9: 1.7719394e-06 | D9: =SUM((C10-C9)/(B10-B9)) -> 3.4776381e-07 | E9: =SUM(D9*(6*2000)) -> 0.0041731657 | F9: =SUM(D9*(6*4000)) -> 0.0083463315 | G9: =SUM(D9*(6*6000)) -> 0.012519497 | H9: =SUM(D9*(6*8000)) -> 0.016692663 | I9: =SUM(D9*(6*10000)) -> 0.020865829 | J9: =SUM(D9*(6*12000)) -> 0.025038994 | K9: =SUM((C11-(2*C10)+C9)/((B10-B9)^2)) -> 5.7960635e-08 | L9: =SUM(K9*((6*2000)^2)) -> 8.3463315 | M9: =SUM(K9*((6*4000)^2)) -> 33.385326 | N9: =SUM(K9*((6*6000)^2)) -> 75.116983 | O9: =SUM(K9*((6*8000)^2)) -> 133.5413 | P9: =SUM(K9*((6*10000)^2)) -> 208.65829 | Q9: =SUM(K9*((6*12000)^2)) -> 300.46793 | R9: 0.2336 | S9: =SUM($R$3*L9) -> 1.949703 | T9: =SUM($R$3*M9) -> 7.7988121 | U9: =SUM($R$3*N9) -> 17.547327 | V9: =SUM($R$3*O9) -> 31.195248 | W9: =SUM($R$3*P9) -> 48.742576 | X9: =SUM($R$3*Q9) -> 70.189309 | Y9: =SUM('Masses & Spring Data'!$K$11*('Masses & Spring Data'!$I$3+'Vel,Acc,Jer (Inlet)'!C9)) -> 1453.8226 | Z9: =SUM(S9+Y9) -> 1455.7723 | AA9: =SUM(T9+Y10) -> 1461.6847 | AB9: =SUM(U9+Y9) -> 1471.3699 | AC9: =SUM(V9+Y9) -> 1485.0179 | AD9: =SUM(W9+Y9) -> 1502.5652 | AE9: =SUM(X9+Y9) -> 1524.0119
A10: -346 | B10: =B9+1 -> 7 | C10: 2.1197032e-06 | D10: =SUM((C11-C10)/(B11-B10)) -> 4.0572445e-07 | E10: =SUM(D10*(6*2000)) -> 0.0048686934 | F10: =SUM(D10*(6*4000)) -> 0.0097373867 | G10: =SUM(D10*(6*6000)) -> 0.01460608 | H10: =SUM(D10*(6*8000)) -> 0.019474773 | I10: =SUM(D10*(6*10000)) -> 0.024343467 | J10: =SUM(D10*(6*12000)) -> 0.02921216 | K10: =SUM((C12-(2*C11)+C10)/((B11-B10)^2)) -> 6.6240726e-08 | L10: =SUM(K10*((6*2000)^2)) -> 9.5386645 | M10: =SUM(K10*((6*4000)^2)) -> 38.154658 | N10: =SUM(K10*((6*6000)^2)) -> 85.847981 | O10: =SUM(K10*((6*8000)^2)) -> 152.61863 | P10: =SUM(K10*((6*10000)^2)) -> 238.46661 | Q10: =SUM(K10*((6*12000)^2)) -> 343.39192 | R10: 0.2336 | S10: =SUM($R$3*L10) -> 2.228232 | T10: =SUM($R$3*M10) -> 8.9129281 | U10: =SUM($R$3*N10) -> 20.054088 | V10: =SUM($R$3*O10) -> 35.651713 | W10: =SUM($R$3*P10) -> 55.705801 | X10: =SUM($R$3*Q10) -> 80.216353 | Y10: =SUM('Masses & Spring Data'!$K$11*('Masses & Spring Data'!$I$3+'Vel,Acc,Jer (Inlet)'!C10)) -> 1453.8859 | Z10: =SUM(S10+Y10) -> 1456.1142 | AA10: =SUM(T10+Y11) -> 1462.8727 | AB10: =SUM(U10+Y10) -> 1473.94 | AC10: =SUM(V10+Y10) -> 1489.5376 | AD10: =SUM(W10+Y10) -> 1509.5917 | AE10: =SUM(X10+Y10) -> 1534.1023
A11: -344 | B11: =B10+1 -> 8 | C11: 2.5254277e-06 | D11: =SUM((C12-C11)/(B12-B11)) -> 4.7196517e-07 | E11: =SUM(D11*(6*2000)) -> 0.0056635821 | F11: =SUM(D11*(6*4000)) -> 0.011327164 | G11: =SUM(D11*(6*6000)) -> 0.016990746 | H11: =SUM(D11*(6*8000)) -> 0.022654328 | I11: =SUM(D11*(6*10000)) -> 0.02831791 | J11: =SUM(D11*(6*12000)) -> 0.033981492 | K11: =SUM((C13-(2*C12)+C11)/((B12-B11)^2)) -> 9.9361089e-08 | L11: =SUM(K11*((6*2000)^2)) -> 14.307997 | M11: =SUM(K11*((6*4000)^2)) -> 57.231987 | N11: =SUM(K11*((6*6000)^2)) -> 128.77197 | O11: =SUM(K11*((6*8000)^2)) -> 228.92795 | P11: =SUM(K11*((6*10000)^2)) -> 357.69992 | Q11: =SUM(K11*((6*12000)^2)) -> 515.08788 | R11: 0.2336 | S11: =SUM($R$3*L11) -> 3.3423481 | T11: =SUM($R$3*M11) -> 13.369392 | U11: =SUM($R$3*N11) -> 30.081132 | V11: =SUM($R$3*O11) -> 53.477569 | W11: =SUM($R$3*P11) -> 83.558701 | X11: =SUM($R$3*Q11) -> 120.32453 | Y11: =SUM('Masses & Spring Data'!$K$11*('Masses & Spring Data'!$I$3+'Vel,Acc,Jer (Inlet)'!C11)) -> 1453.9598 | Z11: =SUM(S11+Y11) -> 1457.3021 | AA11: =SUM(T11+Y12) -> 1467.4151 | AB11: =SUM(U11+Y11) -> 1484.0409 | AC11: =SUM(V11+Y11) -> 1507.4374 | AD11: =SUM(W11+Y11) -> 1537.5185 | AE11: =SUM(X11+Y11) -> 1574.2843
A12: -342 | B12: =B11+1 -> 9 | C12: 2.9973928e-06 | D12: =SUM((C13-C12)/(B13-B12)) -> 5.7132626e-07 | E12: =SUM(D12*(6*2000)) -> 0.0068559151 | F12: =SUM(D12*(6*4000)) -> 0.01371183 | G12: =SUM(D12*(6*6000)) -> 0.020567745 | H12: =SUM(D12*(6*8000)) -> 0.027423661 | I12: =SUM(D12*(6*10000)) -> 0.034279576 | J12: =SUM(D12*(6*12000)) -> 0.041135491 | K12: =SUM((C14-(2*C13)+C12)/((B13-B12)^2)) -> 9.9361089e-08 | L12: =SUM(K12*((6*2000)^2)) -> 14.307997 | M12: =SUM(K12*((6*4000)^2)) -> 57.231987 | N12: =SUM(K12*((6*6000)^2)) -> 128.77197 | O12: =SUM(K12*((6*8000)^2)) -> 228.92795 | P12: =SUM(K12*((6*10000)^2)) -> 357.69992 | Q12: =SUM(K12*((6*12000)^2)) -> 515.08788 | R12: 0.2336 | S12: =SUM($R$3*L12) -> 3.3423481 | T12: =SUM($R$3*M12) -> 13.369392 | U12: =SUM($R$3*N12) -> 30.081132 | V12: =SUM($R$3*O12) -> 53.477569 | W12: =SUM($R$3*P12) -> 83.558701 | X12: =SUM($R$3*Q12) -> 120.32453 | Y12: =SUM('Masses & Spring Data'!$K$11*('Masses & Spring Data'!$I$3+'Vel,Acc,Jer (Inlet)'!C12)) -> 1454.0457 | Z12: =SUM(S12+Y12) -> 1457.3881 | AA12: =SUM(T12+Y13) -> 1467.5191 | AB12: =SUM(U12+Y12) -> 1484.1269 | AC12: =SUM(V12+Y12) -> 1507.5233 | AD12: =SUM(W12+Y12) -> 1537.6044 | AE12: =SUM(X12+Y12) -> 1574.3702
A13: -340 | B13: =B12+1 -> 10 | C13: 3.5687191e-06 | D13: =SUM((C14-C13)/(B14-B13)) -> 6.7068735e-07 | E13: =SUM(D13*(6*2000)) -> 0.0080482482 | F13: =SUM(D13*(6*4000)) -> 0.016096496 | G13: =SUM(D13*(6*6000)) -> 0.024144745 | H13: =SUM(D13*(6*8000)) -> 0.032192993 | I13: =SUM(D13*(6*10000)) -> 0.040241241 | J13: =SUM(D13*(6*12000)) -> 0.048289489 | K13: =SUM((C15-(2*C14)+C13)/((B14-B13)^2)) -> 1.1592127e-07 | L13: =SUM(K13*((6*2000)^2)) -> 16.692663 | M13: =SUM(K13*((6*4000)^2)) -> 66.770652 | N13: =SUM(K13*((6*6000)^2)) -> 150.23397 | O13: =SUM(K13*((6*8000)^2)) -> 267.08261 | P13: =SUM(K13*((6*10000)^2)) -> 417.31657 | Q13: =SUM(K13*((6*12000)^2)) -> 600.93587 | R13: 0.2336 | S13: =SUM($R$3*L13) -> 3.8994061 | T13: =SUM($R$3*M13) -> 15.597624 | U13: =SUM($R$3*N13) -> 35.094655 | V13: =SUM($R$3*O13) -> 62.390497 | W13: =SUM($R$3*P13) -> 97.485151 | X13: =SUM($R$3*Q13) -> 140.37862 | Y13: =SUM('Masses & Spring Data'!$K$11*('Masses & Spring Data'!$I$3+'Vel,Acc,Jer (Inlet)'!C13)) -> 1454.1497 | Z13: =SUM(S13+Y13) -> 1458.0491 | AA13: =SUM(T13+Y14) -> 1469.8695 | AB13: =SUM(U13+Y13) -> 1489.2444 | AC13: =SUM(V13+Y13) -> 1516.5402 | AD13: =SUM(W13+Y13) -> 1551.6349 | AE13: =SUM(X13+Y13) -> 1594.5284
A14: -338 | B14: =B13+1 -> 11 | C14: 4.2394065e-06 | D14: =SUM((C15-C14)/(B15-B14)) -> 7.8660862e-07 | E14: =SUM(D14*(6*2000)) -> 0.0094393034 | F14: =SUM(D14*(6*4000)) -> 0.018878607 | G14: =SUM(D14*(6*6000)) -> 0.02831791 | H14: =SUM(D14*(6*8000)) -> 0.037757214 | I14: =SUM(D14*(6*10000)) -> 0.047196517 | J14: =SUM(D14*(6*12000)) -> 0.056635821 | K14: =SUM((C16-(2*C15)+C14)/((B15-B14)^2)) -> 1.4076154e-07 | L14: =SUM(K14*((6*2000)^2)) -> 20.269662 | M14: =SUM(K14*((6*4000)^2)) -> 81.078648 | N14: =SUM(K14*((6*6000)^2)) -> 182.42696 | O14: =SUM(K14*((6*8000)^2)) -> 324.31459 | P14: =SUM(K14*((6*10000)^2)) -> 506.74155 | Q14: =SUM(K14*((6*12000)^2)) -> 729.70784 | R14: 0.2336 | S14: =SUM($R$3*L14) -> 4.7349931 | T14: =SUM($R$3*M14) -> 18.939972 | U14: =SUM($R$3*N14) -> 42.614938 | V14: =SUM($R$3*O14) -> 75.759889 | W14: =SUM($R$3*P14) -> 118.37483 | X14: =SUM($R$3*Q14) -> 170.45975 | Y14: =SUM('Masses & Spring Data'!$K$11*('Masses & Spring Data'!$I$3+'Vel,Acc,Jer (Inlet)'!C14)) -> 1454.2718 | Z14: =SUM(S14+Y14) -> 1459.0068 | AA14: =SUM(T14+Y15) -> 1473.355 | AB14: =SUM(U14+Y14) -> 1496.8868 | AC14: =SUM(V14+Y14) -> 1530.0317 | AD14: =SUM(W14+Y14) -> 1572.6467 | AE14: =SUM(X14+Y14) -> 1624.7316
A15: -336 | B15: =B14+1 -> 12 | C15: 5.0260151e-06 | D15: =SUM((C16-C15)/(B16-B15)) -> 9.2737016e-07 | E15: =SUM(D15*(6*2000)) -> 0.011128442 | F15: =SUM(D15*(6*4000)) -> 0.022256884 | G15: =SUM(D15*(6*6000)) -> 0.033385326 | H15: =SUM(D15*(6*8000)) -> 0.044513768 | I15: =SUM(D15*(6*10000)) -> 0.05564221 | J15: =SUM(D15*(6*12000)) -> 0.066770652 | K15: =SUM((C17-(2*C16)+C15)/((B16-B15)^2)) -> 1.7388191e-07 | L15: =SUM(K15*((6*2000)^2)) -> 25.038994 | M15: =SUM(K15*((6*4000)^2)) -> 100.15598 | N15: =SUM(K15*((6*6000)^2)) -> 225.35095 | O15: =SUM(K15*((6*8000)^2)) -> 400.62391 | P15: =SUM(K15*((6*10000)^2)) -> 625.97486 | Q15: =SUM(K15*((6*12000)^2)) -> 901.4038 | R15: 0.2336 | S15: =SUM($R$3*L15) -> 5.8491091 | T15: =SUM($R$3*M15) -> 23.396436 | U15: =SUM($R$3*N15) -> 52.641982 | V15: =SUM($R$3*O15) -> 93.585745 | W15: =SUM($R$3*P15) -> 146.22773 | X15: =SUM($R$3*Q15) -> 210.56793 | Y15: =SUM('Masses & Spring Data'!$K$11*('Masses & Spring Data'!$I$3+'Vel,Acc,Jer (Inlet)'!C15)) -> 1454.4151 | Z15: =SUM(S15+Y15) -> 1460.2642 | AA15: =SUM(T15+Y16) -> 1477.9803 | AB15: =SUM(U15+Y15) -> 1507.057 | AC15: =SUM(V15+Y15) -> 1548.0008 | AD15: =SUM(W15+Y15) -> 1600.6428 | AE15: =SUM(X15+Y15) -> 1664.983
... A363: 360 | B363: =B362+1 -> 360 | C363: 5.0342952e-07 | D363: =SUM((C364-C363)/(B364-B363)) -> 1.3984153e-09 | E363: =SUM(D363*(6*2000)) -> 1.6780984e-05 | F363: =SUM(D363*(6*4000)) -> 3.3561968e-05 | G363: =SUM(D363*(6*6000)) -> 5.0342952e-05 | H363: =SUM(D363*(6*8000)) -> 6.7123936e-05 | I363: =SUM(D363*(6*10000)) -> 8.3904919e-05 | J363: =SUM(D363*(6*12000)) -> 0.0001006859 | K363: =SUM((C365-(2*C364)+C363)/((B364-B363)^2)) -> 3.884487e-12 | L363: =SUM(K363*((6*2000)^2)) -> 0.00055936613 | M363: =SUM(K363*((6*4000)^2)) -> 0.0022374645 | N363: =SUM(K363*((6*6000)^2)) -> 0.0050342952 | O363: =SUM(K363*((6*8000)^2)) -> 0.0089498581 | P363: =SUM(K363*((6*10000)^2)) -> 0.013984153 | Q363: =SUM(K363*((6*12000)^2)) -> 0.020137181 | R363: 0.2336 | S363: =SUM($R$3*L363) -> 0.00013066793 | T363: =SUM($R$3*M363) -> 0.00052267171 | U363: =SUM($R$3*N363) -> 0.0011760114 | V363: =SUM($R$3*O363) -> 0.0020906868 | W363: =SUM($R$3*P363) -> 0.0032666982 | X363: =SUM($R$3*Q363) -> 0.0047040454 | Y363: =SUM('Masses & Spring Data'!$K$11*('Masses & Spring Data'!$I$3+'Vel,Acc,Jer (Inlet)'!C363)) -> 1453.5917 | Z363: =SUM(S363+Y363) -> 1453.5918 | AA363: =SUM(T363+Y364) -> 0.00052267171 | AB363: =SUM(U363+Y363) -> 1453.5928 | AC363: =SUM(V363+Y363) -> 1453.5937 | AD363: =SUM(W363+Y363) -> 1453.5949 | AE363: =SUM(X363+Y363) -> 1453.5964

Sheet Vel,Acc,Jer (In Light)
A1: Crank Angle (º) | B1: Cam Angle (º) | C1: Valve Lift (mm) | D1: Velocity | E1: Velocity @ | F1: Velocity @ | G1: Velocity @ | H1: Velocity @ | I1: Velocity @ | J1: Velocity @ | K1: Acceleration | L1: Acceleration @ | M1: Acceleration @ | N1: Acceleration @ | O1: Acceleration @ | P1: Acceleration @ | Q1: Acceleration @ | R1: Moving Mass | S1: ma @ | T1: ma @ | U1: ma @ | V1: ma @ | W1: ma @ | X1: ma @ | Y1: Spring Force (N) | Z1: Contact Force @ | AA1: Contact Force @ | AB1: Contact Force @ | AC1: Contact Force @ | AD1: Contact Force @ | AE1: Contact Force @
D2: (mm/degree) | E2: 2000 rpm (mm/sec) | F2: 4000 rpm (mm/sec) | G2: 6000 rpm (mm/sec) | H2: 8000 rpm (mm/sec) | I2: 10000 rpm (mm/sec) | J2: 12000 rpm (mm/sec) | K2: (mm/degree) | L2: 2000 rpm (mm/s/s) | M2: 4000 rpm (mm/s/s) | N2: 6000 rpm (mm/s/s) | O2: 8000 rpm (mm/s/s) | P2: 10000 rpm (mm/s/s) | Q2: 12000 rpm (mm/s/s) | R2: (kg) | S2: 2000rpm | T2: 4000rpm | U2: 6000rpm | V2: 8000rpm | W2: 10000rpm | X2: 12000rpm | Z2: 2000 rpm | AA2: 4000 rpm | AB2: 6000 rpm | AC2: 8000 rpm | AD2: 10000 rpm | AE2: 12000 rpm
A3: -360 | B3: 0 | C3: 6.8141432e-07 | D3: =SUM((C4-C3)/(B4-B3)) -> 1.3628286e-07 | E3: =SUM(D3*(6*2000)) -> 0.0016353944 | F3: =SUM(D3*(6*4000)) -> 0.0032707887 | G3: =SUM(D3*(6*6000)) -> 0.0049061831 | H3: =SUM(D3*(6*8000)) -> 0.0065415775 | I3: =SUM(D3*(6*10000)) -> 0.0081769719 | J3: =SUM(D3*(6*12000)) -> 0.0098123662 | K3: =SUM((C5-(2*C4)+C3)/((B4-B3)^2)) -> 2.613644e-08 | L3: =SUM($K$3*((6*2000)^2)) -> 3.7636473 | M3: =SUM(K3*((6*4000)^2)) -> 15.054589 | N3: =SUM(K3*((6*6000)^2)) -> 33.872826 | O3: =SUM(K3*((6*8000)^2)) -> 60.218357 | P3: =SUM(K3*((6*10000)^2)) -> 94.091183 | Q3: =SUM(K3*((6*12000)^2)) -> 135.4913 | R3: =SUM('Masses & Spring Data'!$D$29) -> 0.1291 | S3: =SUM($R$3*L3) -> 0.48588687 | T3: =SUM($R$3*M3) -> 1.9435475 | U3: =SUM($R$3*N3) -> 4.3729818 | V3: =SUM($R$3*O3) -> 7.7741899 | W3: =SUM($R$3*P3) -> 12.147172 | X3: =SUM($R$3*Q3) -> 17.491927 | Y3: =SUM('Masses & Spring Data'!$K$11*('Masses & Spring Data'!$I$3+'Vel,Acc,Jer (In Light)'!C3)) -> 1453.61 | Z3: =SUM(S3+Y3) -> 1454.0959 | AA3: =SUM(T3+Y4) -> 1455.5756 | AB3: =SUM(U3+Y3) -> 1457.983 | AC3: =SUM(V3+Y3) -> 1461.3842 | AD3: =SUM(W3+Y3) -> 1465.7572 | AE3: =SUM(X3+Y3) -> 1471.102
A4: -358 | B4: =B3+1 -> 1 | C4: 8.1769719e-07 | D4: =SUM((C5-C4)/(B5-B4)) -> 1.624193e-07 | E4: =SUM(D4*(6*2000)) -> 0.0019490316 | F4: =SUM(D4*(6*4000)) -> 0.0038980633 | G4: =SUM(D4*(6*6000)) -> 0.0058470949 | H4: =SUM(D4*(6*8000)) -> 0.0077961266 | I4: =SUM(D4*(6*10000)) -> 0.0097451582 | J4: =SUM(D4*(6*12000)) -> 0.01169419 | K4: =SUM((C6-(2*C5)+C4)/((B5-B4)^2)) -> 3.3603994e-08 | L4: =SUM(K4*((6*2000)^2)) -> 4.8389751 | M4: =SUM(K4*((6*4000)^2)) -> 19.355901 | N4: =SUM(K4*((6*6000)^2)) -> 43.550776 | O4: =SUM(K4*((6*8000)^2)) -> 77.423602 | P4: =SUM(K4*((6*10000)^2)) -> 120.97438 | Q4: =SUM(K4*((6*12000)^2)) -> 174.2031 | R4: =SUM('Masses & Spring Data'!$D$29) -> 0.1291 | S4: =SUM($R$3*L4) -> 0.62471169 | T4: =SUM($R$3*M4) -> 2.4988468 | U4: =SUM($R$3*N4) -> 5.6224052 | V4: =SUM($R$3*O4) -> 9.995387 | W4: =SUM($R$3*P4) -> 15.617792 | X4: =SUM($R$3*Q4) -> 22.489621 | Y4: =SUM('Masses & Spring Data'!$K$11*('Masses & Spring Data'!$I$3+'Vel,Acc,Jer (In Light)'!C4)) -> 1453.6321 | Z4: =SUM(S4+Y4) -> 1454.2568 | AA4: =SUM(T4+Y5) -> 1456.1571 | AB4: =SUM(U4+Y4) -> 1459.2545 | AC4: =SUM(V4+Y4) -> 1463.6274 | AD4: =SUM(W4+Y4) -> 1469.2499 | AE4: =SUM(X4+Y4) -> 1476.1217
A5: -356 | B5: =B4+1 -> 2 | C5: 9.8011649e-07 | D5: =SUM((C6-C5)/(B6-B5)) -> 1.960233e-07 | E5: =SUM(D5*(6*2000)) -> 0.0023522796 | F5: =SUM(D5*(6*4000)) -> 0.0047045592 | G5: =SUM(D5*(6*6000)) -> 0.0070568387 | H5: =SUM(D5*(6*8000)) -> 0.0094091183 | I5: =SUM(D5*(6*10000)) -> 0.011761398 | J5: =SUM(D5*(6*12000)) -> 0.014113677 | K5: =SUM((C7-(2*C6)+C5)/((B6-B5)^2)) -> 2.8003328e-08 | L5: =SUM(K5*((6*2000)^2)) -> 4.0324793 | M5: =SUM(K5*((6*4000)^2)) -> 16.129917 | N5: =SUM(K5*((6*6000)^2)) -> 36.292313 | O5: =SUM(K5*((6*8000)^2)) -> 64.519668 | P5: =SUM(K5*((6*10000)^2)) -> 100.81198 | Q5: =SUM(K5*((6*12000)^2)) -> 145.16925 | R5: =SUM('Masses & Spring Data'!$D$29) -> 0.1291 | S5: =SUM($R$3*L5) -> 0.52059307 | T5: =SUM($R$3*M5) -> 2.0823723 | U5: =SUM($R$3*N5) -> 4.6853377 | V5: =SUM($R$3*O5) -> 8.3294892 | W5: =SUM($R$3*P5) -> 13.014827 | X5: =SUM($R$3*Q5) -> 18.741351 | Y5: =SUM('Masses & Spring Data'!$K$11*('Masses & Spring Data'!$I$3+'Vel,Acc,Jer (In Light)'!C5)) -> 1453.6583 | Z5: =SUM(S5+Y5) -> 1454.1789 | AA5: =SUM(T5+Y6) -> 1455.7723 | AB5: =SUM(U5+Y5) -> 1458.3436 | AC5: =SUM(V5+Y5) -> 1461.9878 | AD5: =SUM(W5+Y5) -> 1466.6731 | AE5: =SUM(X5+Y5) -> 1472.3996
A6: -354 | B6: =B5+1 -> 3 | C6: 1.1761398e-06 | D6: =SUM((C7-C6)/(B7-B6)) -> 2.2402663e-07 | E6: =SUM(D6*(6*2000)) -> 0.0026883195 | F6: =SUM(D6*(6*4000)) -> 0.005376639 | G6: =SUM(D6*(6*6000)) -> 0.0080649585 | H6: =SUM(D6*(6*8000)) -> 0.010753278 | I6: =SUM(D6*(6*10000)) -> 0.013441598 | J6: =SUM(D6*(6*12000)) -> 0.016129917 | K6: =SUM((C8-(2*C7)+C6)/((B7-B6)^2)) -> 5.6006657e-08 | L6: =SUM(K6*((6*2000)^2)) -> 8.0649585 | M6: =SUM(K6*((6*4000)^2)) -> 32.259834 | N6: =SUM(K6*((6*6000)^2)) -> 72.584627 | O6: =SUM(K6*((6*8000)^2)) -> 129.03934 | P6: =SUM(K6*((6*10000)^2)) -> 201.62396 | Q6: =SUM(K6*((6*12000)^2)) -> 290.33851 | R6: =SUM('Masses & Spring Data'!$D$29) -> 0.1291 | S6: =SUM($R$3*L6) -> 1.0411861 | T6: =SUM($R$3*M6) -> 4.1647446 | U6: =SUM($R$3*N6) -> 9.3706753 | V6: =SUM($R$3*O6) -> 16.658978 | W6: =SUM($R$3*P6) -> 26.029654 | X6: =SUM($R$3*Q6) -> 37.482701 | Y6: =SUM('Masses & Spring Data'!$K$11*('Masses & Spring Data'!$I$3+'Vel,Acc,Jer (In Light)'!C6)) -> 1453.6899 | Z6: =SUM(S6+Y6) -> 1454.7311 | AA6: =SUM(T6+Y7) -> 1457.8909 | AB6: =SUM(U6+Y6) -> 1463.0606 | AC6: =SUM(V6+Y6) -> 1470.3489 | AD6: =SUM(W6+Y6) -> 1479.7196 | AE6: =SUM(X6+Y6) -> 1491.1726
A7: -352 | B7: =B6+1 -> 4 | C7: 1.4001664e-06 | D7: =SUM((C8-C7)/(B8-B7)) -> 2.8003328e-07 | E7: =SUM(D7*(6*2000)) -> 0.0033603994 | F7: =SUM(D7*(6*4000)) -> 0.0067207988 | G7: =SUM(D7*(6*6000)) -> 0.010081198 | H7: =SUM(D7*(6*8000)) -> 0.013441598 | I7: =SUM(D7*(6*10000)) -> 0.016801997 | J7: =SUM(D7*(6*12000)) -> 0.020162396 | K7: =SUM((C9-(2*C8)+C7)/((B8-B7)^2)) -> 3.7337771e-08 | L7: =SUM(K7*((6*2000)^2)) -> 5.376639 | M7: =SUM(K7*((6*4000)^2)) -> 21.506556 | N7: =SUM(K7*((6*6000)^2)) -> 48.389751 | O7: =SUM(K7*((6*8000)^2)) -> 86.026224 | P7: =SUM(K7*((6*10000)^2)) -> 134.41598 | Q7: =SUM(K7*((6*12000)^2)) -> 193.55901 | R7: =SUM('Masses & Spring Data'!$D$29) -> 0.1291 | S7: =SUM($R$3*L7) -> 0.6941241 | T7: =SUM($R$3*M7) -> 2.7764964 | U7: =SUM($R$3*N7) -> 6.2471169 | V7: =SUM($R$3*O7) -> 11.105986 | W7: =SUM($R$3*P7) -> 17.353102 | X7: =SUM($R$3*Q7) -> 24.988468 | Y7: =SUM('Masses & Spring Data'!$K$11*('Masses & Spring Data'!$I$3+'Vel,Acc,Jer (In Light)'!C7)) -> 1453.7261 | Z7: =SUM(S7+Y7) -> 1454.4203 | AA7: =SUM(T7+Y8) -> 1456.5478 | AB7: =SUM(U7+Y7) -> 1459.9732 | AC7: =SUM(V7+Y7) -> 1464.8321 | AD7: =SUM(W7+Y7) -> 1471.0792 | AE7: =SUM(X7+Y7) -> 1478.7146
A8: -350 | B8: =B7+1 -> 5 | C8: 1.6801997e-06 | D8: =SUM((C9-C8)/(B9-B8)) -> 3.1737105e-07 | E8: =SUM(D8*(6*2000)) -> 0.0038084526 | F8: =SUM(D8*(6*4000)) -> 0.0076169053 | G8: =SUM(D8*(6*6000)) -> 0.011425358 | H8: =SUM(D8*(6*8000)) -> 0.015233811 | I8: =SUM(D8*(6*10000)) -> 0.019042263 | J8: =SUM(D8*(6*12000)) -> 0.022850716 | K8: =SUM((C10-(2*C9)+C8)/((B9-B8)^2)) -> 7.4675542e-08 | L8: =SUM(K8*((6*2000)^2)) -> 10.753278 | M8: =SUM(K8*((6*4000)^2)) -> 43.013112 | N8: =SUM(K8*((6*6000)^2)) -> 96.779503 | O8: =SUM(K8*((6*8000)^2)) -> 172.05245 | P8: =SUM(K8*((6*10000)^2)) -> 268.83195 | Q8: =SUM(K8*((6*12000)^2)) -> 387.11801 | R8: =SUM('Masses & Spring Data'!$D$29) -> 0.1291 | S8: =SUM($R$3*L8) -> 1.3882482 | T8: =SUM($R$3*M8) -> 5.5529928 | U8: =SUM($R$3*N8) -> 12.494234 | V8: =SUM($R$3*O8) -> 22.211971 | W8: =SUM($R$3*P8) -> 34.706205 | X8: =SUM($R$3*Q8) -> 49.976935 | Y8: =SUM('Masses & Spring Data'!$K$11*('Masses & Spring Data'!$I$3+'Vel,Acc,Jer (In Light)'!C8)) -> 1453.7714 | Z8: =SUM(S8+Y8) -> 1455.1596 | AA8: =SUM(T8+Y9) -> 1459.3756 | AB8: =SUM(U8+Y8) -> 1466.2656 | AC8: =SUM(V8+Y8) -> 1475.9833 | AD8: =SUM(W8+Y8) -> 1488.4776 | AE8: =SUM(X8+Y8) -> 1503.7483
A9: -348 | B9: =B8+1 -> 6 | C9: 1.9975708e-06 | D9: =SUM((C10-C9)/(B10-B9)) -> 3.920466e-07 | E9: =SUM(D9*(6*2000)) -> 0.0047045592 | F9: =SUM(D9*(6*4000)) -> 0.0094091183 | G9: =SUM(D9*(6*6000)) -> 0.014113677 | H9: =SUM(D9*(6*8000)) -> 0.018818237 | I9: =SUM(D9*(6*10000)) -> 0.023522796 | J9: =SUM(D9*(6*12000)) -> 0.028227355 | K9: =SUM((C11-(2*C10)+C9)/((B10-B9)^2)) -> 6.5341099e-08 | L9: =SUM(K9*((6*2000)^2)) -> 9.4091183 | M9: =SUM(K9*((6*4000)^2)) -> 37.636473 | N9: =SUM(K9*((6*6000)^2)) -> 84.682065 | O9: =SUM(K9*((6*8000)^2)) -> 150.54589 | P9: =SUM(K9*((6*10000)^2)) -> 235.22796 | Q9: =SUM(K9*((6*12000)^2)) -> 338.72826 | R9: =SUM('Masses & Spring Data'!$D$29) -> 0.1291 | S9: =SUM($R$3*L9) -> 1.2147172 | T9: =SUM($R$3*M9) -> 4.8588687 | U9: =SUM($R$3*N9) -> 10.932455 | V9: =SUM($R$3*O9) -> 19.435475 | W9: =SUM($R$3*P9) -> 30.367929 | X9: =SUM($R$3*Q9) -> 43.729818 | Y9: =SUM('Masses & Spring Data'!$K$11*('Masses & Spring Data'!$I$3+'Vel,Acc,Jer (In Light)'!C9)) -> 1453.8226 | Z9: =SUM(S9+Y9) -> 1455.0373 | AA9: =SUM(T9+Y10) -> 1458.7448 | AB9: =SUM(U9+Y9) -> 1464.7551 | AC9: =SUM(V9+Y9) -> 1473.2581 | AD9: =SUM(W9+Y9) -> 1484.1905 | AE9: =SUM(X9+Y9) -> 1497.5524
A10: -346 | B10: =B9+1 -> 7 | C10: 2.3896173e-06 | D10: =SUM((C11-C10)/(B11-B10)) -> 4.573877e-07 | E10: =SUM(D10*(6*2000)) -> 0.0054886523 | F10: =SUM(D10*(6*4000)) -> 0.010977305 | G10: =SUM(D10*(6*6000)) -> 0.016465957 | H10: =SUM(D10*(6*8000)) -> 0.021954609 | I10: =SUM(D10*(6*10000)) -> 0.027443262 | J10: =SUM(D10*(6*12000)) -> 0.032931914 | K10: =SUM((C12-(2*C11)+C10)/((B11-B10)^2)) -> 7.4675542e-08 | L10: =SUM(K10*((6*2000)^2)) -> 10.753278 | M10: =SUM(K10*((6*4000)^2)) -> 43.013112 | N10: =SUM(K10*((6*6000)^2)) -> 96.779503 | O10: =SUM(K10*((6*8000)^2)) -> 172.05245 | P10: =SUM(K10*((6*10000)^2)) -> 268.83195 | Q10: =SUM(K10*((6*12000)^2)) -> 387.11801 | R10: =SUM('Masses & Spring Data'!$D$29) -> 0.1291 | S10: =SUM($R$3*L10) -> 1.3882482 | T10: =SUM($R$3*M10) -> 5.5529928 | U10: =SUM($R$3*N10) -> 12.494234 | V10: =SUM($R$3*O10) -> 22.211971 | W10: =SUM($R$3*P10) -> 34.706205 | X10: =SUM($R$3*Q10) -> 49.976935 | Y10: =SUM('Masses & Spring Data'!$K$11*('Masses & Spring Data'!$I$3+'Vel,Acc,Jer (In Light)'!C10)) -> 1453.8859 | Z10: =SUM(S10+Y10) -> 1455.2742 | AA10: =SUM(T10+Y11) -> 1459.5128 | AB10: =SUM(U10+Y10) -> 1466.3802 | AC10: =SUM(V10+Y10) -> 1476.0979 | AD10: =SUM(W10+Y10) -> 1488.5921 | AE10: =SUM(X10+Y10) -> 1503.8629
A11: -344 | B11: =B10+1 -> 8 | C11: 2.847005e-06 | D11: =SUM((C12-C11)/(B12-B11)) -> 5.3206324e-07 | E11: =SUM(D11*(6*2000)) -> 0.0063847588 | F11: =SUM(D11*(6*4000)) -> 0.012769518 | G11: =SUM(D11*(6*6000)) -> 0.019154277 | H11: =SUM(D11*(6*8000)) -> 0.025539035 | I11: =SUM(D11*(6*10000)) -> 0.031923794 | J11: =SUM(D11*(6*12000)) -> 0.038308553 | K11: =SUM((C13-(2*C12)+C11)/((B12-B11)^2)) -> 1.1201331e-07 | L11: =SUM(K11*((6*2000)^2)) -> 16.129917 | M11: =SUM(K11*((6*4000)^2)) -> 64.519668 | N11: =SUM(K11*((6*6000)^2)) -> 145.16925 | O11: =SUM(K11*((6*8000)^2)) -> 258.07867 | P11: =SUM(K11*((6*10000)^2)) -> 403.24793 | Q11: =SUM(K11*((6*12000)^2)) -> 580.67702 | R11: =SUM('Masses & Spring Data'!$D$29) -> 0.1291 | S11: =SUM($R$3*L11) -> 2.0823723 | T11: =SUM($R$3*M11) -> 8.3294892 | U11: =SUM($R$3*N11) -> 18.741351 | V11: =SUM($R$3*O11) -> 33.317957 | W11: =SUM($R$3*P11) -> 52.059307 | X11: =SUM($R$3*Q11) -> 74.965403 | Y11: =SUM('Masses & Spring Data'!$K$11*('Masses & Spring Data'!$I$3+'Vel,Acc,Jer (In Light)'!C11)) -> 1453.9598 | Z11: =SUM(S11+Y11) -> 1456.0422 | AA11: =SUM(T11+Y12) -> 1462.3752 | AB11: =SUM(U11+Y11) -> 1472.7011 | AC11: =SUM(V11+Y11) -> 1487.2777 | AD11: =SUM(W11+Y11) -> 1506.0191 | AE11: =SUM(X11+Y11) -> 1528.9252
A12: -342 | B12: =B11+1 -> 9 | C12: 3.3790683e-06 | D12: =SUM((C13-C12)/(B13-B12)) -> 6.4407655e-07 | E12: =SUM(D12*(6*2000)) -> 0.0077289186 | F12: =SUM(D12*(6*4000)) -> 0.015457837 | G12: =SUM(D12*(6*6000)) -> 0.023186756 | H12: =SUM(D12*(6*8000)) -> 0.030915674 | I12: =SUM(D12*(6*10000)) -> 0.038644593 | J12: =SUM(D12*(6*12000)) -> 0.046373512 | K12: =SUM((C14-(2*C13)+C12)/((B13-B12)^2)) -> 1.1201331e-07 | L12: =SUM(K12*((6*2000)^2)) -> 16.129917 | M12: =SUM(K12*((6*4000)^2)) -> 64.519668 | N12: =SUM(K12*((6*6000)^2)) -> 145.16925 | O12: =SUM(K12*((6*8000)^2)) -> 258.07867 | P12: =SUM(K12*((6*10000)^2)) -> 403.24793 | Q12: =SUM(K12*((6*12000)^2)) -> 580.67702 | R12: =SUM('Masses & Spring Data'!$D$29) -> 0.1291 | S12: =SUM($R$3*L12) -> 2.0823723 | T12: =SUM($R$3*M12) -> 8.3294892 | U12: =SUM($R$3*N12) -> 18.741351 | V12: =SUM($R$3*O12) -> 33.317957 | W12: =SUM($R$3*P12) -> 52.059307 | X12: =SUM($R$3*Q12) -> 74.965403 | Y12: =SUM('Masses & Spring Data'!$K$11*('Masses & Spring Data'!$I$3+'Vel,Acc,Jer (In Light)'!C12)) -> 1454.0457 | Z12: =SUM(S12+Y12) -> 1456.1281 | AA12: =SUM(T12+Y13) -> 1462.4792 | AB12: =SUM(U12+Y12) -> 1472.7871 | AC12: =SUM(V12+Y12) -> 1487.3637 | AD12: =SUM(W12+Y12) -> 1506.105 | AE12: =SUM(X12+Y12) -> 1529.0111
A13: -340 | B13: =B12+1 -> 10 | C13: 4.0231448e-06 | D13: =SUM((C14-C13)/(B14-B13)) -> 7.5608986e-07 | E13: =SUM(D13*(6*2000)) -> 0.0090730784 | F13: =SUM(D13*(6*4000)) -> 0.018146157 | G13: =SUM(D13*(6*6000)) -> 0.027219235 | H13: =SUM(D13*(6*8000)) -> 0.036292313 | I13: =SUM(D13*(6*10000)) -> 0.045365392 | J13: =SUM(D13*(6*12000)) -> 0.05443847 | K13: =SUM((C15-(2*C14)+C13)/((B14-B13)^2)) -> 1.306822e-07 | L13: =SUM(K13*((6*2000)^2)) -> 18.818237 | M13: =SUM(K13*((6*4000)^2)) -> 75.272946 | N13: =SUM(K13*((6*6000)^2)) -> 169.36413 | O13: =SUM(K13*((6*8000)^2)) -> 301.09179 | P13: =SUM(K13*((6*10000)^2)) -> 470.45592 | Q13: =SUM(K13*((6*12000)^2)) -> 677.45652 | R13: =SUM('Masses & Spring Data'!$D$29) -> 0.1291 | S13: =SUM($R$3*L13) -> 2.4294343 | T13: =SUM($R$3*M13) -> 9.7177374 | U13: =SUM($R$3*N13) -> 21.864909 | V13: =SUM($R$3*O13) -> 38.87095 | W13: =SUM($R$3*P13) -> 60.735859 | X13: =SUM($R$3*Q13) -> 87.459636 | Y13: =SUM('Masses & Spring Data'!$K$11*('Masses & Spring Data'!$I$3+'Vel,Acc,Jer (In Light)'!C13)) -> 1454.1497 | Z13: =SUM(S13+Y13) -> 1456.5792 | AA13: =SUM(T13+Y14) -> 1463.9896 | AB13: =SUM(U13+Y13) -> 1476.0146 | AC13: =SUM(V13+Y13) -> 1493.0207 | AD13: =SUM(W13+Y13) -> 1514.8856 | AE13: =SUM(X13+Y13) -> 1541.6094
A14: -338 | B14: =B13+1 -> 11 | C14: 4.7792347e-06 | D14: =SUM((C15-C14)/(B15-B14)) -> 8.8677206e-07 | E14: =SUM(D14*(6*2000)) -> 0.010641265 | F14: =SUM(D14*(6*4000)) -> 0.021282529 | G14: =SUM(D14*(6*6000)) -> 0.031923794 | H14: =SUM(D14*(6*8000)) -> 0.042565059 | I14: =SUM(D14*(6*10000)) -> 0.053206324 | J14: =SUM(D14*(6*12000)) -> 0.063847588 | K14: =SUM((C16-(2*C15)+C14)/((B15-B14)^2)) -> 1.5868553e-07 | L14: =SUM(K14*((6*2000)^2)) -> 22.850716 | M14: =SUM(K14*((6*4000)^2)) -> 91.402864 | N14: =SUM(K14*((6*6000)^2)) -> 205.65644 | O14: =SUM(K14*((6*8000)^2)) -> 365.61145 | P14: =SUM(K14*((6*10000)^2)) -> 571.2679 | Q14: =SUM(K14*((6*12000)^2)) -> 822.62577 | R14: =SUM('Masses & Spring Data'!$D$29) -> 0.1291 | S14: =SUM($R$3*L14) -> 2.9500274 | T14: =SUM($R$3*M14) -> 11.80011 | U14: =SUM($R$3*N14) -> 26.550247 | V14: =SUM($R$3*O14) -> 47.200439 | W14: =SUM($R$3*P14) -> 73.750685 | X14: =SUM($R$3*Q14) -> 106.20099 | Y14: =SUM('Masses & Spring Data'!$K$11*('Masses & Spring Data'!$I$3+'Vel,Acc,Jer (In Light)'!C14)) -> 1454.2718 | Z14: =SUM(S14+Y14) -> 1457.2219 | AA14: =SUM(T14+Y15) -> 1466.2152 | AB14: =SUM(U14+Y14) -> 1480.8221 | AC14: =SUM(V14+Y14) -> 1501.4723 | AD14: =SUM(W14+Y14) -> 1528.0225 | AE14: =SUM(X14+Y14) -> 1560.4728
A15: -336 | B15: =B14+1 -> 12 | C15: 5.6660068e-06 | D15: =SUM((C16-C15)/(B16-B15)) -> 1.0454576e-06 | E15: =SUM(D15*(6*2000)) -> 0.012545491 | F15: =SUM(D15*(6*4000)) -> 0.025090982 | G15: =SUM(D15*(6*6000)) -> 0.037636473 | H15: =SUM(D15*(6*8000)) -> 0.050181964 | I15: =SUM(D15*(6*10000)) -> 0.062727455 | J15: =SUM(D15*(6*12000)) -> 0.075272946 | K15: =SUM((C17-(2*C16)+C15)/((B16-B15)^2)) -> 1.960233e-07 | L15: =SUM(K15*((6*2000)^2)) -> 28.227355 | M15: =SUM(K15*((6*4000)^2)) -> 112.90942 | N15: =SUM(K15*((6*6000)^2)) -> 254.04619 | O15: =SUM(K15*((6*8000)^2)) -> 451.63768 | P15: =SUM(K15*((6*10000)^2)) -> 705.68387 | Q15: =SUM(K15*((6*12000)^2)) -> 1016.1848 | R15: =SUM('Masses & Spring Data'!$D$29) -> 0.1291 | S15: =SUM($R$3*L15) -> 3.6441515 | T15: =SUM($R$3*M15) -> 14.576606 | U15: =SUM($R$3*N15) -> 32.797364 | V15: =SUM($R$3*O15) -> 58.306424 | W15: =SUM($R$3*P15) -> 91.103788 | X15: =SUM($R$3*Q15) -> 131.18945 | Y15: =SUM('Masses & Spring Data'!$K$11*('Masses & Spring Data'!$I$3+'Vel,Acc,Jer (In Light)'!C15)) -> 1454.4151 | Z15: =SUM(S15+Y15) -> 1458.0592 | AA15: =SUM(T15+Y16) -> 1469.1605 | AB15: =SUM(U15+Y15) -> 1487.2124 | AC15: =SUM(V15+Y15) -> 1512.7215 | AD15: =SUM(W15+Y15) -> 1545.5188 | AE15: =SUM(X15+Y15) -> 1585.6045
... A363: 360 | B363: =B362+1 -> 360 | C363: 5.6753412e-07 | D363: =SUM((C364-C363)/(B364-B363)) -> 1.5764837e-09 | E363: =SUM(D363*(6*2000)) -> 1.8917804e-05 | F363: =SUM(D363*(6*4000)) -> 3.7835608e-05 | G363: =SUM(D363*(6*6000)) -> 5.6753412e-05 | H363: =SUM(D363*(6*8000)) -> 7.5671216e-05 | I363: =SUM(D363*(6*10000)) -> 9.458902e-05 | J363: =SUM(D363*(6*12000)) -> 0.00011350682 | K363: =SUM((C365-(2*C364)+C363)/((B364-B363)^2)) -> 4.3791213e-12 | L363: =SUM(K363*((6*2000)^2)) -> 0.00063059347 | M363: =SUM(K363*((6*4000)^2)) -> 0.0025223739 | N363: =SUM(K363*((6*6000)^2)) -> 0.0056753412 | O363: =SUM(K363*((6*8000)^2)) -> 0.010089495 | P363: =SUM(K363*((6*10000)^2)) -> 0.015764837 | Q363: =SUM(K363*((6*12000)^2)) -> 0.022701365 | R363: =SUM('Masses & Spring Data'!$D$29) -> 0.1291 | S363: =SUM($R$3*L363) -> 8.1409617e-05 | T363: =SUM($R$3*M363) -> 0.00032563847 | U363: =SUM($R$3*N363) -> 0.00073268655 | V363: =SUM($R$3*O363) -> 0.0013025539 | W363: =SUM($R$3*P363) -> 0.0020352404 | X363: =SUM($R$3*Q363) -> 0.0029307462 | Y363: =SUM('Masses & Spring Data'!$K$11*('Masses & Spring Data'!$I$3+'Vel,Acc,Jer (In Light)'!C363)) -> 1453.5917 | Z363: =SUM(S363+Y363) -> 1453.5917 | AA363: =SUM(T363+Y364) -> 0.00032563847 | AB363: =SUM(U363+Y363) -> 1453.5924 | AC363: =SUM(V363+Y363) -> 1453.593 | AD363: =SUM(W363+Y363) -> 1453.5937 | AE363: =SUM(X363+Y363) -> 1453.5946

Sheet Vel,Acc,Jer (Exh Light)
A1: Crank Angle (º) | B1: Cam Angle (º) | C1: Valve Lift (mm) | D1: Velocity | E1: Velocity @ | F1: Velocity @ | G1: Velocity @ | H1: Velocity @ | I1: Velocity @ | J1: Velocity @ | K1: Acceleration | L1: Acceleration @ | M1: Acceleration @ | N1: Acceleration @ | O1: Acceleration @ | P1: Acceleration @ | Q1: Acceleration @ | R1: Moving Mass | S1: ma @ | T1: ma @ | U1: ma @ | V1: ma @ | W1: ma @ | X1: ma @ | Y1: Spring Force (N) | Z1: Contact Force @ | AA1: Contact Force @ | AB1: Contact Force @ | AC1: Contact Force @ | AD1: Contact Force @ | AE1: Contact Force @
D2: (mm/degree) | E2: 2000 rpm (mm/sec) | F2: 4000 rpm (mm/sec) | G2: 6000 rpm (mm/sec) | H2: 8000 rpm (mm/sec) | I2: 10000 rpm (mm/sec) | J2: 12000 rpm (mm/sec) | K2: (mm/degree) | L2: 2000 rpm (mm/s/s) | M2: 4000 rpm (mm/s/s) | N2: 6000 rpm (mm/s/s) | O2: 8000 rpm (mm/s/s) | P2: 10000 rpm (mm/s/s) | Q2: 12000 rpm (mm/s/s) | R2: (kg) | S2: 2000rpm | T2: 4000rpm | U2: 6000rpm | V2: 8000rpm | W2: 10000rpm | X2: 12000rpm | Z2: 2000 rpm | AA2: 4000 rpm | AB2: 6000 rpm | AC2: 8000 rpm | AD2: 10000 rpm | AE2: 12000 rpm
A3: -360 | B3: 0 | C3: 6.0444662e-07 | D3: =SUM((C4-C3)/(B4-B3)) -> 1.2088932e-07 | E3: =SUM(D3*(6*2000)) -> 0.0014506719 | F3: =SUM(D3*(6*4000)) -> 0.0029013438 | G3: =SUM(D3*(6*6000)) -> 0.0043520157 | H3: =SUM(D3*(6*8000)) -> 0.0058026876 | I3: =SUM(D3*(6*10000)) -> 0.0072533595 | J3: =SUM(D3*(6*12000)) -> 0.0087040314 | K3: =SUM((C5-(2*C4)+C3)/((B4-B3)^2)) -> 2.3184254e-08 | L3: =SUM($K$3*((6*2000)^2)) -> 3.3385326 | M3: =SUM(K3*((6*4000)^2)) -> 13.35413 | N3: =SUM(K3*((6*6000)^2)) -> 30.046793 | O3: =SUM(K3*((6*8000)^2)) -> 53.416521 | P3: =SUM(K3*((6*10000)^2)) -> 83.463315 | Q3: =SUM(K3*((6*12000)^2)) -> 120.18717 | R3: ='Masses & Spring Data'!$G$29 -> 0.1246 | S3: =SUM($R$3*L3) -> 0.41598116 | T3: =SUM($R$3*M3) -> 1.6639246 | U3: =SUM($R$3*N3) -> 3.7438304 | V3: =SUM($R$3*O3) -> 6.6556986 | W3: =SUM($R$3*P3) -> 10.399529 | X3: =SUM($R$3*Q3) -> 14.975322 | Y3: =SUM('Masses & Spring Data'!$K$11*('Masses & Spring Data'!$I$3+'Vel,Acc,Jer (Inlet)'!C3)) -> 1453.61 | Z3: =SUM(S3+Y3) -> 1454.026 | AA3: =SUM(T3+Y4) -> 1455.296 | AB3: =SUM(U3+Y3) -> 1457.3539 | AC3: =SUM(V3+Y3) -> 1460.2657 | AD3: =SUM(W3+Y3) -> 1464.0096 | AE3: =SUM(X3+Y3) -> 1468.5854
A4: -358 | B4: =B3+1 -> 1 | C4: 7.2533595e-07 | D4: =SUM((C5-C4)/(B5-B4)) -> 1.4407358e-07 | E4: =SUM(D4*(6*2000)) -> 0.0017288829 | F4: =SUM(D4*(6*4000)) -> 0.0034577659 | G4: =SUM(D4*(6*6000)) -> 0.0051866488 | H4: =SUM(D4*(6*8000)) -> 0.0069155318 | I4: =SUM(D4*(6*10000)) -> 0.0086444147 | J4: =SUM(D4*(6*12000)) -> 0.010373298 | K4: =SUM((C6-(2*C5)+C4)/((B5-B4)^2)) -> 2.9808327e-08 | L4: =SUM(K4*((6*2000)^2)) -> 4.292399 | M4: =SUM(K4*((6*4000)^2)) -> 17.169596 | N4: =SUM(K4*((6*6000)^2)) -> 38.631591 | O4: =SUM(K4*((6*8000)^2)) -> 68.678385 | P4: =SUM(K4*((6*10000)^2)) -> 107.30998 | Q4: =SUM(K4*((6*12000)^2)) -> 154.52637 | R4: ='Masses & Spring Data'!$G$29 -> 0.1246 | S4: =SUM($R$3*L4) -> 0.53483292 | T4: =SUM($R$3*M4) -> 2.1393317 | U4: =SUM($R$3*N4) -> 4.8134963 | V4: =SUM($R$3*O4) -> 8.5573267 | W4: =SUM($R$3*P4) -> 13.370823 | X4: =SUM($R$3*Q4) -> 19.253985 | Y4: =SUM('Masses & Spring Data'!$K$11*('Masses & Spring Data'!$I$3+'Vel,Acc,Jer (Inlet)'!C4)) -> 1453.6321 | Z4: =SUM(S4+Y4) -> 1454.1669 | AA4: =SUM(T4+Y5) -> 1455.7976 | AB4: =SUM(U4+Y4) -> 1458.4456 | AC4: =SUM(V4+Y4) -> 1462.1894 | AD4: =SUM(W4+Y4) -> 1467.0029 | AE4: =SUM(X4+Y4) -> 1472.886
A5: -356 | B5: =B4+1 -> 2 | C5: 8.6940953e-07 | D5: =SUM((C6-C5)/(B6-B5)) -> 1.7388191e-07 | E5: =SUM(D5*(6*2000)) -> 0.0020865829 | F5: =SUM(D5*(6*4000)) -> 0.0041731657 | G5: =SUM(D5*(6*6000)) -> 0.0062597486 | H5: =SUM(D5*(6*8000)) -> 0.0083463315 | I5: =SUM(D5*(6*10000)) -> 0.010432914 | J5: =SUM(D5*(6*12000)) -> 0.012519497 | K5: =SUM((C7-(2*C6)+C5)/((B6-B5)^2)) -> 2.4840272e-08 | L5: =SUM(K5*((6*2000)^2)) -> 3.5769992 | M5: =SUM(K5*((6*4000)^2)) -> 14.307997 | N5: =SUM(K5*((6*6000)^2)) -> 32.192993 | O5: =SUM(K5*((6*8000)^2)) -> 57.231987 | P5: =SUM(K5*((6*10000)^2)) -> 89.42498 | Q5: =SUM(K5*((6*12000)^2)) -> 128.77197 | R5: ='Masses & Spring Data'!$G$29 -> 0.1246 | S5: =SUM($R$3*L5) -> 0.4456941 | T5: =SUM($R$3*M5) -> 1.7827764 | U5: =SUM($R$3*N5) -> 4.0112469 | V5: =SUM($R$3*O5) -> 7.1311056 | W5: =SUM($R$3*P5) -> 11.142353 | X5: =SUM($R$3*Q5) -> 16.044988 | Y5: =SUM('Masses & Spring Data'!$K$11*('Masses & Spring Data'!$I$3+'Vel,Acc,Jer (Inlet)'!C5)) -> 1453.6583 | Z5: =SUM(S5+Y5) -> 1454.104 | AA5: =SUM(T5+Y6) -> 1455.4727 | AB5: =SUM(U5+Y5) -> 1457.6695 | AC5: =SUM(V5+Y5) -> 1460.7894 | AD5: =SUM(W5+Y5) -> 1464.8006 | AE5: =SUM(X5+Y5) -> 1469.7033
A6: -354 | B6: =B5+1 -> 3 | C6: 1.0432914e-06 | D6: =SUM((C7-C6)/(B7-B6)) -> 1.9872218e-07 | E6: =SUM(D6*(6*2000)) -> 0.0023846661 | F6: =SUM(D6*(6*4000)) -> 0.0047693323 | G6: =SUM(D6*(6*6000)) -> 0.0071539984 | H6: =SUM(D6*(6*8000)) -> 0.0095386645 | I6: =SUM(D6*(6*10000)) -> 0.011923331 | J6: =SUM(D6*(6*12000)) -> 0.014307997 | K6: =SUM((C8-(2*C7)+C6)/((B7-B6)^2)) -> 4.9680544e-08 | L6: =SUM(K6*((6*2000)^2)) -> 7.1539984 | M6: =SUM(K6*((6*4000)^2)) -> 28.615994 | N6: =SUM(K6*((6*6000)^2)) -> 64.385986 | O6: =SUM(K6*((6*8000)^2)) -> 114.46397 | P6: =SUM(K6*((6*10000)^2)) -> 178.84996 | Q6: =SUM(K6*((6*12000)^2)) -> 257.54394 | R6: ='Masses & Spring Data'!$G$29 -> 0.1246 | S6: =SUM($R$3*L6) -> 0.8913882 | T6: =SUM($R$3*M6) -> 3.5655528 | U6: =SUM($R$3*N6) -> 8.0224938 | V6: =SUM($R$3*O6) -> 14.262211 | W6: =SUM($R$3*P6) -> 22.284705 | X6: =SUM($R$3*Q6) -> 32.089975 | Y6: =SUM('Masses & Spring Data'!$K$11*('Masses & Spring Data'!$I$3+'Vel,Acc,Jer (Inlet)'!C6)) -> 1453.6899 | Z6: =SUM(S6+Y6) -> 1454.5813 | AA6: =SUM(T6+Y7) -> 1457.2917 | AB6: =SUM(U6+Y6) -> 1461.7124 | AC6: =SUM(V6+Y6) -> 1467.9522 | AD6: =SUM(W6+Y6) -> 1475.9747 | AE6: =SUM(X6+Y6) -> 1485.7799
A7: -352 | B7: =B6+1 -> 4 | C7: 1.2420136e-06 | D7: =SUM((C8-C7)/(B8-B7)) -> 2.4840272e-07 | E7: =SUM(D7*(6*2000)) -> 0.0029808327 | F7: =SUM(D7*(6*4000)) -> 0.0059616653 | G7: =SUM(D7*(6*6000)) -> 0.008942498 | H7: =SUM(D7*(6*8000)) -> 0.011923331 | I7: =SUM(D7*(6*10000)) -> 0.014904163 | J7: =SUM(D7*(6*12000)) -> 0.017884996 | K7: =SUM((C9-(2*C8)+C7)/((B8-B7)^2)) -> 3.3120363e-08 | L7: =SUM(K7*((6*2000)^2)) -> 4.7693323 | M7: =SUM(K7*((6*4000)^2)) -> 19.077329 | N7: =SUM(K7*((6*6000)^2)) -> 42.92399 | O7: =SUM(K7*((6*8000)^2)) -> 76.309316 | P7: =SUM(K7*((6*10000)^2)) -> 119.23331 | Q7: =SUM(K7*((6*12000)^2)) -> 171.69596 | R7: ='Masses & Spring Data'!$G$29 -> 0.1246 | S7: =SUM($R$3*L7) -> 0.5942588 | T7: =SUM($R$3*M7) -> 2.3770352 | U7: =SUM($R$3*N7) -> 5.3483292 | V7: =SUM($R$3*O7) -> 9.5081408 | W7: =SUM($R$3*P7) -> 14.85647 | X7: =SUM($R$3*Q7) -> 21.393317 | Y7: =SUM('Masses & Spring Data'!$K$11*('Masses & Spring Data'!$I$3+'Vel,Acc,Jer (Inlet)'!C7)) -> 1453.7261 | Z7: =SUM(S7+Y7) -> 1454.3204 | AA7: =SUM(T7+Y8) -> 1456.1484 | AB7: =SUM(U7+Y7) -> 1459.0745 | AC7: =SUM(V7+Y7) -> 1463.2343 | AD7: =SUM(W7+Y7) -> 1468.5826 | AE7: =SUM(X7+Y7) -> 1475.1194
A8: -350 | B8: =B7+1 -> 5 | C8: 1.4904163e-06 | D8: =SUM((C9-C8)/(B9-B8)) -> 2.8152308e-07 | E8: =SUM(D8*(6*2000)) -> 0.003378277 | F8: =SUM(D8*(6*4000)) -> 0.006756554 | G8: =SUM(D8*(6*6000)) -> 0.010134831 | H8: =SUM(D8*(6*8000)) -> 0.013513108 | I8: =SUM(D8*(6*10000)) -> 0.016891385 | J8: =SUM(D8*(6*12000)) -> 0.020269662 | K8: =SUM((C10-(2*C9)+C8)/((B9-B8)^2)) -> 6.6240726e-08 | L8: =SUM(K8*((6*2000)^2)) -> 9.5386645 | M8: =SUM(K8*((6*4000)^2)) -> 38.154658 | N8: =SUM(K8*((6*6000)^2)) -> 85.847981 | O8: =SUM(K8*((6*8000)^2)) -> 152.61863 | P8: =SUM(K8*((6*10000)^2)) -> 238.46661 | Q8: =SUM(K8*((6*12000)^2)) -> 343.39192 | R8: ='Masses & Spring Data'!$G$29 -> 0.1246 | S8: =SUM($R$3*L8) -> 1.1885176 | T8: =SUM($R$3*M8) -> 4.7540704 | U8: =SUM($R$3*N8) -> 10.696658 | V8: =SUM($R$3*O8) -> 19.016282 | W8: =SUM($R$3*P8) -> 29.71294 | X8: =SUM($R$3*Q8) -> 42.786634 | Y8: =SUM('Masses & Spring Data'!$K$11*('Masses & Spring Data'!$I$3+'Vel,Acc,Jer (Inlet)'!C8)) -> 1453.7714 | Z8: =SUM(S8+Y8) -> 1454.9599 | AA8: =SUM(T8+Y9) -> 1458.5767 | AB8: =SUM(U8+Y8) -> 1464.468 | AC8: =SUM(V8+Y8) -> 1472.7876 | AD8: =SUM(W8+Y8) -> 1483.4843 | AE8: =SUM(X8+Y8) -> 1496.558
A9: -348 | B9: =B8+1 -> 6 | C9: 1.7719394e-06 | D9: =SUM((C10-C9)/(B10-B9)) -> 3.4776381e-07 | E9: =SUM(D9*(6*2000)) -> 0.0041731657 | F9: =SUM(D9*(6*4000)) -> 0.0083463315 | G9: =SUM(D9*(6*6000)) -> 0.012519497 | H9: =SUM(D9*(6*8000)) -> 0.016692663 | I9: =SUM(D9*(6*10000)) -> 0.020865829 | J9: =SUM(D9*(6*12000)) -> 0.025038994 | K9: =SUM((C11-(2*C10)+C9)/((B10-B9)^2)) -> 5.7960635e-08 | L9: =SUM(K9*((6*2000)^2)) -> 8.3463315 | M9: =SUM(K9*((6*4000)^2)) -> 33.385326 | N9: =SUM(K9*((6*6000)^2)) -> 75.116983 | O9: =SUM(K9*((6*8000)^2)) -> 133.5413 | P9: =SUM(K9*((6*10000)^2)) -> 208.65829 | Q9: =SUM(K9*((6*12000)^2)) -> 300.46793 | R9: ='Masses & Spring Data'!$G$29 -> 0.1246 | S9: =SUM($R$3*L9) -> 1.0399529 | T9: =SUM($R$3*M9) -> 4.1598116 | U9: =SUM($R$3*N9) -> 9.3595761 | V9: =SUM($R$3*O9) -> 16.639246 | W9: =SUM($R$3*P9) -> 25.998823 | X9: =SUM($R$3*Q9) -> 37.438304 | Y9: =SUM('Masses & Spring Data'!$K$11*('Masses & Spring Data'!$I$3+'Vel,Acc,Jer (Inlet)'!C9)) -> 1453.8226 | Z9: =SUM(S9+Y9) -> 1454.8626 | AA9: =SUM(T9+Y10) -> 1458.0457 | AB9: =SUM(U9+Y9) -> 1463.1822 | AC9: =SUM(V9+Y9) -> 1470.4619 | AD9: =SUM(W9+Y9) -> 1479.8214 | AE9: =SUM(X9+Y9) -> 1491.2609
A10: -346 | B10: =B9+1 -> 7 | C10: 2.1197032e-06 | D10: =SUM((C11-C10)/(B11-B10)) -> 4.0572445e-07 | E10: =SUM(D10*(6*2000)) -> 0.0048686934 | F10: =SUM(D10*(6*4000)) -> 0.0097373867 | G10: =SUM(D10*(6*6000)) -> 0.01460608 | H10: =SUM(D10*(6*8000)) -> 0.019474773 | I10: =SUM(D10*(6*10000)) -> 0.024343467 | J10: =SUM(D10*(6*12000)) -> 0.02921216 | K10: =SUM((C12-(2*C11)+C10)/((B11-B10)^2)) -> 6.6240726e-08 | L10: =SUM(K10*((6*2000)^2)) -> 9.5386645 | M10: =SUM(K10*((6*4000)^2)) -> 38.154658 | N10: =SUM(K10*((6*6000)^2)) -> 85.847981 | O10: =SUM(K10*((6*8000)^2)) -> 152.61863 | P10: =SUM(K10*((6*10000)^2)) -> 238.46661 | Q10: =SUM(K10*((6*12000)^2)) -> 343.39192 | R10: ='Masses & Spring Data'!$G$29 -> 0.1246 | S10: =SUM($R$3*L10) -> 1.1885176 | T10: =SUM($R$3*M10) -> 4.7540704 | U10: =SUM($R$3*N10) -> 10.696658 | V10: =SUM($R$3*O10) -> 19.016282 | W10: =SUM($R$3*P10) -> 29.71294 | X10: =SUM($R$3*Q10) -> 42.786634 | Y10: =SUM('Masses & Spring Data'!$K$11*('Masses & Spring Data'!$I$3+'Vel,Acc,Jer (Inlet)'!C10)) -> 1453.8859 | Z10: =SUM(S10+Y10) -> 1455.0744 | AA10: =SUM(T10+Y11) -> 1458.7139 | AB10: =SUM(U10+Y10) -> 1464.5826 | AC10: =SUM(V10+Y10) -> 1472.9022 | AD10: =SUM(W10+Y10) -> 1483.5989 | AE10: =SUM(X10+Y10) -> 1496.6726
A11: -344 | B11: =B10+1 -> 8 | C11: 2.5254277e-06 | D11: =SUM((C12-C11)/(B12-B11)) -> 4.7196517e-07 | E11: =SUM(D11*(6*2000)) -> 0.0056635821 | F11: =SUM(D11*(6*4000)) -> 0.011327164 | G11: =SUM(D11*(6*6000)) -> 0.016990746 | H11: =SUM(D11*(6*8000)) -> 0.022654328 | I11: =SUM(D11*(6*10000)) -> 0.02831791 | J11: =SUM(D11*(6*12000)) -> 0.033981492 | K11: =SUM((C13-(2*C12)+C11)/((B12-B11)^2)) -> 9.9361089e-08 | L11: =SUM(K11*((6*2000)^2)) -> 14.307997 | M11: =SUM(K11*((6*4000)^2)) -> 57.231987 | N11: =SUM(K11*((6*6000)^2)) -> 128.77197 | O11: =SUM(K11*((6*8000)^2)) -> 228.92795 | P11: =SUM(K11*((6*10000)^2)) -> 357.69992 | Q11: =SUM(K11*((6*12000)^2)) -> 515.08788 | R11: ='Masses & Spring Data'!$G$29 -> 0.1246 | S11: =SUM($R$3*L11) -> 1.7827764 | T11: =SUM($R$3*M11) -> 7.1311056 | U11: =SUM($R$3*N11) -> 16.044988 | V11: =SUM($R$3*O11) -> 28.524422 | W11: =SUM($R$3*P11) -> 44.56941 | X11: =SUM($R$3*Q11) -> 64.17995 | Y11: =SUM('Masses & Spring Data'!$K$11*('Masses & Spring Data'!$I$3+'Vel,Acc,Jer (Inlet)'!C11)) -> 1453.9598 | Z11: =SUM(S11+Y11) -> 1455.7426 | AA11: =SUM(T11+Y12) -> 1461.1768 | AB11: =SUM(U11+Y11) -> 1470.0048 | AC11: =SUM(V11+Y11) -> 1482.4842 | AD11: =SUM(W11+Y11) -> 1498.5292 | AE11: =SUM(X11+Y11) -> 1518.1397
A12: -342 | B12: =B11+1 -> 9 | C12: 2.9973928e-06 | D12: =SUM((C13-C12)/(B13-B12)) -> 5.7132626e-07 | E12: =SUM(D12*(6*2000)) -> 0.0068559151 | F12: =SUM(D12*(6*4000)) -> 0.01371183 | G12: =SUM(D12*(6*6000)) -> 0.020567745 | H12: =SUM(D12*(6*8000)) -> 0.027423661 | I12: =SUM(D12*(6*10000)) -> 0.034279576 | J12: =SUM(D12*(6*12000)) -> 0.041135491 | K12: =SUM((C14-(2*C13)+C12)/((B13-B12)^2)) -> 9.9361089e-08 | L12: =SUM(K12*((6*2000)^2)) -> 14.307997 | M12: =SUM(K12*((6*4000)^2)) -> 57.231987 | N12: =SUM(K12*((6*6000)^2)) -> 128.77197 | O12: =SUM(K12*((6*8000)^2)) -> 228.92795 | P12: =SUM(K12*((6*10000)^2)) -> 357.69992 | Q12: =SUM(K12*((6*12000)^2)) -> 515.08788 | R12: ='Masses & Spring Data'!$G$29 -> 0.1246 | S12: =SUM($R$3*L12) -> 1.7827764 | T12: =SUM($R$3*M12) -> 7.1311056 | U12: =SUM($R$3*N12) -> 16.044988 | V12: =SUM($R$3*O12) -> 28.524422 | W12: =SUM($R$3*P12) -> 44.56941 | X12: =SUM($R$3*Q12) -> 64.17995 | Y12: =SUM('Masses & Spring Data'!$K$11*('Masses & Spring Data'!$I$3+'Vel,Acc,Jer (Inlet)'!C12)) -> 1454.0457 | Z12: =SUM(S12+Y12) -> 1455.8285 | AA12: =SUM(T12+Y13) -> 1461.2808 | AB12: =SUM(U12+Y12) -> 1470.0907 | AC12: =SUM(V12+Y12) -> 1482.5701 | AD12: =SUM(W12+Y12) -> 1498.6151 | AE12: =SUM(X12+Y12) -> 1518.2257
A13: -340 | B13: =B12+1 -> 10 | C13: 3.5687191e-06 | D13: =SUM((C14-C13)/(B14-B13)) -> 6.7068735e-07 | E13: =SUM(D13*(6*2000)) -> 0.0080482482 | F13: =SUM(D13*(6*4000)) -> 0.016096496 | G13: =SUM(D13*(6*6000)) -> 0.024144745 | H13: =SUM(D13*(6*8000)) -> 0.032192993 | I13: =SUM(D13*(6*10000)) -> 0.040241241 | J13: =SUM(D13*(6*12000)) -> 0.048289489 | K13: =SUM((C15-(2*C14)+C13)/((B14-B13)^2)) -> 1.1592127e-07 | L13: =SUM(K13*((6*2000)^2)) -> 16.692663 | M13: =SUM(K13*((6*4000)^2)) -> 66.770652 | N13: =SUM(K13*((6*6000)^2)) -> 150.23397 | O13: =SUM(K13*((6*8000)^2)) -> 267.08261 | P13: =SUM(K13*((6*10000)^2)) -> 417.31657 | Q13: =SUM(K13*((6*12000)^2)) -> 600.93587 | R13: ='Masses & Spring Data'!$G$29 -> 0.1246 | S13: =SUM($R$3*L13) -> 2.0799058 | T13: =SUM($R$3*M13) -> 8.3196232 | U13: =SUM($R$3*N13) -> 18.719152 | V13: =SUM($R$3*O13) -> 33.278493 | W13: =SUM($R$3*P13) -> 51.997645 | X13: =SUM($R$3*Q13) -> 74.876609 | Y13: =SUM('Masses & Spring Data'!$K$11*('Masses & Spring Data'!$I$3+'Vel,Acc,Jer (Inlet)'!C13)) -> 1454.1497 | Z13: =SUM(S13+Y13) -> 1456.2296 | AA13: =SUM(T13+Y14) -> 1462.5915 | AB13: =SUM(U13+Y13) -> 1472.8689 | AC13: =SUM(V13+Y13) -> 1487.4282 | AD13: =SUM(W13+Y13) -> 1506.1474 | AE13: =SUM(X13+Y13) -> 1529.0263
A14: -338 | B14: =B13+1 -> 11 | C14: 4.2394065e-06 | D14: =SUM((C15-C14)/(B15-B14)) -> 7.8660862e-07 | E14: =SUM(D14*(6*2000)) -> 0.0094393034 | F14: =SUM(D14*(6*4000)) -> 0.018878607 | G14: =SUM(D14*(6*6000)) -> 0.02831791 | H14: =SUM(D14*(6*8000)) -> 0.037757214 | I14: =SUM(D14*(6*10000)) -> 0.047196517 | J14: =SUM(D14*(6*12000)) -> 0.056635821 | K14: =SUM((C16-(2*C15)+C14)/((B15-B14)^2)) -> 1.4076154e-07 | L14: =SUM(K14*((6*2000)^2)) -> 20.269662 | M14: =SUM(K14*((6*4000)^2)) -> 81.078648 | N14: =SUM(K14*((6*6000)^2)) -> 182.42696 | O14: =SUM(K14*((6*8000)^2)) -> 324.31459 | P14: =SUM(K14*((6*10000)^2)) -> 506.74155 | Q14: =SUM(K14*((6*12000)^2)) -> 729.70784 | R14: ='Masses & Spring Data'!$G$29 -> 0.1246 | S14: =SUM($R$3*L14) -> 2.5255999 | T14: =SUM($R$3*M14) -> 10.1024 | U14: =SUM($R$3*N14) -> 22.730399 | V14: =SUM($R$3*O14) -> 40.409598 | W14: =SUM($R$3*P14) -> 63.139998 | X14: =SUM($R$3*Q14) -> 90.921596 | Y14: =SUM('Masses & Spring Data'!$K$11*('Masses & Spring Data'!$I$3+'Vel,Acc,Jer (Inlet)'!C14)) -> 1454.2718 | Z14: =SUM(S14+Y14) -> 1456.7974 | AA14: =SUM(T14+Y15) -> 1464.5175 | AB14: =SUM(U14+Y14) -> 1477.0022 | AC14: =SUM(V14+Y14) -> 1494.6814 | AD14: =SUM(W14+Y14) -> 1517.4118 | AE14: =SUM(X14+Y14) -> 1545.1934
A15: -336 | B15: =B14+1 -> 12 | C15: 5.0260151e-06 | D15: =SUM((C16-C15)/(B16-B15)) -> 9.2737016e-07 | E15: =SUM(D15*(6*2000)) -> 0.011128442 | F15: =SUM(D15*(6*4000)) -> 0.022256884 | G15: =SUM(D15*(6*6000)) -> 0.033385326 | H15: =SUM(D15*(6*8000)) -> 0.044513768 | I15: =SUM(D15*(6*10000)) -> 0.05564221 | J15: =SUM(D15*(6*12000)) -> 0.066770652 | K15: =SUM((C17-(2*C16)+C15)/((B16-B15)^2)) -> 1.7388191e-07 | L15: =SUM(K15*((6*2000)^2)) -> 25.038994 | M15: =SUM(K15*((6*4000)^2)) -> 100.15598 | N15: =SUM(K15*((6*6000)^2)) -> 225.35095 | O15: =SUM(K15*((6*8000)^2)) -> 400.62391 | P15: =SUM(K15*((6*10000)^2)) -> 625.97486 | Q15: =SUM(K15*((6*12000)^2)) -> 901.4038 | R15: ='Masses & Spring Data'!$G$29 -> 0.1246 | S15: =SUM($R$3*L15) -> 3.1198587 | T15: =SUM($R$3*M15) -> 12.479435 | U15: =SUM($R$3*N15) -> 28.078728 | V15: =SUM($R$3*O15) -> 49.917739 | W15: =SUM($R$3*P15) -> 77.996468 | X15: =SUM($R$3*Q15) -> 112.31491 | Y15: =SUM('Masses & Spring Data'!$K$11*('Masses & Spring Data'!$I$3+'Vel,Acc,Jer (Inlet)'!C15)) -> 1454.4151 | Z15: =SUM(S15+Y15) -> 1457.5349 | AA15: =SUM(T15+Y16) -> 1467.0633 | AB15: =SUM(U15+Y15) -> 1482.4938 | AC15: =SUM(V15+Y15) -> 1504.3328 | AD15: =SUM(W15+Y15) -> 1532.4115 | AE15: =SUM(X15+Y15) -> 1566.73
... A363: 360 | B363: =B362+1 -> 360 | C363: 5.0342952e-07 | D363: =SUM((C364-C363)/(B364-B363)) -> 1.3984153e-09 | E363: =SUM(D363*(6*2000)) -> 1.6780984e-05 | F363: =SUM(D363*(6*4000)) -> 3.3561968e-05 | G363: =SUM(D363*(6*6000)) -> 5.0342952e-05 | H363: =SUM(D363*(6*8000)) -> 6.7123936e-05 | I363: =SUM(D363*(6*10000)) -> 8.3904919e-05 | J363: =SUM(D363*(6*12000)) -> 0.0001006859 | K363: =SUM((C365-(2*C364)+C363)/((B364-B363)^2)) -> 3.884487e-12 | L363: =SUM(K363*((6*2000)^2)) -> 0.00055936613 | M363: =SUM(K363*((6*4000)^2)) -> 0.0022374645 | N363: =SUM(K363*((6*6000)^2)) -> 0.0050342952 | O363: =SUM(K363*((6*8000)^2)) -> 0.0089498581 | P363: =SUM(K363*((6*10000)^2)) -> 0.013984153 | Q363: =SUM(K363*((6*12000)^2)) -> 0.020137181 | R363: ='Masses & Spring Data'!$G$29 -> 0.1246 | S363: =SUM($R$3*L363) -> 6.969702e-05 | T363: =SUM($R$3*M363) -> 0.00027878808 | U363: =SUM($R$3*N363) -> 0.00062727318 | V363: =SUM($R$3*O363) -> 0.0011151523 | W363: =SUM($R$3*P363) -> 0.0017424255 | X363: =SUM($R$3*Q363) -> 0.0025090927 | Y363: =SUM('Masses & Spring Data'!$K$11*('Masses & Spring Data'!$I$3+'Vel,Acc,Jer (Inlet)'!C363)) -> 1453.5917 | Z363: =SUM(S363+Y363) -> 1453.5917 | AA363: =SUM(T363+Y364) -> 0.00027878808 | AB363: =SUM(U363+Y363) -> 1453.5923 | AC363: =SUM(V363+Y363) -> 1453.5928 | AD363: =SUM(W363+Y363) -> 1453.5934 | AE363: =SUM(X363+Y363) -> 1453.5942

Sheet Vel,Acc,Jer (In Stiff)
A1: Crank Angle (º) | B1: Cam Angle (º) | C1: Valve Lift (mm) | D1: Velocity | E1: Velocity @ | F1: Velocity @ | G1: Velocity @ | H1: Velocity @ | I1: Velocity @ | J1: Velocity @ | K1: Acceleration | L1: Acceleration @ | M1: Acceleration @ | N1: Acceleration @ | O1: Acceleration @ | P1: Acceleration @ | Q1: Acceleration @ | R1: Moving Mass | S1: ma @ | T1: ma @ | U1: ma @ | V1: ma @ | W1: ma @ | X1: ma @ | Y1: Spring Force (N) | Z1: Contact Force @ | AA1: Contact Force @ | AB1: Contact Force @ | AC1: Contact Force @ | AD1: Contact Force @ | AE1: Contact Force @
D2: (mm/degree) | E2: 2000 rpm (mm/sec) | F2: 4000 rpm (mm/sec) | G2: 6000 rpm (mm/sec) | H2: 8000 rpm (mm/sec) | I2: 10000 rpm (mm/sec) | J2: 12000 rpm (mm/sec) | K2: (mm/degree) | L2: 2000 rpm (mm/s/s) | M2: 4000 rpm (mm/s/s) | N2: 6000 rpm (mm/s/s) | O2: 8000 rpm (mm/s/s) | P2: 10000 rpm (mm/s/s) | Q2: 12000 rpm (mm/s/s) | R2: (kg) | S2: 2000rpm | T2: 4000rpm | U2: 6000rpm | V2: 8000rpm | W2: 10000rpm | X2: 12000rpm | Z2: 2000 rpm | AA2: 4000 rpm | AB2: 6000 rpm | AC2: 8000 rpm | AD2: 10000 rpm | AE2: 12000 rpm
A3: -360 | B3: 0 | C3: 6.8141432e-07 | D3: =SUM((C4-C3)/(B4-B3)) -> 1.3628286e-07 | E3: =SUM(D3*(6*2000)) -> 0.0016353944 | F3: =SUM(D3*(6*4000)) -> 0.0032707887 | G3: =SUM(D3*(6*6000)) -> 0.0049061831 | H3: =SUM(D3*(6*8000)) -> 0.0065415775 | I3: =SUM(D3*(6*10000)) -> 0.0081769719 | J3: =SUM(D3*(6*12000)) -> 0.0098123662 | K3: =SUM((C5-(2*C4)+C3)/((B4-B3)^2)) -> 2.613644e-08 | L3: =SUM($K$3*((6*2000)^2)) -> 3.7636473 | M3: =SUM(K3*((6*4000)^2)) -> 15.054589 | N3: =SUM(K3*((6*6000)^2)) -> 33.872826 | O3: =SUM(K3*((6*8000)^2)) -> 60.218357 | P3: =SUM(K3*((6*10000)^2)) -> 94.091183 | Q3: =SUM(K3*((6*12000)^2)) -> 135.4913 | R3: =SUM('Masses & Spring Data'!$D$29) -> 0.1291 | S3: =SUM($R$3*L3) -> 0.48588687 | T3: =SUM($R$3*M3) -> 1.9435475 | U3: =SUM($R$3*N3) -> 4.3729818 | V3: =SUM($R$3*O3) -> 7.7741899 | W3: =SUM($R$3*P3) -> 12.147172 | X3: =SUM($R$3*Q3) -> 17.491927 | Y3: =SUM('Masses & Spring Data'!$K$41*('Masses & Spring Data'!$I$3+'Vel,Acc,Jer (Inlet)'!C3)) -> 2180.4151 | Z3: =SUM(S3+Y3) -> 2180.901 | AA3: =SUM(T3+Y4) -> 2182.3916 | AB3: =SUM(U3+Y3) -> 2184.7881 | AC3: =SUM(V3+Y3) -> 2188.1893 | AD3: =SUM(W3+Y3) -> 2192.5622 | AE3: =SUM(X3+Y3) -> 2197.907
A4: -358 | B4: =B3+1 -> 1 | C4: 8.1769719e-07 | D4: =SUM((C5-C4)/(B5-B4)) -> 1.624193e-07 | E4: =SUM(D4*(6*2000)) -> 0.0019490316 | F4: =SUM(D4*(6*4000)) -> 0.0038980633 | G4: =SUM(D4*(6*6000)) -> 0.0058470949 | H4: =SUM(D4*(6*8000)) -> 0.0077961266 | I4: =SUM(D4*(6*10000)) -> 0.0097451582 | J4: =SUM(D4*(6*12000)) -> 0.01169419 | K4: =SUM((C6-(2*C5)+C4)/((B5-B4)^2)) -> 3.3603994e-08 | L4: =SUM(K4*((6*2000)^2)) -> 4.8389751 | M4: =SUM(K4*((6*4000)^2)) -> 19.355901 | N4: =SUM(K4*((6*6000)^2)) -> 43.550776 | O4: =SUM(K4*((6*8000)^2)) -> 77.423602 | P4: =SUM(K4*((6*10000)^2)) -> 120.97438 | Q4: =SUM(K4*((6*12000)^2)) -> 174.2031 | R4: =SUM('Masses & Spring Data'!$D$29) -> 0.1291 | S4: =SUM($R$3*L4) -> 0.62471169 | T4: =SUM($R$3*M4) -> 2.4988468 | U4: =SUM($R$3*N4) -> 5.6224052 | V4: =SUM($R$3*O4) -> 9.995387 | W4: =SUM($R$3*P4) -> 15.617792 | X4: =SUM($R$3*Q4) -> 22.489621 | Y4: =SUM('Masses & Spring Data'!$K$41*('Masses & Spring Data'!$I$3+'Vel,Acc,Jer (Inlet)'!C4)) -> 2180.4481 | Z4: =SUM(S4+Y4) -> 2181.0728 | AA4: =SUM(T4+Y5) -> 2182.9863 | AB4: =SUM(U4+Y4) -> 2186.0705 | AC4: =SUM(V4+Y4) -> 2190.4435 | AD4: =SUM(W4+Y4) -> 2196.0659 | AE4: =SUM(X4+Y4) -> 2202.9377
A5: -356 | B5: =B4+1 -> 2 | C5: 9.8011649e-07 | D5: =SUM((C6-C5)/(B6-B5)) -> 1.960233e-07 | E5: =SUM(D5*(6*2000)) -> 0.0023522796 | F5: =SUM(D5*(6*4000)) -> 0.0047045592 | G5: =SUM(D5*(6*6000)) -> 0.0070568387 | H5: =SUM(D5*(6*8000)) -> 0.0094091183 | I5: =SUM(D5*(6*10000)) -> 0.011761398 | J5: =SUM(D5*(6*12000)) -> 0.014113677 | K5: =SUM((C7-(2*C6)+C5)/((B6-B5)^2)) -> 2.8003328e-08 | L5: =SUM(K5*((6*2000)^2)) -> 4.0324793 | M5: =SUM(K5*((6*4000)^2)) -> 16.129917 | N5: =SUM(K5*((6*6000)^2)) -> 36.292313 | O5: =SUM(K5*((6*8000)^2)) -> 64.519668 | P5: =SUM(K5*((6*10000)^2)) -> 100.81198 | Q5: =SUM(K5*((6*12000)^2)) -> 145.16925 | R5: =SUM('Masses & Spring Data'!$D$29) -> 0.1291 | S5: =SUM($R$3*L5) -> 0.52059307 | T5: =SUM($R$3*M5) -> 2.0823723 | U5: =SUM($R$3*N5) -> 4.6853377 | V5: =SUM($R$3*O5) -> 8.3294892 | W5: =SUM($R$3*P5) -> 13.014827 | X5: =SUM($R$3*Q5) -> 18.741351 | Y5: =SUM('Masses & Spring Data'!$K$41*('Masses & Spring Data'!$I$3+'Vel,Acc,Jer (Inlet)'!C5)) -> 2180.4874 | Z5: =SUM(S5+Y5) -> 2181.008 | AA5: =SUM(T5+Y6) -> 2182.6173 | AB5: =SUM(U5+Y5) -> 2185.1728 | AC5: =SUM(V5+Y5) -> 2188.8169 | AD5: =SUM(W5+Y5) -> 2193.5023 | AE5: =SUM(X5+Y5) -> 2199.2288
A6: -354 | B6: =B5+1 -> 3 | C6: 1.1761398e-06 | D6: =SUM((C7-C6)/(B7-B6)) -> 2.2402663e-07 | E6: =SUM(D6*(6*2000)) -> 0.0026883195 | F6: =SUM(D6*(6*4000)) -> 0.005376639 | G6: =SUM(D6*(6*6000)) -> 0.0080649585 | H6: =SUM(D6*(6*8000)) -> 0.010753278 | I6: =SUM(D6*(6*10000)) -> 0.013441598 | J6: =SUM(D6*(6*12000)) -> 0.016129917 | K6: =SUM((C8-(2*C7)+C6)/((B7-B6)^2)) -> 5.6006657e-08 | L6: =SUM(K6*((6*2000)^2)) -> 8.0649585 | M6: =SUM(K6*((6*4000)^2)) -> 32.259834 | N6: =SUM(K6*((6*6000)^2)) -> 72.584627 | O6: =SUM(K6*((6*8000)^2)) -> 129.03934 | P6: =SUM(K6*((6*10000)^2)) -> 201.62396 | Q6: =SUM(K6*((6*12000)^2)) -> 290.33851 | R6: =SUM('Masses & Spring Data'!$D$29) -> 0.1291 | S6: =SUM($R$3*L6) -> 1.0411861 | T6: =SUM($R$3*M6) -> 4.1647446 | U6: =SUM($R$3*N6) -> 9.3706753 | V6: =SUM($R$3*O6) -> 16.658978 | W6: =SUM($R$3*P6) -> 26.029654 | X6: =SUM($R$3*Q6) -> 37.482701 | Y6: =SUM('Masses & Spring Data'!$K$41*('Masses & Spring Data'!$I$3+'Vel,Acc,Jer (Inlet)'!C6)) -> 2180.5349 | Z6: =SUM(S6+Y6) -> 2181.5761 | AA6: =SUM(T6+Y7) -> 2184.7539 | AB6: =SUM(U6+Y6) -> 2189.9056 | AC6: =SUM(V6+Y6) -> 2197.1939 | AD6: =SUM(W6+Y6) -> 2206.5646 | AE6: =SUM(X6+Y6) -> 2218.0176
A7: -352 | B7: =B6+1 -> 4 | C7: 1.4001664e-06 | D7: =SUM((C8-C7)/(B8-B7)) -> 2.8003328e-07 | E7: =SUM(D7*(6*2000)) -> 0.0033603994 | F7: =SUM(D7*(6*4000)) -> 0.0067207988 | G7: =SUM(D7*(6*6000)) -> 0.010081198 | H7: =SUM(D7*(6*8000)) -> 0.013441598 | I7: =SUM(D7*(6*10000)) -> 0.016801997 | J7: =SUM(D7*(6*12000)) -> 0.020162396 | K7: =SUM((C9-(2*C8)+C7)/((B8-B7)^2)) -> 3.7337771e-08 | L7: =SUM(K7*((6*2000)^2)) -> 5.376639 | M7: =SUM(K7*((6*4000)^2)) -> 21.506556 | N7: =SUM(K7*((6*6000)^2)) -> 48.389751 | O7: =SUM(K7*((6*8000)^2)) -> 86.026224 | P7: =SUM(K7*((6*10000)^2)) -> 134.41598 | Q7: =SUM(K7*((6*12000)^2)) -> 193.55901 | R7: =SUM('Masses & Spring Data'!$D$29) -> 0.1291 | S7: =SUM($R$3*L7) -> 0.6941241 | T7: =SUM($R$3*M7) -> 2.7764964 | U7: =SUM($R$3*N7) -> 6.2471169 | V7: =SUM($R$3*O7) -> 11.105986 | W7: =SUM($R$3*P7) -> 17.353102 | X7: =SUM($R$3*Q7) -> 24.988468 | Y7: =SUM('Masses & Spring Data'!$K$41*('Masses & Spring Data'!$I$3+'Vel,Acc,Jer (Inlet)'!C7)) -> 2180.5892 | Z7: =SUM(S7+Y7) -> 2181.2833 | AA7: =SUM(T7+Y8) -> 2183.4335 | AB7: =SUM(U7+Y7) -> 2186.8363 | AC7: =SUM(V7+Y7) -> 2191.6952 | AD7: =SUM(W7+Y7) -> 2197.9423 | AE7: =SUM(X7+Y7) -> 2205.5777
A8: -350 | B8: =B7+1 -> 5 | C8: 1.6801997e-06 | D8: =SUM((C9-C8)/(B9-B8)) -> 3.1737105e-07 | E8: =SUM(D8*(6*2000)) -> 0.0038084526 | F8: =SUM(D8*(6*4000)) -> 0.0076169053 | G8: =SUM(D8*(6*6000)) -> 0.011425358 | H8: =SUM(D8*(6*8000)) -> 0.015233811 | I8: =SUM(D8*(6*10000)) -> 0.019042263 | J8: =SUM(D8*(6*12000)) -> 0.022850716 | K8: =SUM((C10-(2*C9)+C8)/((B9-B8)^2)) -> 7.4675542e-08 | L8: =SUM(K8*((6*2000)^2)) -> 10.753278 | M8: =SUM(K8*((6*4000)^2)) -> 43.013112 | N8: =SUM(K8*((6*6000)^2)) -> 96.779503 | O8: =SUM(K8*((6*8000)^2)) -> 172.05245 | P8: =SUM(K8*((6*10000)^2)) -> 268.83195 | Q8: =SUM(K8*((6*12000)^2)) -> 387.11801 | R8: =SUM('Masses & Spring Data'!$D$29) -> 0.1291 | S8: =SUM($R$3*L8) -> 1.3882482 | T8: =SUM($R$3*M8) -> 5.5529928 | U8: =SUM($R$3*N8) -> 12.494234 | V8: =SUM($R$3*O8) -> 22.211971 | W8: =SUM($R$3*P8) -> 34.706205 | X8: =SUM($R$3*Q8) -> 49.976935 | Y8: =SUM('Masses & Spring Data'!$K$41*('Masses & Spring Data'!$I$3+'Vel,Acc,Jer (Inlet)'!C8)) -> 2180.657 | Z8: =SUM(S8+Y8) -> 2182.0453 | AA8: =SUM(T8+Y9) -> 2186.2869 | AB8: =SUM(U8+Y8) -> 2193.1513 | AC8: =SUM(V8+Y8) -> 2202.869 | AD8: =SUM(W8+Y8) -> 2215.3632 | AE8: =SUM(X8+Y8) -> 2230.634
A9: -348 | B9: =B8+1 -> 6 | C9: 1.9975708e-06 | D9: =SUM((C10-C9)/(B10-B9)) -> 3.920466e-07 | E9: =SUM(D9*(6*2000)) -> 0.0047045592 | F9: =SUM(D9*(6*4000)) -> 0.0094091183 | G9: =SUM(D9*(6*6000)) -> 0.014113677 | H9: =SUM(D9*(6*8000)) -> 0.018818237 | I9: =SUM(D9*(6*10000)) -> 0.023522796 | J9: =SUM(D9*(6*12000)) -> 0.028227355 | K9: =SUM((C11-(2*C10)+C9)/((B10-B9)^2)) -> 6.5341099e-08 | L9: =SUM(K9*((6*2000)^2)) -> 9.4091183 | M9: =SUM(K9*((6*4000)^2)) -> 37.636473 | N9: =SUM(K9*((6*6000)^2)) -> 84.682065 | O9: =SUM(K9*((6*8000)^2)) -> 150.54589 | P9: =SUM(K9*((6*10000)^2)) -> 235.22796 | Q9: =SUM(K9*((6*12000)^2)) -> 338.72826 | R9: =SUM('Masses & Spring Data'!$D$29) -> 0.1291 | S9: =SUM($R$3*L9) -> 1.2147172 | T9: =SUM($R$3*M9) -> 4.8588687 | U9: =SUM($R$3*N9) -> 10.932455 | V9: =SUM($R$3*O9) -> 19.435475 | W9: =SUM($R$3*P9) -> 30.367929 | X9: =SUM($R$3*Q9) -> 43.729818 | Y9: =SUM('Masses & Spring Data'!$K$41*('Masses & Spring Data'!$I$3+'Vel,Acc,Jer (Inlet)'!C9)) -> 2180.7339 | Z9: =SUM(S9+Y9) -> 2181.9486 | AA9: =SUM(T9+Y10) -> 2185.6878 | AB9: =SUM(U9+Y9) -> 2191.6664 | AC9: =SUM(V9+Y9) -> 2200.1694 | AD9: =SUM(W9+Y9) -> 2211.1018 | AE9: =SUM(X9+Y9) -> 2224.4637
A10: -346 | B10: =B9+1 -> 7 | C10: 2.3896173e-06 | D10: =SUM((C11-C10)/(B11-B10)) -> 4.573877e-07 | E10: =SUM(D10*(6*2000)) -> 0.0054886523 | F10: =SUM(D10*(6*4000)) -> 0.010977305 | G10: =SUM(D10*(6*6000)) -> 0.016465957 | H10: =SUM(D10*(6*8000)) -> 0.021954609 | I10: =SUM(D10*(6*10000)) -> 0.027443262 | J10: =SUM(D10*(6*12000)) -> 0.032931914 | K10: =SUM((C12-(2*C11)+C10)/((B11-B10)^2)) -> 7.4675542e-08 | L10: =SUM(K10*((6*2000)^2)) -> 10.753278 | M10: =SUM(K10*((6*4000)^2)) -> 43.013112 | N10: =SUM(K10*((6*6000)^2)) -> 96.779503 | O10: =SUM(K10*((6*8000)^2)) -> 172.05245 | P10: =SUM(K10*((6*10000)^2)) -> 268.83195 | Q10: =SUM(K10*((6*12000)^2)) -> 387.11801 | R10: =SUM('Masses & Spring Data'!$D$29) -> 0.1291 | S10: =SUM($R$3*L10) -> 1.3882482 | T10: =SUM($R$3*M10) -> 5.5529928 | U10: =SUM($R$3*N10) -> 12.494234 | V10: =SUM($R$3*O10) -> 22.211971 | W10: =SUM($R$3*P10) -> 34.706205 | X10: =SUM($R$3*Q10) -> 49.976935 | Y10: =SUM('Masses & Spring Data'!$K$41*('Masses & Spring Data'!$I$3+'Vel,Acc,Jer (Inlet)'!C10)) -> 2180.8289 | Z10: =SUM(S10+Y10) -> 2182.2171 | AA10: =SUM(T10+Y11) -> 2186.4927 | AB10: =SUM(U10+Y10) -> 2193.3231 | AC10: =SUM(V10+Y10) -> 2203.0409 | AD10: =SUM(W10+Y10) -> 2215.5351 | AE10: =SUM(X10+Y10) -> 2230.8058
A11: -344 | B11: =B10+1 -> 8 | C11: 2.847005e-06 | D11: =SUM((C12-C11)/(B12-B11)) -> 5.3206324e-07 | E11: =SUM(D11*(6*2000)) -> 0.0063847588 | F11: =SUM(D11*(6*4000)) -> 0.012769518 | G11: =SUM(D11*(6*6000)) -> 0.019154277 | H11: =SUM(D11*(6*8000)) -> 0.025539035 | I11: =SUM(D11*(6*10000)) -> 0.031923794 | J11: =SUM(D11*(6*12000)) -> 0.038308553 | K11: =SUM((C13-(2*C12)+C11)/((B12-B11)^2)) -> 1.1201331e-07 | L11: =SUM(K11*((6*2000)^2)) -> 16.129917 | M11: =SUM(K11*((6*4000)^2)) -> 64.519668 | N11: =SUM(K11*((6*6000)^2)) -> 145.16925 | O11: =SUM(K11*((6*8000)^2)) -> 258.07867 | P11: =SUM(K11*((6*10000)^2)) -> 403.24793 | Q11: =SUM(K11*((6*12000)^2)) -> 580.67702 | R11: =SUM('Masses & Spring Data'!$D$29) -> 0.1291 | S11: =SUM($R$3*L11) -> 2.0823723 | T11: =SUM($R$3*M11) -> 8.3294892 | U11: =SUM($R$3*N11) -> 18.741351 | V11: =SUM($R$3*O11) -> 33.317957 | W11: =SUM($R$3*P11) -> 52.059307 | X11: =SUM($R$3*Q11) -> 74.965403 | Y11: =SUM('Masses & Spring Data'!$K$41*('Masses & Spring Data'!$I$3+'Vel,Acc,Jer (Inlet)'!C11)) -> 2180.9397 | Z11: =SUM(S11+Y11) -> 2183.0221 | AA11: =SUM(T11+Y12) -> 2189.3981 | AB11: =SUM(U11+Y11) -> 2199.681 | AC11: =SUM(V11+Y11) -> 2214.2576 | AD11: =SUM(W11+Y11) -> 2232.999 | AE11: =SUM(X11+Y11) -> 2255.9051
A12: -342 | B12: =B11+1 -> 9 | C12: 3.3790683e-06 | D12: =SUM((C13-C12)/(B13-B12)) -> 6.4407655e-07 | E12: =SUM(D12*(6*2000)) -> 0.0077289186 | F12: =SUM(D12*(6*4000)) -> 0.015457837 | G12: =SUM(D12*(6*6000)) -> 0.023186756 | H12: =SUM(D12*(6*8000)) -> 0.030915674 | I12: =SUM(D12*(6*10000)) -> 0.038644593 | J12: =SUM(D12*(6*12000)) -> 0.046373512 | K12: =SUM((C14-(2*C13)+C12)/((B13-B12)^2)) -> 1.1201331e-07 | L12: =SUM(K12*((6*2000)^2)) -> 16.129917 | M12: =SUM(K12*((6*4000)^2)) -> 64.519668 | N12: =SUM(K12*((6*6000)^2)) -> 145.16925 | O12: =SUM(K12*((6*8000)^2)) -> 258.07867 | P12: =SUM(K12*((6*10000)^2)) -> 403.24793 | Q12: =SUM(K12*((6*12000)^2)) -> 580.67702 | R12: =SUM('Masses & Spring Data'!$D$29) -> 0.1291 | S12: =SUM($R$3*L12) -> 2.0823723 | T12: =SUM($R$3*M12) -> 8.3294892 | U12: =SUM($R$3*N12) -> 18.741351 | V12: =SUM($R$3*O12) -> 33.317957 | W12: =SUM($R$3*P12) -> 52.059307 | X12: =SUM($R$3*Q12) -> 74.965403 | Y12: =SUM('Masses & Spring Data'!$K$41*('Masses & Spring Data'!$I$3+'Vel,Acc,Jer (Inlet)'!C12)) -> 2181.0686 | Z12: =SUM(S12+Y12) -> 2183.151 | AA12: =SUM(T12+Y13) -> 2189.5541 | AB12: =SUM(U12+Y12) -> 2199.8099 | AC12: =SUM(V12+Y12) -> 2214.3865 | AD12: =SUM(W12+Y12) -> 2233.1279 | AE12: =SUM(X12+Y12) -> 2256.034
A13: -340 | B13: =B12+1 -> 10 | C13: 4.0231448e-06 | D13: =SUM((C14-C13)/(B14-B13)) -> 7.5608986e-07 | E13: =SUM(D13*(6*2000)) -> 0.0090730784 | F13: =SUM(D13*(6*4000)) -> 0.018146157 | G13: =SUM(D13*(6*6000)) -> 0.027219235 | H13: =SUM(D13*(6*8000)) -> 0.036292313 | I13: =SUM(D13*(6*10000)) -> 0.045365392 | J13: =SUM(D13*(6*12000)) -> 0.05443847 | K13: =SUM((C15-(2*C14)+C13)/((B14-B13)^2)) -> 1.306822e-07 | L13: =SUM(K13*((6*2000)^2)) -> 18.818237 | M13: =SUM(K13*((6*4000)^2)) -> 75.272946 | N13: =SUM(K13*((6*6000)^2)) -> 169.36413 | O13: =SUM(K13*((6*8000)^2)) -> 301.09179 | P13: =SUM(K13*((6*10000)^2)) -> 470.45592 | Q13: =SUM(K13*((6*12000)^2)) -> 677.45652 | R13: =SUM('Masses & Spring Data'!$D$29) -> 0.1291 | S13: =SUM($R$3*L13) -> 2.4294343 | T13: =SUM($R$3*M13) -> 9.7177374 | U13: =SUM($R$3*N13) -> 21.864909 | V13: =SUM($R$3*O13) -> 38.87095 | W13: =SUM($R$3*P13) -> 60.735859 | X13: =SUM($R$3*Q13) -> 87.459636 | Y13: =SUM('Masses & Spring Data'!$K$41*('Masses & Spring Data'!$I$3+'Vel,Acc,Jer (Inlet)'!C13)) -> 2181.2246 | Z13: =SUM(S13+Y13) -> 2183.654 | AA13: =SUM(T13+Y14) -> 2191.1255 | AB13: =SUM(U13+Y13) -> 2203.0895 | AC13: =SUM(V13+Y13) -> 2220.0956 | AD13: =SUM(W13+Y13) -> 2241.9605 | AE13: =SUM(X13+Y13) -> 2268.6842
A14: -338 | B14: =B13+1 -> 11 | C14: 4.7792347e-06 | D14: =SUM((C15-C14)/(B15-B14)) -> 8.8677206e-07 | E14: =SUM(D14*(6*2000)) -> 0.010641265 | F14: =SUM(D14*(6*4000)) -> 0.021282529 | G14: =SUM(D14*(6*6000)) -> 0.031923794 | H14: =SUM(D14*(6*8000)) -> 0.042565059 | I14: =SUM(D14*(6*10000)) -> 0.053206324 | J14: =SUM(D14*(6*12000)) -> 0.063847588 | K14: =SUM((C16-(2*C15)+C14)/((B15-B14)^2)) -> 1.5868553e-07 | L14: =SUM(K14*((6*2000)^2)) -> 22.850716 | M14: =SUM(K14*((6*4000)^2)) -> 91.402864 | N14: =SUM(K14*((6*6000)^2)) -> 205.65644 | O14: =SUM(K14*((6*8000)^2)) -> 365.61145 | P14: =SUM(K14*((6*10000)^2)) -> 571.2679 | Q14: =SUM(K14*((6*12000)^2)) -> 822.62577 | R14: =SUM('Masses & Spring Data'!$D$29) -> 0.1291 | S14: =SUM($R$3*L14) -> 2.9500274 | T14: =SUM($R$3*M14) -> 11.80011 | U14: =SUM($R$3*N14) -> 26.550247 | V14: =SUM($R$3*O14) -> 47.200439 | W14: =SUM($R$3*P14) -> 73.750685 | X14: =SUM($R$3*Q14) -> 106.20099 | Y14: =SUM('Masses & Spring Data'!$K$41*('Masses & Spring Data'!$I$3+'Vel,Acc,Jer (Inlet)'!C14)) -> 2181.4078 | Z14: =SUM(S14+Y14) -> 2184.3578 | AA14: =SUM(T14+Y15) -> 2193.4227 | AB14: =SUM(U14+Y14) -> 2207.958 | AC14: =SUM(V14+Y14) -> 2228.6082 | AD14: =SUM(W14+Y14) -> 2255.1585 | AE14: =SUM(X14+Y14) -> 2287.6088
A15: -336 | B15: =B14+1 -> 12 | C15: 5.6660068e-06 | D15: =SUM((C16-C15)/(B16-B15)) -> 1.0454576e-06 | E15: =SUM(D15*(6*2000)) -> 0.012545491 | F15: =SUM(D15*(6*4000)) -> 0.025090982 | G15: =SUM(D15*(6*6000)) -> 0.037636473 | H15: =SUM(D15*(6*8000)) -> 0.050181964 | I15: =SUM(D15*(6*10000)) -> 0.062727455 | J15: =SUM(D15*(6*12000)) -> 0.075272946 | K15: =SUM((C17-(2*C16)+C15)/((B16-B15)^2)) -> 1.960233e-07 | L15: =SUM(K15*((6*2000)^2)) -> 28.227355 | M15: =SUM(K15*((6*4000)^2)) -> 112.90942 | N15: =SUM(K15*((6*6000)^2)) -> 254.04619 | O15: =SUM(K15*((6*8000)^2)) -> 451.63768 | P15: =SUM(K15*((6*10000)^2)) -> 705.68387 | Q15: =SUM(K15*((6*12000)^2)) -> 1016.1848 | R15: =SUM('Masses & Spring Data'!$D$29) -> 0.1291 | S15: =SUM($R$3*L15) -> 3.6441515 | T15: =SUM($R$3*M15) -> 14.576606 | U15: =SUM($R$3*N15) -> 32.797364 | V15: =SUM($R$3*O15) -> 58.306424 | W15: =SUM($R$3*P15) -> 91.103788 | X15: =SUM($R$3*Q15) -> 131.18945 | Y15: =SUM('Masses & Spring Data'!$K$41*('Masses & Spring Data'!$I$3+'Vel,Acc,Jer (Inlet)'!C15)) -> 2181.6226 | Z15: =SUM(S15+Y15) -> 2185.2667 | AA15: =SUM(T15+Y16) -> 2196.4525 | AB15: =SUM(U15+Y15) -> 2214.42 | AC15: =SUM(V15+Y15) -> 2239.929 | AD15: =SUM(W15+Y15) -> 2272.7264 | AE15: =SUM(X15+Y15) -> 2312.812
... A363: 360 | B363: =B362+1 -> 360 | C363: 5.6753412e-07 | D363: =SUM((C364-C363)/(B364-B363)) -> 1.5764837e-09 | E363: =SUM(D363*(6*2000)) -> 1.8917804e-05 | F363: =SUM(D363*(6*4000)) -> 3.7835608e-05 | G363: =SUM(D363*(6*6000)) -> 5.6753412e-05 | H363: =SUM(D363*(6*8000)) -> 7.5671216e-05 | I363: =SUM(D363*(6*10000)) -> 9.458902e-05 | J363: =SUM(D363*(6*12000)) -> 0.00011350682 | K363: =SUM((C365-(2*C364)+C363)/((B364-B363)^2)) -> 4.3791213e-12 | L363: =SUM(K363*((6*2000)^2)) -> 0.00063059347 | M363: =SUM(K363*((6*4000)^2)) -> 0.0025223739 | N363: =SUM(K363*((6*6000)^2)) -> 0.0056753412 | O363: =SUM(K363*((6*8000)^2)) -> 0.010089495 | P363: =SUM(K363*((6*10000)^2)) -> 0.015764837 | Q363: =SUM(K363*((6*12000)^2)) -> 0.022701365 | R363: =SUM('Masses & Spring Data'!$D$29) -> 0.1291 | S363: =SUM($R$3*L363) -> 8.1409617e-05 | T363: =SUM($R$3*M363) -> 0.00032563847 | U363: =SUM($R$3*N363) -> 0.00073268655 | V363: =SUM($R$3*O363) -> 0.0013025539 | W363: =SUM($R$3*P363) -> 0.0020352404 | X363: =SUM($R$3*Q363) -> 0.0029307462 | Y363: =SUM('Masses & Spring Data'!$K$41*('Masses & Spring Data'!$I$3+'Vel,Acc,Jer (Inlet)'!C363)) -> 2180.3875 | Z363: =SUM(S363+Y363) -> 2180.3876 | AA363: =SUM(T363+Y364) -> 0.00032563847 | AB363: =SUM(U363+Y363) -> 2180.3882 | AC363: =SUM(V363+Y363) -> 2180.3888 | AD363: =SUM(W363+Y363) -> 2180.3895 | AE363: =SUM(X363+Y363) -> 2180.3904

Sheet Vel,Acc,Jer (Exh Stiff)
A1: Crank Angle (º) | B1: Cam Angle (º) | C1: Valve Lift (mm) | D1: Velocity | E1: Velocity @ | F1: Velocity @ | G1: Velocity @ | H1: Velocity @ | I1: Velocity @ | J1: Velocity @ | K1: Acceleration | L1: Acceleration @ | M1: Acceleration @ | N1: Acceleration @ | O1: Acceleration @ | P1: Acceleration @ | Q1: Acceleration @ | R1: Moving Mass | S1: ma @ | T1: ma @ | U1: ma @ | V1: ma @ | W1: ma @ | X1: ma @ | Y1: Spring Force (N) | Z1: Contact Force @ | AA1: Contact Force @ | AB1: Contact Force @ | AC1: Contact Force @ | AD1: Contact Force @ | AE1: Contact Force @
D2: (mm/degree) | E2: 2000 rpm (mm/sec) | F2: 4000 rpm (mm/sec) | G2: 6000 rpm (mm/sec) | H2: 8000 rpm (mm/sec) | I2: 10000 rpm (mm/sec) | J2: 12000 rpm (mm/sec) | K2: (mm/degree) | L2: 2000 rpm (mm/s/s) | M2: 4000 rpm (mm/s/s) | N2: 6000 rpm (mm/s/s) | O2: 8000 rpm (mm/s/s) | P2: 10000 rpm (mm/s/s) | Q2: 12000 rpm (mm/s/s) | R2: (kg) | S2: 2000rpm | T2: 4000rpm | U2: 6000rpm | V2: 8000rpm | W2: 10000rpm | X2: 12000rpm | Z2: 2000 rpm | AA2: 4000 rpm | AB2: 6000 rpm | AC2: 8000 rpm | AD2: 10000 rpm | AE2: 12000 rpm
A3: -360 | B3: 0 | C3: 6.0444662e-07 | D3: =SUM((C4-C3)/(B4-B3)) -> 1.2088932e-07 | E3: =SUM(D3*(6*2000)) -> 0.0014506719 | F3: =SUM(D3*(6*4000)) -> 0.0029013438 | G3: =SUM(D3*(6*6000)) -> 0.0043520157 | H3: =SUM(D3*(6*8000)) -> 0.0058026876 | I3: =SUM(D3*(6*10000)) -> 0.0072533595 | J3: =SUM(D3*(6*12000)) -> 0.0087040314 | K3: =SUM((C5-(2*C4)+C3)/((B4-B3)^2)) -> 2.3184254e-08 | L3: =SUM($K$3*((6*2000)^2)) -> 3.3385326 | M3: =SUM(K3*((6*4000)^2)) -> 13.35413 | N3: =SUM(K3*((6*6000)^2)) -> 30.046793 | O3: =SUM(K3*((6*8000)^2)) -> 53.416521 | P3: =SUM(K3*((6*10000)^2)) -> 83.463315 | Q3: =SUM(K3*((6*12000)^2)) -> 120.18717 | R3: ='Masses & Spring Data'!$G$29 -> 0.1246 | S3: =SUM($R$3*L3) -> 0.41598116 | T3: =SUM($R$3*M3) -> 1.6639246 | U3: =SUM($R$3*N3) -> 3.7438304 | V3: =SUM($R$3*O3) -> 6.6556986 | W3: =SUM($R$3*P3) -> 10.399529 | X3: =SUM($R$3*Q3) -> 14.975322 | Y3: =SUM('Masses & Spring Data'!$K$41*('Masses & Spring Data'!$I$3+'Vel,Acc,Jer (Inlet)'!C3)) -> 2180.4151 | Z3: =SUM(S3+Y3) -> 2180.8311 | AA3: =SUM(T3+Y4) -> 2182.112 | AB3: =SUM(U3+Y3) -> 2184.1589 | AC3: =SUM(V3+Y3) -> 2187.0708 | AD3: =SUM(W3+Y3) -> 2190.8146 | AE3: =SUM(X3+Y3) -> 2195.3904
A4: -358 | B4: =B3+1 -> 1 | C4: 7.2533595e-07 | D4: =SUM((C5-C4)/(B5-B4)) -> 1.4407358e-07 | E4: =SUM(D4*(6*2000)) -> 0.0017288829 | F4: =SUM(D4*(6*4000)) -> 0.0034577659 | G4: =SUM(D4*(6*6000)) -> 0.0051866488 | H4: =SUM(D4*(6*8000)) -> 0.0069155318 | I4: =SUM(D4*(6*10000)) -> 0.0086444147 | J4: =SUM(D4*(6*12000)) -> 0.010373298 | K4: =SUM((C6-(2*C5)+C4)/((B5-B4)^2)) -> 2.9808327e-08 | L4: =SUM(K4*((6*2000)^2)) -> 4.292399 | M4: =SUM(K4*((6*4000)^2)) -> 17.169596 | N4: =SUM(K4*((6*6000)^2)) -> 38.631591 | O4: =SUM(K4*((6*8000)^2)) -> 68.678385 | P4: =SUM(K4*((6*10000)^2)) -> 107.30998 | Q4: =SUM(K4*((6*12000)^2)) -> 154.52637 | R4: ='Masses & Spring Data'!$G$29 -> 0.1246 | S4: =SUM($R$3*L4) -> 0.53483292 | T4: =SUM($R$3*M4) -> 2.1393317 | U4: =SUM($R$3*N4) -> 4.8134963 | V4: =SUM($R$3*O4) -> 8.5573267 | W4: =SUM($R$3*P4) -> 13.370823 | X4: =SUM($R$3*Q4) -> 19.253985 | Y4: =SUM('Masses & Spring Data'!$K$41*('Masses & Spring Data'!$I$3+'Vel,Acc,Jer (Inlet)'!C4)) -> 2180.4481 | Z4: =SUM(S4+Y4) -> 2180.9829 | AA4: =SUM(T4+Y5) -> 2182.6268 | AB4: =SUM(U4+Y4) -> 2185.2616 | AC4: =SUM(V4+Y4) -> 2189.0054 | AD4: =SUM(W4+Y4) -> 2193.8189 | AE4: =SUM(X4+Y4) -> 2199.7021
A5: -356 | B5: =B4+1 -> 2 | C5: 8.6940953e-07 | D5: =SUM((C6-C5)/(B6-B5)) -> 1.7388191e-07 | E5: =SUM(D5*(6*2000)) -> 0.0020865829 | F5: =SUM(D5*(6*4000)) -> 0.0041731657 | G5: =SUM(D5*(6*6000)) -> 0.0062597486 | H5: =SUM(D5*(6*8000)) -> 0.0083463315 | I5: =SUM(D5*(6*10000)) -> 0.010432914 | J5: =SUM(D5*(6*12000)) -> 0.012519497 | K5: =SUM((C7-(2*C6)+C5)/((B6-B5)^2)) -> 2.4840272e-08 | L5: =SUM(K5*((6*2000)^2)) -> 3.5769992 | M5: =SUM(K5*((6*4000)^2)) -> 14.307997 | N5: =SUM(K5*((6*6000)^2)) -> 32.192993 | O5: =SUM(K5*((6*8000)^2)) -> 57.231987 | P5: =SUM(K5*((6*10000)^2)) -> 89.42498 | Q5: =SUM(K5*((6*12000)^2)) -> 128.77197 | R5: ='Masses & Spring Data'!$G$29 -> 0.1246 | S5: =SUM($R$3*L5) -> 0.4456941 | T5: =SUM($R$3*M5) -> 1.7827764 | U5: =SUM($R$3*N5) -> 4.0112469 | V5: =SUM($R$3*O5) -> 7.1311056 | W5: =SUM($R$3*P5) -> 11.142353 | X5: =SUM($R$3*Q5) -> 16.044988 | Y5: =SUM('Masses & Spring Data'!$K$41*('Masses & Spring Data'!$I$3+'Vel,Acc,Jer (Inlet)'!C5)) -> 2180.4874 | Z5: =SUM(S5+Y5) -> 2180.9331 | AA5: =SUM(T5+Y6) -> 2182.3177 | AB5: =SUM(U5+Y5) -> 2184.4987 | AC5: =SUM(V5+Y5) -> 2187.6185 | AD5: =SUM(W5+Y5) -> 2191.6298 | AE5: =SUM(X5+Y5) -> 2196.5324
A6: -354 | B6: =B5+1 -> 3 | C6: 1.0432914e-06 | D6: =SUM((C7-C6)/(B7-B6)) -> 1.9872218e-07 | E6: =SUM(D6*(6*2000)) -> 0.0023846661 | F6: =SUM(D6*(6*4000)) -> 0.0047693323 | G6: =SUM(D6*(6*6000)) -> 0.0071539984 | H6: =SUM(D6*(6*8000)) -> 0.0095386645 | I6: =SUM(D6*(6*10000)) -> 0.011923331 | J6: =SUM(D6*(6*12000)) -> 0.014307997 | K6: =SUM((C8-(2*C7)+C6)/((B7-B6)^2)) -> 4.9680544e-08 | L6: =SUM(K6*((6*2000)^2)) -> 7.1539984 | M6: =SUM(K6*((6*4000)^2)) -> 28.615994 | N6: =SUM(K6*((6*6000)^2)) -> 64.385986 | O6: =SUM(K6*((6*8000)^2)) -> 114.46397 | P6: =SUM(K6*((6*10000)^2)) -> 178.84996 | Q6: =SUM(K6*((6*12000)^2)) -> 257.54394 | R6: ='Masses & Spring Data'!$G$29 -> 0.1246 | S6: =SUM($R$3*L6) -> 0.8913882 | T6: =SUM($R$3*M6) -> 3.5655528 | U6: =SUM($R$3*N6) -> 8.0224938 | V6: =SUM($R$3*O6) -> 14.262211 | W6: =SUM($R$3*P6) -> 22.284705 | X6: =SUM($R$3*Q6) -> 32.089975 | Y6: =SUM('Masses & Spring Data'!$K$41*('Masses & Spring Data'!$I$3+'Vel,Acc,Jer (Inlet)'!C6)) -> 2180.5349 | Z6: =SUM(S6+Y6) -> 2181.4263 | AA6: =SUM(T6+Y7) -> 2184.1547 | AB6: =SUM(U6+Y6) -> 2188.5574 | AC6: =SUM(V6+Y6) -> 2194.7971 | AD6: =SUM(W6+Y6) -> 2202.8196 | AE6: =SUM(X6+Y6) -> 2212.6249
A7: -352 | B7: =B6+1 -> 4 | C7: 1.2420136e-06 | D7: =SUM((C8-C7)/(B8-B7)) -> 2.4840272e-07 | E7: =SUM(D7*(6*2000)) -> 0.0029808327 | F7: =SUM(D7*(6*4000)) -> 0.0059616653 | G7: =SUM(D7*(6*6000)) -> 0.008942498 | H7: =SUM(D7*(6*8000)) -> 0.011923331 | I7: =SUM(D7*(6*10000)) -> 0.014904163 | J7: =SUM(D7*(6*12000)) -> 0.017884996 | K7: =SUM((C9-(2*C8)+C7)/((B8-B7)^2)) -> 3.3120363e-08 | L7: =SUM(K7*((6*2000)^2)) -> 4.7693323 | M7: =SUM(K7*((6*4000)^2)) -> 19.077329 | N7: =SUM(K7*((6*6000)^2)) -> 42.92399 | O7: =SUM(K7*((6*8000)^2)) -> 76.309316 | P7: =SUM(K7*((6*10000)^2)) -> 119.23331 | Q7: =SUM(K7*((6*12000)^2)) -> 171.69596 | R7: ='Masses & Spring Data'!$G$29 -> 0.1246 | S7: =SUM($R$3*L7) -> 0.5942588 | T7: =SUM($R$3*M7) -> 2.3770352 | U7: =SUM($R$3*N7) -> 5.3483292 | V7: =SUM($R$3*O7) -> 9.5081408 | W7: =SUM($R$3*P7) -> 14.85647 | X7: =SUM($R$3*Q7) -> 21.393317 | Y7: =SUM('Masses & Spring Data'!$K$41*('Masses & Spring Data'!$I$3+'Vel,Acc,Jer (Inlet)'!C7)) -> 2180.5892 | Z7: =SUM(S7+Y7) -> 2181.1834 | AA7: =SUM(T7+Y8) -> 2183.0341 | AB7: =SUM(U7+Y7) -> 2185.9375 | AC7: =SUM(V7+Y7) -> 2190.0973 | AD7: =SUM(W7+Y7) -> 2195.4457 | AE7: =SUM(X7+Y7) -> 2201.9825
A8: -350 | B8: =B7+1 -> 5 | C8: 1.4904163e-06 | D8: =SUM((C9-C8)/(B9-B8)) -> 2.8152308e-07 | E8: =SUM(D8*(6*2000)) -> 0.003378277 | F8: =SUM(D8*(6*4000)) -> 0.006756554 | G8: =SUM(D8*(6*6000)) -> 0.010134831 | H8: =SUM(D8*(6*8000)) -> 0.013513108 | I8: =SUM(D8*(6*10000)) -> 0.016891385 | J8: =SUM(D8*(6*12000)) -> 0.020269662 | K8: =SUM((C10-(2*C9)+C8)/((B9-B8)^2)) -> 6.6240726e-08 | L8: =SUM(K8*((6*2000)^2)) -> 9.5386645 | M8: =SUM(K8*((6*4000)^2)) -> 38.154658 | N8: =SUM(K8*((6*6000)^2)) -> 85.847981 | O8: =SUM(K8*((6*8000)^2)) -> 152.61863 | P8: =SUM(K8*((6*10000)^2)) -> 238.46661 | Q8: =SUM(K8*((6*12000)^2)) -> 343.39192 | R8: ='Masses & Spring Data'!$G$29 -> 0.1246 | S8: =SUM($R$3*L8) -> 1.1885176 | T8: =SUM($R$3*M8) -> 4.7540704 | U8: =SUM($R$3*N8) -> 10.696658 | V8: =SUM($R$3*O8) -> 19.016282 | W8: =SUM($R$3*P8) -> 29.71294 | X8: =SUM($R$3*Q8) -> 42.786634 | Y8: =SUM('Masses & Spring Data'!$K$41*('Masses & Spring Data'!$I$3+'Vel,Acc,Jer (Inlet)'!C8)) -> 2180.657 | Z8: =SUM(S8+Y8) -> 2181.8455 | AA8: =SUM(T8+Y9) -> 2185.488 | AB8: =SUM(U8+Y8) -> 2191.3537 | AC8: =SUM(V8+Y8) -> 2199.6733 | AD8: =SUM(W8+Y8) -> 2210.37 | AE8: =SUM(X8+Y8) -> 2223.4437
A9: -348 | B9: =B8+1 -> 6 | C9: 1.7719394e-06 | D9: =SUM((C10-C9)/(B10-B9)) -> 3.4776381e-07 | E9: =SUM(D9*(6*2000)) -> 0.0041731657 | F9: =SUM(D9*(6*4000)) -> 0.0083463315 | G9: =SUM(D9*(6*6000)) -> 0.012519497 | H9: =SUM(D9*(6*8000)) -> 0.016692663 | I9: =SUM(D9*(6*10000)) -> 0.020865829 | J9: =SUM(D9*(6*12000)) -> 0.025038994 | K9: =SUM((C11-(2*C10)+C9)/((B10-B9)^2)) -> 5.7960635e-08 | L9: =SUM(K9*((6*2000)^2)) -> 8.3463315 | M9: =SUM(K9*((6*4000)^2)) -> 33.385326 | N9: =SUM(K9*((6*6000)^2)) -> 75.116983 | O9: =SUM(K9*((6*8000)^2)) -> 133.5413 | P9: =SUM(K9*((6*10000)^2)) -> 208.65829 | Q9: =SUM(K9*((6*12000)^2)) -> 300.46793 | R9: ='Masses & Spring Data'!$G$29 -> 0.1246 | S9: =SUM($R$3*L9) -> 1.0399529 | T9: =SUM($R$3*M9) -> 4.1598116 | U9: =SUM($R$3*N9) -> 9.3595761 | V9: =SUM($R$3*O9) -> 16.639246 | W9: =SUM($R$3*P9) -> 25.998823 | X9: =SUM($R$3*Q9) -> 37.438304 | Y9: =SUM('Masses & Spring Data'!$K$41*('Masses & Spring Data'!$I$3+'Vel,Acc,Jer (Inlet)'!C9)) -> 2180.7339 | Z9: =SUM(S9+Y9) -> 2181.7739 | AA9: =SUM(T9+Y10) -> 2184.9887 | AB9: =SUM(U9+Y9) -> 2190.0935 | AC9: =SUM(V9+Y9) -> 2197.3732 | AD9: =SUM(W9+Y9) -> 2206.7327 | AE9: =SUM(X9+Y9) -> 2218.1722
A10: -346 | B10: =B9+1 -> 7 | C10: 2.1197032e-06 | D10: =SUM((C11-C10)/(B11-B10)) -> 4.0572445e-07 | E10: =SUM(D10*(6*2000)) -> 0.0048686934 | F10: =SUM(D10*(6*4000)) -> 0.0097373867 | G10: =SUM(D10*(6*6000)) -> 0.01460608 | H10: =SUM(D10*(6*8000)) -> 0.019474773 | I10: =SUM(D10*(6*10000)) -> 0.024343467 | J10: =SUM(D10*(6*12000)) -> 0.02921216 | K10: =SUM((C12-(2*C11)+C10)/((B11-B10)^2)) -> 6.6240726e-08 | L10: =SUM(K10*((6*2000)^2)) -> 9.5386645 | M10: =SUM(K10*((6*4000)^2)) -> 38.154658 | N10: =SUM(K10*((6*6000)^2)) -> 85.847981 | O10: =SUM(K10*((6*8000)^2)) -> 152.61863 | P10: =SUM(K10*((6*10000)^2)) -> 238.46661 | Q10: =SUM(K10*((6*12000)^2)) -> 343.39192 | R10: ='Masses & Spring Data'!$G$29 -> 0.1246 | S10: =SUM($R$3*L10) -> 1.1885176 | T10: =SUM($R$3*M10) -> 4.7540704 | U10: =SUM($R$3*N10) -> 10.696658 | V10: =SUM($R$3*O10) -> 19.016282 | W10: =SUM($R$3*P10) -> 29.71294 | X10: =SUM($R$3*Q10) -> 42.786634 | Y10: =SUM('Masses & Spring Data'!$K$41*('Masses & Spring Data'!$I$3+'Vel,Acc,Jer (Inlet)'!C10)) -> 2180.8289 | Z10: =SUM(S10+Y10) -> 2182.0174 | AA10: =SUM(T10+Y11) -> 2185.6938 | AB10: =SUM(U10+Y10) -> 2191.5255 | AC10: =SUM(V10+Y10) -> 2199.8452 | AD10: =SUM(W10+Y10) -> 2210.5418 | AE10: =SUM(X10+Y10) -> 2223.6155
A11: -344 | B11: =B10+1 -> 8 | C11: 2.5254277e-06 | D11: =SUM((C12-C11)/(B12-B11)) -> 4.7196517e-07 | E11: =SUM(D11*(6*2000)) -> 0.0056635821 | F11: =SUM(D11*(6*4000)) -> 0.011327164 | G11: =SUM(D11*(6*6000)) -> 0.016990746 | H11: =SUM(D11*(6*8000)) -> 0.022654328 | I11: =SUM(D11*(6*10000)) -> 0.02831791 | J11: =SUM(D11*(6*12000)) -> 0.033981492 | K11: =SUM((C13-(2*C12)+C11)/((B12-B11)^2)) -> 9.9361089e-08 | L11: =SUM(K11*((6*2000)^2)) -> 14.307997 | M11: =SUM(K11*((6*4000)^2)) -> 57.231987 | N11: =SUM(K11*((6*6000)^2)) -> 128.77197 | O11: =SUM(K11*((6*8000)^2)) -> 228.92795 | P11: =SUM(K11*((6*10000)^2)) -> 357.69992 | Q11: =SUM(K11*((6*12000)^2)) -> 515.08788 | R11: ='Masses & Spring Data'!$G$29 -> 0.1246 | S11: =SUM($R$3*L11) -> 1.7827764 | T11: =SUM($R$3*M11) -> 7.1311056 | U11: =SUM($R$3*N11) -> 16.044988 | V11: =SUM($R$3*O11) -> 28.524422 | W11: =SUM($R$3*P11) -> 44.56941 | X11: =SUM($R$3*Q11) -> 64.17995 | Y11: =SUM('Masses & Spring Data'!$K$41*('Masses & Spring Data'!$I$3+'Vel,Acc,Jer (Inlet)'!C11)) -> 2180.9397 | Z11: =SUM(S11+Y11) -> 2182.7225 | AA11: =SUM(T11+Y12) -> 2188.1997 | AB11: =SUM(U11+Y11) -> 2196.9847 | AC11: =SUM(V11+Y11) -> 2209.4641 | AD11: =SUM(W11+Y11) -> 2225.5091 | AE11: =SUM(X11+Y11) -> 2245.1196
A12: -342 | B12: =B11+1 -> 9 | C12: 2.9973928e-06 | D12: =SUM((C13-C12)/(B13-B12)) -> 5.7132626e-07 | E12: =SUM(D12*(6*2000)) -> 0.0068559151 | F12: =SUM(D12*(6*4000)) -> 0.01371183 | G12: =SUM(D12*(6*6000)) -> 0.020567745 | H12: =SUM(D12*(6*8000)) -> 0.027423661 | I12: =SUM(D12*(6*10000)) -> 0.034279576 | J12: =SUM(D12*(6*12000)) -> 0.041135491 | K12: =SUM((C14-(2*C13)+C12)/((B13-B12)^2)) -> 9.9361089e-08 | L12: =SUM(K12*((6*2000)^2)) -> 14.307997 | M12: =SUM(K12*((6*4000)^2)) -> 57.231987 | N12: =SUM(K12*((6*6000)^2)) -> 128.77197 | O12: =SUM(K12*((6*8000)^2)) -> 228.92795 | P12: =SUM(K12*((6*10000)^2)) -> 357.69992 | Q12: =SUM(K12*((6*12000)^2)) -> 515.08788 | R12: ='Masses & Spring Data'!$G$29 -> 0.1246 | S12: =SUM($R$3*L12) -> 1.7827764 | T12: =SUM($R$3*M12) -> 7.1311056 | U12: =SUM($R$3*N12) -> 16.044988 | V12: =SUM($R$3*O12) -> 28.524422 | W12: =SUM($R$3*P12) -> 44.56941 | X12: =SUM($R$3*Q12) -> 64.17995 | Y12: =SUM('Masses & Spring Data'!$K$41*('Masses & Spring Data'!$I$3+'Vel,Acc,Jer (Inlet)'!C12)) -> 2181.0686 | Z12: =SUM(S12+Y12) -> 2182.8514 | AA12: =SUM(T12+Y13) -> 2188.3557 | AB12: =SUM(U12+Y12) -> 2197.1136 | AC12: =SUM(V12+Y12) -> 2209.593 | AD12: =SUM(W12+Y12) -> 2225.638 | AE12: =SUM(X12+Y12) -> 2245.2485
A13: -340 | B13: =B12+1 -> 10 | C13: 3.5687191e-06 | D13: =SUM((C14-C13)/(B14-B13)) -> 6.7068735e-07 | E13: =SUM(D13*(6*2000)) -> 0.0080482482 | F13: =SUM(D13*(6*4000)) -> 0.016096496 | G13: =SUM(D13*(6*6000)) -> 0.024144745 | H13: =SUM(D13*(6*8000)) -> 0.032192993 | I13: =SUM(D13*(6*10000)) -> 0.040241241 | J13: =SUM(D13*(6*12000)) -> 0.048289489 | K13: =SUM((C15-(2*C14)+C13)/((B14-B13)^2)) -> 1.1592127e-07 | L13: =SUM(K13*((6*2000)^2)) -> 16.692663 | M13: =SUM(K13*((6*4000)^2)) -> 66.770652 | N13: =SUM(K13*((6*6000)^2)) -> 150.23397 | O13: =SUM(K13*((6*8000)^2)) -> 267.08261 | P13: =SUM(K13*((6*10000)^2)) -> 417.31657 | Q13: =SUM(K13*((6*12000)^2)) -> 600.93587 | R13: ='Masses & Spring Data'!$G$29 -> 0.1246 | S13: =SUM($R$3*L13) -> 2.0799058 | T13: =SUM($R$3*M13) -> 8.3196232 | U13: =SUM($R$3*N13) -> 18.719152 | V13: =SUM($R$3*O13) -> 33.278493 | W13: =SUM($R$3*P13) -> 51.997645 | X13: =SUM($R$3*Q13) -> 74.876609 | Y13: =SUM('Masses & Spring Data'!$K$41*('Masses & Spring Data'!$I$3+'Vel,Acc,Jer (Inlet)'!C13)) -> 2181.2246 | Z13: =SUM(S13+Y13) -> 2183.3045 | AA13: =SUM(T13+Y14) -> 2189.7274 | AB13: =SUM(U13+Y13) -> 2199.9438 | AC13: =SUM(V13+Y13) -> 2214.5031 | AD13: =SUM(W13+Y13) -> 2233.2223 | AE13: =SUM(X13+Y13) -> 2256.1012
A14: -338 | B14: =B13+1 -> 11 | C14: 4.2394065e-06 | D14: =SUM((C15-C14)/(B15-B14)) -> 7.8660862e-07 | E14: =SUM(D14*(6*2000)) -> 0.0094393034 | F14: =SUM(D14*(6*4000)) -> 0.018878607 | G14: =SUM(D14*(6*6000)) -> 0.02831791 | H14: =SUM(D14*(6*8000)) -> 0.037757214 | I14: =SUM(D14*(6*10000)) -> 0.047196517 | J14: =SUM(D14*(6*12000)) -> 0.056635821 | K14: =SUM((C16-(2*C15)+C14)/((B15-B14)^2)) -> 1.4076154e-07 | L14: =SUM(K14*((6*2000)^2)) -> 20.269662 | M14: =SUM(K14*((6*4000)^2)) -> 81.078648 | N14: =SUM(K14*((6*6000)^2)) -> 182.42696 | O14: =SUM(K14*((6*8000)^2)) -> 324.31459 | P14: =SUM(K14*((6*10000)^2)) -> 506.74155 | Q14: =SUM(K14*((6*12000)^2)) -> 729.70784 | R14: ='Masses & Spring Data'!$G$29 -> 0.1246 | S14: =SUM($R$3*L14) -> 2.5255999 | T14: =SUM($R$3*M14) -> 10.1024 | U14: =SUM($R$3*N14) -> 22.730399 | V14: =SUM($R$3*O14) -> 40.409598 | W14: =SUM($R$3*P14) -> 63.139998 | X14: =SUM($R$3*Q14) -> 90.921596 | Y14: =SUM('Masses & Spring Data'!$K$41*('Masses & Spring Data'!$I$3+'Vel,Acc,Jer (Inlet)'!C14)) -> 2181.4078 | Z14: =SUM(S14+Y14) -> 2183.9334 | AA14: =SUM(T14+Y15) -> 2191.725 | AB14: =SUM(U14+Y14) -> 2204.1382 | AC14: =SUM(V14+Y14) -> 2221.8174 | AD14: =SUM(W14+Y14) -> 2244.5478 | AE14: =SUM(X14+Y14) -> 2272.3294
A15: -336 | B15: =B14+1 -> 12 | C15: 5.0260151e-06 | D15: =SUM((C16-C15)/(B16-B15)) -> 9.2737016e-07 | E15: =SUM(D15*(6*2000)) -> 0.011128442 | F15: =SUM(D15*(6*4000)) -> 0.022256884 | G15: =SUM(D15*(6*6000)) -> 0.033385326 | H15: =SUM(D15*(6*8000)) -> 0.044513768 | I15: =SUM(D15*(6*10000)) -> 0.05564221 | J15: =SUM(D15*(6*12000)) -> 0.066770652 | K15: =SUM((C17-(2*C16)+C15)/((B16-B15)^2)) -> 1.7388191e-07 | L15: =SUM(K15*((6*2000)^2)) -> 25.038994 | M15: =SUM(K15*((6*4000)^2)) -> 100.15598 | N15: =SUM(K15*((6*6000)^2)) -> 225.35095 | O15: =SUM(K15*((6*8000)^2)) -> 400.62391 | P15: =SUM(K15*((6*10000)^2)) -> 625.97486 | Q15: =SUM(K15*((6*12000)^2)) -> 901.4038 | R15: ='Masses & Spring Data'!$G$29 -> 0.1246 | S15: =SUM($R$3*L15) -> 3.1198587 | T15: =SUM($R$3*M15) -> 12.479435 | U15: =SUM($R$3*N15) -> 28.078728 | V15: =SUM($R$3*O15) -> 49.917739 | W15: =SUM($R$3*P15) -> 77.996468 | X15: =SUM($R$3*Q15) -> 112.31491 | Y15: =SUM('Masses & Spring Data'!$K$41*('Masses & Spring Data'!$I$3+'Vel,Acc,Jer (Inlet)'!C15)) -> 2181.6226 | Z15: =SUM(S15+Y15) -> 2184.7424 | AA15: =SUM(T15+Y16) -> 2194.3553 | AB15: =SUM(U15+Y15) -> 2209.7013 | AC15: =SUM(V15+Y15) -> 2231.5403 | AD15: =SUM(W15+Y15) -> 2259.6191 | AE15: =SUM(X15+Y15) -> 2293.9375
... A363: 360 | B363: =B362+1 -> 360 | C363: 5.0342952e-07 | D363: =SUM((C364-C363)/(B364-B363)) -> 1.3984153e-09 | E363: =SUM(D363*(6*2000)) -> 1.6780984e-05 | F363: =SUM(D363*(6*4000)) -> 3.3561968e-05 | G363: =SUM(D363*(6*6000)) -> 5.0342952e-05 | H363: =SUM(D363*(6*8000)) -> 6.7123936e-05 | I363: =SUM(D363*(6*10000)) -> 8.3904919e-05 | J363: =SUM(D363*(6*12000)) -> 0.0001006859 | K363: =SUM((C365-(2*C364)+C363)/((B364-B363)^2)) -> 3.884487e-12 | L363: =SUM(K363*((6*2000)^2)) -> 0.00055936613 | M363: =SUM(K363*((6*4000)^2)) -> 0.0022374645 | N363: =SUM(K363*((6*6000)^2)) -> 0.0050342952 | O363: =SUM(K363*((6*8000)^2)) -> 0.0089498581 | P363: =SUM(K363*((6*10000)^2)) -> 0.013984153 | Q363: =SUM(K363*((6*12000)^2)) -> 0.020137181 | R363: ='Masses & Spring Data'!$G$29 -> 0.1246 | S363: =SUM($R$3*L363) -> 6.969702e-05 | T363: =SUM($R$3*M363) -> 0.00027878808 | U363: =SUM($R$3*N363) -> 0.00062727318 | V363: =SUM($R$3*O363) -> 0.0011151523 | W363: =SUM($R$3*P363) -> 0.0017424255 | X363: =SUM($R$3*Q363) -> 0.0025090927 | Y363: =SUM('Masses & Spring Data'!$K$41*('Masses & Spring Data'!$I$3+'Vel,Acc,Jer (Inlet)'!C363)) -> 2180.3875 | Z363: =SUM(S363+Y363) -> 2180.3876 | AA363: =SUM(T363+Y364) -> 0.00027878808 | AB363: =SUM(U363+Y363) -> 2180.3881 | AC363: =SUM(V363+Y363) -> 2180.3886 | AD363: =SUM(W363+Y363) -> 2180.3892 | AE363: =SUM(X363+Y363) -> 2180.39
