Workbook

Sheet Question
B2: Ready Plc has €160,000 available for investment now.
B3: It is looking at 4 projects which have the following cash flows.
B4: Assume average cost of weighted capital (WACC) at 8%
B6: Project Cost €000 | C6: 1 | D6: 2 | E6: 3 | F6: 4
C7: 85 | D7: 100 | E7: 100 | F7: 90
B9: Incomes (Cash Flow)
B10: Year 1 | C10: 20 | D10: 20 | E10: 25 | F10: 15
B11: Year 2 | C11: 30 | D11: 35 | E11: 25 | F11: 25
B12: Year 3 | C12: 35 | D12: 40 | E12: 30 | F12: 30
B13: Year 4 | C13: 40 | D13: 50 | E13: 35 | F13: 55
B14: Disposal | C14: 0 | D14: 20 | E14: 0 | F14: 15
B17: (Note the projects are divisible)
B19: Calculate the following: | D19: ( i.) | E19: NPV
D20: (ii.) | E20: Payback
D21: (iii.) | E21: Discounted payback
D22: (iv.) | E22: IRR
D23: ( v.) | E23: Optimal investment policy
D24: ( vi.) | E24: The resulting NPV of your choice
B26: How would you decision be affected by the projects being indivisible?

Sheet Payback
A1: Payback - Ready PLC
D2: PP
B3: =[1]NPV!C3 -> Project 1 | C3: =[1]NPV!D3 -> -85
B4: =[1]NPV!C4 -> Year 1 | C4: =[1]NPV!D4 -> 20
B5: =[1]NPV!C5 -> Year 2 | C5: =[1]NPV!D5 -> 30
B6: =[1]NPV!C6 -> Year 3 | C6: =[1]NPV!D6 -> 35
B7: =[1]NPV!C7 -> Year 4 | C7: =[1]NPV!D7 -> 40
B8: =[1]NPV!C8 -> Disposal | C8: =[1]NPV!D8 -> 0 | E8: When does payback occur?
D10: PP
B11: =[1]NPV!C12 -> Project 2 | C11: =[1]NPV!D12 -> -100
B12: =[1]NPV!C13 -> Year 1 | C12: =[1]NPV!D13 -> 20
B13: =[1]NPV!C14 -> Year 2 | C13: =[1]NPV!D14 -> 35
B14: =[1]NPV!C15 -> Year 3 | C14: =[1]NPV!D15 -> 40
B15: =[1]NPV!C16 -> Year 4 | C15: =[1]NPV!D16 -> 50
B16: =[1]NPV!C17 -> Disposal | C16: =[1]NPV!D17 -> 20 | E16: When does payback occur?
D18: PP
B19: =[1]NPV!C21 -> Project 3 | C19: =[1]NPV!D21 -> -100
B20: =[1]NPV!C22 -> Year 1 | C20: =[1]NPV!D22 -> 25
B21: =[1]NPV!C23 -> Year 2 | C21: =[1]NPV!D23 -> 25
B22: =[1]NPV!C24 -> Year 3 | C22: =[1]NPV!D24 -> 30
B23: =[1]NPV!C25 -> Year 4 | C23: =[1]NPV!D25 -> 35
B24: =[1]NPV!C26 -> Disposal | C24: =[1]NPV!D26 -> 0 | E24: When does payback occur?
D26: PP
B27: =[1]NPV!C30 -> Project 4 | C27: =[1]NPV!D30 -> -90
B28: =[1]NPV!C31 -> Year 1 | C28: =[1]NPV!D31 -> 15
B29: =[1]NPV!C32 -> Year 2 | C29: =[1]NPV!D32 -> 25
B30: =[1]NPV!C33 -> Year 3 | C30: =[1]NPV!D33 -> 30
B31: =[1]NPV!C34 -> Year 4 | C31: =[1]NPV!D34 -> 55
B32: =[1]NPV!C35 -> Disposal | C32: =[1]NPV!D35 -> 15 | E32: When does payback occur?
B34: Which project provides the best payback period?
B35: Comment on the difference between this Payback method and the discounted payback method? Which is more accurate and why?

Sheet Discounted payback
A1: Discounted Payback - Ready PLC
D2: Discount factor 8% | E2: PV | F2: DPP
B3: =NPV!C3 -> Project 1 | C3: =NPV!D3 -> -85 | D3: 1 | E3: =D3*C3 -> -85
B4: =NPV!C4 -> Year 1 | C4: =NPV!D4 -> 20 | D4: ='Discount Tables'!I3 -> 0.92592593 | E4: =D4*C4 -> 18.518519
B5: =NPV!C5 -> Year 2 | C5: =NPV!D5 -> 30 | D5: ='Discount Tables'!I4 -> 0.85733882 | E5: =D5*C5 -> 25.720165
B6: =NPV!C6 -> Year 3 | C6: =NPV!D6 -> 35 | D6: ='Discount Tables'!I5 -> 0.79383224 | E6: =D6*C6 -> 27.784128
B7: =NPV!C7 -> Year 4 | C7: =NPV!D7 -> 40 | D7: ='Discount Tables'!I6 -> 0.73502985 | E7: =D7*C7 -> 29.401194
B8: =NPV!C8 -> Disposal | C8: =NPV!D8 -> 0 | D8: =D7 -> 0.73502985 | E8: =D8*C8 -> 0 | G8: In which year does payback occur?
D10: Discount factor 8% | E10: PV | F10: DPP
B11: =NPV!C12 -> Project 2 | C11: =NPV!D12 -> -100 | D11: 1 | E11: =D11*C11 -> -100
B12: =NPV!C13 -> Year 1 | C12: =NPV!D13 -> 20 | D12: =D4 -> 0.92592593 | E12: =D12*C12 -> 18.518519
B13: =NPV!C14 -> Year 2 | C13: =NPV!D14 -> 35 | D13: =D5 -> 0.85733882 | E13: =D13*C13 -> 30.006859
B14: =NPV!C15 -> Year 3 | C14: =NPV!D15 -> 40 | D14: =D6 -> 0.79383224 | E14: =D14*C14 -> 31.75329
B15: =NPV!C16 -> Year 4 | C15: =NPV!D16 -> 50 | D15: =D7 -> 0.73502985 | E15: =D15*C15 -> 36.751493
B16: =NPV!C17 -> Disposal | C16: =NPV!D17 -> 20 | D16: =D8 -> 0.73502985 | E16: =D16*C16 -> 14.700597 | G16: In which year does payback occur?
D18: Discount factor 8% | E18: PV | F18: DPP
B19: =NPV!C21 -> Project 3 | C19: =NPV!D21 -> -100 | D19: 1 | E19: =D19*C19 -> -100
B20: =NPV!C22 -> Year 1 | C20: =NPV!D22 -> 25 | D20: =D4 -> 0.92592593 | E20: =D20*C20 -> 23.148148
B21: =NPV!C23 -> Year 2 | C21: =NPV!D23 -> 25 | D21: =D5 -> 0.85733882 | E21: =D21*C21 -> 21.433471
B22: =NPV!C24 -> Year 3 | C22: =NPV!D24 -> 30 | D22: =D6 -> 0.79383224 | E22: =D22*C22 -> 23.814967
B23: =NPV!C25 -> Year 4 | C23: =NPV!D25 -> 35 | D23: =D7 -> 0.73502985 | E23: =D23*C23 -> 25.726045
B24: =NPV!C26 -> Disposal | C24: =NPV!D26 -> 0 | D24: =D8 -> 0.73502985 | E24: =D24*C24 -> 0 | G24: In which year does payback occur?
D26: Discount factor 8% | E26: PV | F26: DPP
B27: =NPV!C30 -> Project 4 | C27: =NPV!D30 -> -90 | D27: 1 | E27: =D27*C27 -> -90
B28: =NPV!C31 -> Year 1 | C28: =NPV!D31 -> 15 | D28: =D4 -> 0.92592593 | E28: =D28*C28 -> 13.888889
B29: =NPV!C32 -> Year 2 | C29: =NPV!D32 -> 25 | D29: =D5 -> 0.85733882 | E29: =D29*C29 -> 21.433471
B30: =NPV!C33 -> Year 3 | C30: =NPV!D33 -> 30 | D30: =D6 -> 0.79383224 | E30: =D30*C30 -> 23.814967
B31: =NPV!C34 -> Year 4 | C31: =NPV!D34 -> 55 | D31: =D7 -> 0.73502985 | E31: =D31*C31 -> 40.426642
B32: =NPV!C35 -> Disposal | C32: =NPV!D35 -> 15 | D32: =D8 -> 0.73502985 | E32: =D32*C32 -> 11.025448 | G32: In which year does payback occur?
B34: Which project has the best payback period?
B35: Any other comments?

Sheet NPV
B1: NPV - Ready PLC
E2: Discount factor 8% | F2: PV
C3: Project 1 | D3: =-Question!C7 -> -85 | E3: 1
C4: Year 1 | D4: =Question!C10 -> 20 | E4: ='Discount Tables'!I3 -> 0.92592593
C5: Year 2 | D5: =Question!C11 -> 30 | E5: ='Discount Tables'!I4 -> 0.85733882
C6: Year 3 | D6: =Question!C12 -> 35 | E6: ='Discount Tables'!I5 -> 0.79383224
C7: Year 4 | D7: =Question!C13 -> 40 | E7: ='Discount Tables'!I6 -> 0.73502985
C8: Disposal | D8: =Question!C14 -> 0 | E8: =E7 -> 0.73502985
G9: NPV Project 1
E11: Discount factor 8% | F11: PV
C12: Project 2 | D12: =-Question!D7 -> -100 | E12: 1
C13: Year 1 | D13: =Question!D10 -> 20 | E13: ='Discount Tables'!I3 -> 0.92592593
C14: Year 2 | D14: =Question!D11 -> 35 | E14: ='Discount Tables'!I4 -> 0.85733882
C15: Year 3 | D15: =Question!D12 -> 40 | E15: ='Discount Tables'!I5 -> 0.79383224
C16: Year 4 | D16: =Question!D13 -> 50 | E16: ='Discount Tables'!I6 -> 0.73502985
C17: Disposal | D17: =Question!D14 -> 20 | E17: =E16 -> 0.73502985
G18: NPV Project 2
E20: Discount factor 8% | F20: PV
C21: Project 3 | D21: =-Question!E7 -> -100 | E21: 1
C22: Year 1 | D22: =Question!E10 -> 25 | E22: ='Discount Tables'!I3 -> 0.92592593
C23: Year 2 | D23: =Question!E11 -> 25 | E23: ='Discount Tables'!I4 -> 0.85733882
C24: Year 3 | D24: =Question!E12 -> 30 | E24: ='Discount Tables'!I5 -> 0.79383224
C25: Year 4 | D25: =Question!E13 -> 35 | E25: ='Discount Tables'!I6 -> 0.73502985
C26: Disposal | D26: =Question!E14 -> 0 | E26: =E25 -> 0.73502985
G27: NPV Project 3
E29: Discount factor 8% | F29: PV
C30: Project 4 | D30: =-Question!F7 -> -90 | E30: 1
C31: Year 1 | D31: =Question!F10 -> 15 | E31: ='Discount Tables'!I3 -> 0.92592593
C32: Year 2 | D32: =Question!F11 -> 25 | E32: ='Discount Tables'!I4 -> 0.85733882
C33: Year 3 | D33: =Question!F12 -> 30 | E33: ='Discount Tables'!I5 -> 0.79383224
C34: Year 4 | D34: =Question!F13 -> 55 | E34: ='Discount Tables'!I6 -> 0.73502985
C35: Disposal | D35: =Question!F14 -> 15 | E35: =E34 -> 0.73502985
G36: NPV Project 4
B38: Which is the project with the highest NPV?
B39: Are all projects viable. If not, which are not and why?

Sheet IRR
A1: IRR - Ready PLC
A2: IRR is the discount factor when NPV is zero!
D3: Discount factor 8% | E3: PV @ 8% | G3: Discount factor 20% | H3: PV @ 20%
B4: Project 1 | C4: =NPV!D3 -> -85 | D4: =NPV!E3 -> 1 | E4: =D4*C4 -> -85
B5: Year 1 | C5: =NPV!D4 -> 20 | D5: =NPV!E4 -> 0.92592593 | E5: =D5*C5 -> 18.518519
B6: Year 2 | C6: =NPV!D5 -> 30 | D6: =NPV!E5 -> 0.85733882 | E6: =D6*C6 -> 25.720165
B7: Year 3 | C7: =NPV!D6 -> 35 | D7: =NPV!E6 -> 0.79383224 | E7: =D7*C7 -> 27.784128
B8: Year 4 | C8: =NPV!D7 -> 40 | D8: =NPV!E7 -> 0.73502985 | E8: =D8*C8 -> 29.401194
B9: Disposal | C9: =NPV!D8 -> 0 | D9: =NPV!E8 -> 0.73502985 | E9: =D9*C9 -> 0
E10: =SUM(E4:E9) -> 16.424006 | J10: IRR is approx | L10: %
D12: Discount factor 8% | E12: PV @ 8% | G12: Discount factor 20% | H12: PV @ 20%
B13: Project 2 | C13: =NPV!D12 -> -100 | D13: =NPV!E12 -> 1 | E13: =D13*C13 -> -100
B14: Year 1 | C14: =NPV!D13 -> 20 | D14: =NPV!E13 -> 0.92592593 | E14: =D14*C14 -> 18.518519
B15: Year 2 | C15: =NPV!D14 -> 35 | D15: =NPV!E14 -> 0.85733882 | E15: =D15*C15 -> 30.006859
B16: Year 3 | C16: =NPV!D15 -> 40 | D16: =NPV!E15 -> 0.79383224 | E16: =D16*C16 -> 31.75329
B17: Year 4 | C17: =NPV!D16 -> 50 | D17: =NPV!E16 -> 0.73502985 | E17: =D17*C17 -> 36.751493
B18: Disposal | C18: =NPV!D17 -> 20 | D18: =NPV!E17 -> 0.73502985 | E18: =D18*C18 -> 14.700597
E19: =SUM(E13:E18) -> 31.730757 | J19: IRR is approx | L19: %
D21: Discount factor 8% | E21: PV @ 8% | G21: Discount factor 20% | H21: PV @ 20%
B22: Project 3 | C22: =NPV!D21 -> -100 | D22: =NPV!E21 -> 1 | E22: =D22*C22 -> -100
B23: Year 1 | C23: =NPV!D22 -> 25 | D23: =NPV!E22 -> 0.92592593 | E23: =D23*C23 -> 23.148148
B24: Year 2 | C24: =NPV!D23 -> 25 | D24: =NPV!E23 -> 0.85733882 | E24: =D24*C24 -> 21.433471
B25: Year 3 | C25: =NPV!D24 -> 30 | D25: =NPV!E24 -> 0.79383224 | E25: =D25*C25 -> 23.814967
B26: Year 4 | C26: =NPV!D25 -> 35 | D26: =NPV!E25 -> 0.73502985 | E26: =D26*C26 -> 25.726045
B27: Disposal | C27: =NPV!D26 -> 0 | D27: =NPV!E26 -> 0.73502985 | E27: =D27*C27 -> 0
E28: =SUM(E22:E27) -> -5.8773693 | J28: IRR is approx | L28: %
D30: Discount factor 8% | E30: PV @ 8% | G30: Discount factor 20% | H30: PV @ 20%
B31: Project 4 | C31: =NPV!D30 -> -90 | D31: =NPV!E30 -> 1 | E31: =D31*C31 -> -90
B32: Year 1 | C32: =NPV!D31 -> 15 | D32: =NPV!E31 -> 0.92592593 | E32: =D32*C32 -> 13.888889
B33: Year 2 | C33: =NPV!D32 -> 25 | D33: =NPV!E32 -> 0.85733882 | E33: =D33*C33 -> 21.433471
B34: Year 3 | C34: =NPV!D33 -> 30 | D34: =NPV!E33 -> 0.79383224 | E34: =D34*C34 -> 23.814967
B35: Year 4 | C35: =NPV!D34 -> 55 | D35: =NPV!E34 -> 0.73502985 | E35: =D35*C35 -> 40.426642
B36: Disposal | C36: =NPV!D35 -> 15 | D36: =NPV!E35 -> 0.73502985 | E36: =D36*C36 -> 11.025448
E37: =SUM(E31:E36) -> 20.589416 | J37: IRR is approx | L37: %
B39: Which project has the highest IRR?
B41: How to approximately derive IRR for project 1
B42: At 8% discount factor, project 1 has an NPV of 16.42
B43: To reduce NPV towards zero, we must increase the discount factor.
B44: Let's take an arbitrarily higher discount factor of, say, 20%, and see what that does to IRR
D46: Discount factor 8% | E46: PV | G46: Discount factor 20% | H46: New PV
...

Sheet Optimal investment
B1: =Question!B2 -> Ready Plc has €160,000 available for investment now.
B2: =Question!B3 -> It is looking at 4 projects which have the following cash flows.
B3: =Question!B4 -> Assume average cost of weighted capital (WACC) at 8%
B5: Project Cost €000 | C5: 1 | D5: 2 | E5: 3 | F5: 4
C6: 85 | D6: 100 | E6: 100 | F6: 90
B8: Incomes (Cash Flow)
B9: Year 1 | C9: 20 | D9: 20 | E9: 25 | F9: 15
B10: Year 2 | C10: 30 | D10: 35 | E10: 25 | F10: 25
B11: Year 3 | C11: 35 | D11: 40 | E11: 30 | F11: 30
B12: Year 4 | C12: 40 | D12: 50 | E12: 35 | F12: 55
B13: Disposal | C13: 0 | D13: 20 | E13: 0 | F13: 15
B16: Calculate the: | E16: ( i.) | F16: Optimal investment policy.
E17: (ii.) | F17: The resulting NPV of your choice.
B19: (Note the projects are divisible)
C21: Project => | D21: 1 | E21: 2 | F21: 3 | G21: 4
B22: Initial investment | C22: DF @ 8% | D22: =-C6 -> -85 | E22: =-D6 -> -100 | F22: =-E6 -> -100 | G22: =-F6 -> -90
B23: Year 1 | C23: =NPV!E4 -> 0.92592593 | D23: =$C$23*C9 -> 18.518519 | E23: =$C$23*D9 -> 18.518519 | F23: =$C$23*E9 -> 23.148148 | G23: =$C$23*F9 -> 13.888889
B24: Year 2 | C24: =NPV!E5 -> 0.85733882 | D24: =$C$24*C10 -> 25.720165 | E24: =$C$24*D10 -> 30.006859 | F24: =$C$24*E10 -> 21.433471 | G24: =$C$24*F10 -> 21.433471
B25: Year 3 | C25: =NPV!E6 -> 0.79383224 | D25: =$C$25*C11 -> 27.784128 | E25: =$C$25*D11 -> 31.75329 | F25: =$C$25*E11 -> 23.814967 | G25: =$C$25*F11 -> 23.814967
B26: Year 4 | C26: =NPV!E7 -> 0.73502985 | D26: =$C$26*C12 -> 29.401194 | E26: =$C$26*D12 -> 36.751493 | F26: =$C$26*E12 -> 25.726045 | G26: =$C$26*F12 -> 40.426642
B27: Disposal | C27: =NPV!E8 -> 0.73502985 | D27: =$C$27*C13 -> 0 | E27: =$C$27*D13 -> 14.700597 | F27: =$C$27*E13 -> 0 | G27: =$C$27*F13 -> 11.025448
C28: NPV | D28: =SUM(D22:D27) -> 16.424006 | E28: =SUM(E22:E27) -> 31.730757 | F28: =SUM(F22:F27) -> -5.8773693 | G28: =SUM(G22:G27) -> 20.589416 | H28: <= Net Present Value accounts for all of the future returns plus the initial investment
C29: GPV | H29: <= Gross Present Value accounts for all the future returns but NOT the initial investment
C30: Cost-benefit ratio | H30: <= Cost-benefit ratio is the comparison of the NPV of a project with its initial cost.
C31: Profitability Index | H31: <= Profitability Index is the comparison of the GPV of a project with its initial cost.
C32: Ranking | I32: (A ratio of greater than one indicates that the project is a viable one).
C34: Optimal investment => | D34: €160K available
C35: Which project and how much of it? | E35: Amount of €160K invested in this project?
C36: Which project and how much of it? | E36: Amount of €160K invested in this project?
C37: Which project and how much of it? | E37: Amount of €160K invested in this project?
C38: Which project and how much of it? | E38: Amount of €160K invested in this project?
D40: Project NPV | E40: Cost/Benefit | F40: New initial outlay | G40: Resultant NPV
C41: ?
C42: ?
C43: ?
C44: ?
H45: Resultant NPV
B46: What is the resultant NPV for the €160K investment?
B48: NOTE: What would be the response if the projects were indivisble?

Sheet Discount Tables
A1: Discount factors
A2: Period | B2: 0.01 | C2: 0.02 | D2: 0.03 | E2: 0.04 | F2: 0.05 | G2: 0.06 | H2: 0.07 | I2: 0.08 | J2: 0.09 | K2: 0.1 | L2: 0.11 | M2: 0.12 | N2: 0.13 | O2: 0.14 | P2: 0.15 | Q2: 0.16 | R2: 0.17 | S2: 0.18 | T2: 0.19 | U2: 0.2
A3: 1 | B3: =1/(1+B$2)^$A3 -> 0.99009901 | C3: =1/(1+C$2)^$A3 -> 0.98039216 | D3: =1/(1+D$2)^$A3 -> 0.97087379 | E3: =1/(1+E$2)^$A3 -> 0.96153846 | F3: =1/(1+F$2)^$A3 -> 0.95238095 | G3: =1/(1+G$2)^$A3 -> 0.94339623 | H3: =1/(1+H$2)^$A3 -> 0.93457944 | I3: =1/(1+I$2)^$A3 -> 0.92592593 | ... U3: =1/(1+U$2)^$A3 -> 0.83333333
A4: 2 | B4: =1/(1+B$2)^$A4 -> 0.98029605 | C4: =1/(1+C$2)^$A4 -> 0.96116878 | D4: =1/(1+D$2)^$A4 -> 0.94259591 | E4: =1/(1+E$2)^$A4 -> 0.92455621 | F4: =1/(1+F$2)^$A4 -> 0.90702948 | G4: =1/(1+G$2)^$A4 -> 0.88999644 | H4: =1/(1+H$2)^$A4 -> 0.87343873 | I4: =1/(1+I$2)^$A4 -> 0.85733882 | ... U4: =1/(1+U$2)^$A4 -> 0.69444444
A5: 3 | B5: =1/(1+B$2)^$A5 -> 0.97059015 | C5: =1/(1+C$2)^$A5 -> 0.94232233 | D5: =1/(1+D$2)^$A5 -> 0.91514166 | E5: =1/(1+E$2)^$A5 -> 0.88899636 | F5: =1/(1+F$2)^$A5 -> 0.8638376 | G5: =1/(1+G$2)^$A5 -> 0.83961928 | H5: =1/(1+H$2)^$A5 -> 0.81629788 | I5: =1/(1+I$2)^$A5 -> 0.79383224 | ... U5: =1/(1+U$2)^$A5 -> 0.5787037
A6: 4 | B6: =1/(1+B$2)^$A6 -> 0.96098034 | C6: =1/(1+C$2)^$A6 -> 0.92384543 | D6: =1/(1+D$2)^$A6 -> 0.88848705 | E6: =1/(1+E$2)^$A6 -> 0.85480419 | F6: =1/(1+F$2)^$A6 -> 0.82270247 | G6: =1/(1+G$2)^$A6 -> 0.79209366 | H6: =1/(1+H$2)^$A6 -> 0.76289521 | I6: =1/(1+I$2)^$A6 -> 0.73502985 | ... U6: =1/(1+U$2)^$A6 -> 0.48225309
A7: 5 | B7: =1/(1+B$2)^$A7 -> 0.95146569 | C7: =1/(1+C$2)^$A7 -> 0.90573081 | D7: =1/(1+D$2)^$A7 -> 0.86260878 | E7: =1/(1+E$2)^$A7 -> 0.82192711 | F7: =1/(1+F$2)^$A7 -> 0.78352617 | G7: =1/(1+G$2)^$A7 -> 0.74725817 | H7: =1/(1+H$2)^$A7 -> 0.71298618 | I7: =1/(1+I$2)^$A7 -> 0.6805832 | ... U7: =1/(1+U$2)^$A7 -> 0.40187757
A8: 6 | B8: =1/(1+B$2)^$A8 -> 0.94204524 | C8: =1/(1+C$2)^$A8 -> 0.88797138 | D8: =1/(1+D$2)^$A8 -> 0.83748426 | E8: =1/(1+E$2)^$A8 -> 0.79031453 | F8: =1/(1+F$2)^$A8 -> 0.7462154 | G8: =1/(1+G$2)^$A8 -> 0.70496054 | H8: =1/(1+H$2)^$A8 -> 0.66634222 | I8: =1/(1+I$2)^$A8 -> 0.63016963 | ... U8: =1/(1+U$2)^$A8 -> 0.33489798
A9: 7 | B9: =1/(1+B$2)^$A9 -> 0.93271805 | C9: =1/(1+C$2)^$A9 -> 0.87056018 | D9: =1/(1+D$2)^$A9 -> 0.81309151 | E9: =1/(1+E$2)^$A9 -> 0.75991781 | F9: =1/(1+F$2)^$A9 -> 0.71068133 | G9: =1/(1+G$2)^$A9 -> 0.66505711 | H9: =1/(1+H$2)^$A9 -> 0.62274974 | I9: =1/(1+I$2)^$A9 -> 0.5834904 | ... U9: =1/(1+U$2)^$A9 -> 0.27908165
A10: 8 | B10: =1/(1+B$2)^$A10 -> 0.92348322 | C10: =1/(1+C$2)^$A10 -> 0.85349037 | D10: =1/(1+D$2)^$A10 -> 0.78940923 | E10: =1/(1+E$2)^$A10 -> 0.73069021 | F10: =1/(1+F$2)^$A10 -> 0.67683936 | G10: =1/(1+G$2)^$A10 -> 0.62741237 | H10: =1/(1+H$2)^$A10 -> 0.5820091 | I10: =1/(1+I$2)^$A10 -> 0.54026888 | ... U10: =1/(1+U$2)^$A10 -> 0.23256804
A11: 9 | B11: =1/(1+B$2)^$A11 -> 0.91433982 | C11: =1/(1+C$2)^$A11 -> 0.83675527 | D11: =1/(1+D$2)^$A11 -> 0.76641673 | E11: =1/(1+E$2)^$A11 -> 0.70258674 | F11: =1/(1+F$2)^$A11 -> 0.64460892 | G11: =1/(1+G$2)^$A11 -> 0.59189846 | H11: =1/(1+H$2)^$A11 -> 0.54393374 | I11: =1/(1+I$2)^$A11 -> 0.50024897 | ... U11: =1/(1+U$2)^$A11 -> 0.1938067
A12: 10 | B12: =1/(1+B$2)^$A12 -> 0.90528695 | C12: =1/(1+C$2)^$A12 -> 0.8203483 | D12: =1/(1+D$2)^$A12 -> 0.74409391 | E12: =1/(1+E$2)^$A12 -> 0.67556417 | F12: =1/(1+F$2)^$A12 -> 0.61391325 | G12: =1/(1+G$2)^$A12 -> 0.55839478 | H12: =1/(1+H$2)^$A12 -> 0.50834929 | I12: =1/(1+I$2)^$A12 -> 0.46319349 | ... U12: =1/(1+U$2)^$A12 -> 0.16150558
A13: 11 | B13: =1/(1+B$2)^$A13 -> 0.89632372 | C13: =1/(1+C$2)^$A13 -> 0.80426304 | D13: =1/(1+D$2)^$A13 -> 0.72242128 | E13: =1/(1+E$2)^$A13 -> 0.64958093 | F13: =1/(1+F$2)^$A13 -> 0.58467929 | G13: =1/(1+G$2)^$A13 -> 0.52678753 | H13: =1/(1+H$2)^$A13 -> 0.4750928 | I13: =1/(1+I$2)^$A13 -> 0.42888286 | ... U13: =1/(1+U$2)^$A13 -> 0.13458799
A14: 12 | B14: =1/(1+B$2)^$A14 -> 0.88744923 | C14: =1/(1+C$2)^$A14 -> 0.78849318 | D14: =1/(1+D$2)^$A14 -> 0.70137988 | E14: =1/(1+E$2)^$A14 -> 0.62459705 | F14: =1/(1+F$2)^$A14 -> 0.55683742 | G14: =1/(1+G$2)^$A14 -> 0.49696936 | H14: =1/(1+H$2)^$A14 -> 0.44401196 | I14: =1/(1+I$2)^$A14 -> 0.39711376 | ... U14: =1/(1+U$2)^$A14 -> 0.11215665
... A27: 50 | B27: =1/(1+B$2)^$A27 -> 0.60803882 | C27: =1/(1+C$2)^$A27 -> 0.37152788 | D27: =1/(1+D$2)^$A27 -> 0.22810708 | E27: =1/(1+E$2)^$A27 -> 0.14071262 | F27: =1/(1+F$2)^$A27 -> 0.087203727 | G27: =1/(1+G$2)^$A27 -> 0.054288362 | H27: =1/(1+H$2)^$A27 -> 0.033947759 | I27: =1/(1+I$2)^$A27 -> 0.021321229 | ... U27: =1/(1+U$2)^$A27 -> 0.00010988482

Sheet IRR calc check
A1: Project 1
A2: DF 1 % | B2: Change | C2: DF 2 %
A3: 8 | B3: =C3-A3 -> 12 | C3: 20
A4: =IRR!E10 -> 16.424006 | B4: =A4-C4 -> 16.424006 | C4: =IRR!H10 -> 0
A5: NPV | C5: NPV
A7: % | C7: Change in NPV
A8: =B3 -> 12 | B8: = | C8: =B4 -> 16.424006
A10: 0.01 | B10: = | C10: =C8/A8 -> 1.3686671 | D10: <= For 1% change in DF then NPV changes by this much
A12: Increase DF to reduce NPV towards zero
K13: IRR =
A14: To reduce NPV from | C14: =A4 -> 16.424006 | D14: to zero we need to raise the DF above | G14: =A3 -> 8 | H14: % by | I14: =C14/C10 -> 12 | J14: or | K14: =G14+I14 -> 20 | L14: %
A16: Check | C16: DF for which NPV is zero
A17: =IRR!B4 -> Project 1 | B17: =IRR!C4 -> -85 | C17: 1 | D17: =B17*C17 -> -85
A18: =IRR!B5 -> Year 1 | B18: =IRR!C5 -> 20 | C18: =1/(1+($K$14)/100) -> 0.83333333 | D18: =B18*C18 -> 16.666667
A19: =IRR!B6 -> Year 2 | B19: =IRR!C6 -> 30 | C19: =1/((1+($K$14)/100)*(1+($K$14)/100)) -> 0.69444444 | D19: =B19*C19 -> 20.833333
A20: =IRR!B7 -> Year 3 | B20: =IRR!C7 -> 35 | C20: =1/((1+($K$14)/100)*(1+($K$14)/100)*(1+($K$14)/100)) -> 0.5787037 | D20: =B20*C20 -> 20.25463
A21: =IRR!B8 -> Year 4 | B21: =IRR!C8 -> 40 | C21: =1/((1+($K$14)/100)*(1+($K$14)/100)*(1+($K$14)/100)*(1+($K$14)/100)) -> 0.48225309 | D21: =B21*C21 -> 19.290123
A22: =IRR!B9 -> Disposal | B22: =IRR!C9 -> 0 | C22: =C21 -> 0.48225309 | D22: =B22*C22 -> 0
D23: =SUM(D17:D22) -> -7.9552469 | E23: Needs to be very close to zero to prove this is IRR
A25: Project 2
A26: DF 1 % | B26: Change | C26: DF 2 %
A27: 8 | B27: =C27-A27 -> 12 | C27: 20
A28: =IRR!E19 -> 31.730757 | B28: =A28-C28 -> 31.730757 | C28: =IRR!H19 -> 0
A29: NPV | C29: NPV
A31: % | C31: Change in NPV
A32: =B27 -> 12 | B32: = | C32: =B28 -> 31.730757
A34: 0.01 | B34: = | C34: =C32/A32 -> 2.6442297 | D34: <= For 1% change in DF then NPV changes by this much
A36: Increase DF to reduce NPV towards zero
K37: IRR =
A38: To reduce NPV from | C38: =A28 -> 31.730757 | D38: to zero we need to raise the DF above | G38: =A27 -> 8 | H38: % by | I38: =C38/C34 -> 12 | J38: or | K38: =G38+I38 -> 20 | L38: %
A40: Check | C40: DF for which NPV is zero
A41: =IRR!B13 -> Project 2 | B41: =IRR!C13 -> -100 | C41: 1 | D41: =B41*C41 -> -100
A42: =IRR!B14 -> Year 1 | B42: =IRR!C14 -> 20 | C42: =1/(1+($K$38)/100) -> 0.83333333 | D42: =B42*C42 -> 16.666667
A43: =IRR!B15 -> Year 2 | B43: =IRR!C15 -> 35 | C43: =1/((1+($K$38)/100)*(1+($K$38)/100)) -> 0.69444444 | D43: =B43*C43 -> 24.305556
A44: =IRR!B16 -> Year 3 | B44: =IRR!C16 -> 40 | C44: =1/((1+($K$38)/100)*(1+($K$38)/100)*(1+($K$38)/100)) -> 0.5787037 | D44: =B44*C44 -> 23.148148
A45: =IRR!B17 -> Year 4 | B45: =IRR!C17 -> 50 | C45: =1/((1+($K$38)/100)*(1+($K$38)/100)*(1+($K$38)/100)*(1+($K$38)/100)) -> 0.48225309 | D45: =B45*C45 -> 24.112654
A46: =IRR!B18 -> Disposal | B46: =IRR!C18 -> 20 | C46: =C45 -> 0.48225309 | D46: =B46*C46 -> 9.6450617
D47: =SUM(D41:D46) -> -2.1219136 | E47: Needs to be very close to zero to prove this is IRR
A49: Project 3
A50: DF 1 % | B50: Change | C50: DF 2 %
...
