Workbook

Sheet Specification
B1: Specification
B2: Engine CC | C2: 278 | E2: Gear Ratios | J2: Frontal Area | K2: =L17 -> 1.6912872
B3: Power (hp) | C3: 18 | E3: 1st | F3: 5 | G3: 80 | H3: =G3/F3 -> 16 | J3: cd | K3: 0.5
B4: Torque at 5500 rpm (Nm) | C4: 22 | E4: 2nd | F4: 8 | G4: 50 | H4: =G4/F4 -> 6.25 | J4: rho (kg/m^3) | K4: 1.225
B5: Top Speed (mph) | C5: 30 | E5: 3rd | F5: 10 | G5: 36 | H5: =G5/F5 -> 3.6
B6: Length (m) | C6: 2.62 | E6: Final Drive | H6: 3
B7: Width (m) | C7: 1.65
B8: Height (m) | C8: 1.62 | E8: Drive Torque at Shaft (Nm) | F8: =C4*H3*1.04 -> 366.08 | J8: Max Angle of ascent | K8: =ASIN(F10/(C23*9.81))*180/PI() -> 11.87288
B9: Vehicle Mass (kg) | C9: 365 | E9: Drive Torque at Rear Wheel (Nm) | F9: =F8*H6*1.03*C17 -> 359.15194
B10: Ground Clearance (m) | C10: 0.3 | E10: Force (N) | F10: =F9/C17 -> 1131.1872
B11: Tank Size (l) | C11: 29 | E11: Max Velocity (m/s) | F11: 13.4
B12: Petrol Mass (kg/l) | C12: 0.74 | E12: Max Accel (m/s-2) | F12: =F10/C23 -> 2.0183192
B13: Fuel Mass (kg) | C13: =C11*C12 -> 21.46 | E13: Max Deccel (Max Accelx1.2) | F13: =-F12*1.2 -> -2.4219831 | H13: Equivalent Mass | K13: Vehicle Area
B14: Driver+Passenger + Gear Mass (kg) | C14: 174 | H14: 1st gear | I14: =C23+(2*F18/C21+2*F17/C22)+F19*(H3^2/F18) -> 612.2238 | K14: Occupied Space | L14: =C8*C7 -> 2.673
B15: Rear Tyre Mass (kg)25x10x12 | C15: 9.3 | H15: 2nd gear | I15: =C23+(2*F18/C21+2*F17/C22)+F19*(H4^2/F18) -> 582.50936 | K15: Clearance Area | L15: =C10*(C7-2*C26) -> 0.3426
B16: Rear Wheel Mass (kg) | C16: 5.9 | E16: Inertia | H16: 3rd Gear | I16: =C23+(2*F18/C21+2*F17/C22)+F19*(H5^2/F18) -> 578.93404 | K16: Free Space | L16: =(C8-(2*C20))*(C26+0.1016)*2 -> 0.63911277
B17: Rear Tyre Radius (m) | C17: 0.3175 | E17: Front Wheels | F17: =C25*C22^2 -> 1.3004088 | K17: Frontal Area | L17: =L14-L16-L15 -> 1.6912872
B18: Front Tyre Mass (kg) | C18: 6.441012 | E18: Rear Wheels | F18: =C24*C21^2 -> 1.2411266
B19: Front Wheel Mass (kg) | C19: 5.9 | E19: Engine | F19: 0.17
B20: Front Tyre Radius (m) | C20: 0.36068
B21: k(rear) = 0.9r | C21: =C17*0.9 -> 0.28575
B22: k(front) = 0.9r | C22: =C20*0.9 -> 0.324612
B23: Total Mass(kg) | C23: =C13+C14+C9 -> 560.46
B24: Total Rear Wheel Mass (kg) | C24: =C16+C15 -> 15.2
B25: Total Front Wheel Mass (kg) | C25: =C19+C18 -> 12.341012
B26: Wheel Width (m) | C26: 0.254 | E26: Rolling Resistances | G26: Forces
E27: Long Grass | F27: 0.09 | G27: =$C$23*9.81*F27 -> 494.83013
E28: Short Grass | F28: 0.07 | G28: =$C$23*9.81*F28 -> 384.86788
E29: Dry Earth Road | F29: 0.03 | G29: =$C$23*9.81*F29 -> 164.94338 | H29: =SQRT(0.75*9.81*40) -> 17.155174
E30: Dry Asphalt | F30: 0.02 | G30: =$C$23*9.81*F30 -> 109.96225 | H30: =SQRT(0.75*9.81*40) -> 17.155174
E31: Wet Asphalt | F31: 0.024 | G31: =$C$23*9.81*F31 -> 131.9547 | H31: =SQRT(0.5*9.81*40) -> 14.007141
E32: Wet Earth Road | F32: 0.04 | G32: =$C$23*9.81*F32 -> 219.9245 | H32: =SQRT(0.5*9.81*40) -> 14.007141
E33: Gravel | F33: 0.02 | G33: =$C$23*9.81*F33 -> 109.96225 | H33: =SQRT(0.6*9.81*40) -> 15.344054
E34: Sand | F34: 0.2 | G34: =$C$23*9.81*F34 -> 1099.6225 | H34: =SQRT(0.6*9.81*40) -> 15.344054

Sheet RPM
A1: RPM | B1: Power | C1: Power | D1: Torque | F1: Speed 1st | G1: Force 1st | I1: Speed 2nd | J1: Force 2nd | L1: Speed 3rd | M1: Force 3rd
A2: 1000 | B2: 0.8 | C2: 0.8 | D2: =C2*7127/A2 -> 5.7016 | E2: 1000 | F2: =A2/(60*Specification!$H$3*Specification!$H$6)*2*PI()*Specification!$C$17 -> 0.69267755 | G2: =D2*Specification!$H$3*Specification!$H$6/Specification!$C$17 -> 861.97417 | H2: 1000 | I2: =A2/(60*Specification!$H$4*Specification!$H$6)*2*PI()*Specification!$C$17 -> 1.7732545 | J2: =D2*Specification!$H$4*Specification!$H$6/Specification!$C$17 -> 336.70866 | K2: 1000 | L2: =A2/(60*Specification!$H$5*Specification!$H$6)*2*PI()*Specification!$C$17 -> 3.0785669 | M2: =D2*Specification!$H$5*Specification!$H$6/Specification!$C$17 -> 193.94419 | N2: 1000
A3: =A2+100 -> 1100 | C3: 1.04 | D3: =C3*7127/A3 -> 6.7382545 | E3: =E2+100 -> 1100 | F3: =A3/(60*Specification!$H$3*Specification!$H$6)*2*PI()*Specification!$C$17 -> 0.7619453 | G3: =D3*Specification!$H$3*Specification!$H$6/Specification!$C$17 -> 1018.6968 | H3: =H2+100 -> 1100 | I3: =A3/(60*Specification!$H$4*Specification!$H$6)*2*PI()*Specification!$C$17 -> 1.95058 | J3: =D3*Specification!$H$4*Specification!$H$6/Specification!$C$17 -> 397.92842 | K3: =K2+100 -> 1100 | L3: =A3/(60*Specification!$H$5*Specification!$H$6)*2*PI()*Specification!$C$17 -> 3.3864236 | M3: =D3*Specification!$H$5*Specification!$H$6/Specification!$C$17 -> 229.20677 | N3: =N2+100 -> 1100
A4: =A3+100 -> 1200 | C4: 1.28 | D4: =C4*7127/A4 -> 7.6021333 | E4: =E3+100 -> 1200 | F4: =A4/(60*Specification!$H$3*Specification!$H$6)*2*PI()*Specification!$C$17 -> 0.83121306 | G4: =D4*Specification!$H$3*Specification!$H$6/Specification!$C$17 -> 1149.2989 | H4: =H3+100 -> 1200 | I4: =A4/(60*Specification!$H$4*Specification!$H$6)*2*PI()*Specification!$C$17 -> 2.1279054 | J4: =D4*Specification!$H$4*Specification!$H$6/Specification!$C$17 -> 448.94488 | K4: =K3+100 -> 1200 | L4: =A4/(60*Specification!$H$5*Specification!$H$6)*2*PI()*Specification!$C$17 -> 3.6942803 | M4: =D4*Specification!$H$5*Specification!$H$6/Specification!$C$17 -> 258.59225 | N4: =N3+100 -> 1200
A5: =A4+100 -> 1300 | C5: 1.52 | D5: =C5*7127/A5 -> 8.3331077 | E5: =E4+100 -> 1300 | F5: =A5/(60*Specification!$H$3*Specification!$H$6)*2*PI()*Specification!$C$17 -> 0.90048081 | G5: =D5*Specification!$H$3*Specification!$H$6/Specification!$C$17 -> 1259.8084 | H5: =H4+100 -> 1300 | I5: =A5/(60*Specification!$H$4*Specification!$H$6)*2*PI()*Specification!$C$17 -> 2.3052309 | J5: =D5*Specification!$H$4*Specification!$H$6/Specification!$C$17 -> 492.11266 | K5: =K4+100 -> 1300 | L5: =A5/(60*Specification!$H$5*Specification!$H$6)*2*PI()*Specification!$C$17 -> 4.0021369 | M5: =D5*Specification!$H$5*Specification!$H$6/Specification!$C$17 -> 283.45689 | N5: =N4+100 -> 1300
A6: =A5+100 -> 1400 | C6: 1.76 | D6: =C6*7127/A6 -> 8.9596571 | E6: =E5+100 -> 1400 | F6: =A6/(60*Specification!$H$3*Specification!$H$6)*2*PI()*Specification!$C$17 -> 0.96974857 | G6: =D6*Specification!$H$3*Specification!$H$6/Specification!$C$17 -> 1354.5308 | H6: =H5+100 -> 1400 | I6: =A6/(60*Specification!$H$4*Specification!$H$6)*2*PI()*Specification!$C$17 -> 2.4825563 | J6: =D6*Specification!$H$4*Specification!$H$6/Specification!$C$17 -> 529.11361 | K6: =K5+100 -> 1400 | L6: =A6/(60*Specification!$H$5*Specification!$H$6)*2*PI()*Specification!$C$17 -> 4.3099936 | M6: =D6*Specification!$H$5*Specification!$H$6/Specification!$C$17 -> 304.76944 | N6: =N5+100 -> 1400
A7: =A6+100 -> 1500 | B7: 2 | C7: 2 | D7: =C7*7127/A7 -> 9.5026667 | E7: =E6+100 -> 1500 | F7: =A7/(60*Specification!$H$3*Specification!$H$6)*2*PI()*Specification!$C$17 -> 1.0390163 | G7: =D7*Specification!$H$3*Specification!$H$6/Specification!$C$17 -> 1436.6236 | H7: =H6+100 -> 1500 | I7: =A7/(60*Specification!$H$4*Specification!$H$6)*2*PI()*Specification!$C$17 -> 2.6598818 | J7: =D7*Specification!$H$4*Specification!$H$6/Specification!$C$17 -> 561.1811 | K7: =K6+100 -> 1500 | L7: =A7/(60*Specification!$H$5*Specification!$H$6)*2*PI()*Specification!$C$17 -> 4.6178503 | M7: =D7*Specification!$H$5*Specification!$H$6/Specification!$C$17 -> 323.24031 | N7: =N6+100 -> 1500
A8: =A7+100 -> 1600 | C8: 2.4 | D8: =C8*7127/A8 -> 10.6905 | E8: =E7+100 -> 1600 | F8: =A8/(60*Specification!$H$3*Specification!$H$6)*2*PI()*Specification!$C$17 -> 1.1082841 | G8: =D8*Specification!$H$3*Specification!$H$6/Specification!$C$17 -> 1616.2016 | H8: =H7+100 -> 1600 | I8: =A8/(60*Specification!$H$4*Specification!$H$6)*2*PI()*Specification!$C$17 -> 2.8372072 | J8: =D8*Specification!$H$4*Specification!$H$6/Specification!$C$17 -> 631.32874 | K8: =K7+100 -> 1600 | L8: =A8/(60*Specification!$H$5*Specification!$H$6)*2*PI()*Specification!$C$17 -> 4.925707 | M8: =D8*Specification!$H$5*Specification!$H$6/Specification!$C$17 -> 363.64535 | N8: =N7+100 -> 1600
A9: =A8+100 -> 1700 | C9: 2.8 | D9: =C9*7127/A9 -> 11.738588 | E9: =E8+100 -> 1700 | F9: =A9/(60*Specification!$H$3*Specification!$H$6)*2*PI()*Specification!$C$17 -> 1.1775518 | G9: =D9*Specification!$H$3*Specification!$H$6/Specification!$C$17 -> 1774.6527 | H9: =H8+100 -> 1700 | I9: =A9/(60*Specification!$H$4*Specification!$H$6)*2*PI()*Specification!$C$17 -> 3.0145327 | J9: =D9*Specification!$H$4*Specification!$H$6/Specification!$C$17 -> 693.22371 | K9: =K8+100 -> 1700 | L9: =A9/(60*Specification!$H$5*Specification!$H$6)*2*PI()*Specification!$C$17 -> 5.2335637 | M9: =D9*Specification!$H$5*Specification!$H$6/Specification!$C$17 -> 399.29686 | N9: =N8+100 -> 1700
A10: =A9+100 -> 1800 | C10: 3.2 | D10: =C10*7127/A10 -> 12.670222 | E10: =E9+100 -> 1800 | F10: =A10/(60*Specification!$H$3*Specification!$H$6)*2*PI()*Specification!$C$17 -> 1.2468196 | G10: =D10*Specification!$H$3*Specification!$H$6/Specification!$C$17 -> 1915.4982 | H10: =H9+100 -> 1800 | I10: =A10/(60*Specification!$H$4*Specification!$H$6)*2*PI()*Specification!$C$17 -> 3.1918581 | J10: =D10*Specification!$H$4*Specification!$H$6/Specification!$C$17 -> 748.24147 | K10: =K9+100 -> 1800 | L10: =A10/(60*Specification!$H$5*Specification!$H$6)*2*PI()*Specification!$C$17 -> 5.5414204 | M10: =D10*Specification!$H$5*Specification!$H$6/Specification!$C$17 -> 430.98709 | N10: =N9+100 -> 1800
A11: =A10+100 -> 1900 | C11: 3.6 | D11: =C11*7127/A11 -> 13.503789 | E11: =E10+100 -> 1900 | F11: =A11/(60*Specification!$H$3*Specification!$H$6)*2*PI()*Specification!$C$17 -> 1.3160873 | G11: =D11*Specification!$H$3*Specification!$H$6/Specification!$C$17 -> 2041.5178 | H11: =H10+100 -> 1900 | I11: =A11/(60*Specification!$H$4*Specification!$H$6)*2*PI()*Specification!$C$17 -> 3.3691836 | J11: =D11*Specification!$H$4*Specification!$H$6/Specification!$C$17 -> 797.46788 | K11: =K10+100 -> 1900 | L11: =A11/(60*Specification!$H$5*Specification!$H$6)*2*PI()*Specification!$C$17 -> 5.8492771 | M11: =D11*Specification!$H$5*Specification!$H$6/Specification!$C$17 -> 459.3415 | N11: =N10+100 -> 1900
A12: =A11+100 -> 2000 | B12: 4 | C12: 4 | D12: =C12*7127/A12 -> 14.254 | E12: =E11+100 -> 2000 | F12: =A12/(60*Specification!$H$3*Specification!$H$6)*2*PI()*Specification!$C$17 -> 1.3853551 | G12: =D12*Specification!$H$3*Specification!$H$6/Specification!$C$17 -> 2154.9354 | H12: =H11+100 -> 2000 | I12: =A12/(60*Specification!$H$4*Specification!$H$6)*2*PI()*Specification!$C$17 -> 3.546509 | J12: =D12*Specification!$H$4*Specification!$H$6/Specification!$C$17 -> 841.77165 | K12: =K11+100 -> 2000 | L12: =A12/(60*Specification!$H$5*Specification!$H$6)*2*PI()*Specification!$C$17 -> 6.1571338 | M12: =D12*Specification!$H$5*Specification!$H$6/Specification!$C$17 -> 484.86047 | N12: =N11+100 -> 2000
A13: =A12+100 -> 2100 | C13: 4.2 | D13: =C13*7127/A13 -> 14.254 | E13: =E12+100 -> 2100 | F13: =A13/(60*Specification!$H$3*Specification!$H$6)*2*PI()*Specification!$C$17 -> 1.4546228 | G13: =D13*Specification!$H$3*Specification!$H$6/Specification!$C$17 -> 2154.9354 | H13: =H12+100 -> 2100 | I13: =A13/(60*Specification!$H$4*Specification!$H$6)*2*PI()*Specification!$C$17 -> 3.7238345 | J13: =D13*Specification!$H$4*Specification!$H$6/Specification!$C$17 -> 841.77165 | K13: =K12+100 -> 2100 | L13: =A13/(60*Specification!$H$5*Specification!$H$6)*2*PI()*Specification!$C$17 -> 6.4649904 | M13: =D13*Specification!$H$5*Specification!$H$6/Specification!$C$17 -> 484.86047 | N13: =N12+100 -> 2100
A14: =A13+100 -> 2200 | C14: 4.4 | D14: =C14*7127/A14 -> 14.254 | E14: =E13+100 -> 2200 | F14: =A14/(60*Specification!$H$3*Specification!$H$6)*2*PI()*Specification!$C$17 -> 1.5238906 | G14: =D14*Specification!$H$3*Specification!$H$6/Specification!$C$17 -> 2154.9354 | H14: =H13+100 -> 2200 | I14: =A14/(60*Specification!$H$4*Specification!$H$6)*2*PI()*Specification!$C$17 -> 3.9011599 | J14: =D14*Specification!$H$4*Specification!$H$6/Specification!$C$17 -> 841.77165 | K14: =K13+100 -> 2200 | L14: =A14/(60*Specification!$H$5*Specification!$H$6)*2*PI()*Specification!$C$17 -> 6.7728471 | M14: =D14*Specification!$H$5*Specification!$H$6/Specification!$C$17 -> 484.86047 | N14: =N13+100 -> 2200
A15: =A14+100 -> 2300 | C15: 4.6 | D15: =C15*7127/A15 -> 14.254 | E15: =E14+100 -> 2300 | F15: =A15/(60*Specification!$H$3*Specification!$H$6)*2*PI()*Specification!$C$17 -> 1.5931584 | G15: =D15*Specification!$H$3*Specification!$H$6/Specification!$C$17 -> 2154.9354 | H15: =H14+100 -> 2300 | I15: =A15/(60*Specification!$H$4*Specification!$H$6)*2*PI()*Specification!$C$17 -> 4.0784854 | J15: =D15*Specification!$H$4*Specification!$H$6/Specification!$C$17 -> 841.77165 | K15: =K14+100 -> 2300 | L15: =A15/(60*Specification!$H$5*Specification!$H$6)*2*PI()*Specification!$C$17 -> 7.0807038 | M15: =D15*Specification!$H$5*Specification!$H$6/Specification!$C$17 -> 484.86047 | N15: =N14+100 -> 2300
A16: =A15+100 -> 2400 | C16: 4.8 | D16: =C16*7127/A16 -> 14.254 | E16: =E15+100 -> 2400 | F16: =A16/(60*Specification!$H$3*Specification!$H$6)*2*PI()*Specification!$C$17 -> 1.6624261 | G16: =D16*Specification!$H$3*Specification!$H$6/Specification!$C$17 -> 2154.9354 | H16: =H15+100 -> 2400 | I16: =A16/(60*Specification!$H$4*Specification!$H$6)*2*PI()*Specification!$C$17 -> 4.2558108 | J16: =D16*Specification!$H$4*Specification!$H$6/Specification!$C$17 -> 841.77165 | K16: =K15+100 -> 2400 | L16: =A16/(60*Specification!$H$5*Specification!$H$6)*2*PI()*Specification!$C$17 -> 7.3885605 | M16: =D16*Specification!$H$5*Specification!$H$6/Specification!$C$17 -> 484.86047 | N16: =N15+100 -> 2400
A17: =A16+100 -> 2500 | B17: 5 | C17: 5 | D17: =C17*7127/A17 -> 14.254 | E17: =E16+100 -> 2500 | F17: =A17/(60*Specification!$H$3*Specification!$H$6)*2*PI()*Specification!$C$17 -> 1.7316939 | G17: =D17*Specification!$H$3*Specification!$H$6/Specification!$C$17 -> 2154.9354 | H17: =H16+100 -> 2500 | I17: =A17/(60*Specification!$H$4*Specification!$H$6)*2*PI()*Specification!$C$17 -> 4.4331363 | J17: =D17*Specification!$H$4*Specification!$H$6/Specification!$C$17 -> 841.77165 | K17: =K16+100 -> 2500 | L17: =A17/(60*Specification!$H$5*Specification!$H$6)*2*PI()*Specification!$C$17 -> 7.6964172 | M17: =D17*Specification!$H$5*Specification!$H$6/Specification!$C$17 -> 484.86047 | N17: =N16+100 -> 2500
A18: =A17+100 -> 2600 | C18: 5.4 | D18: =C18*7127/A18 -> 14.802231 | E18: =E17+100 -> 2600 | F18: =A18/(60*Specification!$H$3*Specification!$H$6)*2*PI()*Specification!$C$17 -> 1.8009616 | G18: =D18*Specification!$H$3*Specification!$H$6/Specification!$C$17 -> 2237.8176 | H18: =H17+100 -> 2600 | I18: =A18/(60*Specification!$H$4*Specification!$H$6)*2*PI()*Specification!$C$17 -> 4.6104618 | J18: =D18*Specification!$H$4*Specification!$H$6/Specification!$C$17 -> 874.14749 | K18: =K17+100 -> 2600 | L18: =A18/(60*Specification!$H$5*Specification!$H$6)*2*PI()*Specification!$C$17 -> 8.0042739 | M18: =D18*Specification!$H$5*Specification!$H$6/Specification!$C$17 -> 503.50895 | N18: =N17+100 -> 2600
A19: =A18+100 -> 2700 | C19: 5.8 | D19: =C19*7127/A19 -> 15.309852 | E19: =E18+100 -> 2700 | F19: =A19/(60*Specification!$H$3*Specification!$H$6)*2*PI()*Specification!$C$17 -> 1.8702294 | G19: =D19*Specification!$H$3*Specification!$H$6/Specification!$C$17 -> 2314.5603 | H19: =H18+100 -> 2700 | I19: =A19/(60*Specification!$H$4*Specification!$H$6)*2*PI()*Specification!$C$17 -> 4.7877872 | J19: =D19*Specification!$H$4*Specification!$H$6/Specification!$C$17 -> 904.12511 | K19: =K18+100 -> 2700 | L19: =A19/(60*Specification!$H$5*Specification!$H$6)*2*PI()*Specification!$C$17 -> 8.3121306 | M19: =D19*Specification!$H$5*Specification!$H$6/Specification!$C$17 -> 520.77606 | N19: =N18+100 -> 2700
A20: =A19+100 -> 2800 | C20: 6.2 | D20: =C20*7127/A20 -> 15.781214 | E20: =E19+100 -> 2800 | F20: =A20/(60*Specification!$H$3*Specification!$H$6)*2*PI()*Specification!$C$17 -> 1.9394971 | G20: =D20*Specification!$H$3*Specification!$H$6/Specification!$C$17 -> 2385.8214 | H20: =H19+100 -> 2800 | I20: =A20/(60*Specification!$H$4*Specification!$H$6)*2*PI()*Specification!$C$17 -> 4.9651127 | J20: =D20*Specification!$H$4*Specification!$H$6/Specification!$C$17 -> 931.96147 | K20: =K19+100 -> 2800 | L20: =A20/(60*Specification!$H$5*Specification!$H$6)*2*PI()*Specification!$C$17 -> 8.6199873 | M20: =D20*Specification!$H$5*Specification!$H$6/Specification!$C$17 -> 536.80981 | N20: =N19+100 -> 2800
A21: =A20+100 -> 2900 | C21: 6.6 | D21: =C21*7127/A21 -> 16.220069 | E21: =E20+100 -> 2900 | F21: =A21/(60*Specification!$H$3*Specification!$H$6)*2*PI()*Specification!$C$17 -> 2.0087649 | G21: =D21*Specification!$H$3*Specification!$H$6/Specification!$C$17 -> 2452.1679 | H21: =H20+100 -> 2900 | I21: =A21/(60*Specification!$H$4*Specification!$H$6)*2*PI()*Specification!$C$17 -> 5.1424381 | J21: =D21*Specification!$H$4*Specification!$H$6/Specification!$C$17 -> 957.87809 | K21: =K20+100 -> 2900 | L21: =A21/(60*Specification!$H$5*Specification!$H$6)*2*PI()*Specification!$C$17 -> 8.9278439 | M21: =D21*Specification!$H$5*Specification!$H$6/Specification!$C$17 -> 551.73778 | N21: =N20+100 -> 2900
A22: =A21+100 -> 3000 | B22: 7 | C22: 7 | D22: =C22*7127/A22 -> 16.629667 | E22: =E21+100 -> 3000 | F22: =A22/(60*Specification!$H$3*Specification!$H$6)*2*PI()*Specification!$C$17 -> 2.0780326 | G22: =D22*Specification!$H$3*Specification!$H$6/Specification!$C$17 -> 2514.0913 | H22: =H21+100 -> 3000 | I22: =A22/(60*Specification!$H$4*Specification!$H$6)*2*PI()*Specification!$C$17 -> 5.3197636 | J22: =D22*Specification!$H$4*Specification!$H$6/Specification!$C$17 -> 982.06693 | K22: =K21+100 -> 3000 | L22: =A22/(60*Specification!$H$5*Specification!$H$6)*2*PI()*Specification!$C$17 -> 9.2357006 | M22: =D22*Specification!$H$5*Specification!$H$6/Specification!$C$17 -> 565.67055 | N22: =N21+100 -> 3000
A23: =A22+100 -> 3100 | C23: 7.5 | D23: =C23*7127/A23 -> 17.242742 | E23: =E22+100 -> 3100 | F23: =A23/(60*Specification!$H$3*Specification!$H$6)*2*PI()*Specification!$C$17 -> 2.1473004 | G23: =D23*Specification!$H$3*Specification!$H$6/Specification!$C$17 -> 2606.7767 | H23: =H22+100 -> 3100 | I23: =A23/(60*Specification!$H$4*Specification!$H$6)*2*PI()*Specification!$C$17 -> 5.497089 | J23: =D23*Specification!$H$4*Specification!$H$6/Specification!$C$17 -> 1018.2722 | K23: =K22+100 -> 3100 | L23: =A23/(60*Specification!$H$5*Specification!$H$6)*2*PI()*Specification!$C$17 -> 9.5435573 | M23: =D23*Specification!$H$5*Specification!$H$6/Specification!$C$17 -> 586.52477 | N23: =N22+100 -> 3100
A24: =A23+100 -> 3200 | C24: 8 | D24: =C24*7127/A24 -> 17.8175 | E24: =E23+100 -> 3200 | F24: =A24/(60*Specification!$H$3*Specification!$H$6)*2*PI()*Specification!$C$17 -> 2.2165682 | G24: =D24*Specification!$H$3*Specification!$H$6/Specification!$C$17 -> 2693.6693 | H24: =H23+100 -> 3200 | I24: =A24/(60*Specification!$H$4*Specification!$H$6)*2*PI()*Specification!$C$17 -> 5.6744145 | J24: =D24*Specification!$H$4*Specification!$H$6/Specification!$C$17 -> 1052.2146 | K24: =K23+100 -> 3200 | L24: =A24/(60*Specification!$H$5*Specification!$H$6)*2*PI()*Specification!$C$17 -> 9.851414 | M24: =D24*Specification!$H$5*Specification!$H$6/Specification!$C$17 -> 606.07559 | N24: =N23+100 -> 3200
A25: =A24+100 -> 3300 | C25: 8.5 | D25: =C25*7127/A25 -> 18.357424 | E25: =E24+100 -> 3300 | F25: =A25/(60*Specification!$H$3*Specification!$H$6)*2*PI()*Specification!$C$17 -> 2.2858359 | G25: =D25*Specification!$H$3*Specification!$H$6/Specification!$C$17 -> 2775.2956 | H25: =H24+100 -> 3300 | I25: =A25/(60*Specification!$H$4*Specification!$H$6)*2*PI()*Specification!$C$17 -> 5.8517399 | J25: =D25*Specification!$H$4*Specification!$H$6/Specification!$C$17 -> 1084.0999 | K25: =K24+100 -> 3300 | L25: =A25/(60*Specification!$H$5*Specification!$H$6)*2*PI()*Specification!$C$17 -> 10.159271 | M25: =D25*Specification!$H$5*Specification!$H$6/Specification!$C$17 -> 624.44152 | N25: =N24+100 -> 3300
A26: =A25+100 -> 3400 | C26: 9 | D26: =C26*7127/A26 -> 18.865588 | E26: =E25+100 -> 3400 | F26: =A26/(60*Specification!$H$3*Specification!$H$6)*2*PI()*Specification!$C$17 -> 2.3551037 | G26: =D26*Specification!$H$3*Specification!$H$6/Specification!$C$17 -> 2852.1204 | H26: =H25+100 -> 3400 | I26: =A26/(60*Specification!$H$4*Specification!$H$6)*2*PI()*Specification!$C$17 -> 6.0290654 | J26: =D26*Specification!$H$4*Specification!$H$6/Specification!$C$17 -> 1114.1095 | K26: =K25+100 -> 3400 | L26: =A26/(60*Specification!$H$5*Specification!$H$6)*2*PI()*Specification!$C$17 -> 10.467127 | M26: =D26*Specification!$H$5*Specification!$H$6/Specification!$C$17 -> 641.7271 | N26: =N25+100 -> 3400
A27: =A26+100 -> 3500 | B27: 9.5 | C27: 9.5 | D27: =C27*7127/A27 -> 19.344714 | E27: =E26+100 -> 3500 | F27: =A27/(60*Specification!$H$3*Specification!$H$6)*2*PI()*Specification!$C$17 -> 2.4243714 | G27: =D27*Specification!$H$3*Specification!$H$6/Specification!$C$17 -> 2924.5552 | H27: =H26+100 -> 3500 | I27: =A27/(60*Specification!$H$4*Specification!$H$6)*2*PI()*Specification!$C$17 -> 6.2063908 | J27: =D27*Specification!$H$4*Specification!$H$6/Specification!$C$17 -> 1142.4044 | K27: =K26+100 -> 3500 | L27: =A27/(60*Specification!$H$5*Specification!$H$6)*2*PI()*Specification!$C$17 -> 10.774984 | M27: =D27*Specification!$H$5*Specification!$H$6/Specification!$C$17 -> 658.02493 | N27: =N26+100 -> 3500
A28: =A27+100 -> 3600 | C28: 9.7 | D28: =C28*7127/A28 -> 19.203306 | E28: =E27+100 -> 3600 | F28: =A28/(60*Specification!$H$3*Specification!$H$6)*2*PI()*Specification!$C$17 -> 2.4936392 | G28: =D28*Specification!$H$3*Specification!$H$6/Specification!$C$17 -> 2903.1769 | H28: =H27+100 -> 3600 | I28: =A28/(60*Specification!$H$4*Specification!$H$6)*2*PI()*Specification!$C$17 -> 6.3837163 | J28: =D28*Specification!$H$4*Specification!$H$6/Specification!$C$17 -> 1134.0535 | K28: =K27+100 -> 3600 | L28: =A28/(60*Specification!$H$5*Specification!$H$6)*2*PI()*Specification!$C$17 -> 11.082841 | M28: =D28*Specification!$H$5*Specification!$H$6/Specification!$C$17 -> 653.2148 | N28: =N27+100 -> 3600
A29: =A28+100 -> 3700 | C29: 9.9 | D29: =C29*7127/A29 -> 19.069541 | E29: =E28+100 -> 3700 | F29: =A29/(60*Specification!$H$3*Specification!$H$6)*2*PI()*Specification!$C$17 -> 2.5629069 | G29: =D29*Specification!$H$3*Specification!$H$6/Specification!$C$17 -> 2882.9542 | H29: =H28+100 -> 3700 | I29: =A29/(60*Specification!$H$4*Specification!$H$6)*2*PI()*Specification!$C$17 -> 6.5610417 | J29: =D29*Specification!$H$4*Specification!$H$6/Specification!$C$17 -> 1126.154 | K29: =K28+100 -> 3700 | L29: =A29/(60*Specification!$H$5*Specification!$H$6)*2*PI()*Specification!$C$17 -> 11.390697 | M29: =D29*Specification!$H$5*Specification!$H$6/Specification!$C$17 -> 648.66469 | N29: =N28+100 -> 3700
A30: =A29+100 -> 3800 | C30: 10.1 | D30: =C30*7127/A30 -> 18.942816 | E30: =E29+100 -> 3800 | F30: =A30/(60*Specification!$H$3*Specification!$H$6)*2*PI()*Specification!$C$17 -> 2.6321747 | G30: =D30*Specification!$H$3*Specification!$H$6/Specification!$C$17 -> 2863.7958 | H30: =H29+100 -> 3800 | I30: =A30/(60*Specification!$H$4*Specification!$H$6)*2*PI()*Specification!$C$17 -> 6.7383672 | J30: =D30*Specification!$H$4*Specification!$H$6/Specification!$C$17 -> 1118.6702 | K30: =K29+100 -> 3800 | L30: =A30/(60*Specification!$H$5*Specification!$H$6)*2*PI()*Specification!$C$17 -> 11.698554 | M30: =D30*Specification!$H$5*Specification!$H$6/Specification!$C$17 -> 644.35405 | N30: =N29+100 -> 3800
A31: =A30+100 -> 3900 | C31: 10.3 | D31: =C31*7127/A31 -> 18.82259 | E31: =E30+100 -> 3900 | F31: =A31/(60*Specification!$H$3*Specification!$H$6)*2*PI()*Specification!$C$17 -> 2.7014424 | G31: =D31*Specification!$H$3*Specification!$H$6/Specification!$C$17 -> 2845.6199 | H31: =H30+100 -> 3900 | I31: =A31/(60*Specification!$H$4*Specification!$H$6)*2*PI()*Specification!$C$17 -> 6.9156926 | J31: =D31*Specification!$H$4*Specification!$H$6/Specification!$C$17 -> 1111.5703 | K31: =K30+100 -> 3900 | L31: =A31/(60*Specification!$H$5*Specification!$H$6)*2*PI()*Specification!$C$17 -> 12.006411 | M31: =D31*Specification!$H$5*Specification!$H$6/Specification!$C$17 -> 640.26447 | N31: =N30+100 -> 3900
A32: =A31+100 -> 4000 | B32: 10.5 | C32: 10.5 | D32: =C32*7127/A32 -> 18.708375 | E32: =E31+100 -> 4000 | F32: =A32/(60*Specification!$H$3*Specification!$H$6)*2*PI()*Specification!$C$17 -> 2.7707102 | G32: =D32*Specification!$H$3*Specification!$H$6/Specification!$C$17 -> 2828.3528 | H32: =H31+100 -> 4000 | I32: =A32/(60*Specification!$H$4*Specification!$H$6)*2*PI()*Specification!$C$17 -> 7.0930181 | J32: =D32*Specification!$H$4*Specification!$H$6/Specification!$C$17 -> 1104.8253 | K32: =K31+100 -> 4000 | L32: =A32/(60*Specification!$H$5*Specification!$H$6)*2*PI()*Specification!$C$17 -> 12.314268 | M32: =D32*Specification!$H$5*Specification!$H$6/Specification!$C$17 -> 636.37937 | N32: =N31+100 -> 4000
A33: =A32+100 -> 4100 | C33: 10.8 | D33: =C33*7127/A33 -> 18.773561 | E33: =E32+100 -> 4100 | F33: =A33/(60*Specification!$H$3*Specification!$H$6)*2*PI()*Specification!$C$17 -> 2.8399779 | G33: =D33*Specification!$H$3*Specification!$H$6/Specification!$C$17 -> 2838.2076 | H33: =H32+100 -> 4100 | I33: =A33/(60*Specification!$H$4*Specification!$H$6)*2*PI()*Specification!$C$17 -> 7.2703435 | J33: =D33*Specification!$H$4*Specification!$H$6/Specification!$C$17 -> 1108.6749 | K33: =K32+100 -> 4100 | L33: =A33/(60*Specification!$H$5*Specification!$H$6)*2*PI()*Specification!$C$17 -> 12.622124 | M33: =D33*Specification!$H$5*Specification!$H$6/Specification!$C$17 -> 638.59672 | N33: =N32+100 -> 4100
A34: =A33+100 -> 4200 | C34: 11.1 | D34: =C34*7127/A34 -> 18.835643 | E34: =E33+100 -> 4200 | F34: =A34/(60*Specification!$H$3*Specification!$H$6)*2*PI()*Specification!$C$17 -> 2.9092457 | G34: =D34*Specification!$H$3*Specification!$H$6/Specification!$C$17 -> 2847.5933 | H34: =H33+100 -> 4200 | I34: =A34/(60*Specification!$H$4*Specification!$H$6)*2*PI()*Specification!$C$17 -> 7.447669 | J34: =D34*Specification!$H$4*Specification!$H$6/Specification!$C$17 -> 1112.3411 | K34: =K33+100 -> 4200 | L34: =A34/(60*Specification!$H$5*Specification!$H$6)*2*PI()*Specification!$C$17 -> 12.929981 | M34: =D34*Specification!$H$5*Specification!$H$6/Specification!$C$17 -> 640.70848 | N34: =N33+100 -> 4200
A35: =A34+100 -> 4300 | C35: 11.4 | D35: =C35*7127/A35 -> 18.894837 | E35: =E34+100 -> 4300 | F35: =A35/(60*Specification!$H$3*Specification!$H$6)*2*PI()*Specification!$C$17 -> 2.9785135 | G35: =D35*Specification!$H$3*Specification!$H$6/Specification!$C$17 -> 2856.5423 | H35: =H34+100 -> 4300 | I35: =A35/(60*Specification!$H$4*Specification!$H$6)*2*PI()*Specification!$C$17 -> 7.6249944 | J35: =D35*Specification!$H$4*Specification!$H$6/Specification!$C$17 -> 1115.8368 | K35: =K34+100 -> 4300 | L35: =A35/(60*Specification!$H$5*Specification!$H$6)*2*PI()*Specification!$C$17 -> 13.237838 | M35: =D35*Specification!$H$5*Specification!$H$6/Specification!$C$17 -> 642.72202 | N35: =N34+100 -> 4300
A36: =A35+100 -> 4400 | C36: 11.7 | D36: =C36*7127/A36 -> 18.951341 | E36: =E35+100 -> 4400 | F36: =A36/(60*Specification!$H$3*Specification!$H$6)*2*PI()*Specification!$C$17 -> 3.0477812 | G36: =D36*Specification!$H$3*Specification!$H$6/Specification!$C$17 -> 2865.0846 | H36: =H35+100 -> 4400 | I36: =A36/(60*Specification!$H$4*Specification!$H$6)*2*PI()*Specification!$C$17 -> 7.8023199 | J36: =D36*Specification!$H$4*Specification!$H$6/Specification!$C$17 -> 1119.1737 | K36: =K35+100 -> 4400 | L36: =A36/(60*Specification!$H$5*Specification!$H$6)*2*PI()*Specification!$C$17 -> 13.545694 | M36: =D36*Specification!$H$5*Specification!$H$6/Specification!$C$17 -> 644.64404 | N36: =N35+100 -> 4400
A37: =A36+100 -> 4500 | B37: 12 | C37: 12 | D37: =C37*7127/A37 -> 19.005333 | E37: =E36+100 -> 4500 | F37: =A37/(60*Specification!$H$3*Specification!$H$6)*2*PI()*Specification!$C$17 -> 3.117049 | G37: =D37*Specification!$H$3*Specification!$H$6/Specification!$C$17 -> 2873.2472 | H37: =H36+100 -> 4500 | I37: =A37/(60*Specification!$H$4*Specification!$H$6)*2*PI()*Specification!$C$17 -> 7.9796453 | J37: =D37*Specification!$H$4*Specification!$H$6/Specification!$C$17 -> 1122.3622 | K37: =K36+100 -> 4500 | L37: =A37/(60*Specification!$H$5*Specification!$H$6)*2*PI()*Specification!$C$17 -> 13.853551 | M37: =D37*Specification!$H$5*Specification!$H$6/Specification!$C$17 -> 646.48063 | N37: =N36+100 -> 4500
A38: =A37+100 -> 4600 | C38: 12.4 | D38: =C38*7127/A38 -> 19.211913 | E38: =E37+100 -> 4600 | F38: =A38/(60*Specification!$H$3*Specification!$H$6)*2*PI()*Specification!$C$17 -> 3.1863167 | G38: =D38*Specification!$H$3*Specification!$H$6/Specification!$C$17 -> 2904.4782 | H38: =H37+100 -> 4600 | I38: =A38/(60*Specification!$H$4*Specification!$H$6)*2*PI()*Specification!$C$17 -> 8.1569708 | J38: =D38*Specification!$H$4*Specification!$H$6/Specification!$C$17 -> 1134.5618 | K38: =K37+100 -> 4600 | L38: =A38/(60*Specification!$H$5*Specification!$H$6)*2*PI()*Specification!$C$17 -> 14.161408 | M38: =D38*Specification!$H$5*Specification!$H$6/Specification!$C$17 -> 653.50759 | N38: =N37+100 -> 4600
A39: =A38+100 -> 4700 | C39: 12.8 | D39: =C39*7127/A39 -> 19.409702 | E39: =E38+100 -> 4700 | F39: =A39/(60*Specification!$H$3*Specification!$H$6)*2*PI()*Specification!$C$17 -> 3.2555845 | G39: =D39*Specification!$H$3*Specification!$H$6/Specification!$C$17 -> 2934.3802 | H39: =H38+100 -> 4700 | I39: =A39/(60*Specification!$H$4*Specification!$H$6)*2*PI()*Specification!$C$17 -> 8.3342962 | J39: =D39*Specification!$H$4*Specification!$H$6/Specification!$C$17 -> 1146.2423 | K39: =K38+100 -> 4700 | L39: =A39/(60*Specification!$H$5*Specification!$H$6)*2*PI()*Specification!$C$17 -> 14.469264 | M39: =D39*Specification!$H$5*Specification!$H$6/Specification!$C$17 -> 660.23554 | N39: =N38+100 -> 4700
A40: =A39+100 -> 4800 | C40: 13.2 | D40: =C40*7127/A40 -> 19.59925 | E40: =E39+100 -> 4800 | F40: =A40/(60*Specification!$H$3*Specification!$H$6)*2*PI()*Specification!$C$17 -> 3.3248522 | G40: =D40*Specification!$H$3*Specification!$H$6/Specification!$C$17 -> 2963.0362 | H40: =H39+100 -> 4800 | I40: =A40/(60*Specification!$H$4*Specification!$H$6)*2*PI()*Specification!$C$17 -> 8.5116217 | J40: =D40*Specification!$H$4*Specification!$H$6/Specification!$C$17 -> 1157.436 | K40: =K39+100 -> 4800 | L40: =A40/(60*Specification!$H$5*Specification!$H$6)*2*PI()*Specification!$C$17 -> 14.777121 | M40: =D40*Specification!$H$5*Specification!$H$6/Specification!$C$17 -> 666.68315 | N40: =N39+100 -> 4800
A41: =A40+100 -> 4900 | C41: 13.6 | D41: =C41*7127/A41 -> 19.781061 | E41: =E40+100 -> 4900 | F41: =A41/(60*Specification!$H$3*Specification!$H$6)*2*PI()*Specification!$C$17 -> 3.39412 | G41: =D41*Specification!$H$3*Specification!$H$6/Specification!$C$17 -> 2990.5226 | H41: =H40+100 -> 4900 | I41: =A41/(60*Specification!$H$4*Specification!$H$6)*2*PI()*Specification!$C$17 -> 8.6889471 | J41: =D41*Specification!$H$4*Specification!$H$6/Specification!$C$17 -> 1168.1729 | K41: =K40+100 -> 4900 | L41: =A41/(60*Specification!$H$5*Specification!$H$6)*2*PI()*Specification!$C$17 -> 15.084978 | M41: =D41*Specification!$H$5*Specification!$H$6/Specification!$C$17 -> 672.86759 | N41: =N40+100 -> 4900
A42: =A41+100 -> 5000 | B42: 14 | C42: 14 | D42: =C42*7127/A42 -> 19.9556 | E42: =E41+100 -> 5000 | F42: =A42/(60*Specification!$H$3*Specification!$H$6)*2*PI()*Specification!$C$17 -> 3.4633877 | G42: =D42*Specification!$H$3*Specification!$H$6/Specification!$C$17 -> 3016.9096 | H42: =H41+100 -> 5000 | I42: =A42/(60*Specification!$H$4*Specification!$H$6)*2*PI()*Specification!$C$17 -> 8.8662726 | J42: =D42*Specification!$H$4*Specification!$H$6/Specification!$C$17 -> 1178.4803 | K42: =K41+100 -> 5000 | L42: =A42/(60*Specification!$H$5*Specification!$H$6)*2*PI()*Specification!$C$17 -> 15.392834 | M42: =D42*Specification!$H$5*Specification!$H$6/Specification!$C$17 -> 678.80466 | N42: =N41+100 -> 5000
A43: =A42+100 -> 5100 | C43: 14.596 | D43: =C43*7127/A43 -> 20.397195 | E43: =E42+100 -> 5100 | F43: =A43/(60*Specification!$H$3*Specification!$H$6)*2*PI()*Specification!$C$17 -> 3.5326555 | G43: =D43*Specification!$H$3*Specification!$H$6/Specification!$C$17 -> 3083.6704 | H43: =H42+100 -> 5100 | I43: =A43/(60*Specification!$H$4*Specification!$H$6)*2*PI()*Specification!$C$17 -> 9.0435981 | J43: =D43*Specification!$H$4*Specification!$H$6/Specification!$C$17 -> 1204.5587 | K43: =K42+100 -> 5100 | L43: =A43/(60*Specification!$H$5*Specification!$H$6)*2*PI()*Specification!$C$17 -> 15.700691 | M43: =D43*Specification!$H$5*Specification!$H$6/Specification!$C$17 -> 693.82583 | N43: =N42+100 -> 5100
A44: =A43+100 -> 5200 | C44: 15.192 | D44: =C44*7127/A44 -> 20.821805 | E44: =E43+100 -> 5200 | F44: =A44/(60*Specification!$H$3*Specification!$H$6)*2*PI()*Specification!$C$17 -> 3.6019232 | G44: =D44*Specification!$H$3*Specification!$H$6/Specification!$C$17 -> 3147.8634 | H44: =H43+100 -> 5200 | I44: =A44/(60*Specification!$H$4*Specification!$H$6)*2*PI()*Specification!$C$17 -> 9.2209235 | J44: =D44*Specification!$H$4*Specification!$H$6/Specification!$C$17 -> 1229.6341 | K44: =K43+100 -> 5200 | L44: =A44/(60*Specification!$H$5*Specification!$H$6)*2*PI()*Specification!$C$17 -> 16.008548 | M44: =D44*Specification!$H$5*Specification!$H$6/Specification!$C$17 -> 708.26926 | N44: =N43+100 -> 5200
A45: =A44+100 -> 5300 | C45: 15.788 | D45: =C45*7127/A45 -> 21.230392 | E45: =E44+100 -> 5300 | F45: =A45/(60*Specification!$H$3*Specification!$H$6)*2*PI()*Specification!$C$17 -> 3.671191 | G45: =D45*Specification!$H$3*Specification!$H$6/Specification!$C$17 -> 3209.634 | H45: =H44+100 -> 5300 | I45: =A45/(60*Specification!$H$4*Specification!$H$6)*2*PI()*Specification!$C$17 -> 9.398249 | J45: =D45*Specification!$H$4*Specification!$H$6/Specification!$C$17 -> 1253.7633 | K45: =K44+100 -> 5300 | L45: =A45/(60*Specification!$H$5*Specification!$H$6)*2*PI()*Specification!$C$17 -> 16.316404 | M45: =D45*Specification!$H$5*Specification!$H$6/Specification!$C$17 -> 722.16765 | N45: =N44+100 -> 5300
A46: =A45+100 -> 5400 | C46: 16.384 | D46: =C46*7127/A46 -> 21.623846 | E46: =E45+100 -> 5400 | F46: =A46/(60*Specification!$H$3*Specification!$H$6)*2*PI()*Specification!$C$17 -> 3.7404588 | G46: =D46*Specification!$H$3*Specification!$H$6/Specification!$C$17 -> 3269.1169 | H46: =H45+100 -> 5400 | I46: =A46/(60*Specification!$H$4*Specification!$H$6)*2*PI()*Specification!$C$17 -> 9.5755744 | J46: =D46*Specification!$H$4*Specification!$H$6/Specification!$C$17 -> 1276.9988 | K46: =K45+100 -> 5400 | L46: =A46/(60*Specification!$H$5*Specification!$H$6)*2*PI()*Specification!$C$17 -> 16.624261 | M46: =D46*Specification!$H$5*Specification!$H$6/Specification!$C$17 -> 735.55129 | N46: =N45+100 -> 5400
A47: =A46+100 -> 5500 | B47: 16.98 | C47: 16.98 | D47: =C47*7127/A47 -> 22.002993 | E47: =E46+100 -> 5500 | F47: =A47/(60*Specification!$H$3*Specification!$H$6)*2*PI()*Specification!$C$17 -> 3.8097265 | G47: =D47*Specification!$H$3*Specification!$H$6/Specification!$C$17 -> 3326.4367 | H47: =H46+100 -> 5500 | I47: =A47/(60*Specification!$H$4*Specification!$H$6)*2*PI()*Specification!$C$17 -> 9.7528999 | J47: =D47*Specification!$H$4*Specification!$H$6/Specification!$C$17 -> 1299.3893 | K47: =K46+100 -> 5500 | L47: =A47/(60*Specification!$H$5*Specification!$H$6)*2*PI()*Specification!$C$17 -> 16.932118 | M47: =D47*Specification!$H$5*Specification!$H$6/Specification!$C$17 -> 748.44826 | N47: =N46+100 -> 5500
A48: =A47+100 -> 5600 | C48: 16.984 | D48: =C48*7127/A48 -> 21.615173 | E48: =E47+100 -> 5600 | F48: =A48/(60*Specification!$H$3*Specification!$H$6)*2*PI()*Specification!$C$17 -> 3.8789943 | G48: =D48*Specification!$H$3*Specification!$H$6/Specification!$C$17 -> 3267.8057 | H48: =H47+100 -> 5600 | I48: =A48/(60*Specification!$H$4*Specification!$H$6)*2*PI()*Specification!$C$17 -> 9.9302253 | J48: =D48*Specification!$H$4*Specification!$H$6/Specification!$C$17 -> 1276.4866 | K48: =K47+100 -> 5600 | L48: =A48/(60*Specification!$H$5*Specification!$H$6)*2*PI()*Specification!$C$17 -> 17.239975 | M48: =D48*Specification!$H$5*Specification!$H$6/Specification!$C$17 -> 735.25627 | N48: =N47+100 -> 5600
A49: =A48+100 -> 5700 | C49: 16.988 | D49: =C49*7127/A49 -> 21.240961 | E49: =E48+100 -> 5700 | F49: =A49/(60*Specification!$H$3*Specification!$H$6)*2*PI()*Specification!$C$17 -> 3.948262 | G49: =D49*Specification!$H$3*Specification!$H$6/Specification!$C$17 -> 3211.2319 | H49: =H48+100 -> 5700 | I49: =A49/(60*Specification!$H$4*Specification!$H$6)*2*PI()*Specification!$C$17 -> 10.107551 | J49: =D49*Specification!$H$4*Specification!$H$6/Specification!$C$17 -> 1254.3874 | K49: =K48+100 -> 5700 | L49: =A49/(60*Specification!$H$5*Specification!$H$6)*2*PI()*Specification!$C$17 -> 17.547831 | M49: =D49*Specification!$H$5*Specification!$H$6/Specification!$C$17 -> 722.52717 | N49: =N48+100 -> 5700
A50: =A49+100 -> 5800 | C50: 16.992 | D50: =C50*7127/A50 -> 20.879652 | E50: =E49+100 -> 5800 | F50: =A50/(60*Specification!$H$3*Specification!$H$6)*2*PI()*Specification!$C$17 -> 4.0175298 | G50: =D50*Specification!$H$3*Specification!$H$6/Specification!$C$17 -> 3156.6089 | H50: =H49+100 -> 5800 | I50: =A50/(60*Specification!$H$4*Specification!$H$6)*2*PI()*Specification!$C$17 -> 10.284876 | J50: =D50*Specification!$H$4*Specification!$H$6/Specification!$C$17 -> 1233.0503 | K50: =K49+100 -> 5800 | L50: =A50/(60*Specification!$H$5*Specification!$H$6)*2*PI()*Specification!$C$17 -> 17.855688 | M50: =D50*Specification!$H$5*Specification!$H$6/Specification!$C$17 -> 710.237 | N50: =N49+100 -> 5800
A51: =A50+100 -> 5900 | C51: 16.996 | D51: =C51*7127/A51 -> 20.530592 | E51: =E50+100 -> 5900 | F51: =A51/(60*Specification!$H$3*Specification!$H$6)*2*PI()*Specification!$C$17 -> 4.0867975 | G51: =D51*Specification!$H$3*Specification!$H$6/Specification!$C$17 -> 3103.8375 | H51: =H50+100 -> 5900 | I51: =A51/(60*Specification!$H$4*Specification!$H$6)*2*PI()*Specification!$C$17 -> 10.462202 | J51: =D51*Specification!$H$4*Specification!$H$6/Specification!$C$17 -> 1212.4365 | K51: =K50+100 -> 5900 | L51: =A51/(60*Specification!$H$5*Specification!$H$6)*2*PI()*Specification!$C$17 -> 18.163545 | M51: =D51*Specification!$H$5*Specification!$H$6/Specification!$C$17 -> 698.36344 | N51: =N50+100 -> 5900
A52: =A51+100 -> 6000 | C52: 17 | D52: =C52*7127/A52 -> 20.193167 | E52: =E51+100 -> 6000 | F52: =A52/(60*Specification!$H$3*Specification!$H$6)*2*PI()*Specification!$C$17 -> 4.1560653 | G52: =D52*Specification!$H$3*Specification!$H$6/Specification!$C$17 -> 3052.8252 | H52: =H51+100 -> 6000 | I52: =A52/(60*Specification!$H$4*Specification!$H$6)*2*PI()*Specification!$C$17 -> 10.639527 | J52: =D52*Specification!$H$4*Specification!$H$6/Specification!$C$17 -> 1192.5098 | K52: =K51+100 -> 6000 | L52: =A52/(60*Specification!$H$5*Specification!$H$6)*2*PI()*Specification!$C$17 -> 18.471401 | M52: =D52*Specification!$H$5*Specification!$H$6/Specification!$C$17 -> 686.88567 | N52: =N51+100 -> 6000
A53: =A52+100 -> 6100 | C53: 17.2 | D53: =C53*7127/A53 -> 20.095803 | E53: =E52+100 -> 6100 | F53: =A53/(60*Specification!$H$3*Specification!$H$6)*2*PI()*Specification!$C$17 -> 4.225333 | G53: =D53*Specification!$H$3*Specification!$H$6/Specification!$C$17 -> 3038.1057 | H53: =H52+100 -> 6100 | I53: =A53/(60*Specification!$H$4*Specification!$H$6)*2*PI()*Specification!$C$17 -> 10.816853 | J53: =D53*Specification!$H$4*Specification!$H$6/Specification!$C$17 -> 1186.76 | K53: =K52+100 -> 6100 | L53: =A53/(60*Specification!$H$5*Specification!$H$6)*2*PI()*Specification!$C$17 -> 18.779258 | M53: =D53*Specification!$H$5*Specification!$H$6/Specification!$C$17 -> 683.57378 | N53: =N52+100 -> 6100
A54: =A53+100 -> 6200 | C54: 17.4 | D54: =C54*7127/A54 -> 20.001581 | E54: =E53+100 -> 6200 | F54: =A54/(60*Specification!$H$3*Specification!$H$6)*2*PI()*Specification!$C$17 -> 4.2946008 | G54: =D54*Specification!$H$3*Specification!$H$6/Specification!$C$17 -> 3023.861 | H54: =H53+100 -> 6200 | I54: =A54/(60*Specification!$H$4*Specification!$H$6)*2*PI()*Specification!$C$17 -> 10.994178 | J54: =D54*Specification!$H$4*Specification!$H$6/Specification!$C$17 -> 1181.1957 | K54: =K53+100 -> 6200 | L54: =A54/(60*Specification!$H$5*Specification!$H$6)*2*PI()*Specification!$C$17 -> 19.087115 | M54: =D54*Specification!$H$5*Specification!$H$6/Specification!$C$17 -> 680.36873 | N54: =N53+100 -> 6200
A55: =A54+100 -> 6300 | C55: 17.6 | D55: =C55*7127/A55 -> 19.910349 | E55: =E54+100 -> 6300 | F55: =A55/(60*Specification!$H$3*Specification!$H$6)*2*PI()*Specification!$C$17 -> 4.3638685 | G55: =D55*Specification!$H$3*Specification!$H$6/Specification!$C$17 -> 3010.0685 | H55: =H54+100 -> 6300 | I55: =A55/(60*Specification!$H$4*Specification!$H$6)*2*PI()*Specification!$C$17 -> 11.171503 | J55: =D55*Specification!$H$4*Specification!$H$6/Specification!$C$17 -> 1175.808 | K55: =K54+100 -> 6300 | L55: =A55/(60*Specification!$H$5*Specification!$H$6)*2*PI()*Specification!$C$17 -> 19.394971 | M55: =D55*Specification!$H$5*Specification!$H$6/Specification!$C$17 -> 677.26542 | N55: =N54+100 -> 6300
A56: =A55+100 -> 6400 | B56: 17.8 | C56: 17.8 | D56: =C56*7127/A56 -> 19.821969 | E56: =E55+100 -> 6400 | F56: =A56/(60*Specification!$H$3*Specification!$H$6)*2*PI()*Specification!$C$17 -> 4.4331363 | G56: =D56*Specification!$H$3*Specification!$H$6/Specification!$C$17 -> 2996.7071 | H56: =H55+100 -> 6400 | I56: =A56/(60*Specification!$H$4*Specification!$H$6)*2*PI()*Specification!$C$17 -> 11.348829 | J56: =D56*Specification!$H$4*Specification!$H$6/Specification!$C$17 -> 1170.5887 | K56: =K55+100 -> 6400 | L56: =A56/(60*Specification!$H$5*Specification!$H$6)*2*PI()*Specification!$C$17 -> 19.702828 | M56: =D56*Specification!$H$5*Specification!$H$6/Specification!$C$17 -> 674.25909 | N56: =N55+100 -> 6400
A57: =A56+100 -> 6500 | B57: 18 | C57: 18 | D57: =C57*7127/A57 -> 19.736308 | E57: =E56+100 -> 6500 | F57: =A57/(60*Specification!$H$3*Specification!$H$6)*2*PI()*Specification!$C$17 -> 4.5024041 | G57: =D57*Specification!$H$3*Specification!$H$6/Specification!$C$17 -> 2983.7568 | H57: =H56+100 -> 6500 | I57: =A57/(60*Specification!$H$4*Specification!$H$6)*2*PI()*Specification!$C$17 -> 11.526154 | J57: =D57*Specification!$H$4*Specification!$H$6/Specification!$C$17 -> 1165.53 | K57: =K56+100 -> 6500 | L57: =A57/(60*Specification!$H$5*Specification!$H$6)*2*PI()*Specification!$C$17 -> 20.010685 | M57: =D57*Specification!$H$5*Specification!$H$6/Specification!$C$17 -> 671.34527 | N57: =N56+100 -> 6500
A58: =A57+100 -> 6600 | C58: 17 | D58: =C58*7127/A58 -> 18.357424 | E58: =E57+100 -> 6600 | F58: =A58/(60*Specification!$H$3*Specification!$H$6)*2*PI()*Specification!$C$17 -> 4.5716718 | G58: =D58*Specification!$H$3*Specification!$H$6/Specification!$C$17 -> 2775.2956 | H58: =H57+100 -> 6600 | I58: =A58/(60*Specification!$H$4*Specification!$H$6)*2*PI()*Specification!$C$17 -> 11.70348 | J58: =D58*Specification!$H$4*Specification!$H$6/Specification!$C$17 -> 1084.0999 | K58: =K57+100 -> 6600 | L58: =A58/(60*Specification!$H$5*Specification!$H$6)*2*PI()*Specification!$C$17 -> 20.318541 | M58: =D58*Specification!$H$5*Specification!$H$6/Specification!$C$17 -> 624.44152 | N58: =N57+100 -> 6600
A59: =A58+100 -> 6700 | C59: 16 | D59: =C59*7127/A59 -> 17.019701 | E59: =E58+100 -> 6700 | F59: =A59/(60*Specification!$H$3*Specification!$H$6)*2*PI()*Specification!$C$17 -> 4.6409396 | G59: =D59*Specification!$H$3*Specification!$H$6/Specification!$C$17 -> 2573.0572 | H59: =H58+100 -> 6700 | I59: =A59/(60*Specification!$H$4*Specification!$H$6)*2*PI()*Specification!$C$17 -> 11.880805 | J59: =D59*Specification!$H$4*Specification!$H$6/Specification!$C$17 -> 1005.1005 | K59: =K58+100 -> 6700 | L59: =A59/(60*Specification!$H$5*Specification!$H$6)*2*PI()*Specification!$C$17 -> 20.626398 | M59: =D59*Specification!$H$5*Specification!$H$6/Specification!$C$17 -> 578.93788 | N59: =N58+100 -> 6700
A60: =A59+100 -> 6800 | C60: 15 | D60: =C60*7127/A60 -> 15.721324 | E60: =E59+100 -> 6800 | F60: =A60/(60*Specification!$H$3*Specification!$H$6)*2*PI()*Specification!$C$17 -> 4.7102073 | G60: =D60*Specification!$H$3*Specification!$H$6/Specification!$C$17 -> 2376.767 | H60: =H59+100 -> 6800 | I60: =A60/(60*Specification!$H$4*Specification!$H$6)*2*PI()*Specification!$C$17 -> 12.058131 | J60: =D60*Specification!$H$4*Specification!$H$6/Specification!$C$17 -> 928.42462 | K60: =K59+100 -> 6800 | L60: =A60/(60*Specification!$H$5*Specification!$H$6)*2*PI()*Specification!$C$17 -> 20.934255 | M60: =D60*Specification!$H$5*Specification!$H$6/Specification!$C$17 -> 534.77258 | N60: =N59+100 -> 6800
A61: =A60+100 -> 6900 | C61: 14 | D61: =C61*7127/A61 -> 14.46058 | E61: =E60+100 -> 6900 | F61: =A61/(60*Specification!$H$3*Specification!$H$6)*2*PI()*Specification!$C$17 -> 4.7794751 | G61: =D61*Specification!$H$3*Specification!$H$6/Specification!$C$17 -> 2186.1664 | H61: =H60+100 -> 6900 | I61: =A61/(60*Specification!$H$4*Specification!$H$6)*2*PI()*Specification!$C$17 -> 12.235456 | J61: =D61*Specification!$H$4*Specification!$H$6/Specification!$C$17 -> 853.97124 | K61: =K60+100 -> 6900 | L61: =A61/(60*Specification!$H$5*Specification!$H$6)*2*PI()*Specification!$C$17 -> 21.242111 | M61: =D61*Specification!$H$5*Specification!$H$6/Specification!$C$17 -> 491.88744 | N61: =N60+100 -> 6900
A62: =A61+100 -> 7000 | B62: 13 | C62: 13 | D62: =C62*7127/A62 -> 13.235857 | E62: =E61+100 -> 7000 | F62: =A62/(60*Specification!$H$3*Specification!$H$6)*2*PI()*Specification!$C$17 -> 4.8487428 | G62: =D62*Specification!$H$3*Specification!$H$6/Specification!$C$17 -> 2001.0115 | H62: =H61+100 -> 7000 | I62: =A62/(60*Specification!$H$4*Specification!$H$6)*2*PI()*Specification!$C$17 -> 12.412782 | J62: =D62*Specification!$H$4*Specification!$H$6/Specification!$C$17 -> 781.64511 | K62: =K61+100 -> 7000 | L62: =A62/(60*Specification!$H$5*Specification!$H$6)*2*PI()*Specification!$C$17 -> 21.549968 | M62: =D62*Specification!$H$5*Specification!$H$6/Specification!$C$17 -> 450.22758 | N62: =N61+100 -> 7000

Sheet Track Design
B1: Length | C1: Radius | D1: Angle | E1: Surface | F1: Bumps | G1: Dist | H1: Brake Event
A2: Straight 1 | B2: 300 | C2: 0 | D2: 0 | E2: Asphalt | F2: 0 | G2: =B2 -> 300
A3: Corner 1 | B3: =PI()*40 -> 125.66371 | C3: 40 | D3: 180 | E3: Asphalt | F3: 0 | G3: =B2+B3 -> 425.66371 | H3: 1
A4: Corner 2 | B4: =PI()*20 -> 62.831853 | C4: 40 | D4: 90 | E4: Asphalt | F4: 0 | G4: =G3+B4 -> 488.49556
A5: Straight 2 | B5: 200 | C5: 0 | D5: 0 | E5: Dry Dirt | G5: =G4+B5 -> 688.49556
A6: Corner 3 | B6: =PI()*20 -> 62.831853 | C6: 40 | D6: 90 | E6: Dry Dirt | G6: =G5+B6 -> 751.32741 | H6: 1
A7: Straight 3 | B7: 320 | C7: 0 | D7: 0 | E7: Dry Dirt | G7: =G6+B7 -> 1071.3274
A8: Corner 4 | B8: =PI()*40 -> 125.66371 | C8: 40 | D8: 180 | E8: Dry Dirt | G8: =G7+B8 -> 1196.9911 | H8: 1
A9: Corner 5 | B9: =PI()*20 -> 62.831853 | C9: 40 | D9: 90 | E9: Dry Dirt | G9: =G8+B9 -> 1259.823
A10: Straight 4 | B10: 150 | C10: 0 | D10: 0 | E10: Wet Dirt | G10: =G9+B10 -> 1409.823
A11: Corner 6 | B11: =PI()*20 -> 62.831853 | C11: 40 | D11: 90 | E11: Wet Dirt | G11: =G10+B11 -> 1472.6548 | H11: 1
A12: Corner 7 | B12: =PI()*20 -> 62.831853 | C12: 40 | D12: 90 | E12: Wet Dirt | G12: =G11+B12 -> 1535.4867
A13: Straight 5 | B13: 10 | C13: 0 | D13: 0 | E13: Asphalt | G13: =G12+B13 -> 1545.4867
A14: Corner 8 | B14: =PI()*20 -> 62.831853 | C14: 40 | D14: 90 | E14: Asphalt | G14: =G13+B14 -> 1608.3185 | H14: 1
A15: Straight 6 | B15: 100 | C15: 0 | D15: 0 | E15: Asphalt | G15: =G14+B15 -> 1708.3185
B16: =SUM(B2:B15) -> 1708.3185 | F16: 8 | H16: 5
B20: =SUM(B3,B4,B6,B8,B9,B11,B12,B14) -> 628.31853

Sheet Track
A1: Distance (m) | B1: Velocity (m/s) | C1: RollResForce (N) | D1: AirResForce (N) | E1: Slope (deg) | F1: GravForce (N) | G1: AccelForce (N) | H1: Equiv Mass (kg) | I1: Accerlation (m/s^2) | J1: Gear | K1: RPM | L1: Time Elapsed (s) | M1: Elevation (m) | N1: Power (hp) | O1: Torque (Nm) | P1: Power (kw) | Q1: BSFC | R1: Fuel Flow | S1: Energy (kwh) | T1: Fuel Consumption (g) | U1: Total Consumption | V1: Cum Energy (kwh) | W1: Cum Energy (J) | X1: Mean Generated - Usage
A2: 1 | B2: 0 | C2: =Specification!$G$30 -> 109.96225 | D2: 0 | E2: 0 | F2: =Specification!$C$23*9.81*SIN((E2*PI()/180)) -> 0 | G2: =IF(J2=1,VLOOKUP(K2,RPM!$E$2:$H$62,3,FALSE)-F2-E2-D2,IF(J2=2,VLOOKUP(K2,RPM!$H$2:$K$62,3,FALSE)-F2-E2-D2,IF(J2=3,VLOOKUP(K2,RPM!$K$2:$N$62,3,FALSE)-F2-E2-D2))) -> 861.97417 | H2: =IF(J2=1,Specification!$I$14,IF(J2=2,Specification!$I$15,IF(J2=3,Specification!$I$16))) -> 612.2238 | I2: =G2/H2 -> 1.4079397 | J2: 1 | K2: 1000 | L2: =(B3-B2)/I2 -> 1.1918538 | M2: 0 | N2: =VLOOKUP(K2,RPM!$A$2:$D$62,3,FALSE) -> 0.8 | O2: =VLOOKUP(K2,RPM!$A$2:$D$62,4,FALSE) -> 5.7016 | P2: =O2*0.7457 -> 4.2516831 | Q2: {=_xlfn.XLOOKUP(O2,BSFC!$A$2:$A$24,_xlfn.XLOOKUP(K2,BSFC!$B$1:$O$1,BSFC!$B$2:$O$24,,-1),,-1)} -> 680 | R2: =Q2*P2/3600 -> 0.8030957 | S2: =L2*P2/3600 -> 0.0014076068 | T2: =S2*Q2 -> 0.95717264 | U2: =T2 -> 0.95717264 | V2: =S2 -> 0.0014076068 | W2: =V2*1000*3600 -> 5067.3846 | X2: =('Hybrid Info'!A2-Track!P2)*(L2)*1000 -> 9378.425
A3: =A2+1 -> 2 | B3: =IF(SQRT(B2^2+2*I2)>13.4112,13.4112,SQRT(B2^2+2*I2)) -> 1.6780582 | C3: =Specification!$G$30 -> 109.96225 | D3: =0.5*Specification!$K$4*Track!B3^2*Specification!$K$3*Specification!$K$2 -> 1.4585036 | E3: 0 | F3: =Specification!$C$23*9.81*SIN((E3*PI()/180)) -> 0 | G3: =IF(J3=1,VLOOKUP(K3,RPM!$E$2:$H$62,3,FALSE)-F3-E3-D3,IF(J3=2,VLOOKUP(K3,RPM!$H$2:$K$62,3,FALSE)-F3-E3-D3,IF(J3=3,VLOOKUP(K3,RPM!$K$2:$N$62,3,FALSE)-F3-E3-D3))) -> 2153.4769 | H3: =IF(J3=1,Specification!$I$14,IF(J3=2,Specification!$I$15,IF(J3=3,Specification!$I$16))) -> 612.2238 | I3: =G3/H3 -> 3.5174669 | J3: 1 | K3: =IF(J3=1,VLOOKUP(B3,RPM!$F$2:$H$62,3,TRUE),IF(J3=2,VLOOKUP(B3,RPM!$I$2:$K$62,3,TRUE),IF(J3=3,VLOOKUP(B3,RPM!$L$2:$N$62,3,TRUE)))) -> 2400 | L3: =IF(I3=0,ABS(1/B3)+L2,IF(ABS(B4-B3)=0,1/B3+L2,ABS((B4-B3)/I3)+L2)) -> 1.6070794 | M3: =TAN(E3*PI()/180)+M2 -> 0 | N3: =VLOOKUP(K3,RPM!$A$2:$D$62,3,FALSE) -> 4.8 | O3: =VLOOKUP(K3,RPM!$A$2:$D$62,4,FALSE) -> 14.254 | P3: =O3*0.7457 -> 10.629208 | Q3: {=_xlfn.XLOOKUP(O3,BSFC!$A$2:$A$24,_xlfn.XLOOKUP(K3,BSFC!$B$1:$O$1,BSFC!$B$2:$O$24,,-1),,-1)} -> 562.08052 | R3: =Q3*P3/3600 -> 1.6595752 | S3: =(L3-L2)/3600*P3 -> 0.0012259776 | T3: =S3*Q3 -> 0.6890981 | U3: =U2+T3 -> 1.6462707 | V3: =S3 -> 0.0012259776 | W3: =V3*1000*3600 -> 4413.5192 | X3: =('Hybrid Info'!$A$2-Track!P3)*(L3-L2)*1000+X2 -> 9997.6288
A4: =A3+1 -> 3 | B4: =IF(SQRT(B3^2+2*I3)>13.4112,13.4112,SQRT(B3^2+2*I3)) -> 3.1386005 | C4: =Specification!$G$30 -> 109.96225 | D4: =0.5*Specification!$K$4*Track!B4^2*Specification!$K$3*Specification!$K$2 -> 5.1022948 | E4: 0 | F4: =Specification!$C$23*9.81*SIN((E4*PI()/180)) -> 0 | G4: =IF(J4=1,VLOOKUP(K4,RPM!$E$2:$H$62,3,FALSE)-F4-E4-D4,IF(J4=2,VLOOKUP(K4,RPM!$H$2:$K$62,3,FALSE)-F4-E4-D4,IF(J4=3,VLOOKUP(K4,RPM!$K$2:$N$62,3,FALSE)-F4-E4-D4))) -> 2868.1449 | H4: =IF(J4=1,Specification!$I$14,IF(J4=2,Specification!$I$15,IF(J4=3,Specification!$I$16))) -> 612.2238 | I4: =G4/H4 -> 4.6847982 | J4: 1 | K4: =IF(J4=1,VLOOKUP(B4,RPM!$F$2:$H$62,3,TRUE),IF(J4=2,VLOOKUP(B4,RPM!$I$2:$K$62,3,TRUE),IF(J4=3,VLOOKUP(B4,RPM!$L$2:$N$62,3,TRUE)))) -> 4500 | L4: =IF(I4=0,ABS(1/B4)+L3,IF(ABS(B5-B4)=0,1/B4+L3,ABS((B5-B4)/I4)+L3)) -> 1.872941 | M4: =TAN(E4*PI()/180)+M3 -> 0 | N4: =VLOOKUP(K4,RPM!$A$2:$D$62,3,FALSE) -> 12 | O4: =VLOOKUP(K4,RPM!$A$2:$D$62,4,FALSE) -> 19.005333 | P4: =O4*0.7457 -> 14.172277 | Q4: {=_xlfn.XLOOKUP(O4,BSFC!$A$2:$A$24,_xlfn.XLOOKUP(K4,BSFC!$B$1:$O$1,BSFC!$B$2:$O$24,,-1),,-1)} -> 475 | R4: =Q4*P4/3600 -> 1.8699532 | S4: =(L4-L3)/3600*P4 -> 0.0010466292 | T4: =S4*Q4 -> 0.49714888 | U4: =U3+T4 -> 2.1434196 | V4: =V3+S4 -> 0.0022726068 | W4: =V4*1000*3600 -> 8181.3844 | X4: =('Hybrid Info'!$A$2-Track!P4)*(L4-L3)*1000+X3 -> 9452.1279
A5: =A4+1 -> 4 | B5: =IF(SQRT(B4^2+2*I4)>13.4112,13.4112,SQRT(B4^2+2*I4)) -> 4.3841087 | C5: =Specification!$G$30 -> 109.96225 | D5: =0.5*Specification!$K$4*Track!B5^2*Specification!$K$3*Specification!$K$2 -> 9.9553402 | E5: 0 | F5: =Specification!$C$23*9.81*SIN((E5*PI()/180)) -> 0 | G5: =IF(J5=1,VLOOKUP(K5,RPM!$E$2:$H$62,3,FALSE)-F5-E5-D5,IF(J5=2,VLOOKUP(K5,RPM!$H$2:$K$62,3,FALSE)-F5-E5-D5,IF(J5=3,VLOOKUP(K5,RPM!$K$2:$N$62,3,FALSE)-F5-E5-D5))) -> 3000.1132 | H5: =IF(J5=1,Specification!$I$14,IF(J5=2,Specification!$I$15,IF(J5=3,Specification!$I$16))) -> 612.2238 | I5: =G5/H5 -> 4.9003538 | J5: 1 | K5: =IF(J5=1,VLOOKUP(B5,RPM!$F$2:$H$62,3,TRUE),IF(J5=2,VLOOKUP(B5,RPM!$I$2:$K$62,3,TRUE),IF(J5=3,VLOOKUP(B5,RPM!$L$2:$N$62,3,TRUE)))) -> 6300 | L5: =IF(I5=0,ABS(1/B5)+L4,IF(ABS(B6-B5)=0,1/B5+L4,ABS((B6-B5)/I5)+L4)) -> 2.0776235 | M5: =TAN(E5*PI()/180)+M4 -> 0 | N5: =VLOOKUP(K5,RPM!$A$2:$D$62,3,FALSE) -> 17.6 | O5: =VLOOKUP(K5,RPM!$A$2:$D$62,4,FALSE) -> 19.910349 | P5: =O5*0.7457 -> 14.847147 | Q5: {=_xlfn.XLOOKUP(O5,BSFC!$A$2:$A$24,_xlfn.XLOOKUP(K5,BSFC!$B$1:$O$1,BSFC!$B$2:$O$24,,-1),,-1)} -> 455 | R5: =Q5*P5/3600 -> 1.8765145 | S5: =(L5-L4)/3600*P5 -> 0.00084415288 | T5: =S5*Q5 -> 0.38408956 | U5: =U4+T5 -> 2.5275092 | V5: =V4+S5 -> 0.0031167596 | W5: =V5*1000*3600 -> 11220.335 | X5: =('Hybrid Info'!$A$2-Track!P5)*(L5-L4)*1000+X4 -> 8894.0217
A6: =A5+1 -> 5 | B6: =IF(SQRT(B5^2+2*I5)>13.4112,13.4112,SQRT(B5^2+2*I5)) -> 5.3871251 | C6: =Specification!$G$30 -> 109.96225 | D6: =0.5*Specification!$K$4*Track!B6^2*Specification!$K$3*Specification!$K$2 -> 15.031682 | E6: 0 | F6: =Specification!$C$23*9.81*SIN((E6*PI()/180)) -> 0 | G6: =IF(J6=1,VLOOKUP(K6,RPM!$E$2:$H$62,3,FALSE)-F6-E6-D6,IF(J6=2,VLOOKUP(K6,RPM!$H$2:$K$62,3,FALSE)-F6-E6-D6,IF(J6=3,VLOOKUP(K6,RPM!$K$2:$N$62,3,FALSE)-F6-E6-D6))) -> 1985.9798 | H6: =IF(J6=1,Specification!$I$14,IF(J6=2,Specification!$I$15,IF(J6=3,Specification!$I$16))) -> 612.2238 | I6: =G6/H6 -> 3.2438788 | J6: 1 | K6: =IF(J6=1,VLOOKUP(B6,RPM!$F$2:$H$62,3,TRUE),IF(J6=2,VLOOKUP(B6,RPM!$I$2:$K$62,3,TRUE),IF(J6=3,VLOOKUP(B6,RPM!$L$2:$N$62,3,TRUE)))) -> 7000 | L6: =IF(I6=0,ABS(1/B6)+L5,IF(ABS(B7-B6)=0,1/B6+L5,ABS((B7-B6)/I6)+L5)) -> 2.2538962 | M6: =TAN(E6*PI()/180)+M5 -> 0 | N6: =VLOOKUP(K6,RPM!$A$2:$D$62,3,FALSE) -> 13 | O6: =VLOOKUP(K6,RPM!$A$2:$D$62,4,FALSE) -> 13.235857 | P6: =O6*0.7457 -> 9.8699787 | Q6: {=_xlfn.XLOOKUP(O6,BSFC!$A$2:$A$24,_xlfn.XLOOKUP(K6,BSFC!$B$1:$O$1,BSFC!$B$2:$O$24,,-1),,-1)} -> 520 | R6: =Q6*P6/3600 -> 1.4256636 | S6: =(L6-L5)/3600*P6 -> 0.0004832799 | T6: =S6*Q6 -> 0.25130555 | U6: =U5+T6 -> 2.7788147 | V6: =V5+S6 -> 0.0036000395 | W6: =V6*1000*3600 -> 12960.142 | X6: =('Hybrid Info'!$A$2-Track!P6)*(L6-L5)*1000+X5 -> 9290.7192
A7: =A6+1 -> 6 | B7: =IF(SQRT(B6^2+2*I6)>13.4112,13.4112,SQRT(B6^2+2*I6)) -> 5.9589323 | C7: =Specification!$G$30 -> 109.96225 | D7: =0.5*Specification!$K$4*Track!B7^2*Specification!$K$3*Specification!$K$2 -> 18.39206 | E7: 0 | F7: =Specification!$C$23*9.81*SIN((E7*PI()/180)) -> 0 | G7: =IF(J7=1,VLOOKUP(K7,RPM!$E$2:$H$62,3,FALSE)-F7-E7-D7,IF(J7=2,VLOOKUP(K7,RPM!$H$2:$K$62,3,FALSE)-F7-E7-D7,IF(J7=3,VLOOKUP(K7,RPM!$K$2:$N$62,3,FALSE)-F7-E7-D7))) -> 1982.6194 | H7: =IF(J7=1,Specification!$I$14,IF(J7=2,Specification!$I$15,IF(J7=3,Specification!$I$16))) -> 612.2238 | I7: =G7/H7 -> 3.23839 | J7: 1 | K7: =IF(J7=1,VLOOKUP(B7,RPM!$F$2:$H$62,3,TRUE),IF(J7=2,VLOOKUP(B7,RPM!$I$2:$K$62,3,TRUE),IF(J7=3,VLOOKUP(B7,RPM!$L$2:$N$62,3,TRUE)))) -> 7000 | L7: =IF(I7=0,ABS(1/B7)+L6,IF(ABS(B8-B7)=0,1/B7+L6,ABS((B8-B7)/I7)+L6)) -> 2.4146864 | M7: =TAN(E7*PI()/180)+M6 -> 0 | N7: =VLOOKUP(K7,RPM!$A$2:$D$62,3,FALSE) -> 13 | O7: =VLOOKUP(K7,RPM!$A$2:$D$62,4,FALSE) -> 13.235857 | P7: =O7*0.7457 -> 9.8699787 | Q7: {=_xlfn.XLOOKUP(O7,BSFC!$A$2:$A$24,_xlfn.XLOOKUP(K7,BSFC!$B$1:$O$1,BSFC!$B$2:$O$24,,-1),,-1)} -> 520 | R7: =Q7*P7/3600 -> 1.4256636 | S7: =(L7-L6)/3600*P7 -> 0.00044083228 | T7: =S7*Q7 -> 0.22923279 | U7: =U6+T7 -> 3.0080475 | V7: =V6+S7 -> 0.0040408718 | W7: =V7*1000*3600 -> 14547.139 | X7: =('Hybrid Info'!$A$2-Track!P7)*(L7-L6)*1000+X6 -> 9652.5737
A8: =A7+1 -> 7 | B8: =IF(SQRT(B7^2+2*I7)>13.4112,13.4112,SQRT(B7^2+2*I7)) -> 6.4796338 | C8: =Specification!$G$30 -> 109.96225 | D8: =0.5*Specification!$K$4*Track!B8^2*Specification!$K$3*Specification!$K$2 -> 21.746752 | E8: 0 | F8: =Specification!$C$23*9.81*SIN((E8*PI()/180)) -> 0 | G8: =IF(J8=1,VLOOKUP(K8,RPM!$E$2:$H$62,3,FALSE)-F8-E8-D8,IF(J8=2,VLOOKUP(K8,RPM!$H$2:$K$62,3,FALSE)-F8-E8-D8,IF(J8=3,VLOOKUP(K8,RPM!$K$2:$N$62,3,FALSE)-F8-E8-D8))) -> 1979.2647 | H8: =IF(J8=1,Specification!$I$14,IF(J8=2,Specification!$I$15,IF(J8=3,Specification!$I$16))) -> 612.2238 | I8: =G8/H8 -> 3.2329105 | J8: 1 | K8: =IF(J8=1,VLOOKUP(B8,RPM!$F$2:$H$62,3,TRUE),IF(J8=2,VLOOKUP(B8,RPM!$I$2:$K$62,3,TRUE),IF(J8=3,VLOOKUP(B8,RPM!$L$2:$N$62,3,TRUE)))) -> 7000 | L8: =IF(I8=0,ABS(1/B8)+L7,IF(ABS(B9-B8)=0,1/B8+L7,ABS((B9-B8)/I8)+L7)) -> 2.5634921 | M8: =TAN(E8*PI()/180)+M7 -> 0 | N8: =VLOOKUP(K8,RPM!$A$2:$D$62,3,FALSE) -> 13 | O8: =VLOOKUP(K8,RPM!$A$2:$D$62,4,FALSE) -> 13.235857 | P8: =O8*0.7457 -> 9.8699787 | Q8: {=_xlfn.XLOOKUP(O8,BSFC!$A$2:$A$24,_xlfn.XLOOKUP(K8,BSFC!$B$1:$O$1,BSFC!$B$2:$O$24,,-1),,-1)} -> 520 | R8: =Q8*P8/3600 -> 1.4256636 | S8: =(L8-L7)/3600*P8 -> 0.00040797481 | T8: =S8*Q8 -> 0.2121469 | U8: =U7+T8 -> 3.2201944 | V8: =V7+S8 -> 0.0044488466 | W8: =V8*1000*3600 -> 16015.848 | X8: =('Hybrid Info'!$A$2-Track!P8)*(L8-L7)*1000+X7 -> 9987.4574
A9: =A8+1 -> 8 | B9: =IF(SQRT(B8^2+2*I8)>13.4112,13.4112,SQRT(B8^2+2*I8)) -> 6.9607094 | C9: =Specification!$G$30 -> 109.96225 | D9: =0.5*Specification!$K$4*Track!B9^2*Specification!$K$3*Specification!$K$2 -> 25.095767 | E9: 0 | F9: =Specification!$C$23*9.81*SIN((E9*PI()/180)) -> 0 | G9: =IF(J9=1,VLOOKUP(K9,RPM!$E$2:$H$62,3,FALSE)-F9-E9-D9,IF(J9=2,VLOOKUP(K9,RPM!$H$2:$K$62,3,FALSE)-F9-E9-D9,IF(J9=3,VLOOKUP(K9,RPM!$K$2:$N$62,3,FALSE)-F9-E9-D9))) -> 1975.9157 | H9: =IF(J9=1,Specification!$I$14,IF(J9=2,Specification!$I$15,IF(J9=3,Specification!$I$16))) -> 612.2238 | I9: =G9/H9 -> 3.2274402 | J9: 1 | K9: =IF(J9=1,VLOOKUP(B9,RPM!$F$2:$H$62,3,TRUE),IF(J9=2,VLOOKUP(B9,RPM!$I$2:$K$62,3,TRUE),IF(J9=3,VLOOKUP(B9,RPM!$L$2:$N$62,3,TRUE)))) -> 7000 | L9: =IF(I9=0,ABS(1/B9)+L8,IF(ABS(B10-B9)=0,1/B9+L8,ABS((B10-B9)/I9)+L8)) -> 2.7026652 | M9: =TAN(E9*PI()/180)+M8 -> 0 | N9: =VLOOKUP(K9,RPM!$A$2:$D$62,3,FALSE) -> 13 | O9: =VLOOKUP(K9,RPM!$A$2:$D$62,4,FALSE) -> 13.235857 | P9: =O9*0.7457 -> 9.8699787 | Q9: {=_xlfn.XLOOKUP(O9,BSFC!$A$2:$A$24,_xlfn.XLOOKUP(K9,BSFC!$B$1:$O$1,BSFC!$B$2:$O$24,,-1),,-1)} -> 520 | R9: =Q9*P9/3600 -> 1.4256636 | S9: =(L9-L8)/3600*P9 -> 0.00038156546 | T9: =S9*Q9 -> 0.19841404 | U9: =U8+T9 -> 3.4186084 | V9: =V8+S9 -> 0.0048304121 | W9: =V9*1000*3600 -> 17389.484 | X9: =('Hybrid Info'!$A$2-Track!P9)*(L9-L8)*1000+X8 -> 10300.663
A10: =A9+1 -> 9 | B10: =IF(SQRT(B9^2+2*I9)>13.4112,13.4112,SQRT(B9^2+2*I9)) -> 7.4098823 | C10: =Specification!$G$30 -> 109.96225 | D10: =0.5*Specification!$K$4*Track!B10^2*Specification!$K$3*Specification!$K$2 -> 28.439116 | E10: 0 | F10: =Specification!$C$23*9.81*SIN((E10*PI()/180)) -> 0 | G10: =IF(J10=1,VLOOKUP(K10,RPM!$E$2:$H$62,3,FALSE)-F10-E10-D10,IF(J10=2,VLOOKUP(K10,RPM!$H$2:$K$62,3,FALSE)-F10-E10-D10,IF(J10=3,VLOOKUP(K10,RPM!$K$2:$N$62,3,FALSE)-F10-E10-D10))) -> 1972.5724 | H10: =IF(J10=1,Specification!$I$14,IF(J10=2,Specification!$I$15,IF(J10=3,Specification!$I$16))) -> 612.2238 | I10: =G10/H10 -> 3.2219792 | J10: 1 | K10: =IF(J10=1,VLOOKUP(B10,RPM!$F$2:$H$62,3,TRUE),IF(J10=2,VLOOKUP(B10,RPM!$I$2:$K$62,3,TRUE),IF(J10=3,VLOOKUP(B10,RPM!$L$2:$N$62,3,TRUE)))) -> 7000 | L10: =IF(I10=0,ABS(1/B10)+L9,IF(ABS(B11-B10)=0,1/B10+L9,ABS((B11-B10)/I10)+L9)) -> 2.8338771 | M10: =TAN(E10*PI()/180)+M9 -> 0 | N10: =VLOOKUP(K10,RPM!$A$2:$D$62,3,FALSE) -> 13 | O10: =VLOOKUP(K10,RPM!$A$2:$D$62,4,FALSE) -> 13.235857 | P10: =O10*0.7457 -> 9.8699787 | Q10: {=_xlfn.XLOOKUP(O10,BSFC!$A$2:$A$24,_xlfn.XLOOKUP(K10,BSFC!$B$1:$O$1,BSFC!$B$2:$O$24,,-1),,-1)} -> 520 | R10: =Q10*P10/3600 -> 1.4256636 | S10: =(L10-L9)/3600*P10 -> 0.00035973836 | T10: =S10*Q10 -> 0.18706395 | U10: =U9+T10 -> 3.6056724 | V10: =V9+S10 -> 0.0051901505 | W10: =V10*1000*3600 -> 18684.542 | X10: =('Hybrid Info'!$A$2-Track!P10)*(L10-L9)*1000+X9 -> 10595.952
A11: =A10+1 -> 10 | B11: =IF(SQRT(B10^2+2*I10)>13.4112,13.4112,SQRT(B10^2+2*I10)) -> 7.8326441 | C11: =Specification!$G$30 -> 109.96225 | D11: =0.5*Specification!$K$4*Track!B11^2*Specification!$K$3*Specification!$K$2 -> 31.776807 | E11: 0 | F11: =Specification!$C$23*9.81*SIN((E11*PI()/180)) -> 0 | G11: =IF(J11=1,VLOOKUP(K11,RPM!$E$2:$H$62,3,FALSE)-F11-E11-D11,IF(J11=2,VLOOKUP(K11,RPM!$H$2:$K$62,3,FALSE)-F11-E11-D11,IF(J11=3,VLOOKUP(K11,RPM!$K$2:$N$62,3,FALSE)-F11-E11-D11))) -> 1969.2347 | H11: =IF(J11=1,Specification!$I$14,IF(J11=2,Specification!$I$15,IF(J11=3,Specification!$I$16))) -> 612.2238 | I11: =G11/H11 -> 3.2165275 | J11: 1 | K11: =IF(J11=1,VLOOKUP(B11,RPM!$F$2:$H$62,3,TRUE),IF(J11=2,VLOOKUP(B11,RPM!$I$2:$K$62,3,TRUE),IF(J11=3,VLOOKUP(B11,RPM!$L$2:$N$62,3,TRUE)))) -> 7000 | L11: =IF(I11=0,ABS(1/B11)+L10,IF(ABS(B12-B11)=0,1/B11+L10,ABS((B12-B11)/I11)+L10)) -> 2.9583658 | M11: =TAN(E11*PI()/180)+M10 -> 0 | N11: =VLOOKUP(K11,RPM!$A$2:$D$62,3,FALSE) -> 13 | O11: =VLOOKUP(K11,RPM!$A$2:$D$62,4,FALSE) -> 13.235857 | P11: =O11*0.7457 -> 9.8699787 | Q11: {=_xlfn.XLOOKUP(O11,BSFC!$A$2:$A$24,_xlfn.XLOOKUP(K11,BSFC!$B$1:$O$1,BSFC!$B$2:$O$24,,-1),,-1)} -> 520 | R11: =Q11*P11/3600 -> 1.4256636 | S11: =(L11-L10)/3600*P11 -> 0.0003413059 | T11: =S11*Q11 -> 0.17747907 | U11: =U10+T11 -> 3.7831515 | V11: =V10+S11 -> 0.0055314564 | W11: =V11*1000*3600 -> 19913.243 | X11: =('Hybrid Info'!$A$2-Track!P11)*(L11-L10)*1000+X10 -> 10876.111
A12: =A11+1 -> 11 | B12: =IF(SQRT(B11^2+2*I11)>13.4112,13.4112,SQRT(B11^2+2*I11)) -> 8.2330656 | C12: =Specification!$G$30 -> 109.96225 | D12: =0.5*Specification!$K$4*Track!B12^2*Specification!$K$3*Specification!$K$2 -> 35.108851 | E12: 0 | F12: =Specification!$C$23*9.81*SIN((E12*PI()/180)) -> 0 | G12: =IF(J12=1,VLOOKUP(K12,RPM!$E$2:$H$62,3,FALSE)-F12-E12-D12,IF(J12=2,VLOOKUP(K12,RPM!$H$2:$K$62,3,FALSE)-F12-E12-D12,IF(J12=3,VLOOKUP(K12,RPM!$K$2:$N$62,3,FALSE)-F12-E12-D12))) -> 1965.9026 | H12: =IF(J12=1,Specification!$I$14,IF(J12=2,Specification!$I$15,IF(J12=3,Specification!$I$16))) -> 612.2238 | I12: =G12/H12 -> 3.2110849 | J12: 1 | K12: =IF(J12=1,VLOOKUP(B12,RPM!$F$2:$H$62,3,TRUE),IF(J12=2,VLOOKUP(B12,RPM!$I$2:$K$62,3,TRUE),IF(J12=3,VLOOKUP(B12,RPM!$L$2:$N$62,3,TRUE)))) -> 7000 | L12: =IF(I12=0,ABS(1/B12)+L11,IF(ABS(B13-B12)=0,1/B12+L11,ABS((B13-B12)/I12)+L11)) -> 3.077079 | M12: =TAN(E12*PI()/180)+M11 -> 0 | N12: =VLOOKUP(K12,RPM!$A$2:$D$62,3,FALSE) -> 13 | O12: =VLOOKUP(K12,RPM!$A$2:$D$62,4,FALSE) -> 13.235857 | P12: =O12*0.7457 -> 9.8699787 | Q12: {=_xlfn.XLOOKUP(O12,BSFC!$A$2:$A$24,_xlfn.XLOOKUP(K12,BSFC!$B$1:$O$1,BSFC!$B$2:$O$24,,-1),,-1)} -> 520 | R12: =Q12*P12/3600 -> 1.4256636 | S12: =(L12-L11)/3600*P12 -> 0.00032547126 | T12: =S12*Q12 -> 0.16924505 | U12: =U11+T12 -> 3.9523965 | V12: =V11+S12 -> 0.0058569276 | W12: =V12*1000*3600 -> 21084.939 | X12: =('Hybrid Info'!$A$2-Track!P12)*(L12-L11)*1000+X11 -> 11143.272
A13: =A12+1 -> 12 | B13: =IF(SQRT(B12^2+2*I12)>13.4112,13.4112,SQRT(B12^2+2*I12)) -> 8.6142637 | C13: =Specification!$G$30 -> 109.96225 | D13: =0.5*Specification!$K$4*Track!B13^2*Specification!$K$3*Specification!$K$2 -> 38.435257 | E13: 0 | F13: =Specification!$C$23*9.81*SIN((E13*PI()/180)) -> 0 | G13: =IF(J13=1,VLOOKUP(K13,RPM!$E$2:$H$62,3,FALSE)-F13-E13-D13,IF(J13=2,VLOOKUP(K13,RPM!$H$2:$K$62,3,FALSE)-F13-E13-D13,IF(J13=3,VLOOKUP(K13,RPM!$K$2:$N$62,3,FALSE)-F13-E13-D13))) -> 1962.5762 | H13: =IF(J13=1,Specification!$I$14,IF(J13=2,Specification!$I$15,IF(J13=3,Specification!$I$16))) -> 612.2238 | I13: =G13/H13 -> 3.2056516 | J13: 1 | K13: =IF(J13=1,VLOOKUP(B13,RPM!$F$2:$H$62,3,TRUE),IF(J13=2,VLOOKUP(B13,RPM!$I$2:$K$62,3,TRUE),IF(J13=3,VLOOKUP(B13,RPM!$L$2:$N$62,3,TRUE)))) -> 7000 | L13: =IF(I13=0,ABS(1/B13)+L12,IF(ABS(B14-B13)=0,1/B13+L12,ABS((B14-B13)/I13)+L12)) -> 3.1907609 | M13: =TAN(E13*PI()/180)+M12 -> 0 | N13: =VLOOKUP(K13,RPM!$A$2:$D$62,3,FALSE) -> 13 | O13: =VLOOKUP(K13,RPM!$A$2:$D$62,4,FALSE) -> 13.235857 | P13: =O13*0.7457 -> 9.8699787 | Q13: {=_xlfn.XLOOKUP(O13,BSFC!$A$2:$A$24,_xlfn.XLOOKUP(K13,BSFC!$B$1:$O$1,BSFC!$B$2:$O$24,,-1),,-1)} -> 520 | R13: =Q13*P13/3600 -> 1.4256636 | S13: =(L13-L12)/3600*P13 -> 0.00031167717 | T13: =S13*Q13 -> 0.16207213 | U13: =U12+T13 -> 4.1144686 | V13: =V12+S13 -> 0.0061686048 | W13: =V13*1000*3600 -> 22206.977 | X13: =('Hybrid Info'!$A$2-Track!P13)*(L13-L12)*1000+X12 -> 11399.111
A14: =A13+1 -> 13 | B14: =IF(SQRT(B13^2+2*I13)>13.4112,13.4112,SQRT(B13^2+2*I13)) -> 8.9786882 | C14: =Specification!$G$30 -> 109.96225 | D14: =0.5*Specification!$K$4*Track!B14^2*Specification!$K$3*Specification!$K$2 -> 41.756035 | E14: 0 | F14: =Specification!$C$23*9.81*SIN((E14*PI()/180)) -> 0 | G14: =IF(J14=1,VLOOKUP(K14,RPM!$E$2:$H$62,3,FALSE)-F14-E14-D14,IF(J14=2,VLOOKUP(K14,RPM!$H$2:$K$62,3,FALSE)-F14-E14-D14,IF(J14=3,VLOOKUP(K14,RPM!$K$2:$N$62,3,FALSE)-F14-E14-D14))) -> 1136.7243 | H14: =IF(J14=1,Specification!$I$14,IF(J14=2,Specification!$I$15,IF(J14=3,Specification!$I$16))) -> 582.50936 | I14: =G14/H14 -> 1.9514266 | J14: 2 | K14: =IF(J14=1,VLOOKUP(B14,RPM!$F$2:$H$62,3,TRUE),IF(J14=2,VLOOKUP(B14,RPM!$I$2:$K$62,3,TRUE),IF(J14=3,VLOOKUP(B14,RPM!$L$2:$N$62,3,TRUE)))) -> 5000 | L14: =IF(I14=0,ABS(1/B14)+L13,IF(ABS(B15-B14)=0,1/B14+L13,ABS((B15-B14)/I14)+L13)) -> 3.3008194 | M14: =TAN(E14*PI()/180)+M13 -> 0 | N14: =VLOOKUP(K14,RPM!$A$2:$D$62,3,FALSE) -> 14 | O14: =VLOOKUP(K14,RPM!$A$2:$D$62,4,FALSE) -> 19.9556 | P14: =O14*0.7457 -> 14.880891 | Q14: {=_xlfn.XLOOKUP(O14,BSFC!$A$2:$A$24,_xlfn.XLOOKUP(K14,BSFC!$B$1:$O$1,BSFC!$B$2:$O$24,,-1),,-1)} -> 440 | R14: =Q14*P14/3600 -> 1.8187756 | S14: =(L14-L13)/3600*P14 -> 0.00045493586 | T14: =S14*Q14 -> 0.20017178 | U14: =U13+T14 -> 4.3146404 | V14: =V13+S14 -> 0.0066235406 | W14: =V14*1000*3600 -> 23844.746 | X14: =('Hybrid Info'!$A$2-Track!P14)*(L14-L13)*1000+X13 -> 11095.301
A15: =A14+1 -> 14 | B15: =IF(SQRT(B14^2+2*I14)>13.4112,13.4112,SQRT(B14^2+2*I14)) -> 9.1934594 | C15: =Specification!$G$30 -> 109.96225 | D15: =0.5*Specification!$K$4*Track!B15^2*Specification!$K$3*Specification!$K$2 -> 43.777544 | E15: 0 | F15: =Specification!$C$23*9.81*SIN((E15*PI()/180)) -> 0 | G15: =IF(J15=1,VLOOKUP(K15,RPM!$E$2:$H$62,3,FALSE)-F15-E15-D15,IF(J15=2,VLOOKUP(K15,RPM!$H$2:$K$62,3,FALSE)-F15-E15-D15,IF(J15=3,VLOOKUP(K15,RPM!$K$2:$N$62,3,FALSE)-F15-E15-D15))) -> 1160.7812 | H15: =IF(J15=1,Specification!$I$14,IF(J15=2,Specification!$I$15,IF(J15=3,Specification!$I$16))) -> 582.50936 | I15: =G15/H15 -> 1.9927254 | J15: 2 | K15: =IF(J15=1,VLOOKUP(B15,RPM!$F$2:$H$62,3,TRUE),IF(J15=2,VLOOKUP(B15,RPM!$I$2:$K$62,3,TRUE),IF(J15=3,VLOOKUP(B15,RPM!$L$2:$N$62,3,TRUE)))) -> 5100 | L15: =IF(I15=0,ABS(1/B15)+L14,IF(ABS(B16-B15)=0,1/B15+L14,ABS((B16-B15)/I15)+L14)) -> 3.4083395 | M15: =TAN(E15*PI()/180)+M14 -> 0 | N15: =VLOOKUP(K15,RPM!$A$2:$D$62,3,FALSE) -> 14.596 | O15: =VLOOKUP(K15,RPM!$A$2:$D$62,4,FALSE) -> 20.397195 | P15: =O15*0.7457 -> 15.210188 | Q15: {=_xlfn.XLOOKUP(O15,BSFC!$A$2:$A$24,_xlfn.XLOOKUP(K15,BSFC!$B$1:$O$1,BSFC!$B$2:$O$24,,-1),,-1)} -> 460 | R15: =Q15*P15/3600 -> 1.943524 | S15: =(L15-L14)/3600*P15 -> 0.00045427795 | T15: =S15*Q15 -> 0.20896786 | U15: =U14+T15 -> 4.5236083 | V15: =V14+S15 -> 0.0070778186 | W15: =V15*1000*3600 -> 25480.147 | X15: =('Hybrid Info'!$A$2-Track!P15)*(L15-L14)*1000+X14 -> 10763.093
... A54: =A53+1 -> 53 | B54: =IF(SQRT(B53^2+2*I53)>13.4112,13.4112,SQRT(B53^2+2*I53)) -> 13.4112 | C54: =Specification!$G$30 -> 109.96225 | D54: =0.5*Specification!$K$4*Track!B54^2*Specification!$K$3*Specification!$K$2 -> 93.159843 | E54: 0 | F54: =Specification!$C$23*9.81*SIN((E54*PI()/180)) -> 0 | G54: =IF(J54=1,VLOOKUP(K54,RPM!$E$2:$H$62,3,FALSE)-F54-E54-D54,IF(J54=2,VLOOKUP(K54,RPM!$H$2:$K$62,3,FALSE)-F54-E54-D54,IF(J54=3,VLOOKUP(K54,RPM!$K$2:$N$62,3,FALSE)-F54-E54-D54))) -> 549.56218 | H54: =IF(J54=1,Specification!$I$14,IF(J54=2,Specification!$I$15,IF(J54=3,Specification!$I$16))) -> 578.93404 | I54: =G54/H54 -> 0.94926561 | J54: 3 | K54: =IF(J54=1,VLOOKUP(B54,RPM!$F$2:$H$62,3,TRUE),IF(J54=2,VLOOKUP(B54,RPM!$I$2:$K$62,3,TRUE),IF(J54=3,VLOOKUP(B54,RPM!$L$2:$N$62,3,TRUE)))) -> 4300 | L54: =IF(I54=0,ABS(1/B54)+L53,IF(ABS(B55-B54)=0,1/B54+L53,ABS((B55-B54)/I54)+L53)) -> 6.6168267 | M54: =TAN(E54*PI()/180)+M53 -> 0 | N54: =VLOOKUP(K54,RPM!$A$2:$D$62,3,FALSE) -> 11.4 | O54: =VLOOKUP(K54,RPM!$A$2:$D$62,4,FALSE) -> 18.894837 | P54: =O54*0.7457 -> 14.08988 | Q54: {=_xlfn.XLOOKUP(O54,BSFC!$A$2:$A$24,_xlfn.XLOOKUP(K54,BSFC!$B$1:$O$1,BSFC!$B$2:$O$24,,-1),,-1)} -> 480 | R54: =Q54*P54/3600 -> 1.8786507 | S54: =(L54-L53)/3600*P54 -> 0.00029183485 | T54: =S54*Q54 -> 0.14008073 | U54: =U53+T54 -> 10.450027 | V54: =V53+S54 -> 0.019724057 | W54: =V54*1000*3600 -> 71006.605 | X54: =('Hybrid Info'!$A$2-Track!P54)*(L54-L53)*1000+X53 -> 4124.9579
A55: =A54+1 -> 54 | B55: =IF(SQRT(B54^2+2*I54)>13.4112,13.4112,SQRT(B54^2+2*I54)) -> 13.4112 | C55: =Specification!$G$30 -> 109.96225 | D55: =0.5*Specification!$K$4*Track!B55^2*Specification!$K$3*Specification!$K$2 -> 93.159843 | E55: 0 | F55: =Specification!$C$23*9.81*SIN((E55*PI()/180)) -> 0 | G55: =IF(J55=1,VLOOKUP(K55,RPM!$E$2:$H$62,3,FALSE)-F55-E55-D55,IF(J55=2,VLOOKUP(K55,RPM!$H$2:$K$62,3,FALSE)-F55-E55-D55,IF(J55=3,VLOOKUP(K55,RPM!$K$2:$N$62,3,FALSE)-F55-E55-D55))) -> 549.56218 | H55: =IF(J55=1,Specification!$I$14,IF(J55=2,Specification!$I$15,IF(J55=3,Specification!$I$16))) -> 578.93404 | I55: 0 | J55: 3 | K55: =IF(J55=1,VLOOKUP(B55,RPM!$F$2:$H$62,3,TRUE),IF(J55=2,VLOOKUP(B55,RPM!$I$2:$K$62,3,TRUE),IF(J55=3,VLOOKUP(B55,RPM!$L$2:$N$62,3,TRUE)))) -> 4300 | L55: =IF(I55=0,ABS(1/B55)+L54,IF(ABS(B56-B55)=0,1/B55+L54,ABS((B56-B55)/I55)+L54)) -> 6.6913912 | M55: =TAN(E55*PI()/180)+M54 -> 0 | N55: =VLOOKUP(K55,RPM!$A$2:$D$62,3,FALSE) -> 11.4 | O55: =VLOOKUP(K55,RPM!$A$2:$D$62,4,FALSE) -> 18.894837 | P55: =O55*0.7457 -> 14.08988 | Q55: {=_xlfn.XLOOKUP(O55,BSFC!$A$2:$A$24,_xlfn.XLOOKUP(K55,BSFC!$B$1:$O$1,BSFC!$B$2:$O$24,,-1),,-1)} -> 480 | R55: =Q55*P55/3600 -> 1.8786507 | S55: =(L55-L54)/3600*P55 -> 0.00029183485 | T55: =S55*Q55 -> 0.14008073 | U55: =U54+T55 -> 10.590108 | V55: =V54+S55 -> 0.020015892 | W55: =V55*1000*3600 -> 72057.21 | X55: =('Hybrid Info'!$A$2-Track!P55)*(L55-L54)*1000+X54 -> 3978.1086
A56: =A55+1 -> 55 | B56: =IF(SQRT(B55^2+2*I55)>13.4112,13.4112,SQRT(B55^2+2*I55)) -> 13.4112 | C56: =Specification!$G$30 -> 109.96225 | D56: =0.5*Specification!$K$4*Track!B56^2*Specification!$K$3*Specification!$K$2 -> 93.159843 | E56: 0 | F56: =Specification!$C$23*9.81*SIN((E56*PI()/180)) -> 0 | G56: =IF(J56=1,VLOOKUP(K56,RPM!$E$2:$H$62,3,FALSE)-F56-E56-D56,IF(J56=2,VLOOKUP(K56,RPM!$H$2:$K$62,3,FALSE)-F56-E56-D56,IF(J56=3,VLOOKUP(K56,RPM!$K$2:$N$62,3,FALSE)-F56-E56-D56))) -> 549.56218 | H56: =IF(J56=1,Specification!$I$14,IF(J56=2,Specification!$I$15,IF(J56=3,Specification!$I$16))) -> 578.93404 | I56: 0 | J56: 3 | K56: =IF(J56=1,VLOOKUP(B56,RPM!$F$2:$H$62,3,TRUE),IF(J56=2,VLOOKUP(B56,RPM!$I$2:$K$62,3,TRUE),IF(J56=3,VLOOKUP(B56,RPM!$L$2:$N$62,3,TRUE)))) -> 4300 | L56: =IF(I56=0,ABS(1/B56)+L55,IF(ABS(B57-B56)=0,1/B56+L55,ABS((B57-B56)/I56)+L55)) -> 6.7659558 | M56: =TAN(E56*PI()/180)+M55 -> 0 | N56: =VLOOKUP(K56,RPM!$A$2:$D$62,3,FALSE) -> 11.4 | O56: =VLOOKUP(K56,RPM!$A$2:$D$62,4,FALSE) -> 18.894837 | P56: =O56*0.7457 -> 14.08988 | Q56: {=_xlfn.XLOOKUP(O56,BSFC!$A$2:$A$24,_xlfn.XLOOKUP(K56,BSFC!$B$1:$O$1,BSFC!$B$2:$O$24,,-1),,-1)} -> 480 | R56: =Q56*P56/3600 -> 1.8786507 | S56: =(L56-L55)/3600*P56 -> 0.00029183485 | T56: =S56*Q56 -> 0.14008073 | U56: =U55+T56 -> 10.730189 | V56: =V55+S56 -> 0.020307727 | W56: =V56*1000*3600 -> 73107.816 | X56: =('Hybrid Info'!$A$2-Track!P56)*(L56-L55)*1000+X55 -> 3831.2593
A57: =A56+1 -> 56 | B57: =IF(SQRT(B56^2+2*I56)>13.4112,13.4112,SQRT(B56^2+2*I56)) -> 13.4112 | C57: =Specification!$G$30 -> 109.96225 | D57: =0.5*Specification!$K$4*Track!B57^2*Specification!$K$3*Specification!$K$2 -> 93.159843 | E57: 0 | F57: =Specification!$C$23*9.81*SIN((E57*PI()/180)) -> 0 | G57: =IF(J57=1,VLOOKUP(K57,RPM!$E$2:$H$62,3,FALSE)-F57-E57-D57,IF(J57=2,VLOOKUP(K57,RPM!$H$2:$K$62,3,FALSE)-F57-E57-D57,IF(J57=3,VLOOKUP(K57,RPM!$K$2:$N$62,3,FALSE)-F57-E57-D57))) -> 549.56218 | H57: =IF(J57=1,Specification!$I$14,IF(J57=2,Specification!$I$15,IF(J57=3,Specification!$I$16))) -> 578.93404 | I57: 0 | J57: 3 | K57: =IF(J57=1,VLOOKUP(B57,RPM!$F$2:$H$62,3,TRUE),IF(J57=2,VLOOKUP(B57,RPM!$I$2:$K$62,3,TRUE),IF(J57=3,VLOOKUP(B57,RPM!$L$2:$N$62,3,TRUE)))) -> 4300 | L57: =IF(I57=0,ABS(1/B57)+L56,IF(ABS(B58-B57)=0,1/B57+L56,ABS((B58-B57)/I57)+L56)) -> 6.8405203 | M57: =TAN(E57*PI()/180)+M56 -> 0 | N57: =VLOOKUP(K57,RPM!$A$2:$D$62,3,FALSE) -> 11.4 | O57: =VLOOKUP(K57,RPM!$A$2:$D$62,4,FALSE) -> 18.894837 | P57: =O57*0.7457 -> 14.08988 | Q57: {=_xlfn.XLOOKUP(O57,BSFC!$A$2:$A$24,_xlfn.XLOOKUP(K57,BSFC!$B$1:$O$1,BSFC!$B$2:$O$24,,-1),,-1)} -> 480 | R57: =Q57*P57/3600 -> 1.8786507 | S57: =(L57-L56)/3600*P57 -> 0.00029183485 | T57: =S57*Q57 -> 0.14008073 | U57: =U56+T57 -> 10.87027 | V57: =V56+S57 -> 0.020599561 | W57: =V57*1000*3600 -> 74158.421 | X57: =('Hybrid Info'!$A$2-Track!P57)*(L57-L56)*1000+X56 -> 3684.41
A58: =A57+1 -> 57 | B58: =IF(SQRT(B57^2+2*I57)>13.4112,13.4112,SQRT(B57^2+2*I57)) -> 13.4112 | C58: =Specification!$G$30 -> 109.96225 | D58: =0.5*Specification!$K$4*Track!B58^2*Specification!$K$3*Specification!$K$2 -> 93.159843 | E58: 0 | F58: =Specification!$C$23*9.81*SIN((E58*PI()/180)) -> 0 | G58: =IF(J58=1,VLOOKUP(K58,RPM!$E$2:$H$62,3,FALSE)-F58-E58-D58,IF(J58=2,VLOOKUP(K58,RPM!$H$2:$K$62,3,FALSE)-F58-E58-D58,IF(J58=3,VLOOKUP(K58,RPM!$K$2:$N$62,3,FALSE)-F58-E58-D58))) -> 549.56218 | H58: =IF(J58=1,Specification!$I$14,IF(J58=2,Specification!$I$15,IF(J58=3,Specification!$I$16))) -> 578.93404 | I58: 0 | J58: 3 | K58: =IF(J58=1,VLOOKUP(B58,RPM!$F$2:$H$62,3,TRUE),IF(J58=2,VLOOKUP(B58,RPM!$I$2:$K$62,3,TRUE),IF(J58=3,VLOOKUP(B58,RPM!$L$2:$N$62,3,TRUE)))) -> 4300 | L58: =IF(I58=0,ABS(1/B58)+L57,IF(ABS(B59-B58)=0,1/B58+L57,ABS((B59-B58)/I58)+L57)) -> 6.9150848 | M58: =TAN(E58*PI()/180)+M57 -> 0 | N58: =VLOOKUP(K58,RPM!$A$2:$D$62,3,FALSE) -> 11.4 | O58: =VLOOKUP(K58,RPM!$A$2:$D$62,4,FALSE) -> 18.894837 | P58: =O58*0.7457 -> 14.08988 | Q58: {=_xlfn.XLOOKUP(O58,BSFC!$A$2:$A$24,_xlfn.XLOOKUP(K58,BSFC!$B$1:$O$1,BSFC!$B$2:$O$24,,-1),,-1)} -> 480 | R58: =Q58*P58/3600 -> 1.8786507 | S58: =(L58-L57)/3600*P58 -> 0.00029183485 | T58: =S58*Q58 -> 0.14008073 | U58: =U57+T58 -> 11.01035 | V58: =V57+S58 -> 0.020891396 | W58: =V58*1000*3600 -> 75209.027 | X58: =('Hybrid Info'!$A$2-Track!P58)*(L58-L57)*1000+X57 -> 3537.5607
A59: =A58+1 -> 58 | B59: =IF(SQRT(B58^2+2*I58)>13.4112,13.4112,SQRT(B58^2+2*I58)) -> 13.4112 | C59: =Specification!$G$30 -> 109.96225 | D59: =0.5*Specification!$K$4*Track!B59^2*Specification!$K$3*Specification!$K$2 -> 93.159843 | E59: 0 | F59: =Specification!$C$23*9.81*SIN((E59*PI()/180)) -> 0 | G59: =IF(J59=1,VLOOKUP(K59,RPM!$E$2:$H$62,3,FALSE)-F59-E59-D59,IF(J59=2,VLOOKUP(K59,RPM!$H$2:$K$62,3,FALSE)-F59-E59-D59,IF(J59=3,VLOOKUP(K59,RPM!$K$2:$N$62,3,FALSE)-F59-E59-D59))) -> 549.56218 | H59: =IF(J59=1,Specification!$I$14,IF(J59=2,Specification!$I$15,IF(J59=3,Specification!$I$16))) -> 578.93404 | I59: 0 | J59: 3 | K59: =IF(J59=1,VLOOKUP(B59,RPM!$F$2:$H$62,3,TRUE),IF(J59=2,VLOOKUP(B59,RPM!$I$2:$K$62,3,TRUE),IF(J59=3,VLOOKUP(B59,RPM!$L$2:$N$62,3,TRUE)))) -> 4300 | L59: =IF(I59=0,ABS(1/B59)+L58,IF(ABS(B60-B59)=0,1/B59+L58,ABS((B60-B59)/I59)+L58)) -> 6.9896494 | M59: =TAN(E59*PI()/180)+M58 -> 0 | N59: =VLOOKUP(K59,RPM!$A$2:$D$62,3,FALSE) -> 11.4 | O59: =VLOOKUP(K59,RPM!$A$2:$D$62,4,FALSE) -> 18.894837 | P59: =O59*0.7457 -> 14.08988 | Q59: {=_xlfn.XLOOKUP(O59,BSFC!$A$2:$A$24,_xlfn.XLOOKUP(K59,BSFC!$B$1:$O$1,BSFC!$B$2:$O$24,,-1),,-1)} -> 480 | R59: =Q59*P59/3600 -> 1.8786507 | S59: =(L59-L58)/3600*P59 -> 0.00029183485 | T59: =S59*Q59 -> 0.14008073 | U59: =U58+T59 -> 11.150431 | V59: =V58+S59 -> 0.021183231 | W59: =V59*1000*3600 -> 76259.632 | X59: =('Hybrid Info'!$A$2-Track!P59)*(L59-L58)*1000+X58 -> 3390.7114
A60: =A59+1 -> 59 | B60: =IF(SQRT(B59^2+2*I59)>13.4112,13.4112,SQRT(B59^2+2*I59)) -> 13.4112 | C60: =Specification!$G$30 -> 109.96225 | D60: =0.5*Specification!$K$4*Track!B60^2*Specification!$K$3*Specification!$K$2 -> 93.159843 | E60: 0 | F60: =Specification!$C$23*9.81*SIN((E60*PI()/180)) -> 0 | G60: =IF(J60=1,VLOOKUP(K60,RPM!$E$2:$H$62,3,FALSE)-F60-E60-D60,IF(J60=2,VLOOKUP(K60,RPM!$H$2:$K$62,3,FALSE)-F60-E60-D60,IF(J60=3,VLOOKUP(K60,RPM!$K$2:$N$62,3,FALSE)-F60-E60-D60))) -> 549.56218 | H60: =IF(J60=1,Specification!$I$14,IF(J60=2,Specification!$I$15,IF(J60=3,Specification!$I$16))) -> 578.93404 | I60: 0 | J60: 3 | K60: =IF(J60=1,VLOOKUP(B60,RPM!$F$2:$H$62,3,TRUE),IF(J60=2,VLOOKUP(B60,RPM!$I$2:$K$62,3,TRUE),IF(J60=3,VLOOKUP(B60,RPM!$L$2:$N$62,3,TRUE)))) -> 4300 | L60: =IF(I60=0,ABS(1/B60)+L59,IF(ABS(B61-B60)=0,1/B60+L59,ABS((B61-B60)/I60)+L59)) -> 7.0642139 | M60: =TAN(E60*PI()/180)+M59 -> 0 | N60: =VLOOKUP(K60,RPM!$A$2:$D$62,3,FALSE) -> 11.4 | O60: =VLOOKUP(K60,RPM!$A$2:$D$62,4,FALSE) -> 18.894837 | P60: =O60*0.7457 -> 14.08988 | Q60: {=_xlfn.XLOOKUP(O60,BSFC!$A$2:$A$24,_xlfn.XLOOKUP(K60,BSFC!$B$1:$O$1,BSFC!$B$2:$O$24,,-1),,-1)} -> 480 | R60: =Q60*P60/3600 -> 1.8786507 | S60: =(L60-L59)/3600*P60 -> 0.00029183485 | T60: =S60*Q60 -> 0.14008073 | U60: =U59+T60 -> 11.290512 | V60: =V59+S60 -> 0.021475066 | W60: =V60*1000*3600 -> 77310.238 | X60: =('Hybrid Info'!$A$2-Track!P60)*(L60-L59)*1000+X59 -> 3243.862
A61: =A60+1 -> 60 | B61: =IF(SQRT(B60^2+2*I60)>13.4112,13.4112,SQRT(B60^2+2*I60)) -> 13.4112 | C61: =Specification!$G$30 -> 109.96225 | D61: =0.5*Specification!$K$4*Track!B61^2*Specification!$K$3*Specification!$K$2 -> 93.159843 | E61: 0 | F61: =Specification!$C$23*9.81*SIN((E61*PI()/180)) -> 0 | G61: =IF(J61=1,VLOOKUP(K61,RPM!$E$2:$H$62,3,FALSE)-F61-E61-D61,IF(J61=2,VLOOKUP(K61,RPM!$H$2:$K$62,3,FALSE)-F61-E61-D61,IF(J61=3,VLOOKUP(K61,RPM!$K$2:$N$62,3,FALSE)-F61-E61-D61))) -> 549.56218 | H61: =IF(J61=1,Specification!$I$14,IF(J61=2,Specification!$I$15,IF(J61=3,Specification!$I$16))) -> 578.93404 | I61: 0 | J61: 3 | K61: =IF(J61=1,VLOOKUP(B61,RPM!$F$2:$H$62,3,TRUE),IF(J61=2,VLOOKUP(B61,RPM!$I$2:$K$62,3,TRUE),IF(J61=3,VLOOKUP(B61,RPM!$L$2:$N$62,3,TRUE)))) -> 4300 | L61: =IF(I61=0,ABS(1/B61)+L60,IF(ABS(B62-B61)=0,1/B61+L60,ABS((B62-B61)/I61)+L60)) -> 7.1387785 | M61: =TAN(E61*PI()/180)+M60 -> 0 | N61: =VLOOKUP(K61,RPM!$A$2:$D$62,3,FALSE) -> 11.4 | O61: =VLOOKUP(K61,RPM!$A$2:$D$62,4,FALSE) -> 18.894837 | P61: =O61*0.7457 -> 14.08988 | Q61: {=_xlfn.XLOOKUP(O61,BSFC!$A$2:$A$24,_xlfn.XLOOKUP(K61,BSFC!$B$1:$O$1,BSFC!$B$2:$O$24,,-1),,-1)} -> 480 | R61: =Q61*P61/3600 -> 1.8786507 | S61: =(L61-L60)/3600*P61 -> 0.00029183485 | T61: =S61*Q61 -> 0.14008073 | U61: =U60+T61 -> 11.430593 | V61: =V60+S61 -> 0.021766901 | W61: =V61*1000*3600 -> 78360.843 | X61: =('Hybrid Info'!$A$2-Track!P61)*(L61-L60)*1000+X60 -> 3097.0127
A62: =A61+1 -> 61 | B62: =IF(SQRT(B61^2+2*I61)>13.4112,13.4112,SQRT(B61^2+2*I61)) -> 13.4112 | C62: =Specification!$G$30 -> 109.96225 | D62: =0.5*Specification!$K$4*Track!B62^2*Specification!$K$3*Specification!$K$2 -> 93.159843 | E62: 0 | F62: =Specification!$C$23*9.81*SIN((E62*PI()/180)) -> 0 | G62: =IF(J62=1,VLOOKUP(K62,RPM!$E$2:$H$62,3,FALSE)-F62-E62-D62,IF(J62=2,VLOOKUP(K62,RPM!$H$2:$K$62,3,FALSE)-F62-E62-D62,IF(J62=3,VLOOKUP(K62,RPM!$K$2:$N$62,3,FALSE)-F62-E62-D62))) -> 549.56218 | H62: =IF(J62=1,Specification!$I$14,IF(J62=2,Specification!$I$15,IF(J62=3,Specification!$I$16))) -> 578.93404 | I62: 0 | J62: 3 | K62: =IF(J62=1,VLOOKUP(B62,RPM!$F$2:$H$62,3,TRUE),IF(J62=2,VLOOKUP(B62,RPM!$I$2:$K$62,3,TRUE),IF(J62=3,VLOOKUP(B62,RPM!$L$2:$N$62,3,TRUE)))) -> 4300 | L62: =IF(I62=0,ABS(1/B62)+L61,IF(ABS(B63-B62)=0,1/B62+L61,ABS((B63-B62)/I62)+L61)) -> 7.213343 | M62: =TAN(E62*PI()/180)+M61 -> 0 | N62: =VLOOKUP(K62,RPM!$A$2:$D$62,3,FALSE) -> 11.4 | O62: =VLOOKUP(K62,RPM!$A$2:$D$62,4,FALSE) -> 18.894837 | P62: =O62*0.7457 -> 14.08988 | Q62: {=_xlfn.XLOOKUP(O62,BSFC!$A$2:$A$24,_xlfn.XLOOKUP(K62,BSFC!$B$1:$O$1,BSFC!$B$2:$O$24,,-1),,-1)} -> 480 | R62: =Q62*P62/3600 -> 1.8786507 | S62: =(L62-L61)/3600*P62 -> 0.00029183485 | T62: =S62*Q62 -> 0.14008073 | U62: =U61+T62 -> 11.570673 | V62: =V61+S62 -> 0.022058736 | W62: =V62*1000*3600 -> 79411.449 | X62: =('Hybrid Info'!$A$2-Track!P62)*(L62-L61)*1000+X61 -> 2950.1634
A63: =A62+1 -> 62 | B63: =IF(SQRT(B62^2+2*I62)>13.4112,13.4112,SQRT(B62^2+2*I62)) -> 13.4112 | C63: =Specification!$G$30 -> 109.96225 | D63: =0.5*Specification!$K$4*Track!B63^2*Specification!$K$3*Specification!$K$2 -> 93.159843 | E63: 0 | F63: =Specification!$C$23*9.81*SIN((E63*PI()/180)) -> 0 | G63: =IF(J63=1,VLOOKUP(K63,RPM!$E$2:$H$62,3,FALSE)-F63-E63-D63,IF(J63=2,VLOOKUP(K63,RPM!$H$2:$K$62,3,FALSE)-F63-E63-D63,IF(J63=3,VLOOKUP(K63,RPM!$K$2:$N$62,3,FALSE)-F63-E63-D63))) -> 549.56218 | H63: =IF(J63=1,Specification!$I$14,IF(J63=2,Specification!$I$15,IF(J63=3,Specification!$I$16))) -> 578.93404 | I63: 0 | J63: 3 | K63: =IF(J63=1,VLOOKUP(B63,RPM!$F$2:$H$62,3,TRUE),IF(J63=2,VLOOKUP(B63,RPM!$I$2:$K$62,3,TRUE),IF(J63=3,VLOOKUP(B63,RPM!$L$2:$N$62,3,TRUE)))) -> 4300 | L63: =IF(I63=0,ABS(1/B63)+L62,IF(ABS(B64-B63)=0,1/B63+L62,ABS((B64-B63)/I63)+L62)) -> 7.2879076 | M63: =TAN(E63*PI()/180)+M62 -> 0 | N63: =VLOOKUP(K63,RPM!$A$2:$D$62,3,FALSE) -> 11.4 | O63: =VLOOKUP(K63,RPM!$A$2:$D$62,4,FALSE) -> 18.894837 | P63: =O63*0.7457 -> 14.08988 | Q63: {=_xlfn.XLOOKUP(O63,BSFC!$A$2:$A$24,_xlfn.XLOOKUP(K63,BSFC!$B$1:$O$1,BSFC!$B$2:$O$24,,-1),,-1)} -> 480 | R63: =Q63*P63/3600 -> 1.8786507 | S63: =(L63-L62)/3600*P63 -> 0.00029183485 | T63: =S63*Q63 -> 0.14008073 | U63: =U62+T63 -> 11.710754 | V63: =V62+S63 -> 0.022350571 | W63: =V63*1000*3600 -> 80462.054 | X63: =('Hybrid Info'!$A$2-Track!P63)*(L63-L62)*1000+X62 -> 2803.3141
A64: =A63+1 -> 63 | B64: =IF(SQRT(B63^2+2*I63)>13.4112,13.4112,SQRT(B63^2+2*I63)) -> 13.4112 | C64: =Specification!$G$30 -> 109.96225 | D64: =0.5*Specification!$K$4*Track!B64^2*Specification!$K$3*Specification!$K$2 -> 93.159843 | E64: 0 | F64: =Specification!$C$23*9.81*SIN((E64*PI()/180)) -> 0 | G64: =IF(J64=1,VLOOKUP(K64,RPM!$E$2:$H$62,3,FALSE)-F64-E64-D64,IF(J64=2,VLOOKUP(K64,RPM!$H$2:$K$62,3,FALSE)-F64-E64-D64,IF(J64=3,VLOOKUP(K64,RPM!$K$2:$N$62,3,FALSE)-F64-E64-D64))) -> 549.56218 | H64: =IF(J64=1,Specification!$I$14,IF(J64=2,Specification!$I$15,IF(J64=3,Specification!$I$16))) -> 578.93404 | I64: 0 | J64: 3 | K64: =IF(J64=1,VLOOKUP(B64,RPM!$F$2:$H$62,3,TRUE),IF(J64=2,VLOOKUP(B64,RPM!$I$2:$K$62,3,TRUE),IF(J64=3,VLOOKUP(B64,RPM!$L$2:$N$62,3,TRUE)))) -> 4300 | L64: =IF(I64=0,ABS(1/B64)+L63,IF(ABS(B65-B64)=0,1/B64+L63,ABS((B65-B64)/I64)+L63)) -> 7.3624721 | M64: =TAN(E64*PI()/180)+M63 -> 0 | N64: =VLOOKUP(K64,RPM!$A$2:$D$62,3,FALSE) -> 11.4 | O64: =VLOOKUP(K64,RPM!$A$2:$D$62,4,FALSE) -> 18.894837 | P64: =O64*0.7457 -> 14.08988 | Q64: {=_xlfn.XLOOKUP(O64,BSFC!$A$2:$A$24,_xlfn.XLOOKUP(K64,BSFC!$B$1:$O$1,BSFC!$B$2:$O$24,,-1),,-1)} -> 480 | R64: =Q64*P64/3600 -> 1.8786507 | S64: =(L64-L63)/3600*P64 -> 0.00029183485 | T64: =S64*Q64 -> 0.14008073 | U64: =U63+T64 -> 11.850835 | V64: =V63+S64 -> 0.022642405 | W64: =V64*1000*3600 -> 81512.659 | X64: =('Hybrid Info'!$A$2-Track!P64)*(L64-L63)*1000+X63 -> 2656.4648
A65: =A64+1 -> 64 | B65: =IF(SQRT(B64^2+2*I64)>13.4112,13.4112,SQRT(B64^2+2*I64)) -> 13.4112 | C65: =Specification!$G$30 -> 109.96225 | D65: =0.5*Specification!$K$4*Track!B65^2*Specification!$K$3*Specification!$K$2 -> 93.159843 | E65: 0 | F65: =Specification!$C$23*9.81*SIN((E65*PI()/180)) -> 0 | G65: =IF(J65=1,VLOOKUP(K65,RPM!$E$2:$H$62,3,FALSE)-F65-E65-D65,IF(J65=2,VLOOKUP(K65,RPM!$H$2:$K$62,3,FALSE)-F65-E65-D65,IF(J65=3,VLOOKUP(K65,RPM!$K$2:$N$62,3,FALSE)-F65-E65-D65))) -> 549.56218 | H65: =IF(J65=1,Specification!$I$14,IF(J65=2,Specification!$I$15,IF(J65=3,Specification!$I$16))) -> 578.93404 | I65: 0 | J65: 3 | K65: =IF(J65=1,VLOOKUP(B65,RPM!$F$2:$H$62,3,TRUE),IF(J65=2,VLOOKUP(B65,RPM!$I$2:$K$62,3,TRUE),IF(J65=3,VLOOKUP(B65,RPM!$L$2:$N$62,3,TRUE)))) -> 4300 | L65: =IF(I65=0,ABS(1/B65)+L64,IF(ABS(B66-B65)=0,1/B65+L64,ABS((B66-B65)/I65)+L64)) -> 7.4370366 | M65: =TAN(E65*PI()/180)+M64 -> 0 | N65: =VLOOKUP(K65,RPM!$A$2:$D$62,3,FALSE) -> 11.4 | O65: =VLOOKUP(K65,RPM!$A$2:$D$62,4,FALSE) -> 18.894837 | P65: =O65*0.7457 -> 14.08988 | Q65: {=_xlfn.XLOOKUP(O65,BSFC!$A$2:$A$24,_xlfn.XLOOKUP(K65,BSFC!$B$1:$O$1,BSFC!$B$2:$O$24,,-1),,-1)} -> 480 | R65: =Q65*P65/3600 -> 1.8786507 | S65: =(L65-L64)/3600*P65 -> 0.00029183485 | T65: =S65*Q65 -> 0.14008073 | U65: =U64+T65 -> 11.990915 | V65: =V64+S65 -> 0.02293424 | W65: =V65*1000*3600 -> 82563.265 | X65: =('Hybrid Info'!$A$2-Track!P65)*(L65-L64)*1000+X64 -> 2509.6155
A66: =A65+1 -> 65 | B66: =IF(SQRT(B65^2+2*I65)>13.4112,13.4112,SQRT(B65^2+2*I65)) -> 13.4112 | C66: =Specification!$G$30 -> 109.96225 | D66: =0.5*Specification!$K$4*Track!B66^2*Specification!$K$3*Specification!$K$2 -> 93.159843 | E66: 0 | F66: =Specification!$C$23*9.81*SIN((E66*PI()/180)) -> 0 | G66: =IF(J66=1,VLOOKUP(K66,RPM!$E$2:$H$62,3,FALSE)-F66-E66-D66,IF(J66=2,VLOOKUP(K66,RPM!$H$2:$K$62,3,FALSE)-F66-E66-D66,IF(J66=3,VLOOKUP(K66,RPM!$K$2:$N$62,3,FALSE)-F66-E66-D66))) -> 549.56218 | H66: =IF(J66=1,Specification!$I$14,IF(J66=2,Specification!$I$15,IF(J66=3,Specification!$I$16))) -> 578.93404 | I66: 0 | J66: 3 | K66: =IF(J66=1,VLOOKUP(B66,RPM!$F$2:$H$62,3,TRUE),IF(J66=2,VLOOKUP(B66,RPM!$I$2:$K$62,3,TRUE),IF(J66=3,VLOOKUP(B66,RPM!$L$2:$N$62,3,TRUE)))) -> 4300 | L66: =IF(I66=0,ABS(1/B66)+L65,IF(ABS(B67-B66)=0,1/B66+L65,ABS((B67-B66)/I66)+L65)) -> 7.5116012 | M66: =TAN(E66*PI()/180)+M65 -> 0 | N66: =VLOOKUP(K66,RPM!$A$2:$D$62,3,FALSE) -> 11.4 | O66: =VLOOKUP(K66,RPM!$A$2:$D$62,4,FALSE) -> 18.894837 | P66: =O66*0.7457 -> 14.08988 | Q66: {=_xlfn.XLOOKUP(O66,BSFC!$A$2:$A$24,_xlfn.XLOOKUP(K66,BSFC!$B$1:$O$1,BSFC!$B$2:$O$24,,-1),,-1)} -> 480 | R66: =Q66*P66/3600 -> 1.8786507 | S66: =(L66-L65)/3600*P66 -> 0.00029183485 | T66: =S66*Q66 -> 0.14008073 | U66: =U65+T66 -> 12.130996 | V66: =V65+S66 -> 0.023226075 | W66: =V66*1000*3600 -> 83613.87 | X66: =('Hybrid Info'!$A$2-Track!P66)*(L66-L65)*1000+X65 -> 2362.7662
... A288: =A287+1 -> 287 | B288: =IF(SQRT(B287^2+2*I287)>13.4112,13.4112,SQRT(B287^2+2*I287)) -> 13.4112 | C288: =Specification!$G$30 -> 109.96225 | D288: =0.5*Specification!$K$4*Track!B288^2*Specification!$K$3*Specification!$K$2 -> 93.159843 | E288: 0 | F288: =Specification!$C$23*9.81*SIN((E288*PI()/180)) -> 0 | G288: =IF(J288=1,VLOOKUP(K288,RPM!$E$2:$H$62,3,FALSE)-F288-E288-D288,IF(J288=2,VLOOKUP(K288,RPM!$H$2:$K$62,3,FALSE)-F288-E288-D288,IF(J288=3,VLOOKUP(K288,RPM!$K$2:$N$62,3,FALSE)-F288-E288-D288))) -> 549.56218 | H288: =IF(J288=1,Specification!$I$14,IF(J288=2,Specification!$I$15,IF(J288=3,Specification!$I$16))) -> 578.93404 | I288: 0 | J288: 3 | K288: =IF(J288=1,VLOOKUP(B288,RPM!$F$2:$H$62,3,TRUE),IF(J288=2,VLOOKUP(B288,RPM!$I$2:$K$62,3,TRUE),IF(J288=3,VLOOKUP(B288,RPM!$L$2:$N$62,3,TRUE)))) -> 4300 | L288: =IF(I288=0,ABS(1/B288)+L287,IF(ABS(B289-B288)=0,1/B288+L287,ABS((B289-B288)/I288)+L287)) -> 24.06493 | M288: =TAN(E288*PI()/180)+M287 -> 0 | N288: =VLOOKUP(K288,RPM!$A$2:$D$62,3,FALSE) -> 11.4 | O288: =VLOOKUP(K288,RPM!$A$2:$D$62,4,FALSE) -> 18.894837 | P288: =O288*0.7457 -> 14.08988 | Q288: {=_xlfn.XLOOKUP(O288,BSFC!$A$2:$A$24,_xlfn.XLOOKUP(K288,BSFC!$B$1:$O$1,BSFC!$B$2:$O$24,,-1),,-1)} -> 480 | R288: =Q288*P288/3600 -> 1.8786507 | S288: =(L288-L287)/3600*P288 -> 0.00029183485 | T288: =S288*Q288 -> 0.14008073 | U288: =U287+T288 -> 43.228918 | V288: =V287+S288 -> 0.088013413 | W288: =V288*1000*3600 -> 316848.29 | X288: =('Hybrid Info'!$A$2-Track!P288)*(L288-L287)*1000+X287 -> -30237.781
A289: =A288+1 -> 288 | B289: =IF(SQRT(B288^2+2*I288)>13.4112,13.4112,SQRT(B288^2+2*I288)) -> 13.4112 | C289: =Specification!$G$30 -> 109.96225 | D289: =0.5*Specification!$K$4*Track!B289^2*Specification!$K$3*Specification!$K$2 -> 93.159843 | E289: 0 | F289: =Specification!$C$23*9.81*SIN((E289*PI()/180)) -> 0 | G289: =IF(J289=1,VLOOKUP(K289,RPM!$E$2:$H$62,3,FALSE)-F289-E289-D289,IF(J289=2,VLOOKUP(K289,RPM!$H$2:$K$62,3,FALSE)-F289-E289-D289,IF(J289=3,VLOOKUP(K289,RPM!$K$2:$N$62,3,FALSE)-F289-E289-D289))) -> 549.56218 | H289: =IF(J289=1,Specification!$I$14,IF(J289=2,Specification!$I$15,IF(J289=3,Specification!$I$16))) -> 578.93404 | I289: =Specification!$F$13 -> -2.4219831 | J289: 3 | K289: =IF(J289=1,VLOOKUP(B289,RPM!$F$2:$H$62,3,TRUE),IF(J289=2,VLOOKUP(B289,RPM!$I$2:$K$62,3,TRUE),IF(J289=3,VLOOKUP(B289,RPM!$L$2:$N$62,3,TRUE)))) -> 4300 | L289: =IF(I289=0,ABS(1/B289)+L288,IF(ABS(B290-B289)=0,1/B289+L288,ABS((B290-B289)/I289)+L288)) -> 24.140003 | M289: =TAN(E289*PI()/180)+M288 -> 0 | N289: =VLOOKUP(K289,RPM!$A$2:$D$62,3,FALSE) -> 11.4 | O289: =VLOOKUP(K289,RPM!$A$2:$D$62,4,FALSE) -> 18.894837 | P289: =O289*0.7457 -> 14.08988 | Q289: {=_xlfn.XLOOKUP(O289,BSFC!$A$2:$A$24,_xlfn.XLOOKUP(K289,BSFC!$B$1:$O$1,BSFC!$B$2:$O$24,,-1),,-1)} -> 480 | R289: =Q289*P289/3600 -> 1.8786507 | S289: =(L289-L288)/3600*P289 -> 0.00029382668 | T289: =S289*Q289 -> 0.14103681 | U289: =U288+T289 -> 43.369955 | V289: =V288+S289 -> 0.088307239 | W289: =V289*1000*3600 -> 317906.06 | X289: =('Hybrid Info'!$A$2-Track!P289)*(L289-L288)*1000+X288 -> -30385.633
A290: =A289+1 -> 289 | B290: =IF(SQRT(B289^2+2*I289)>13.4112,13.4112,SQRT(B289^2+2*I289)) -> 13.229373 | C290: =Specification!$G$30 -> 109.96225 | D290: =0.5*Specification!$K$4*Track!B290^2*Specification!$K$3*Specification!$K$2 -> 90.650878 | E290: 0 | F290: =Specification!$C$23*9.81*SIN((E290*PI()/180)) -> 0 | G290: =IF(J290=1,VLOOKUP(K290,RPM!$E$2:$H$62,3,FALSE)-F290-E290-D290,IF(J290=2,VLOOKUP(K290,RPM!$H$2:$K$62,3,FALSE)-F290-E290-D290,IF(J290=3,VLOOKUP(K290,RPM!$K$2:$N$62,3,FALSE)-F290-E290-D290))) -> 550.0576 | H290: =IF(J290=1,Specification!$I$14,IF(J290=2,Specification!$I$15,IF(J290=3,Specification!$I$16))) -> 578.93404 | I290: =Specification!$F$13 -> -2.4219831 | J290: 3 | K290: =IF(J290=1,VLOOKUP(B290,RPM!$F$2:$H$62,3,TRUE),IF(J290=2,VLOOKUP(B290,RPM!$I$2:$K$62,3,TRUE),IF(J290=3,VLOOKUP(B290,RPM!$L$2:$N$62,3,TRUE)))) -> 4200 | L290: =IF(I290=0,ABS(1/B290)+L289,IF(ABS(B291-B290)=0,1/B290+L289,ABS((B291-B290)/I290)+L289)) -> 24.216123 | M290: =TAN(E290*PI()/180)+M289 -> 0 | N290: =VLOOKUP(K290,RPM!$A$2:$D$62,3,FALSE) -> 11.1 | O290: =VLOOKUP(K290,RPM!$A$2:$D$62,4,FALSE) -> 18.835643 | P290: =O290*0.7457 -> 14.045739 | Q290: {=_xlfn.XLOOKUP(O290,BSFC!$A$2:$A$24,_xlfn.XLOOKUP(K290,BSFC!$B$1:$O$1,BSFC!$B$2:$O$24,,-1),,-1)} -> 480 | R290: =Q290*P290/3600 -> 1.8727652 | S290: =(L290-L289)/3600*P290 -> 0.00029698842 | T290: =S290*Q290 -> 0.14255444 | U290: =U289+T290 -> 43.512509 | V290: =V289+S290 -> 0.088604228 | W290: =V290*1000*3600 -> 318975.22 | X290: =('Hybrid Info'!$A$2-Track!P290)*(L290-L289)*1000+X289 -> -30532.185
A291: =A290+1 -> 290 | B291: =IF(SQRT(B290^2+2*I290)>13.4112,13.4112,SQRT(B290^2+2*I290)) -> 13.045013 | C291: =Specification!$G$30 -> 109.96225 | D291: =0.5*Specification!$K$4*Track!B291^2*Specification!$K$3*Specification!$K$2 -> 88.141913 | E291: 0 | F291: =Specification!$C$23*9.81*SIN((E291*PI()/180)) -> 0 | G291: =IF(J291=1,VLOOKUP(K291,RPM!$E$2:$H$62,3,FALSE)-F291-E291-D291,IF(J291=2,VLOOKUP(K291,RPM!$H$2:$K$62,3,FALSE)-F291-E291-D291,IF(J291=3,VLOOKUP(K291,RPM!$K$2:$N$62,3,FALSE)-F291-E291-D291))) -> 552.56657 | H291: =IF(J291=1,Specification!$I$14,IF(J291=2,Specification!$I$15,IF(J291=3,Specification!$I$16))) -> 578.93404 | I291: =Specification!$F$13 -> -2.4219831 | J291: 3 | K291: =IF(J291=1,VLOOKUP(B291,RPM!$F$2:$H$62,3,TRUE),IF(J291=2,VLOOKUP(B291,RPM!$I$2:$K$62,3,TRUE),IF(J291=3,VLOOKUP(B291,RPM!$L$2:$N$62,3,TRUE)))) -> 4200 | L291: =IF(I291=0,ABS(1/B291)+L290,IF(ABS(B292-B291)=0,1/B291+L290,ABS((B292-B291)/I291)+L290)) -> 24.293334 | M291: =TAN(E291*PI()/180)+M290 -> 0 | N291: =VLOOKUP(K291,RPM!$A$2:$D$62,3,FALSE) -> 11.1 | O291: =VLOOKUP(K291,RPM!$A$2:$D$62,4,FALSE) -> 18.835643 | P291: =O291*0.7457 -> 14.045739 | Q291: {=_xlfn.XLOOKUP(O291,BSFC!$A$2:$A$24,_xlfn.XLOOKUP(K291,BSFC!$B$1:$O$1,BSFC!$B$2:$O$24,,-1),,-1)} -> 480 | R291: =Q291*P291/3600 -> 1.8727652 | S291: =(L291-L290)/3600*P291 -> 0.00030124626 | T291: =S291*Q291 -> 0.1445982 | U291: =U290+T291 -> 43.657108 | V291: =V290+S291 -> 0.088905474 | W291: =V291*1000*3600 -> 320059.71 | X291: =('Hybrid Info'!$A$2-Track!P291)*(L291-L290)*1000+X290 -> -30680.838
A292: =A291+1 -> 291 | B292: =IF(SQRT(B291^2+2*I291)>13.4112,13.4112,SQRT(B291^2+2*I291)) -> 12.858009 | C292: =Specification!$G$30 -> 109.96225 | D292: =0.5*Specification!$K$4*Track!B292^2*Specification!$K$3*Specification!$K$2 -> 85.632948 | E292: 0 | F292: =Specification!$C$23*9.81*SIN((E292*PI()/180)) -> 0 | G292: =IF(J292=1,VLOOKUP(K292,RPM!$E$2:$H$62,3,FALSE)-F292-E292-D292,IF(J292=2,VLOOKUP(K292,RPM!$H$2:$K$62,3,FALSE)-F292-E292-D292,IF(J292=3,VLOOKUP(K292,RPM!$K$2:$N$62,3,FALSE)-F292-E292-D292))) -> 552.96377 | H292: =IF(J292=1,Specification!$I$14,IF(J292=2,Specification!$I$15,IF(J292=3,Specification!$I$16))) -> 578.93404 | I292: =Specification!$F$13 -> -2.4219831 | J292: 3 | K292: =IF(J292=1,VLOOKUP(B292,RPM!$F$2:$H$62,3,TRUE),IF(J292=2,VLOOKUP(B292,RPM!$I$2:$K$62,3,TRUE),IF(J292=3,VLOOKUP(B292,RPM!$L$2:$N$62,3,TRUE)))) -> 4100 | L292: =IF(I292=0,ABS(1/B292)+L291,IF(ABS(B293-B292)=0,1/B292+L291,ABS((B293-B292)/I292)+L291)) -> 24.371685 | M292: =TAN(E292*PI()/180)+M291 -> 0 | N292: =VLOOKUP(K292,RPM!$A$2:$D$62,3,FALSE) -> 10.8 | O292: =VLOOKUP(K292,RPM!$A$2:$D$62,4,FALSE) -> 18.773561 | P292: =O292*0.7457 -> 13.999444 | Q292: {=_xlfn.XLOOKUP(O292,BSFC!$A$2:$A$24,_xlfn.XLOOKUP(K292,BSFC!$B$1:$O$1,BSFC!$B$2:$O$24,,-1),,-1)} -> 480 | R292: =Q292*P292/3600 -> 1.8665926 | S292: =(L292-L291)/3600*P292 -> 0.0003046851 | T292: =S292*Q292 -> 0.14624885 | U292: =U291+T292 -> 43.803356 | V292: =V291+S292 -> 0.089210159 | W292: =V292*1000*3600 -> 321156.57 | X292: =('Hybrid Info'!$A$2-Track!P292)*(L292-L291)*1000+X291 -> -30828.059
A293: =A292+1 -> 292 | B293: =IF(SQRT(B292^2+2*I292)>13.4112,13.4112,SQRT(B292^2+2*I292)) -> 12.668245 | C293: =Specification!$G$30 -> 109.96225 | D293: =0.5*Specification!$K$4*Track!B293^2*Specification!$K$3*Specification!$K$2 -> 83.123983 | E293: 0 | F293: =Specification!$C$23*9.81*SIN((E293*PI()/180)) -> 0 | G293: =IF(J293=1,VLOOKUP(K293,RPM!$E$2:$H$62,3,FALSE)-F293-E293-D293,IF(J293=2,VLOOKUP(K293,RPM!$H$2:$K$62,3,FALSE)-F293-E293-D293,IF(J293=3,VLOOKUP(K293,RPM!$K$2:$N$62,3,FALSE)-F293-E293-D293))) -> 555.47274 | H293: =IF(J293=1,Specification!$I$14,IF(J293=2,Specification!$I$15,IF(J293=3,Specification!$I$16))) -> 578.93404 | I293: =Specification!$F$13 -> -2.4219831 | J293: 3 | K293: =IF(J293=1,VLOOKUP(B293,RPM!$F$2:$H$62,3,TRUE),IF(J293=2,VLOOKUP(B293,RPM!$I$2:$K$62,3,TRUE),IF(J293=3,VLOOKUP(B293,RPM!$L$2:$N$62,3,TRUE)))) -> 4100 | L293: =IF(I293=0,ABS(1/B293)+L292,IF(ABS(B294-B293)=0,1/B293+L292,ABS((B294-B293)/I293)+L292)) -> 24.451227 | M293: =TAN(E293*PI()/180)+M292 -> 0 | N293: =VLOOKUP(K293,RPM!$A$2:$D$62,3,FALSE) -> 10.8 | O293: =VLOOKUP(K293,RPM!$A$2:$D$62,4,FALSE) -> 18.773561 | P293: =O293*0.7457 -> 13.999444 | Q293: {=_xlfn.XLOOKUP(O293,BSFC!$A$2:$A$24,_xlfn.XLOOKUP(K293,BSFC!$B$1:$O$1,BSFC!$B$2:$O$24,,-1),,-1)} -> 480 | R293: =Q293*P293/3600 -> 1.8665926 | S293: =(L293-L292)/3600*P293 -> 0.00030931908 | T293: =S293*Q293 -> 0.14847316 | U293: =U292+T293 -> 43.95183 | V293: =V292+S293 -> 0.089519478 | W293: =V293*1000*3600 -> 322270.12 | X293: =('Hybrid Info'!$A$2-Track!P293)*(L293-L292)*1000+X292 -> -30977.518
A294: =A293+1 -> 293 | B294: =IF(SQRT(B293^2+2*I293)>13.4112,13.4112,SQRT(B293^2+2*I293)) -> 12.475594 | C294: =Specification!$G$30 -> 109.96225 | D294: =0.5*Specification!$K$4*Track!B294^2*Specification!$K$3*Specification!$K$2 -> 80.615019 | E294: 0 | F294: =Specification!$C$23*9.81*SIN((E294*PI()/180)) -> 0 | G294: =IF(J294=1,VLOOKUP(K294,RPM!$E$2:$H$62,3,FALSE)-F294-E294-D294,IF(J294=2,VLOOKUP(K294,RPM!$H$2:$K$62,3,FALSE)-F294-E294-D294,IF(J294=3,VLOOKUP(K294,RPM!$K$2:$N$62,3,FALSE)-F294-E294-D294))) -> 555.76435 | H294: =IF(J294=1,Specification!$I$14,IF(J294=2,Specification!$I$15,IF(J294=3,Specification!$I$16))) -> 578.93404 | I294: =Specification!$F$13 -> -2.4219831 | J294: 3 | K294: =IF(J294=1,VLOOKUP(B294,RPM!$F$2:$H$62,3,TRUE),IF(J294=2,VLOOKUP(B294,RPM!$I$2:$K$62,3,TRUE),IF(J294=3,VLOOKUP(B294,RPM!$L$2:$N$62,3,TRUE)))) -> 4000 | L294: =IF(I294=0,ABS(1/B294)+L293,IF(ABS(B295-B294)=0,1/B294+L293,ABS((B295-B294)/I294)+L293)) -> 24.532017 | M294: =TAN(E294*PI()/180)+M293 -> 0 | N294: =VLOOKUP(K294,RPM!$A$2:$D$62,3,FALSE) -> 10.5 | O294: =VLOOKUP(K294,RPM!$A$2:$D$62,4,FALSE) -> 18.708375 | P294: =O294*0.7457 -> 13.950835 | Q294: {=_xlfn.XLOOKUP(O294,BSFC!$A$2:$A$24,_xlfn.XLOOKUP(K294,BSFC!$B$1:$O$1,BSFC!$B$2:$O$24,,-1),,-1)} -> 480 | R294: =Q294*P294/3600 -> 1.8601114 | S294: =(L294-L293)/3600*P294 -> 0.00031308028 | T294: =S294*Q294 -> 0.15027853 | U294: =U293+T294 -> 44.102108 | V294: =V293+S294 -> 0.089832558 | W294: =V294*1000*3600 -> 323397.21 | X294: =('Hybrid Info'!$A$2-Track!P294)*(L294-L293)*1000+X293 -> -31125.394
A295: =A294+1 -> 294 | B295: =IF(SQRT(B294^2+2*I294)>13.4112,13.4112,SQRT(B294^2+2*I294)) -> 12.279922 | C295: =Specification!$G$30 -> 109.96225 | D295: =0.5*Specification!$K$4*Track!B295^2*Specification!$K$3*Specification!$K$2 -> 78.106054 | E295: 0 | F295: =Specification!$C$23*9.81*SIN((E295*PI()/180)) -> 0 | G295: =IF(J295=1,VLOOKUP(K295,RPM!$E$2:$H$62,3,FALSE)-F295-E295-D295,IF(J295=2,VLOOKUP(K295,RPM!$H$2:$K$62,3,FALSE)-F295-E295-D295,IF(J295=3,VLOOKUP(K295,RPM!$K$2:$N$62,3,FALSE)-F295-E295-D295))) -> 562.15842 | H295: =IF(J295=1,Specification!$I$14,IF(J295=2,Specification!$I$15,IF(J295=3,Specification!$I$16))) -> 578.93404 | I295: =Specification!$F$13 -> -2.4219831 | J295: 3 | K295: =IF(J295=1,VLOOKUP(B295,RPM!$F$2:$H$62,3,TRUE),IF(J295=2,VLOOKUP(B295,RPM!$I$2:$K$62,3,TRUE),IF(J295=3,VLOOKUP(B295,RPM!$L$2:$N$62,3,TRUE)))) -> 3900 | L295: =IF(I295=0,ABS(1/B295)+L294,IF(ABS(B296-B295)=0,1/B295+L294,ABS((B296-B295)/I295)+L294)) -> 24.614116 | M295: =TAN(E295*PI()/180)+M294 -> 0 | N295: =VLOOKUP(K295,RPM!$A$2:$D$62,3,FALSE) -> 10.3 | O295: =VLOOKUP(K295,RPM!$A$2:$D$62,4,FALSE) -> 18.82259 | P295: =O295*0.7457 -> 14.036005 | Q295: {=_xlfn.XLOOKUP(O295,BSFC!$A$2:$A$24,_xlfn.XLOOKUP(K295,BSFC!$B$1:$O$1,BSFC!$B$2:$O$24,,-1),,-1)} -> 490 | R295: =Q295*P295/3600 -> 1.9104563 | S295: =(L295-L294)/3600*P295 -> 0.00032009275 | T295: =S295*Q295 -> 0.15684545 | U295: =U294+T295 -> 44.258954 | V295: =V294+S295 -> 0.090152651 | W295: =V295*1000*3600 -> 324549.54 | X295: =('Hybrid Info'!$A$2-Track!P295)*(L295-L294)*1000+X294 -> -31282.658
A296: =A295+1 -> 295 | B296: =IF(SQRT(B295^2+2*I295)>13.4112,13.4112,SQRT(B295^2+2*I295)) -> 12.081081 | C296: =Specification!$G$30 -> 109.96225 | D296: =0.5*Specification!$K$4*Track!B296^2*Specification!$K$3*Specification!$K$2 -> 75.597089 | E296: 0 | F296: =Specification!$C$23*9.81*SIN((E296*PI()/180)) -> 0 | G296: =IF(J296=1,VLOOKUP(K296,RPM!$E$2:$H$62,3,FALSE)-F296-E296-D296,IF(J296=2,VLOOKUP(K296,RPM!$H$2:$K$62,3,FALSE)-F296-E296-D296,IF(J296=3,VLOOKUP(K296,RPM!$K$2:$N$62,3,FALSE)-F296-E296-D296))) -> 852.82753 | H296: =IF(J296=1,Specification!$I$14,IF(J296=2,Specification!$I$15,IF(J296=3,Specification!$I$16))) -> 582.50936 | I296: 0 | J296: 2 | K296: =IF(J296=1,VLOOKUP(B296,RPM!$F$2:$H$62,3,TRUE),IF(J296=2,VLOOKUP(B296,RPM!$I$2:$K$62,3,TRUE),IF(J296=3,VLOOKUP(B296,RPM!$L$2:$N$62,3,TRUE)))) -> 6800 | L296: =IF(I296=0,ABS(1/B296)+L295,IF(ABS(B297-B296)=0,1/B296+L295,ABS((B297-B296)/I296)+L295)) -> 24.69689 | M296: =TAN(E296*PI()/180)+M295 -> 0 | N296: =VLOOKUP(K296,RPM!$A$2:$D$62,3,FALSE) -> 15 | O296: =VLOOKUP(K296,RPM!$A$2:$D$62,4,FALSE) -> 15.721324 | P296: =O296*0.7457 -> 11.723391 | Q296: {=_xlfn.XLOOKUP(O296,BSFC!$A$2:$A$24,_xlfn.XLOOKUP(K296,BSFC!$B$1:$O$1,BSFC!$B$2:$O$24,,-1),,-1)} -> 440 | R296: =Q296*P296/3600 -> 1.4328589 | S296: =(L296-L295)/3600*P296 -> 0.00026955348 | T296: =S296*Q296 -> 0.11860353 | U296: =U295+T296 -> 44.377557 | V296: =V295+S296 -> 0.090422205 | W296: =V296*1000*3600 -> 325519.94 | X296: =('Hybrid Info'!$A$2-Track!P296)*(L296-L295)*1000+X295 -> -31249.792
A297: =A296+1 -> 296 | B297: =IF(SQRT(B296^2+2*I296)>13.4112,13.4112,SQRT(B296^2+2*I296)) -> 12.081081 | C297: =Specification!$G$30 -> 109.96225 | D297: =0.5*Specification!$K$4*Track!B297^2*Specification!$K$3*Specification!$K$2 -> 75.597089 | E297: 0 | F297: =Specification!$C$23*9.81*SIN((E297*PI()/180)) -> 0 | G297: =IF(J297=1,VLOOKUP(K297,RPM!$E$2:$H$62,3,FALSE)-F297-E297-D297,IF(J297=2,VLOOKUP(K297,RPM!$H$2:$K$62,3,FALSE)-F297-E297-D297,IF(J297=3,VLOOKUP(K297,RPM!$K$2:$N$62,3,FALSE)-F297-E297-D297))) -> 852.82753 | H297: =IF(J297=1,Specification!$I$14,IF(J297=2,Specification!$I$15,IF(J297=3,Specification!$I$16))) -> 582.50936 | I297: 0 | J297: 2 | K297: =IF(J297=1,VLOOKUP(B297,RPM!$F$2:$H$62,3,TRUE),IF(J297=2,VLOOKUP(B297,RPM!$I$2:$K$62,3,TRUE),IF(J297=3,VLOOKUP(B297,RPM!$L$2:$N$62,3,TRUE)))) -> 6800 | L297: =IF(I297=0,ABS(1/B297)+L296,IF(ABS(B298-B297)=0,1/B297+L296,ABS((B298-B297)/I297)+L296)) -> 24.779664 | M297: =TAN(E297*PI()/180)+M296 -> 0 | N297: =VLOOKUP(K297,RPM!$A$2:$D$62,3,FALSE) -> 15 | O297: =VLOOKUP(K297,RPM!$A$2:$D$62,4,FALSE) -> 15.721324 | P297: =O297*0.7457 -> 11.723391 | Q297: {=_xlfn.XLOOKUP(O297,BSFC!$A$2:$A$24,_xlfn.XLOOKUP(K297,BSFC!$B$1:$O$1,BSFC!$B$2:$O$24,,-1),,-1)} -> 440 | R297: =Q297*P297/3600 -> 1.4328589 | S297: =(L297-L296)/3600*P297 -> 0.00026955348 | T297: =S297*Q297 -> 0.11860353 | U297: =U296+T297 -> 44.496161 | V297: =V296+S297 -> 0.090691758 | W297: =V297*1000*3600 -> 326490.33 | X297: =('Hybrid Info'!$A$2-Track!P297)*(L297-L296)*1000+X296 -> -31216.925
A298: =A297+1 -> 297 | B298: =IF(SQRT(B297^2+2*I297)>13.4112,13.4112,SQRT(B297^2+2*I297)) -> 12.081081 | C298: =Specification!$G$30 -> 109.96225 | D298: =0.5*Specification!$K$4*Track!B298^2*Specification!$K$3*Specification!$K$2 -> 75.597089 | E298: 0 | F298: =Specification!$C$23*9.81*SIN((E298*PI()/180)) -> 0 | G298: =IF(J298=1,VLOOKUP(K298,RPM!$E$2:$H$62,3,FALSE)-F298-E298-D298,IF(J298=2,VLOOKUP(K298,RPM!$H$2:$K$62,3,FALSE)-F298-E298-D298,IF(J298=3,VLOOKUP(K298,RPM!$K$2:$N$62,3,FALSE)-F298-E298-D298))) -> 852.82753 | H298: =IF(J298=1,Specification!$I$14,IF(J298=2,Specification!$I$15,IF(J298=3,Specification!$I$16))) -> 582.50936 | I298: 0 | J298: 2 | K298: =IF(J298=1,VLOOKUP(B298,RPM!$F$2:$H$62,3,TRUE),IF(J298=2,VLOOKUP(B298,RPM!$I$2:$K$62,3,TRUE),IF(J298=3,VLOOKUP(B298,RPM!$L$2:$N$62,3,TRUE)))) -> 6800 | L298: =IF(I298=0,ABS(1/B298)+L297,IF(ABS(B299-B298)=0,1/B298+L297,ABS((B299-B298)/I298)+L297)) -> 24.862438 | M298: =TAN(E298*PI()/180)+M297 -> 0 | N298: =VLOOKUP(K298,RPM!$A$2:$D$62,3,FALSE) -> 15 | O298: =VLOOKUP(K298,RPM!$A$2:$D$62,4,FALSE) -> 15.721324 | P298: =O298*0.7457 -> 11.723391 | Q298: {=_xlfn.XLOOKUP(O298,BSFC!$A$2:$A$24,_xlfn.XLOOKUP(K298,BSFC!$B$1:$O$1,BSFC!$B$2:$O$24,,-1),,-1)} -> 440 | R298: =Q298*P298/3600 -> 1.4328589 | S298: =(L298-L297)/3600*P298 -> 0.00026955348 | T298: =S298*Q298 -> 0.11860353 | U298: =U297+T298 -> 44.614764 | V298: =V297+S298 -> 0.090961312 | W298: =V298*1000*3600 -> 327460.72 | X298: =('Hybrid Info'!$A$2-Track!P298)*(L298-L297)*1000+X297 -> -31184.058
A299: =A298+1 -> 298 | B299: =IF(SQRT(B298^2+2*I298)>13.4112,13.4112,SQRT(B298^2+2*I298)) -> 12.081081 | C299: =Specification!$G$30 -> 109.96225 | D299: =0.5*Specification!$K$4*Track!B299^2*Specification!$K$3*Specification!$K$2 -> 75.597089 | E299: 0 | F299: =Specification!$C$23*9.81*SIN((E299*PI()/180)) -> 0 | G299: =IF(J299=1,VLOOKUP(K299,RPM!$E$2:$H$62,3,FALSE)-F299-E299-D299,IF(J299=2,VLOOKUP(K299,RPM!$H$2:$K$62,3,FALSE)-F299-E299-D299,IF(J299=3,VLOOKUP(K299,RPM!$K$2:$N$62,3,FALSE)-F299-E299-D299))) -> 852.82753 | H299: =IF(J299=1,Specification!$I$14,IF(J299=2,Specification!$I$15,IF(J299=3,Specification!$I$16))) -> 582.50936 | I299: 0 | J299: 2 | K299: =IF(J299=1,VLOOKUP(B299,RPM!$F$2:$H$62,3,TRUE),IF(J299=2,VLOOKUP(B299,RPM!$I$2:$K$62,3,TRUE),IF(J299=3,VLOOKUP(B299,RPM!$L$2:$N$62,3,TRUE)))) -> 6800 | L299: =IF(I299=0,ABS(1/B299)+L298,IF(ABS(B300-B299)=0,1/B299+L298,ABS((B300-B299)/I299)+L298)) -> 24.945212 | M299: =TAN(E299*PI()/180)+M298 -> 0 | N299: =VLOOKUP(K299,RPM!$A$2:$D$62,3,FALSE) -> 15 | O299: =VLOOKUP(K299,RPM!$A$2:$D$62,4,FALSE) -> 15.721324 | P299: =O299*0.7457 -> 11.723391 | Q299: {=_xlfn.XLOOKUP(O299,BSFC!$A$2:$A$24,_xlfn.XLOOKUP(K299,BSFC!$B$1:$O$1,BSFC!$B$2:$O$24,,-1),,-1)} -> 440 | R299: =Q299*P299/3600 -> 1.4328589 | S299: =(L299-L298)/3600*P299 -> 0.00026955348 | T299: =S299*Q299 -> 0.11860353 | U299: =U298+T299 -> 44.733368 | V299: =V298+S299 -> 0.091230865 | W299: =V299*1000*3600 -> 328431.11 | X299: =('Hybrid Info'!$A$2-Track!P299)*(L299-L298)*1000+X298 -> -31151.192
A300: =A299+1 -> 299 | B300: =IF(SQRT(B299^2+2*I299)>13.4112,13.4112,SQRT(B299^2+2*I299)) -> 12.081081 | C300: =Specification!$G$30 -> 109.96225 | D300: =0.5*Specification!$K$4*Track!B300^2*Specification!$K$3*Specification!$K$2 -> 75.597089 | E300: 0 | F300: =Specification!$C$23*9.81*SIN((E300*PI()/180)) -> 0 | G300: =IF(J300=1,VLOOKUP(K300,RPM!$E$2:$H$62,3,FALSE)-F300-E300-D300,IF(J300=2,VLOOKUP(K300,RPM!$H$2:$K$62,3,FALSE)-F300-E300-D300,IF(J300=3,VLOOKUP(K300,RPM!$K$2:$N$62,3,FALSE)-F300-E300-D300))) -> 852.82753 | H300: =IF(J300=1,Specification!$I$14,IF(J300=2,Specification!$I$15,IF(J300=3,Specification!$I$16))) -> 582.50936 | I300: 0 | J300: 2 | K300: =IF(J300=1,VLOOKUP(B300,RPM!$F$2:$H$62,3,TRUE),IF(J300=2,VLOOKUP(B300,RPM!$I$2:$K$62,3,TRUE),IF(J300=3,VLOOKUP(B300,RPM!$L$2:$N$62,3,TRUE)))) -> 6800 | L300: =IF(I300=0,ABS(1/B300)+L299,IF(ABS(B301-B300)=0,1/B300+L299,ABS((B301-B300)/I300)+L299)) -> 25.027986 | M300: =TAN(E300*PI()/180)+M299 -> 0 | N300: =VLOOKUP(K300,RPM!$A$2:$D$62,3,FALSE) -> 15 | O300: =VLOOKUP(K300,RPM!$A$2:$D$62,4,FALSE) -> 15.721324 | P300: =O300*0.7457 -> 11.723391 | Q300: {=_xlfn.XLOOKUP(O300,BSFC!$A$2:$A$24,_xlfn.XLOOKUP(K300,BSFC!$B$1:$O$1,BSFC!$B$2:$O$24,,-1),,-1)} -> 440 | R300: =Q300*P300/3600 -> 1.4328589 | S300: =(L300-L299)/3600*P300 -> 0.00026955348 | T300: =S300*Q300 -> 0.11860353 | U300: =U299+T300 -> 44.851971 | V300: =V299+S300 -> 0.091500419 | W300: =V300*1000*3600 -> 329401.51 | X300: =('Hybrid Info'!$A$2-Track!P300)*(L300-L299)*1000+X299 -> -31118.325
A301: =A300+1 -> 300 | B301: =IF(SQRT(B300^2+2*I300)>13.4112,13.4112,SQRT(B300^2+2*I300)) -> 12.081081 | C301: =Specification!$G$30 -> 109.96225 | D301: =0.5*Specification!$K$4*Track!B301^2*Specification!$K$3*Specification!$K$2 -> 75.597089 | E301: 0 | F301: =Specification!$C$23*9.81*SIN((E301*PI()/180)) -> 0 | G301: =IF(J301=1,VLOOKUP(K301,RPM!$E$2:$H$62,3,FALSE)-F301-E301-D301,IF(J301=2,VLOOKUP(K301,RPM!$H$2:$K$62,3,FALSE)-F301-E301-D301,IF(J301=3,VLOOKUP(K301,RPM!$K$2:$N$62,3,FALSE)-F301-E301-D301))) -> 852.82753 | H301: =IF(J301=1,Specification!$I$14,IF(J301=2,Specification!$I$15,IF(J301=3,Specification!$I$16))) -> 582.50936 | I301: 0 | J301: 2 | K301: =IF(J301=1,VLOOKUP(B301,RPM!$F$2:$H$62,3,TRUE),IF(J301=2,VLOOKUP(B301,RPM!$I$2:$K$62,3,TRUE),IF(J301=3,VLOOKUP(B301,RPM!$L$2:$N$62,3,TRUE)))) -> 6800 | L301: =IF(I301=0,ABS(1/B301)+L300,IF(ABS(B302-B301)=0,1/B301+L300,ABS((B302-B301)/I301)+L300)) -> 25.11076 | M301: =TAN(E301*PI()/180)+M300 -> 0 | N301: =VLOOKUP(K301,RPM!$A$2:$D$62,3,FALSE) -> 15 | O301: =VLOOKUP(K301,RPM!$A$2:$D$62,4,FALSE) -> 15.721324 | P301: =O301*0.7457 -> 11.723391 | Q301: {=_xlfn.XLOOKUP(O301,BSFC!$A$2:$A$24,_xlfn.XLOOKUP(K301,BSFC!$B$1:$O$1,BSFC!$B$2:$O$24,,-1),,-1)} -> 440 | R301: =Q301*P301/3600 -> 1.4328589 | S301: =(L301-L300)/3600*P301 -> 0.00026955348 | T301: =S301*Q301 -> 0.11860353 | U301: =U300+T301 -> 44.970575 | V301: =V300+S301 -> 0.091769972 | W301: =V301*1000*3600 -> 330371.9 | X301: =('Hybrid Info'!$A$2-Track!P301)*(L301-L300)*1000+X300 -> -31085.459
A302: =A301+1 -> 301 | B302: =IF(SQRT(B301^2+2*I301)>13.4112,13.4112,SQRT(B301^2+2*I301)) -> 12.081081 | C302: =Specification!$G$30 -> 109.96225 | D302: =0.5*Specification!$K$4*Track!B302^2*Specification!$K$3*Specification!$K$2 -> 75.597089 | E302: 0 | F302: =Specification!$C$23*9.81*SIN((E302*PI()/180)) -> 0 | G302: =IF(J302=1,VLOOKUP(K302,RPM!$E$2:$H$62,3,FALSE)-F302-E302-D302,IF(J302=2,VLOOKUP(K302,RPM!$H$2:$K$62,3,FALSE)-F302-E302-D302,IF(J302=3,VLOOKUP(K302,RPM!$K$2:$N$62,3,FALSE)-F302-E302-D302))) -> 852.82753 | H302: =IF(J302=1,Specification!$I$14,IF(J302=2,Specification!$I$15,IF(J302=3,Specification!$I$16))) -> 582.50936 | I302: 0 | J302: 2 | K302: =IF(J302=1,VLOOKUP(B302,RPM!$F$2:$H$62,3,TRUE),IF(J302=2,VLOOKUP(B302,RPM!$I$2:$K$62,3,TRUE),IF(J302=3,VLOOKUP(B302,RPM!$L$2:$N$62,3,TRUE)))) -> 6800 | L302: =IF(I302=0,ABS(1/B302)+L301,IF(ABS(B303-B302)=0,1/B302+L301,ABS((B303-B302)/I302)+L301)) -> 25.193534 | M302: =TAN(E302*PI()/180)+M301 -> 0 | N302: =VLOOKUP(K302,RPM!$A$2:$D$62,3,FALSE) -> 15 | O302: =VLOOKUP(K302,RPM!$A$2:$D$62,4,FALSE) -> 15.721324 | P302: =O302*0.7457 -> 11.723391 | Q302: {=_xlfn.XLOOKUP(O302,BSFC!$A$2:$A$24,_xlfn.XLOOKUP(K302,BSFC!$B$1:$O$1,BSFC!$B$2:$O$24,,-1),,-1)} -> 440 | R302: =Q302*P302/3600 -> 1.4328589 | S302: =(L302-L301)/3600*P302 -> 0.00026955348 | T302: =S302*Q302 -> 0.11860353 | U302: =U301+T302 -> 45.089178 | V302: =V301+S302 -> 0.092039525 | W302: =V302*1000*3600 -> 331342.29 | X302: =('Hybrid Info'!$A$2-Track!P302)*(L302-L301)*1000+X301 -> -31052.592
A303: =A302+1 -> 302 | B303: =IF(SQRT(B302^2+2*I302)>13.4112,13.4112,SQRT(B302^2+2*I302)) -> 12.081081 | C303: =Specification!$G$30 -> 109.96225 | D303: =0.5*Specification!$K$4*Track!B303^2*Specification!$K$3*Specification!$K$2 -> 75.597089 | E303: 0 | F303: =Specification!$C$23*9.81*SIN((E303*PI()/180)) -> 0 | G303: =IF(J303=1,VLOOKUP(K303,RPM!$E$2:$H$62,3,FALSE)-F303-E303-D303,IF(J303=2,VLOOKUP(K303,RPM!$H$2:$K$62,3,FALSE)-F303-E303-D303,IF(J303=3,VLOOKUP(K303,RPM!$K$2:$N$62,3,FALSE)-F303-E303-D303))) -> 852.82753 | H303: =IF(J303=1,Specification!$I$14,IF(J303=2,Specification!$I$15,IF(J303=3,Specification!$I$16))) -> 582.50936 | I303: 0 | J303: 2 | K303: =IF(J303=1,VLOOKUP(B303,RPM!$F$2:$H$62,3,TRUE),IF(J303=2,VLOOKUP(B303,RPM!$I$2:$K$62,3,TRUE),IF(J303=3,VLOOKUP(B303,RPM!$L$2:$N$62,3,TRUE)))) -> 6800 | L303: =IF(I303=0,ABS(1/B303)+L302,IF(ABS(B304-B303)=0,1/B303+L302,ABS((B304-B303)/I303)+L302)) -> 25.276308 | M303: =TAN(E303*PI()/180)+M302 -> 0 | N303: =VLOOKUP(K303,RPM!$A$2:$D$62,3,FALSE) -> 15 | O303: =VLOOKUP(K303,RPM!$A$2:$D$62,4,FALSE) -> 15.721324 | P303: =O303*0.7457 -> 11.723391 | Q303: {=_xlfn.XLOOKUP(O303,BSFC!$A$2:$A$24,_xlfn.XLOOKUP(K303,BSFC!$B$1:$O$1,BSFC!$B$2:$O$24,,-1),,-1)} -> 440 | R303: =Q303*P303/3600 -> 1.4328589 | S303: =(L303-L302)/3600*P303 -> 0.00026955348 | T303: =S303*Q303 -> 0.11860353 | U303: =U302+T303 -> 45.207782 | V303: =V302+S303 -> 0.092309079 | W303: =V303*1000*3600 -> 332312.68 | X303: =('Hybrid Info'!$A$2-Track!P303)*(L303-L302)*1000+X302 -> -31019.726
A304: =A303+1 -> 303 | B304: =IF(SQRT(B303^2+2*I303)>13.4112,13.4112,SQRT(B303^2+2*I303)) -> 12.081081 | C304: =Specification!$G$30 -> 109.96225 | D304: =0.5*Specification!$K$4*Track!B304^2*Specification!$K$3*Specification!$K$2 -> 75.597089 | E304: 0 | F304: =Specification!$C$23*9.81*SIN((E304*PI()/180)) -> 0 | G304: =IF(J304=1,VLOOKUP(K304,RPM!$E$2:$H$62,3,FALSE)-F304-E304-D304,IF(J304=2,VLOOKUP(K304,RPM!$H$2:$K$62,3,FALSE)-F304-E304-D304,IF(J304=3,VLOOKUP(K304,RPM!$K$2:$N$62,3,FALSE)-F304-E304-D304))) -> 852.82753 | H304: =IF(J304=1,Specification!$I$14,IF(J304=2,Specification!$I$15,IF(J304=3,Specification!$I$16))) -> 582.50936 | I304: 0 | J304: 2 | K304: =IF(J304=1,VLOOKUP(B304,RPM!$F$2:$H$62,3,TRUE),IF(J304=2,VLOOKUP(B304,RPM!$I$2:$K$62,3,TRUE),IF(J304=3,VLOOKUP(B304,RPM!$L$2:$N$62,3,TRUE)))) -> 6800 | L304: =IF(I304=0,ABS(1/B304)+L303,IF(ABS(B305-B304)=0,1/B304+L303,ABS((B305-B304)/I304)+L303)) -> 25.359082 | M304: =TAN(E304*PI()/180)+M303 -> 0 | N304: =VLOOKUP(K304,RPM!$A$2:$D$62,3,FALSE) -> 15 | O304: =VLOOKUP(K304,RPM!$A$2:$D$62,4,FALSE) -> 15.721324 | P304: =O304*0.7457 -> 11.723391 | Q304: {=_xlfn.XLOOKUP(O304,BSFC!$A$2:$A$24,_xlfn.XLOOKUP(K304,BSFC!$B$1:$O$1,BSFC!$B$2:$O$24,,-1),,-1)} -> 440 | R304: =Q304*P304/3600 -> 1.4328589 | S304: =(L304-L303)/3600*P304 -> 0.00026955348 | T304: =S304*Q304 -> 0.11860353 | U304: =U303+T304 -> 45.326385 | V304: =V303+S304 -> 0.092578632 | W304: =V304*1000*3600 -> 333283.08 | X304: =('Hybrid Info'!$A$2-Track!P304)*(L304-L303)*1000+X303 -> -30986.859
A305: =A304+1 -> 304 | B305: =IF(SQRT(B304^2+2*I304)>13.4112,13.4112,SQRT(B304^2+2*I304)) -> 12.081081 | C305: =Specification!$G$30 -> 109.96225 | D305: =0.5*Specification!$K$4*Track!B305^2*Specification!$K$3*Specification!$K$2 -> 75.597089 | E305: 0 | F305: =Specification!$C$23*9.81*SIN((E305*PI()/180)) -> 0 | G305: =IF(J305=1,VLOOKUP(K305,RPM!$E$2:$H$62,3,FALSE)-F305-E305-D305,IF(J305=2,VLOOKUP(K305,RPM!$H$2:$K$62,3,FALSE)-F305-E305-D305,IF(J305=3,VLOOKUP(K305,RPM!$K$2:$N$62,3,FALSE)-F305-E305-D305))) -> 852.82753 | H305: =IF(J305=1,Specification!$I$14,IF(J305=2,Specification!$I$15,IF(J305=3,Specification!$I$16))) -> 582.50936 | I305: 0 | J305: 2 | K305: =IF(J305=1,VLOOKUP(B305,RPM!$F$2:$H$62,3,TRUE),IF(J305=2,VLOOKUP(B305,RPM!$I$2:$K$62,3,TRUE),IF(J305=3,VLOOKUP(B305,RPM!$L$2:$N$62,3,TRUE)))) -> 6800 | L305: =IF(I305=0,ABS(1/B305)+L304,IF(ABS(B306-B305)=0,1/B305+L304,ABS((B306-B305)/I305)+L304)) -> 25.441856 | M305: =TAN(E305*PI()/180)+M304 -> 0 | N305: =VLOOKUP(K305,RPM!$A$2:$D$62,3,FALSE) -> 15 | O305: =VLOOKUP(K305,RPM!$A$2:$D$62,4,FALSE) -> 15.721324 | P305: =O305*0.7457 -> 11.723391 | Q305: {=_xlfn.XLOOKUP(O305,BSFC!$A$2:$A$24,_xlfn.XLOOKUP(K305,BSFC!$B$1:$O$1,BSFC!$B$2:$O$24,,-1),,-1)} -> 440 | R305: =Q305*P305/3600 -> 1.4328589 | S305: =(L305-L304)/3600*P305 -> 0.00026955348 | T305: =S305*Q305 -> 0.11860353 | U305: =U304+T305 -> 45.444989 | V305: =V304+S305 -> 0.092848186 | W305: =V305*1000*3600 -> 334253.47 | X305: =('Hybrid Info'!$A$2-Track!P305)*(L305-L304)*1000+X304 -> -30953.992
A306: =A305+1 -> 305 | B306: =IF(SQRT(B305^2+2*I305)>13.4112,13.4112,SQRT(B305^2+2*I305)) -> 12.081081 | C306: =Specification!$G$30 -> 109.96225 | D306: =0.5*Specification!$K$4*Track!B306^2*Specification!$K$3*Specification!$K$2 -> 75.597089 | E306: 0 | F306: =Specification!$C$23*9.81*SIN((E306*PI()/180)) -> 0 | G306: =IF(J306=1,VLOOKUP(K306,RPM!$E$2:$H$62,3,FALSE)-F306-E306-D306,IF(J306=2,VLOOKUP(K306,RPM!$H$2:$K$62,3,FALSE)-F306-E306-D306,IF(J306=3,VLOOKUP(K306,RPM!$K$2:$N$62,3,FALSE)-F306-E306-D306))) -> 852.82753 | H306: =IF(J306=1,Specification!$I$14,IF(J306=2,Specification!$I$15,IF(J306=3,Specification!$I$16))) -> 582.50936 | I306: 0 | J306: 2 | K306: =IF(J306=1,VLOOKUP(B306,RPM!$F$2:$H$62,3,TRUE),IF(J306=2,VLOOKUP(B306,RPM!$I$2:$K$62,3,TRUE),IF(J306=3,VLOOKUP(B306,RPM!$L$2:$N$62,3,TRUE)))) -> 6800 | L306: =IF(I306=0,ABS(1/B306)+L305,IF(ABS(B307-B306)=0,1/B306+L305,ABS((B307-B306)/I306)+L305)) -> 25.52463 | M306: =TAN(E306*PI()/180)+M305 -> 0 | N306: =VLOOKUP(K306,RPM!$A$2:$D$62,3,FALSE) -> 15 | O306: =VLOOKUP(K306,RPM!$A$2:$D$62,4,FALSE) -> 15.721324 | P306: =O306*0.7457 -> 11.723391 | Q306: {=_xlfn.XLOOKUP(O306,BSFC!$A$2:$A$24,_xlfn.XLOOKUP(K306,BSFC!$B$1:$O$1,BSFC!$B$2:$O$24,,-1),,-1)} -> 440 | R306: =Q306*P306/3600 -> 1.4328589 | S306: =(L306-L305)/3600*P306 -> 0.00026955348 | T306: =S306*Q306 -> 0.11860353 | U306: =U305+T306 -> 45.563592 | V306: =V305+S306 -> 0.093117739 | W306: =V306*1000*3600 -> 335223.86 | X306: =('Hybrid Info'!$A$2-Track!P306)*(L306-L305)*1000+X305 -> -30921.126
A307: =A306+1 -> 306 | B307: =IF(SQRT(B306^2+2*I306)>13.4112,13.4112,SQRT(B306^2+2*I306)) -> 12.081081 | C307: =Specification!$G$30 -> 109.96225 | D307: =0.5*Specification!$K$4*Track!B307^2*Specification!$K$3*Specification!$K$2 -> 75.597089 | E307: 0 | F307: =Specification!$C$23*9.81*SIN((E307*PI()/180)) -> 0 | G307: =IF(J307=1,VLOOKUP(K307,RPM!$E$2:$H$62,3,FALSE)-F307-E307-D307,IF(J307=2,VLOOKUP(K307,RPM!$H$2:$K$62,3,FALSE)-F307-E307-D307,IF(J307=3,VLOOKUP(K307,RPM!$K$2:$N$62,3,FALSE)-F307-E307-D307))) -> 852.82753 | H307: =IF(J307=1,Specification!$I$14,IF(J307=2,Specification!$I$15,IF(J307=3,Specification!$I$16))) -> 582.50936 | I307: 0 | J307: 2 | K307: =IF(J307=1,VLOOKUP(B307,RPM!$F$2:$H$62,3,TRUE),IF(J307=2,VLOOKUP(B307,RPM!$I$2:$K$62,3,TRUE),IF(J307=3,VLOOKUP(B307,RPM!$L$2:$N$62,3,TRUE)))) -> 6800 | L307: =IF(I307=0,ABS(1/B307)+L306,IF(ABS(B308-B307)=0,1/B307+L306,ABS((B308-B307)/I307)+L306)) -> 25.607404 | M307: =TAN(E307*PI()/180)+M306 -> 0 | N307: =VLOOKUP(K307,RPM!$A$2:$D$62,3,FALSE) -> 15 | O307: =VLOOKUP(K307,RPM!$A$2:$D$62,4,FALSE) -> 15.721324 | P307: =O307*0.7457 -> 11.723391 | Q307: {=_xlfn.XLOOKUP(O307,BSFC!$A$2:$A$24,_xlfn.XLOOKUP(K307,BSFC!$B$1:$O$1,BSFC!$B$2:$O$24,,-1),,-1)} -> 440 | R307: =Q307*P307/3600 -> 1.4328589 | S307: =(L307-L306)/3600*P307 -> 0.00026955348 | T307: =S307*Q307 -> 0.11860353 | U307: =U306+T307 -> 45.682196 | V307: =V306+S307 -> 0.093387293 | W307: =V307*1000*3600 -> 336194.25 | X307: =('Hybrid Info'!$A$2-Track!P307)*(L307-L306)*1000+X306 -> -30888.259
... A489: =A488+1 -> 488 | B489: =IF(SQRT(B488^2+2*I488)>13.4112,13.4112,SQRT(B488^2+2*I488)) -> 12.081081 | C489: =Specification!$G$30 -> 109.96225 | D489: =0.5*Specification!$K$4*Track!B489^2*Specification!$K$3*Specification!$K$2 -> 75.597089 | E489: 0 | F489: =Specification!$C$23*9.81*SIN((E489*PI()/180)) -> 0 | G489: =IF(J489=1,VLOOKUP(K489,RPM!$E$2:$H$62,3,FALSE)-F489-E489-D489,IF(J489=2,VLOOKUP(K489,RPM!$H$2:$K$62,3,FALSE)-F489-E489-D489,IF(J489=3,VLOOKUP(K489,RPM!$K$2:$N$62,3,FALSE)-F489-E489-D489))) -> 852.82753 | H489: =IF(J489=1,Specification!$I$14,IF(J489=2,Specification!$I$15,IF(J489=3,Specification!$I$16))) -> 582.50936 | I489: 0 | J489: 2 | K489: =IF(J489=1,VLOOKUP(B489,RPM!$F$2:$H$62,3,TRUE),IF(J489=2,VLOOKUP(B489,RPM!$I$2:$K$62,3,TRUE),IF(J489=3,VLOOKUP(B489,RPM!$L$2:$N$62,3,TRUE)))) -> 6800 | L489: =IF(I489=0,ABS(1/B489)+L488,IF(ABS(B490-B489)=0,1/B489+L488,ABS((B490-B489)/I489)+L488)) -> 40.672281 | M489: =TAN(E489*PI()/180)+M488 -> 0 | N489: =VLOOKUP(K489,RPM!$A$2:$D$62,3,FALSE) -> 15 | O489: =VLOOKUP(K489,RPM!$A$2:$D$62,4,FALSE) -> 15.721324 | P489: =O489*0.7457 -> 11.723391 | Q489: {=_xlfn.XLOOKUP(O489,BSFC!$A$2:$A$24,_xlfn.XLOOKUP(K489,BSFC!$B$1:$O$1,BSFC!$B$2:$O$24,,-1),,-1)} -> 440 | R489: =Q489*P489/3600 -> 1.4328589 | S489: =(L489-L488)/3600*P489 -> 0.00026955348 | T489: =S489*Q489 -> 0.11860353 | U489: =U488+T489 -> 67.268039 | V489: =V488+S489 -> 0.14244603 | W489: =V489*1000*3600 -> 512805.7 | X489: =('Hybrid Info'!$A$2-Track!P489)*(L489-L488)*1000+X488 -> -24906.545
A490: =A489+1 -> 489 | B490: =IF(SQRT(B489^2+2*I489)>13.4112,13.4112,SQRT(B489^2+2*I489)) -> 12.081081 | C490: =Specification!$G$29 -> 164.94338 | D490: =0.5*Specification!$K$4*Track!B490^2*Specification!$K$3*Specification!$K$2 -> 75.597089 | E490: 0 | F490: =Specification!$C$23*9.81*SIN((E490*PI()/180)) -> 0 | G490: =IF(J490=1,VLOOKUP(K490,RPM!$E$2:$H$62,3,FALSE)-F490-E490-D490,IF(J490=2,VLOOKUP(K490,RPM!$H$2:$K$62,3,FALSE)-F490-E490-D490,IF(J490=3,VLOOKUP(K490,RPM!$K$2:$N$62,3,FALSE)-F490-E490-D490))) -> 852.82753 | H490: =IF(J490=1,Specification!$I$14,IF(J490=2,Specification!$I$15,IF(J490=3,Specification!$I$16))) -> 582.50936 | I490: =G490/H490 -> 1.4640581 | J490: 2 | K490: =IF(J490=1,VLOOKUP(B490,RPM!$F$2:$H$62,3,TRUE),IF(J490=2,VLOOKUP(B490,RPM!$I$2:$K$62,3,TRUE),IF(J490=3,VLOOKUP(B490,RPM!$L$2:$N$62,3,TRUE)))) -> 6800 | L490: =IF(I490=0,ABS(1/B490)+L489,IF(ABS(B491-B490)=0,1/B490+L489,ABS((B491-B490)/I490)+L489)) -> 40.754644 | M490: =TAN(E490*PI()/180)+M489 -> 0 | N490: =VLOOKUP(K490,RPM!$A$2:$D$62,3,FALSE) -> 15 | O490: =VLOOKUP(K490,RPM!$A$2:$D$62,4,FALSE) -> 15.721324 | P490: =O490*0.7457 -> 11.723391 | Q490: {=_xlfn.XLOOKUP(O490,BSFC!$A$2:$A$24,_xlfn.XLOOKUP(K490,BSFC!$B$1:$O$1,BSFC!$B$2:$O$24,,-1),,-1)} -> 440 | R490: =Q490*P490/3600 -> 1.4328589 | S490: =(L490-L489)/3600*P490 -> 0.00026821492 | T490: =S490*Q490 -> 0.11801457 | U490: =U489+T490 -> 67.386053 | V490: =V489+S490 -> 0.14271424 | W490: =V490*1000*3600 -> 513771.27 | X490: =('Hybrid Info'!$A$2-Track!P490)*(L490-L489)*1000+X489 -> -24873.841
A491: =A490+1 -> 490 | B491: =IF(SQRT(B490^2+2*I490)>13.4112,13.4112,SQRT(B490^2+2*I490)) -> 12.201665 | C491: =Specification!$G$29 -> 164.94338 | D491: =0.5*Specification!$K$4*Track!B491^2*Specification!$K$3*Specification!$K$2 -> 77.113726 | E491: 0 | F491: =Specification!$C$23*9.81*SIN((E491*PI()/180)) -> 0 | G491: =IF(J491=1,VLOOKUP(K491,RPM!$E$2:$H$62,3,FALSE)-F491-E491-D491,IF(J491=2,VLOOKUP(K491,RPM!$H$2:$K$62,3,FALSE)-F491-E491-D491,IF(J491=3,VLOOKUP(K491,RPM!$K$2:$N$62,3,FALSE)-F491-E491-D491))) -> 851.31089 | H491: =IF(J491=1,Specification!$I$14,IF(J491=2,Specification!$I$15,IF(J491=3,Specification!$I$16))) -> 582.50936 | I491: =G491/H491 -> 1.4614544 | J491: 2 | K491: =IF(J491=1,VLOOKUP(B491,RPM!$F$2:$H$62,3,TRUE),IF(J491=2,VLOOKUP(B491,RPM!$I$2:$K$62,3,TRUE),IF(J491=3,VLOOKUP(B491,RPM!$L$2:$N$62,3,TRUE)))) -> 6800 | L491: =IF(I491=0,ABS(1/B491)+L490,IF(ABS(B492-B491)=0,1/B491+L490,ABS((B492-B491)/I491)+L490)) -> 40.836202 | M491: =TAN(E491*PI()/180)+M490 -> 0 | N491: =VLOOKUP(K491,RPM!$A$2:$D$62,3,FALSE) -> 15 | O491: =VLOOKUP(K491,RPM!$A$2:$D$62,4,FALSE) -> 15.721324 | P491: =O491*0.7457 -> 11.723391 | Q491: {=_xlfn.XLOOKUP(O491,BSFC!$A$2:$A$24,_xlfn.XLOOKUP(K491,BSFC!$B$1:$O$1,BSFC!$B$2:$O$24,,-1),,-1)} -> 440 | R491: =Q491*P491/3600 -> 1.4328589 | S491: =(L491-L490)/3600*P491 -> 0.00026559236 | T491: =S491*Q491 -> 0.11686064 | U491: =U490+T491 -> 67.502914 | V491: =V490+S491 -> 0.14297983 | W491: =V491*1000*3600 -> 514727.4 | X491: =('Hybrid Info'!$A$2-Track!P491)*(L491-L490)*1000+X490 -> -24841.458
A492: =A491+1 -> 491 | B492: =IF(SQRT(B491^2+2*I491)>13.4112,13.4112,SQRT(B491^2+2*I491)) -> 12.320858 | C492: =Specification!$G$29 -> 164.94338 | D492: =0.5*Specification!$K$4*Track!B492^2*Specification!$K$3*Specification!$K$2 -> 78.627667 | E492: 0 | F492: =Specification!$C$23*9.81*SIN((E492*PI()/180)) -> 0 | G492: =IF(J492=1,VLOOKUP(K492,RPM!$E$2:$H$62,3,FALSE)-F492-E492-D492,IF(J492=2,VLOOKUP(K492,RPM!$H$2:$K$62,3,FALSE)-F492-E492-D492,IF(J492=3,VLOOKUP(K492,RPM!$K$2:$N$62,3,FALSE)-F492-E492-D492))) -> 775.34358 | H492: =IF(J492=1,Specification!$I$14,IF(J492=2,Specification!$I$15,IF(J492=3,Specification!$I$16))) -> 582.50936 | I492: =G492/H492 -> 1.3310405 | J492: 2 | K492: =IF(J492=1,VLOOKUP(B492,RPM!$F$2:$H$62,3,TRUE),IF(J492=2,VLOOKUP(B492,RPM!$I$2:$K$62,3,TRUE),IF(J492=3,VLOOKUP(B492,RPM!$L$2:$N$62,3,TRUE)))) -> 6900 | L492: =IF(I492=0,ABS(1/B492)+L491,IF(ABS(B493-B492)=0,1/B492+L491,ABS((B493-B492)/I492)+L491)) -> 40.917012 | M492: =TAN(E492*PI()/180)+M491 -> 0 | N492: =VLOOKUP(K492,RPM!$A$2:$D$62,3,FALSE) -> 14 | O492: =VLOOKUP(K492,RPM!$A$2:$D$62,4,FALSE) -> 14.46058 | P492: =O492*0.7457 -> 10.783254 | Q492: {=_xlfn.XLOOKUP(O492,BSFC!$A$2:$A$24,_xlfn.XLOOKUP(K492,BSFC!$B$1:$O$1,BSFC!$B$2:$O$24,,-1),,-1)} -> 425 | R492: =Q492*P492/3600 -> 1.2730231 | S492: =(L492-L491)/3600*P492 -> 0.00024205541 | T492: =S492*Q492 -> 0.10287355 | U492: =U491+T492 -> 67.605788 | V492: =V491+S492 -> 0.14322189 | W492: =V492*1000*3600 -> 515598.8 | X492: =('Hybrid Info'!$A$2-Track!P492)*(L492-L491)*1000+X491 -> -24733.398
A493: =A492+1 -> 492 | B493: =IF(SQRT(B492^2+2*I492)>13.4112,13.4112,SQRT(B492^2+2*I492)) -> 12.42842 | C493: =Specification!$G$29 -> 164.94338 | D493: =0.5*Specification!$K$4*Track!B493^2*Specification!$K$3*Specification!$K$2 -> 80.006509 | E493: 0 | F493: =Specification!$C$23*9.81*SIN((E493*PI()/180)) -> 0 | G493: =IF(J493=1,VLOOKUP(K493,RPM!$E$2:$H$62,3,FALSE)-F493-E493-D493,IF(J493=2,VLOOKUP(K493,RPM!$H$2:$K$62,3,FALSE)-F493-E493-D493,IF(J493=3,VLOOKUP(K493,RPM!$K$2:$N$62,3,FALSE)-F493-E493-D493))) -> 701.6386 | H493: =IF(J493=1,Specification!$I$14,IF(J493=2,Specification!$I$15,IF(J493=3,Specification!$I$16))) -> 582.50936 | I493: =G493/H493 -> 1.2045104 | J493: 2 | K493: =IF(J493=1,VLOOKUP(B493,RPM!$F$2:$H$62,3,TRUE),IF(J493=2,VLOOKUP(B493,RPM!$I$2:$K$62,3,TRUE),IF(J493=3,VLOOKUP(B493,RPM!$L$2:$N$62,3,TRUE)))) -> 7000 | L493: =IF(I493=0,ABS(1/B493)+L492,IF(ABS(B494-B493)=0,1/B493+L492,ABS((B494-B493)/I493)+L492)) -> 40.997162 | M493: =TAN(E493*PI()/180)+M492 -> 0 | N493: =VLOOKUP(K493,RPM!$A$2:$D$62,3,FALSE) -> 13 | O493: =VLOOKUP(K493,RPM!$A$2:$D$62,4,FALSE) -> 13.235857 | P493: =O493*0.7457 -> 9.8699787 | Q493: {=_xlfn.XLOOKUP(O493,BSFC!$A$2:$A$24,_xlfn.XLOOKUP(K493,BSFC!$B$1:$O$1,BSFC!$B$2:$O$24,,-1),,-1)} -> 520 | R493: =Q493*P493/3600 -> 1.4256636 | S493: =(L493-L492)/3600*P493 -> 0.00021974262 | T493: =S493*Q493 -> 0.11426616 | U493: =U492+T493 -> 67.720054 | V493: =V492+S493 -> 0.14344163 | W493: =V493*1000*3600 -> 516389.87 | X493: =('Hybrid Info'!$A$2-Track!P493)*(L493-L492)*1000+X492 -> -24553.023
A494: =A493+1 -> 493 | B494: =IF(SQRT(B493^2+2*I493)>13.4112,13.4112,SQRT(B493^2+2*I493)) -> 12.524961 | C494: =Specification!$G$29 -> 164.94338 | D494: =0.5*Specification!$K$4*Track!B494^2*Specification!$K$3*Specification!$K$2 -> 81.254278 | E494: 0 | F494: =Specification!$C$23*9.81*SIN((E494*PI()/180)) -> 0 | G494: =IF(J494=1,VLOOKUP(K494,RPM!$E$2:$H$62,3,FALSE)-F494-E494-D494,IF(J494=2,VLOOKUP(K494,RPM!$H$2:$K$62,3,FALSE)-F494-E494-D494,IF(J494=3,VLOOKUP(K494,RPM!$K$2:$N$62,3,FALSE)-F494-E494-D494))) -> 700.39083 | H494: =IF(J494=1,Specification!$I$14,IF(J494=2,Specification!$I$15,IF(J494=3,Specification!$I$16))) -> 582.50936 | I494: =G494/H494 -> 1.2023684 | J494: 2 | K494: =IF(J494=1,VLOOKUP(B494,RPM!$F$2:$H$62,3,TRUE),IF(J494=2,VLOOKUP(B494,RPM!$I$2:$K$62,3,TRUE),IF(J494=3,VLOOKUP(B494,RPM!$L$2:$N$62,3,TRUE)))) -> 7000 | L494: =IF(I494=0,ABS(1/B494)+L493,IF(ABS(B495-B494)=0,1/B494+L493,ABS((B495-B494)/I494)+L493)) -> 41.076699 | M494: =TAN(E494*PI()/180)+M493 -> 0 | N494: =VLOOKUP(K494,RPM!$A$2:$D$62,3,FALSE) -> 13 | O494: =VLOOKUP(K494,RPM!$A$2:$D$62,4,FALSE) -> 13.235857 | P494: =O494*0.7457 -> 9.8699787 | Q494: {=_xlfn.XLOOKUP(O494,BSFC!$A$2:$A$24,_xlfn.XLOOKUP(K494,BSFC!$B$1:$O$1,BSFC!$B$2:$O$24,,-1),,-1)} -> 520 | R494: =Q494*P494/3600 -> 1.4256636 | S494: =(L494-L493)/3600*P494 -> 0.00021806325 | T494: =S494*Q494 -> 0.11339289 | U494: =U493+T494 -> 67.833447 | V494: =V493+S494 -> 0.1436597 | W494: =V494*1000*3600 -> 517174.9 | X494: =('Hybrid Info'!$A$2-Track!P494)*(L494-L493)*1000+X493 -> -24374.027
A495: =A494+1 -> 494 | B495: =IF(SQRT(B494^2+2*I494)>13.4112,13.4112,SQRT(B494^2+2*I494)) -> 12.620594 | C495: =Specification!$G$29 -> 164.94338 | D495: =0.5*Specification!$K$4*Track!B495^2*Specification!$K$3*Specification!$K$2 -> 82.499827 | E495: 0 | F495: =Specification!$C$23*9.81*SIN((E495*PI()/180)) -> 0 | G495: =IF(J495=1,VLOOKUP(K495,RPM!$E$2:$H$62,3,FALSE)-F495-E495-D495,IF(J495=2,VLOOKUP(K495,RPM!$H$2:$K$62,3,FALSE)-F495-E495-D495,IF(J495=3,VLOOKUP(K495,RPM!$K$2:$N$62,3,FALSE)-F495-E495-D495))) -> 699.14528 | H495: =IF(J495=1,Specification!$I$14,IF(J495=2,Specification!$I$15,IF(J495=3,Specification!$I$16))) -> 582.50936 | I495: =G495/H495 -> 1.2002301 | J495: 2 | K495: =IF(J495=1,VLOOKUP(B495,RPM!$F$2:$H$62,3,TRUE),IF(J495=2,VLOOKUP(B495,RPM!$I$2:$K$62,3,TRUE),IF(J495=3,VLOOKUP(B495,RPM!$L$2:$N$62,3,TRUE)))) -> 7000 | L495: =IF(I495=0,ABS(1/B495)+L494,IF(ABS(B496-B495)=0,1/B495+L494,ABS((B496-B495)/I495)+L494)) -> 41.155638 | M495: =TAN(E495*PI()/180)+M494 -> 0 | N495: =VLOOKUP(K495,RPM!$A$2:$D$62,3,FALSE) -> 13 | O495: =VLOOKUP(K495,RPM!$A$2:$D$62,4,FALSE) -> 13.235857 | P495: =O495*0.7457 -> 9.8699787 | Q495: {=_xlfn.XLOOKUP(O495,BSFC!$A$2:$A$24,_xlfn.XLOOKUP(K495,BSFC!$B$1:$O$1,BSFC!$B$2:$O$24,,-1),,-1)} -> 520 | R495: =Q495*P495/3600 -> 1.4256636 | S495: =(L495-L494)/3600*P495 -> 0.00021642469 | T495: =S495*Q495 -> 0.11254084 | U495: =U494+T495 -> 67.945987 | V495: =V494+S495 -> 0.14387612 | W495: =V495*1000*3600 -> 517954.03 | X495: =('Hybrid Info'!$A$2-Track!P495)*(L495-L494)*1000+X494 -> -24196.377
A496: =A495+1 -> 495 | B496: =IF(SQRT(B495^2+2*I495)>13.4112,13.4112,SQRT(B495^2+2*I495)) -> 12.715339 | C496: =Specification!$G$29 -> 164.94338 | D496: =0.5*Specification!$K$4*Track!B496^2*Specification!$K$3*Specification!$K$2 -> 83.743162 | E496: 0 | F496: =Specification!$C$23*9.81*SIN((E496*PI()/180)) -> 0 | G496: =IF(J496=1,VLOOKUP(K496,RPM!$E$2:$H$62,3,FALSE)-F496-E496-D496,IF(J496=2,VLOOKUP(K496,RPM!$H$2:$K$62,3,FALSE)-F496-E496-D496,IF(J496=3,VLOOKUP(K496,RPM!$K$2:$N$62,3,FALSE)-F496-E496-D496))) -> 697.90194 | H496: =IF(J496=1,Specification!$I$14,IF(J496=2,Specification!$I$15,IF(J496=3,Specification!$I$16))) -> 582.50936 | I496: =G496/H496 -> 1.1980957 | J496: 2 | K496: =IF(J496=1,VLOOKUP(B496,RPM!$F$2:$H$62,3,TRUE),IF(J496=2,VLOOKUP(B496,RPM!$I$2:$K$62,3,TRUE),IF(J496=3,VLOOKUP(B496,RPM!$L$2:$N$62,3,TRUE)))) -> 7000 | L496: =IF(I496=0,ABS(1/B496)+L495,IF(ABS(B497-B496)=0,1/B496+L495,ABS((B497-B496)/I496)+L495)) -> 41.233994 | M496: =TAN(E496*PI()/180)+M495 -> 0 | N496: =VLOOKUP(K496,RPM!$A$2:$D$62,3,FALSE) -> 13 | O496: =VLOOKUP(K496,RPM!$A$2:$D$62,4,FALSE) -> 13.235857 | P496: =O496*0.7457 -> 9.8699787 | Q496: {=_xlfn.XLOOKUP(O496,BSFC!$A$2:$A$24,_xlfn.XLOOKUP(K496,BSFC!$B$1:$O$1,BSFC!$B$2:$O$24,,-1),,-1)} -> 520 | R496: =Q496*P496/3600 -> 1.4256636 | S496: =(L496-L495)/3600*P496 -> 0.00021482534 | T496: =S496*Q496 -> 0.11170918 | U496: =U495+T496 -> 68.057697 | V496: =V495+S496 -> 0.14409095 | W496: =V496*1000*3600 -> 518727.4 | X496: =('Hybrid Info'!$A$2-Track!P496)*(L496-L495)*1000+X495 -> -24020.038
A497: =A496+1 -> 496 | B497: =IF(SQRT(B496^2+2*I496)>13.4112,13.4112,SQRT(B496^2+2*I496)) -> 12.809217 | C497: =Specification!$G$29 -> 164.94338 | D497: =0.5*Specification!$K$4*Track!B497^2*Specification!$K$3*Specification!$K$2 -> 84.984285 | E497: 0 | F497: =Specification!$C$23*9.81*SIN((E497*PI()/180)) -> 0 | G497: =IF(J497=1,VLOOKUP(K497,RPM!$E$2:$H$62,3,FALSE)-F497-E497-D497,IF(J497=2,VLOOKUP(K497,RPM!$H$2:$K$62,3,FALSE)-F497-E497-D497,IF(J497=3,VLOOKUP(K497,RPM!$K$2:$N$62,3,FALSE)-F497-E497-D497))) -> 696.66082 | H497: =IF(J497=1,Specification!$I$14,IF(J497=2,Specification!$I$15,IF(J497=3,Specification!$I$16))) -> 582.50936 | I497: =G497/H497 -> 1.195965 | J497: 2 | K497: =IF(J497=1,VLOOKUP(B497,RPM!$F$2:$H$62,3,TRUE),IF(J497=2,VLOOKUP(B497,RPM!$I$2:$K$62,3,TRUE),IF(J497=3,VLOOKUP(B497,RPM!$L$2:$N$62,3,TRUE)))) -> 7000 | L497: =IF(I497=0,ABS(1/B497)+L496,IF(ABS(B498-B497)=0,1/B497+L496,ABS((B498-B497)/I497)+L496)) -> 41.31178 | M497: =TAN(E497*PI()/180)+M496 -> 0 | N497: =VLOOKUP(K497,RPM!$A$2:$D$62,3,FALSE) -> 13 | O497: =VLOOKUP(K497,RPM!$A$2:$D$62,4,FALSE) -> 13.235857 | P497: =O497*0.7457 -> 9.8699787 | Q497: {=_xlfn.XLOOKUP(O497,BSFC!$A$2:$A$24,_xlfn.XLOOKUP(K497,BSFC!$B$1:$O$1,BSFC!$B$2:$O$24,,-1),,-1)} -> 520 | R497: =Q497*P497/3600 -> 1.4256636 | S497: =(L497-L496)/3600*P497 -> 0.00021326369 | T497: =S497*Q497 -> 0.11089712 | U497: =U496+T497 -> 68.168594 | V497: =V496+S497 -> 0.14430421 | W497: =V497*1000*3600 -> 519495.15 | X497: =('Hybrid Info'!$A$2-Track!P497)*(L497-L496)*1000+X496 -> -23844.982
A498: =A497+1 -> 497 | B498: =IF(SQRT(B497^2+2*I497)>13.4112,13.4112,SQRT(B497^2+2*I497)) -> 12.902247 | C498: =Specification!$G$29 -> 164.94338 | D498: =0.5*Specification!$K$4*Track!B498^2*Specification!$K$3*Specification!$K$2 -> 86.223202 | E498: 0 | F498: =Specification!$C$23*9.81*SIN((E498*PI()/180)) -> 0 | G498: =IF(J498=1,VLOOKUP(K498,RPM!$E$2:$H$62,3,FALSE)-F498-E498-D498,IF(J498=2,VLOOKUP(K498,RPM!$H$2:$K$62,3,FALSE)-F498-E498-D498,IF(J498=3,VLOOKUP(K498,RPM!$K$2:$N$62,3,FALSE)-F498-E498-D498))) -> 695.42191 | H498: =IF(J498=1,Specification!$I$14,IF(J498=2,Specification!$I$15,IF(J498=3,Specification!$I$16))) -> 582.50936 | I498: =G498/H498 -> 1.1938382 | J498: 2 | K498: =IF(J498=1,VLOOKUP(B498,RPM!$F$2:$H$62,3,TRUE),IF(J498=2,VLOOKUP(B498,RPM!$I$2:$K$62,3,TRUE),IF(J498=3,VLOOKUP(B498,RPM!$L$2:$N$62,3,TRUE)))) -> 7000 | L498: =IF(I498=0,ABS(1/B498)+L497,IF(ABS(B499-B498)=0,1/B498+L497,ABS((B499-B498)/I498)+L497)) -> 41.38901 | M498: =TAN(E498*PI()/180)+M497 -> 0 | N498: =VLOOKUP(K498,RPM!$A$2:$D$62,3,FALSE) -> 13 | O498: =VLOOKUP(K498,RPM!$A$2:$D$62,4,FALSE) -> 13.235857 | P498: =O498*0.7457 -> 9.8699787 | Q498: {=_xlfn.XLOOKUP(O498,BSFC!$A$2:$A$24,_xlfn.XLOOKUP(K498,BSFC!$B$1:$O$1,BSFC!$B$2:$O$24,,-1),,-1)} -> 520 | R498: =Q498*P498/3600 -> 1.4256636 | S498: =(L498-L497)/3600*P498 -> 0.00021173829 | T498: =S498*Q498 -> 0.11010391 | U498: =U497+T498 -> 68.278698 | V498: =V497+S498 -> 0.14451595 | W498: =V498*1000*3600 -> 520257.41 | X498: =('Hybrid Info'!$A$2-Track!P498)*(L498-L497)*1000+X497 -> -23671.178
A499: =A498+1 -> 498 | B499: =IF(SQRT(B498^2+2*I498)>13.4112,13.4112,SQRT(B498^2+2*I498)) -> 12.994447 | C499: =Specification!$G$29 -> 164.94338 | D499: =0.5*Specification!$K$4*Track!B499^2*Specification!$K$3*Specification!$K$2 -> 87.459915 | E499: 0 | F499: =Specification!$C$23*9.81*SIN((E499*PI()/180)) -> 0 | G499: =IF(J499=1,VLOOKUP(K499,RPM!$E$2:$H$62,3,FALSE)-F499-E499-D499,IF(J499=2,VLOOKUP(K499,RPM!$H$2:$K$62,3,FALSE)-F499-E499-D499,IF(J499=3,VLOOKUP(K499,RPM!$K$2:$N$62,3,FALSE)-F499-E499-D499))) -> 694.18519 | H499: =IF(J499=1,Specification!$I$14,IF(J499=2,Specification!$I$15,IF(J499=3,Specification!$I$16))) -> 582.50936 | I499: =G499/H499 -> 1.1917151 | J499: 2 | K499: =IF(J499=1,VLOOKUP(B499,RPM!$F$2:$H$62,3,TRUE),IF(J499=2,VLOOKUP(B499,RPM!$I$2:$K$62,3,TRUE),IF(J499=3,VLOOKUP(B499,RPM!$L$2:$N$62,3,TRUE)))) -> 7000 | L499: =IF(I499=0,ABS(1/B499)+L498,IF(ABS(B500-B499)=0,1/B499+L498,ABS((B500-B499)/I499)+L498)) -> 41.465696 | M499: =TAN(E499*PI()/180)+M498 -> 0 | N499: =VLOOKUP(K499,RPM!$A$2:$D$62,3,FALSE) -> 13 | O499: =VLOOKUP(K499,RPM!$A$2:$D$62,4,FALSE) -> 13.235857 | P499: =O499*0.7457 -> 9.8699787 | Q499: {=_xlfn.XLOOKUP(O499,BSFC!$A$2:$A$24,_xlfn.XLOOKUP(K499,BSFC!$B$1:$O$1,BSFC!$B$2:$O$24,,-1),,-1)} -> 520 | R499: =Q499*P499/3600 -> 1.4256636 | S499: =(L499-L498)/3600*P499 -> 0.00021024779 | T499: =S499*Q499 -> 0.10932885 | U499: =U498+T499 -> 68.388027 | V499: =V498+S499 -> 0.14472619 | W499: =V499*1000*3600 -> 521014.3 | X499: =('Hybrid Info'!$A$2-Track!P499)*(L499-L498)*1000+X498 -> -23498.597
A500: =A499+1 -> 499 | B500: =IF(SQRT(B499^2+2*I499)>13.4112,13.4112,SQRT(B499^2+2*I499)) -> 13.085835 | C500: =Specification!$G$29 -> 164.94338 | D500: =0.5*Specification!$K$4*Track!B500^2*Specification!$K$3*Specification!$K$2 -> 88.694428 | E500: 0 | F500: =Specification!$C$23*9.81*SIN((E500*PI()/180)) -> 0 | G500: =IF(J500=1,VLOOKUP(K500,RPM!$E$2:$H$62,3,FALSE)-F500-E500-D500,IF(J500=2,VLOOKUP(K500,RPM!$H$2:$K$62,3,FALSE)-F500-E500-D500,IF(J500=3,VLOOKUP(K500,RPM!$K$2:$N$62,3,FALSE)-F500-E500-D500))) -> 692.95068 | H500: =IF(J500=1,Specification!$I$14,IF(J500=2,Specification!$I$15,IF(J500=3,Specification!$I$16))) -> 582.50936 | I500: =G500/H500 -> 1.1895958 | J500: 2 | K500: =IF(J500=1,VLOOKUP(B500,RPM!$F$2:$H$62,3,TRUE),IF(J500=2,VLOOKUP(B500,RPM!$I$2:$K$62,3,TRUE),IF(J500=3,VLOOKUP(B500,RPM!$L$2:$N$62,3,TRUE)))) -> 7000 | L500: =IF(I500=0,ABS(1/B500)+L499,IF(ABS(B501-B500)=0,1/B500+L499,ABS((B501-B500)/I500)+L499)) -> 41.541851 | M500: =TAN(E500*PI()/180)+M499 -> 0 | N500: =VLOOKUP(K500,RPM!$A$2:$D$62,3,FALSE) -> 13 | O500: =VLOOKUP(K500,RPM!$A$2:$D$62,4,FALSE) -> 13.235857 | P500: =O500*0.7457 -> 9.8699787 | Q500: {=_xlfn.XLOOKUP(O500,BSFC!$A$2:$A$24,_xlfn.XLOOKUP(K500,BSFC!$B$1:$O$1,BSFC!$B$2:$O$24,,-1),,-1)} -> 520 | R500: =Q500*P500/3600 -> 1.4256636 | S500: =(L500-L499)/3600*P500 -> 0.0002087909 | T500: =S500*Q500 -> 0.10857127 | U500: =U499+T500 -> 68.496598 | V500: =V499+S500 -> 0.14493499 | W500: =V500*1000*3600 -> 521765.95 | X500: =('Hybrid Info'!$A$2-Track!P500)*(L500-L499)*1000+X499 -> -23327.213
A501: =A500+1 -> 500 | B501: =IF(SQRT(B500^2+2*I500)>13.4112,13.4112,SQRT(B500^2+2*I500)) -> 13.176428 | C501: =Specification!$G$29 -> 164.94338 | D501: =0.5*Specification!$K$4*Track!B501^2*Specification!$K$3*Specification!$K$2 -> 89.926746 | E501: 0 | F501: =Specification!$C$23*9.81*SIN((E501*PI()/180)) -> 0 | G501: =IF(J501=1,VLOOKUP(K501,RPM!$E$2:$H$62,3,FALSE)-F501-E501-D501,IF(J501=2,VLOOKUP(K501,RPM!$H$2:$K$62,3,FALSE)-F501-E501-D501,IF(J501=3,VLOOKUP(K501,RPM!$K$2:$N$62,3,FALSE)-F501-E501-D501))) -> 691.71836 | H501: =IF(J501=1,Specification!$I$14,IF(J501=2,Specification!$I$15,IF(J501=3,Specification!$I$16))) -> 582.50936 | I501: =G501/H501 -> 1.1874802 | J501: 2 | K501: =IF(J501=1,VLOOKUP(B501,RPM!$F$2:$H$62,3,TRUE),IF(J501=2,VLOOKUP(B501,RPM!$I$2:$K$62,3,TRUE),IF(J501=3,VLOOKUP(B501,RPM!$L$2:$N$62,3,TRUE)))) -> 7000 | L501: =IF(I501=0,ABS(1/B501)+L500,IF(ABS(B502-B501)=0,1/B501+L500,ABS((B502-B501)/I501)+L500)) -> 41.617486 | M501: =TAN(E501*PI()/180)+M500 -> 0 | N501: =VLOOKUP(K501,RPM!$A$2:$D$62,3,FALSE) -> 13 | O501: =VLOOKUP(K501,RPM!$A$2:$D$62,4,FALSE) -> 13.235857 | P501: =O501*0.7457 -> 9.8699787 | Q501: {=_xlfn.XLOOKUP(O501,BSFC!$A$2:$A$24,_xlfn.XLOOKUP(K501,BSFC!$B$1:$O$1,BSFC!$B$2:$O$24,,-1),,-1)} -> 520 | R501: =Q501*P501/3600 -> 1.4256636 | S501: =(L501-L500)/3600*P501 -> 0.00020736639 | T501: =S501*Q501 -> 0.10783052 | U501: =U500+T501 -> 68.604428 | V501: =V500+S501 -> 0.14514235 | W501: =V501*1000*3600 -> 522512.47 | X501: =('Hybrid Info'!$A$2-Track!P501)*(L501-L500)*1000+X500 -> -23156.997
... A535: =A534+1 -> 534 | B535: =IF(SQRT(B534^2+2*I534)>13.4112,13.4112,SQRT(B534^2+2*I534)) -> 13.346276 | C535: =Specification!$G$29 -> 164.94338 | D535: =0.5*Specification!$K$4*Track!B535^2*Specification!$K$3*Specification!$K$2 -> 92.260043 | E535: 8 | F535: =Specification!$C$23*9.81*SIN((E535*PI()/180)) -> 765.18938 | G535: =IF(J535=1,VLOOKUP(K535,RPM!$E$2:$H$62,3,FALSE)-F535-E535-D535,IF(J535=2,VLOOKUP(K535,RPM!$H$2:$K$62,3,FALSE)-F535-E535-D535,IF(J535=3,VLOOKUP(K535,RPM!$K$2:$N$62,3,FALSE)-F535-E535-D535))) -> -83.804316 | H535: =IF(J535=1,Specification!$I$14,IF(J535=2,Specification!$I$15,IF(J535=3,Specification!$I$16))) -> 582.50936 | I535: =G535/H535 -> -0.14386776 | J535: 2 | K535: =IF(J535=1,VLOOKUP(B535,RPM!$F$2:$H$62,3,TRUE),IF(J535=2,VLOOKUP(B535,RPM!$I$2:$K$62,3,TRUE),IF(J535=3,VLOOKUP(B535,RPM!$L$2:$N$62,3,TRUE)))) -> 7000 | L535: =IF(I535=0,ABS(1/B535)+L534,IF(ABS(B536-B535)=0,1/B535+L534,ABS((B536-B535)/I535)+L534)) -> 44.127404 | M535: =TAN(E535*PI()/180)+M534 -> 1.4738737 | N535: =VLOOKUP(K535,RPM!$A$2:$D$62,3,FALSE) -> 13 | O535: =VLOOKUP(K535,RPM!$A$2:$D$62,4,FALSE) -> 13.235857 | P535: =O535*0.7457 -> 9.8699787 | Q535: {=_xlfn.XLOOKUP(O535,BSFC!$A$2:$A$24,_xlfn.XLOOKUP(K535,BSFC!$B$1:$O$1,BSFC!$B$2:$O$24,,-1),,-1)} -> 520 | R535: =Q535*P535/3600 -> 1.4256636 | S535: =(L535-L534)/3600*P535 -> 0.00020550818 | T535: =S535*Q535 -> 0.10686425 | U535: =U534+T535 -> 72.689378 | V535: =V534+S535 -> 0.15333476 | W535: =V535*1000*3600 -> 552005.13 | X535: =('Hybrid Info'!$A$2-Track!P535)*(L535-L534)*1000+X534 -> -22228.313
A536: =A535+1 -> 535 | B536: =IF(SQRT(B535^2+2*I535)>13.4112,13.4112,SQRT(B535^2+2*I535)) -> 13.335492 | C536: =Specification!$G$29 -> 164.94338 | D536: =0.5*Specification!$K$4*Track!B536^2*Specification!$K$3*Specification!$K$2 -> 92.111008 | E536: 8 | F536: =Specification!$C$23*9.81*SIN((E536*PI()/180)) -> 765.18938 | G536: =IF(J536=1,VLOOKUP(K536,RPM!$E$2:$H$62,3,FALSE)-F536-E536-D536,IF(J536=2,VLOOKUP(K536,RPM!$H$2:$K$62,3,FALSE)-F536-E536-D536,IF(J536=3,VLOOKUP(K536,RPM!$K$2:$N$62,3,FALSE)-F536-E536-D536))) -> -83.655282 | H536: =IF(J536=1,Specification!$I$14,IF(J536=2,Specification!$I$15,IF(J536=3,Specification!$I$16))) -> 582.50936 | I536: =IF(B536=13.4112,0,G536/H536) -> -0.14361191 | J536: 2 | K536: =IF(J536=1,VLOOKUP(B536,RPM!$F$2:$H$62,3,TRUE),IF(J536=2,VLOOKUP(B536,RPM!$I$2:$K$62,3,TRUE),IF(J536=3,VLOOKUP(B536,RPM!$L$2:$N$62,3,TRUE)))) -> 7000 | L536: =IF(I536=0,ABS(1/B536)+L535,IF(ABS(B537-B536)=0,1/B536+L535,ABS((B537-B536)/I536)+L535)) -> 44.202422 | M536: =TAN(E536*PI()/180)+M535 -> 1.6144146 | N536: =VLOOKUP(K536,RPM!$A$2:$D$62,3,FALSE) -> 13 | O536: =VLOOKUP(K536,RPM!$A$2:$D$62,4,FALSE) -> 13.235857 | P536: =O536*0.7457 -> 9.8699787 | Q536: {=_xlfn.XLOOKUP(O536,BSFC!$A$2:$A$24,_xlfn.XLOOKUP(K536,BSFC!$B$1:$O$1,BSFC!$B$2:$O$24,,-1),,-1)} -> 520 | R536: =Q536*P536/3600 -> 1.4256636 | S536: =(L536-L535)/3600*P536 -> 0.00020567435 | T536: =S536*Q536 -> 0.10695066 | U536: =U535+T536 -> 72.796329 | V536: =V535+S536 -> 0.15354043 | W536: =V536*1000*3600 -> 552745.55 | X536: =('Hybrid Info'!$A$2-Track!P536)*(L536-L535)*1000+X535 -> -22059.487
A537: =A536+1 -> 536 | B537: =IF(SQRT(B536^2+2*I536)>13.4112,13.4112,SQRT(B536^2+2*I536)) -> 13.324718 | C537: =Specification!$G$29 -> 164.94338 | D537: =0.5*Specification!$K$4*Track!B537^2*Specification!$K$3*Specification!$K$2 -> 91.962239 | E537: 8 | F537: =Specification!$C$23*9.81*SIN((E537*PI()/180)) -> 765.18938 | G537: =IF(J537=1,VLOOKUP(K537,RPM!$E$2:$H$62,3,FALSE)-F537-E537-D537,IF(J537=2,VLOOKUP(K537,RPM!$H$2:$K$62,3,FALSE)-F537-E537-D537,IF(J537=3,VLOOKUP(K537,RPM!$K$2:$N$62,3,FALSE)-F537-E537-D537))) -> -83.506512 | H537: =IF(J537=1,Specification!$I$14,IF(J537=2,Specification!$I$15,IF(J537=3,Specification!$I$16))) -> 582.50936 | I537: =IF(B537=13.4112,0,G537/H537) -> -0.14335651 | J537: 2 | K537: =IF(J537=1,VLOOKUP(B537,RPM!$F$2:$H$62,3,TRUE),IF(J537=2,VLOOKUP(B537,RPM!$I$2:$K$62,3,TRUE),IF(J537=3,VLOOKUP(B537,RPM!$L$2:$N$62,3,TRUE)))) -> 7000 | L537: =IF(I537=0,ABS(1/B537)+L536,IF(ABS(B538-B537)=0,1/B537+L536,ABS((B538-B537)/I537)+L536)) -> 44.277501 | M537: =TAN(E537*PI()/180)+M536 -> 1.7549554 | N537: =VLOOKUP(K537,RPM!$A$2:$D$62,3,FALSE) -> 13 | O537: =VLOOKUP(K537,RPM!$A$2:$D$62,4,FALSE) -> 13.235857 | P537: =O537*0.7457 -> 9.8699787 | Q537: {=_xlfn.XLOOKUP(O537,BSFC!$A$2:$A$24,_xlfn.XLOOKUP(K537,BSFC!$B$1:$O$1,BSFC!$B$2:$O$24,,-1),,-1)} -> 520 | R537: =Q537*P537/3600 -> 1.4256636 | S537: =(L537-L536)/3600*P537 -> 0.00020584064 | T537: =S537*Q537 -> 0.10703713 | U537: =U536+T537 -> 72.903366 | V537: =V536+S537 -> 0.15374627 | W537: =V537*1000*3600 -> 553486.58 | X537: =('Hybrid Info'!$A$2-Track!P537)*(L537-L536)*1000+X536 -> -21890.524
A538: =A537+1 -> 537 | B538: =IF(SQRT(B537^2+2*I537)>13.4112,13.4112,SQRT(B537^2+2*I537)) -> 13.313955 | C538: =Specification!$G$29 -> 164.94338 | D538: =0.5*Specification!$K$4*Track!B538^2*Specification!$K$3*Specification!$K$2 -> 91.813734 | E538: 8 | F538: =Specification!$C$23*9.81*SIN((E538*PI()/180)) -> 765.18938 | G538: =IF(J538=1,VLOOKUP(K538,RPM!$E$2:$H$62,3,FALSE)-F538-E538-D538,IF(J538=2,VLOOKUP(K538,RPM!$H$2:$K$62,3,FALSE)-F538-E538-D538,IF(J538=3,VLOOKUP(K538,RPM!$K$2:$N$62,3,FALSE)-F538-E538-D538))) -> -83.358007 | H538: =IF(J538=1,Specification!$I$14,IF(J538=2,Specification!$I$15,IF(J538=3,Specification!$I$16))) -> 582.50936 | I538: =IF(B538=13.4112,0,G538/H538) -> -0.14310157 | J538: 2 | K538: =IF(J538=1,VLOOKUP(B538,RPM!$F$2:$H$62,3,TRUE),IF(J538=2,VLOOKUP(B538,RPM!$I$2:$K$62,3,TRUE),IF(J538=3,VLOOKUP(B538,RPM!$L$2:$N$62,3,TRUE)))) -> 7000 | L538: =IF(I538=0,ABS(1/B538)+L537,IF(ABS(B539-B538)=0,1/B538+L537,ABS((B539-B538)/I538)+L537)) -> 44.352641 | M538: =TAN(E538*PI()/180)+M537 -> 1.8954962 | N538: =VLOOKUP(K538,RPM!$A$2:$D$62,3,FALSE) -> 13 | O538: =VLOOKUP(K538,RPM!$A$2:$D$62,4,FALSE) -> 13.235857 | P538: =O538*0.7457 -> 9.8699787 | Q538: {=_xlfn.XLOOKUP(O538,BSFC!$A$2:$A$24,_xlfn.XLOOKUP(K538,BSFC!$B$1:$O$1,BSFC!$B$2:$O$24,,-1),,-1)} -> 520 | R538: =Q538*P538/3600 -> 1.4256636 | S538: =(L538-L537)/3600*P538 -> 0.00020600702 | T538: =S538*Q538 -> 0.10712365 | U538: =U537+T538 -> 73.01049 | V538: =V537+S538 -> 0.15395228 | W538: =V538*1000*3600 -> 554228.21 | X538: =('Hybrid Info'!$A$2-Track!P538)*(L538-L537)*1000+X537 -> -21721.424
A539: =A538+1 -> 538 | B539: =IF(SQRT(B538^2+2*I538)>13.4112,13.4112,SQRT(B538^2+2*I538)) -> 13.303203 | C539: =Specification!$G$29 -> 164.94338 | D539: =0.5*Specification!$K$4*Track!B539^2*Specification!$K$3*Specification!$K$2 -> 91.665493 | E539: 8 | F539: =Specification!$C$23*9.81*SIN((E539*PI()/180)) -> 765.18938 | G539: =IF(J539=1,VLOOKUP(K539,RPM!$E$2:$H$62,3,FALSE)-F539-E539-D539,IF(J539=2,VLOOKUP(K539,RPM!$H$2:$K$62,3,FALSE)-F539-E539-D539,IF(J539=3,VLOOKUP(K539,RPM!$K$2:$N$62,3,FALSE)-F539-E539-D539))) -> -83.209766 | H539: =IF(J539=1,Specification!$I$14,IF(J539=2,Specification!$I$15,IF(J539=3,Specification!$I$16))) -> 582.50936 | I539: =IF(B539=13.4112,0,G539/H539) -> -0.14284709 | J539: 2 | K539: =IF(J539=1,VLOOKUP(B539,RPM!$F$2:$H$62,3,TRUE),IF(J539=2,VLOOKUP(B539,RPM!$I$2:$K$62,3,TRUE),IF(J539=3,VLOOKUP(B539,RPM!$L$2:$N$62,3,TRUE)))) -> 7000 | L539: =IF(I539=0,ABS(1/B539)+L538,IF(ABS(B540-B539)=0,1/B539+L538,ABS((B540-B539)/I539)+L538)) -> 44.427841 | M539: =TAN(E539*PI()/180)+M538 -> 2.0360371 | N539: =VLOOKUP(K539,RPM!$A$2:$D$62,3,FALSE) -> 13 | O539: =VLOOKUP(K539,RPM!$A$2:$D$62,4,FALSE) -> 13.235857 | P539: =O539*0.7457 -> 9.8699787 | Q539: {=_xlfn.XLOOKUP(O539,BSFC!$A$2:$A$24,_xlfn.XLOOKUP(K539,BSFC!$B$1:$O$1,BSFC!$B$2:$O$24,,-1),,-1)} -> 520 | R539: =Q539*P539/3600 -> 1.4256636 | S539: =(L539-L538)/3600*P539 -> 0.00020617352 | T539: =S539*Q539 -> 0.10721023 | U539: =U538+T539 -> 73.1177 | V539: =V538+S539 -> 0.15415845 | W539: =V539*1000*3600 -> 554970.43 | X539: =('Hybrid Info'!$A$2-Track!P539)*(L539-L538)*1000+X538 -> -21552.188
A540: =A539+1 -> 539 | B540: =IF(SQRT(B539^2+2*I539)>13.4112,13.4112,SQRT(B539^2+2*I539)) -> 13.29246 | C540: =Specification!$G$29 -> 164.94338 | D540: =0.5*Specification!$K$4*Track!B540^2*Specification!$K$3*Specification!$K$2 -> 91.517516 | E540: 7 | F540: =Specification!$C$23*9.81*SIN((E540*PI()/180)) -> 670.05137 | G540: =IF(J540=1,VLOOKUP(K540,RPM!$E$2:$H$62,3,FALSE)-F540-E540-D540,IF(J540=2,VLOOKUP(K540,RPM!$H$2:$K$62,3,FALSE)-F540-E540-D540,IF(J540=3,VLOOKUP(K540,RPM!$K$2:$N$62,3,FALSE)-F540-E540-D540))) -> 13.076218 | H540: =IF(J540=1,Specification!$I$14,IF(J540=2,Specification!$I$15,IF(J540=3,Specification!$I$16))) -> 582.50936 | I540: =IF(B540=13.4112,0,G540/H540) -> 0.022448083 | J540: 2 | K540: =IF(J540=1,VLOOKUP(B540,RPM!$F$2:$H$62,3,TRUE),IF(J540=2,VLOOKUP(B540,RPM!$I$2:$K$62,3,TRUE),IF(J540=3,VLOOKUP(B540,RPM!$L$2:$N$62,3,TRUE)))) -> 7000 | L540: =IF(I540=0,ABS(1/B540)+L539,IF(ABS(B541-B540)=0,1/B540+L539,ABS((B541-B540)/I540)+L539)) -> 44.503067 | M540: =TAN(E540*PI()/180)+M539 -> 2.1588216 | N540: =VLOOKUP(K540,RPM!$A$2:$D$62,3,FALSE) -> 13 | O540: =VLOOKUP(K540,RPM!$A$2:$D$62,4,FALSE) -> 13.235857 | P540: =O540*0.7457 -> 9.8699787 | Q540: {=_xlfn.XLOOKUP(O540,BSFC!$A$2:$A$24,_xlfn.XLOOKUP(K540,BSFC!$B$1:$O$1,BSFC!$B$2:$O$24,,-1),,-1)} -> 520 | R540: =Q540*P540/3600 -> 1.4256636 | S540: =(L540-L539)/3600*P540 -> 0.00020624373 | T540: =S540*Q540 -> 0.10724674 | U540: =U539+T540 -> 73.224947 | V540: =V539+S540 -> 0.1543647 | W540: =V540*1000*3600 -> 555712.91 | X540: =('Hybrid Info'!$A$2-Track!P540)*(L540-L539)*1000+X539 -> -21382.894
A541: =A540+1 -> 540 | B541: =IF(SQRT(B540^2+2*I540)>13.4112,13.4112,SQRT(B540^2+2*I540)) -> 13.294149 | C541: =Specification!$G$29 -> 164.94338 | D541: =0.5*Specification!$K$4*Track!B541^2*Specification!$K$3*Specification!$K$2 -> 91.54077 | E541: 6 | F541: =Specification!$C$23*9.81*SIN((E541*PI()/180)) -> 574.70926 | G541: =IF(J541=1,VLOOKUP(K541,RPM!$E$2:$H$62,3,FALSE)-F541-E541-D541,IF(J541=2,VLOOKUP(K541,RPM!$H$2:$K$62,3,FALSE)-F541-E541-D541,IF(J541=3,VLOOKUP(K541,RPM!$K$2:$N$62,3,FALSE)-F541-E541-D541))) -> 109.39508 | H541: =IF(J541=1,Specification!$I$14,IF(J541=2,Specification!$I$15,IF(J541=3,Specification!$I$16))) -> 582.50936 | I541: =IF(B541=13.4112,0,G541/H541) -> 0.18779969 | J541: 2 | K541: =IF(J541=1,VLOOKUP(B541,RPM!$F$2:$H$62,3,TRUE),IF(J541=2,VLOOKUP(B541,RPM!$I$2:$K$62,3,TRUE),IF(J541=3,VLOOKUP(B541,RPM!$L$2:$N$62,3,TRUE)))) -> 7000 | L541: =IF(I541=0,ABS(1/B541)+L540,IF(ABS(B542-B541)=0,1/B541+L540,ABS((B542-B541)/I541)+L540)) -> 44.578248 | M541: =TAN(E541*PI()/180)+M540 -> 2.2639259 | N541: =VLOOKUP(K541,RPM!$A$2:$D$62,3,FALSE) -> 13 | O541: =VLOOKUP(K541,RPM!$A$2:$D$62,4,FALSE) -> 13.235857 | P541: =O541*0.7457 -> 9.8699787 | Q541: {=_xlfn.XLOOKUP(O541,BSFC!$A$2:$A$24,_xlfn.XLOOKUP(K541,BSFC!$B$1:$O$1,BSFC!$B$2:$O$24,,-1),,-1)} -> 520 | R541: =Q541*P541/3600 -> 1.4256636 | S541: =(L541-L540)/3600*P541 -> 0.00020612117 | T541: =S541*Q541 -> 0.10718301 | U541: =U540+T541 -> 73.33213 | V541: =V540+S541 -> 0.15457082 | W541: =V541*1000*3600 -> 556454.94 | X541: =('Hybrid Info'!$A$2-Track!P541)*(L541-L540)*1000+X540 -> -21213.7
A542: =A541+1 -> 541 | B542: =IF(SQRT(B541^2+2*I541)>13.4112,13.4112,SQRT(B541^2+2*I541)) -> 13.308268 | C542: =Specification!$G$29 -> 164.94338 | D542: =0.5*Specification!$K$4*Track!B542^2*Specification!$K$3*Specification!$K$2 -> 91.735314 | E542: 5 | F542: =Specification!$C$23*9.81*SIN((E542*PI()/180)) -> 479.19209 | G542: =IF(J542=1,VLOOKUP(K542,RPM!$E$2:$H$62,3,FALSE)-F542-E542-D542,IF(J542=2,VLOOKUP(K542,RPM!$H$2:$K$62,3,FALSE)-F542-E542-D542,IF(J542=3,VLOOKUP(K542,RPM!$K$2:$N$62,3,FALSE)-F542-E542-D542))) -> 205.71771 | H542: =IF(J542=1,Specification!$I$14,IF(J542=2,Specification!$I$15,IF(J542=3,Specification!$I$16))) -> 582.50936 | I542: =IF(B542=13.4112,0,G542/H542) -> 0.35315777 | J542: 2 | K542: =IF(J542=1,VLOOKUP(B542,RPM!$F$2:$H$62,3,TRUE),IF(J542=2,VLOOKUP(B542,RPM!$I$2:$K$62,3,TRUE),IF(J542=3,VLOOKUP(B542,RPM!$L$2:$N$62,3,TRUE)))) -> 7000 | L542: =IF(I542=0,ABS(1/B542)+L541,IF(ABS(B543-B542)=0,1/B542+L541,ABS((B543-B542)/I542)+L541)) -> 44.653314 | M542: =TAN(E542*PI()/180)+M541 -> 2.3514145 | N542: =VLOOKUP(K542,RPM!$A$2:$D$62,3,FALSE) -> 13 | O542: =VLOOKUP(K542,RPM!$A$2:$D$62,4,FALSE) -> 13.235857 | P542: =O542*0.7457 -> 9.8699787 | Q542: {=_xlfn.XLOOKUP(O542,BSFC!$A$2:$A$24,_xlfn.XLOOKUP(K542,BSFC!$B$1:$O$1,BSFC!$B$2:$O$24,,-1),,-1)} -> 520 | R542: =Q542*P542/3600 -> 1.4256636 | S542: =(L542-L541)/3600*P542 -> 0.00020580685 | T542: =S542*Q542 -> 0.10701956 | U542: =U541+T542 -> 73.439149 | V542: =V541+S542 -> 0.15477662 | W542: =V542*1000*3600 -> 557195.85 | X542: =('Hybrid Info'!$A$2-Track!P542)*(L542-L541)*1000+X541 -> -21044.765
A543: =A542+1 -> 542 | B543: =IF(SQRT(B542^2+2*I542)>13.4112,13.4112,SQRT(B542^2+2*I542)) -> 13.334778 | C543: =Specification!$G$29 -> 164.94338 | D543: =0.5*Specification!$K$4*Track!B543^2*Specification!$K$3*Specification!$K$2 -> 92.101155 | E543: 4 | F543: =Specification!$C$23*9.81*SIN((E543*PI()/180)) -> 383.52895 | G543: =IF(J543=1,VLOOKUP(K543,RPM!$E$2:$H$62,3,FALSE)-F543-E543-D543,IF(J543=2,VLOOKUP(K543,RPM!$H$2:$K$62,3,FALSE)-F543-E543-D543,IF(J543=3,VLOOKUP(K543,RPM!$K$2:$N$62,3,FALSE)-F543-E543-D543))) -> 163.09192 | H543: =IF(J543=1,Specification!$I$14,IF(J543=2,Specification!$I$15,IF(J543=3,Specification!$I$16))) -> 578.93404 | I543: =IF(B543=13.4112,0,G543/H543) -> 0.28171071 | J543: 3 | K543: =IF(J543=1,VLOOKUP(B543,RPM!$F$2:$H$62,3,TRUE),IF(J543=2,VLOOKUP(B543,RPM!$I$2:$K$62,3,TRUE),IF(J543=3,VLOOKUP(B543,RPM!$L$2:$N$62,3,TRUE)))) -> 4300 | L543: =IF(I543=0,ABS(1/B543)+L542,IF(ABS(B544-B543)=0,1/B543+L542,ABS((B544-B543)/I543)+L542)) -> 44.728247 | M543: =TAN(E543*PI()/180)+M542 -> 2.4213413 | N543: =VLOOKUP(K543,RPM!$A$2:$D$62,3,FALSE) -> 11.4 | O543: =VLOOKUP(K543,RPM!$A$2:$D$62,4,FALSE) -> 18.894837 | P543: =O543*0.7457 -> 14.08988 | Q543: {=_xlfn.XLOOKUP(O543,BSFC!$A$2:$A$24,_xlfn.XLOOKUP(K543,BSFC!$B$1:$O$1,BSFC!$B$2:$O$24,,-1),,-1)} -> 480 | R543: =Q543*P543/3600 -> 1.8786507 | S543: =(L543-L542)/3600*P543 -> 0.00029327523 | T543: =S543*Q543 -> 0.14077211 | U543: =U542+T543 -> 73.579921 | V543: =V542+S543 -> 0.1550699 | W543: =V543*1000*3600 -> 558251.64 | X543: =('Hybrid Info'!$A$2-Track!P543)*(L543-L542)*1000+X542 -> -21192.339
A544: =A543+1 -> 543 | B544: =IF(SQRT(B543^2+2*I543)>13.4112,13.4112,SQRT(B543^2+2*I543)) -> 13.355888 | C544: =Specification!$G$29 -> 164.94338 | D544: =0.5*Specification!$K$4*Track!B544^2*Specification!$K$3*Specification!$K$2 -> 92.392983 | E544: 3 | F544: =Specification!$C$23*9.81*SIN((E544*PI()/180)) -> 287.74898 | G544: =IF(J544=1,VLOOKUP(K544,RPM!$E$2:$H$62,3,FALSE)-F544-E544-D544,IF(J544=2,VLOOKUP(K544,RPM!$H$2:$K$62,3,FALSE)-F544-E544-D544,IF(J544=3,VLOOKUP(K544,RPM!$K$2:$N$62,3,FALSE)-F544-E544-D544))) -> 259.58006 | H544: =IF(J544=1,Specification!$I$14,IF(J544=2,Specification!$I$15,IF(J544=3,Specification!$I$16))) -> 578.93404 | I544: =IF(B544=13.4112,0,G544/H544) -> 0.44837587 | J544: 3 | K544: =IF(J544=1,VLOOKUP(B544,RPM!$F$2:$H$62,3,TRUE),IF(J544=2,VLOOKUP(B544,RPM!$I$2:$K$62,3,TRUE),IF(J544=3,VLOOKUP(B544,RPM!$L$2:$N$62,3,TRUE)))) -> 4300 | L544: =IF(I544=0,ABS(1/B544)+L543,IF(ABS(B545-B544)=0,1/B544+L543,ABS((B545-B544)/I544)+L543)) -> 44.803026 | M544: =TAN(E544*PI()/180)+M543 -> 2.4737491 | N544: =VLOOKUP(K544,RPM!$A$2:$D$62,3,FALSE) -> 11.4 | O544: =VLOOKUP(K544,RPM!$A$2:$D$62,4,FALSE) -> 18.894837 | P544: =O544*0.7457 -> 14.08988 | Q544: {=_xlfn.XLOOKUP(O544,BSFC!$A$2:$A$24,_xlfn.XLOOKUP(K544,BSFC!$B$1:$O$1,BSFC!$B$2:$O$24,,-1),,-1)} -> 480 | R544: =Q544*P544/3600 -> 1.8786507 | S544: =(L544-L543)/3600*P544 -> 0.00029267609 | T544: =S544*Q544 -> 0.14048452 | U544: =U543+T544 -> 73.720406 | V544: =V543+S544 -> 0.15536258 | W544: =V544*1000*3600 -> 559305.27 | X544: =('Hybrid Info'!$A$2-Track!P544)*(L544-L543)*1000+X543 -> -21339.612
A545: =A544+1 -> 544 | B545: =IF(SQRT(B544^2+2*I544)>13.4112,13.4112,SQRT(B544^2+2*I544)) -> 13.389417 | C545: =Specification!$G$29 -> 164.94338 | D545: =0.5*Specification!$K$4*Track!B545^2*Specification!$K$3*Specification!$K$2 -> 92.857462 | E545: 2 | F545: =Specification!$C$23*9.81*SIN((E545*PI()/180)) -> 191.88136 | G545: =IF(J545=1,VLOOKUP(K545,RPM!$E$2:$H$62,3,FALSE)-F545-E545-D545,IF(J545=2,VLOOKUP(K545,RPM!$H$2:$K$62,3,FALSE)-F545-E545-D545,IF(J545=3,VLOOKUP(K545,RPM!$K$2:$N$62,3,FALSE)-F545-E545-D545))) -> 355.9832 | H545: =IF(J545=1,Specification!$I$14,IF(J545=2,Specification!$I$15,IF(J545=3,Specification!$I$16))) -> 578.93404 | I545: =IF(B545=13.4112,0,G545/H545) -> 0.61489422 | J545: 3 | K545: =IF(J545=1,VLOOKUP(B545,RPM!$F$2:$H$62,3,TRUE),IF(J545=2,VLOOKUP(B545,RPM!$I$2:$K$62,3,TRUE),IF(J545=3,VLOOKUP(B545,RPM!$L$2:$N$62,3,TRUE)))) -> 4300 | L545: =IF(I545=0,ABS(1/B545)+L544,IF(ABS(B546-B545)=0,1/B545+L544,ABS((B546-B545)/I545)+L544)) -> 44.838452 | M545: =TAN(E545*PI()/180)+M544 -> 2.5086699 | N545: =VLOOKUP(K545,RPM!$A$2:$D$62,3,FALSE) -> 11.4 | O545: =VLOOKUP(K545,RPM!$A$2:$D$62,4,FALSE) -> 18.894837 | P545: =O545*0.7457 -> 14.08988 | Q545: {=_xlfn.XLOOKUP(O545,BSFC!$A$2:$A$24,_xlfn.XLOOKUP(K545,BSFC!$B$1:$O$1,BSFC!$B$2:$O$24,,-1),,-1)} -> 480 | R545: =Q545*P545/3600 -> 1.8786507 | S545: =(L545-L544)/3600*P545 -> 0.00013865012 | T545: =S545*Q545 -> 0.066552057 | U545: =U544+T545 -> 73.786958 | V545: =V544+S545 -> 0.15550123 | W545: =V545*1000*3600 -> 559804.41 | X545: =('Hybrid Info'!$A$2-Track!P545)*(L545-L544)*1000+X544 -> -21409.38
A546: =A545+1 -> 545 | B546: =IF(SQRT(B545^2+2*I545)>13.4112,13.4112,SQRT(B545^2+2*I545)) -> 13.4112 | C546: =Specification!$G$29 -> 164.94338 | D546: =0.5*Specification!$K$4*Track!B546^2*Specification!$K$3*Specification!$K$2 -> 93.159843 | E546: 1 | F546: =Specification!$C$23*9.81*SIN((E546*PI()/180)) -> 95.955296 | G546: =IF(J546=1,VLOOKUP(K546,RPM!$E$2:$H$62,3,FALSE)-F546-E546-D546,IF(J546=2,VLOOKUP(K546,RPM!$H$2:$K$62,3,FALSE)-F546-E546-D546,IF(J546=3,VLOOKUP(K546,RPM!$K$2:$N$62,3,FALSE)-F546-E546-D546))) -> 452.60688 | H546: =IF(J546=1,Specification!$I$14,IF(J546=2,Specification!$I$15,IF(J546=3,Specification!$I$16))) -> 578.93404 | I546: =IF(B545=13.4112,0,G546/H546) -> 0.78179352 | J546: 3 | K546: =IF(J546=1,VLOOKUP(B546,RPM!$F$2:$H$62,3,TRUE),IF(J546=2,VLOOKUP(B546,RPM!$I$2:$K$62,3,TRUE),IF(J546=3,VLOOKUP(B546,RPM!$L$2:$N$62,3,TRUE)))) -> 4300 | L546: =IF(I546=0,ABS(1/B546)+L545,IF(ABS(B547-B546)=0,1/B546+L545,ABS((B547-B546)/I546)+L545)) -> 44.913016 | M546: =TAN(E546*PI()/180)+M545 -> 2.526125 | N546: =VLOOKUP(K546,RPM!$A$2:$D$62,3,FALSE) -> 11.4 | O546: =VLOOKUP(K546,RPM!$A$2:$D$62,4,FALSE) -> 18.894837 | P546: =O546*0.7457 -> 14.08988 | Q546: {=_xlfn.XLOOKUP(O546,BSFC!$A$2:$A$24,_xlfn.XLOOKUP(K546,BSFC!$B$1:$O$1,BSFC!$B$2:$O$24,,-1),,-1)} -> 480 | R546: =Q546*P546/3600 -> 1.8786507 | S546: =(L546-L545)/3600*P546 -> 0.00029183485 | T546: =S546*Q546 -> 0.14008073 | U546: =U545+T546 -> 73.927039 | V546: =V545+S546 -> 0.15579306 | W546: =V546*1000*3600 -> 560855.02 | X546: =('Hybrid Info'!$A$2-Track!P546)*(L546-L545)*1000+X545 -> -21556.229
A547: =A546+1 -> 546 | B547: =IF(SQRT(B546^2+2*I546)>13.4112,13.4112,SQRT(B546^2+2*I546)) -> 13.4112 | C547: =Specification!$G$29 -> 164.94338 | D547: =0.5*Specification!$K$4*Track!B547^2*Specification!$K$3*Specification!$K$2 -> 93.159843 | E547: 0 | F547: =Specification!$C$23*9.81*SIN((E547*PI()/180)) -> 0 | G547: =IF(J547=1,VLOOKUP(K547,RPM!$E$2:$H$62,3,FALSE)-F547-E547-D547,IF(J547=2,VLOOKUP(K547,RPM!$H$2:$K$62,3,FALSE)-F547-E547-D547,IF(J547=3,VLOOKUP(K547,RPM!$K$2:$N$62,3,FALSE)-F547-E547-D547))) -> 549.56218 | H547: =IF(J547=1,Specification!$I$14,IF(J547=2,Specification!$I$15,IF(J547=3,Specification!$I$16))) -> 578.93404 | I547: =IF(B547=13.4112,0,G547/H547) -> 0 | J547: 3 | K547: =IF(J547=1,VLOOKUP(B547,RPM!$F$2:$H$62,3,TRUE),IF(J547=2,VLOOKUP(B547,RPM!$I$2:$K$62,3,TRUE),IF(J547=3,VLOOKUP(B547,RPM!$L$2:$N$62,3,TRUE)))) -> 4300 | L547: =IF(I547=0,ABS(1/B547)+L546,IF(ABS(B548-B547)=0,1/B547+L546,ABS((B548-B547)/I547)+L546)) -> 44.987581 | M547: =TAN(E547*PI()/180)+M546 -> 2.526125 | N547: =VLOOKUP(K547,RPM!$A$2:$D$62,3,FALSE) -> 11.4 | O547: =VLOOKUP(K547,RPM!$A$2:$D$62,4,FALSE) -> 18.894837 | P547: =O547*0.7457 -> 14.08988 | Q547: {=_xlfn.XLOOKUP(O547,BSFC!$A$2:$A$24,_xlfn.XLOOKUP(K547,BSFC!$B$1:$O$1,BSFC!$B$2:$O$24,,-1),,-1)} -> 480 | R547: =Q547*P547/3600 -> 1.8786507 | S547: =(L547-L546)/3600*P547 -> 0.00029183485 | T547: =S547*Q547 -> 0.14008073 | U547: =U546+T547 -> 74.067119 | V547: =V546+S547 -> 0.1560849 | W547: =V547*1000*3600 -> 561905.63 | X547: =('Hybrid Info'!$A$2-Track!P547)*(L547-L546)*1000+X546 -> -21703.078
A548: =A547+1 -> 547 | B548: =IF(SQRT(B547^2+2*I547)>13.4112,13.4112,SQRT(B547^2+2*I547)) -> 13.4112 | C548: =Specification!$G$29 -> 164.94338 | D548: =0.5*Specification!$K$4*Track!B548^2*Specification!$K$3*Specification!$K$2 -> 93.159843 | E548: 0 | F548: =Specification!$C$23*9.81*SIN((E548*PI()/180)) -> 0 | G548: =IF(J548=1,VLOOKUP(K548,RPM!$E$2:$H$62,3,FALSE)-F548-E548-D548,IF(J548=2,VLOOKUP(K548,RPM!$H$2:$K$62,3,FALSE)-F548-E548-D548,IF(J548=3,VLOOKUP(K548,RPM!$K$2:$N$62,3,FALSE)-F548-E548-D548))) -> 549.56218 | H548: =IF(J548=1,Specification!$I$14,IF(J548=2,Specification!$I$15,IF(J548=3,Specification!$I$16))) -> 578.93404 | I548: =IF(B548=13.4112,0,G548/H548) -> 0 | J548: 3 | K548: =IF(J548=1,VLOOKUP(B548,RPM!$F$2:$H$62,3,TRUE),IF(J548=2,VLOOKUP(B548,RPM!$I$2:$K$62,3,TRUE),IF(J548=3,VLOOKUP(B548,RPM!$L$2:$N$62,3,TRUE)))) -> 4300 | L548: =IF(I548=0,ABS(1/B548)+L547,IF(ABS(B549-B548)=0,1/B548+L547,ABS((B549-B548)/I548)+L547)) -> 45.062145 | M548: =TAN(E548*PI()/180)+M547 -> 2.526125 | N548: =VLOOKUP(K548,RPM!$A$2:$D$62,3,FALSE) -> 11.4 | O548: =VLOOKUP(K548,RPM!$A$2:$D$62,4,FALSE) -> 18.894837 | P548: =O548*0.7457 -> 14.08988 | Q548: {=_xlfn.XLOOKUP(O548,BSFC!$A$2:$A$24,_xlfn.XLOOKUP(K548,BSFC!$B$1:$O$1,BSFC!$B$2:$O$24,,-1),,-1)} -> 480 | R548: =Q548*P548/3600 -> 1.8786507 | S548: =(L548-L547)/3600*P548 -> 0.00029183485 | T548: =S548*Q548 -> 0.14008073 | U548: =U547+T548 -> 74.2072 | V548: =V547+S548 -> 0.15637673 | W548: =V548*1000*3600 -> 562956.23 | X548: =('Hybrid Info'!$A$2-Track!P548)*(L548-L547)*1000+X547 -> -21849.928
A549: =A548+1 -> 548 | B549: =IF(SQRT(B548^2+2*I548)>13.4112,13.4112,SQRT(B548^2+2*I548)) -> 13.4112 | C549: =Specification!$G$29 -> 164.94338 | D549: =0.5*Specification!$K$4*Track!B549^2*Specification!$K$3*Specification!$K$2 -> 93.159843 | E549: 0 | F549: =Specification!$C$23*9.81*SIN((E549*PI()/180)) -> 0 | G549: =IF(J549=1,VLOOKUP(K549,RPM!$E$2:$H$62,3,FALSE)-F549-E549-D549,IF(J549=2,VLOOKUP(K549,RPM!$H$2:$K$62,3,FALSE)-F549-E549-D549,IF(J549=3,VLOOKUP(K549,RPM!$K$2:$N$62,3,FALSE)-F549-E549-D549))) -> 549.56218 | H549: =IF(J549=1,Specification!$I$14,IF(J549=2,Specification!$I$15,IF(J549=3,Specification!$I$16))) -> 578.93404 | I549: =IF(B549=13.4112,0,G549/H549) -> 0 | J549: 3 | K549: =IF(J549=1,VLOOKUP(B549,RPM!$F$2:$H$62,3,TRUE),IF(J549=2,VLOOKUP(B549,RPM!$I$2:$K$62,3,TRUE),IF(J549=3,VLOOKUP(B549,RPM!$L$2:$N$62,3,TRUE)))) -> 4300 | L549: =IF(I549=0,ABS(1/B549)+L548,IF(ABS(B550-B549)=0,1/B549+L548,ABS((B550-B549)/I549)+L548)) -> 45.13671 | M549: =TAN(E549*PI()/180)+M548 -> 2.526125 | N549: =VLOOKUP(K549,RPM!$A$2:$D$62,3,FALSE) -> 11.4 | O549: =VLOOKUP(K549,RPM!$A$2:$D$62,4,FALSE) -> 18.894837 | P549: =O549*0.7457 -> 14.08988 | Q549: {=_xlfn.XLOOKUP(O549,BSFC!$A$2:$A$24,_xlfn.XLOOKUP(K549,BSFC!$B$1:$O$1,BSFC!$B$2:$O$24,,-1),,-1)} -> 480 | R549: =Q549*P549/3600 -> 1.8786507 | S549: =(L549-L548)/3600*P549 -> 0.00029183485 | T549: =S549*Q549 -> 0.14008073 | U549: =U548+T549 -> 74.347281 | V549: =V548+S549 -> 0.15666857 | W549: =V549*1000*3600 -> 564006.84 | X549: =('Hybrid Info'!$A$2-Track!P549)*(L549-L548)*1000+X548 -> -21996.777
A550: =A549+1 -> 549 | B550: =IF(SQRT(B549^2+2*I549)>13.4112,13.4112,SQRT(B549^2+2*I549)) -> 13.4112 | C550: =Specification!$G$29 -> 164.94338 | D550: =0.5*Specification!$K$4*Track!B550^2*Specification!$K$3*Specification!$K$2 -> 93.159843 | E550: 0 | F550: =Specification!$C$23*9.81*SIN((E550*PI()/180)) -> 0 | G550: =IF(J550=1,VLOOKUP(K550,RPM!$E$2:$H$62,3,FALSE)-F550-E550-D550,IF(J550=2,VLOOKUP(K550,RPM!$H$2:$K$62,3,FALSE)-F550-E550-D550,IF(J550=3,VLOOKUP(K550,RPM!$K$2:$N$62,3,FALSE)-F550-E550-D550))) -> 549.56218 | H550: =IF(J550=1,Specification!$I$14,IF(J550=2,Specification!$I$15,IF(J550=3,Specification!$I$16))) -> 578.93404 | I550: =IF(B550=13.4112,0,G550/H550) -> 0 | J550: 3 | K550: =IF(J550=1,VLOOKUP(B550,RPM!$F$2:$H$62,3,TRUE),IF(J550=2,VLOOKUP(B550,RPM!$I$2:$K$62,3,TRUE),IF(J550=3,VLOOKUP(B550,RPM!$L$2:$N$62,3,TRUE)))) -> 4300 | L550: =IF(I550=0,ABS(1/B550)+L549,IF(ABS(B551-B550)=0,1/B550+L549,ABS((B551-B550)/I550)+L549)) -> 45.211275 | M550: =TAN(E550*PI()/180)+M549 -> 2.526125 | N550: =VLOOKUP(K550,RPM!$A$2:$D$62,3,FALSE) -> 11.4 | O550: =VLOOKUP(K550,RPM!$A$2:$D$62,4,FALSE) -> 18.894837 | P550: =O550*0.7457 -> 14.08988 | Q550: {=_xlfn.XLOOKUP(O550,BSFC!$A$2:$A$24,_xlfn.XLOOKUP(K550,BSFC!$B$1:$O$1,BSFC!$B$2:$O$24,,-1),,-1)} -> 480 | R550: =Q550*P550/3600 -> 1.8786507 | S550: =(L550-L549)/3600*P550 -> 0.00029183485 | T550: =S550*Q550 -> 0.14008073 | U550: =U549+T550 -> 74.487361 | V550: =V549+S550 -> 0.1569604 | W550: =V550*1000*3600 -> 565057.44 | X550: =('Hybrid Info'!$A$2-Track!P550)*(L550-L549)*1000+X549 -> -22143.626
A551: =A550+1 -> 550 | B551: =IF(SQRT(B550^2+2*I550)>13.4112,13.4112,SQRT(B550^2+2*I550)) -> 13.4112 | C551: =Specification!$G$29 -> 164.94338 | D551: =0.5*Specification!$K$4*Track!B551^2*Specification!$K$3*Specification!$K$2 -> 93.159843 | E551: -1 | F551: =Specification!$C$23*9.81*SIN((E551*PI()/180)) -> -95.955296 | G551: =IF(J551=1,VLOOKUP(K551,RPM!$E$2:$H$62,3,FALSE)-F551-E551-D551,IF(J551=2,VLOOKUP(K551,RPM!$H$2:$K$62,3,FALSE)-F551-E551-D551,IF(J551=3,VLOOKUP(K551,RPM!$K$2:$N$62,3,FALSE)-F551-E551-D551))) -> 646.51747 | H551: =IF(J551=1,Specification!$I$14,IF(J551=2,Specification!$I$15,IF(J551=3,Specification!$I$16))) -> 578.93404 | I551: =IF(B551=13.4112,0,G551/H551) -> 0 | J551: 3 | K551: =IF(J551=1,VLOOKUP(B551,RPM!$F$2:$H$62,3,TRUE),IF(J551=2,VLOOKUP(B551,RPM!$I$2:$K$62,3,TRUE),IF(J551=3,VLOOKUP(B551,RPM!$L$2:$N$62,3,TRUE)))) -> 4300 | L551: =IF(I551=0,ABS(1/B551)+L550,IF(ABS(B552-B551)=0,1/B551+L550,ABS((B552-B551)/I551)+L550)) -> 45.285839 | M551: =TAN(E551*PI()/180)+M550 -> 2.5086699 | N551: =VLOOKUP(K551,RPM!$A$2:$D$62,3,FALSE) -> 11.4 | O551: =VLOOKUP(K551,RPM!$A$2:$D$62,4,FALSE) -> 18.894837 | P551: =O551*0.7457 -> 14.08988 | Q551: {=_xlfn.XLOOKUP(O551,BSFC!$A$2:$A$24,_xlfn.XLOOKUP(K551,BSFC!$B$1:$O$1,BSFC!$B$2:$O$24,,-1),,-1)} -> 480 | R551: =Q551*P551/3600 -> 1.8786507 | S551: =(L551-L550)/3600*P551 -> 0.00029183485 | T551: =S551*Q551 -> 0.14008073 | U551: =U550+T551 -> 74.627442 | V551: =V550+S551 -> 0.15725224 | W551: =V551*1000*3600 -> 566108.05 | X551: =('Hybrid Info'!$A$2-Track!P551)*(L551-L550)*1000+X550 -> -22290.475
A552: =A551+1 -> 551 | B552: =IF(SQRT(B551^2+2*I551)>13.4112,13.4112,SQRT(B551^2+2*I551)) -> 13.4112 | C552: =Specification!$G$29 -> 164.94338 | D552: =0.5*Specification!$K$4*Track!B552^2*Specification!$K$3*Specification!$K$2 -> 93.159843 | E552: -2 | F552: =Specification!$C$23*9.81*SIN((E552*PI()/180)) -> -191.88136 | G552: =IF(J552=1,VLOOKUP(K552,RPM!$E$2:$H$62,3,FALSE)-F552-E552-D552,IF(J552=2,VLOOKUP(K552,RPM!$H$2:$K$62,3,FALSE)-F552-E552-D552,IF(J552=3,VLOOKUP(K552,RPM!$K$2:$N$62,3,FALSE)-F552-E552-D552))) -> 743.44354 | H552: =IF(J552=1,Specification!$I$14,IF(J552=2,Specification!$I$15,IF(J552=3,Specification!$I$16))) -> 578.93404 | I552: =IF(B552=13.4112,0,G552/H552) -> 0 | J552: 3 | K552: =IF(J552=1,VLOOKUP(B552,RPM!$F$2:$H$62,3,TRUE),IF(J552=2,VLOOKUP(B552,RPM!$I$2:$K$62,3,TRUE),IF(J552=3,VLOOKUP(B552,RPM!$L$2:$N$62,3,TRUE)))) -> 4300 | L552: =IF(I552=0,ABS(1/B552)+L551,IF(ABS(B553-B552)=0,1/B552+L551,ABS((B553-B552)/I552)+L551)) -> 45.360404 | M552: =TAN(E552*PI()/180)+M551 -> 2.4737491 | N552: =VLOOKUP(K552,RPM!$A$2:$D$62,3,FALSE) -> 11.4 | O552: =VLOOKUP(K552,RPM!$A$2:$D$62,4,FALSE) -> 18.894837 | P552: =O552*0.7457 -> 14.08988 | Q552: {=_xlfn.XLOOKUP(O552,BSFC!$A$2:$A$24,_xlfn.XLOOKUP(K552,BSFC!$B$1:$O$1,BSFC!$B$2:$O$24,,-1),,-1)} -> 480 | R552: =Q552*P552/3600 -> 1.8786507 | S552: =(L552-L551)/3600*P552 -> 0.00029183485 | T552: =S552*Q552 -> 0.14008073 | U552: =U551+T552 -> 74.767523 | V552: =V551+S552 -> 0.15754407 | W552: =V552*1000*3600 -> 567158.65 | X552: =('Hybrid Info'!$A$2-Track!P552)*(L552-L551)*1000+X551 -> -22437.325
A553: =A552+1 -> 552 | B553: =IF(SQRT(B552^2+2*I552)>13.4112,13.4112,SQRT(B552^2+2*I552)) -> 13.4112 | C553: =Specification!$G$29 -> 164.94338 | D553: =0.5*Specification!$K$4*Track!B553^2*Specification!$K$3*Specification!$K$2 -> 93.159843 | E553: -3 | F553: =Specification!$C$23*9.81*SIN((E553*PI()/180)) -> -287.74898 | G553: =IF(J553=1,VLOOKUP(K553,RPM!$E$2:$H$62,3,FALSE)-F553-E553-D553,IF(J553=2,VLOOKUP(K553,RPM!$H$2:$K$62,3,FALSE)-F553-E553-D553,IF(J553=3,VLOOKUP(K553,RPM!$K$2:$N$62,3,FALSE)-F553-E553-D553))) -> 840.31116 | H553: =IF(J553=1,Specification!$I$14,IF(J553=2,Specification!$I$15,IF(J553=3,Specification!$I$16))) -> 578.93404 | I553: =IF(B553=13.4112,0,G553/H553) -> 0 | J553: 3 | K553: =IF(J553=1,VLOOKUP(B553,RPM!$F$2:$H$62,3,TRUE),IF(J553=2,VLOOKUP(B553,RPM!$I$2:$K$62,3,TRUE),IF(J553=3,VLOOKUP(B553,RPM!$L$2:$N$62,3,TRUE)))) -> 4300 | L553: =IF(I553=0,ABS(1/B553)+L552,IF(ABS(B554-B553)=0,1/B553+L552,ABS((B554-B553)/I553)+L552)) -> 45.434968 | M553: =TAN(E553*PI()/180)+M552 -> 2.4213413 | N553: =VLOOKUP(K553,RPM!$A$2:$D$62,3,FALSE) -> 11.4 | O553: =VLOOKUP(K553,RPM!$A$2:$D$62,4,FALSE) -> 18.894837 | P553: =O553*0.7457 -> 14.08988 | Q553: {=_xlfn.XLOOKUP(O553,BSFC!$A$2:$A$24,_xlfn.XLOOKUP(K553,BSFC!$B$1:$O$1,BSFC!$B$2:$O$24,,-1),,-1)} -> 480 | R553: =Q553*P553/3600 -> 1.8786507 | S553: =(L553-L552)/3600*P553 -> 0.00029183485 | T553: =S553*Q553 -> 0.14008073 | U553: =U552+T553 -> 74.907604 | V553: =V552+S553 -> 0.15783591 | W553: =V553*1000*3600 -> 568209.26 | X553: =('Hybrid Info'!$A$2-Track!P553)*(L553-L552)*1000+X552 -> -22584.174
A554: =A553+1 -> 553 | B554: =IF(SQRT(B553^2+2*I553)>13.4112,13.4112,SQRT(B553^2+2*I553)) -> 13.4112 | C554: =Specification!$G$29 -> 164.94338 | D554: =0.5*Specification!$K$4*Track!B554^2*Specification!$K$3*Specification!$K$2 -> 93.159843 | E554: -4 | F554: =Specification!$C$23*9.81*SIN((E554*PI()/180)) -> -383.52895 | G554: =IF(J554=1,VLOOKUP(K554,RPM!$E$2:$H$62,3,FALSE)-F554-E554-D554,IF(J554=2,VLOOKUP(K554,RPM!$H$2:$K$62,3,FALSE)-F554-E554-D554,IF(J554=3,VLOOKUP(K554,RPM!$K$2:$N$62,3,FALSE)-F554-E554-D554))) -> 937.09113 | H554: =IF(J554=1,Specification!$I$14,IF(J554=2,Specification!$I$15,IF(J554=3,Specification!$I$16))) -> 578.93404 | I554: =IF(B554=13.4112,0,G554/H554) -> 0 | J554: 3 | K554: =IF(J554=1,VLOOKUP(B554,RPM!$F$2:$H$62,3,TRUE),IF(J554=2,VLOOKUP(B554,RPM!$I$2:$K$62,3,TRUE),IF(J554=3,VLOOKUP(B554,RPM!$L$2:$N$62,3,TRUE)))) -> 4300 | L554: =IF(I554=0,ABS(1/B554)+L553,IF(ABS(B555-B554)=0,1/B554+L553,ABS((B555-B554)/I554)+L553)) -> 45.509533 | M554: =TAN(E554*PI()/180)+M553 -> 2.3514145 | N554: =VLOOKUP(K554,RPM!$A$2:$D$62,3,FALSE) -> 11.4 | O554: =VLOOKUP(K554,RPM!$A$2:$D$62,4,FALSE) -> 18.894837 | P554: =O554*0.7457 -> 14.08988 | Q554: {=_xlfn.XLOOKUP(O554,BSFC!$A$2:$A$24,_xlfn.XLOOKUP(K554,BSFC!$B$1:$O$1,BSFC!$B$2:$O$24,,-1),,-1)} -> 480 | R554: =Q554*P554/3600 -> 1.8786507 | S554: =(L554-L553)/3600*P554 -> 0.00029183485 | T554: =S554*Q554 -> 0.14008073 | U554: =U553+T554 -> 75.047684 | V554: =V553+S554 -> 0.15812774 | W554: =V554*1000*3600 -> 569259.86 | X554: =('Hybrid Info'!$A$2-Track!P554)*(L554-L553)*1000+X553 -> -22731.023
A555: =A554+1 -> 554 | B555: =IF(SQRT(B554^2+2*I554)>13.4112,13.4112,SQRT(B554^2+2*I554)) -> 13.4112 | C555: =Specification!$G$29 -> 164.94338 | D555: =0.5*Specification!$K$4*Track!B555^2*Specification!$K$3*Specification!$K$2 -> 93.159843 | E555: -5 | F555: =Specification!$C$23*9.81*SIN((E555*PI()/180)) -> -479.19209 | G555: =IF(J555=1,VLOOKUP(K555,RPM!$E$2:$H$62,3,FALSE)-F555-E555-D555,IF(J555=2,VLOOKUP(K555,RPM!$H$2:$K$62,3,FALSE)-F555-E555-D555,IF(J555=3,VLOOKUP(K555,RPM!$K$2:$N$62,3,FALSE)-F555-E555-D555))) -> 1033.7543 | H555: =IF(J555=1,Specification!$I$14,IF(J555=2,Specification!$I$15,IF(J555=3,Specification!$I$16))) -> 578.93404 | I555: =IF(B555=13.4112,0,G555/H555) -> 0 | J555: 3 | K555: =IF(J555=1,VLOOKUP(B555,RPM!$F$2:$H$62,3,TRUE),IF(J555=2,VLOOKUP(B555,RPM!$I$2:$K$62,3,TRUE),IF(J555=3,VLOOKUP(B555,RPM!$L$2:$N$62,3,TRUE)))) -> 4300 | L555: =IF(I555=0,ABS(1/B555)+L554,IF(ABS(B556-B555)=0,1/B555+L554,ABS((B556-B555)/I555)+L554)) -> 45.584097 | M555: =TAN(E555*PI()/180)+M554 -> 2.2639259 | N555: =VLOOKUP(K555,RPM!$A$2:$D$62,3,FALSE) -> 11.4 | O555: =VLOOKUP(K555,RPM!$A$2:$D$62,4,FALSE) -> 18.894837 | P555: =O555*0.7457 -> 14.08988 | Q555: {=_xlfn.XLOOKUP(O555,BSFC!$A$2:$A$24,_xlfn.XLOOKUP(K555,BSFC!$B$1:$O$1,BSFC!$B$2:$O$24,,-1),,-1)} -> 480 | R555: =Q555*P555/3600 -> 1.8786507 | S555: =(L555-L554)/3600*P555 -> 0.00029183485 | T555: =S555*Q555 -> 0.14008073 | U555: =U554+T555 -> 75.187765 | V555: =V554+S555 -> 0.15841957 | W555: =V555*1000*3600 -> 570310.47 | X555: =('Hybrid Info'!$A$2-Track!P555)*(L555-L554)*1000+X554 -> -22877.873
A556: =A555+1 -> 555 | B556: =IF(SQRT(B555^2+2*I555)>13.4112,13.4112,SQRT(B555^2+2*I555)) -> 13.4112 | C556: =Specification!$G$29 -> 164.94338 | D556: =0.5*Specification!$K$4*Track!B556^2*Specification!$K$3*Specification!$K$2 -> 93.159843 | E556: -6 | F556: =Specification!$C$23*9.81*SIN((E556*PI()/180)) -> -574.70926 | G556: =IF(J556=1,VLOOKUP(K556,RPM!$E$2:$H$62,3,FALSE)-F556-E556-D556,IF(J556=2,VLOOKUP(K556,RPM!$H$2:$K$62,3,FALSE)-F556-E556-D556,IF(J556=3,VLOOKUP(K556,RPM!$K$2:$N$62,3,FALSE)-F556-E556-D556))) -> 1130.2714 | H556: =IF(J556=1,Specification!$I$14,IF(J556=2,Specification!$I$15,IF(J556=3,Specification!$I$16))) -> 578.93404 | I556: =IF(B556=13.4112,0,G556/H556) -> 0 | J556: 3 | K556: =IF(J556=1,VLOOKUP(B556,RPM!$F$2:$H$62,3,TRUE),IF(J556=2,VLOOKUP(B556,RPM!$I$2:$K$62,3,TRUE),IF(J556=3,VLOOKUP(B556,RPM!$L$2:$N$62,3,TRUE)))) -> 4300 | L556: =IF(I556=0,ABS(1/B556)+L555,IF(ABS(B557-B556)=0,1/B556+L555,ABS((B557-B556)/I556)+L555)) -> 45.658662 | M556: =TAN(E556*PI()/180)+M555 -> 2.1588216 | N556: =VLOOKUP(K556,RPM!$A$2:$D$62,3,FALSE) -> 11.4 | O556: =VLOOKUP(K556,RPM!$A$2:$D$62,4,FALSE) -> 18.894837 | P556: =O556*0.7457 -> 14.08988 | Q556: {=_xlfn.XLOOKUP(O556,BSFC!$A$2:$A$24,_xlfn.XLOOKUP(K556,BSFC!$B$1:$O$1,BSFC!$B$2:$O$24,,-1),,-1)} -> 480 | R556: =Q556*P556/3600 -> 1.8786507 | S556: =(L556-L555)/3600*P556 -> 0.00029183485 | T556: =S556*Q556 -> 0.14008073 | U556: =U555+T556 -> 75.327846 | V556: =V555+S556 -> 0.15871141 | W556: =V556*1000*3600 -> 571361.07 | X556: =('Hybrid Info'!$A$2-Track!P556)*(L556-L555)*1000+X555 -> -23024.722
A557: =A556+1 -> 556 | B557: =IF(SQRT(B556^2+2*I556)>13.4112,13.4112,SQRT(B556^2+2*I556)) -> 13.4112 | C557: =Specification!$G$29 -> 164.94338 | D557: =0.5*Specification!$K$4*Track!B557^2*Specification!$K$3*Specification!$K$2 -> 93.159843 | E557: -7 | F557: =Specification!$C$23*9.81*SIN((E557*PI()/180)) -> -670.05137 | G557: =IF(J557=1,VLOOKUP(K557,RPM!$E$2:$H$62,3,FALSE)-F557-E557-D557,IF(J557=2,VLOOKUP(K557,RPM!$H$2:$K$62,3,FALSE)-F557-E557-D557,IF(J557=3,VLOOKUP(K557,RPM!$K$2:$N$62,3,FALSE)-F557-E557-D557))) -> 1226.6136 | H557: =IF(J557=1,Specification!$I$14,IF(J557=2,Specification!$I$15,IF(J557=3,Specification!$I$16))) -> 578.93404 | I557: =IF(B557=13.4112,0,G557/H557) -> 0 | J557: 3 | K557: =IF(J557=1,VLOOKUP(B557,RPM!$F$2:$H$62,3,TRUE),IF(J557=2,VLOOKUP(B557,RPM!$I$2:$K$62,3,TRUE),IF(J557=3,VLOOKUP(B557,RPM!$L$2:$N$62,3,TRUE)))) -> 4300 | L557: =IF(I557=0,ABS(1/B557)+L556,IF(ABS(B558-B557)=0,1/B557+L556,ABS((B558-B557)/I557)+L556)) -> 45.733226 | M557: =TAN(E557*PI()/180)+M556 -> 2.0360371 | N557: =VLOOKUP(K557,RPM!$A$2:$D$62,3,FALSE) -> 11.4 | O557: =VLOOKUP(K557,RPM!$A$2:$D$62,4,FALSE) -> 18.894837 | P557: =O557*0.7457 -> 14.08988 | Q557: {=_xlfn.XLOOKUP(O557,BSFC!$A$2:$A$24,_xlfn.XLOOKUP(K557,BSFC!$B$1:$O$1,BSFC!$B$2:$O$24,,-1),,-1)} -> 480 | R557: =Q557*P557/3600 -> 1.8786507 | S557: =(L557-L556)/3600*P557 -> 0.00029183485 | T557: =S557*Q557 -> 0.14008073 | U557: =U556+T557 -> 75.467927 | V557: =V556+S557 -> 0.15900324 | W557: =V557*1000*3600 -> 572411.68 | X557: =('Hybrid Info'!$A$2-Track!P557)*(L557-L556)*1000+X556 -> -23171.571
A558: =A557+1 -> 557 | B558: =IF(SQRT(B557^2+2*I557)>13.4112,13.4112,SQRT(B557^2+2*I557)) -> 13.4112 | C558: =Specification!$G$29 -> 164.94338 | D558: =0.5*Specification!$K$4*Track!B558^2*Specification!$K$3*Specification!$K$2 -> 93.159843 | E558: -8 | F558: =Specification!$C$23*9.81*SIN((E558*PI()/180)) -> -765.18938 | G558: =IF(J558=1,VLOOKUP(K558,RPM!$E$2:$H$62,3,FALSE)-F558-E558-D558,IF(J558=2,VLOOKUP(K558,RPM!$H$2:$K$62,3,FALSE)-F558-E558-D558,IF(J558=3,VLOOKUP(K558,RPM!$K$2:$N$62,3,FALSE)-F558-E558-D558))) -> 1322.7516 | H558: =IF(J558=1,Specification!$I$14,IF(J558=2,Specification!$I$15,IF(J558=3,Specification!$I$16))) -> 578.93404 | I558: =IF(B558=13.4112,0,G558/H558) -> 0 | J558: 3 | K558: =IF(J558=1,VLOOKUP(B558,RPM!$F$2:$H$62,3,TRUE),IF(J558=2,VLOOKUP(B558,RPM!$I$2:$K$62,3,TRUE),IF(J558=3,VLOOKUP(B558,RPM!$L$2:$N$62,3,TRUE)))) -> 4300 | L558: =IF(I558=0,ABS(1/B558)+L557,IF(ABS(B559-B558)=0,1/B558+L557,ABS((B559-B558)/I558)+L557)) -> 45.807791 | M558: =TAN(E558*PI()/180)+M557 -> 1.8954962 | N558: =VLOOKUP(K558,RPM!$A$2:$D$62,3,FALSE) -> 11.4 | O558: =VLOOKUP(K558,RPM!$A$2:$D$62,4,FALSE) -> 18.894837 | P558: =O558*0.7457 -> 14.08988 | Q558: {=_xlfn.XLOOKUP(O558,BSFC!$A$2:$A$24,_xlfn.XLOOKUP(K558,BSFC!$B$1:$O$1,BSFC!$B$2:$O$24,,-1),,-1)} -> 480 | R558: =Q558*P558/3600 -> 1.8786507 | S558: =(L558-L557)/3600*P558 -> 0.00029183485 | T558: =S558*Q558 -> 0.14008073 | U558: =U557+T558 -> 75.608007 | V558: =V557+S558 -> 0.15929508 | W558: =V558*1000*3600 -> 573462.29 | X558: =('Hybrid Info'!$A$2-Track!P558)*(L558-L557)*1000+X557 -> -23318.421
... A574: =A573+1 -> 573 | B574: =IF(SQRT(B573^2+2*I573)>13.4112,13.4112,SQRT(B573^2+2*I573)) -> 13.4112 | C574: =Specification!$G$29 -> 164.94338 | D574: =0.5*Specification!$K$4*Track!B574^2*Specification!$K$3*Specification!$K$2 -> 93.159843 | E574: -2 | F574: =Specification!$C$23*9.81*SIN((E574*PI()/180)) -> -191.88136 | G574: =IF(J574=1,VLOOKUP(K574,RPM!$E$2:$H$62,3,FALSE)-F574-E574-D574,IF(J574=2,VLOOKUP(K574,RPM!$H$2:$K$62,3,FALSE)-F574-E574-D574,IF(J574=3,VLOOKUP(K574,RPM!$K$2:$N$62,3,FALSE)-F574-E574-D574))) -> 743.44354 | H574: =IF(J574=1,Specification!$I$14,IF(J574=2,Specification!$I$15,IF(J574=3,Specification!$I$16))) -> 578.93404 | I574: =IF(B574=13.4112,0,G574/H574) -> 0 | J574: 3 | K574: =IF(J574=1,VLOOKUP(B574,RPM!$F$2:$H$62,3,TRUE),IF(J574=2,VLOOKUP(B574,RPM!$I$2:$K$62,3,TRUE),IF(J574=3,VLOOKUP(B574,RPM!$L$2:$N$62,3,TRUE)))) -> 4300 | L574: =IF(I574=0,ABS(1/B574)+L573,IF(ABS(B575-B574)=0,1/B574+L573,ABS((B575-B574)/I574)+L573)) -> 47.000824 | M574: =TAN(E574*PI()/180)+M573 -> 0.017455065 | N574: =VLOOKUP(K574,RPM!$A$2:$D$62,3,FALSE) -> 11.4 | O574: =VLOOKUP(K574,RPM!$A$2:$D$62,4,FALSE) -> 18.894837 | P574: =O574*0.7457 -> 14.08988 | Q574: {=_xlfn.XLOOKUP(O574,BSFC!$A$2:$A$24,_xlfn.XLOOKUP(K574,BSFC!$B$1:$O$1,BSFC!$B$2:$O$24,,-1),,-1)} -> 480 | R574: =Q574*P574/3600 -> 1.8786507 | S574: =(L574-L573)/3600*P574 -> 0.00029183485 | T574: =S574*Q574 -> 0.14008073 | U574: =U573+T574 -> 77.849299 | V574: =V573+S574 -> 0.16396444 | W574: =V574*1000*3600 -> 590271.97 | X574: =('Hybrid Info'!$A$2-Track!P574)*(L574-L573)*1000+X573 -> -25668.01
A575: =A574+1 -> 574 | B575: =IF(SQRT(B574^2+2*I574)>13.4112,13.4112,SQRT(B574^2+2*I574)) -> 13.4112 | C575: =Specification!$G$29 -> 164.94338 | D575: =0.5*Specification!$K$4*Track!B575^2*Specification!$K$3*Specification!$K$2 -> 93.159843 | E575: -1 | F575: =Specification!$C$23*9.81*SIN((E575*PI()/180)) -> -95.955296 | G575: =IF(J575=1,VLOOKUP(K575,RPM!$E$2:$H$62,3,FALSE)-F575-E575-D575,IF(J575=2,VLOOKUP(K575,RPM!$H$2:$K$62,3,FALSE)-F575-E575-D575,IF(J575=3,VLOOKUP(K575,RPM!$K$2:$N$62,3,FALSE)-F575-E575-D575))) -> 646.51747 | H575: =IF(J575=1,Specification!$I$14,IF(J575=2,Specification!$I$15,IF(J575=3,Specification!$I$16))) -> 578.93404 | I575: =IF(B575=13.4112,0,G575/H575) -> 0 | J575: 3 | K575: =IF(J575=1,VLOOKUP(B575,RPM!$F$2:$H$62,3,TRUE),IF(J575=2,VLOOKUP(B575,RPM!$I$2:$K$62,3,TRUE),IF(J575=3,VLOOKUP(B575,RPM!$L$2:$N$62,3,TRUE)))) -> 4300 | L575: =IF(I575=0,ABS(1/B575)+L574,IF(ABS(B576-B575)=0,1/B575+L574,ABS((B576-B575)/I575)+L574)) -> 47.075388 | M575: 0 | N575: =VLOOKUP(K575,RPM!$A$2:$D$62,3,FALSE) -> 11.4 | O575: =VLOOKUP(K575,RPM!$A$2:$D$62,4,FALSE) -> 18.894837 | P575: =O575*0.7457 -> 14.08988 | Q575: {=_xlfn.XLOOKUP(O575,BSFC!$A$2:$A$24,_xlfn.XLOOKUP(K575,BSFC!$B$1:$O$1,BSFC!$B$2:$O$24,,-1),,-1)} -> 480 | R575: =Q575*P575/3600 -> 1.8786507 | S575: =(L575-L574)/3600*P575 -> 0.00029183485 | T575: =S575*Q575 -> 0.14008073 | U575: =U574+T575 -> 77.98938 | V575: =V574+S575 -> 0.16425627 | W575: =V575*1000*3600 -> 591322.58 | X575: =('Hybrid Info'!$A$2-Track!P575)*(L575-L574)*1000+X574 -> -25814.859
A576: =A575+1 -> 575 | B576: =IF(SQRT(B575^2+2*I575)>13.4112,13.4112,SQRT(B575^2+2*I575)) -> 13.4112 | C576: =Specification!$G$29 -> 164.94338 | D576: =0.5*Specification!$K$4*Track!B576^2*Specification!$K$3*Specification!$K$2 -> 93.159843 | E576: 0 | F576: =Specification!$C$23*9.81*SIN((E576*PI()/180)) -> 0 | G576: =IF(J576=1,VLOOKUP(K576,RPM!$E$2:$H$62,3,FALSE)-F576-E576-D576,IF(J576=2,VLOOKUP(K576,RPM!$H$2:$K$62,3,FALSE)-F576-E576-D576,IF(J576=3,VLOOKUP(K576,RPM!$K$2:$N$62,3,FALSE)-F576-E576-D576))) -> 549.56218 | H576: =IF(J576=1,Specification!$I$14,IF(J576=2,Specification!$I$15,IF(J576=3,Specification!$I$16))) -> 578.93404 | I576: =IF(B576=13.4112,0,G576/H576) -> 0 | J576: 3 | K576: =IF(J576=1,VLOOKUP(B576,RPM!$F$2:$H$62,3,TRUE),IF(J576=2,VLOOKUP(B576,RPM!$I$2:$K$62,3,TRUE),IF(J576=3,VLOOKUP(B576,RPM!$L$2:$N$62,3,TRUE)))) -> 4300 | L576: =IF(I576=0,ABS(1/B576)+L575,IF(ABS(B577-B576)=0,1/B576+L575,ABS((B577-B576)/I576)+L575)) -> 47.149953 | M576: =TAN(E576*PI()/180)+M575 -> 0 | N576: =VLOOKUP(K576,RPM!$A$2:$D$62,3,FALSE) -> 11.4 | O576: =VLOOKUP(K576,RPM!$A$2:$D$62,4,FALSE) -> 18.894837 | P576: =O576*0.7457 -> 14.08988 | Q576: {=_xlfn.XLOOKUP(O576,BSFC!$A$2:$A$24,_xlfn.XLOOKUP(K576,BSFC!$B$1:$O$1,BSFC!$B$2:$O$24,,-1),,-1)} -> 480 | R576: =Q576*P576/3600 -> 1.8786507 | S576: =(L576-L575)/3600*P576 -> 0.00029183485 | T576: =S576*Q576 -> 0.14008073 | U576: =U575+T576 -> 78.12946 | V576: =V575+S576 -> 0.16454811 | W576: =V576*1000*3600 -> 592373.18 | X576: =('Hybrid Info'!$A$2-Track!P576)*(L576-L575)*1000+X575 -> -25961.708
A577: =A576+1 -> 576 | B577: =IF(SQRT(B576^2+2*I576)>13.4112,13.4112,SQRT(B576^2+2*I576)) -> 13.4112 | C577: =Specification!$G$29 -> 164.94338 | D577: =0.5*Specification!$K$4*Track!B577^2*Specification!$K$3*Specification!$K$2 -> 93.159843 | E577: 0 | F577: =Specification!$C$23*9.81*SIN((E577*PI()/180)) -> 0 | G577: =IF(J577=1,VLOOKUP(K577,RPM!$E$2:$H$62,3,FALSE)-F577-E577-D577,IF(J577=2,VLOOKUP(K577,RPM!$H$2:$K$62,3,FALSE)-F577-E577-D577,IF(J577=3,VLOOKUP(K577,RPM!$K$2:$N$62,3,FALSE)-F577-E577-D577))) -> 549.56218 | H577: =IF(J577=1,Specification!$I$14,IF(J577=2,Specification!$I$15,IF(J577=3,Specification!$I$16))) -> 578.93404 | I577: =IF(B577=13.4112,0,G577/H577) -> 0 | J577: 3 | K577: =IF(J577=1,VLOOKUP(B577,RPM!$F$2:$H$62,3,TRUE),IF(J577=2,VLOOKUP(B577,RPM!$I$2:$K$62,3,TRUE),IF(J577=3,VLOOKUP(B577,RPM!$L$2:$N$62,3,TRUE)))) -> 4300 | L577: =IF(I577=0,ABS(1/B577)+L576,IF(ABS(B578-B577)=0,1/B577+L576,ABS((B578-B577)/I577)+L576)) -> 47.224517 | M577: =TAN(E577*PI()/180)+M576 -> 0 | N577: =VLOOKUP(K577,RPM!$A$2:$D$62,3,FALSE) -> 11.4 | O577: =VLOOKUP(K577,RPM!$A$2:$D$62,4,FALSE) -> 18.894837 | P577: =O577*0.7457 -> 14.08988 | Q577: {=_xlfn.XLOOKUP(O577,BSFC!$A$2:$A$24,_xlfn.XLOOKUP(K577,BSFC!$B$1:$O$1,BSFC!$B$2:$O$24,,-1),,-1)} -> 480 | R577: =Q577*P577/3600 -> 1.8786507 | S577: =(L577-L576)/3600*P577 -> 0.00029183485 | T577: =S577*Q577 -> 0.14008073 | U577: =U576+T577 -> 78.269541 | V577: =V576+S577 -> 0.16483994 | W577: =V577*1000*3600 -> 593423.79 | X577: =('Hybrid Info'!$A$2-Track!P577)*(L577-L576)*1000+X576 -> -26108.558
A578: =A577+1 -> 577 | B578: =IF(SQRT(B577^2+2*I577)>13.4112,13.4112,SQRT(B577^2+2*I577)) -> 13.4112 | C578: =Specification!$G$29 -> 164.94338 | D578: =0.5*Specification!$K$4*Track!B578^2*Specification!$K$3*Specification!$K$2 -> 93.159843 | E578: 0 | F578: =Specification!$C$23*9.81*SIN((E578*PI()/180)) -> 0 | G578: =IF(J578=1,VLOOKUP(K578,RPM!$E$2:$H$62,3,FALSE)-F578-E578-D578,IF(J578=2,VLOOKUP(K578,RPM!$H$2:$K$62,3,FALSE)-F578-E578-D578,IF(J578=3,VLOOKUP(K578,RPM!$K$2:$N$62,3,FALSE)-F578-E578-D578))) -> 549.56218 | H578: =IF(J578=1,Specification!$I$14,IF(J578=2,Specification!$I$15,IF(J578=3,Specification!$I$16))) -> 578.93404 | I578: =IF(B578=13.4112,0,G578/H578) -> 0 | J578: 3 | K578: =IF(J578=1,VLOOKUP(B578,RPM!$F$2:$H$62,3,TRUE),IF(J578=2,VLOOKUP(B578,RPM!$I$2:$K$62,3,TRUE),IF(J578=3,VLOOKUP(B578,RPM!$L$2:$N$62,3,TRUE)))) -> 4300 | L578: =IF(I578=0,ABS(1/B578)+L577,IF(ABS(B579-B578)=0,1/B578+L577,ABS((B579-B578)/I578)+L577)) -> 47.299082 | M578: =TAN(E578*PI()/180)+M577 -> 0 | N578: =VLOOKUP(K578,RPM!$A$2:$D$62,3,FALSE) -> 11.4 | O578: =VLOOKUP(K578,RPM!$A$2:$D$62,4,FALSE) -> 18.894837 | P578: =O578*0.7457 -> 14.08988 | Q578: {=_xlfn.XLOOKUP(O578,BSFC!$A$2:$A$24,_xlfn.XLOOKUP(K578,BSFC!$B$1:$O$1,BSFC!$B$2:$O$24,,-1),,-1)} -> 480 | R578: =Q578*P578/3600 -> 1.8786507 | S578: =(L578-L577)/3600*P578 -> 0.00029183485 | T578: =S578*Q578 -> 0.14008073 | U578: =U577+T578 -> 78.409622 | V578: =V577+S578 -> 0.16513178 | W578: =V578*1000*3600 -> 594474.39 | X578: =('Hybrid Info'!$A$2-Track!P578)*(L578-L577)*1000+X577 -> -26255.407
A579: =A578+1 -> 578 | B579: =IF(SQRT(B578^2+2*I578)>13.4112,13.4112,SQRT(B578^2+2*I578)) -> 13.4112 | C579: =Specification!$G$29 -> 164.94338 | D579: =0.5*Specification!$K$4*Track!B579^2*Specification!$K$3*Specification!$K$2 -> 93.159843 | E579: 0 | F579: =Specification!$C$23*9.81*SIN((E579*PI()/180)) -> 0 | G579: =IF(J579=1,VLOOKUP(K579,RPM!$E$2:$H$62,3,FALSE)-F579-E579-D579,IF(J579=2,VLOOKUP(K579,RPM!$H$2:$K$62,3,FALSE)-F579-E579-D579,IF(J579=3,VLOOKUP(K579,RPM!$K$2:$N$62,3,FALSE)-F579-E579-D579))) -> 549.56218 | H579: =IF(J579=1,Specification!$I$14,IF(J579=2,Specification!$I$15,IF(J579=3,Specification!$I$16))) -> 578.93404 | I579: =IF(B579=13.4112,0,G579/H579) -> 0 | J579: 3 | K579: =IF(J579=1,VLOOKUP(B579,RPM!$F$2:$H$62,3,TRUE),IF(J579=2,VLOOKUP(B579,RPM!$I$2:$K$62,3,TRUE),IF(J579=3,VLOOKUP(B579,RPM!$L$2:$N$62,3,TRUE)))) -> 4300 | L579: =IF(I579=0,ABS(1/B579)+L578,IF(ABS(B580-B579)=0,1/B579+L578,ABS((B580-B579)/I579)+L578)) -> 47.373646 | M579: =TAN(E579*PI()/180)+M578 -> 0 | N579: =VLOOKUP(K579,RPM!$A$2:$D$62,3,FALSE) -> 11.4 | O579: =VLOOKUP(K579,RPM!$A$2:$D$62,4,FALSE) -> 18.894837 | P579: =O579*0.7457 -> 14.08988 | Q579: {=_xlfn.XLOOKUP(O579,BSFC!$A$2:$A$24,_xlfn.XLOOKUP(K579,BSFC!$B$1:$O$1,BSFC!$B$2:$O$24,,-1),,-1)} -> 480 | R579: =Q579*P579/3600 -> 1.8786507 | S579: =(L579-L578)/3600*P579 -> 0.00029183485 | T579: =S579*Q579 -> 0.14008073 | U579: =U578+T579 -> 78.549703 | V579: =V578+S579 -> 0.16542361 | W579: =V579*1000*3600 -> 595525 | X579: =('Hybrid Info'!$A$2-Track!P579)*(L579-L578)*1000+X578 -> -26402.256
A580: =A579+1 -> 579 | B580: =IF(SQRT(B579^2+2*I579)>13.4112,13.4112,SQRT(B579^2+2*I579)) -> 13.4112 | C580: =Specification!$G$29 -> 164.94338 | D580: =0.5*Specification!$K$4*Track!B580^2*Specification!$K$3*Specification!$K$2 -> 93.159843 | E580: 0 | F580: =Specification!$C$23*9.81*SIN((E580*PI()/180)) -> 0 | G580: =IF(J580=1,VLOOKUP(K580,RPM!$E$2:$H$62,3,FALSE)-F580-E580-D580,IF(J580=2,VLOOKUP(K580,RPM!$H$2:$K$62,3,FALSE)-F580-E580-D580,IF(J580=3,VLOOKUP(K580,RPM!$K$2:$N$62,3,FALSE)-F580-E580-D580))) -> 549.56218 | H580: =IF(J580=1,Specification!$I$14,IF(J580=2,Specification!$I$15,IF(J580=3,Specification!$I$16))) -> 578.93404 | I580: =IF(B580=13.4112,0,G580/H580) -> 0 | J580: 3 | K580: =IF(J580=1,VLOOKUP(B580,RPM!$F$2:$H$62,3,TRUE),IF(J580=2,VLOOKUP(B580,RPM!$I$2:$K$62,3,TRUE),IF(J580=3,VLOOKUP(B580,RPM!$L$2:$N$62,3,TRUE)))) -> 4300 | L580: =IF(I580=0,ABS(1/B580)+L579,IF(ABS(B581-B580)=0,1/B580+L579,ABS((B581-B580)/I580)+L579)) -> 47.448211 | M580: =TAN(E580*PI()/180)+M579 -> 0 | N580: =VLOOKUP(K580,RPM!$A$2:$D$62,3,FALSE) -> 11.4 | O580: =VLOOKUP(K580,RPM!$A$2:$D$62,4,FALSE) -> 18.894837 | P580: =O580*0.7457 -> 14.08988 | Q580: {=_xlfn.XLOOKUP(O580,BSFC!$A$2:$A$24,_xlfn.XLOOKUP(K580,BSFC!$B$1:$O$1,BSFC!$B$2:$O$24,,-1),,-1)} -> 480 | R580: =Q580*P580/3600 -> 1.8786507 | S580: =(L580-L579)/3600*P580 -> 0.00029183485 | T580: =S580*Q580 -> 0.14008073 | U580: =U579+T580 -> 78.689783 | V580: =V579+S580 -> 0.16571545 | W580: =V580*1000*3600 -> 596575.61 | X580: =('Hybrid Info'!$A$2-Track!P580)*(L580-L579)*1000+X579 -> -26549.106
A581: =A580+1 -> 580 | B581: =IF(SQRT(B580^2+2*I580)>13.4112,13.4112,SQRT(B580^2+2*I580)) -> 13.4112 | C581: =Specification!$G$29 -> 164.94338 | D581: =0.5*Specification!$K$4*Track!B581^2*Specification!$K$3*Specification!$K$2 -> 93.159843 | E581: 0 | F581: =Specification!$C$23*9.81*SIN((E581*PI()/180)) -> 0 | G581: =IF(J581=1,VLOOKUP(K581,RPM!$E$2:$H$62,3,FALSE)-F581-E581-D581,IF(J581=2,VLOOKUP(K581,RPM!$H$2:$K$62,3,FALSE)-F581-E581-D581,IF(J581=3,VLOOKUP(K581,RPM!$K$2:$N$62,3,FALSE)-F581-E581-D581))) -> 549.56218 | H581: =IF(J581=1,Specification!$I$14,IF(J581=2,Specification!$I$15,IF(J581=3,Specification!$I$16))) -> 578.93404 | I581: =IF(B581=13.4112,0,G581/H581) -> 0 | J581: 3 | K581: =IF(J581=1,VLOOKUP(B581,RPM!$F$2:$H$62,3,TRUE),IF(J581=2,VLOOKUP(B581,RPM!$I$2:$K$62,3,TRUE),IF(J581=3,VLOOKUP(B581,RPM!$L$2:$N$62,3,TRUE)))) -> 4300 | L581: =IF(I581=0,ABS(1/B581)+L580,IF(ABS(B582-B581)=0,1/B581+L580,ABS((B582-B581)/I581)+L580)) -> 47.522775 | M581: =TAN(E581*PI()/180)+M580 -> 0 | N581: =VLOOKUP(K581,RPM!$A$2:$D$62,3,FALSE) -> 11.4 | O581: =VLOOKUP(K581,RPM!$A$2:$D$62,4,FALSE) -> 18.894837 | P581: =O581*0.7457 -> 14.08988 | Q581: {=_xlfn.XLOOKUP(O581,BSFC!$A$2:$A$24,_xlfn.XLOOKUP(K581,BSFC!$B$1:$O$1,BSFC!$B$2:$O$24,,-1),,-1)} -> 480 | R581: =Q581*P581/3600 -> 1.8786507 | S581: =(L581-L580)/3600*P581 -> 0.00029183485 | T581: =S581*Q581 -> 0.14008073 | U581: =U580+T581 -> 78.829864 | V581: =V580+S581 -> 0.16600728 | W581: =V581*1000*3600 -> 597626.21 | X581: =('Hybrid Info'!$A$2-Track!P581)*(L581-L580)*1000+X580 -> -26695.955
A582: =A581+1 -> 581 | B582: =IF(SQRT(B581^2+2*I581)>13.4112,13.4112,SQRT(B581^2+2*I581)) -> 13.4112 | C582: =Specification!$G$29 -> 164.94338 | D582: =0.5*Specification!$K$4*Track!B582^2*Specification!$K$3*Specification!$K$2 -> 93.159843 | E582: 0 | F582: =Specification!$C$23*9.81*SIN((E582*PI()/180)) -> 0 | G582: =IF(J582=1,VLOOKUP(K582,RPM!$E$2:$H$62,3,FALSE)-F582-E582-D582,IF(J582=2,VLOOKUP(K582,RPM!$H$2:$K$62,3,FALSE)-F582-E582-D582,IF(J582=3,VLOOKUP(K582,RPM!$K$2:$N$62,3,FALSE)-F582-E582-D582))) -> 549.56218 | H582: =IF(J582=1,Specification!$I$14,IF(J582=2,Specification!$I$15,IF(J582=3,Specification!$I$16))) -> 578.93404 | I582: =IF(B582=13.4112,0,G582/H582) -> 0 | J582: 3 | K582: =IF(J582=1,VLOOKUP(B582,RPM!$F$2:$H$62,3,TRUE),IF(J582=2,VLOOKUP(B582,RPM!$I$2:$K$62,3,TRUE),IF(J582=3,VLOOKUP(B582,RPM!$L$2:$N$62,3,TRUE)))) -> 4300 | L582: =IF(I582=0,ABS(1/B582)+L581,IF(ABS(B583-B582)=0,1/B582+L581,ABS((B583-B582)/I582)+L581)) -> 47.59734 | M582: =TAN(E582*PI()/180)+M581 -> 0 | N582: =VLOOKUP(K582,RPM!$A$2:$D$62,3,FALSE) -> 11.4 | O582: =VLOOKUP(K582,RPM!$A$2:$D$62,4,FALSE) -> 18.894837 | P582: =O582*0.7457 -> 14.08988 | Q582: {=_xlfn.XLOOKUP(O582,BSFC!$A$2:$A$24,_xlfn.XLOOKUP(K582,BSFC!$B$1:$O$1,BSFC!$B$2:$O$24,,-1),,-1)} -> 480 | R582: =Q582*P582/3600 -> 1.8786507 | S582: =(L582-L581)/3600*P582 -> 0.00029183485 | T582: =S582*Q582 -> 0.14008073 | U582: =U581+T582 -> 78.969945 | V582: =V581+S582 -> 0.16629912 | W582: =V582*1000*3600 -> 598676.82 | X582: =('Hybrid Info'!$A$2-Track!P582)*(L582-L581)*1000+X581 -> -26842.804
A583: =A582+1 -> 582 | B583: =IF(SQRT(B582^2+2*I582)>13.4112,13.4112,SQRT(B582^2+2*I582)) -> 13.4112 | C583: =Specification!$G$29 -> 164.94338 | D583: =0.5*Specification!$K$4*Track!B583^2*Specification!$K$3*Specification!$K$2 -> 93.159843 | E583: 0 | F583: =Specification!$C$23*9.81*SIN((E583*PI()/180)) -> 0 | G583: =IF(J583=1,VLOOKUP(K583,RPM!$E$2:$H$62,3,FALSE)-F583-E583-D583,IF(J583=2,VLOOKUP(K583,RPM!$H$2:$K$62,3,FALSE)-F583-E583-D583,IF(J583=3,VLOOKUP(K583,RPM!$K$2:$N$62,3,FALSE)-F583-E583-D583))) -> 549.56218 | H583: =IF(J583=1,Specification!$I$14,IF(J583=2,Specification!$I$15,IF(J583=3,Specification!$I$16))) -> 578.93404 | I583: =IF(B583=13.4112,0,G583/H583) -> 0 | J583: 3 | K583: =IF(J583=1,VLOOKUP(B583,RPM!$F$2:$H$62,3,TRUE),IF(J583=2,VLOOKUP(B583,RPM!$I$2:$K$62,3,TRUE),IF(J583=3,VLOOKUP(B583,RPM!$L$2:$N$62,3,TRUE)))) -> 4300 | L583: =IF(I583=0,ABS(1/B583)+L582,IF(ABS(B584-B583)=0,1/B583+L582,ABS((B584-B583)/I583)+L582)) -> 47.671904 | M583: =TAN(E583*PI()/180)+M582 -> 0 | N583: =VLOOKUP(K583,RPM!$A$2:$D$62,3,FALSE) -> 11.4 | O583: =VLOOKUP(K583,RPM!$A$2:$D$62,4,FALSE) -> 18.894837 | P583: =O583*0.7457 -> 14.08988 | Q583: {=_xlfn.XLOOKUP(O583,BSFC!$A$2:$A$24,_xlfn.XLOOKUP(K583,BSFC!$B$1:$O$1,BSFC!$B$2:$O$24,,-1),,-1)} -> 480 | R583: =Q583*P583/3600 -> 1.8786507 | S583: =(L583-L582)/3600*P583 -> 0.00029183485 | T583: =S583*Q583 -> 0.14008073 | U583: =U582+T583 -> 79.110026 | V583: =V582+S583 -> 0.16659095 | W583: =V583*1000*3600 -> 599727.42 | X583: =('Hybrid Info'!$A$2-Track!P583)*(L583-L582)*1000+X582 -> -26989.654
A584: =A583+1 -> 583 | B584: =IF(SQRT(B583^2+2*I583)>13.4112,13.4112,SQRT(B583^2+2*I583)) -> 13.4112 | C584: =Specification!$G$29 -> 164.94338 | D584: =0.5*Specification!$K$4*Track!B584^2*Specification!$K$3*Specification!$K$2 -> 93.159843 | E584: 0 | F584: =Specification!$C$23*9.81*SIN((E584*PI()/180)) -> 0 | G584: =IF(J584=1,VLOOKUP(K584,RPM!$E$2:$H$62,3,FALSE)-F584-E584-D584,IF(J584=2,VLOOKUP(K584,RPM!$H$2:$K$62,3,FALSE)-F584-E584-D584,IF(J584=3,VLOOKUP(K584,RPM!$K$2:$N$62,3,FALSE)-F584-E584-D584))) -> 549.56218 | H584: =IF(J584=1,Specification!$I$14,IF(J584=2,Specification!$I$15,IF(J584=3,Specification!$I$16))) -> 578.93404 | I584: =IF(B584=13.4112,0,G584/H584) -> 0 | J584: 3 | K584: =IF(J584=1,VLOOKUP(B584,RPM!$F$2:$H$62,3,TRUE),IF(J584=2,VLOOKUP(B584,RPM!$I$2:$K$62,3,TRUE),IF(J584=3,VLOOKUP(B584,RPM!$L$2:$N$62,3,TRUE)))) -> 4300 | L584: =IF(I584=0,ABS(1/B584)+L583,IF(ABS(B585-B584)=0,1/B584+L583,ABS((B585-B584)/I584)+L583)) -> 47.746469 | M584: =TAN(E584*PI()/180)+M583 -> 0 | N584: =VLOOKUP(K584,RPM!$A$2:$D$62,3,FALSE) -> 11.4 | O584: =VLOOKUP(K584,RPM!$A$2:$D$62,4,FALSE) -> 18.894837 | P584: =O584*0.7457 -> 14.08988 | Q584: {=_xlfn.XLOOKUP(O584,BSFC!$A$2:$A$24,_xlfn.XLOOKUP(K584,BSFC!$B$1:$O$1,BSFC!$B$2:$O$24,,-1),,-1)} -> 480 | R584: =Q584*P584/3600 -> 1.8786507 | S584: =(L584-L583)/3600*P584 -> 0.00029183485 | T584: =S584*Q584 -> 0.14008073 | U584: =U583+T584 -> 79.250106 | V584: =V583+S584 -> 0.16688279 | W584: =V584*1000*3600 -> 600778.03 | X584: =('Hybrid Info'!$A$2-Track!P584)*(L584-L583)*1000+X583 -> -27136.503
A585: =A584+1 -> 584 | B585: =IF(SQRT(B584^2+2*I584)>13.4112,13.4112,SQRT(B584^2+2*I584)) -> 13.4112 | C585: =Specification!$G$29 -> 164.94338 | D585: =0.5*Specification!$K$4*Track!B585^2*Specification!$K$3*Specification!$K$2 -> 93.159843 | E585: 0 | F585: =Specification!$C$23*9.81*SIN((E585*PI()/180)) -> 0 | G585: =IF(J585=1,VLOOKUP(K585,RPM!$E$2:$H$62,3,FALSE)-F585-E585-D585,IF(J585=2,VLOOKUP(K585,RPM!$H$2:$K$62,3,FALSE)-F585-E585-D585,IF(J585=3,VLOOKUP(K585,RPM!$K$2:$N$62,3,FALSE)-F585-E585-D585))) -> 549.56218 | H585: =IF(J585=1,Specification!$I$14,IF(J585=2,Specification!$I$15,IF(J585=3,Specification!$I$16))) -> 578.93404 | I585: =IF(B585=13.4112,0,G585/H585) -> 0 | J585: 3 | K585: =IF(J585=1,VLOOKUP(B585,RPM!$F$2:$H$62,3,TRUE),IF(J585=2,VLOOKUP(B585,RPM!$I$2:$K$62,3,TRUE),IF(J585=3,VLOOKUP(B585,RPM!$L$2:$N$62,3,TRUE)))) -> 4300 | L585: =IF(I585=0,ABS(1/B585)+L584,IF(ABS(B586-B585)=0,1/B585+L584,ABS((B586-B585)/I585)+L584)) -> 47.821034 | M585: =TAN(E585*PI()/180)+M584 -> 0 | N585: =VLOOKUP(K585,RPM!$A$2:$D$62,3,FALSE) -> 11.4 | O585: =VLOOKUP(K585,RPM!$A$2:$D$62,4,FALSE) -> 18.894837 | P585: =O585*0.7457 -> 14.08988 | Q585: {=_xlfn.XLOOKUP(O585,BSFC!$A$2:$A$24,_xlfn.XLOOKUP(K585,BSFC!$B$1:$O$1,BSFC!$B$2:$O$24,,-1),,-1)} -> 480 | R585: =Q585*P585/3600 -> 1.8786507 | S585: =(L585-L584)/3600*P585 -> 0.00029183485 | T585: =S585*Q585 -> 0.14008073 | U585: =U584+T585 -> 79.390187 | V585: =V584+S585 -> 0.16717462 | W585: =V585*1000*3600 -> 601828.63 | X585: =('Hybrid Info'!$A$2-Track!P585)*(L585-L584)*1000+X584 -> -27283.352
A586: =A585+1 -> 585 | B586: =IF(SQRT(B585^2+2*I585)>13.4112,13.4112,SQRT(B585^2+2*I585)) -> 13.4112 | C586: =Specification!$G$29 -> 164.94338 | D586: =0.5*Specification!$K$4*Track!B586^2*Specification!$K$3*Specification!$K$2 -> 93.159843 | E586: 0 | F586: =Specification!$C$23*9.81*SIN((E586*PI()/180)) -> 0 | G586: =IF(J586=1,VLOOKUP(K586,RPM!$E$2:$H$62,3,FALSE)-F586-E586-D586,IF(J586=2,VLOOKUP(K586,RPM!$H$2:$K$62,3,FALSE)-F586-E586-D586,IF(J586=3,VLOOKUP(K586,RPM!$K$2:$N$62,3,FALSE)-F586-E586-D586))) -> 549.56218 | H586: =IF(J586=1,Specification!$I$14,IF(J586=2,Specification!$I$15,IF(J586=3,Specification!$I$16))) -> 578.93404 | I586: =IF(B586=13.4112,0,G586/H586) -> 0 | J586: 3 | K586: =IF(J586=1,VLOOKUP(B586,RPM!$F$2:$H$62,3,TRUE),IF(J586=2,VLOOKUP(B586,RPM!$I$2:$K$62,3,TRUE),IF(J586=3,VLOOKUP(B586,RPM!$L$2:$N$62,3,TRUE)))) -> 4300 | L586: =IF(I586=0,ABS(1/B586)+L585,IF(ABS(B587-B586)=0,1/B586+L585,ABS((B587-B586)/I586)+L585)) -> 47.895598 | M586: =TAN(E586*PI()/180)+M585 -> 0 | N586: =VLOOKUP(K586,RPM!$A$2:$D$62,3,FALSE) -> 11.4 | O586: =VLOOKUP(K586,RPM!$A$2:$D$62,4,FALSE) -> 18.894837 | P586: =O586*0.7457 -> 14.08988 | Q586: {=_xlfn.XLOOKUP(O586,BSFC!$A$2:$A$24,_xlfn.XLOOKUP(K586,BSFC!$B$1:$O$1,BSFC!$B$2:$O$24,,-1),,-1)} -> 480 | R586: =Q586*P586/3600 -> 1.8786507 | S586: =(L586-L585)/3600*P586 -> 0.00029183485 | T586: =S586*Q586 -> 0.14008073 | U586: =U585+T586 -> 79.530268 | V586: =V585+S586 -> 0.16746646 | W586: =V586*1000*3600 -> 602879.24 | X586: =('Hybrid Info'!$A$2-Track!P586)*(L586-L585)*1000+X585 -> -27430.201
A587: =A586+1 -> 586 | B587: =IF(SQRT(B586^2+2*I586)>13.4112,13.4112,SQRT(B586^2+2*I586)) -> 13.4112 | C587: =Specification!$G$29 -> 164.94338 | D587: =0.5*Specification!$K$4*Track!B587^2*Specification!$K$3*Specification!$K$2 -> 93.159843 | E587: 0 | F587: =Specification!$C$23*9.81*SIN((E587*PI()/180)) -> 0 | G587: =IF(J587=1,VLOOKUP(K587,RPM!$E$2:$H$62,3,FALSE)-F587-E587-D587,IF(J587=2,VLOOKUP(K587,RPM!$H$2:$K$62,3,FALSE)-F587-E587-D587,IF(J587=3,VLOOKUP(K587,RPM!$K$2:$N$62,3,FALSE)-F587-E587-D587))) -> 549.56218 | H587: =IF(J587=1,Specification!$I$14,IF(J587=2,Specification!$I$15,IF(J587=3,Specification!$I$16))) -> 578.93404 | I587: =IF(B587=13.4112,0,G587/H587) -> 0 | J587: 3 | K587: =IF(J587=1,VLOOKUP(B587,RPM!$F$2:$H$62,3,TRUE),IF(J587=2,VLOOKUP(B587,RPM!$I$2:$K$62,3,TRUE),IF(J587=3,VLOOKUP(B587,RPM!$L$2:$N$62,3,TRUE)))) -> 4300 | L587: =IF(I587=0,ABS(1/B587)+L586,IF(ABS(B588-B587)=0,1/B587+L586,ABS((B588-B587)/I587)+L586)) -> 47.970163 | M587: =TAN(E587*PI()/180)+M586 -> 0 | N587: =VLOOKUP(K587,RPM!$A$2:$D$62,3,FALSE) -> 11.4 | O587: =VLOOKUP(K587,RPM!$A$2:$D$62,4,FALSE) -> 18.894837 | P587: =O587*0.7457 -> 14.08988 | Q587: {=_xlfn.XLOOKUP(O587,BSFC!$A$2:$A$24,_xlfn.XLOOKUP(K587,BSFC!$B$1:$O$1,BSFC!$B$2:$O$24,,-1),,-1)} -> 480 | R587: =Q587*P587/3600 -> 1.8786507 | S587: =(L587-L586)/3600*P587 -> 0.00029183485 | T587: =S587*Q587 -> 0.14008073 | U587: =U586+T587 -> 79.670348 | V587: =V586+S587 -> 0.16775829 | W587: =V587*1000*3600 -> 603929.84 | X587: =('Hybrid Info'!$A$2-Track!P587)*(L587-L586)*1000+X586 -> -27577.051
... A647: =A646+1 -> 646 | B647: =IF(SQRT(B646^2+2*I646)>13.4112,13.4112,SQRT(B646^2+2*I646)) -> 13.4112 | C647: =Specification!$G$29 -> 164.94338 | D647: =0.5*Specification!$K$4*Track!B647^2*Specification!$K$3*Specification!$K$2 -> 93.159843 | E647: -2 | F647: =Specification!$C$23*9.81*SIN((E647*PI()/180)) -> -191.88136 | G647: =IF(J647=1,VLOOKUP(K647,RPM!$E$2:$H$62,3,FALSE)-F647-E647-D647,IF(J647=2,VLOOKUP(K647,RPM!$H$2:$K$62,3,FALSE)-F647-E647-D647,IF(J647=3,VLOOKUP(K647,RPM!$K$2:$N$62,3,FALSE)-F647-E647-D647))) -> 743.44354 | H647: =IF(J647=1,Specification!$I$14,IF(J647=2,Specification!$I$15,IF(J647=3,Specification!$I$16))) -> 578.93404 | I647: =IF(B647=13.4112,0,G647/H647) -> 0 | J647: 3 | K647: =IF(J647=1,VLOOKUP(B647,RPM!$F$2:$H$62,3,TRUE),IF(J647=2,VLOOKUP(B647,RPM!$I$2:$K$62,3,TRUE),IF(J647=3,VLOOKUP(B647,RPM!$L$2:$N$62,3,TRUE)))) -> 4300 | L647: =IF(I647=0,ABS(1/B647)+L646,IF(ABS(B648-B647)=0,1/B647+L646,ABS((B648-B647)/I647)+L646)) -> 52.444035 | M647: =TAN(E647*PI()/180)+M646 -> 0.017455065 | N647: =VLOOKUP(K647,RPM!$A$2:$D$62,3,FALSE) -> 11.4 | O647: =VLOOKUP(K647,RPM!$A$2:$D$62,4,FALSE) -> 18.894837 | P647: =O647*0.7457 -> 14.08988 | Q647: {=_xlfn.XLOOKUP(O647,BSFC!$A$2:$A$24,_xlfn.XLOOKUP(K647,BSFC!$B$1:$O$1,BSFC!$B$2:$O$24,,-1),,-1)} -> 480 | R647: =Q647*P647/3600 -> 1.8786507 | S647: =(L647-L646)/3600*P647 -> 0.00029183485 | T647: =S647*Q647 -> 0.14008073 | U647: =U646+T647 -> 87.500987 | V647: =V646+S647 -> 0.18378251 | W647: =V647*1000*3600 -> 661617.04 | X647: =('Hybrid Info'!$A$2-Track!P647)*(L647-L646)*1000+X646 -> -31038.874
...

Sheet BSFC
A1: BSFC | B1: 500 | C1: 1000 | D1: 1500 | E1: 2000 | F1: 2500 | G1: 3000 | H1: 3500 | I1: 4000 | J1: 4500 | K1: 5000 | L1: 5500 | M1: 6000 | N1: 6500 | O1: 7000
A2: 22 | B2: 0 | C2: 0 | D2: 0 | E2: 0 | F2: 0 | G2: 0 | H2: 0 | I2: 0 | J2: 0 | K2: 0 | L2: 450 | M2: 0 | N2: 0 | O2: 0
A3: 21 | B3: 0 | C3: 0 | D3: 0 | E3: 0 | F3: 0 | G3: 0 | H3: 0 | I3: 0 | J3: 0 | K3: 470 | L3: 435 | M3: 0 | N3: 0 | O3: 0
A4: 20 | B4: 0 | C4: 0 | D4: 0 | E4: 0 | F4: 0 | G4: 0 | H4: 0 | I4: 0 | J4: 480 | K4: 460 | L4: 410 | M4: 470 | N4: 0 | O4: 0
A5: 19 | B5: 0 | C5: 0 | D5: 0 | E5: 0 | F5: 0 | G5: 0 | H5: 0 | I5: 0 | J5: 475 | K5: 440 | L5: 390 | M5: 455 | N5: 505 | O5: 0
A6: 18 | B6: 0 | C6: 0 | D6: 0 | E6: 0 | F6: 0 | G6: 0 | H6: 490 | I6: 480 | J6: 465 | K6: 430 | L6: 370 | M6: 440 | N6: 490 | O6: 555
A7: 17 | B7: 0 | C7: 0 | D7: 0 | E7: 0 | F7: 0 | G7: 0 | H7: 495 | I7: 485 | J7: 450 | K7: 395 | L7: 360 | M7: 405 | N7: 485 | O7: 540
A8: 16 | B8: 0 | C8: 0 | D8: 0 | E8: 0 | F8: 510 | G8: 500 | H8: 500 | I8: 490 | J8: 445 | K8: 370 | L8: 350 | M8: 365 | N8: 480 | O8: 530
A9: 15 | B9: 0 | C9: 0 | D9: 0 | E9: 0 | F9: 515 | G9: 505 | H9: 490 | I9: 490 | J9: 440 | K9: 350 | L9: 325 | M9: 335 | N9: 440 | O9: 480
A10: 14 | B10: 0 | C10: 0 | D10: 0 | E10: 562.08052 | F10: 520 | G10: 510 | H10: 480 | I10: 475 | J10: 405 | K10: 330 | L10: 305 | M10: 330 | N10: 425 | O10: 475
A11: 13 | B11: 0 | C11: 0 | D11: 0 | E11: 575.53874 | F11: 540 | G11: 515 | H11: 470 | I11: 455 | J11: 380 | K11: 310 | L11: 280 | M11: 320 | N11: 450 | O11: 520
A12: 12 | B12: 0 | C12: 0 | D12: 0 | E12: 590.99204 | F12: 555 | G12: 520 | H12: 490 | I12: 460 | J12: 430 | K12: 290 | L12: 305 | M12: 320 | N12: 475 | O12: 535
A13: 11 | B13: 0 | C13: 0 | D13: 0 | E13: 601.42151 | F13: 575 | G13: 550 | H13: 510 | I13: 470 | J13: 435 | K13: 350 | L13: 340 | M13: 315 | N13: 500 | O13: 540
... A24: 0 | B24: 1490 | C24: 1400 | D24: 1320 | E24: 1240 | F24: 1160 | G24: 1110 | H24: 1070 | I24: 1025 | J24: 990 | K24: 950 | L24: 910 | M24: 905 | N24: 880 | O24: 870

Sheet Hybrid Info
A1: Mean Power (kW) | B1: Mean Torque (Nm) | C1: Peak Power (kW) | D1: Mean-Peak Power Difference (kW) | E1: Energy Over Journey (J) | F1: Hill Ascension Excess (J) | G1: (kWh) | H1: Energy Lost to Braking (J) | I1: Recoverable Pot Energy (J) | J1: BSFC | K1: Max Recoverable Energy (J) | L1: % Max Recovery | M1: Hybrid Fuel Con | N1: Normal Fuel Con | O1: %Max Fuel Savings
