Workbook

Sheet Public Sector Value
A1: Value of construction output by type of work: New Work for Public Sector, Great Britain, Current Prices
A2: £ million
A4: Time period | B4: Total public new housing | C4: Total public infrastructure | D4: Public other new work: factories | E4: Public other new work: warehouses | F4: Public other new work: oil, steel & coal | G4: Public other new work: schools & colleges | H4: Public other new work: universities | I4: Public other new work: health | J4: Public other new work: offices | K4: Public other new work: entertainment | L4: Public other new work: garages & shops | M4: Public other new work: agriculture & miscellaneous | N4: Total other new work | O4: All Public Sector
A5: 1998 | B5: 881 | C5: 2779 | D5: 77 | E5: 29 | F5: 4 | G5: 801 | H5: 332 | I5: 636 | J5: 454 | K5: 380 | L5: 53 | M5: 578 | N5: 3343 | O5: 7003
A6: 1999 | B6: 824 | C6: 2803 | D6: 96 | E6: 36 | F6: 4 | G6: 984 | H6: 386 | I6: 712 | J6: 519 | K6: 445 | L6: 55 | M6: 668 | N6: 3907 | O6: 7534
A7: 2000 | B7: 1075 | C7: 2636 | D7: 91 | E7: 21 | F7: 4 | G7: 1014 | H7: 369 | I7: 755 | J7: 399 | K7: 455 | L7: 90 | M7: 668 | N7: 3863 | O7: 7574
A8: 2001 | B8: 1174 | C8: 3031 | D8: 49 | E8: 14 | F8: 4 | G8: 1357 | H8: 445 | I8: 883 | J8: 380 | K8: 421 | L8: 83 | M8: 614 | N8: 4253 | O8: 8458
A9: 2002 | B9: 1411 | C9: 3999 | D9: 53 | E9: 9 | F9: 4 | G9: 1810 | H9: 611 | I9: 1087 | J9: 686 | K9: 517 | L9: 103 | M9: 636 | N9: 5517 | O9: 10927
A10: 2003 | B10: 1706 | C10: 3939 | D10: 130 | E10: 23 | F10: 3 | G10: 2183 | H10: 929 | I10: 1402 | J10: 918 | K10: 594 | L10: 127 | M10: 971 | N10: 7280 | O10: 12925
A11: 2004 | B11: 2210 | C11: 3143 | D11: 118 | E11: 35 | F11: 4 | G11: 3029 | H11: 981 | I11: 1722 | J11: 914 | K11: 715 | L11: 129 | M11: 990 | N11: 8638 | O11: 13991
A12: 2005 | B12: 2251 | C12: 3081 | D12: 77 | E12: 32 | F12: 3 | G12: 3279 | H12: 912 | I12: 1518 | J12: 872 | K12: 697 | L12: 130 | M12: 845 | N12: 8362 | O12: 13694
A13: 2006 | B13: 2853 | C13: 2873 | D13: 67 | E13: 29 | F13: 2 | G13: 3424 | H13: 909 | I13: 1226 | J13: 821 | K13: 706 | L13: 120 | M13: 742 | N13: 8047 | O13: 13773
A14: 2007 | B14: 3480 | C14: 3061 | D14: 77 | E14: 26 | F14: 1 | G14: 3321 | H14: 940 | I14: 1260 | J14: 862 | K14: 754 | L14: 110 | M14: 995 | N14: 8347 | O14: 14888
A15: 2008 | B15: 3299 | C15: 3393 | D15: 55 | E15: 25 | F15: 11 | G15: 4108 | H15: 1258 | I15: 1665 | J15: 879 | K15: 969 | L15: 113 | M15: 903 | N15: 9988 | O15: 16680
A16: 2009 | B16: 3327 | C16: 4291 | D16: 49 | E16: 29 | F16: 15 | G16: 5212 | H16: 1042 | I16: 2004 | J16: 909 | K16: 1258 | L16: 179 | M16: 1161 | N16: 11857 | O16: 19475
... A30: 2023 | B30: 6850 | C30: 20053 | D30: 237 | E30: 59 | F30: 0 | G30: 3579 | H30: 450 | I30: 2538 | J30: 1025 | K30: 1047 | L30: 454 | M30: 2320 | N30: 11708 | O30: 38611
A31: mean | B31: =AVERAGE(Table1.1[Total public new housing]) -> 3837.4231 | C31: =AVERAGE(Table1.1[Total public infrastructure]) -> 6697.0385 | D31: =AVERAGE(Table1.1[Public other new work: factories]) -> 103 | E31: =AVERAGE(Table1.1[Public other new work: warehouses]) -> 30.769231 | F31: =AVERAGE(Table1.1[Public other new work: oil, steel & coal]) -> 9.3846154 | G31: =AVERAGE(Table1.1[Public other new work: schools & colleges]) -> 3618.9615 | H31: =AVERAGE(Table1.1[Public other new work: universities]) -> 986.30769 | I31: =AVERAGE(Table1.1[Public other new work: health]) -> 1625.7308 | J31: =AVERAGE(Table1.1[Public other new work: offices]) -> 753.03846 | K31: =AVERAGE(Table1.1[Public other new work: entertainment]) -> 820.65385 | L31: =AVERAGE(Table1.1[Public other new work: garages & shops]) -> 207.26923 | M31: =AVERAGE(Table1.1[Public other new work: agriculture & miscellaneous]) -> 1055.6538 | N31: =AVERAGE(Table1.1[Total other new work]) -> 9211 | O31: =AVERAGE(Table1.1[All Public Sector]) -> 19745.423
A32: mode | B32: =_xlfn.MODE.SNGL(B7:B30) -> #N/A | C32: =_xlfn.MODE.SNGL(C7:C30) -> #N/A | D32: =_xlfn.MODE.SNGL(D7:D30) -> 91 | E32: =_xlfn.MODE.SNGL(E7:E30) -> 29 | F32: =_xlfn.MODE.SNGL(F7:F30) -> 4 | G32: =_xlfn.MODE.SNGL(G7:G30) -> #N/A | H32: =_xlfn.MODE.SNGL(H7:H30) -> #N/A | I32: =_xlfn.MODE.SNGL(I7:I30) -> #N/A | ... O32: =_xlfn.MODE.SNGL(O7:O30) -> #N/A
A33: range | B33: {=MAX(B5:B30-MIN(B5:B30))} -> 6214 | C33: {=MAX(C5:C30-MIN(C5:C30))} -> 17417 | D33: {=MAX(D5:D30-MIN(D5:D30))} -> 229 | E33: {=MAX(E5:E30-MIN(E5:E30))} -> 65 | F33: {=MAX(F5:F30-MIN(F5:F30))} -> 44 | G33: {=MAX(G5:G30-MIN(G5:G30))} -> 6138 | H33: {=MAX(H5:H30-MIN(H5:H30))} -> 1562 | I33: {=MAX(I5:I30-MIN(I5:I30))} -> 1902 | ... O33: {=MAX(O5:O30-MIN(O5:O30))} -> 31608
A34: median | B34: =MEDIAN(Table1.1[Total public new housing]) -> 4186 | C34: =MEDIAN(Table1.1[Total public infrastructure]) -> 4599 | D34: =MEDIAN(Table1.1[Public other new work: factories]) -> 88 | E34: =MEDIAN(Table1.1[Public other new work: warehouses]) -> 29 | F34: =MEDIAN(Table1.1[Public other new work: oil, steel & coal]) -> 4 | G34: =MEDIAN(Table1.1[Public other new work: schools & colleges]) -> 3977 | H34: =MEDIAN(Table1.1[Public other new work: universities]) -> 960.5 | I34: =MEDIAN(Table1.1[Public other new work: health]) -> 1676.5 | J34: =MEDIAN(Table1.1[Public other new work: offices]) -> 818.5 | K34: =MEDIAN(Table1.1[Public other new work: entertainment]) -> 829.5 | L34: =MEDIAN(Table1.1[Public other new work: garages & shops]) -> 152.5 | M34: =MEDIAN(Table1.1[Public other new work: agriculture & miscellaneous]) -> 1080 | N34: =MEDIAN(Table1.1[Total other new work]) -> 10049.5 | O34: =MEDIAN(Table1.1[All Public Sector]) -> 19814.5
A35: standard deviation | B35: =_xlfn.STDEV.S(Table1.1[Total public new housing]) -> 1933.7118 | C35: =_xlfn.STDEV.S(Table1.1[Total public infrastructure]) -> 5042.9938 | D35: =_xlfn.STDEV.S(Table1.1[Public other new work: factories]) -> 54.568856 | E35: =_xlfn.STDEV.S(Table1.1[Public other new work: warehouses]) -> 15.774176 | F35: =_xlfn.STDEV.S(Table1.1[Public other new work: oil, steel & coal]) -> 12.07999 | G35: =_xlfn.STDEV.S(Table1.1[Public other new work: schools & colleges]) -> 1527.4181 | H35: =_xlfn.STDEV.S(Table1.1[Public other new work: universities]) -> 431.73925 | I35: =_xlfn.STDEV.S(Table1.1[Public other new work: health]) -> 527.53294 | J35: =_xlfn.STDEV.S(Table1.1[Public other new work: offices]) -> 191.3862 | K35: =_xlfn.STDEV.S(Table1.1[Public other new work: entertainment]) -> 280.68216 | L35: =_xlfn.STDEV.S(Table1.1[Public other new work: garages & shops]) -> 150.02628 | M35: =_xlfn.STDEV.S(Table1.1[Public other new work: agriculture & miscellaneous]) -> 357.87908 | N35: =_xlfn.STDEV.S(Table1.1[Total other new work]) -> 2952.59 | O35: =_xlfn.STDEV.S(Table1.1[All Public Sector]) -> 8569.722

Sheet Private Sector Value
A1: Value of construction output by type of work: New Work for Private Sector, Great Britain, Current Prices
A2: £ million
A4: Time period | B4: Total private new housing | C4: Total private Infrastructure | D4: Private industrial: factories | E4: Private industrial: warehouses | F4: Private industrial: oil, steel & coal | G4: All private industrial | H4: Private commercial: schools & universities | I4: Private commercial: health | J4: Private commercial: offices | K4: Private commercial: entertainment | L4: Private commercial: garages | M4: Private commercial: shops | N4: Private commercial: agriculture & miscellaneous | O4: All private commercial | P4: All Private Sector
A5: 1998 | B5: 8146 | C5: 4924 | D5: 3271 | E5: 1492 | F5: 130 | G5: 4893 | H5: 396 | I5: 578 | J5: 5186 | K5: 3561 | L5: 606 | M5: 3800 | N5: 621 | O5: 14747 | P5: 32710
A6: 1999 | B6: 8079 | C6: 4807 | D6: 3296 | E6: 1600 | F6: 133 | G6: 5030 | H6: 503 | I6: 694 | J6: 6037 | K6: 4195 | L6: 703 | M6: 4864 | N6: 717 | O6: 17713 | P6: 35629
A7: 2000 | B7: 9475 | C7: 5305 | D7: 2819 | E7: 1828 | F7: 69 | G7: 4717 | H7: 979 | I7: 914 | J7: 7397 | K7: 4134 | L7: 481 | M7: 3884 | N7: 819 | O7: 18608 | P7: 38105
A8: 2001 | B8: 9639 | C8: 5782 | D8: 2884 | E8: 1761 | F8: 63 | G8: 4709 | H8: 1355 | I8: 803 | J8: 8946 | K8: 3580 | L8: 363 | M8: 4182 | N8: 760 | O8: 19988 | P8: 40118
A9: 2002 | B9: 11453 | C9: 6034 | D9: 2636 | E9: 1616 | F9: 73 | G9: 4323 | H9: 1611 | I9: 895 | J9: 8881 | K9: 4176 | L9: 418 | M9: 5369 | N9: 872 | O9: 22220 | P9: 44030
A10: 2003 | B10: 15017 | C10: 5395 | D10: 2870 | E10: 1765 | F10: 131 | G10: 4765 | H10: 2182 | I10: 999 | J10: 7815 | K10: 3906 | L10: 459 | M10: 6290 | N10: 1240 | O10: 22893 | P10: 48070
A11: 2004 | B11: 18977 | C11: 5099 | D11: 2936 | E11: 2096 | F11: 178 | G11: 5210 | H11: 2003 | I11: 2091 | J11: 7973 | K11: 4652 | L11: 621 | M11: 6888 | N11: 1282 | O11: 25509 | P11: 54795
A12: 2005 | B12: 20715 | C12: 5160 | D12: 2728 | E12: 2666 | F12: 216 | G12: 5610 | H12: 2541 | I12: 1982 | J12: 8886 | K12: 4387 | L12: 625 | M12: 6794 | N12: 1111 | O12: 26325 | P12: 57810
A13: 2006 | B13: 21765 | C13: 5305 | D13: 3078 | E13: 2987 | F13: 243 | G13: 6308 | H13: 3834 | I13: 2272 | J13: 10390 | K13: 4552 | L13: 517 | M13: 6949 | N13: 1604 | O13: 30121 | P13: 63499
A14: 2007 | B14: 22146 | C14: 5582 | D14: 3176 | E14: 3082 | F14: 179 | G14: 6438 | H14: 3818 | I14: 2622 | J14: 12981 | K14: 4962 | L14: 624 | M14: 7549 | N14: 1849 | O14: 34404 | P14: 68570
A15: 2008 | B15: 18138 | C15: 6322 | D15: 2923 | E15: 2174 | F15: 244 | G15: 5339 | H15: 3338 | I15: 4218 | J15: 12634 | K15: 5377 | L15: 740 | M15: 7384 | N15: 1500 | O15: 35190 | P15: 64989
A16: 2009 | B16: 12592 | C16: 6448 | D16: 1947 | E16: 1392 | F16: 175 | G16: 3515 | H16: 2656 | I16: 2923 | J16: 7802 | K16: 4463 | L16: 667 | M16: 5508 | N16: 1539 | O16: 25558 | P16: 48113
... A30: 2023 | B30: 46255 | C30: 16643 | D30: 3384 | E30: 4686 | F30: 438 | G30: 8509 | H30: 3870 | I30: 1505 | J30: 10879 | K30: 7631 | L30: 477 | M30: 2462 | N30: 2187 | O30: 29010 | P30: 100418
A33: mean | B33: =AVERAGE(B11:B30) -> 27201.9 | C33: =AVERAGE(C11:C30) -> 9614.7 | D33: =AVERAGE(D11:D30) -> 2508.9 | E33: =AVERAGE(E11:E30) -> 2463.15 | F33: =AVERAGE(F11:F30) -> 182.35 | G33: =AVERAGE(G11:G30) -> 5154.45 | H33: =AVERAGE(H11:H30) -> 3647.9 | I33: =AVERAGE(I11:I30) -> 1709.85 | ... P33: =AVERAGE(P11:P30) -> 69545.05
A34: mode | B34: =_xlfn.MODE.SNGL(B5:B30) -> #N/A | C34: =_xlfn.MODE.SNGL(C5:C30) -> 5305 | D34: =_xlfn.MODE.SNGL(D5:D30) -> 3296 | E34: =_xlfn.MODE.SNGL(E5:E30) -> #N/A | F34: =_xlfn.MODE.SNGL(F5:F30) -> 73 | G34: =_xlfn.MODE.SNGL(G5:G30) -> #N/A | H34: =_xlfn.MODE.SNGL(H5:H30) -> #N/A | I34: =_xlfn.MODE.SNGL(I5:I30) -> #N/A | ... P34: =_xlfn.MODE.SNGL(P5:P30) -> #N/A
A35: range | B35: {=MAX(B5:B30-MIN(B5:B30))} -> 42400 | C35: {=MAX(C5:C30-MIN(C5:C30))} -> 11836 | D35: {=MAX(D5:D30-MIN(D5:D30))} -> 1726 | E35: {=MAX(E5:E30-MIN(E5:E30))} -> 3529 | F35: {=MAX(F5:F30-MIN(F5:F30))} -> 424 | G35: {=MAX(G5:G30-MIN(G5:G30))} -> 5160 | H35: {=MAX(H5:H30-MIN(H5:H30))} -> 5400 | I35: {=MAX(I5:I30-MIN(I5:I30))} -> 3640 | ... P35: {=MAX(P5:P30-MIN(P5:P30))} -> 67708
A36: median | B36: =MEDIAN(B5:B30) -> 19846 | C36: =MEDIAN(C5:C30) -> 8715.5 | D36: =MEDIAN(D5:D30) -> 2678 | E36: =MEDIAN(E5:E30) -> 2025.5 | F36: =MEDIAN(F5:F30) -> 151 | G36: =MEDIAN(G5:G30) -> 4859.5 | H36: =MEDIAN(H5:H30) -> 3188.5 | I36: =MEDIAN(I5:I30) -> 1196.5 | ... P36: =MEDIAN(P5:P30) -> 60478.5
A37: standard deviation | B37: =_xlfn.STDEV.S(B5:B30) -> 12315.367 | C37: =_xlfn.STDEV.S(C5:C30) -> 3395.0424 | D37: =_xlfn.STDEV.S(D5:D30) -> 501.18069 | E37: =_xlfn.STDEV.S(E5:E30) -> 963.55382 | F37: =_xlfn.STDEV.S(F5:F30) -> 105.82543 | G37: =_xlfn.STDEV.S(G5:G30) -> 1272.6617 | H37: =_xlfn.STDEV.S(H5:H30) -> 1453.2194 | I37: =_xlfn.STDEV.S(I5:I30) -> 834.15754 | ... P37: =_xlfn.STDEV.S(P5:P30) -> 19252.429

Sheet Firm Size
A1: Construction firms: Number of Firms, by size of Firm, Great Britain
A3: Size of Firm | B3: 1997 | C3: 1998 | D3: 1999 | E3: 2000 | F3: 2001 | G3: 2002 | H3: 2003 | I3: 2004 | J3: 2005 | K3: 2006 | L3: 2007 | M3: 2008 | N3: 2009 | O3: 2010 | P3: 2011 | Q3: 2012 | R3: 2013 | S3: 2014 | T3: 2015 | U3: 2016 | V3: 2017 | W3: 2018 | X3: 2019 | Y3: 2020 | Z3: 2021 | AA3: 2022 | AB3: 2023
A4: 1 | B4: 86269 | C4: 87837 | D4: 88018 | E4: 87712 | F4: 77926 | G4: 71431 | H4: 70370 | I4: 71620 | J4: 73117 | K4: 71960 | L4: 74325 | M4: 78826 | N4: 75382 | O4: 86274 | P4: 89132 | Q4: 90647 | R4: 92635 | S4: 92926 | T4: 108691 | U4: 123489 | V4: 133472 | W4: 138069 | X4: 144229 | Y4: 148584 | Z4: 153622 | AA4: 157012 | AB4: 156153
A5: 2-3 | B5: 47644 | C5: 47918 | D5: 49350 | E5: 48773 | F5: 50653 | G5: 50306 | H5: 53022 | I5: 55027 | J5: 57320 | K5: 58910 | L5: 60313 | M5: 62910 | N5: 60625 | O5: 65432 | P5: 65689 | Q5: 62008 | R5: 66054 | S5: 66135 | T5: 72128 | U5: 76845 | V5: 82783 | W5: 88297 | X5: 91843 | Y5: 94651 | Z5: 100218 | AA5: 103938 | AB5: 103337
A6: 4-7 | B6: 15737 | C6: 16391 | D6: 16969 | E6: 16584 | F6: 22455 | G6: 23963 | H6: 25704 | I6: 26865 | J6: 28435 | K6: 30375 | L6: 31814 | M6: 33594 | N6: 33069 | O6: 32119 | P6: 30142 | Q6: 28875 | R6: 29014 | S6: 29142 | T6: 30855 | U6: 32339 | V6: 33933 | W6: 35434 | X6: 36071 | Y6: 36725 | Z6: 38353 | AA6: 41044 | AB6: 40345
A7: 8-13 | B7: 3787 | C7: 3988 | D7: 4148 | E7: 3790 | F7: 8044 | G7: 9819 | H7: 10508 | I7: 10982 | J7: 11599 | K7: 12230 | L7: 12669 | M7: 13459 | N7: 12390 | O7: 11774 | P7: 11234 | Q7: 11455 | R7: 11425 | S7: 11455 | T7: 11923 | U7: 12255 | V7: 12665 | W7: 12890 | X7: 12908 | Y7: 13269 | Z7: 13509 | AA7: 14378 | AB7: 14283
A8: 14-24 | B8: 3101 | C8: 3274 | D8: 3271 | E8: 3104 | F8: 4920 | G8: 5427 | H8: 5892 | I8: 6161 | J8: 6341 | K8: 6656 | L8: 6860 | M8: 7102 | N8: 6502 | O8: 6029 | P8: 5778 | Q8: 6078 | R8: 5985 | S8: 6016 | T8: 6203 | U8: 6230 | V8: 6328 | W8: 6444 | X8: 6508 | Y8: 6633 | Z8: 6648 | AA8: 7089 | AB8: 7291
A9: 25-34 | B9: 1176 | C9: 1201 | D9: 1332 | E9: 1201 | F9: 1782 | G9: 1809 | H9: 1932 | I9: 1985 | J9: 2037 | K9: 2056 | L9: 2128 | M9: 2262 | N9: 2104 | O9: 1864 | P9: 1713 | Q9: 1815 | R9: 1757 | S9: 1756 | T9: 1722 | U9: 1842 | V9: 1885 | W9: 1939 | X9: 1905 | Y9: 1937 | Z9: 1993 | AA9: 2068 | AB9: 1952
A10: 35-59 | B10: 1156 | C10: 1263 | D10: 1188 | E10: 1109 | F10: 999 | G10: 1782 | H10: 1821 | I10: 1906 | J10: 1928 | K10: 2034 | L10: 2129 | M10: 2211 | N10: 2064 | O10: 1896 | P10: 1774 | Q10: 1796 | R10: 1756 | S10: 1752 | T10: 1849 | U10: 1848 | V10: 1879 | W10: 1932 | X10: 1918 | Y10: 1913 | Z10: 1847 | AA10: 1860 | AB10: 1888
A11: 60-79 | B11: 396 | C11: 419 | D11: 397 | E11: 364 | F11: 354 | G11: 457 | H11: 583 | I11: 550 | J11: 573 | K11: 583 | L11: 597 | M11: 647 | N11: 596 | O11: 593 | P11: 547 | Q11: 530 | R11: 523 | S11: 521 | T11: 511 | U11: 534 | V11: 542 | W11: 556 | X11: 549 | Y11: 584 | Z11: 602 | AA11: 617 | AB11: 591
A12: 80-114 | B12: 296 | C12: 319 | D12: 304 | E12: 271 | F12: 304 | G12: 425 | H12: 451 | I12: 464 | J12: 469 | K12: 467 | L12: 490 | M12: 511 | N12: 484 | O12: 472 | P12: 450 | Q12: 417 | R12: 406 | S12: 405 | T12: 436 | U12: 468 | V12: 486 | W12: 474 | X12: 445 | Y12: 441 | Z12: 441 | AA12: 433 | AB12: 428
A13: 115-299 | B13: 381 | C13: 405 | D13: 379 | E13: 341 | F13: 433 | G13: 520 | H13: 535 | I13: 560 | J13: 556 | K13: 562 | L13: 595 | M13: 602 | N13: 531 | O13: 525 | P13: 483 | Q13: 483 | R13: 481 | S13: 482 | T13: 489 | U13: 498 | V13: 538 | W13: 554 | X13: 573 | Y13: 573 | Z13: 544 | AA13: 553 | AB13: 560
A14: 300-599 | B14: 107 | C14: 125 | D14: 105 | E14: 91 | F14: 129 | G14: 123 | H14: 135 | I14: 148 | J14: 148 | K14: 148 | L14: 154 | M14: 164 | N14: 154 | O14: 145 | P14: 147 | Q14: 145 | R14: 136 | S14: 138 | T14: 143 | U14: 147 | V14: 144 | W14: 145 | X14: 149 | Y14: 143 | Z14: 124 | AA14: 125 | AB14: 125
A15: 600-1,199 | B15: 60 | C15: 56 | D15: 58 | E15: 51 | F15: 68 | G15: 62 | H15: 75 | I15: 75 | J15: 65 | K15: 72 | L15: 65 | M15: 60 | N15: 62 | O15: 60 | P15: 56 | Q15: 55 | R15: 51 | S15: 48 | T15: 56 | U15: 57 | V15: 60 | W15: 56 | X15: 59 | Y15: 58 | Z15: 56 | AA15: 62 | AB15: 58
... A17: All firms | B17: 160148 | C17: 163236 | D17: 165561 | E17: 163426 | F17: 168123 | G17: 166181 | H17: 171092 | I17: 176403 | J17: 182644 | K17: 186107 | L17: 192199 | M17: 202407 | N17: 194025 | O17: 256441 | P17: 253121 | Q17: 247105 | R17: 250964 | S17: 251647 | T17: 273775 | U17: 296093 | V17: 314590 | W17: 325736 | X17: 335731 | Y17: 342456 | Z17: 353365 | AA17: 374332 | AB17: 364514
B21: mean | C21: mode | D21: range | E21: median | F21: standard deviation | L21: all firms
B22: =AVERAGE(B4:AB4) -> 101101.04 | C22: =_xlfn.MODE.SNGL(B4:AB4) -> #N/A | D22: {=MAX(B4:AB4-MIN(B4:AB4))} -> 86642 | E22: =MEDIAN(B4:AB4) -> 88018 | F22: =_xlfn.STDEV.S('Firm Size'!B4:AB4) -> 30444.321
B23: =AVERAGE(B5:AB5) -> 68227 | C23: =_xlfn.MODE.SNGL(B5:AB5) -> #N/A | D23: {=MAX(B5:AB5-MIN(B5:AB5))} -> 56294 | E23: =MEDIAN(B5:AB5) -> 62910 | F23: =_xlfn.STDEV.S('Firm Size'!B5:AB5) -> 18096.29 | L23: mean | N23: =AVERAGE(B17:AB17) -> 241904.52
B24: =AVERAGE(B6:AB6) -> 29494.296 | C24: =_xlfn.MODE.SNGL(B6:AB6) -> #N/A | D24: {=MAX(B6:AB6-MIN(B6:AB6))} -> 25307 | E24: =MEDIAN(B6:AB6) -> 30375 | F24: =_xlfn.STDEV.S('Firm Size'!B6:AB6) -> 7127.7594 | L24: mode | N24: =_xlfn.MODE.SNGL(B17:AB17) -> #N/A
B25: =AVERAGE(B7:AB7) -> 10845.778 | C25: =_xlfn.MODE.SNGL(B7:AB7) -> 11455 | D25: {=MAX(B7:AB7-MIN(B7:AB7))} -> 10591 | E25: =MEDIAN(B7:AB7) -> 11774 | F25: =_xlfn.STDEV.S('Firm Size'!B7:AB7) -> 3221.2702 | L25: range | N25: {=MAX(B17:AB18-MIN(B17:AB18))} -> 214184
B26: =AVERAGE(B8:AB8) -> 5847.0741 | C26: =_xlfn.MODE.SNGL(B8:AB8) -> #N/A | D26: {=MAX(B8:AB8-MIN(B8:AB8))} -> 4190 | E26: =MEDIAN(B8:AB8) -> 6203 | F26: =_xlfn.STDEV.S('Firm Size'!B8:AB8) -> 1235.8401 | L26: median | N26: =MEDIAN(B17:AB17) -> 247105
B27: =AVERAGE(B9:AB9) -> 1820.4815 | C27: =_xlfn.MODE.SNGL(B9:AB9) -> 1201 | D27: {=MAX(B9:AB9-MIN(B9:AB9))} -> 1086 | E27: =MEDIAN(B9:AB9) -> 1885 | F27: =_xlfn.STDEV.S('Firm Size'!B9:AB9) -> 285.13956 | L27: standard deviation | N27: =_xlfn.STDEV.S(B17:AB17) -> 73118.122
B28: =AVERAGE(B10:AB10) -> 1759.1852 | C28: =_xlfn.MODE.SNGL(B10:AB10) -> #N/A | D28: {=MAX(B10:AB10-MIN(B10:AB10))} -> 1212 | E28: =MEDIAN(B10:AB10) -> 1849 | F28: =_xlfn.STDEV.S('Firm Size'!B10:AB10) -> 320.12714
B29: =AVERAGE(B11:AB11) -> 530.22222 | C29: =_xlfn.MODE.SNGL(B11:AB11) -> 583 | D29: {=MAX(B11:AB11-MIN(B11:AB11))} -> 293 | E29: =MEDIAN(B11:AB11) -> 549 | F29: =_xlfn.STDEV.S('Firm Size'!B11:AB11) -> 80.279001
B30: =AVERAGE(B12:AB12) -> 424.33333 | C30: =_xlfn.MODE.SNGL(B12:AB12) -> 304 | D30: {=MAX(B12:AB12-MIN(B12:AB12))} -> 240 | E30: =MEDIAN(B12:AB12) -> 441 | F30: =_xlfn.STDEV.S('Firm Size'!B12:AB12) -> 66.389874
B31: =AVERAGE(B13:AB13) -> 508.74074 | C31: =_xlfn.MODE.SNGL(B13:AB13) -> 560 | D31: {=MAX(B13:AB13-MIN(B13:AB13))} -> 261 | E31: =MEDIAN(B13:AB13) -> 531 | F31: =_xlfn.STDEV.S('Firm Size'!B13:AB13) -> 68.921691
B32: =AVERAGE(B14:AB14) -> 136.55556 | C32: =_xlfn.MODE.SNGL(B14:AB14) -> 125 | D32: {=MAX(B14:AB14-MIN(B14:AB14))} -> 73 | E32: =MEDIAN(B14:AB14) -> 143 | F32: =_xlfn.STDEV.S('Firm Size'!B14:AB14) -> 16.674101
B33: =AVERAGE(B15:AB15) -> 60.037037 | C33: =_xlfn.MODE.SNGL(B15:AB15) -> 56 | D33: {=MAX(B15:AB15-MIN(B15:AB15))} -> 27 | E33: =MEDIAN(B15:AB15) -> 59 | F33: =_xlfn.STDEV.S('Firm Size'!B15:AB15) -> 6.6591838
B34: =AVERAGE(B16:AB16) -> 54.851852 | C34: =_xlfn.MODE.SNGL(B16:AB16) -> 60 | D34: {=MAX(B16:AB16-MIN(B16:AB16))} -> 29 | E34: =MEDIAN(B16:AB16) -> 57 | F34: =_xlfn.STDEV.S('Firm Size'!B16:AB16) -> 7.5176904
W97: 1997 | X97: 1998 | Y97: 1999 | Z97: 2000 | AA97: 2001 | AB97: 2002 | AC97: 2003 | AD97: 2004 | AE97: 2005 | AF97: 2006 | AG97: 2007 | AH97: 2008 | AI97: 2009 | AJ97: 2010 | AK97: 2011 | AL97: 2012 | AM97: 2013 | AN97: 2014 | AO97: 2015 | AP97: 2016 | AQ97: 2017 | AR97: 2018 | AS97: 2019 | AT97: 2020 | AU97: 2021 | AV97: 2022 | AW97: 2023
W98: 160148 | X98: 163236 | Y98: 165561 | Z98: 163426 | AA98: 168123 | AB98: 166181 | AC98: 171092 | AD98: 176403 | AE98: 182644 | AF98: 186107 | AG98: 192199 | AH98: 202407 | AI98: 194025 | AJ98: 256441 | AK98: 253121 | AL98: 247105 | AM98: 250964 | AN98: 251647 | AO98: 273775 | AP98: 296093 | AQ98: 314590 | AR98: 325736 | AS98: 335731 | AT98: 342456 | AU98: 353365 | AV98: 374332 | AW98: 364514

Sheet No. of Firms - Turnover
A1: Construction firms: Number of Firms, By turnover size band, Great Britain
A3: Size of firm (by turnover size band) | B3: 2007 | C3: 2008 | D3: 2009 | E3: 2010 | F3: 2011 | G3: 2012 | H3: 2013 | I3: 2014 | J3: 2015 | K3: 2016 | L3: 2017 | M3: 2018 | N3: 2019 | O3: 2020 | P3: 2021 | Q3: 2022 | R3: 2023
A4: £0 - <£500k | B4: 226445 | C4: 225231 | D4: 214342 | E4: 210528 | F4: 210995 | G4: 206874 | H4: 210552 | I4: 218249 | J4: 228603 | K4: 246341 | L4: 261028 | M4: 269345 | N4: 276931 | O4: 280865 | P4: 289655 | Q4: 312232 | R4: 295172
A5: £500k - <£1m | B5: 24697 | C5: 26126 | D5: 24657 | E5: 21714 | F5: 20789 | G5: 19138 | H5: 19334 | I5: 19728 | J5: 21170 | K5: 22939 | L5: 24412 | M5: 25917 | N5: 27039 | O5: 29377 | P5: 30320 | Q5: 31107 | R5: 33857
A6: £1m - <£5m | B6: 21412 | C6: 22848 | D6: 20762 | E6: 17907 | F6: 17366 | G6: 17320 | H6: 17776 | I6: 18222 | J6: 19391 | K6: 21478 | L6: 23292 | M6: 24147 | N6: 25161 | O6: 25572 | P6: 26675 | Q6: 25059 | R6: 28512
A7: £5m - <£10m | B7: 2552 | C7: 2744 | D7: 2545 | E7: 2120 | F7: 2066 | G7: 2007 | H7: 2235 | I7: 2290 | J7: 2526 | K7: 2897 | L7: 3200 | M7: 3378 | N7: 3494 | O7: 3413 | P7: 3551 | Q7: 3079 | R7: 3686
A8: £10m - <£20m | B8: 1104 | C8: 1262 | D8: 1258 | E8: 1039 | F8: 989 | G8: 881 | H8: 930 | I8: 954 | J8: 1029 | K8: 1262 | L8: 1348 | M8: 1515 | N8: 1597 | O8: 1653 | P8: 1668 | Q8: 1458 | R8: 1718
A9: £20m - <£30m | B9: 390 | C9: 400 | D9: 381 | E9: 336 | F9: 319 | G9: 294 | H9: 284 | I9: 312 | J9: 324 | K9: 377 | L9: 430 | M9: 477 | N9: 490 | O9: 499 | P9: 468 | Q9: 432 | R9: 518
A10: £30m - <£40m | B10: 160 | C10: 174 | D10: 162 | E10: 143 | F10: 135 | G10: 142 | H10: 155 | I10: 134 | J10: 180 | K10: 186 | L10: 216 | M10: 243 | N10: 287 | O10: 278 | P10: 256 | Q10: 243 | R10: 254
A11: £40m - <£50m | B11: 114 | C11: 117 | D11: 112 | E11: 98 | F11: 91 | G11: 78 | H11: 84 | I11: 98 | J11: 123 | K11: 113 | L11: 129 | M11: 152 | N11: 141 | O11: 149 | P11: 176 | Q11: 170 | R11: 179
A12: £50m - <£100m | B12: 203 | C12: 224 | D12: 227 | E12: 195 | F12: 186 | G12: 189 | H12: 194 | I12: 197 | J12: 201 | K12: 262 | L12: 273 | M12: 283 | N12: 306 | O12: 353 | P12: 292 | Q12: 276 | R12: 330
A13: £100m - <£500m | B13: 179 | C13: 200 | D13: 201 | E13: 163 | F13: 161 | G13: 156 | H13: 174 | I13: 190 | J13: 205 | K13: 208 | L13: 229 | M13: 241 | N13: 244 | O13: 254 | P13: 258 | Q13: 230 | R13: 235
A14: £500m - <£1000m | B14: 14 | C14: 20 | D14: 18 | E14: 19 | F14: 17 | G14: 20 | H14: 21 | I14: 21 | J14: 15 | K14: 20 | L14: 20 | M14: 19 | N14: 21 | O14: 23 | P14: 26 | Q14: 30 | R14: 30
A15: £1000m + | B15: 10 | C15: 10 | D15: 14 | E15: 8 | F15: 7 | G15: 6 | H15: 8 | I15: 9 | J15: 8 | K15: 10 | L15: 13 | M15: 19 | N15: 20 | O15: 20 | P15: 20 | Q15: 16 | R15: 23
A16: All firms | B16: 277280 | C16: 279356 | D16: 264679 | E16: 254270 | F16: 253121 | G16: 247105 | H16: 251747 | I16: 260404 | J16: 273775 | K16: 296093 | L16: 314590 | M16: 325736 | N16: 335731 | O16: 342456 | P16: 353365 | Q16: 374332 | R16: 364514
B20: mean | C20: mode | D20: range | E20: median | F20: standard deviation | J20: All firms
B21: =AVERAGE(B4:R4) -> 246081.65 | C21: =_xlfn.MODE.SNGL(B4:R4) -> #N/A | D21: {=MAX(B4:R4-MIN(B4:R4))} -> 105358 | E21: =MEDIAN(B4:R4) -> 228603 | F21: =_xlfn.STDEV.S(B4:R4) -> 35189.86
B22: =AVERAGE(B5:R5) -> 24842.412 | C22: =_xlfn.MODE.SNGL(B5:R5) -> #N/A | D22: {=MAX(B5:R5-MIN(B5:R5))} -> 14719 | E22: =MEDIAN(B5:R5) -> 24657 | F22: =_xlfn.STDEV.S(B5:R5) -> 4410.9895 | J22: mean | L22: =AVERAGE(B16:R16) -> 298150.24
B23: =AVERAGE(B6:R6) -> 21935.294 | C23: =_xlfn.MODE.SNGL(B6:R6) -> #N/A | D23: {=MAX(B6:R6-MIN(B6:R6))} -> 11192 | E23: =MEDIAN(B6:R6) -> 21478 | F23: =_xlfn.STDEV.S(B6:R6) -> 3575.0819 | J23: mode | L23: =_xlfn.MODE.SNGL(B16:R16) -> #N/A
B24: =AVERAGE(B7:R7) -> 2810.7647 | C24: =_xlfn.MODE.SNGL(B7:R7) -> #N/A | D24: {=MAX(B7:R7-MIN(B7:R7))} -> 1679 | E24: =MEDIAN(B7:R7) -> 2744 | F24: =_xlfn.STDEV.S(B7:R7) -> 570.07878 | J24: range | L24: {=MAX(B16:R16-MIN(B16:R16))} -> 127227
B25: =AVERAGE(B8:R8) -> 1274.4118 | C25: =_xlfn.MODE.SNGL(B8:R8) -> 1262 | D25: {=MAX(B8:R8-MIN(B8:R8))} -> 837 | E25: =MEDIAN(B8:R8) -> 1262 | F25: =_xlfn.STDEV.S(B8:R8) -> 284.91842 | J25: median | L25: =MEDIAN(B16:R16) -> 279356
B26: =AVERAGE(B9:R9) -> 395.94118 | C26: =_xlfn.MODE.SNGL(B9:R9) -> #N/A | D26: {=MAX(B9:R9-MIN(B9:R9))} -> 234 | E26: =MEDIAN(B9:R9) -> 390 | F26: =_xlfn.STDEV.S(B9:R9) -> 76.599992 | J26: standard deviation | L26: =_xlfn.STDEV.S(B16:R16) -> 43522.476
B27: =AVERAGE(B10:R10) -> 196.94118 | C27: =_xlfn.MODE.SNGL(B10:R10) -> 243 | D27: {=MAX(B10:R10-MIN(B10:R10))} -> 153 | E27: =MEDIAN(B10:R10) -> 180 | F27: =_xlfn.STDEV.S(B10:R10) -> 53.053594
B28: =AVERAGE(B11:R11) -> 124.94118 | C28: =_xlfn.MODE.SNGL(B11:R11) -> 98 | D28: {=MAX(B11:R11-MIN(B11:R11))} -> 101 | E28: =MEDIAN(B11:R11) -> 117 | F28: =_xlfn.STDEV.S(B11:R11) -> 31.746005
B29: =AVERAGE(B12:R12) -> 246.52941 | C29: =_xlfn.MODE.SNGL(B12:R12) -> #N/A | D29: {=MAX(B12:R12-MIN(B12:R12))} -> 167 | E29: =MEDIAN(B12:R12) -> 227 | F29: =_xlfn.STDEV.S(B12:R12) -> 54.051038
B30: =AVERAGE(B13:R13) -> 207.52941 | C30: =_xlfn.MODE.SNGL(B13:R13) -> #N/A | D30: {=MAX(B13:R13-MIN(B13:R13))} -> 102 | E30: =MEDIAN(B13:R13) -> 205 | F30: =_xlfn.STDEV.S(B13:R13) -> 33.57104
B31: =AVERAGE(B14:R14) -> 20.823529 | C31: =_xlfn.MODE.SNGL(B14:R14) -> 20 | D31: {=MAX(B14:R14-MIN(B14:R14))} -> 16 | E31: =MEDIAN(B14:R14) -> 20 | F31: =_xlfn.STDEV.S(B14:R14) -> 4.4192094
B32: =AVERAGE(B15:R15) -> 13 | C32: =_xlfn.MODE.SNGL(B15:R15) -> 10 | D32: {=MAX(B15:R15-MIN(B15:R15))} -> 17 | E32: =MEDIAN(B15:R15) -> 10 | F32: =_xlfn.STDEV.S(B15:R15) -> 5.5677644
AD79: 2007 | AE79: 2008 | AF79: 2009 | AG79: 2010 | AH79: 2011 | AI79: 2012 | AJ79: 2013 | AK79: 2014 | AL79: 2015 | AM79: 2016 | AN79: 2017 | AO79: 2018 | AP79: 2019 | AQ79: 2020 | AR79: 2021 | AS79: 2022 | AT79: 2023
AD80: 277280 | AE80: 279356 | AF80: 264679 | AG80: 254270 | AH80: 253121 | AI80: 247105 | AJ80: 251747 | AK80: 260404 | AL80: 273775 | AM80: 296093 | AN80: 314590 | AO80: 325736 | AP80: 335731 | AQ80: 342456 | AR80: 353365 | AS80: 374332 | AT80: 364514
