Workbook

Sheet H&S Overview
A1: Health and Safety Overview Logbook Entry
A4: Student to complete all white boxes
A5: All boxes coloured orange to be completed by the marker
A6: Student Name | E6: Ollie Gooch | I6: Applicable Health & Safety Legislation | Q6: Health and Safety Protocol to be followed before any session
A8: Staff | E8: Kerry Tudor | I8: Personal Protective Equipment at Work Regulations 2022; Health and Safety at Work etc Act 1974; Management of Health and Safety at Work Regulations 1999 | Q8: Tie up or tuck in any long hair Tuck in any loose clothing Remove any jewlery Eye protection to be worn Appropriate steel toe caps to be worn Check tools or machines are clean and in safe working conditions Ensure workspace is clean and there is no clutter/trip hazards Make sure risk assessments have been done
A14: Health & Safety Considerations for Machine Workshop
A16: A milling machine mainly requires keeping clear of the rotating cutter and ensuring the work is clamped securely. Eye protection is needed because milling throws sharp chips, and swarf should only be cleared with a brush or tool. Loose clothing, hair, and jewellery must be controlled to avoid getting caught in the machine. Additionally, the machine should always be stopped before any adjustments or measurements. The lathes rotating chuck can easily catch anything loose. Long stock must be supported to prevent whipping, and the chuck key must be removed immediately after tightening to avoid it being left in and launched when the chuck starts spinning. Lathe swarf forms sharp spirals that should only be removed with pliers or a hook, and all adjustments should be made with the machine fully stopped. Again, eye protection is needed due to swarf being launched from the lathe.
A26: Health & Safety Considerations for Engine Strip Workshop
A28: When stripping an engine, there are lots of hazards to consider. Sharp metal edges can very easily cut the skin if not handled with care. Heavy components can crush fingers or strain your back if proper lifting technique is not used. You’re also exposed to oil, fuel, and coolant, which can irritate skin and create slip risks if spilt.
A35: Equipment Used | Q35: Observations & Feedback
A37: Vernier calipers, micrometers, height gauge, hacksaw, file, milling machine, lathe, ratchets, torque wrenches, bore gauge. | Q37: All machines and the workspace was properly clean before each session and all PPE necessary (safety glasses, dustcoat, steel toe caps) was provided. Floor was kept clear of clutter with no obvious trip hazards. All machines were in safe working condition.
A44: Marks
A45: Applicable Health & Safety Legislation and Protocols | G45: 3 | I45: Out of 4 marks | Q45: Could have also mentioned the need to pass the workshop induction and listen to the technicians
A46: H&S Considerations for Machine Workshop | G46: 1.5 | I46: Out of 2 marks | Q46: No mention of the guards
A47: H&S Considerations for Engine Workshop | G47: 2 | I47: Out of 2 marks
A48: Observations | G48: 2 | I48: Our of 2 marks
E49: Total | G49: =SUM(G45:H48) -> 8.5 | H49: Out of 10 marks

Sheet Machine Shop
A1: Machine Shop Logbook Entry
A4: Student to complete all white boxes
A5: All boxes coloured orange to be completed by the marker
A6: Student Name | E6: Ollie Gooch | I6: PPE Required
A8: Session Dates | E8: October 2nd, 9th, 16th, 23rd and 30th | I8: Steel toe capped boots, dustcoat, safety glasses
A12: Session Location | E12: IQ021A
A14: Staff | E14: David Cooper, Adrian Dix
A16: Mill Activity
A18: Dimension 1 | F18: Dimension 2 | K18: Dimension 3
A19: Technical Drawing Dimension | C19: Tolerance (+/-) | D19: Final Dimension Achieved | F19: Technical Drawing Dimension | H19: Tolerance (+/-) | I19: Final Dimension Achieved | K19: Technical Drawing Dimension | M19: Tolerance (+/-) | N19: Final Dimension Achieved
A20: 115 mm | C20: 0.2 mm | D20: 115.05 mm | F20: 60 mm | H20: 0.2 mm | I20: 60.13 mm | K20: 90 mm | M20: 0.2 mm | N20: 90.05 mm
A22: Validated measurement | D22: Y | F22: Validated measurement | I22: Y | K22: Validated measurement | N22: Y
A23: Signed off by Technician | F23: Signed off by Technician | K23: Signed off by Technician
A24: Marks | F24: Marks | K24: Marks
A25: Within tolerance (1 marks) | D25: 1 | F25: Within tolerance (1 marks) | I25: 1 | K25: Within tolerance (1 marks) | N25: 1
A26: Accuracy of measurement (1 mark) | D26: 1 | F26: Accuracy of measurement (1 mark) | I26: 1 | K26: Accuracy of measurement (1 mark) | N26: 1
A27: Lathe Activity
A29: Dimension 1 | F29: Dimension 2 | K29: Dimension 3
A30: Technical Drawing Dimension | C30: Tolerance (+/-) | D30: Final Dimension Achieved | F30: Technical Drawing Dimension | H30: Tolerance (+/-) | I30: Final Dimension Achieved | K30: Technical Drawing Dimension | M30: Tolerance (+/-) | N30: Final Dimension Achieved
A31: 30 mm | C31: 0.2 mm | D31: 30.09 mm | F31: 105 mm | H31: 0.2 mm | I31: 104.98 mm | K31: 36 mm | M31: 0.05 mm | N31: 36.00 mm
A33: Validated measurement | D33: Y | F33: Validated measurement | I33: Y | K33: Validated measurement | N33: Y
A34: Signed off by Technician | F34: Signed off by Technician | K34: Signed off by Technician
A35: Marks | F35: Marks | K35: Marks
A36: Within tolerance (1 marks) | D36: 1 | F36: Within tolerance (1 marks) | I36: 1 | K36: Within tolerance (1 marks) | N36: 1
A37: Accuracy of measurement (1 mark) | D37: 1 | F37: Accuracy of measurement (1 mark) | I37: 1 | K37: Accuracy of measurement (1 mark) | N37: 1
A38: During the sessions you will have also used a range of hand tools, can you provide some good tips and hints on how to achieve the best with these? | G38: When using the hacksaw, make sure the blade is as upright as possible so it does not deviate and cut off more material than is wanted. When using the micrometer, use the ratchet so that the metal does not deform as it might if you were to force it witht the thimble | N38: Marks
N39: 4 | O39: Out of 4
A41: When using the Mill and Lathe, how can you ensure the quality of the piece that you are producing? | G41: Choose a datum edge and wherever possible, measure from that point to stop any inaccuracies accumalate.
N42: 2 | O42: Out of 4
P43: What speed should you go at on the mill and lathe
J44: Total for Machine Shop | N44: =D25+D26+I25+I26+N25+N26+N36+N37+I37+I36+D37+D36+N42+N39 -> 18 | O44: out of 20

Sheet Engine Strip
A1: Engine Strip Logbook Entry | O1: Please note the Engine Used
O3: Royal Enfield 650cc Parallel Twin
A4: Student to complete all white boxes
A5: All boxes coloured orange to be completed by the marker | O5: Marks
A6: Engine part to be measured | G6: Measurements (mm)
A7: Piston Crown | G7: 77.4 | O7: 1 | Q7: out of 1
A8: Piston Skirt | G8: 78 | O8: 1 | Q8: out of 1
A9: 4 Big End Shell Diameters | G9: 37.6 | I9: N/A | K9: N/A | M9: N/A | O9: 1 | Q9: out of 1
A11: 4 Big End Jounral Diameters | G11: N/A | I11: N/A | K11: N/A | M11: N/A
A12: Cylinder 1 stroke (using cyl.2 on TDC) | G12: 68.4 | O12: 1 | Q12: out of 1
A13: All cylinder bore values | G13: 77.9895 | I13: 77.9915 | K13: N/A | M13: N/A | O13: 1 | Q13: out of 1
A14: Clutch Pack Thickeness/Tolerance | G14: 33 | K14: N/A | O14: 1 | Q14: out of 1
A15: Inlet Valve Head Diameter | G15: 28.02 | I15: 27.9 | K15: N/A | M15: N/A | O15: 2 | Q15: out of 2
A16: Inlet Valve Stem Diameter | G16: 5.48 | I16: 5.48 | K16: N/A | M16: N/A
A17: Exhaust Valve Head Diameter | G17: 24.4 | I17: 24.4 | K17: N/A | M17: N/A | O17: 2 | Q17: out of 2
A18: Exhaust Valve Stem Diameter | G18: 5.46 | I18: 5.46 | K18: N/A | M18: N/A
A19: Valve spring free length | G19: In | H19: 43.9 | I19: Tol | J19: N/A | K19: Ex | L19: 43.3 | M19: Tol | N19: N/A | O19: 2 | Q19: out of 2
A20: Inlet Valve Clearance. Shim Measured. | G20: N/A | K20: N/A
A21: Inlet Valve Tolerance. Shim Needed. | G21: N/A | K21: N/A
A22: Using the equation provided in class, write a formula in the box below that references the relevant boxes above to calculate the Engine CC
A24: =((G12*(PI()*(AVERAGE(G13:J13)/2)^2))*2)/1000 -> 653.52076 | O24: Equation | P24: 1.5 | Q24: out of 2 | R24: Pi should be divided by 4
O25: Engine cc | P25: 0.5 | Q25: out of 1 | R25: error carried
A26: What components during the rebuld process have to be torqued, what is the torque setting and where would you find it?
A28: There are many different components that should be torqued, such as the cylinder head bolts or the connecting rod bolts. The torque settings would be found in the engines manual, unfortunately, we did not have the manuel in our posession. | O28: Components identified | P28: 2 | Q28: out of 2
O30: Torque settings | P30: 1 | Q30: out of 1
O31: Torque location | P31: 1 | Q31: out of 1
A32: Describe areas in the engine where it might be possible to see evidence of wear? What can that wear tell us about the engine?
A34: Wear can often be found on the cylinider walls, this could tell us the piston rings are worn or there is poor lubrication within the cylinder. Wear can also be found in the engine gaskets which could suggest overheating or improper torque. | O34: 4 | Q34: out of 6
R35: What would the wear on the cylinder walls and engine gasket visually look like
O38: Total | P38: =O34+P31+P30+P28+P25+P24+SUM(O7:P21) -> 22 | Q38: Out of 25

Sheet Suspension
A1: Suspension Logbook Entry
A4: Student to complete all white boxes
A5: All boxes coloured orange to be completed by the marker | O5: Marks
A6: Week 1
A7: During the first week, you will measure the front forks. Record these measurements here | F7: Damper settings | H7: Comp | I7: 7 | J7: Reb | K7: 5 | L7: Oil W | M7: 5 | O7: 1.5 | P7: Out of 1.5
F8: Spring Settings | H8: Preload | I8: 10 | J8: Weight | K8: 9N/mm | L8: Air Gap | M8: 120mm | O8: 1.5 | P8: Out of 1.5
A9: Week 2
A10: During the second week, you will be Looking at rear suspension units record measuremebts here. | F10: Measurements | H10: Spring Length Fitted / Free mm | J10: Shock Length mm | L10: Spring Rate N/mm | N10: Preload mm | O10: 4 | P10: Out of 4
F11: Values | H11: 150 | I11: 160 | J11: 310 | L11: 95 | N11: 5
F12: Load Required to Start Movement Kg | J12: =(L11*N11)/9.81 -> 48.41998 | O12: 2 | P12: Out of 2
A13: Week 3
A14: During this week, you will be collecting data from the damper dyno, using the graphs created please fill in the information on damper coefficient | F14: High speed rebound | H14: Rebound Knee Point | J14: Origin | K14: Bump Knee Point | M14: High Speed Bump
F15: x vlaue | G15: y value | H15: x vlaue | I15: y value | J15: 0,0 | K15: x vlaue | L15: y value | M15: x vlaue | N15: y value
F16: 9.5 | G16: 339.1 | H16: 0.3 | I16: 80.2 | K16: 0.3 | L16: 17.1 | M16: 9.5 | N16: 100.4 | O16: 2.5 | P16: Out of 4 | Q16: units? It looks like the x values are in/s, thouhg the knee point values are very small. The y values I would assume are in lbs but they are higher than expected
F17: Gradiant 1 | H17: Gradiant 2 | J17: Gradiant 3 | L17: Gradiant 4
F18: =(G16-I16)/(F16-H16) -> 28.141304 | H18: =(I16-0)/(H16-0) -> 267.33333 | J18: =(L16-0)/(K16-0) -> 57 | L18: =(N16-L16)/(M16-K16) -> 9.0543478 | O18: 2.5 | P18: Out of 4 | Q18: Again no units, I think they are probably lbf.s/in but again some of these are incredibly high for those but not big enough for Ns/m.
A19: Gradient 1 is between High speed rebound and rebound knee point - this if your high speed rebound damping coefficient in Ns/m
A20: Gradient 2 is between rebound knee point and origin - this if your low speed rebound damping coefficient in Ns/m
A21: Gradient 3 is between the origin and bump knee point - this if your low speed bump damping coefficient in Ns/m
A22: Gradient 4 is between the bump knee point and the high speed bump - this if your high speed bump damping coefficient in Ns/m
N23: Total | O23: =O18+O16+O12+O10+O8+O7 -> 14 | P23: Out of 17

Sheet Ad Manufacturing
A1: Advanced Manufacturing Logbook Entry
A4: Student to complete all white boxes | O4: Marks
A5: All boxes coloured orange to be completed by the marker
A6: What is meant by Adavanced Manufacturing | G6: Advanced manufacturing refers to technology‑driven production methods that use automation and digital systems to make products more efficiently and accurately. | O6: 2 | Q6: Out of 2
A8: What equipment does UWTSD have for Advanced Manufacturing? | G8: CNC machines (both multi axis mills and lathes), 3D printers (both additive and resin curing), laser cutters | O8: 3.5 | Q8: Out of 4
R11: Could also have mentioned the autoclave
A16: What is used to programme the CNC machines to produce components? | G16: G-Code is what the CNC machines use to know where to cut and what path to follow. | O16: 1 | Q16: Out of 1
A18: What type of material do the 3d printers use? | G18: PLA or ABS | O18: 2 | Q18: Out of 2
A20: If you wanted to 3D print a component for a project, what would be the steps that you would need to take? | G20: Design the part using CAD, save it to some sort of usb stick or flash drive, then, with permisssion, send the files to the 3D printer. | O20: 1.5 | Q20: Out of 3
R21: Some of the steps are lacking details, what type of file do you need? What processing of the file is needed (slicing), what do you need to do to the component after printing
O22: Total | P22: =SUM(O6:P21) -> 10 | Q22: out of 12

Sheet Composites
A1: Composites Logbook Entry
A4: Student to complete all white boxes | O4: Marks
A5: All boxes coloured orange to be completed by the marker
A6: What materials are needed ? | G6: Some kind of resin is needed to form the shape and harden, a sort of fibre is also required to reinforce the resin. | O6: 1 | Q6: out of 2
R7: What sort of resin and fibre?
A8: How are component made? What are the steps required? | G8: Prepare mould Lay selected fibre onto mould Apply resin Build up layers to required thickness Allow to cure fully Remove from mould and trim/sand edges | O8: 2 | Q8: out of 4
R12: More detail needed
A20: Are there any health & safety risks with using composites | G20: Resin fumes could irritate eyes or lungs; the resin itself can also irritate the skin if contact is made; the fibres could cause splinters or also irritate the skin. | O20: 2 | Q20: out of 2
A22: Any observations or good practice hints to note | G22: Make sure to remove any air bubbles after pouring the resin and that there are no wrinkles in the fibre. | O22: 1 | Q22: out of 2 | R22: How do you remove the bubbles and the wrinkles?
O24: Total | P24: =SUM(O6:P23) -> 6 | Q24: out of 10

Sheet Personal Development
A1: Personal Development Plan
A4: Student to complete all white boxes
A5: All boxes coloured orange to be completed by the marker
A6: Short Term Career Goals (0- 5 years)? | G6: Graduate from UWTSD with a degree; secure a job with connections to either Formula 1 or MotoGP and each of their lower series.
A8: Long Term Career Goals (5-10 years)? | G8: Become a chartered engineer; work directly in Formula 1 or MotoGP or their lower series; make a significant impact in either the performance or sustainability of either of the sports.
B10: Goal | E10: Objective | H10: Resources Needed | K10: Measurement of Success | N10: Target Date
A12: 1 | B12: Graduate from UWTSD with a degree | E12: Develop engineering fundamentals and be more noticable to employers | H12: Workshop/equipment access, lecture notes, lecturer support | K12: Passing all modules | N12: End of final academic year
A14: 2 | B14: Secure a job with connections to F1 or MotoGP | E14: Gain experience in field of motorsport with a route to progress my career | H14: Work placements, a sufficient CV, degree from UWTSD | K14: Securing interviews or a position in the field of motorsport | N14: Within a year of graduation
A16: 3 | B16: Become a chartered engineer | E16: Be officially recgonised as having a high level of proffesional competance | H16: Long term employment role, access to CPD courses | K16: Submitting a chartership application and receiving proffesional registration | N16: 7-10 years after initial employment
A18: 4 | B18: Make significant impact in performance/sustainability | E18: Contribute on projects that improve efficiency or environmental impact | H18: Access to testing facilities and collaboration with other engineers | K18: Recognised for contributions to the project or publishing work about the project | N18: Latest 15 years into employment
A20: What do you think could be the biggest impact on you achieving your goals? | G20: How much discipline I have in my studies and work as well as what sorts of connections I can make during my time at uni.
A22: Why is having a PDP important for an engineer? | G22: It helps engineers stay focused and keeps them on track with the goals they set out to achieve.
A24: Marks
A25: Pass or Fail | G25: Pass

Sheet CPD
A1: Continuous Professional Development
A4: Student to complete all white boxes
A5: All boxes coloured orange to be completed by the marker
A6: Briefly describe what is meant by Continuous Professional Development (CPD) and why it is important to engineers? | Q6: Marks
A8: CPD means constantly updating your knowledge and skills throughout your career rather then stopping your education after uni. It’s important for engineers because it keeps them competent enough to keep up with professional standards as they change with time and technological advancements. | Q8: 2 | R8: Out of 3
A18: Identify a CPD event or activity that you could attend/complete that would help to support your learning or desired career path. Please provide details of the date & location or URL.
A20: Neil Spalding, MotoGP Technical Jounalist, ran a guest lecture at the university about motorcycle design and innovation. This took place 19/11/22 on UWTSD campus in IQ002. | Q20: 1 | R20: Out of 1
A27: What did you learn from the CPD event or activity? How do you feel this has helped your professional development?
A29: The guest lecture focused on innovations that have transformed racing in MotoGP and the lower series. It was not only engaging but also gave me insight into how engineers balance safety with increasing performance. It helped me understand the level of thought going into modern motorcycle design, and highlighted the areas I need to develop if I want to contribute to motorcycle racing. | Q29: 2 | R29: Out of 2
N38: Total | Q38: =SUM(Q29+Q20+Q8) -> 5 | R38: out of 6

Sheet Marks
B2: Session Tab | E2: Mark | F2: Out of
B3: Health and Safety Overview | E3: ='H&S Overview'!G49 -> 8.5 | F3: 10
B4: Machine Shop Sessions | E4: ='Machine Shop'!N44 -> 18 | F4: 20
B5: Engine Strip Sessions | E5: ='Engine Strip'!P38 -> 22 | F5: 25
B6: Suspension | E6: =Suspension!O23 -> 14 | F6: 17
B7: Advanced Manufacturing | E7: ='Ad Manufacturing'!P22 -> 10 | F7: 12
B8: Composites | E8: =Composites!P24 -> 6 | F8: 10
B9: Personal Development | E9: Pass | F9: Pass or Fail
B10: CPD | E10: {=CPD!Q38:Q38} -> 5 | F10: 6
B11: Logbook Total | E11: =SUM(E3:E10) -> 83.5 | F11: =SUM(F3:F10) -> 100
B12: MATLAB Mark | E12: 80.7 | F12: 100
B14: Assignment Total | E14: =(E11*0.75)+(E12*0.25) -> 82.8 | F14: %
