Workbook

Sheet Observations_Long
A1: Observation_ID | B1: Source_ID | C1: Publisher | D1: Publication_Year | E1: Geography | F1: Data_Collection_Period | G1: Organisation_Size_Label | H1: Employee_Band | I1: SME_Relevance | J1: Industry_or_Sector | K1: Training_Stage | L1: Approx_Duration_Days | M1: Outcome_Domain | N1: Metric_Name | O1: Metric_Definition | P1: Value_pct | Q1: Published_Base_or_Denominator | R1: Denominator_Type | S1: Comparability_Group | T1: Source_Location | U1: Source_URL | V1: Notes
A2: OBS001 | B2: KB4_2024 | C2: KnowBe4 | D2: 2024 | E2: Global | F2: 2024 report; underlying test-period dates not separately stated | G2: Small organisations | H2: 1-249 | I2: Primary SME band | J2: Banking | K2: Baseline / pre-training | L2: 0 | M2: Phishing susceptibility | N2: Phish-prone Percentage (PPP) | O2: % of employees who clicked a simulated phishing link or opened a simulated malware attachment during a KnowBe4 testing campaign | P2: 27.8 | R2: Industry-stage denominator not published | S2: KB4_PPP_SME_INDUSTRY | T2: Page 10, Phase One table | U2: https://www.knowbe4.com/hubfs/2024-Phishing-by-Industry-Benchmarking-Report-EN_US.pdf
A3: OBS002 | B3: KB4_2024 | C3: KnowBe4 | D3: 2024 | E3: Global | F3: 2024 report; underlying test-period dates not separately stated | G3: Small organisations | H3: 1-249 | I3: Primary SME band | J3: Banking | K3: Within 90 days after training | L3: 90 | M3: Phishing susceptibility | N3: Phish-prone Percentage (PPP) | O3: % of employees who clicked a simulated phishing link or opened a simulated malware attachment during a KnowBe4 testing campaign | P3: 13.9 | R3: Industry-stage denominator not published | S3: KB4_PPP_SME_INDUSTRY | T3: Page 11, Phase Two table | U3: https://www.knowbe4.com/hubfs/2024-Phishing-by-Industry-Benchmarking-Report-EN_US.pdf
A4: OBS003 | B4: KB4_2024 | C4: KnowBe4 | D4: 2024 | E4: Global | F4: 2024 report; underlying test-period dates not separately stated | G4: Small organisations | H4: 1-249 | I4: Primary SME band | J4: Banking | K4: One year-plus ongoing training | L4: 365 | M4: Phishing susceptibility | N4: Phish-prone Percentage (PPP) | O4: % of employees who clicked a simulated phishing link or opened a simulated malware attachment during a KnowBe4 testing campaign | P4: 2.5 | R4: Industry-stage denominator not published | S4: KB4_PPP_SME_INDUSTRY | T4: Page 12, Phase Three table | U4: https://www.knowbe4.com/hubfs/2024-Phishing-by-Industry-Benchmarking-Report-EN_US.pdf | V4: Table reports 2.5%; narrative on the same page mentions 2.3%. Tabulated value retained.
A5: OBS004 | B5: KB4_2024 | C5: KnowBe4 | D5: 2024 | E5: Global | F5: 2024 report; underlying test-period dates not separately stated | G5: Small organisations | H5: 1-249 | I5: Primary SME band | J5: Business Services | K5: Baseline / pre-training | L5: 0 | M5: Phishing susceptibility | N5: Phish-prone Percentage (PPP) | O5: % of employees who clicked a simulated phishing link or opened a simulated malware attachment during a KnowBe4 testing campaign | P5: 26.7 | R5: Industry-stage denominator not published | S5: KB4_PPP_SME_INDUSTRY | T5: Page 10, Phase One table | U5: https://www.knowbe4.com/hubfs/2024-Phishing-by-Industry-Benchmarking-Report-EN_US.pdf
A6: OBS005 | B6: KB4_2024 | C6: KnowBe4 | D6: 2024 | E6: Global | F6: 2024 report; underlying test-period dates not separately stated | G6: Small organisations | H6: 1-249 | I6: Primary SME band | J6: Business Services | K6: Within 90 days after training | L6: 90 | M6: Phishing susceptibility | N6: Phish-prone Percentage (PPP) | O6: % of employees who clicked a simulated phishing link or opened a simulated malware attachment during a KnowBe4 testing campaign | P6: 20.8 | R6: Industry-stage denominator not published | S6: KB4_PPP_SME_INDUSTRY | T6: Page 11, Phase Two table | U6: https://www.knowbe4.com/hubfs/2024-Phishing-by-Industry-Benchmarking-Report-EN_US.pdf
A7: OBS006 | B7: KB4_2024 | C7: KnowBe4 | D7: 2024 | E7: Global | F7: 2024 report; underlying test-period dates not separately stated | G7: Small organisations | H7: 1-249 | I7: Primary SME band | J7: Business Services | K7: One year-plus ongoing training | L7: 365 | M7: Phishing susceptibility | N7: Phish-prone Percentage (PPP) | O7: % of employees who clicked a simulated phishing link or opened a simulated malware attachment during a KnowBe4 testing campaign | P7: 5.3 | R7: Industry-stage denominator not published | S7: KB4_PPP_SME_INDUSTRY | T7: Page 12, Phase Three table | U7: https://www.knowbe4.com/hubfs/2024-Phishing-by-Industry-Benchmarking-Report-EN_US.pdf
A8: OBS007 | B8: KB4_2024 | C8: KnowBe4 | D8: 2024 | E8: Global | F8: 2024 report; underlying test-period dates not separately stated | G8: Small organisations | H8: 1-249 | I8: Primary SME band | J8: Construction | K8: Baseline / pre-training | L8: 0 | M8: Phishing susceptibility | N8: Phish-prone Percentage (PPP) | O8: % of employees who clicked a simulated phishing link or opened a simulated malware attachment during a KnowBe4 testing campaign | P8: 28.8 | R8: Industry-stage denominator not published | S8: KB4_PPP_SME_INDUSTRY | T8: Page 10, Phase One table | U8: https://www.knowbe4.com/hubfs/2024-Phishing-by-Industry-Benchmarking-Report-EN_US.pdf
A9: OBS008 | B9: KB4_2024 | C9: KnowBe4 | D9: 2024 | E9: Global | F9: 2024 report; underlying test-period dates not separately stated | G9: Small organisations | H9: 1-249 | I9: Primary SME band | J9: Construction | K9: Within 90 days after training | L9: 90 | M9: Phishing susceptibility | N9: Phish-prone Percentage (PPP) | O9: % of employees who clicked a simulated phishing link or opened a simulated malware attachment during a KnowBe4 testing campaign | P9: 20.8 | R9: Industry-stage denominator not published | S9: KB4_PPP_SME_INDUSTRY | T9: Page 11, Phase Two table | U9: https://www.knowbe4.com/hubfs/2024-Phishing-by-Industry-Benchmarking-Report-EN_US.pdf
A10: OBS009 | B10: KB4_2024 | C10: KnowBe4 | D10: 2024 | E10: Global | F10: 2024 report; underlying test-period dates not separately stated | G10: Small organisations | H10: 1-249 | I10: Primary SME band | J10: Construction | K10: One year-plus ongoing training | L10: 365 | M10: Phishing susceptibility | N10: Phish-prone Percentage (PPP) | O10: % of employees who clicked a simulated phishing link or opened a simulated malware attachment during a KnowBe4 testing campaign | P10: 4 | R10: Industry-stage denominator not published | S10: KB4_PPP_SME_INDUSTRY | T10: Page 12, Phase Three table | U10: https://www.knowbe4.com/hubfs/2024-Phishing-by-Industry-Benchmarking-Report-EN_US.pdf
A11: OBS010 | B11: KB4_2024 | C11: KnowBe4 | D11: 2024 | E11: Global | F11: 2024 report; underlying test-period dates not separately stated | G11: Small organisations | H11: 1-249 | I11: Primary SME band | J11: Consulting | K11: Baseline / pre-training | L11: 0 | M11: Phishing susceptibility | N11: Phish-prone Percentage (PPP) | O11: % of employees who clicked a simulated phishing link or opened a simulated malware attachment during a KnowBe4 testing campaign | P11: 28.4 | R11: Industry-stage denominator not published | S11: KB4_PPP_SME_INDUSTRY | T11: Page 10, Phase One table | U11: https://www.knowbe4.com/hubfs/2024-Phishing-by-Industry-Benchmarking-Report-EN_US.pdf
A12: OBS011 | B12: KB4_2024 | C12: KnowBe4 | D12: 2024 | E12: Global | F12: 2024 report; underlying test-period dates not separately stated | G12: Small organisations | H12: 1-249 | I12: Primary SME band | J12: Consulting | K12: Within 90 days after training | L12: 90 | M12: Phishing susceptibility | N12: Phish-prone Percentage (PPP) | O12: % of employees who clicked a simulated phishing link or opened a simulated malware attachment during a KnowBe4 testing campaign | P12: 20 | R12: Industry-stage denominator not published | S12: KB4_PPP_SME_INDUSTRY | T12: Page 11, Phase Two table | U12: https://www.knowbe4.com/hubfs/2024-Phishing-by-Industry-Benchmarking-Report-EN_US.pdf
A13: OBS012 | B13: KB4_2024 | C13: KnowBe4 | D13: 2024 | E13: Global | F13: 2024 report; underlying test-period dates not separately stated | G13: Small organisations | H13: 1-249 | I13: Primary SME band | J13: Consulting | K13: One year-plus ongoing training | L13: 365 | M13: Phishing susceptibility | N13: Phish-prone Percentage (PPP) | O13: % of employees who clicked a simulated phishing link or opened a simulated malware attachment during a KnowBe4 testing campaign | P13: 4 | R13: Industry-stage denominator not published | S13: KB4_PPP_SME_INDUSTRY | T13: Page 12, Phase Three table | U13: https://www.knowbe4.com/hubfs/2024-Phishing-by-Industry-Benchmarking-Report-EN_US.pdf
A14: OBS013 | B14: KB4_2024 | C14: KnowBe4 | D14: 2024 | E14: Global | F14: 2024 report; underlying test-period dates not separately stated | G14: Small organisations | H14: 1-249 | I14: Primary SME band | J14: Consumer Services | K14: Baseline / pre-training | L14: 0 | M14: Phishing susceptibility | N14: Phish-prone Percentage (PPP) | O14: % of employees who clicked a simulated phishing link or opened a simulated malware attachment during a KnowBe4 testing campaign | P14: 28.8 | R14: Industry-stage denominator not published | S14: KB4_PPP_SME_INDUSTRY | T14: Page 10, Phase One table | U14: https://www.knowbe4.com/hubfs/2024-Phishing-by-Industry-Benchmarking-Report-EN_US.pdf
A15: OBS014 | B15: KB4_2024 | C15: KnowBe4 | D15: 2024 | E15: Global | F15: 2024 report; underlying test-period dates not separately stated | G15: Small organisations | H15: 1-249 | I15: Primary SME band | J15: Consumer Services | K15: Within 90 days after training | L15: 90 | M15: Phishing susceptibility | N15: Phish-prone Percentage (PPP) | O15: % of employees who clicked a simulated phishing link or opened a simulated malware attachment during a KnowBe4 testing campaign | P15: 20.5 | R15: Industry-stage denominator not published | S15: KB4_PPP_SME_INDUSTRY | T15: Page 11, Phase Two table | U15: https://www.knowbe4.com/hubfs/2024-Phishing-by-Industry-Benchmarking-Report-EN_US.pdf
A16: OBS015 | B16: KB4_2024 | C16: KnowBe4 | D16: 2024 | E16: Global | F16: 2024 report; underlying test-period dates not separately stated | G16: Small organisations | H16: 1-249 | I16: Primary SME band | J16: Consumer Services | K16: One year-plus ongoing training | L16: 365 | M16: Phishing susceptibility | N16: Phish-prone Percentage (PPP) | O16: % of employees who clicked a simulated phishing link or opened a simulated malware attachment during a KnowBe4 testing campaign | P16: 5 | R16: Industry-stage denominator not published | S16: KB4_PPP_SME_INDUSTRY | T16: Page 12, Phase Three table | U16: https://www.knowbe4.com/hubfs/2024-Phishing-by-Industry-Benchmarking-Report-EN_US.pdf
... A58: OBS057 | B58: KB4_2024 | C58: KnowBe4 | D58: 2024 | E58: Global | F58: 2024 report; underlying test-period dates not separately stated | G58: Small organisations | H58: 1-249 | I58: Primary SME band | J58: Transportation | K58: One year-plus ongoing training | L58: 365 | M58: Phishing susceptibility | N58: Phish-prone Percentage (PPP) | O58: % of employees who clicked a simulated phishing link or opened a simulated malware attachment during a KnowBe4 testing campaign | P58: 4.5 | R58: Industry-stage denominator not published | S58: KB4_PPP_SME_INDUSTRY | T58: Page 12, Phase Three table | U58: https://www.knowbe4.com/hubfs/2024-Phishing-by-Industry-Benchmarking-Report-EN_US.pdf
A59: OBS058 | B59: KB4_2024 | C59: KnowBe4 | D59: 2024 | E59: Global | F59: 2024 report | G59: All industries by organisation size | H59: 1-249 | I59: SME band | J59: All industries | K59: Baseline / pre-training | L59: 0 | M59: Phishing susceptibility | N59: Phish-prone Percentage (PPP) | O59: % of employees who failed the simulated phishing test under the report's PPP definition | P59: 28.7 | Q59: 42488 | R59: Organisations in size category | S59: KB4_PPP_SIZE | T59: Page 10 organisation-size summary | U59: https://www.knowbe4.com/hubfs/2024-Phishing-by-Industry-Benchmarking-Report-EN_US.pdf
A60: OBS059 | B60: KB4_2024 | C60: KnowBe4 | D60: 2024 | E60: Global | F60: 2024 report | G60: All industries by organisation size | H60: 1-249 | I60: SME band | J60: All industries | K60: Within 90 days after training | L60: 90 | M60: Phishing susceptibility | N60: Phish-prone Percentage (PPP) | O60: % of employees who failed the simulated phishing test under the report's PPP definition | P60: 19.9 | Q60: 42488 | R60: Organisations in size category | S60: KB4_PPP_SIZE | T60: Page 11 organisation-size summary | U60: https://www.knowbe4.com/hubfs/2024-Phishing-by-Industry-Benchmarking-Report-EN_US.pdf
A61: OBS060 | B61: KB4_2024 | C61: KnowBe4 | D61: 2024 | E61: Global | F61: 2024 report | G61: All industries by organisation size | H61: 1-249 | I61: SME band | J61: All industries | K61: One year-plus ongoing training | L61: 365 | M61: Phishing susceptibility | N61: Phish-prone Percentage (PPP) | O61: % of employees who failed the simulated phishing test under the report's PPP definition | P61: 4.3 | Q61: 42488 | R61: Organisations in size category | S61: KB4_PPP_SIZE | T61: Page 12 organisation-size summary | U61: https://www.knowbe4.com/hubfs/2024-Phishing-by-Industry-Benchmarking-Report-EN_US.pdf
A62: OBS061 | B62: KB4_2024 | C62: KnowBe4 | D62: 2024 | E62: Global | F62: 2024 report | G62: All industries by organisation size | H62: 250-999 | I62: Comparator | J62: All industries | K62: Baseline / pre-training | L62: 0 | M62: Phishing susceptibility | N62: Phish-prone Percentage (PPP) | O62: % of employees who failed the simulated phishing test under the report's PPP definition | P62: 31.9 | Q62: 9934 | R62: Organisations in size category | S62: KB4_PPP_SIZE | T62: Page 10 organisation-size summary | U62: https://www.knowbe4.com/hubfs/2024-Phishing-by-Industry-Benchmarking-Report-EN_US.pdf
A63: OBS062 | B63: KB4_2024 | C63: KnowBe4 | D63: 2024 | E63: Global | F63: 2024 report | G63: All industries by organisation size | H63: 250-999 | I63: Comparator | J63: All industries | K63: Within 90 days after training | L63: 90 | M63: Phishing susceptibility | N63: Phish-prone Percentage (PPP) | O63: % of employees who failed the simulated phishing test under the report's PPP definition | P63: 20.1 | Q63: 9934 | R63: Organisations in size category | S63: KB4_PPP_SIZE | T63: Page 11 organisation-size summary | U63: https://www.knowbe4.com/hubfs/2024-Phishing-by-Industry-Benchmarking-Report-EN_US.pdf
A64: OBS063 | B64: KB4_2024 | C64: KnowBe4 | D64: 2024 | E64: Global | F64: 2024 report | G64: All industries by organisation size | H64: 250-999 | I64: Comparator | J64: All industries | K64: One year-plus ongoing training | L64: 365 | M64: Phishing susceptibility | N64: Phish-prone Percentage (PPP) | O64: % of employees who failed the simulated phishing test under the report's PPP definition | P64: 4.6 | Q64: 9934 | R64: Organisations in size category | S64: KB4_PPP_SIZE | T64: Page 12 organisation-size summary | U64: https://www.knowbe4.com/hubfs/2024-Phishing-by-Industry-Benchmarking-Report-EN_US.pdf
A65: OBS064 | B65: KB4_2024 | C65: KnowBe4 | D65: 2024 | E65: Global | F65: 2024 report | G65: All industries by organisation size | H65: 1000+ | I65: Large comparator | J65: All industries | K65: Baseline / pre-training | L65: 0 | M65: Phishing susceptibility | N65: Phish-prone Percentage (PPP) | O65: % of employees who failed the simulated phishing test under the report's PPP definition | P65: 37.5 | Q65: 3253 | R65: Organisations in size category | S65: KB4_PPP_SIZE | T65: Page 10 organisation-size summary | U65: https://www.knowbe4.com/hubfs/2024-Phishing-by-Industry-Benchmarking-Report-EN_US.pdf
A66: OBS065 | B66: KB4_2024 | C66: KnowBe4 | D66: 2024 | E66: Global | F66: 2024 report | G66: All industries by organisation size | H66: 1000+ | I66: Large comparator | J66: All industries | K66: Within 90 days after training | L66: 90 | M66: Phishing susceptibility | N66: Phish-prone Percentage (PPP) | O66: % of employees who failed the simulated phishing test under the report's PPP definition | P66: 18 | Q66: 3253 | R66: Organisations in size category | S66: KB4_PPP_SIZE | T66: Page 11 organisation-size summary | U66: https://www.knowbe4.com/hubfs/2024-Phishing-by-Industry-Benchmarking-Report-EN_US.pdf
A67: OBS066 | B67: KB4_2024 | C67: KnowBe4 | D67: 2024 | E67: Global | F67: 2024 report | G67: All industries by organisation size | H67: 1000+ | I67: Large comparator | J67: All industries | K67: One year-plus ongoing training | L67: 365 | M67: Phishing susceptibility | N67: Phish-prone Percentage (PPP) | O67: % of employees who failed the simulated phishing test under the report's PPP definition | P67: 4.9 | Q67: 3253 | R67: Organisations in size category | S67: KB4_PPP_SIZE | T67: Page 12 organisation-size summary | U67: https://www.knowbe4.com/hubfs/2024-Phishing-by-Industry-Benchmarking-Report-EN_US.pdf
A68: OBS067 | B68: KB4_2024 | C68: KnowBe4 | D68: 2024 | E68: North America | F68: 2024 report | G68: Small organisations | H68: 1-249 | I68: Supplementary SME regional context | J68: All industries | K68: Baseline / pre-training | L68: 0 | M68: Phishing susceptibility | N68: Phish-prone Percentage (PPP) | O68: % of employees failing simulated phishing tests; regional dataset uses same phase framework | P68: 29 | R68: Regional stage denominator not published | S68: KB4_PPP_SME_REGION | T68: Page 14 international benchmark table | U68: https://www.knowbe4.com/hubfs/2024-Phishing-by-Industry-Benchmarking-Report-EN_US.pdf | V68: Regional benchmark is supplementary; report states international analysis uses a slightly different dataset from industry analysis.
A69: OBS068 | B69: KB4_2024 | C69: KnowBe4 | D69: 2024 | E69: North America | F69: 2024 report | G69: Small organisations | H69: 1-249 | I69: Supplementary SME regional context | J69: All industries | K69: Within 90 days after training | L69: 90 | M69: Phishing susceptibility | N69: Phish-prone Percentage (PPP) | O69: % of employees failing simulated phishing tests; regional dataset uses same phase framework | P69: 19.8 | R69: Regional stage denominator not published | S69: KB4_PPP_SME_REGION | T69: Page 14 international benchmark table | U69: https://www.knowbe4.com/hubfs/2024-Phishing-by-Industry-Benchmarking-Report-EN_US.pdf | V69: Regional benchmark is supplementary; report states international analysis uses a slightly different dataset from industry analysis.
A70: OBS069 | B70: KB4_2024 | C70: KnowBe4 | D70: 2024 | E70: North America | F70: 2024 report | G70: Small organisations | H70: 1-249 | I70: Supplementary SME regional context | J70: All industries | K70: One year-plus ongoing training | L70: 365 | M70: Phishing susceptibility | N70: Phish-prone Percentage (PPP) | O70: % of employees failing simulated phishing tests; regional dataset uses same phase framework | P70: 4.3 | R70: Regional stage denominator not published | S70: KB4_PPP_SME_REGION | T70: Page 14 international benchmark table | U70: https://www.knowbe4.com/hubfs/2024-Phishing-by-Industry-Benchmarking-Report-EN_US.pdf | V70: Regional benchmark is supplementary; report states international analysis uses a slightly different dataset from industry analysis.
A71: OBS070 | B71: KB4_2024 | C71: KnowBe4 | D71: 2024 | E71: Africa | F71: 2024 report | G71: Small organisations | H71: 1-249 | I71: Supplementary SME regional context | J71: All industries | K71: Baseline / pre-training | L71: 0 | M71: Phishing susceptibility | N71: Phish-prone Percentage (PPP) | O71: % of employees failing simulated phishing tests; regional dataset uses same phase framework | P71: 29.7 | R71: Regional stage denominator not published | S71: KB4_PPP_SME_REGION | T71: Page 14 international benchmark table | U71: https://www.knowbe4.com/hubfs/2024-Phishing-by-Industry-Benchmarking-Report-EN_US.pdf | V71: Regional benchmark is supplementary; report states international analysis uses a slightly different dataset from industry analysis.
A72: OBS071 | B72: KB4_2024 | C72: KnowBe4 | D72: 2024 | E72: Africa | F72: 2024 report | G72: Small organisations | H72: 1-249 | I72: Supplementary SME regional context | J72: All industries | K72: Within 90 days after training | L72: 90 | M72: Phishing susceptibility | N72: Phish-prone Percentage (PPP) | O72: % of employees failing simulated phishing tests; regional dataset uses same phase framework | P72: 23.7 | R72: Regional stage denominator not published | S72: KB4_PPP_SME_REGION | T72: Page 14 international benchmark table | U72: https://www.knowbe4.com/hubfs/2024-Phishing-by-Industry-Benchmarking-Report-EN_US.pdf | V72: Regional benchmark is supplementary; report states international analysis uses a slightly different dataset from industry analysis.
A73: OBS072 | B73: KB4_2024 | C73: KnowBe4 | D73: 2024 | E73: Africa | F73: 2024 report | G73: Small organisations | H73: 1-249 | I73: Supplementary SME regional context | J73: All industries | K73: One year-plus ongoing training | L73: 365 | M73: Phishing susceptibility | N73: Phish-prone Percentage (PPP) | O73: % of employees failing simulated phishing tests; regional dataset uses same phase framework | P73: 3.6 | R73: Regional stage denominator not published | S73: KB4_PPP_SME_REGION | T73: Page 14 international benchmark table | U73: https://www.knowbe4.com/hubfs/2024-Phishing-by-Industry-Benchmarking-Report-EN_US.pdf | V73: Regional benchmark is supplementary; report states international analysis uses a slightly different dataset from industry analysis.
A74: OBS073 | B74: KB4_2024 | C74: KnowBe4 | D74: 2024 | E74: Asia | F74: 2024 report | G74: Small organisations | H74: 1-249 | I74: Supplementary SME regional context | J74: All industries | K74: Baseline / pre-training | L74: 0 | M74: Phishing susceptibility | N74: Phish-prone Percentage (PPP) | O74: % of employees failing simulated phishing tests; regional dataset uses same phase framework | P74: 31.5 | R74: Regional stage denominator not published | S74: KB4_PPP_SME_REGION | T74: Page 14 international benchmark table | U74: https://www.knowbe4.com/hubfs/2024-Phishing-by-Industry-Benchmarking-Report-EN_US.pdf | V74: Regional benchmark is supplementary; report states international analysis uses a slightly different dataset from industry analysis.
A75: OBS074 | B75: KB4_2024 | C75: KnowBe4 | D75: 2024 | E75: Asia | F75: 2024 report | G75: Small organisations | H75: 1-249 | I75: Supplementary SME regional context | J75: All industries | K75: Within 90 days after training | L75: 90 | M75: Phishing susceptibility | N75: Phish-prone Percentage (PPP) | O75: % of employees failing simulated phishing tests; regional dataset uses same phase framework | P75: 20.3 | R75: Regional stage denominator not published | S75: KB4_PPP_SME_REGION | T75: Page 14 international benchmark table | U75: https://www.knowbe4.com/hubfs/2024-Phishing-by-Industry-Benchmarking-Report-EN_US.pdf | V75: Regional benchmark is supplementary; report states international analysis uses a slightly different dataset from industry analysis.
A76: OBS075 | B76: KB4_2024 | C76: KnowBe4 | D76: 2024 | E76: Asia | F76: 2024 report | G76: Small organisations | H76: 1-249 | I76: Supplementary SME regional context | J76: All industries | K76: One year-plus ongoing training | L76: 365 | M76: Phishing susceptibility | N76: Phish-prone Percentage (PPP) | O76: % of employees failing simulated phishing tests; regional dataset uses same phase framework | P76: 5.4 | R76: Regional stage denominator not published | S76: KB4_PPP_SME_REGION | T76: Page 14 international benchmark table | U76: https://www.knowbe4.com/hubfs/2024-Phishing-by-Industry-Benchmarking-Report-EN_US.pdf | V76: Regional benchmark is supplementary; report states international analysis uses a slightly different dataset from industry analysis.
A77: OBS076 | B77: KB4_2024 | C77: KnowBe4 | D77: 2024 | E77: Australia & New Zealand | F77: 2024 report | G77: Small organisations | H77: 1-249 | I77: Supplementary SME regional context | J77: All industries | K77: Baseline / pre-training | L77: 0 | M77: Phishing susceptibility | N77: Phish-prone Percentage (PPP) | O77: % of employees failing simulated phishing tests; regional dataset uses same phase framework | P77: 27.8 | R77: Regional stage denominator not published | S77: KB4_PPP_SME_REGION | T77: Page 14 international benchmark table | U77: https://www.knowbe4.com/hubfs/2024-Phishing-by-Industry-Benchmarking-Report-EN_US.pdf | V77: Regional benchmark is supplementary; report states international analysis uses a slightly different dataset from industry analysis.
A78: OBS077 | B78: KB4_2024 | C78: KnowBe4 | D78: 2024 | E78: Australia & New Zealand | F78: 2024 report | G78: Small organisations | H78: 1-249 | I78: Supplementary SME regional context | J78: All industries | K78: Within 90 days after training | L78: 90 | M78: Phishing susceptibility | N78: Phish-prone Percentage (PPP) | O78: % of employees failing simulated phishing tests; regional dataset uses same phase framework | P78: 21.4 | R78: Regional stage denominator not published | S78: KB4_PPP_SME_REGION | T78: Page 14 international benchmark table | U78: https://www.knowbe4.com/hubfs/2024-Phishing-by-Industry-Benchmarking-Report-EN_US.pdf | V78: Regional benchmark is supplementary; report states international analysis uses a slightly different dataset from industry analysis.
A79: OBS078 | B79: KB4_2024 | C79: KnowBe4 | D79: 2024 | E79: Australia & New Zealand | F79: 2024 report | G79: Small organisations | H79: 1-249 | I79: Supplementary SME regional context | J79: All industries | K79: One year-plus ongoing training | L79: 365 | M79: Phishing susceptibility | N79: Phish-prone Percentage (PPP) | O79: % of employees failing simulated phishing tests; regional dataset uses same phase framework | P79: 4.9 | R79: Regional stage denominator not published | S79: KB4_PPP_SME_REGION | T79: Page 14 international benchmark table | U79: https://www.knowbe4.com/hubfs/2024-Phishing-by-Industry-Benchmarking-Report-EN_US.pdf | V79: Regional benchmark is supplementary; report states international analysis uses a slightly different dataset from industry analysis.
... A91: OBS090 | B91: CIRA_2021 | C91: Canadian Internet Registration Authority (CIRA) | D91: 2021 | E91: Primarily Canada | F91: Click-rate section draws on 2019-2021 | G91: Mixed / not size-stratified | H91: Not stated | I91: Supplementary; not SME-specific | J91: All sectors | K91: After one year | L91: 365 | M91: Phishing susceptibility | N91: Phishing simulation click rate | O91: % of simulated phishing emails that users clicked | P91: 3.3 | R91: Stage denominator not published | S91: CIRA_CLICK_RATE | T91: Phishing simulation click rates over time | U91: https://www.cira.ca/en/resources/documents/cybersecurity/phishing-and-cyber-training-canada-2021/ | V91: Use as triangulation only; metric and population are not directly interchangeable with KnowBe4 PPP.
A92: OBS091 | B92: UK_CSBS_2025_26 | C92: UK DSIT / Home Office | D92: 2026 | E92: United Kingdom | F92: 2025/2026 survey wave | G92: Micro businesses | H92: 1-9 | I92: SME context | J92: All sectors | K92: Not applicable | M92: Training context | N92: Staff cyber training/awareness in last 12 months | O92: Published survey percentage for the specified business-size group | P92: 14 | Q92: 1154 | R92: Unweighted survey base | S92: UK_CONTEXT | T92: Figure 3.7 | U92: https://www.gov.uk/government/statistics/cyber-security-breaches-survey-20252026/cyber-security-breaches-survey-20252026 | V92: Contextual survey indicator; do not interpret as a pre/post effect of training.
...

Sheet KB4_SME_Industry
A1: Industry | B1: Baseline_PPP_pct | C1: PPP_90_Days_pct | D1: PPP_1_YearPlus_pct | E1: Abs_Reduction_90d_pp | F1: Relative_Reduction_90d | G1: Abs_Reduction_1yr_pp | H1: Relative_Reduction_1yr | I1: Rank_1yr_Reduction | J1: Source_URL | K1: Data_Quality_Note
A2: Banking | B2: 27.8 | C2: 13.9 | D2: 2.5 | E2: =B2-C2 -> 13.9 | F2: =(B2-C2)/B2 -> 0.5 | G2: =B2-D2 -> 25.3 | H2: =(B2-D2)/B2 -> 0.91007194 | I2: =RANK(H2,$H$2:$H$20,0) -> 1 | J2: https://www.knowbe4.com/hubfs/2024-Phishing-by-Industry-Benchmarking-Report-EN_US.pdf | K2: Table value used. Banking 1-year table=2.5%; narrative says 2.3%.
A3: Business Services | B3: 26.7 | C3: 20.8 | D3: 5.3 | E3: =B3-C3 -> 5.9 | F3: =(B3-C3)/B3 -> 0.22097378 | G3: =B3-D3 -> 21.4 | H3: =(B3-D3)/B3 -> 0.80149813 | I3: =RANK(H3,$H$2:$H$20,0) -> 18 | J3: https://www.knowbe4.com/hubfs/2024-Phishing-by-Industry-Benchmarking-Report-EN_US.pdf
A4: Construction | B4: 28.8 | C4: 20.8 | D4: 4 | E4: =B4-C4 -> 8 | F4: =(B4-C4)/B4 -> 0.27777778 | G4: =B4-D4 -> 24.8 | H4: =(B4-D4)/B4 -> 0.86111111 | I4: =RANK(H4,$H$2:$H$20,0) -> 7 | J4: https://www.knowbe4.com/hubfs/2024-Phishing-by-Industry-Benchmarking-Report-EN_US.pdf
A5: Consulting | B5: 28.4 | C5: 20 | D5: 4 | E5: =B5-C5 -> 8.4 | F5: =(B5-C5)/B5 -> 0.29577465 | G5: =B5-D5 -> 24.4 | H5: =(B5-D5)/B5 -> 0.85915493 | I5: =RANK(H5,$H$2:$H$20,0) -> 8 | J5: https://www.knowbe4.com/hubfs/2024-Phishing-by-Industry-Benchmarking-Report-EN_US.pdf
A6: Consumer Services | B6: 28.8 | C6: 20.5 | D6: 5 | E6: =B6-C6 -> 8.3 | F6: =(B6-C6)/B6 -> 0.28819444 | G6: =B6-D6 -> 23.8 | H6: =(B6-D6)/B6 -> 0.82638889 | I6: =RANK(H6,$H$2:$H$20,0) -> 16 | J6: https://www.knowbe4.com/hubfs/2024-Phishing-by-Industry-Benchmarking-Report-EN_US.pdf
A7: Education | B7: 32.4 | C7: 19 | D7: 3.9 | E7: =B7-C7 -> 13.4 | F7: =(B7-C7)/B7 -> 0.41358025 | G7: =B7-D7 -> 28.5 | H7: =(B7-D7)/B7 -> 0.87962963 | I7: =RANK(H7,$H$2:$H$20,0) -> 2 | J7: https://www.knowbe4.com/hubfs/2024-Phishing-by-Industry-Benchmarking-Report-EN_US.pdf
A8: Energy & Utilities | B8: 29.3 | C8: 18.7 | D8: 3.7 | E8: =B8-C8 -> 10.6 | F8: =(B8-C8)/B8 -> 0.36177474 | G8: =B8-D8 -> 25.6 | H8: =(B8-D8)/B8 -> 0.87372014 | I8: =RANK(H8,$H$2:$H$20,0) -> 4 | J8: https://www.knowbe4.com/hubfs/2024-Phishing-by-Industry-Benchmarking-Report-EN_US.pdf
A9: Financial Services | B9: 28.1 | C9: 17.4 | D9: 3.5 | E9: =B9-C9 -> 10.7 | F9: =(B9-C9)/B9 -> 0.38078292 | G9: =B9-D9 -> 24.6 | H9: =(B9-D9)/B9 -> 0.87544484 | I9: =RANK(H9,$H$2:$H$20,0) -> 3 | J9: https://www.knowbe4.com/hubfs/2024-Phishing-by-Industry-Benchmarking-Report-EN_US.pdf
A10: Government | B10: 27.9 | C10: 17.7 | D10: 4.4 | E10: =B10-C10 -> 10.2 | F10: =(B10-C10)/B10 -> 0.3655914 | G10: =B10-D10 -> 23.5 | H10: =(B10-D10)/B10 -> 0.84229391 | I10: =RANK(H10,$H$2:$H$20,0) -> 13 | J10: https://www.knowbe4.com/hubfs/2024-Phishing-by-Industry-Benchmarking-Report-EN_US.pdf
A11: Healthcare & Pharmaceuticals | B11: 34.7 | C11: 21.9 | D11: 5.4 | E11: =B11-C11 -> 12.8 | F11: =(B11-C11)/B11 -> 0.36887608 | G11: =B11-D11 -> 29.3 | H11: =(B11-D11)/B11 -> 0.8443804 | I11: =RANK(H11,$H$2:$H$20,0) -> 11 | J11: https://www.knowbe4.com/hubfs/2024-Phishing-by-Industry-Benchmarking-Report-EN_US.pdf
A12: Hospitality | B12: 31.2 | C12: 21.9 | D12: 4.2 | E12: =B12-C12 -> 9.3 | F12: =(B12-C12)/B12 -> 0.29807692 | G12: =B12-D12 -> 27 | H12: =(B12-D12)/B12 -> 0.86538462 | I12: =RANK(H12,$H$2:$H$20,0) -> 6 | J12: https://www.knowbe4.com/hubfs/2024-Phishing-by-Industry-Benchmarking-Report-EN_US.pdf
A13: Insurance | B13: 28.6 | C13: 20 | D13: 3.8 | E13: =B13-C13 -> 8.6 | F13: =(B13-C13)/B13 -> 0.3006993 | G13: =B13-D13 -> 24.8 | H13: =(B13-D13)/B13 -> 0.86713287 | I13: =RANK(H13,$H$2:$H$20,0) -> 5 | J13: https://www.knowbe4.com/hubfs/2024-Phishing-by-Industry-Benchmarking-Report-EN_US.pdf
A14: Legal | B14: 26.5 | C14: 18.8 | D14: 5.6 | E14: =B14-C14 -> 7.7 | F14: =(B14-C14)/B14 -> 0.29056604 | G14: =B14-D14 -> 20.9 | H14: =(B14-D14)/B14 -> 0.78867925 | I14: =RANK(H14,$H$2:$H$20,0) -> 19 | J14: https://www.knowbe4.com/hubfs/2024-Phishing-by-Industry-Benchmarking-Report-EN_US.pdf
... A20: Transportation | B20: 27 | C20: 21.1 | D20: 4.5 | E20: =B20-C20 -> 5.9 | F20: =(B20-C20)/B20 -> 0.21851852 | G20: =B20-D20 -> 22.5 | H20: =(B20-D20)/B20 -> 0.83333333 | I20: =RANK(H20,$H$2:$H$20,0) -> 15 | J20: https://www.knowbe4.com/hubfs/2024-Phishing-by-Industry-Benchmarking-Report-EN_US.pdf

Sheet KB4_Size_Benchmark
A1: Employee_Band | B1: Organisation_Count | C1: Baseline_PPP_pct | D1: PPP_90_Days_pct | E1: PPP_1_YearPlus_pct | F1: Abs_Reduction_90d_pp | G1: Relative_Reduction_90d | H1: Abs_Reduction_1yr_pp | I1: Relative_Reduction_1yr | J1: Source_URL
A2: 1-249 | B2: 42488 | C2: 28.7 | D2: 19.9 | E2: 4.3 | F2: =C2-D2 -> 8.8 | G2: =(C2-D2)/C2 -> 0.30662021 | H2: =C2-E2 -> 24.4 | I2: =(C2-E2)/C2 -> 0.85017422 | J2: https://www.knowbe4.com/hubfs/2024-Phishing-by-Industry-Benchmarking-Report-EN_US.pdf
A3: 250-999 | B3: 9934 | C3: 31.9 | D3: 20.1 | E3: 4.6 | F3: =C3-D3 -> 11.8 | G3: =(C3-D3)/C3 -> 0.36990596 | H3: =C3-E3 -> 27.3 | I3: =(C3-E3)/C3 -> 0.85579937 | J3: https://www.knowbe4.com/hubfs/2024-Phishing-by-Industry-Benchmarking-Report-EN_US.pdf
A4: 1000+ | B4: 3253 | C4: 37.5 | D4: 18 | E4: 4.9 | F4: =C4-D4 -> 19.5 | G4: =(C4-D4)/C4 -> 0.52 | H4: =C4-E4 -> 32.6 | I4: =(C4-E4)/C4 -> 0.86933333 | J4: https://www.knowbe4.com/hubfs/2024-Phishing-by-Industry-Benchmarking-Report-EN_US.pdf

Sheet KB4_Regional_SME
A1: Region | B1: Baseline_PPP_pct | C1: PPP_90_Days_pct | D1: PPP_1_YearPlus_pct | E1: Abs_Reduction_1yr_pp | F1: Relative_Reduction_1yr | G1: Source_URL | H1: Method_Note
A2: North America | B2: 29 | C2: 19.8 | D2: 4.3 | E2: =B2-D2 -> 24.7 | F2: =(B2-D2)/B2 -> 0.85172414 | G2: https://www.knowbe4.com/hubfs/2024-Phishing-by-Industry-Benchmarking-Report-EN_US.pdf | H2: International analysis uses a slightly different regional dataset from the industry analysis.
A3: Africa | B3: 29.7 | C3: 23.7 | D3: 3.6 | E3: =B3-D3 -> 26.1 | F3: =(B3-D3)/B3 -> 0.87878788 | G3: https://www.knowbe4.com/hubfs/2024-Phishing-by-Industry-Benchmarking-Report-EN_US.pdf | H3: International analysis uses a slightly different regional dataset from the industry analysis.
A4: Asia | B4: 31.5 | C4: 20.3 | D4: 5.4 | E4: =B4-D4 -> 26.1 | F4: =(B4-D4)/B4 -> 0.82857143 | G4: https://www.knowbe4.com/hubfs/2024-Phishing-by-Industry-Benchmarking-Report-EN_US.pdf | H4: International analysis uses a slightly different regional dataset from the industry analysis.
A5: Australia & New Zealand | B5: 27.8 | C5: 21.4 | D5: 4.9 | E5: =B5-D5 -> 22.9 | F5: =(B5-D5)/B5 -> 0.82374101 | G5: https://www.knowbe4.com/hubfs/2024-Phishing-by-Industry-Benchmarking-Report-EN_US.pdf | H5: International analysis uses a slightly different regional dataset from the industry analysis.
A6: Europe | B6: 26.5 | C6: 19.3 | D6: 4.1 | E6: =B6-D6 -> 22.4 | F6: =(B6-D6)/B6 -> 0.84528302 | G6: https://www.knowbe4.com/hubfs/2024-Phishing-by-Industry-Benchmarking-Report-EN_US.pdf | H6: International analysis uses a slightly different regional dataset from the industry analysis.
A7: South America | B7: 32.7 | C7: 24.4 | D7: 5.2 | E7: =B7-D7 -> 27.5 | F7: =(B7-D7)/B7 -> 0.84097859 | G7: https://www.knowbe4.com/hubfs/2024-Phishing-by-Industry-Benchmarking-Report-EN_US.pdf | H7: International analysis uses a slightly different regional dataset from the industry analysis.
A8: United Kingdom & Ireland | B8: 26.5 | C8: 20 | D8: 4.1 | E8: =B8-D8 -> 22.4 | F8: =(B8-D8)/B8 -> 0.84528302 | G8: https://www.knowbe4.com/hubfs/2024-Phishing-by-Industry-Benchmarking-Report-EN_US.pdf | H8: International analysis uses a slightly different regional dataset from the industry analysis.

Sheet CIRA_Benchmark
A1: Training_Stage | B1: Approx_Duration_Days | C1: Click_Rate_pct | D1: Abs_Reduction_vs_Baseline_pp | E1: Relative_Reduction_vs_Baseline | F1: Population_Scope | G1: Source_URL | H1: Notes
A2: Baseline / beginning of training | B2: 0 | C2: 8.2 | D2: =$C$2-C2 -> 0 | E2: =($C$2-C2)/$C$2 -> 0 | F2: 21,000+ users / 140+ organisations; click-rate benchmark not SME-stratified | G2: https://www.cira.ca/en/resources/documents/cybersecurity/phishing-and-cyber-training-canada-2021/ | H2: Click-rate section is reported using 2019-2021 data.
A3: After 90 days | B3: 90 | C3: 4.5 | D3: =$C$2-C3 -> 3.7 | E3: =($C$2-C3)/$C$2 -> 0.45121951 | F3: 21,000+ users / 140+ organisations; click-rate benchmark not SME-stratified | G3: https://www.cira.ca/en/resources/documents/cybersecurity/phishing-and-cyber-training-canada-2021/ | H3: Click-rate section is reported using 2019-2021 data.
A4: After one year | B4: 365 | C4: 3.3 | D4: =$C$2-C4 -> 4.9 | E4: =($C$2-C4)/$C$2 -> 0.59756098 | F4: 21,000+ users / 140+ organisations; click-rate benchmark not SME-stratified | G4: https://www.cira.ca/en/resources/documents/cybersecurity/phishing-and-cyber-training-canada-2021/ | H4: Click-rate section is reported using 2019-2021 data.

Sheet UK_SME_Context
A1: Indicator | B1: Business_Size | C1: Employee_Band | D1: Value_pct | E1: Survey_Base_n | F1: SME_or_Comparator | G1: Source_Location | H1: Source_URL | I1: Official_Data_Tables_URL | J1: Interpretation_Note
A2: Staff cyber training/awareness in last 12 months | B2: Micro | C2: 1-9 | D2: 14 | E2: 1154 | F2: SME | G2: Figure 3.7 | H2: https://www.gov.uk/government/statistics/cyber-security-breaches-survey-20252026/cyber-security-breaches-survey-20252026 | I2: https://assets.publishing.service.gov.uk/media/69f317b4ab602a88957eeeff/DSIT_Cyber_Security_Breaches_Survey_2025-2026_tables_.ods | J2: Contextual indicator only; not a causal pre/post training estimate.
A3: Staff cyber training/awareness in last 12 months | B3: Small | C3: 10-49 | D3: 33 | E3: 507 | F3: SME | G3: Figure 3.7 | H3: https://www.gov.uk/government/statistics/cyber-security-breaches-survey-20252026/cyber-security-breaches-survey-20252026 | I3: https://assets.publishing.service.gov.uk/media/69f317b4ab602a88957eeeff/DSIT_Cyber_Security_Breaches_Survey_2025-2026_tables_.ods | J3: Contextual indicator only; not a causal pre/post training estimate.
A4: Staff cyber training/awareness in last 12 months | B4: Medium | C4: 50-249 | D4: 54 | E4: 296 | F4: SME | G4: Figure 3.7 | H4: https://www.gov.uk/government/statistics/cyber-security-breaches-survey-20252026/cyber-security-breaches-survey-20252026 | I4: https://assets.publishing.service.gov.uk/media/69f317b4ab602a88957eeeff/DSIT_Cyber_Security_Breaches_Survey_2025-2026_tables_.ods | J4: Contextual indicator only; not a causal pre/post training estimate.
A5: Staff cyber training/awareness in last 12 months | B5: Large | C5: 250+ | D5: 84 | E5: 155 | F5: Comparator | G5: Figure 3.7 | H5: https://www.gov.uk/government/statistics/cyber-security-breaches-survey-20252026/cyber-security-breaches-survey-20252026 | I5: https://assets.publishing.service.gov.uk/media/69f317b4ab602a88957eeeff/DSIT_Cyber_Security_Breaches_Survey_2025-2026_tables_.ods | J5: Contextual indicator only; not a causal pre/post training estimate.
A6: Any cyber security breach/attack in last 12 months | B6: Micro | C6: 1-9 | D6: 42 | E6: 1154 | F6: SME | G6: Figure 4.1 / report text | H6: https://www.gov.uk/government/statistics/cyber-security-breaches-survey-20252026/cyber-security-breaches-survey-20252026 | I6: https://assets.publishing.service.gov.uk/media/69f317b4ab602a88957eeeff/DSIT_Cyber_Security_Breaches_Survey_2025-2026_tables_.ods | J6: Contextual indicator only; not a causal pre/post training estimate.
A7: Any cyber security breach/attack in last 12 months | B7: Small | C7: 10-49 | D7: 46 | E7: 507 | F7: SME | G7: Figure 4.1 / report text | H7: https://www.gov.uk/government/statistics/cyber-security-breaches-survey-20252026/cyber-security-breaches-survey-20252026 | I7: https://assets.publishing.service.gov.uk/media/69f317b4ab602a88957eeeff/DSIT_Cyber_Security_Breaches_Survey_2025-2026_tables_.ods | J7: Contextual indicator only; not a causal pre/post training estimate.
A8: Any cyber security breach/attack in last 12 months | B8: Medium | C8: 50-249 | D8: 65 | E8: 296 | F8: SME | G8: Figure 4.1 / report text | H8: https://www.gov.uk/government/statistics/cyber-security-breaches-survey-20252026/cyber-security-breaches-survey-20252026 | I8: https://assets.publishing.service.gov.uk/media/69f317b4ab602a88957eeeff/DSIT_Cyber_Security_Breaches_Survey_2025-2026_tables_.ods | J8: Contextual indicator only; not a causal pre/post training estimate.
A9: Any cyber security breach/attack in last 12 months | B9: Large | C9: 250+ | D9: 69 | E9: 155 | F9: Comparator | G9: Figure 4.1 / report text | H9: https://www.gov.uk/government/statistics/cyber-security-breaches-survey-20252026/cyber-security-breaches-survey-20252026 | I9: https://assets.publishing.service.gov.uk/media/69f317b4ab602a88957eeeff/DSIT_Cyber_Security_Breaches_Survey_2025-2026_tables_.ods | J9: Contextual indicator only; not a causal pre/post training estimate.
A10: Experienced phishing attack in last 12 months | B10: Businesses overall | C10: All business sizes | D10: 38 | E10: 2112 | F10: Overall | G10: Figure 4.4 | H10: https://www.gov.uk/government/statistics/cyber-security-breaches-survey-20252026/cyber-security-breaches-survey-20252026 | I10: https://assets.publishing.service.gov.uk/media/69f317b4ab602a88957eeeff/DSIT_Cyber_Security_Breaches_Survey_2025-2026_tables_.ods | J10: Contextual indicator only; not a causal pre/post training estimate.
A11: Experienced phishing attack in last 12 months | B11: Small | C11: 10-49 | D11: 40 | E11: 507 | F11: SME | G11: Trend text; exact micro value not stated in HTML narrative | H11: https://www.gov.uk/government/statistics/cyber-security-breaches-survey-20252026/cyber-security-breaches-survey-20252026 | I11: https://assets.publishing.service.gov.uk/media/69f317b4ab602a88957eeeff/DSIT_Cyber_Security_Breaches_Survey_2025-2026_tables_.ods | J11: Contextual indicator only; not a causal pre/post training estimate.
A12: Experienced phishing attack in last 12 months | B12: Medium | C12: 50-249 | D12: 60 | E12: 296 | F12: SME | G12: Figure 4.4 discussion | H12: https://www.gov.uk/government/statistics/cyber-security-breaches-survey-20252026/cyber-security-breaches-survey-20252026 | I12: https://assets.publishing.service.gov.uk/media/69f317b4ab602a88957eeeff/DSIT_Cyber_Security_Breaches_Survey_2025-2026_tables_.ods | J12: Contextual indicator only; not a causal pre/post training estimate.
A13: Experienced phishing attack in last 12 months | B13: Large | C13: 250+ | D13: 63 | E13: 155 | F13: Comparator | G13: Figure 4.4 discussion | H13: https://www.gov.uk/government/statistics/cyber-security-breaches-survey-20252026/cyber-security-breaches-survey-20252026 | I13: https://assets.publishing.service.gov.uk/media/69f317b4ab602a88957eeeff/DSIT_Cyber_Security_Breaches_Survey_2025-2026_tables_.ods | J13: Contextual indicator only; not a causal pre/post training estimate.
... A17: Experienced cyber crime in last 12 months | B17: Large | C17: 250+ | D17: 48 | E17: 155 | F17: Comparator | G17: Chapter 6 key takeaways | H17: https://www.gov.uk/government/statistics/cyber-security-breaches-survey-20252026/cyber-security-breaches-survey-20252026 | I17: https://assets.publishing.service.gov.uk/media/69f317b4ab602a88957eeeff/DSIT_Cyber_Security_Breaches_Survey_2025-2026_tables_.ods | J17: Contextual indicator only; not a causal pre/post training estimate.

Sheet Analysis_Summary
A1: Analysis Summary — Ready for Dissertation Results Chapter
A3: Primary SME benchmark | B3: Baseline | C3: ~90 days | D3: 1 year+ | F3: Derived effect | G3: KnowBe4 SME | H3: CIRA
A4: KnowBe4 — 1-249 employees | B4: 28.7 | C4: 19.9 | D4: 4.3 | F4: 90-day absolute reduction (pp) | G4: =B4-C4 -> 8.8 | H4: =B7-C7 -> 3.7
F5: 90-day relative reduction | G5: =(B4-C4)/B4 -> 0.30662021 | H5: =(B7-C7)/B7 -> 0.45121951
A6: Supplementary benchmark | B6: Baseline | C6: ~90 days | D6: 1 year | F6: 1-year absolute reduction (pp) | G6: =B4-D4 -> 24.4 | H6: =B7-D7 -> 4.9
A7: CIRA — mixed organisation sizes | B7: 8.2 | C7: 4.5 | D7: 3.3 | F7: 1-year relative reduction | G7: =(B4-D4)/B4 -> 0.85017422 | H7: =(B7-D7)/B7 -> 0.59756098
A10: UK business size | B10: Training / awareness | C10: Any breach / attack | D10: Cyber crime
A11: Micro (1-9) | B11: 14 | C11: 42 | D11: 17
A12: Small (10-49) | B12: 33 | C12: 46 | D12: 24
A13: Medium (50-249) | B13: 54 | C13: 65 | D13: 41
A14: Large (250+) | B14: 84 | C14: 69 | D14: 48

Sheet Ch4_Dashboard
A1: Chapter 4 — Results & Analysis Dashboard
A3: Primary SME benchmark (KnowBe4 1–249 employees) | F3: 90-day change | J3: 1-year+ change | N3: Industry consistency
A4: Baseline PPP | B4: ~90 days PPP | C4: 1 year+ PPP | D4: Organisation count | F4: Absolute reduction | G4: Relative reduction | H4: Direction | J4: Absolute reduction | K4: Relative reduction | L4: Direction | N4: Industries lower at 90d | O4: Industries lower at 1yr+ | P4: Share lower at 1yr+
A5: =KB4_Size_Benchmark!C2 -> 28.7 | B5: =KB4_Size_Benchmark!D2 -> 19.9 | C5: =KB4_Size_Benchmark!E2 -> 4.3 | D5: =KB4_Size_Benchmark!B2 -> 42488 | F5: =KB4_Size_Benchmark!F2 -> 8.8 | G5: =KB4_Size_Benchmark!G2 -> 0.30662021 | H5: Lower susceptibility | J5: =KB4_Size_Benchmark!H2 -> 24.4 | K5: =KB4_Size_Benchmark!I2 -> 0.85017422 | L5: Lower susceptibility | N5: =COUNTIF(KB4_SME_Industry!E2:E20,">0") -> 19 | O5: =COUNTIF(KB4_SME_Industry!G2:G20,">0") -> 19 | P5: =O5/COUNTA(KB4_SME_Industry!A2:A20) -> 1
A8: Stage | B8: Baseline | C8: ~90 days | D8: 1 year+ | F8: Normalised benchmark | G8: Baseline | H8: ~90 days | I8: 1 year+ | K8: Finding | L8: Primary result | M8: Interpretation | N8: Evidence role | O8: Caution | P8: Chapter 4 use
A9: KnowBe4 SME | B9: =KB4_Size_Benchmark!C2 -> 28.7 | C9: =KB4_Size_Benchmark!D2 -> 19.9 | D9: =KB4_Size_Benchmark!E2 -> 4.3 | F9: KnowBe4 SME | G9: =100 -> 100 | H9: =KB4_Size_Benchmark!D2/KB4_Size_Benchmark!C2*100 -> 69.337979 | I9: =KB4_Size_Benchmark!E2/KB4_Size_Benchmark!C2*100 -> 14.982578 | K9: Primary SME trend | L9: 28.7% → 19.9% → 4.3% | M9: Lower at both post-training stages | N9: Primary | O9: No causal inference | P9: 4.2
F10: CIRA | G10: =100 -> 100 | H10: =CIRA_Benchmark!C3/CIRA_Benchmark!C2*100 -> 54.878049 | I10: =CIRA_Benchmark!C4/CIRA_Benchmark!C2*100 -> 40.243902 | K10: Industry consistency | L10: 19/19 industries | M10: All lower at one year+ | N10: Primary subgroup | O10: Unweighted industry strata | P10: 4.3
K11: Size comparison | L11: 1–249: 28.7% → 4.3% | M11: All size bands decline | N11: Supplementary | O11: Size is not a causal factor | P11: 4.4
K12: CIRA triangulation | L12: 8.2% → 3.3% | M12: Same downward direction | N12: Triangulation | O12: Different metric/population | P12: 4.5
K13: UK SME context | L13: Training: 14%, 33%, 54% | M13: Strong size gradient | N13: Context | O13: Not a pre/post test | P13: 4.6

Sheet Ch4_Industry
A1: Chapter 4.3 — KnowBe4 SME Industry Analysis (1–249 employees)
A3: Descriptive statistic | B3: Baseline PPP | C3: ~90 days PPP | D3: 1 year+ PPP | F3: Effect statistic | G3: 90-day effect | H3: 1-year+ effect | I3: Interpretation | L3: Key industry result | M3: Industry | N3: Value
A4: N industries | B4: =COUNT(KB4_SME_Industry!B2:B20) -> 19 | C4: =COUNT(KB4_SME_Industry!C2:C20) -> 19 | D4: =COUNT(KB4_SME_Industry!D2:D20) -> 19 | F4: Mean absolute reduction | G4: =AVERAGE(KB4_SME_Industry!E2:E20) -> 8.9473684 | H4: =AVERAGE(KB4_SME_Industry!G2:G20) -> 24.468421 | I4: Average decline in percentage points | L4: Highest baseline PPP | M4: Healthcare & Pharmaceuticals | N4: =MAX(B14:B32) -> 34.7
A5: Mean | B5: =AVERAGE(KB4_SME_Industry!B2:B20) -> 28.815789 | C5: =AVERAGE(KB4_SME_Industry!C2:C20) -> 19.868421 | D5: =AVERAGE(KB4_SME_Industry!D2:D20) -> 4.3473684 | F5: Mean relative reduction | G5: =AVERAGE(KB4_SME_Industry!F2:F20) -> 0.30808383 | H5: =AVERAGE(KB4_SME_Industry!H2:H20) -> 0.84856692 | I5: Average decline relative to baseline | L5: Lowest baseline PPP | M5: Technology | N5: =MIN(B14:B32) -> 26.1
A6: Median | B6: =MEDIAN(KB4_SME_Industry!B2:B20) -> 28.4 | C6: =MEDIAN(KB4_SME_Industry!C2:C20) -> 20.5 | D6: =MEDIAN(KB4_SME_Industry!D2:D20) -> 4.2 | F6: Median relative reduction | G6: =MEDIAN(KB4_SME_Industry!F2:F20) -> 0.29749104 | H6: =MEDIAN(KB4_SME_Industry!H2:H20) -> 0.84690554 | I6: Typical industry relative decline | L6: Largest 1yr absolute reduction | M6: Healthcare & Pharmaceuticals | N6: =MAX(G14:G32) -> 29.3
A7: Standard deviation | B7: =_xludf.STDEV.S(KB4_SME_Industry!B2:B20) -> #NAME? | C7: =_xludf.STDEV.S(KB4_SME_Industry!C2:C20) -> #NAME? | D7: =_xludf.STDEV.S(KB4_SME_Industry!D2:D20) -> #NAME? | F7: Minimum relative reduction | G7: =MIN(KB4_SME_Industry!F2:F20) -> 0.19157088 | H7: =MIN(KB4_SME_Industry!H2:H20) -> 0.78867925 | I7: Smallest observed proportional decline | L7: Smallest 1yr absolute reduction | M7: Legal | N7: =MIN(G14:G32) -> 20.9
A8: Minimum | B8: =MIN(KB4_SME_Industry!B2:B20) -> 26.1 | C8: =MIN(KB4_SME_Industry!C2:C20) -> 13.9 | D8: =MIN(KB4_SME_Industry!D2:D20) -> 2.5 | F8: Maximum relative reduction | G8: =MAX(KB4_SME_Industry!F2:F20) -> 0.5 | H8: =MAX(KB4_SME_Industry!H2:H20) -> 0.91007194 | I8: Largest observed proportional decline | L8: Largest 1yr relative reduction | M8: Banking | N8: =MAX(H14:H32) -> 0.91007194
A9: Maximum | B9: =MAX(KB4_SME_Industry!B2:B20) -> 34.7 | C9: =MAX(KB4_SME_Industry!C2:C20) -> 23.1 | D9: =MAX(KB4_SME_Industry!D2:D20) -> 5.6 | F9: Industries showing reduction | G9: =COUNTIF(KB4_SME_Industry!E2:E20,">0") -> 19 | H9: =COUNTIF(KB4_SME_Industry!G2:G20,">0") -> 19 | I9: Count with lower post-training PPP | L9: Smallest 1yr relative reduction | M9: Legal | N9: =MIN(H14:H32) -> 0.78867925
A10: Range | B10: =B9-B8 -> 8.6 | C10: =C9-C8 -> 9.2 | D10: =D9-D8 -> 3.1 | F10: Share showing reduction | G10: =G9/COUNTA(KB4_SME_Industry!A2:A20) -> 1 | H10: =H9/COUNTA(KB4_SME_Industry!A2:A20) -> 1 | I10: Proportion of industries with lower PPP | L10: Highest 1yr+ PPP | M10: Legal / Not-For-Profit | N10: =MAX(D14:D32) -> 5.6
L11: Lowest 1yr+ PPP | M11: Banking | N11: =MIN(D14:D32) -> 2.5
A13: Industry | B13: Baseline PPP | C13: ~90 days PPP | D13: 1 year+ PPP | E13: 90d abs ↓ (pp) | F13: 90d rel ↓ | G13: 1yr abs ↓ (pp) | H13: 1yr rel ↓ | I13: 1yr rank | J13: Baseline-to-1yr status
A14: =KB4_SME_Industry!A2 -> Banking | B14: =KB4_SME_Industry!B2 -> 27.8 | C14: =KB4_SME_Industry!C2 -> 13.9 | D14: =KB4_SME_Industry!D2 -> 2.5 | E14: =B14-C14 -> 13.9 | F14: =E14/B14 -> 0.5 | G14: =B14-D14 -> 25.3 | H14: =G14/B14 -> 0.91007194 | I14: =RANK(H14,$H$14:$H$32,0) -> 1 | J14: =IF(D14<B14,"Lower","Not lower") -> Lower
A15: =KB4_SME_Industry!A3 -> Business Services | B15: =KB4_SME_Industry!B3 -> 26.7 | C15: =KB4_SME_Industry!C3 -> 20.8 | D15: =KB4_SME_Industry!D3 -> 5.3 | E15: =B15-C15 -> 5.9 | F15: =E15/B15 -> 0.22097378 | G15: =B15-D15 -> 21.4 | H15: =G15/B15 -> 0.80149813 | I15: =RANK(H15,$H$14:$H$32,0) -> 18 | J15: =IF(D15<B15,"Lower","Not lower") -> Lower
A16: =KB4_SME_Industry!A4 -> Construction | B16: =KB4_SME_Industry!B4 -> 28.8 | C16: =KB4_SME_Industry!C4 -> 20.8 | D16: =KB4_SME_Industry!D4 -> 4 | E16: =B16-C16 -> 8 | F16: =E16/B16 -> 0.27777778 | G16: =B16-D16 -> 24.8 | H16: =G16/B16 -> 0.86111111 | I16: =RANK(H16,$H$14:$H$32,0) -> 7 | J16: =IF(D16<B16,"Lower","Not lower") -> Lower
A17: =KB4_SME_Industry!A5 -> Consulting | B17: =KB4_SME_Industry!B5 -> 28.4 | C17: =KB4_SME_Industry!C5 -> 20 | D17: =KB4_SME_Industry!D5 -> 4 | E17: =B17-C17 -> 8.4 | F17: =E17/B17 -> 0.29577465 | G17: =B17-D17 -> 24.4 | H17: =G17/B17 -> 0.85915493 | I17: =RANK(H17,$H$14:$H$32,0) -> 8 | J17: =IF(D17<B17,"Lower","Not lower") -> Lower
A18: =KB4_SME_Industry!A6 -> Consumer Services | B18: =KB4_SME_Industry!B6 -> 28.8 | C18: =KB4_SME_Industry!C6 -> 20.5 | D18: =KB4_SME_Industry!D6 -> 5 | E18: =B18-C18 -> 8.3 | F18: =E18/B18 -> 0.28819444 | G18: =B18-D18 -> 23.8 | H18: =G18/B18 -> 0.82638889 | I18: =RANK(H18,$H$14:$H$32,0) -> 16 | J18: =IF(D18<B18,"Lower","Not lower") -> Lower
A19: =KB4_SME_Industry!A7 -> Education | B19: =KB4_SME_Industry!B7 -> 32.4 | C19: =KB4_SME_Industry!C7 -> 19 | D19: =KB4_SME_Industry!D7 -> 3.9 | E19: =B19-C19 -> 13.4 | F19: =E19/B19 -> 0.41358025 | G19: =B19-D19 -> 28.5 | H19: =G19/B19 -> 0.87962963 | I19: =RANK(H19,$H$14:$H$32,0) -> 2 | J19: =IF(D19<B19,"Lower","Not lower") -> Lower
A20: =KB4_SME_Industry!A8 -> Energy & Utilities | B20: =KB4_SME_Industry!B8 -> 29.3 | C20: =KB4_SME_Industry!C8 -> 18.7 | D20: =KB4_SME_Industry!D8 -> 3.7 | E20: =B20-C20 -> 10.6 | F20: =E20/B20 -> 0.36177474 | G20: =B20-D20 -> 25.6 | H20: =G20/B20 -> 0.87372014 | I20: =RANK(H20,$H$14:$H$32,0) -> 4 | J20: =IF(D20<B20,"Lower","Not lower") -> Lower
A21: =KB4_SME_Industry!A9 -> Financial Services | B21: =KB4_SME_Industry!B9 -> 28.1 | C21: =KB4_SME_Industry!C9 -> 17.4 | D21: =KB4_SME_Industry!D9 -> 3.5 | E21: =B21-C21 -> 10.7 | F21: =E21/B21 -> 0.38078292 | G21: =B21-D21 -> 24.6 | H21: =G21/B21 -> 0.87544484 | I21: =RANK(H21,$H$14:$H$32,0) -> 3 | J21: =IF(D21<B21,"Lower","Not lower") -> Lower
A22: =KB4_SME_Industry!A10 -> Government | B22: =KB4_SME_Industry!B10 -> 27.9 | C22: =KB4_SME_Industry!C10 -> 17.7 | D22: =KB4_SME_Industry!D10 -> 4.4 | E22: =B22-C22 -> 10.2 | F22: =E22/B22 -> 0.3655914 | G22: =B22-D22 -> 23.5 | H22: =G22/B22 -> 0.84229391 | I22: =RANK(H22,$H$14:$H$32,0) -> 13 | J22: =IF(D22<B22,"Lower","Not lower") -> Lower
A23: =KB4_SME_Industry!A11 -> Healthcare & Pharmaceuticals | B23: =KB4_SME_Industry!B11 -> 34.7 | C23: =KB4_SME_Industry!C11 -> 21.9 | D23: =KB4_SME_Industry!D11 -> 5.4 | E23: =B23-C23 -> 12.8 | F23: =E23/B23 -> 0.36887608 | G23: =B23-D23 -> 29.3 | H23: =G23/B23 -> 0.8443804 | I23: =RANK(H23,$H$14:$H$32,0) -> 11 | J23: =IF(D23<B23,"Lower","Not lower") -> Lower
A24: =KB4_SME_Industry!A12 -> Hospitality | B24: =KB4_SME_Industry!B12 -> 31.2 | C24: =KB4_SME_Industry!C12 -> 21.9 | D24: =KB4_SME_Industry!D12 -> 4.2 | E24: =B24-C24 -> 9.3 | F24: =E24/B24 -> 0.29807692 | G24: =B24-D24 -> 27 | H24: =G24/B24 -> 0.86538462 | I24: =RANK(H24,$H$14:$H$32,0) -> 6 | J24: =IF(D24<B24,"Lower","Not lower") -> Lower
A25: =KB4_SME_Industry!A13 -> Insurance | B25: =KB4_SME_Industry!B13 -> 28.6 | C25: =KB4_SME_Industry!C13 -> 20 | D25: =KB4_SME_Industry!D13 -> 3.8 | E25: =B25-C25 -> 8.6 | F25: =E25/B25 -> 0.3006993 | G25: =B25-D25 -> 24.8 | H25: =G25/B25 -> 0.86713287 | I25: =RANK(H25,$H$14:$H$32,0) -> 5 | J25: =IF(D25<B25,"Lower","Not lower") -> Lower
... A32: =KB4_SME_Industry!A20 -> Transportation | B32: =KB4_SME_Industry!B20 -> 27 | C32: =KB4_SME_Industry!C20 -> 21.1 | D32: =KB4_SME_Industry!D20 -> 4.5 | E32: =B32-C32 -> 5.9 | F32: =E32/B32 -> 0.21851852 | G32: =B32-D32 -> 22.5 | H32: =G32/B32 -> 0.83333333 | I32: =RANK(H32,$H$14:$H$32,0) -> 15 | J32: =IF(D32<B32,"Lower","Not lower") -> Lower

Sheet Ch4_Size_Region
A1: Chapter 4.4 — Organisation-Size and Regional Comparisons
A3: Employee band | B3: Organisations | C3: Baseline PPP | D3: ~90d PPP | E3: 1yr+ PPP | F3: 90d abs ↓ | G3: 90d rel ↓ | H3: 1yr abs ↓ | I3: 1yr rel ↓
A4: =KB4_Size_Benchmark!A2 -> 1-249 | B4: =KB4_Size_Benchmark!B2 -> 42488 | C4: =KB4_Size_Benchmark!C2 -> 28.7 | D4: =KB4_Size_Benchmark!D2 -> 19.9 | E4: =KB4_Size_Benchmark!E2 -> 4.3 | F4: =KB4_Size_Benchmark!F2 -> 8.8 | G4: =KB4_Size_Benchmark!G2 -> 0.30662021 | H4: =KB4_Size_Benchmark!H2 -> 24.4 | I4: =KB4_Size_Benchmark!I2 -> 0.85017422
A5: =KB4_Size_Benchmark!A3 -> 250-999 | B5: =KB4_Size_Benchmark!B3 -> 9934 | C5: =KB4_Size_Benchmark!C3 -> 31.9 | D5: =KB4_Size_Benchmark!D3 -> 20.1 | E5: =KB4_Size_Benchmark!E3 -> 4.6 | F5: =KB4_Size_Benchmark!F3 -> 11.8 | G5: =KB4_Size_Benchmark!G3 -> 0.36990596 | H5: =KB4_Size_Benchmark!H3 -> 27.3 | I5: =KB4_Size_Benchmark!I3 -> 0.85579937
A6: =KB4_Size_Benchmark!A4 -> 1000+ | B6: =KB4_Size_Benchmark!B4 -> 3253 | C6: =KB4_Size_Benchmark!C4 -> 37.5 | D6: =KB4_Size_Benchmark!D4 -> 18 | E6: =KB4_Size_Benchmark!E4 -> 4.9 | F6: =KB4_Size_Benchmark!F4 -> 19.5 | G6: =KB4_Size_Benchmark!G4 -> 0.52 | H6: =KB4_Size_Benchmark!H4 -> 32.6 | I6: =KB4_Size_Benchmark!I4 -> 0.86933333
A10: Region | B10: Baseline PPP | C10: ~90d PPP | D10: 1yr+ PPP | E10: 1yr abs ↓ (pp) | F10: 1yr rel ↓ | H10: Regional statistic | I10: Baseline | J10: ~90d | K10: 1yr+
A11: =KB4_Regional_SME!A2 -> North America | B11: =KB4_Regional_SME!B2 -> 29 | C11: =KB4_Regional_SME!C2 -> 19.8 | D11: =KB4_Regional_SME!D2 -> 4.3 | E11: =KB4_Regional_SME!E2 -> 24.7 | F11: =KB4_Regional_SME!F2 -> 0.85172414 | H11: Mean | I11: =AVERAGE(KB4_Regional_SME!B2:B8) -> 29.1 | J11: =AVERAGE(KB4_Regional_SME!C2:C8) -> 21.271429 | K11: =AVERAGE(KB4_Regional_SME!D2:D8) -> 4.5142857
A12: =KB4_Regional_SME!A3 -> Africa | B12: =KB4_Regional_SME!B3 -> 29.7 | C12: =KB4_Regional_SME!C3 -> 23.7 | D12: =KB4_Regional_SME!D3 -> 3.6 | E12: =KB4_Regional_SME!E3 -> 26.1 | F12: =KB4_Regional_SME!F3 -> 0.87878788 | H12: Median | I12: =MEDIAN(KB4_Regional_SME!B2:B8) -> 29 | J12: =MEDIAN(KB4_Regional_SME!C2:C8) -> 20.3 | K12: =MEDIAN(KB4_Regional_SME!D2:D8) -> 4.3
A13: =KB4_Regional_SME!A4 -> Asia | B13: =KB4_Regional_SME!B4 -> 31.5 | C13: =KB4_Regional_SME!C4 -> 20.3 | D13: =KB4_Regional_SME!D4 -> 5.4 | E13: =KB4_Regional_SME!E4 -> 26.1 | F13: =KB4_Regional_SME!F4 -> 0.82857143 | H13: SD | I13: =_xludf.STDEV.S(KB4_Regional_SME!B2:B8) -> #NAME? | J13: =_xludf.STDEV.S(KB4_Regional_SME!C2:C8) -> #NAME? | K13: =_xludf.STDEV.S(KB4_Regional_SME!D2:D8) -> #NAME?
A14: =KB4_Regional_SME!A5 -> Australia & New Zealand | B14: =KB4_Regional_SME!B5 -> 27.8 | C14: =KB4_Regional_SME!C5 -> 21.4 | D14: =KB4_Regional_SME!D5 -> 4.9 | E14: =KB4_Regional_SME!E5 -> 22.9 | F14: =KB4_Regional_SME!F5 -> 0.82374101 | H14: Minimum | I14: =MIN(KB4_Regional_SME!B2:B8) -> 26.5 | J14: =MIN(KB4_Regional_SME!C2:C8) -> 19.3 | K14: =MIN(KB4_Regional_SME!D2:D8) -> 3.6
A15: =KB4_Regional_SME!A6 -> Europe | B15: =KB4_Regional_SME!B6 -> 26.5 | C15: =KB4_Regional_SME!C6 -> 19.3 | D15: =KB4_Regional_SME!D6 -> 4.1 | E15: =KB4_Regional_SME!E6 -> 22.4 | F15: =KB4_Regional_SME!F6 -> 0.84528302 | H15: Maximum | I15: =MAX(KB4_Regional_SME!B2:B8) -> 32.7 | J15: =MAX(KB4_Regional_SME!C2:C8) -> 24.4 | K15: =MAX(KB4_Regional_SME!D2:D8) -> 5.4
A16: =KB4_Regional_SME!A7 -> South America | B16: =KB4_Regional_SME!B7 -> 32.7 | C16: =KB4_Regional_SME!C7 -> 24.4 | D16: =KB4_Regional_SME!D7 -> 5.2 | E16: =KB4_Regional_SME!E7 -> 27.5 | F16: =KB4_Regional_SME!F7 -> 0.84097859 | H16: Range | I16: =I15-I14 -> 6.2 | J16: =J15-J14 -> 5.1 | K16: =K15-K14 -> 1.8
A17: =KB4_Regional_SME!A8 -> United Kingdom & Ireland | B17: =KB4_Regional_SME!B8 -> 26.5 | C17: =KB4_Regional_SME!C8 -> 20 | D17: =KB4_Regional_SME!D8 -> 4.1 | E17: =KB4_Regional_SME!E8 -> 22.4 | F17: =KB4_Regional_SME!F8 -> 0.84528302

Sheet Ch4_Triangulation
A1: Chapter 4.5–4.6 — Cross-Source Triangulation and UK SME Context
A3: Stage | B3: KnowBe4 SME PPP | C3: KnowBe4 index | D3: CIRA click rate | E3: CIRA index | F3: Analytical role | H3: Effect measure | I3: KnowBe4 SME | J3: CIRA | K3: Cross-source interpretation
A4: Baseline | B4: =KB4_Size_Benchmark!C2 -> 28.7 | C4: =100 -> 100 | D4: =CIRA_Benchmark!C2 -> 8.2 | E4: =100 -> 100 | F4: Reference | H4: 90-day absolute reduction | I4: =KB4_Size_Benchmark!F2 -> 8.8 | J4: =CIRA_Benchmark!D3 -> 3.7 | K4: Both sources decline
A5: ~90 days | B5: =KB4_Size_Benchmark!D2 -> 19.9 | C5: =B5/B4*100 -> 69.337979 | D5: =CIRA_Benchmark!C3 -> 4.5 | E5: =D5/D4*100 -> 54.878049 | F5: Short-term comparison | H5: 90-day relative reduction | I5: =KB4_Size_Benchmark!G2 -> 0.30662021 | J5: =CIRA_Benchmark!E3 -> 0.45121951 | K5: Both sources decline
A6: 1 year+ | B6: =KB4_Size_Benchmark!E2 -> 4.3 | C6: =B6/B4*100 -> 14.982578 | D6: =CIRA_Benchmark!C4 -> 3.3 | E6: =D6/D4*100 -> 40.243902 | F6: Longer-term comparison | H6: 1-year absolute reduction | I6: =KB4_Size_Benchmark!H2 -> 24.4 | J6: =CIRA_Benchmark!D4 -> 4.9 | K6: Both sources decline
H7: 1-year relative reduction | I7: =KB4_Size_Benchmark!I2 -> 0.85017422 | J7: =CIRA_Benchmark!E4 -> 0.59756098 | K7: Both sources decline
A10: Business size | B10: Training / awareness | C10: Any breach / attack | D10: Phishing attack | E10: Cyber crime
A11: Micro (1–9) | B11: 14 | C11: 42 | D11: n/a | E11: 17
A12: Small (10–49) | B12: 33 | C12: 46 | D12: 40 | E12: 24
A13: Medium (50–249) | B13: 54 | C13: 65 | D13: 60 | E13: 41
A14: Large (250+) | B14: 84 | C14: 69 | D14: 63 | E14: 48

Sheet Ch4_Tables
A1: Chapter 4 — Copy-Ready Results Tables
A3: Table 4.1. Secondary evidence used in the analysis
