Workbook
Name independent: '4_Independent exercise preferen'!$I$5:$K$9
Name maindata: 'Data-transposed view'!$B$2:$BH$22
Name NamedRange1: 'Data-transposed view'!$K:$P

Sheet Data-transposed view
B1: Name | C1: Age | D1: Data collection recording video | E1: Transcript | F1: Questions | G1: Profile | H1: Well-being check | I1: Have you ever heard SOVT terminology | J1: Lip - trill | K1: Familiarity | L1: past experience, how frequent | M1: Observation notes | N1: More notes | O1: Participants' impression about this exercise | Q1: Tongue Tr | R1: Familiarity | S1: past experience, how frequent | T1: Observation notes | U1: More notes | V1: Participants' impression about this exercise | X1: Blowfish | Y1: Familiarity | Z1: past experience, how frequent | AA1: Observation notes | AB1: More notes | AC1: Participants' impression about this exercise | AE1: Straw | AF1: Familiarity | AG1: past experience, how frequent | AH1: Observation notes | AI1: More notes | AJ1: Participants' impression about this exercise | AL1: WRT | AM1: Familiarity | AN1: past experience, how frequent | AO1: Observation notes | AP1: More notes | AQ1: Participants' impression about this exercise | AS1: Rating | AT1: Liptrill | AU1: Tongue Trill | AV1: Blowfish | AW1: Straw Phonation | AX1: Water Resistance | AY1: Observation pre intervention | AZ1: Observation post intervention | BA1: Before & After impressions/ participants' perception/perspective | BB1: other notes | BC1: Would you do SOVT exercises on your own time without supervision | BD1: if you "really have to do this exercise" (homework, being graded, etc) which one would you do it? | BE1: Why? | BF1: General comments for all | BG1: - it is not always easy to get them to talk and express their thoughts
A2: 1 | B2: Andrew | C2: 12 | D2: https://youtu.be/gCShKLJUtdg | E2: https://docs.google.com/document/d/1dcqymdw97nMz48iYwtX66uHKX5JTVHbk/edit?usp=sharing&ouid=116131472194050259597&rtpof=true&sd=true | G2: Andrew sings regularly in private lessons and in children's choir | H2: good, as usual, just coming back from a singing lesson. | I2: no | J2: Lip - trill | K2: Yes | L2: rarely | M2: Andrew having difficulties in doing this exercise (a non-liptriller), I had to help him/teach him how to do it. He managed to do it with help of two fingers. After few attempts, as he seemed to began frustrated, we stop the liptrill and move to the next part (tongue trill) | O2: hard, difficult | P2: because it is supper hard | Q2: Tongue - trill | R2: Yes | S2: wasn't asked | T2: participant is able to do this task fluently. | V2: easy, at the first time, it used to be ticklish, but this time since he already used to it, he feels no more tickles | X2: Blowfish | Y2: Yes | Z2: in serunai, long time ago | AA2: Participants having difficult times to make her check puffy on this exercises, after several attempts he finally able to do it right | AC2: tingles on the top part of the top mouth (between nose and mouth) the top scale is hard, the bottom range was easy | AE2: Straw phonation | AF2: No | AG2: wasn't asked | AH2: participant able to do this task fluently. no tensions occurs | AJ2: calm, hard to hold the straw stable. it feels mumbling, the whole mouth feels a bit ticklish | AL2: Water Resistance | AM2: No | AN2: wasn't asked | AO2: no problems occurs | AQ2: my voice feels trembling / shaking/vibrating, | AR2: because it is easy and it is also fun | AS2: Favoritism Rating | AT2: 5 | AU2: 2 | AV2: 4 | AW2: 3 | AX2: 1 | AZ2: his voice perceived stronger | BA2: there's a difference, I feel a bit easier to reach higher notes | BC2: yes | BD2: Tongue trill | BE2: because it is the easiest
A3: 2 | B3: Kamini | C3: 10 | D3: https://youtu.be/5cmMSwLzjuQ | E3: https://docs.google.com/document/d/1i4btNHm2mnswK708Nougi2wFPlcRL6p-/edit?usp=sharing&ouid=116131472194050259597&rtpof=true&sd=true | G3: Kamini is my private students, she sings regualry on weekly basis in private lessons and one in choir rehearsal | H3: participant feels okay | I3: no | K3: Yes | L3: yes once a week in singing lesson | M3: Participant able to do the task fluently without alarming tensions or other problems | O3: kind of hard to switch to headvoice. No other sensations that she noticed | R3: Yes | S3: often | V3: it is harder than lip trill. kind of feels like the tongue is going back | W3: because it is really hard to control the tongue | Y3: Yes | Z3: yes once a week in singing lesson | AA3: she sometimes had difficulties in making her cheek going puffy | AC3: my head suddenly feels like it wants to rise up (tilting up), and she wasn't able to control the tilting. Ticklish on the head. | AF3: Yes | AG3: quite often | AH3: participant was able to do this task fluently without problem | AJ3: Hard to make the sound stable/consistent airflow. Participants also feel ticklish around the head, which she doesn't feel in other exercises. | AK3: lighter than others | AM3: Yes | AN3: ocassionally | AO3: She was able to do the exercises fluently. | AQ3: feels unrelaxed in the shoulder (too heavy with the bottle) | AT3: 2 | AU3: 5 | AV3: 4 | AW3: 1 | AX3: 3 | AY3: her voice was cracking | AZ3: her voice sounded more projected | BA3: I feel easier to do the vocalization after the sovts exercises | BC3: yes | BD3: Blowfish | BE3: because it is simple and not using equipment, blowfish in random songs
A4: 3 | B4: Gaby | C4: 11 | D4: https://youtu.be/QtQCHPG4nww | E4: https://docs.google.com/document/d/1w0Bv0khGDYzWfcsn38UIlgBUDQNenknG/edit?usp=sharing&ouid=116131472194050259597&rtpof=true&sd=true | G4: Gaby sings at least twice a week, one in the choir rehearsal and one in the private singing lessons | I4: no | K4: No | L4: very rarely do liptrills in her choir or private singing lessons | M4: Participant was having difficulties in doing lip trills as she was not used to this exercise. she did it better in her upper/head register compared to her lower/chest register, she often to "scracth" the area between nose and lips, showing that there may be some itchyness in that area | O4: it is kind of hard. participants feels vibration in the nose area. and alo itchyness | P4: because it is hard | R4: Yes | S4: not often | T4: participant able to do this exercise fluently | V4: not easy not hard compared to lip trill, tongue trill is easier. no discomfort | Y4: Yes | Z4: wasn't asked | AA4: particiapnts do this exerciise fluently | AC4: participant doesnt feel any particular sensations | AF4: No | AG4: wasn't asked | AH4: participant was able to do this exercise fluently. | AJ4: Hard. no particular sensation | AM4: No | AN4: wasn't asked | AO4: Participant able to do this exercise fluently without any problem | AQ4: easy. participants like this exercise she doesnt notice any particular sensations | AR4: because it is fun | AT4: 5 | AU4: 4 | AV4: 2 | AW4: 3 | AX4: 1 | AZ4: appeard to be stronger | BA4: Yes, I feel difference, feels better after the exercise, more relaxed, more easier. I think it is due to the exercise | BC4: hopefully | BD4: Blowfish | BE4: because it is easier, and doesn't required tools preparation
A5: 4 | B5: Domi | C5: 11 | D5: https://youtu.be/vnMbQjzQwk4 | E5: https://docs.google.com/document/d/1de-WP6McsZfnR_UrqwbDDaIlwb31oh2P/edit?usp=sharing&ouid=116131472194050259597&rtpof=true&sd=true | G5: Domi is a member of the music centre's children's choir she is currently not taking any private lessons | H5: she feels a bit sick | I5: no | K5: Yes | L5: rarely | M5: participant was able to do the exercise fluently | O5: a little bit of ticklish, near my ear and inside the throat. I feel that the lip trill makes my voice higher than the tune that I want | R5: Yes | S5: wasn't asked | T5: participant able to do the task fluently | V5: feels like there's a motor(bike) sound inside her throat and that her throat feels like vibrating, not much different sensation compared to lip trill. Lip trill is harder than tongue trill | Y5: No | Z5: no | AA5: Participant was able to do it | AC5: she feels a bit hurt in her chin (4 out of 10) | AF5: No | AG5: none | AH5: participants was able to do it fluently | AJ5: she feels like her voice is muted | AM5: No | AN5: wasn't asked | AO5: participant was able to do the task fluently without any significant problems. | AQ5: its fun, its my favourite one. my mouth is hurts 6 of 10 it is because of holding the straw. the water keep splasing. it is fun because of the bubles | AR5: because of the bubbles | AT5: 5 | AU5: 3 | AV5: 4 | AW5: 2 | AX5: 1 | BA5: Yes. I feel i can sing lauder and easier after the exercise | BC5: yes | BD5: Water resistance | BE5: It's fun, it's my favourite one. because of the bubbles
A6: 5 | B6: Selena | C6: 12 | D6: https://youtu.be/KWXJ3iEB0zM | E6: https://docs.google.com/document/d/1hUhQUWcHtoy-EgOvFbpu6Tsg6-rX_3rl/edit?usp=sharing&ouid=116131472194050259597&rtpof=true&sd=true | G6: Selena sings at least twice a week, one in private singing lessons and one in choir | H6: no alarming pre existing conditions, just cold voice as she was just waking up before the session started | I6: no | K6: Yes | L6: seldom, she did it long time ago | M6: She was having problem with sustaining the liptrill. The researcher had to change th repertoire. | O6: sometimes it is hard it is very itchy and ticklish around below nose and around lips. she wasn't feeling much on the lower back | P6: Because I still can't do it | R6: No | S6: do it for fun, rarely being done in choir and in private singing lessons | V6: harder than lip trill, it is hard to do it because i'm not used to it. a bit uncomfortable in mouth, no other discomfort | W6: I can do it anytime | Y6: No | Z6: wasn't asked | AA6: Participant was able to do this task without any problem or signs of tensions | AC6: its harder than the other exercises, no particular sensation (?) | AF6: No | AG6: wasn't asked | AH6: participant able to do it fluently without any problems and no tensions occured | AJ6: at first it feels a bit hard but once used to it actually it is pretty easy, no discomfort. | AM6: No | AN6: wasn't asked | AO6: participant was able to do the task fluently without any significant problems. | AQ6: its good its fun, had more vibration, slightly harder (...than? ) | AR6: fun and its easy | AT6: 5 | AU6: 1 | AV6: 4 | AW6: 3 | AX6: 2 | AY6: no tension detected, she has a healthy voice. | BA6: Researcher's observation notes: Participant's sound after the intervention seems to be stronger and clearer and forward. the participant confirmed: I feel that after the exercises the singing becomes easier | BC6: yes | BD6: Tongue trill | BE6: I can do it anytime
A7: 6 | B7: Kael | C7: 10 | D7: https://youtu.be/ybiyzklROMQ | E7: https://docs.google.com/document/d/1dg2zM57ivFlOE8STY38Bpdm5_O-Y6Zkc/edit?usp=sharing&ouid=116131472194050259597&rtpof=true&sd=true | G7: Kael is a private singing student, singing on regular basis (once a week), sometimes do independent singing at home and performing on student concerts | H7: She feels her voice is okay today. | I7: no | K7: Yes | L7: seldom | M7: Participant can do lip trill fluently. | O7: Weird. tingling/tickles on the neck/throat and bottom lips. no other sensations | R7: No | S7: never done this before | T7: Kael done this fluently without problem. | V7: more difficult than liptril. She feels vibrations in the gum top | Y7: No | Z7: Never done this before | AA7: Participants able to do this fluently without any problem. | AC7: I don't know. Participants feel numb tirednessness on the cheek, more effort is needed to do this exercise, more push, She feels that this one is easier than the liptrill and tongue trill | AF7: No | AG7: Never done this before | AH7: Participant able to do the task fluently. no tension or any alarming that occurs | AJ7: easy to do. a little bit vibration, she can not explain, she just feel vibrations. she like this one compared blowfish lip trill and tongue trill because she feels that this one is easier to do. | AM7: No | AN7: Never before | AO7: Participant able to do the task fluently. | AQ7: I think it's funny, because of the bubbly sound it makes in the water. I like this the most because it feels like playing | AT7: 4 | AU7: 5 | AV7: 3 | AW7: 2 | AX7: 1 | AY7: Slightly weak on eee but stronger on oooo | BA7: ((we didn't check after the intervention)) | BC7: I'm not going to do it, these exercise are not something appealing. | BD7: Water resistance | BE7: because it's like playing
A8: 7 | B8: Kidung | C8: 10 | D8: https://youtu.be/YxS532DROLk | E8: https://docs.google.com/document/d/1hpJoGihAMGZ_5JAyNaAB-sPdsftw2JMG/edit?usp=sharing&ouid=116131472194050259597&rtpof=true&sd=true | G8: Kidung is a private singing student. She joins a children's choir in her church, singing at least once a week, sometimes more than once a week. | H8: she feels that she's having a slightly cold/flu | I8: no | K8: Yes | L8: very rarely, almost never | M8: participant can do the task quite fluently, she scatches the area between nose and top lip | O8: Participant feels tickles in the area between nose and top lip. she thinks this is easy no other sensation, things are easy | R8: No | S8: rarely | T8: she did it fluently | V8: she just feels normal, no special sensations. compared to liptrill she like liptrill because it is easier to do | Y8: Yes | Z8: more often to do compared to liptrill and tongue trill | AA8: She can do the task fluently without problem. | AC8: She feels nothing, nothing to tell. no tickles no pressure. no special sensations. She likes blowfish compared to liptrill and tongue trills because she thinks this exercise is easier than the other two | AD8: because more often to do, more familiar, easier to do | AF8: No | AG8: wasn't asked | AH8: Participants do the exercise fluently | AJ8: She feels that this exercise is harder. harder to blow. harder to make sound. | AM8: No | AN8: wasn't asked | AO8: She can do it fluently without problem. | AQ8: just normal, no special sensations. | AT8: 3 | AU8: 4 | AV8: 1 | AW8: 5 | AX8: 2 | AY8: weak and quite breathy | AZ8: sill breathy, but appear to be stronger | BA8: Yes, I feel there's difference. I feel that before the exercise, my voice is wider, also I felt that it was heavier to sing before the exercise, while after the exercise, it was more easier to sing. I like my voice better after the exercise | BC8: I would do it because there's an upcoming performing event | BD8: Blowfish | BE8: because it is the easiest.
A9: 8 | B9: Carissa | C9: 11 | D9: https://youtu.be/wwGCpwolrhE | E9: https://docs.google.com/document/d/1lNIRTF7cyYlMa39yiSi2Pdr1CEdmDtU-/edit?usp=drive_link&ouid=116131472194050259597&rtpof=true&sd=true | G9: Participant is a private singing student. | H9: she feels okay | I9: no | K9: Yes | L9: often for the past more than a year | M9: participant was able to do the task fluently | O9: tickles middle lips | R9: Yes | S9: wasn't asked | T9: participants ocassionally having difficulties in trilling her tongue | V9: it's a bit shaky and ticklish at the roof of her mouth. it is harder than liptrill | W9: because it's hard to reach the end not/to trill it longer | Y9: Yes | Z9: yes | AA9: participant was able to do the task fluently | AC9: there's a lot of air in her mouth, kind of helpfull kind of not, however she still feels okay (not feeling too disturbed), feeling of vibration in the front teeth, not too hard but not too easy kind of in the middle. | AF9: Yes | AG9: wasn't asked | AH9: participant was able to do the task fluently without any problem. She keep checking the air that comes out from the straw | AJ9: hard to keep focus on blowing and siging at the same time. If she focus on the blow, the sound feels small, but if she focus on the singing the blow didnt happened. She feels tickels in her lips. My voice it feels like airy and tiny | AM9: Yes | AN9: wasn't asked | AQ9: tickles sesation through the straw and mouth. Bubbles are louder than my voice. This is my favourite one. because it is fun, because it's has ticklish sensation,and because of the bubbles | AR9: because it is fun, and has bubbles | AT9: 2 | AU9: 5 | AV9: 4 | AW9: 3 | AX9: 1 | AZ9: her voice resonates better and seems sttonger | BA9: I feel a little different between before and after. It feels easier to reach the high notes. it is easier to sing and it is lighter to sing. Before this, it felt heavy. | BB9: she needs a singing posture fix | BC9: yes | BD9: Water resistance | BE9: because it is fun, and has bubbles
A10: 9 | B10: Elena | C10: 12 | D10: https://youtu.be/6SsU4ohtnZQ | E10: https://docs.google.com/document/d/1ON0IyWzRMQj0Kt85FLhs90I2JM9d2me-/edit?usp=drive_link&ouid=116131472194050259597&rtpof=true&sd=true | G10: Elena is a private singing student | H10: she feels okay | I10: no | K10: Yes | L10: for the past few years | M10: participant was able to do the task fluently | O10: she feels tickles around the area between upper lip and nose. vibration in the mouth, can be difficult at first, but since she already used to this exercise, then it just feels normal now. | P10: Because of familiarity. Hasbeen doing this exercise for long time and regularly during lessons | R10: Yes | S10: wasn't asked | T10: she sometimes having difficulties in trilling her tongue, especially in the upper register | V10: particularrly hard, especially if you are a person who cannot rolled your rrs. | W10: Because I cant rolled my rs in general, so this exercise is harder for me | Y10: Yes | Z10: wasn't asked | AA10: she keeps laughing. the most laugh was at this exercise but managed to do several blowfish | AC10: She thinks that this exercise is very funny, especially when looking at people doing it, the face looks silly. no other particular sensations that she was able to report. | AF10: Yes | AG10: a few times during the vocal lessons | AJ10: it's okay. it's funny. buzzing in the mouth in the straw. | AM10: Yes | AN10: wasn't asked | AQ10: this one is nice. sometimes the bottle vibrates. | AT10: 1 | AU10: 5 | AV10: 4 | AW10: 2 | AX10: 3 | BA10: I cant tell the difference before and after teh exercises. I do feel that I can reach higher notes now compared to before the exercises. It feels a bit more easier to sing after the exercises. | BC10: I most likely don't have the motivation to do it at home. depends on the exercise. I kind of lazy to do it. | BD10: Lip trill | BE10: because this exercise is more familiar. I would not do the other exercises
A11: 10 | B11: Emily | C11: 12 | D11: https://youtu.be/0c7W04SeD0M | E11: https://docs.google.com/document/d/1Pdhd1V2zFIvfwYGGJdvRoSh_CV4_5Rid/edit?usp=drive_link&ouid=116131472194050259597&rtpof=true&sd=true | G11: Emily is a private singing student | I11: no | K11: Yes | L11: Every private lesson | M11: participant able to do the task fluently | O11: tickle in nose. and vibrating sensation in nose and mouth area. tiredness in tummy | P11: 1-10 likeness score: 7 | R11: Yes | S11: wasn't asked | T11: participant was able to do this exercise fluently | V11: Tonge trill is harder than lip trill. vibrations in the tongue. no other specific sensations that she can explains. | Y11: Yes | Z11: wasn't asked | AA11: participant can do this task fluently | AC11: a bit difficult. harder than lip trill easier than tongue trill. there vibration sesations in the teeth | AF11: Yes | AG11: wasn't asked | AH11: participant is able to do the task fluently | AJ11: tiredness on the top lips. vibrating on the lips and straw. | AM11: Yes | AN11: wasn't asked | AQ11: nothing particular. vibrating sensation in the mouth. | AT11: 1 | AU11: 5 | AV11: 3 | AW11: 4 | AX11: 2 | BA11: ((was not asked)) | BC11: Yes | BD11: Lip trill | BE11: for just exercises, liptrill... (because) I like liptrill more...
A12: 11 | B12: Sophia | C12: 10 | D12: https://youtu.be/xukJMQuyH_A | E12: https://docs.google.com/document/d/1hp-lPVAAWoNYf8XzQ4mqtqXu1IYPK1jM/edit?usp=sharing&ouid=116131472194050259597&rtpof=true&sd=true | G12: Sophia is a private singing students and a children's choir member | H12: she feels fine/normal | I12: no | K12: No | L12: she did that before but she did not know the name. not too often, sometimes in the choir | M12: participant was able to do this exercise fluently | O12: tingling in the area between nose and upper lips. buzzing in the head area. glasses move up and down. level of easiness: easy | R12: Yes | S12: yes, sometimes in the choir | T12: participant was able to do this exercise fluently | V12: regular, just like saying rrs over and over again. easy to moderate. sometimes the rrs could not hold for long. easiness sort of the same with lip trill. I would choose tongue trill because in lip trill there's the Ticklish sensastions | Y12: No | Z12: i think i've done it before in choir. but we never been told what it is named | AA12: the participant often went into hoooo instead of blowfish | AC12: more effort is needed. the blowing makes it hard for me to hit the right pitch. it feels a bit difficult than the other. It feels like im blowing air to other people like human air-con | AF12: No | AG12: wasn't asked | AJ12: first time it is a bit difficult to hit the notes perfectly, but after some time getting used to it, it becomes easier. no particular sensation, not harder than blowfish | AM12: No | AN12: wasn't asked | AQ12: a little bit harder to hit the notes. but it reminds me of swimming. it is fun, it gives childhood memories. it doesnt gives any ticklish | AT12: 3 | AU12: 1 | AV12: 5 | AW12: 2 | AX12: 4 | BA12: a bit more warmed up. because we are doing a different type of warm up. it is more easier to sing because it is feels more warmed up | BC12: I have too much activities, so probably no | BD12: Tongue trill | BE12: I would choose tongue trill because in lip trill there's the Ticklish sensastions
A13: 12 | B13: Kezia | C13: 12 | D13: https://youtu.be/hIbj8PQZ5hs?si=-0ugR1lXh6EdsnH8 | E13: https://docs.google.com/document/d/1vIoJ1aqgUFPeOneNT8ItQrtiA5wNXsAZ/edit?usp=drive_link&ouid=116131472194050259597&rtpof=true&sd=true | G13: Sings at least twice a week, once in private lessons, and once or more at the children's choir rehearsals. | H13: she feels fine/normal | I13: no | K13: Yes | L13: rarely doing it | M13: She really having a problem in performing this exercises, and was ommitted. | O13: She was not used to this exercise and find it difficult | R13: Yes | S13: yes, long time ago | T13: participant was able to do this exercise fluently | V13: Vibratory sensation. | Y13: No | Z13: No | AC13: Need a lot of breath. Medium level of difficulties. Interesting because it is new experience. No particular physical sensation | AF13: No | AG13: No | AJ13: You need a lot of breath to do it. Medium level of difficulty | AM13: No | AN13: No | AQ13: Pretty interesting. Water keep splashing into my hands | AT13: 5 | AU13: 1 | AV13: 4 | AW13: 3 | AX13: 2 | BA13: a more stronger sound | BC13: Yes, although, I would check on my time because I have lots of extracurricular activities. I'm very busy. | BD13: Tongue trill | BE13: Because it is the easiest for me
A14: 13 | B14: Nina | C14: 12 | G14: Sings at least twice a week, once in private lessons, and once or more at the children's choir rehearsals. | H14: okay | I14: No | K14: Yes | L14: Yes, twice a week | M14: Nina was able to do this most of the time | O14: "It was hard, but once you get the hang of it, you can do it! It's also very fun to do! I feel a little ticklish, and (i can feel) vibration" | R14: Yes | S14: No | V14: Very hard. It took me months to actually nail this tongue-trill. But overall it's almost the smae thing as the lip trill. This was a little ticklish, almost like the lip trill, but it's a bit painful | Y14: Yes | Z14: Yes, sometimes | AC14: It was pretty difficult, but at least I still can do it. My cheeks are quite sore from this exercise | AF14: No | AG14: No | AJ14: Confusing, very new to me. But it's fun actually! I don't really (feel) anything through out the exercise | AM14: No | AN14: No | AQ14: Very satisfying! Very ASMR and it's so fun! There's actually nothing that I felt, but I only hear bubbles | AT14: 2 | AU14: 5 | AV14: 4 | AW14: 3 | AX14: 1 | BA14: I feel comfortable after these five exercises and my voice is a lot different | BC14: of course | BD14: Water resistance | BE14: because it was a lot of fun!
A15: 14 | B15: Jayden | C15: 10 | D15: https://youtu.be/J2O-zSOnWjo?si=As4AGHExpA5RizXK | E15: https://docs.google.com/document/d/1w3N_v4hGpvC8iTj_wsqn7nnlGvACMVYq/edit?usp=drive_link&ouid=116131472194050259597&rtpof=true&sd=true | G15: sings once a week in private lessons | H15: okay/normal | I15: no | K15: Yes | L15: Yes, very rarely, about one or two times | M15: he can do this exercise without problem | O15: "a bit hard (difficult) to do", "interesting". ticklish/tickle (pointing at the area between nose and lips) | R15: Yes | S15: Yes, i think once. | V15: Interesting, a bit weird, feeling vibration around the mouth (lips) | Y15: No | Z15: No | AC15: Feeling weird, no particular sensation, makes me want to cough | AF15: No | AG15: No | AJ15: It is interesting, no physical sensation, a bit vibration a the mouth (lips) | AM15: No | AN15: No | AQ15: Weird, interesting, a bit hard to do. No particular sensation | AT15: 2 | AU15: 1 | AV15: 3 | AW15: 4 | AX15: 5 | BA15: A bit more easier to sing. | BC15: maybe | BD15: Liptrill | BE15: (I choose) liptrill because tongue-trill is too easy, so I would go to the next challenging one.
A16: 15 | B16: Naomi | C16: 11 | G16: Sings at least twice a week, once in private lessons, and once or more at the children's choir rehearsals. | H16: okay | I16: no | K16: Yes | L16: I did that quite often, but a long time ago. I rarely do it now | M16: she can do this well. | O16: The vibrations make the surroundings of the lip a bit ticklish, and it is a bit difficult to do it continuously, so there are little breaks. Overall, I think lip trill is medium on a scale of easy to hard (8 or 7 out of 10) | R16: Yes | S16: Yes, not too often | T16: participant was able to do this exercise fluently | V16: Tongue trill is very fun to do but not as fun as lip trill. The first few tongue trills were pretty easy but it became harder at the end, it is pretty hard (7/10) | Y16: Yes | Z16: Yes, frequently. once a week | AC16: I like it, but I wouldn't do this most of the time. I don't prefer this exercise (6.5/10) | AF16: No | AG16: No | AJ16: It is comfortable, but you have to hold the straw to make sure your voice is stable. It is pretty interesting. I feel vibrations, I'm not sure where, though. | AM16: No | AN16: No | AQ16: It is satisfying to do and it is so fun. It is really comfortable to do and see water. I could feel vibrations (I don't know where) and the blowing of water makes me blow more. | AT16: 2 | AU16: 4 | AV16: 5 | AW16: 3 | AX16: 1 | BA16: Yes, I feel changes in my voice. It is more comfortable to sing and I could reach the higher notes more comfortably. | BC16: Yes | BD16: Lip trill | BE16: because it is more simpler to do and doesnt require a lot of steps to do, so you don't need to prepare the materials, but you can just simply do it whenver you want to.
A17: 16 | B17: Amalia | C17: 11 | G17: Sings at least once a week at private singing lesson | H17: okay | I17: no | K17: Yes | L17: Every private lesson | M17: She can do it flawlessly | O17: It is pretty easy to me. I had done this since I was little so I find it easy. | R17: Yes | S17: Yes, not often | V17: I find this a little hard for me because I can't really rolls my tongue that much. My tongue feels the same, so I don't really feel any physical sensation | Y17: No | Z17: No | AC17: I thought it was hard at first, but when I tried it, it didn't seem to be that hard. | AF17: No | AG17: No | AJ17: At first, I thought it was hard because I didn't know how to sing through a straw. I don't really feel any physical sensation in this exercise | AM17: No | AN17: No | AQ17: My first impression seemed cool and fun because we were bubbling water. I didn't really feel any physical sensation in this exercise. | AT17: 1 | AU17: 5 | AV17: 3 | AW17: 4 | AX17: 2 | BA17: After 5 exercises, my voice feels the same. | BC17: I would, but not tongue trill | BD17: Lip trill | BE17: (I would do) lip trill and maybe straw phonation with water. For lip trill, I found it easy to do, and for water phonation, I just found it fun to do.
A18: 17 | B18: Helsa | C18: 12 | D18: https://youtu.be/ACmRd5VfsAc?si=l8Le1cVKspPwYdt_ | E18: https://docs.google.com/document/d/1WhkKXozjVRwygdLoNVyoTLm6_thWNJMg/edit?usp=drive_link&ouid=116131472194050259597&rtpof=true&sd=true | G18: Sings regularly in choir practice. | H18: okay | I18: no | K18: Yes | L18: Not very often | M18: She can do it | O18: I don't like doing it. I don't know which to focus: the singing or the lip-trill. It's hard for me. I don't do lip-trill. Lips feels lighter | R18: No | S18: No | V18: I don't know which one to focus, the tongue trill or the singing. How to maintain is also hard/difficult. Lebih lega/ more like open, like air can flows better (after doing this exercise) | Y18: No | Z18: No | AC18: It's hard. I can't blow that long. I guess it's practising your breath. No particular physical sensation. Just simply don't like it. | AF18: No | AG18: No | AJ18: I don't like this. Hard to sing while blowing. I can not blow in it. It feels like loosing air easily. I keep gasping for air. | AM18: No | AN18: No | AQ18: The one with water is easier than the previous one (the one without water). It is interesting. I like it better with water. I can focus more on the voice. | AT18: 1 | AU18: 3 | AV18: 4 | AW18: 5 | AX18: 2 | BA18: I don't feel any different. I feel that the lip-trill did some effect. | BC18: Maybe | BD18: Lip trill | BE18: Because you don't need anything to prepare.
A19: 18 | B19: Joel | C19: 10 | D19: https://youtu.be/P38XZnDyRTw?si=_CHBQ7XLPeQHctqh | E19: https://docs.google.com/document/d/1MWmFBZwQD5S3XK3mki-FvAEHdMGCl-zt/edit?usp=sharing&ouid=116131472194050259597&rtpof=true&sd=true | G19: Sings regularly in choir practice. | H19: okay | I19: no | K19: Yes | L19: Not very often | M19: He can do it flawlessly | O19: It was really fun. I feel that it's like if my lips are like the fly's wings that flap really fast. | R19: No | S19: Just once when I pretended to snore | V19: I thought it was a little enjoyable. I feel like something just at the back of my mouth was vibrating. | Y19: No | Z19: Once but not payign attention to what I was doing. | AC19: At first, I thought I had to close my lips when doing this exercise. It feel like a plain feeling. | AF19: No | AG19: No | AJ19: It was fun for me. It is easy and I think anyone can do it. It was really good. If you put your hand in front of your straw, if you blow into it, it will have a gust of air. If you humm, the air will be warm. | AM19: No | AN19: No | AQ19: I enjoy this so much. I feel that as I sing humm the water keep like bubbling and a little water touched parts near my mouth. | AT19: 2 | AU19: 4 | AV19: 5 | AW19: 3 | AX19: 1 | BA19: It was the same voice. | BC19: not really | BD19: Water resistance | BE19: It kept bubbling and it was fun.
A20: 19 | B20: Daniel | C20: 12 | D20: https://youtu.be/tkxpWwXU-hU?si=uKr7kHMau8591b7y | E20: https://docs.google.com/document/d/1krNWfnPK4ClhxUDZSB1MBHAnwvh82W7h/edit?usp=sharing&ouid=116131472194050259597&rtpof=true&sd=true | G20: sings once a week in private lessons | H20: okay, just finishing a private singing lesson. | I20: no | K20: Yes | L20: very often | M20: he can do this exercise flawlessly | O20: Tickels at the area between nose and upper lips. Sometimes I don't realize how it is useful. I don't think it's hard, but it is hard to maintain the constant of the sound. It is okay for beginner. | R20: No | S20: No | V20: Not really different from the first exercise, it just that I have to be more focus, because (for me) tongue movement is harder than lips (movement). For someone that is expert, I don't think this would be useful, but I think this should be okay for beginner. No physical sensation | Y20: No | Z20: No | AA20: He was able to do this flawlessly | AC20: At first, I thought this would be useful, but then I don't really find the purpose of this exercise. (for me) doing blowfish on a high notes basically like humming on a high notes. It feels a bit harder because the wind have to comes out and the singing technique becomes a bit harder: when you sing and doing blowfish is hard. No physical sensation, not that much. | AF20: No | AG20: No | AJ20: Nothing physical. First I thought it's going to be hard because I have to blow while singing, but turns out I can get the hang of it. For some reason, it is like the last exercise it feels like humming. It is harder on the high notes, but on the low notes it is okay. | AM20: No | AN20: No | AQ20: I feel like it helps some way, but not really effective, just like blowing, we can only hear bubbles instead of our own voice, I don't know if this is usefull as tools for exercise, maybe for beginners. It was easy at the low notes, but the for high notes I have to project pressure more to blow the bubbles, at the same time I need to make may voice clear. No physical sensation. | AT20: 1 | AU20: 3 | AV20: 2 | AW20: 5 | AX20: 4 | BA20: I dont think all these five exercises really helps. At first I thougth that the second time I sing was because of the five exercises, but aftter I think about it, I think it is more because I already now more familiar with the given melody. | BC20: Yes | BD20: Lip trill | BE20: because it is more familiar.
A21: 20 | B21: Keana | C21: 12 | D21: https://youtu.be/a3QbuGE-DDc?si=rb9D7mW6bFIaE-IT | E21: https://docs.google.com/document/d/1Aww6xsrsv88sOvKPPp5G0evIb70dfJEw/edit?usp=drive_link&ouid=116131472194050259597&rtpof=true&sd=true | G21: sing once a week in private lesson and choir rehearsal | H21: she feels fine/normal | I21: no | K21: Yes | L21: Yes, in choir. although not really often. | M21: She can do this exercise fluently, having a little bit difficulties only in some areas. | O21: Tickle (10/10 very ticklish). Nose, and area between nose an lips. Because it is ticklish I cannot focus on my singing. Sometimes it's hard to reach the high notes. It's also kind of hard because sometimes it just stop. | R21: Yes | S21: Yes, not really often | V21: Weird, it feels like my throat is closing up. It's also tricky, but it is a lot easier to reach the high notes (compared to liptrill). My hard palate feels like jiggly (like wobbling/vibrating), i don't like that. It really feels uncomfortable. When I'm doing it, it feels hard to reach the high notes, but turns out, unexpectedly, I can do it anyway. It feels like having allegic reaction. | Y21: Yes | Z21: Yes, in choir practice | AC21: It is really easy, but it's hard to breathe. because all the air is coming out. like keep like loosing air. But it is easier to reach high notes. No physical sensation. It is just funny. | AF21: No | AG21: No | AJ21: I don't like it, it's soo hard. It goes all over your face, I have to sing it slowly so it doesnt crack. Keep having voice crack. Hard to breathe to. Uncomfortable, It feels like need more effort and be more detail. careful to do it so your voice dont crack. A little vibration all over my face, although they are tiny. | AM21: No | AN21: No | AQ21: It's really hard. The vibration in my tongue. And also it closes up my throat. I need to be more carefull in sing it because i keep having voice crack. It's not letting me to reach the high notes. It feels like being underwater and can not reach the high notes. Tickles at the bottom of tongue. | AT21: 2 | AU21: 3 | AV21: 1 | AW21: 4 | AX21: 5 | BA21: yes a little bit different. I don't know, suddenly it's hard to reach the hight notes. On the low notes it feels like you relieve (more easy to sing). | BC21: No, I dont like it | BD21: Blowfish | BE21: because it is the easiest
A22: 21 | B22: Inessa | C22: 11 | D22: https://youtu.be/k9Wy8mXrhOM?si=4k5yEBMO7AmtqY9N | E22: https://docs.google.com/document/d/1QdUPQTm1TXhphU0ruQoFQQUqIOU3eJrv/edit?usp=drive_link&ouid=116131472194050259597&rtpof=true&sd=true | G22: Sings at least twice a week, once in private lessons, and once or more at the children's choir rehearsals. | H22: okay | I22: no | K22: Yes | L22: Not too often, about twice a week | M22: she can do this exercise without any problems | O22: Ticklenness in the area between nose and lips. Actually Fun, Itchiness, sometimes difficult | R22: Yes | S22: Yes, less often than lip trill | T22: Noticable that the participants was a bit having difficulties in conducting the exercise, moslty in the higher notes. | V22: Difficult, harder than liptrill. A bit ticklish, up here inside the rooftop (hard palate) of the mouth and also at the tongue. Dificulties level 6 out of 10. | Y22: Yes | Z22: Yes, roughly about three times a month | AA22: Participant were able to do the exercise flawlessly | AC22: It's not really difficult. There was a lot of air coming out | AF22: Yes | AG22: Yes, not often, very rarely. just one or two times in the past | AJ22: This (exercises) is kind of not to be expected (in terms of it is new experience). Actually it is a very interesting (exercise). I like this exercise. It's like my voice is smaller because (they) are going to the tube. I can feel a little bit of vibration at my lips that in contact with the straw. | AM22: Yes | AN22: No. Heard about it but never done it | AQ22: It's interesting, also fun, more fun than the one without water. It's actually very unique, because i've never done it. | AT22: 4 | AU22: 5 | AV22: 2 | AW22: 3 | AX22: 1 | BA22: After the exercise, singing feels lighter, easier, and more comfortable. However, nerves might also contribute to discomfort during singing prior to the exercise. | BC22: Maybe | BD22: Water resistance | BE22: Because it is fun and actually very easy
B23: =COLUMN()-1 -> 1 | C23: =COLUMN()-1 -> 2 | D23: =COLUMN()-1 -> 3 | E23: =COLUMN()-1 -> 4 | F23: =COLUMN()-1 -> 5 | G23: =COLUMN()-1 -> 6 | H23: =COLUMN()-1 -> 7 | I23: =COLUMN()-1 -> 8 | ... BH23: =COLUMN()-1 -> 59
A40: 12 | B40: Kezia | C40: 13 | D40: https://youtu.be/Fss37QwFSnk | G40: A private singing student at TRMS. A youth choir member at her school. Singing regularly at lessons and at school's choir | H40: She feels her voice is normal, no sickness etc | I40: No | K40: Yes. | L40: rarely, just recently, just for the past one month | M40: Participant is able to do the task fluently. | O40: It makes her lips more relaxed. It feels more hard to do. because she is not used to the exercise. Feels a bit like tingling vibrating in top lip/nose | P40: easiest compared the other, | T40: Participant able to do the task fluently. | V40: Harder than liptrill. voice feeling vibrating, feeling tensions in the tongue, because she not used to. However lip trill is still harder. Ticklish in the neck area | Y40: no | Z40: no | AC40: participant consider this as harder and need to work extra effort (power) with her tummy | AD40: i don't like it, its hard, I don't really feel anything (any use of it) | AF40: None | AG40: Never done this before | AJ40: Very unique. she feels that the sound feels muffled. she feels air pressured. extra effort to blow | AM40: None | AN40: Never done this before | AQ40: She feels vibrating sensation. she feels she need more effort to push | AT40: 1 | AU40: 2 | AV40: 5 | AW40: 4 | AX40: 3 | AY40: breathy with breaks between register, tend to be a bit weak | BC40: not answered | BD40: Lip trill, easy, we can do it anytime we want without bother with other instruments (straw, cup, etc)
A41: 13 | B41: Averoes | C41: 14 | D41: https://youtu.be/ssMd7ndTKdE

Sheet 1_Familiarity
A1: Familiarity
A2: Question: Have you heard about it? | I2: Previous experience with the most familiar SOVT of these five
A4: Participant # | B4: Name | C4: ='Data-transposed view'!J2 -> Lip - trill | D4: ='Data-transposed view'!Q2 -> Tongue - trill | E4: ='Data-transposed view'!X2 -> Blowfish | F4: ='Data-transposed view'!AE2 -> Straw phonation | G4: ='Data-transposed view'!AL2 -> Water Resistance | I4: Participant # | J4: Name | K4: Previous experience with lip trill | L4: Code/classification | N4: Participant # | O4: Name | P4: Past experience with tongue trills | Q4: with blowfish | R4: with Straw Phonation | S4: with water resistance theraphy
A5: 1 | B5: ='Data-transposed view'!B2 -> Andrew | C5: ='Data-transposed view'!K2 -> Yes | D5: ='Data-transposed view'!R2 -> Yes | E5: ='Data-transposed view'!Y2 -> Yes | F5: ='Data-transposed view'!AF2 -> No | G5: ='Data-transposed view'!AM2 -> No | I5: 1 | J5: Andrew | K5: rarely | L5: Rarely | N5: 1 | O5: Andrew | P5: =VLOOKUP(O5,maindata,'Data-transposed view'!$S$23,FALSE) -> wasn't asked | Q5: =VLOOKUP(O5,maindata,'Data-transposed view'!$Z$23,FALSE) -> in serunai, long time ago | R5: =VLOOKUP(O5,maindata,'Data-transposed view'!$AG$23,FALSE) -> wasn't asked | S5: =VLOOKUP(O5,maindata,'Data-transposed view'!$AN$23,FALSE) -> wasn't asked
A6: 2 | B6: ='Data-transposed view'!B3 -> Kamini | C6: ='Data-transposed view'!K3 -> Yes | D6: ='Data-transposed view'!R3 -> Yes | E6: ='Data-transposed view'!Y3 -> Yes | F6: ='Data-transposed view'!AF3 -> Yes | G6: ='Data-transposed view'!AM3 -> Yes | I6: 2 | J6: Kamini | K6: yes once a week in singing lesson | L6: Often | N6: 2 | O6: Kamini | P6: =VLOOKUP(O6,maindata,'Data-transposed view'!$S$23,FALSE) -> often | Q6: =VLOOKUP(O6,maindata,'Data-transposed view'!$Z$23,FALSE) -> yes once a week in singing lesson | R6: =VLOOKUP(O6,maindata,'Data-transposed view'!$AG$23,FALSE) -> quite often | S6: =VLOOKUP(O6,maindata,'Data-transposed view'!$AN$23,FALSE) -> ocassionally
A7: 3 | B7: ='Data-transposed view'!B4 -> Gaby | C7: ='Data-transposed view'!K4 -> No | D7: ='Data-transposed view'!R4 -> Yes | E7: ='Data-transposed view'!Y4 -> Yes | F7: ='Data-transposed view'!AF4 -> No | G7: ='Data-transposed view'!AM4 -> No | I7: 3 | J7: Gaby | K7: very rarely do liptrills in her choir or private singing lessons | L7: Never | N7: 3 | O7: Gaby | P7: =VLOOKUP(O7,maindata,'Data-transposed view'!$S$23,FALSE) -> not often | Q7: =VLOOKUP(O7,maindata,'Data-transposed view'!$Z$23,FALSE) -> wasn't asked | R7: =VLOOKUP(O7,maindata,'Data-transposed view'!$AG$23,FALSE) -> wasn't asked | S7: =VLOOKUP(O7,maindata,'Data-transposed view'!$AN$23,FALSE) -> wasn't asked
A8: 4 | B8: ='Data-transposed view'!B5 -> Domi | C8: ='Data-transposed view'!K5 -> Yes | D8: ='Data-transposed view'!R5 -> Yes | E8: ='Data-transposed view'!Y5 -> No | F8: ='Data-transposed view'!AF5 -> No | G8: ='Data-transposed view'!AM5 -> No | I8: 4 | J8: Domi | K8: rarely | L8: Rarely | N8: 4 | O8: Domi | P8: =VLOOKUP(O8,maindata,'Data-transposed view'!$S$23,FALSE) -> wasn't asked | Q8: =VLOOKUP(O8,maindata,'Data-transposed view'!$Z$23,FALSE) -> no | R8: =VLOOKUP(O8,maindata,'Data-transposed view'!$AG$23,FALSE) -> none | S8: =VLOOKUP(O8,maindata,'Data-transposed view'!$AN$23,FALSE) -> wasn't asked
A9: 5 | B9: ='Data-transposed view'!B6 -> Selena | C9: ='Data-transposed view'!K6 -> Yes | D9: ='Data-transposed view'!R6 -> No | E9: ='Data-transposed view'!Y6 -> No | F9: ='Data-transposed view'!AF6 -> No | G9: ='Data-transposed view'!AM6 -> No | I9: 5 | J9: Selena | K9: seldom, she did it long time ago | L9: Rarely | N9: 5 | O9: Selena | P9: =VLOOKUP(O9,maindata,'Data-transposed view'!$S$23,FALSE) -> do it for fun, rarely being done in choir and in private singing lessons | Q9: =VLOOKUP(O9,maindata,'Data-transposed view'!$Z$23,FALSE) -> wasn't asked | R9: =VLOOKUP(O9,maindata,'Data-transposed view'!$AG$23,FALSE) -> wasn't asked | S9: =VLOOKUP(O9,maindata,'Data-transposed view'!$AN$23,FALSE) -> wasn't asked
A10: 6 | B10: ='Data-transposed view'!B7 -> Kael | C10: ='Data-transposed view'!K7 -> Yes | D10: ='Data-transposed view'!R7 -> No | E10: ='Data-transposed view'!Y7 -> No | F10: ='Data-transposed view'!AF7 -> No | G10: ='Data-transposed view'!AM7 -> No | I10: 6 | J10: Kael | K10: seldom | L10: Rarely | N10: 6 | O10: Kael | P10: =VLOOKUP(O10,maindata,'Data-transposed view'!$S$23,FALSE) -> never done this before | Q10: =VLOOKUP(O10,maindata,'Data-transposed view'!$Z$23,FALSE) -> Never done this before | R10: =VLOOKUP(O10,maindata,'Data-transposed view'!$AG$23,FALSE) -> Never done this before | S10: =VLOOKUP(O10,maindata,'Data-transposed view'!$AN$23,FALSE) -> Never before
A11: 7 | B11: ='Data-transposed view'!B8 -> Kidung | C11: ='Data-transposed view'!K8 -> Yes | D11: ='Data-transposed view'!R8 -> No | E11: ='Data-transposed view'!Y8 -> Yes | F11: ='Data-transposed view'!AF8 -> No | G11: ='Data-transposed view'!AM8 -> No | I11: 7 | J11: Kidung | K11: very rarely, almost never | L11: Never | N11: 7 | O11: Kidung | P11: =VLOOKUP(O11,maindata,'Data-transposed view'!$S$23,FALSE) -> rarely | Q11: =VLOOKUP(O11,maindata,'Data-transposed view'!$Z$23,FALSE) -> more often to do compared to liptrill and tongue trill | R11: =VLOOKUP(O11,maindata,'Data-transposed view'!$AG$23,FALSE) -> wasn't asked | S11: =VLOOKUP(O11,maindata,'Data-transposed view'!$AN$23,FALSE) -> wasn't asked
A12: 8 | B12: ='Data-transposed view'!B9 -> Carissa | C12: ='Data-transposed view'!K9 -> Yes | D12: ='Data-transposed view'!R9 -> Yes | E12: ='Data-transposed view'!Y9 -> Yes | F12: ='Data-transposed view'!AF9 -> Yes | G12: ='Data-transposed view'!AM9 -> Yes | I12: 8 | J12: Carissa | K12: often for the past more than a year | L12: Often | N12: 8 | O12: Carissa | P12: =VLOOKUP(O12,maindata,'Data-transposed view'!$S$23,FALSE) -> wasn't asked | Q12: =VLOOKUP(O12,maindata,'Data-transposed view'!$Z$23,FALSE) -> yes | R12: =VLOOKUP(O12,maindata,'Data-transposed view'!$AG$23,FALSE) -> wasn't asked | S12: =VLOOKUP(O12,maindata,'Data-transposed view'!$AN$23,FALSE) -> wasn't asked
A13: 9 | B13: ='Data-transposed view'!B10 -> Elena | C13: ='Data-transposed view'!K10 -> Yes | D13: ='Data-transposed view'!R10 -> Yes | E13: ='Data-transposed view'!Y10 -> Yes | F13: ='Data-transposed view'!AF10 -> Yes | G13: ='Data-transposed view'!AM10 -> Yes | I13: 9 | J13: Elena | K13: for the past few years | L13: Often | N13: 9 | O13: Elena | P13: =VLOOKUP(O13,maindata,'Data-transposed view'!$S$23,FALSE) -> wasn't asked | Q13: =VLOOKUP(O13,maindata,'Data-transposed view'!$Z$23,FALSE) -> wasn't asked | R13: =VLOOKUP(O13,maindata,'Data-transposed view'!$AG$23,FALSE) -> a few times during the vocal lessons | S13: =VLOOKUP(O13,maindata,'Data-transposed view'!$AN$23,FALSE) -> wasn't asked
A14: 10 | B14: ='Data-transposed view'!B11 -> Emily | C14: ='Data-transposed view'!K11 -> Yes | D14: ='Data-transposed view'!R11 -> Yes | E14: ='Data-transposed view'!Y11 -> Yes | F14: ='Data-transposed view'!AF11 -> Yes | G14: ='Data-transposed view'!AM11 -> Yes | I14: 10 | J14: Emily | K14: Every private lesson | L14: Often | N14: 10 | O14: Emily | P14: =VLOOKUP(O14,maindata,'Data-transposed view'!$S$23,FALSE) -> wasn't asked | Q14: =VLOOKUP(O14,maindata,'Data-transposed view'!$Z$23,FALSE) -> wasn't asked | R14: =VLOOKUP(O14,maindata,'Data-transposed view'!$AG$23,FALSE) -> wasn't asked | S14: =VLOOKUP(O14,maindata,'Data-transposed view'!$AN$23,FALSE) -> wasn't asked
A15: 11 | B15: ='Data-transposed view'!B12 -> Sophia | C15: ='Data-transposed view'!K12 -> No | D15: ='Data-transposed view'!R12 -> Yes | E15: ='Data-transposed view'!Y12 -> No | F15: ='Data-transposed view'!AF12 -> No | G15: ='Data-transposed view'!AM12 -> No | I15: 11 | J15: Sophia | K15: she did that before but she did not know the name. not too often, sometimes in the choir | L15: Rarely | N15: 11 | O15: Sophia | P15: =VLOOKUP(O15,maindata,'Data-transposed view'!$S$23,FALSE) -> yes, sometimes in the choir | Q15: =VLOOKUP(O15,maindata,'Data-transposed view'!$Z$23,FALSE) -> i think i've done it before in choir. but we never been told what it is named | R15: =VLOOKUP(O15,maindata,'Data-transposed view'!$AG$23,FALSE) -> wasn't asked | S15: =VLOOKUP(O15,maindata,'Data-transposed view'!$AN$23,FALSE) -> wasn't asked
A16: 12 | B16: ='Data-transposed view'!B13 -> Kezia | C16: ='Data-transposed view'!K13 -> Yes | D16: ='Data-transposed view'!R13 -> Yes | E16: ='Data-transposed view'!Y13 -> No | F16: ='Data-transposed view'!AF13 -> No | G16: ='Data-transposed view'!AM13 -> No | I16: 12 | J16: Kezia | K16: rarely doing it | L16: rarely | N16: 12 | O16: Kezia | P16: =VLOOKUP(O16,maindata,'Data-transposed view'!$S$23,FALSE) -> yes, long time ago | Q16: =VLOOKUP(O16,maindata,'Data-transposed view'!$Z$23,FALSE) -> No | R16: =VLOOKUP(O16,maindata,'Data-transposed view'!$AG$23,FALSE) -> No | S16: =VLOOKUP(O16,maindata,'Data-transposed view'!$AN$23,FALSE) -> No
... A25: 21 | B25: ='Data-transposed view'!B22 -> Inessa | C25: ='Data-transposed view'!K22 -> Yes | D25: ='Data-transposed view'!R22 -> Yes | E25: ='Data-transposed view'!Y22 -> Yes | F25: ='Data-transposed view'!AF22 -> Yes | G25: ='Data-transposed view'!AM22 -> Yes | I25: 21 | J25: Inessa | K25: Not too often, about twice a week | L25: often | N25: 21 | O25: Inessa | P25: =VLOOKUP(O25,maindata,'Data-transposed view'!$S$23,FALSE) -> Yes, less often than lip trill | Q25: =VLOOKUP(O25,maindata,'Data-transposed view'!$Z$23,FALSE) -> Yes, roughly about three times a month | R25: =VLOOKUP(O25,maindata,'Data-transposed view'!$AG$23,FALSE) -> Yes, not often, very rarely. just one or two times in the past | S25: =VLOOKUP(O25,maindata,'Data-transposed view'!$AN$23,FALSE) -> No. Heard about it but never done it
C27: =C4 -> Lip - trill | D27: =D4 -> Tongue - trill | E27: =E4 -> Blowfish | F27: =F4 -> Straw phonation | G27: =G4 -> Water Resistance
B28: Yes | C28: =COUNTIF(C5:C25,$B$28) -> 19 | D28: =COUNTIF(D5:D25,$B$28) -> 15 | E28: =COUNTIF(E5:E25,$B$28) -> 11 | F28: =COUNTIF(F5:F25,$B$28) -> 5 | G28: =COUNTIF(G5:G25,$B$28) -> 5 | I28: Rarely | J28: =COUNTIF($L$5:$L$25,I28) -> 11
B29: No | C29: =COUNTIF(C5:C25,$B$29) -> 2 | D29: =COUNTIF(D5:D25,$B$29) -> 6 | E29: =COUNTIF(E5:E25,$B$29) -> 10 | F29: =COUNTIF(F5:F25,$B$29) -> 16 | G29: =COUNTIF(G5:G25,$B$29) -> 16 | I29: Often | J29: =COUNTIF($L$5:$L$25,I29) -> 8
I30: Never | J30: =COUNTIF($L$5:$L$25,I30) -> 2
C31: =C4 -> Lip - trill | D31: =D4 -> Tongue - trill | E31: =E4 -> Blowfish | F31: =F4 -> Straw phonation | G31: =G4 -> Water Resistance
B32: Familiar | C32: =C28/(SUM(C28:C29)) -> 0.9047619 | D32: =D28/(SUM(D28:D29)) -> 0.71428571 | E32: =E28/(SUM(E28:E29)) -> 0.52380952 | F32: =F28/(SUM(F28:F29)) -> 0.23809524 | G32: =G28/(SUM(G28:G29)) -> 0.23809524
B33: Unfamiliar | C33: =C29/(SUM(C28:C29)) -> 0.095238095 | D33: =D29/(SUM(D28:D29)) -> 0.28571429 | E33: =E29/(SUM(E28:E29)) -> 0.47619048 | F33: =F29/(SUM(F28:F29)) -> 0.76190476 | G33: =G29/(SUM(G28:G29)) -> 0.76190476 | K33: Rarely do lip trill | L33: =J28/SUM($J$28:$J$30) -> 0.52380952
K34: Regularly do lip trill | L34: =J29/SUM($J$28:$J$30) -> 0.38095238
K35: Never done lip trill | L35: =J30/SUM($J$28:$J$30) -> 0.095238095

Sheet 2_Perception of each exercise
A1: Qual
A2: Thematic Analysis: Students' perception to five types of SOVT exercises
A4: No | B4: Name | C4: Video of data taking | D4: Lip trill | E4: code | F4: Tongue trill | G4: code | H4: Blowfish | I4: code | J4: Straw phonation | K4: code | L4: Water Resistance | M4: code | N4: comparing Before & After impressions/ participants' perception/perspective | O4: acknowledge improvement after the exercises | P4: Perceived effect felt by the student due to the exercise
A5: 1 | B5: ='Data-transposed view'!B2 -> Andrew | C5: https://youtu.be/gCShKLJUtdg | D5: hard, difficult, very difficult (with the look of distress/frustration) | E5: difficult frustration | F5: easy, at the first time, it used to be ticklish, but this time since he already used to it, he feels no more tickles | G5: easy, Ticklish | H5: tingles on the top part of the top mouth (between nose and mouth) the top scale is hard, the bottom range was easy | I5: Ticklish, challenging in the upper range | J5: calm, hard to hold the straw stable. it feels mumbling, the whole mouth feels a bit ticklish | K5: calm, challenging to hold the straw, Ticklish, mumbling | L5: my voice feels trembling / shaking/vibrating, | M5: vibrating sensation, | N5: there's a difference, feels a bit easier to reach higher notes | O5: Yes | P5: Easier to sing, easier to reach higher notes
A6: 2 | B6: ='Data-transposed view'!B3 -> Kamini | C6: https://youtu.be/5cmMSwLzjuQ | D6: kind of hard to switch to headvoice. No other sensations that she noticed | E6: difficult | F6: it is harder than lip trill. kind of feels like the tongue is going back | G6: harder than lip trill, tongue retracted | H6: my head suddenly feels like it wants to rise up (tilting up), and she wasn't able to control the tilting. Ticklish on the head. | I6: head posture tilting up, Ticklish | J6: Hard to make the sound stable/consistent airflow. Participants also feel ticklish around the head, which she doesn't feel in other exercises. | K6: challenging to make consistent airflow, Ticklish | L6: feels unrelaxed in the shoulder (too heavy with the bottle) | M6: uncomfortable | N6: she feels easier to do the vocalization after the sovts exercises | O6: Yes | P6: Easier to sing
A7: 3 | B7: ='Data-transposed view'!B4 -> Gaby | C7: https://youtu.be/QtQCHPG4nww | D7: it is kind of hard. participants feels vibration in the nose area. and alo itchyness | E7: difficult, vibrating sensation, Ticklish | F7: not easy not hard compared to lip trill, tongue trill is easier. no discomfort | G7: moderate easiness, easier than lip trill | H7: participant doesnt feel any particular sensations | I7: no special sensation | J7: Hard. no special sensation | K7: difficult, no special sensation | L7: easy. participants like this exercise she doesnt notice any particular sensations | M7: easy, no special sensation | N7: parttcipants feels difference, feels better after tretement more relaxed, more easier. she confirmed that she thinks the betterment is due to the exercise | O7: Yes | P7: Easier to sing
A8: 4 | B8: ='Data-transposed view'!B5 -> Domi | C8: https://youtu.be/vnMbQjzQwk4 | D8: a little bit of ticklish, near my ear and inside the throat. I feel that the lip trill makes my voice higher than the tune that I want | E8: Ticklish, pitch going sharp | F8: feels like there's a motor(bike) sound inside her throat and that her throat feels like vibrating, not much different sensation compared to lip trill. Lip trill is harder than tongue trill | G8: vibrating sensation, easier than lip trill, | H8: she feels a bit hurt in her chin (4 out of 10) | I8: slightly pain | J8: she feels like her voice is muted | K8: voice gets tiny | L8: its fun, its my favourite one. my mouth is hurts 6 of 10 it is because of holding the straw. the water keep splasing. it is fun because of the bubles | M8: Fun, pain in mouth | N8: feel i can sing lauder and easier after the exercise | O8: Yes | P8: Easier to sing, Louder
A9: 5 | B9: ='Data-transposed view'!B6 -> Selena | C9: https://youtu.be/KWXJ3iEB0zM | D9: sometimes it is hard it is very itchy and ticklish around below nose and around lips. she wasn't feeling much on the lower back | E9: Ticklish | F9: harder than lip trill, it is hard to do it because i'm not used to it. a bit uncomfortable in mouth, no other discomfort | G9: harder than lip trill, not used to it, uncomfortable | H9: its harder than the other exercises, no special sensation (?) | I9: harder than lip trill, harder than tongue trill, no special sensation | J9: at first it feels a bit hard but once used to it actually it is pretty easy, no discomfort. | K9: challenging at first, need to get used to | L9: its good its fun, had more vibration, slightly harder (...than? ) | M9: Fun, vibrating sensation, | N9: Participant's sound after the intervention seems to be stronger and clearer and forward. the participants feels that after the intervention the singing becomes more easier | O9: Yes | P9: Easier to sing
A10: 6 | B10: ='Data-transposed view'!B7 -> Kael | C10: https://youtu.be/ybiyzklROMQ | D10: Weird. tingling/tickles on the neck/throat and bottom lips. no other sensations | E10: weird, Ticklish | F10: more difficult than liptril. She feels vibrations in the gum top | G10: harder than lip trill, vibrating sensation, | H10: I don't know. Participants feel numb tirednessness on the cheek, more effort is needed to do this exercise, more push, She feels that this one is easier than the liptrill and tongue trill | I10: tiredness, extra effort, more push, easier than lip trill, easier than tongue trill | J10: easy to do. a little bit vibration, she can not explain, she just feel vibrations. she like this one compared blowfish lip trill and tongue trill because she feels that this one is easier to do. | K10: easy, vibrating sensation | L10: She thinks this exercise is funny, because of the bubbly sound it makes in the water. She like this the most because it feels like playing | M10: Funny, Feels like playing | N10: ((we didn't check after the intervention)) | O10: ((forgot to ask)) | P10: N/A
A11: 7 | B11: ='Data-transposed view'!B8 -> Kidung | C11: https://youtu.be/YxS532DROLk | D11: Participant feels tickles in the area between nose and top lip. she thinks this is easy no other sensation, things are easy | E11: Ticklish, easy | F11: she just feels normal, no special sensations. compared to liptrill she like liptrill because it is easier to do | G11: normal, no special sensations. harder than lip trill | H11: She feels nothing, nothing to tell. no tickles no pressure. no special sensations. She likes blowfish compared to liptrill and tongue trills because she thinks this exercise is easier than the other two | I11: easier than lip trill, easier than tongue trill, no special sensation | J11: She feels that this exercise is harder. harder to blow. harder to make sound. | K11: challenging to blow, challenging to make sound | L11: just normal, no special sensations. | M11: normal, no special sensation | N11: she feels there's difference. She feel that before the intervention, her voice is wider, also she feels that it was heavier to sing before the intervention, while after the intevention, it was more easier to sing. She like her voice better after the exercise | O11: Yes | P11: Easier to sing, More favorable sound
A12: 8 | B12: ='Data-transposed view'!B9 -> Carissa | C12: https://youtu.be/wwGCpwolrhE | D12: tickles middle lips | E12: Ticklish | F12: it's a bit shaky and ticklish at the roof of her mouth. it is harder than liptrill | G12: Ticklish, shaky, harder than lip trill | H12: there's a lot of air in her mouth, kind of helpfull kind of not, however she still feels okay (not feeling too disturbed), feeling of vibration in the front teeth, not too hard but not too easy kind of in the middle. | I12: lots of air in the mouth, vibrating sensation in teeth, moderate easiness | J12: hard to keep focus on blowing and siging at the same time. If she focus on the blow, the sound feels small, but if she focus on the singing the blow didnt happened. She feels tickels in her lips. My voice it feels like airy and tiny | K12: voice gets tiny, Ticklish, airy | L12: tickles sesation through the straw and mouth. Bubbles are louder than my voice. This is my favourite one. because it is fun, because it's has ticklish sensation,and because of the bubbles | M12: Ticklish, I like this, fun | N12: she feels a little different between before and after. she feels easier to reach the high notes. it is easier to sing and it si lighter to sing, before it feels heavy | O12: Yes | P12: Easier to sing, easier to reach higher notes
A13: 9 | B13: ='Data-transposed view'!B10 -> Elena | C13: https://youtu.be/6SsU4ohtnZQ | D13: she feels tickles around the area between upper lip and nose. vibration in the mouth, can be difficult at first, but since she already used to this exercise, then it just feels normal now. | E13: Ticklish, vibrating sensation, difficult | F13: particularrly hard, especially if you are a person who cannot rolled your rrs (people with rhotacism) | G13: difficult, limited to those who can rolled their rrs | H13: She thinks that this exercise is very funny, especially when looking at people doing it, the face looks silly. no other particular sensations that she was able to report. | I13: funny, no special sensation | J13: it's okay. it's funny. buzzing in the mouth in the straw. | K13: funny, buzzing | L13: this one is nice. sometimes the bottle vibrates. | M13: vibrating sensation, comfortable | N13: She cant tell the difference before and after teh exercises. However she does feel that she can reach higher notes now compared to before the SOVTs exercise. She feels that it is a bit more easier to sing after the SOVT exercieses | O13: Yes | P13: Easier to sing, easier to reach higher notes
A14: 10 | B14: ='Data-transposed view'!B11 -> Emily | C14: https://youtu.be/0c7W04SeD0M | D14: tickle in nose. and vibrating sensation in nose and mouth area. tiredness in tummy | E14: Ticklish, vibrating sensation, tiredness | F14: Tonge trill is harder than lip trill. vibrations in the tongue. no other specific sensations that she can explains. | G14: harder than lip trill, vibrating sensation, | H14: a bit difficult. harder than lip trill easier than tongue trill. there vibration sesations in the teeth | I14: harder than lip trill, easier tthan tongue trill, vibrating sensation in teeth | J14: tiredness on the top lips. vibrating on the lips and straw. | K14: tiredness, vibrating sensation | L14: nothing particular. vibrating sensation in the mouth. | M14: no special sensation, vibtraing sensation | N14: ((wasn't asked))
A15: 11 | B15: ='Data-transposed view'!B12 -> Sophia | C15: https://youtu.be/xukJMQuyH_A | D15: tingling in the area between nose and upper lips. buzzing in the head area. glasses move up and down. level of easiness: easy | E15: Ticklish, buzzing, easy | F15: regular, just like saying rrs over and over again. easy to moderate. sometimes the rrs could not hold for long. easiness sort of the same with lip trill. I would choose tongue trill because in lip trill there's the Ticklish sensastions | G15: normal, moderate easiness, hard to maintain the trills, | H15: more effort is needed. the blowing makes it hard for me to hit the right pitch. it feels a bit difficult than the other. It feels like im blowing air to other people like human air-con | I15: extra effort, pitchy, harder than lip trill, harder than tongue trill, airy | J15: first time it is a bit difficult to hit the notes perfectly, but after some time getting used to it, it becomes easier. no special sensation, not harder than blowfish | K15: difficult at first, need to get used to | L15: a little bit harder to hit the notes. but it reminds me of swimming. it is fun, it gives childhood memories. it doesnt gives any ticklish | M15: challenging to hit the notes, fun, gives childhood memories, Ticklish | N15: a bit more warmed up. because we are doing a different type of warm up. it is more easier to sing because it is feels more warmed up | O15: Yes | P15: More warmed up, Easier to sing
A16: 12 | B16: ='Data-transposed view'!B13 -> Kezia | C16: ='Data-transposed view'!D13 -> https://youtu.be/hIbj8PQZ5hs?si=-0ugR1lXh6EdsnH8 | D16: difficult | E16: difficult | F16: Vibration | G16: Vibration | H16: ='Data-transposed view'!AC13 -> Need a lot of breath. Medium level of difficulties. Interesting because it is new experience. No particular physical sensation | I16: lots of breath, no special sensation, moderate difficulties | J16: ='Data-transposed view'!AJ13 -> You need a lot of breath to do it. Medium level of difficulty | K16: challenging to blow, medium level difficult | L16: ='Data-transposed view'!AQ13 -> Pretty interesting. Water keep splashing into my hands | M16: interesting, wet | N16: ='Data-transposed view'!BA13 -> a more stronger sound
A17: 13 | B17: ='Data-transposed view'!B14 -> Nina | C17: ='Data-transposed view'!D14 -> 0 | D17: ='Data-transposed view'!O14 -> "It was hard, but once you get the hang of it, you can do it! It's also very fun to do! I feel a little ticklish, and (i can feel) vibration" | E17: difficult, Ticklish, fun, vibrating sensation | F17: ='Data-transposed view'!V14 -> Very hard. It took me months to actually nail this tongue-trill. But overall it's almost the smae thing as the lip trill. This was a little ticklish, almost like the lip trill, but it's a bit painful | G17: difficult, Ticklish, slightly pain | H17: ='Data-transposed view'!AC14 -> It was pretty difficult, but at least I still can do it. My cheeks are quite sore from this exercise | I17: difficult, slightly pain | J17: ='Data-transposed view'!AJ14 -> Confusing, very new to me. But it's fun actually! I don't really (feel) anything through out the exercise | K17: confusing, fun, no special sensation | L17: ='Data-transposed view'!AQ14 -> Very satisfying! Very ASMR and it's so fun! There's actually nothing that I felt, but I only hear bubbles | M17: satisfying, comfortable, fun, bubbles, no sensasion | N17: ='Data-transposed view'!BA14 -> I feel comfortable after these five exercises and my voice is a lot different
A18: 14 | B18: ='Data-transposed view'!B15 -> Jayden | C18: ='Data-transposed view'!D15 -> https://youtu.be/J2O-zSOnWjo?si=As4AGHExpA5RizXK | D18: ='Data-transposed view'!O15 -> "a bit hard (difficult) to do", "interesting". ticklish/tickle (pointing at the area between nose and lips) | E18: difficult, interesting, Ticklish, | F18: ='Data-transposed view'!V15 -> Interesting, a bit weird, feeling vibration around the mouth (lips) | G18: interesting, weird, vibrating sensation | H18: ='Data-transposed view'!AC15 -> Feeling weird, no particular sensation, makes me want to cough | I18: weird, no special sensation, Ticklish | J18: ='Data-transposed view'!AJ15 -> It is interesting, no physical sensation, a bit vibration a the mouth (lips) | K18: interesting, no sepecial sensation, vibrating sensation | L18: ='Data-transposed view'!AQ15 -> Weird, interesting, a bit hard to do. No particular sensation | M18: weird, interesting, difficult, no special sensation | N18: ='Data-transposed view'!BA15 -> A bit more easier to sing.
A19: 15 | B19: ='Data-transposed view'!B16 -> Naomi | C19: ='Data-transposed view'!D16 -> 0 | D19: ='Data-transposed view'!O16 -> The vibrations make the surroundings of the lip a bit ticklish, and it is a bit difficult to do it continuously, so there are little breaks. Overall, I think lip trill is medium on a scale of easy to hard (8 or 7 out of 10) | E19: vibrating sensation, Ticklish, moderate easiness | F19: ='Data-transposed view'!V16 -> Tongue trill is very fun to do but not as fun as lip trill. The first few tongue trills were pretty easy but it became harder at the end, it is pretty hard (7/10) | G19: fun, easy, moderate easiness | H19: ='Data-transposed view'!AC16 -> I like it, but I wouldn't do this most of the time. I don't prefer this exercise (6.5/10) | I19: I don't like this | J19: ='Data-transposed view'!AJ16 -> It is comfortable, but you have to hold the straw to make sure your voice is stable. It is pretty interesting. I feel vibrations, I'm not sure where, though. | K19: comfortable, interesting, vibrating sesation, | L19: ='Data-transposed view'!AQ16 -> It is satisfying to do and it is so fun. It is really comfortable to do and see water. I could feel vibrations (I don't know where) and the blowing of water makes me blow more. | M19: satisfying, fun, comfortable, vibrating sensation, | N19: ='Data-transposed view'!BA16 -> Yes, I feel changes in my voice. It is more comfortable to sing and I could reach the higher notes more comfortably.
A20: 16 | B20: ='Data-transposed view'!B17 -> Amalia | C20: ='Data-transposed view'!D17 -> 0 | D20: ='Data-transposed view'!O17 -> It is pretty easy to me. I had done this since I was little so I find it easy. | E20: easy | F20: ='Data-transposed view'!V17 -> I find this a little hard for me because I can't really rolls my tongue that much. My tongue feels the same, so I don't really feel any physical sensation | G20: difficult, no special sensations | H20: ='Data-transposed view'!AC17 -> I thought it was hard at first, but when I tried it, it didn't seem to be that hard. | I20: moderate easiness | J20: ='Data-transposed view'!AJ17 -> At first, I thought it was hard because I didn't know how to sing through a straw. I don't really feel any physical sensation in this exercise | K20: difficult, no special sensation | L20: ='Data-transposed view'!AQ17 -> My first impression seemed cool and fun because we were bubbling water. I didn't really feel any physical sensation in this exercise. | M20: fun, no special sensation | N20: ='Data-transposed view'!BA17 -> After 5 exercises, my voice feels the same.
A21: 17 | B21: ='Data-transposed view'!B18 -> Helsa | C21: ='Data-transposed view'!D18 -> https://youtu.be/ACmRd5VfsAc?si=l8Le1cVKspPwYdt_ | D21: ='Data-transposed view'!O18 -> I don't like doing it. I don't know which to focus: the singing or the lip-trill. It's hard for me. I don't do lip-trill. Lips feels lighter | E21: I don't like, difficult, loosing focus, confusing, lips feels lighter | F21: ='Data-transposed view'!V18 -> I don't know which one to focus, the tongue trill or the singing. How to maintain is also hard/difficult. Lebih lega/ more like open, like air can flows better (after doing this exercise) | G21: confusing, difficult, loosing focus | H21: ='Data-transposed view'!AC18 -> It's hard. I can't blow that long. I guess it's practising your breath. No particular physical sensation. Just simply don't like it. | I21: difficult, no special sensation, I don't like this | J21: ='Data-transposed view'!AJ18 -> I don't like this. Hard to sing while blowing. I can not blow in it. It feels like loosing air easily. I keep gasping for air. | K21: I don't like this, difficult, keep loosing air | L21: ='Data-transposed view'!AQ18 -> The one with water is easier than the previous one (the one without water). It is interesting. I like it better with water. I can focus more on the voice. | M21: interesting, easy, i like this, | N21: ='Data-transposed view'!BA18 -> I don't feel any different. I feel that the lip-trill did some effect.
A22: 18 | B22: ='Data-transposed view'!B19 -> Joel | C22: ='Data-transposed view'!D19 -> https://youtu.be/P38XZnDyRTw?si=_CHBQ7XLPeQHctqh | D22: ='Data-transposed view'!O19 -> It was really fun. I feel that it's like if my lips are like the fly's wings that flap really fast. | E22: fun, lips feels lighter | F22: ='Data-transposed view'!V19 -> I thought it was a little enjoyable. I feel like something just at the back of my mouth was vibrating. | G22: enjoyable, vibrating sensation | H22: ='Data-transposed view'!AC19 -> At first, I thought I had to close my lips when doing this exercise. It feel like a plain feeling. | I22: no special sensation | J22: ='Data-transposed view'!AJ19 -> It was fun for me. It is easy and I think anyone can do it. It was really good. If you put your hand in front of your straw, if you blow into it, it will have a gust of air. If you humm, the air will be warm. | K22: fun, easy, | L22: ='Data-transposed view'!AQ19 -> I enjoy this so much. I feel that as I sing humm the water keep like bubbling and a little water touched parts near my mouth. | M22: enjoyable, | N22: ='Data-transposed view'!BA19 -> It was the same voice.
A23: 19 | B23: ='Data-transposed view'!B20 -> Daniel | C23: ='Data-transposed view'!D20 -> https://youtu.be/tkxpWwXU-hU?si=uKr7kHMau8591b7y | D23: ='Data-transposed view'!O20 -> Tickels at the area between nose and upper lips. Sometimes I don't realize how it is useful. I don't think it's hard, but it is hard to maintain the constant of the sound. It is okay for beginner. | E23: Ticklish, useless, medium difficulty | F23: ='Data-transposed view'!V20 -> Not really different from the first exercise, it just that I have to be more focus, because (for me) tongue movement is harder than lips (movement). For someone that is expert, I don't think this would be useful, but I think this should be okay for beginner. No physical sensation | G23: difficult, loosing focus, useless, no special sensations, harder than lip trill | H23: ='Data-transposed view'!AC20 -> At first, I thought this would be useful, but then I don't really find the purpose of this exercise. (for me) doing blowfish on a high notes basically like humming on a high notes. It feels a bit harder because the wind have to comes out and the singing technique becomes a bit harder: when you sing and doing blowfish is hard. No physical sensation, not that much. | I23: useless, difficult, no special sensation | J23: ='Data-transposed view'!AJ20 -> Nothing physical. First I thought it's going to be hard because I have to blow while singing, but turns out I can get the hang of it. For some reason, it is like the last exercise it feels like humming. It is harder on the high notes, but on the low notes it is okay. | K23: no special sensation, medium easiness, challenging on the high notes | L23: ='Data-transposed view'!AQ20 -> I feel like it helps some way, but not really effective, just like blowing, we can only hear bubbles instead of our own voice, I don't know if this is usefull as tools for exercise, maybe for beginners. It was easy at the low notes, but the for high notes I have to project pressure more to blow the bubbles, at the same time I need to make may voice clear. No physical sensation. | M23: no special sensation, useless, easy on the low notes, more effort on the high notes | N23: ='Data-transposed view'!BA20 -> I dont think all these five exercises really helps. At first I thougth that the second time I sing was because of the five exercises, but aftter I think about it, I think it is more because I already now more familiar with the given melody.
A24: 20 | B24: ='Data-transposed view'!B21 -> Keana | C24: ='Data-transposed view'!D21 -> https://youtu.be/a3QbuGE-DDc?si=rb9D7mW6bFIaE-IT | D24: ='Data-transposed view'!O21 -> Tickle (10/10 very ticklish). Nose, and area between nose an lips. Because it is ticklish I cannot focus on my singing. Sometimes it's hard to reach the high notes. It's also kind of hard because sometimes it just stop. | E24: Ticklish, loosing focus, difficult, | F24: ='Data-transposed view'!V21 -> Weird, it feels like my throat is closing up. It's also tricky, but it is a lot easier to reach the high notes (compared to liptrill). My hard palate feels like jiggly (like wobbling/vibrating), i don't like that. It really feels uncomfortable. When I'm doing it, it feels hard to reach the high notes, but turns out, unexpectedly, I can do it anyway. It feels like having allegic reaction. | G24: weird, difficult, vibrating sensation, I don't like it, uncomfortable, Ticklish | H24: ='Data-transposed view'!AC21 -> It is really easy, but it's hard to breathe. because all the air is coming out. like keep like loosing air. But it is easier to reach high notes. No physical sensation. It is just funny. | I24: easy, hard to breathe, keep loosing air, no special sensation, funny | J24: ='Data-transposed view'!AJ21 -> I don't like it, it's soo hard. It goes all over your face, I have to sing it slowly so it doesnt crack. Keep having voice crack. Hard to breathe to. Uncomfortable, It feels like need more effort and be more detail. careful to do it so your voice dont crack. A little vibration all over my face, although they are tiny. | K24: I don't like this, difficult, my voice cracking, challenging to breathe, uncomfortable, extra effort, vibrating sensation | L24: ='Data-transposed view'!AQ21 -> It's really hard. The vibration in my tongue. And also it closes up my throat. I need to be more carefull in sing it because i keep having voice crack. It's not letting me to reach the high notes. It feels like being underwater and can not reach the high notes. Tickles at the bottom of tongue. | M24: difficult, vibrating sensation, voice crack, Ticklish | N24: ='Data-transposed view'!BA21 -> yes a little bit different. I don't know, suddenly it's hard to reach the hight notes. On the low notes it feels like you relieve (more easy to sing).
A25: 21 | B25: ='Data-transposed view'!B22 -> Inessa | C25: ='Data-transposed view'!D22 -> https://youtu.be/k9Wy8mXrhOM?si=4k5yEBMO7AmtqY9N | D25: ='Data-transposed view'!O22 -> Ticklenness in the area between nose and lips. Actually Fun, Itchiness, sometimes difficult | E25: Ticklish, fun, Itchy, difficult | F25: ='Data-transposed view'!V22 -> Difficult, harder than liptrill. A bit ticklish, up here inside the rooftop (hard palate) of the mouth and also at the tongue. Dificulties level 6 out of 10. | G25: Difficult, harder than liptrill, Ticklish, moderate easiness | H25: ='Data-transposed view'!AC22 -> It's not really difficult. There was a lot of air coming out | I25: easy, keep loosing air | J25: ='Data-transposed view'!AJ22 -> This (exercises) is kind of not to be expected (in terms of it is new experience). Actually it is a very interesting (exercise). I like this exercise. It's like my voice is smaller because (they) are going to the tube. I can feel a little bit of vibration at my lips that in contact with the straw. | K25: interesting, I like this, vibrating sensation, | L25: ='Data-transposed view'!AQ22 -> It's interesting, also fun, more fun than the one without water. It's actually very unique, because i've never done it. | M25: interesting, fun, unique | N25: ='Data-transposed view'!BA22 -> After the exercise, singing feels lighter, easier, and more comfortable. However, nerves might also contribute to discomfort during singing prior to the exercise.
D28: PERCEIVED PHYSICAL SENSATION
C29: Type of feedback | D29: Lip trill | F29: Tongue trill | H29: Blowfish | J29: Straw phonation | L29: Water Resistance Exercise
C30: Positivie & | D30: Ticklish | E30: =COUNTIF($E$5:$E$25,"*"&D30&"*") -> 15 | F30: Vibrating sensation | G30: =COUNTIF($G$5:$G$25,"*"&F30&"*") -> 6 | H30: Ticklish | I30: =COUNTIF($I$5:$I$25,"*"&H30&"*") -> 3 | J30: Vibrating sensation | K30: =COUNTIF($K$5:$K$27,"*"&J30&"*") -> 5 | L30: Vibrating sensation | M30: =COUNTIF($M$5:$M$25,"*"&L30&"*") -> 5
C31: Neutral | D31: Vibrating sensation | E31: =COUNTIF($E$5:$E$25,"*"&D31&"*") -> 5 | F31: Ticklish | G31: =COUNTIF($G$5:$G$25,"*"&F31&"*") -> 5 | H31: Vibrating sensation | I31: =COUNTIF($I$5:$I$25,"*"&H31&"*") -> 2 | J31: Ticklish | K31: =COUNTIF($K$5:$K$27,"*"&J31&"*") -> 3 | L31: Ticklish | M31: =COUNTIF($M$5:$M$25,"*"&L31&"*") -> 3
D32: lips feels lighter | E32: =COUNTIF($E$5:$E$25,"*"&D32&"*") -> 2 | F32: shaky | G32: =COUNTIF($G$5:$G$25,"*"&F32&"*") -> 1 | H32: airy | I32: =COUNTIF($I$5:$I$25,"*"&H32&"*") -> 1 | J32: voice gets tiny | K32: =COUNTIF($K$5:$K$27,"*"&J32&"*") -> 2 | L32: comfortable | M32: =COUNTIF($M$5:$M$25,"*"&L32&"*") -> 4
D33: buzzing | E33: =COUNTIF($E$5:$E$25,"*"&D33&"*") -> 1 | H33: lots of air in the mouth | I33: =COUNTIF($I$5:$I$25,"*"&H33&"*") -> 1 | J33: comfortable | K33: =COUNTIF($K$5:$K$27,"*"&J33&"*") -> 2 | L33: bubbles | M33: =COUNTIF($M$5:$M$25,"*"&L33&"*") -> 1
H34: head posture tilting up | I34: =COUNTIF($I$5:$I$25,"*"&H34&"*") -> 1 | J34: buzzing | K34: =COUNTIF($K$5:$K$27,"*"&J34&"*") -> 1
J35: airy | K35: =COUNTIF($K$5:$K$27,"*"&J35&"*") -> 1
F36: no special sensations | G36: =COUNTIF($G$5:$G$25,"*"&F36&"*") -> 3 | H36: no special sensation | I36: =COUNTIF($I$5:$I$25,"*"&H36&"*") -> 10 | J36: no special sensation | K36: =COUNTIF($K$5:$K$27,"*"&J36&"*") -> 4 | L36: no special sensation | M36: =COUNTIF($M$5:$M$25,"*"&L36&"*") -> 6
F37: normal | G37: =COUNTIF($G$5:$G$25,"*"&F37&"*") -> 2 | L37: normal | M37: =COUNTIF($M$5:$M$25,"*"&L37&"*") -> 1
C38: Negative | F38: uncomfortable | G38: =COUNTIF($G$5:$G$25,"*"&F38&"*") -> 2 | H38: keep loosing air | I38: =COUNTIF($I$5:$I$25,"*"&H38&"*") -> 2 | J38: keep loosing air | K38: =COUNTIF($K$5:$K$27,"*"&J38&"*") -> 1 | L38: uncomfortable | M38: =COUNTIF($M$5:$M$25,"*"&L38&"*") -> 1
F39: slightly pain | G39: =COUNTIF($G$5:$G$25,"*"&F39&"*") -> 1 | H39: slightly pain | I39: =COUNTIF($I$5:$I$25,"*"&H39&"*") -> 2 | J39: mumbling | K39: =COUNTIF($K$5:$K$27,"*"&J39&"*") -> 1 | L39: Pain | M39: =COUNTIF($M$5:$M$25,"*"&L39&"*") -> 1
H40: pitchy | I40: =COUNTIF($I$5:$I$25,"*"&H40&"*") -> 1 | J40: uncomfortable | K40: =COUNTIF($K$5:$K$27,"*"&J40&"*") -> 1 | L40: voice crack | M40: =COUNTIF($M$5:$M$25,"*"&L40&"*") -> 1
C42: Type of feedback | D42: PERCEIVED EFFORT REQUIRED
D43: Lip trill | F43: Tongue trill | H43: Blowfish | J43: Straw phonation | L43: Water Resistance Exercise
C44: Positive | D44: easy | E44: =COUNTIF($E$5:$E$25,"*"&D44&"*") -> 3 | F44: moderate easiness | G44: =COUNTIF($G$5:$G$25,"*"&F44&"*") -> 4 | H44: easy | I44: =COUNTIF($I$5:$I$25,"*"&H44&"*") -> 2 | J44: easy | K44: =COUNTIF($K$5:$K$27,"*"&J44&"*") -> 2 | L44: easy | M44: =COUNTIF($M$5:$M$25,"*"&L44&"*") -> 3
D45: moderate easiness | E45: =COUNTIF($E$5:$E$25,"*"&D45&"*") -> 1 | F45: easier than lip trill | G45: =COUNTIF($G$5:$G$25,"*"&F45&"*") -> 2 | H45: easier than lip trill | I45: =COUNTIF($I$5:$I$25,"*"&H45&"*") -> 2
F46: easy | G46: =COUNTIF($G$5:$G$25,"*"&F46&"*") -> 2 | H46: easier than tongue trill | I46: =COUNTIF($I$5:$I$25,"*"&H46&"*") -> 2
H47: moderate easiness | I47: =COUNTIF($I$5:$I$25,"*"&H47&"*") -> 2
C48: Negative | D48: difficult | E48: =COUNTIF($E$5:$E$25,"*"&D48&"*") -> 11 | F48: difficult | G48: =COUNTIF($G$5:$G$25,"*"&F48&"*") -> 7 | H48: harder than lip trill | I48: =COUNTIF($I$5:$I$25,"*"&H48&"*") -> 3 | J48: difficult | K48: =COUNTIF($K$5:$K$27,"*"&J48&"*") -> 6 | L48: challenging to hit the notes | M48: =COUNTIF($M$5:$M$25,"*"&L48&"*") -> 1
D49: tiredness | E49: =COUNTIF($E$5:$E$25,"*"&D49&"*") -> 1 | F49: harder than lip trill | G49: =COUNTIF($G$5:$G$25,"*"&F49&"*") -> 7 | H49: harder than tongue trill | I49: =COUNTIF($I$5:$I$25,"*"&H49&"*") -> 2 | J49: need to get used to | K49: =COUNTIF($K$5:$K$27,"*"&J49&"*") -> 2
D50: pitch going sharp | E50: =COUNTIF($E$5:$E$25,"*"&D50&"*") -> 1 | F50: hard to maintain the trills | G50: =COUNTIF($G$5:$G$25,"*"&F50&"*") -> 1 | H50: extra effort | I50: =COUNTIF($I$5:$I$25,"*"&H50&"*") -> 2 | J50: challenging to blow | K50: =COUNTIF($K$5:$K$27,"*"&J50&"*") -> 2
F51: limited to those who can rolled their rrs | G51: =COUNTIF($G$5:$G$25,"*"&F51&"*") -> 1 | H51: challenging in the upper range | I51: =COUNTIF($I$5:$I$25,"*"&H51&"*") -> 1 | J51: challenging to hold the straw | K51: =COUNTIF($K$5:$K$27,"*"&J51&"*") -> 1
F52: not used to it | G52: =COUNTIF($G$5:$G$25,"*"&F52&"*") -> 1 | H52: hard to breathe | I52: =COUNTIF($I$5:$I$25,"*"&H52&"*") -> 1 | J52: challenging to make consistent airflow | K52: =COUNTIF($K$5:$K$27,"*"&J52&"*") -> 1
H53: tiredness | I53: =COUNTIF($I$5:$I$25,"*"&H53&"*") -> 1 | J53: challenging at first | K53: =COUNTIF($K$5:$K$27,"*"&J53&"*") -> 1
H54: more push | I54: =COUNTIF($I$5:$I$25,"*"&H54&"*") -> 1 | J54: challenging to make sound | K54: =COUNTIF($K$5:$K$27,"*"&J54&"*") -> 1
J55: challenging on the high notes | K55: =COUNTIF($K$5:$K$27,"*"&J55&"*") -> 1
J56: challenging to breathe | K56: =COUNTIF($K$5:$K$27,"*"&J56&"*") -> 1
J57: tiredness | K57: =COUNTIF($K$5:$K$27,"*"&J57&"*") -> 1
C59: Type o feedback | D59: EMOTIONAL RESPONSES
D60: Lip trill | F60: Tongue trill | H60: Blowfish | J60: Straw phonation | L60: Water Resistance Exercise
C61: Positive | D61: fun | E61: =COUNTIF($E$5:$E$25,"*"&D61&"*") -> 3 | F61: interesting | G61: =COUNTIF($G$5:$G$25,"*"&F61&"*") -> 1 | H61: funny | I61: =COUNTIF($I$5:$I$25,"*"&H61&"*") -> 2 | J61: interesting | K61: =COUNTIF($K$5:$K$27,"*"&J61&"*") -> 3 | L61: fun | M61: =COUNTIF($M$5:$M$25,"*"&L61&"*") -> 9
D62: interesting | E62: =COUNTIF($E$5:$E$25,"*"&D62&"*") -> 1 | F62: enjoyable | G62: =COUNTIF($G$5:$G$25,"*"&F62&"*") -> 1 | J62: Calm | K62: =COUNTIF($K$5:$K$27,"*"&J62&"*") -> 1 | L62: interesting | M62: =COUNTIF($M$5:$M$25,"*"&L62&"*") -> 4
J63: funny | K63: =COUNTIF($K$5:$K$27,"*"&J63&"*") -> 1 | L63: I like this | M63: =COUNTIF($M$5:$M$25,"*"&L63&"*") -> 2
L64: satisfying | M64: =COUNTIF($M$5:$M$25,"*"&L64&"*") -> 2
L65: feels like playing | M65: =COUNTIF($M$5:$M$25,"*"&L65&"*") -> 1
L66: gives childhood memories | M66: =COUNTIF($M$5:$M$25,"*"&L66&"*") -> 1
L67: funny | M67: =COUNTIF($M$5:$M$25,"*"&L67&"*") -> 1
L68: enjoyable | M68: =COUNTIF($M$5:$M$25,"*"&L68&"*") -> 1
L69: unique | M69: =COUNTIF($M$5:$M$25,"*"&L69&"*") -> 1
L70: useless | M70: =COUNTIF($M$5:$M$25,"*"&L70&"*") -> 1
C71: Negative | D71: loosing focus | E71: =COUNTIF($E$5:$E$25,"*"&D71&"*") -> 2 | F71: loosing focus | G71: =COUNTIF($G$5:$G$25,"*"&F71&"*") -> 2 | H71: I don't like this | I71: =COUNTIF($I$5:$I$25,"*"&H71&"*") -> 2 | J71: I don't like this | K71: =COUNTIF($K$5:$K$27,"*"&J71&"*") -> 2 | L71: weird | M71: =COUNTIF($M$5:$M$25,"*"&L71&"*") -> 1
D72: confusing | E72: =COUNTIF($E$5:$E$25,"*"&D72&"*") -> 1 | F72: confusing | G72: =COUNTIF($G$5:$G$25,"*"&F72&"*") -> 1 | H72: useless | I72: =COUNTIF($I$5:$I$25,"*"&H72&"*") -> 1 | J72: confusing | K72: =COUNTIF($K$5:$K$27,"*"&J72&"*") -> 1
D73: frustration | E73: =COUNTIF($E$5:$E$25,"*"&D73&"*") -> 1 | F73: useless | G73: =COUNTIF($G$5:$G$25,"*"&F73&"*") -> 1
D74: useless | E74: =COUNTIF($E$5:$E$25,"*"&D74&"*") -> 1
D89: Themes | F89: Themes | H89: Themes | J89: Themes | L89: Themes
D90: Physical Sensation | E90: Ticklish/tickles, mostly in the nose and lips, vibrating sensation, buzzing in the head area | F90: Physical Sensation | G90: Ticklish/Tickles, vibrating sensation | H90: Physical Sensation | I90: some participants feel tinckles/tingles, while some other not feeling any noticeable sensation, one respondent feels pain in the chin, and tiredness | J90: Physical Sensation | K90: Tingles/Tickles, vibration, buzzing, tiredness | L90: Physical Sensation | M90: Unrelaxed, tickles
D91: Effort involved | E91: difficulty in stabilizing the pitch, in changing register, tiredness, however, some paticipants perceived this as easy task to do, especially once already used to it. | F91: Effort involved | G91: more difficult than lip trill, difficult to maintain the trills, although to some participants this exercie is easier than lip trill | H91: Effort involved | I91: Some consider as harder and more effort than lip trill and tongue trill, while some other consider this exercise as easier than those tow exercises. | J91: Effort involved | K91: extra effort to hold the straw, extra effort to blow and maintain airflow | L91: Effort involved | M91: easy
D92: Emotional Responses | E92: frustrating for a non-liptriller, | F92: Emotional Responses | G92: uncomfortable, especially for those who claims as unable to trill rrs (rhotacism) | H92: Emotional Responses | I92: funny, silly, | J92: Emotional Responses | K92: calm, funny | L92: Emotional Responses | M92: Fun, funny, feels like playing
D97: Lip trill | E97: Tongue trill | F97: Blowfish | G97: Straw phonation | H97: Water Resistance
C98: Ticklish | D98: 9 | E98: 2 | F98: 2 | G98: 3 | H98: 2
C99: vibrating sensation | D99: 4 | E99: 4 | F99: 2 | G99: 3 | H99: 3
B100: Code Frequency | C100: tiredness | D100: 1 | E100: 0 | F100: 1 | G100: 1 | H100: 0
B101: Comparative analysis of themes | C101: pain | D101: 0 | E101: 0 | F101: 1 | G101: 0 | H101: 1
B102: Themes
B103: Physical Sensation | C103: no sensation | D103: 0 | E103: 3 | F103: 4 | G103: 1 | H103: 4
D105: Lip trill | E105: Tongue trill | F105: Blowfish | G105: Straw phonation | H105: Water Resistance
C106: Difficult | D106: 5 | E106: 9 | F106: 9 | G106: 7 | H106: 1
C107: Easy | D107: 2 | E107: 5 | F107: 5 | G107: 1 | H107: 1
D110: Lip trill | E110: Tongue trill | F110: Blowfish | G110: Straw phonation | H110: Water Resistance
B111: Effort involved | C111: uncomfortable feeling & frustration | D111: 1 | E111: 1 | F111: 0 | G111: 0 | H111: 1
C112: Calmness | D112: 0 | E112: 0 | F112: 0 | G112: 1 | H112: 0
C113: Fun/Funny/Happy | D113: 0 | E113: 0 | F113: 1 | G113: 1 | H113: 9
B116: Emotional Responses

Sheet 3_Rank based on Favoritism
C1: Quant
C2: SOVT Favoritism / Rank | O2: Frequencies | P2: Lip trill | Q2: Tongue trill | R2: Blowfish | S2: Straw phonation | T2: Water Resistance
O3: Being ranked as the first | P3: =COUNTIF($L$7:$L$27,P2) -> 5 | Q3: =COUNTIF($L$7:$L$27,Q2) -> 4 | R3: =COUNTIF($L$7:$L$27,R2) -> 2 | S3: =COUNTIF($L$7:$L$27,S2) -> 1 | T3: =COUNTIF($L$7:$L$27,T2) -> 9
O4: Being ranked as the last | P4: =COUNTIF($M$7:$M$27,P2) -> 5 | Q4: =COUNTIF($M$7:$M$27,Q2) -> 8 | R4: =COUNTIF($M$7:$M$27,R2) -> 3 | S4: =COUNTIF($M$7:$M$27,S2) -> 3 | T4: =COUNTIF($M$7:$M$27,T2) -> 2
C5: Students rank their SOVT most favorite to least favourite
C6: Name | D6: Participant # | E6: Lip trill | F6: Tongue trill | G6: Blowfish | H6: Straw phonation | I6: Water Resistance | L6: Most Favorite SOVT | M6: Least Favorite SOTV | P6: Lip trill | Q6: Tongue trill | R6: Blowfish | S6: Straw phonation | T6: Water Resistance
A7: 1 | B7: Boy | C7: ='Data-transposed view'!B2 -> Andrew | D7: ="Participant #"&A7 -> Participant #1 | E7: =IF(E47=5,"Fifth",IF(E47=4,"Fourth",IF(E47=3,"Third",IF(E47=2,"Second",IF(E47=1,"First"))))) -> Fifth | F7: =IF(F47=5,"Fifth",IF(F47=4,"Fourth",IF(F47=3,"Third",IF(F47=2,"Second",IF(F47=1,"First"))))) -> Second | G7: =IF(G47=5,"Fifth",IF(G47=4,"Fourth",IF(G47=3,"Third",IF(G47=2,"Second",IF(G47=1,"First"))))) -> Fourth | H7: =IF(H47=5,"Fifth",IF(H47=4,"Fourth",IF(H47=3,"Third",IF(H47=2,"Second",IF(H47=1,"First"))))) -> Third | I7: =IF(I47=5,"Fifth",IF(I47=4,"Fourth",IF(I47=3,"Third",IF(I47=2,"Second",IF(I47=1,"First"))))) -> First | K7: Participant #1 | L7: Water Resistance | M7: Lip trill | O7: Most Favorite SOVT | P7: =P3/SUM($P$3:$T$3) -> 0.23809524 | Q7: =Q3/SUM($P$3:$T$3) -> 0.19047619 | R7: =R3/SUM($P$3:$T$3) -> 0.095238095 | S7: =S3/SUM($P$3:$T$3) -> 0.047619048 | T7: =T3/SUM($P$3:$T$3) -> 0.42857143
A8: 2 | B8: Girl | C8: ='Data-transposed view'!B3 -> Kamini | D8: ="Participant #"&A8 -> Participant #2 | E8: =IF(E48=5,"Fifth",IF(E48=4,"Fourth",IF(E48=3,"Third",IF(E48=2,"Second",IF(E48=1,"First"))))) -> Second | F8: =IF(F48=5,"Fifth",IF(F48=4,"Fourth",IF(F48=3,"Third",IF(F48=2,"Second",IF(F48=1,"First"))))) -> Fifth | G8: =IF(G48=5,"Fifth",IF(G48=4,"Fourth",IF(G48=3,"Third",IF(G48=2,"Second",IF(G48=1,"First"))))) -> Fourth | H8: =IF(H48=5,"Fifth",IF(H48=4,"Fourth",IF(H48=3,"Third",IF(H48=2,"Second",IF(H48=1,"First"))))) -> First | I8: =IF(I48=5,"Fifth",IF(I48=4,"Fourth",IF(I48=3,"Third",IF(I48=2,"Second",IF(I48=1,"First"))))) -> Third | K8: Participant #2 | L8: Straw phonation | M8: Tongue trill
A9: 3 | B9: Girl | C9: ='Data-transposed view'!B4 -> Gaby | D9: ="Participant #"&A9 -> Participant #3 | E9: =IF(E49=5,"Fifth",IF(E49=4,"Fourth",IF(E49=3,"Third",IF(E49=2,"Second",IF(E49=1,"First"))))) -> Fifth | F9: =IF(F49=5,"Fifth",IF(F49=4,"Fourth",IF(F49=3,"Third",IF(F49=2,"Second",IF(F49=1,"First"))))) -> Fourth | G9: =IF(G49=5,"Fifth",IF(G49=4,"Fourth",IF(G49=3,"Third",IF(G49=2,"Second",IF(G49=1,"First"))))) -> Second | H9: =IF(H49=5,"Fifth",IF(H49=4,"Fourth",IF(H49=3,"Third",IF(H49=2,"Second",IF(H49=1,"First"))))) -> Third | I9: =IF(I49=5,"Fifth",IF(I49=4,"Fourth",IF(I49=3,"Third",IF(I49=2,"Second",IF(I49=1,"First"))))) -> First | K9: Participant #3 | L9: Water Resistance | M9: Lip trill
A10: 4 | B10: Girl | C10: ='Data-transposed view'!B5 -> Domi | D10: ="Participant #"&A10 -> Participant #4 | E10: =IF(E50=5,"Fifth",IF(E50=4,"Fourth",IF(E50=3,"Third",IF(E50=2,"Second",IF(E50=1,"First"))))) -> Fifth | F10: =IF(F50=5,"Fifth",IF(F50=4,"Fourth",IF(F50=3,"Third",IF(F50=2,"Second",IF(F50=1,"First"))))) -> Third | G10: =IF(G50=5,"Fifth",IF(G50=4,"Fourth",IF(G50=3,"Third",IF(G50=2,"Second",IF(G50=1,"First"))))) -> Fourth | H10: =IF(H50=5,"Fifth",IF(H50=4,"Fourth",IF(H50=3,"Third",IF(H50=2,"Second",IF(H50=1,"First"))))) -> Second | I10: =IF(I50=5,"Fifth",IF(I50=4,"Fourth",IF(I50=3,"Third",IF(I50=2,"Second",IF(I50=1,"First"))))) -> First | K10: Participant #4 | L10: Water Resistance | M10: Lip trill
A11: 5 | B11: Girl | C11: ='Data-transposed view'!B6 -> Selena | D11: ="Participant #"&A11 -> Participant #5 | E11: =IF(E51=5,"Fifth",IF(E51=4,"Fourth",IF(E51=3,"Third",IF(E51=2,"Second",IF(E51=1,"First"))))) -> Fifth | F11: =IF(F51=5,"Fifth",IF(F51=4,"Fourth",IF(F51=3,"Third",IF(F51=2,"Second",IF(F51=1,"First"))))) -> First | G11: =IF(G51=5,"Fifth",IF(G51=4,"Fourth",IF(G51=3,"Third",IF(G51=2,"Second",IF(G51=1,"First"))))) -> Fourth | H11: =IF(H51=5,"Fifth",IF(H51=4,"Fourth",IF(H51=3,"Third",IF(H51=2,"Second",IF(H51=1,"First"))))) -> Third | I11: =IF(I51=5,"Fifth",IF(I51=4,"Fourth",IF(I51=3,"Third",IF(I51=2,"Second",IF(I51=1,"First"))))) -> Second | K11: Participant #5 | L11: Tongue trill | M11: Lip trill
A12: 6 | B12: Girl | C12: ='Data-transposed view'!B7 -> Kael | D12: ="Participant #"&A12 -> Participant #6 | E12: =IF(E52=5,"Fifth",IF(E52=4,"Fourth",IF(E52=3,"Third",IF(E52=2,"Second",IF(E52=1,"First"))))) -> Fourth | F12: =IF(F52=5,"Fifth",IF(F52=4,"Fourth",IF(F52=3,"Third",IF(F52=2,"Second",IF(F52=1,"First"))))) -> Fifth | G12: =IF(G52=5,"Fifth",IF(G52=4,"Fourth",IF(G52=3,"Third",IF(G52=2,"Second",IF(G52=1,"First"))))) -> Third | H12: =IF(H52=5,"Fifth",IF(H52=4,"Fourth",IF(H52=3,"Third",IF(H52=2,"Second",IF(H52=1,"First"))))) -> Second | I12: =IF(I52=5,"Fifth",IF(I52=4,"Fourth",IF(I52=3,"Third",IF(I52=2,"Second",IF(I52=1,"First"))))) -> First | K12: Participant #6 | L12: Water Resistance | M12: Tongue trill
A13: 7 | B13: Girl | C13: ='Data-transposed view'!B8 -> Kidung | D13: ="Participant #"&A13 -> Participant #7 | E13: =IF(E53=5,"Fifth",IF(E53=4,"Fourth",IF(E53=3,"Third",IF(E53=2,"Second",IF(E53=1,"First"))))) -> Third | F13: =IF(F53=5,"Fifth",IF(F53=4,"Fourth",IF(F53=3,"Third",IF(F53=2,"Second",IF(F53=1,"First"))))) -> Fourth | G13: =IF(G53=5,"Fifth",IF(G53=4,"Fourth",IF(G53=3,"Third",IF(G53=2,"Second",IF(G53=1,"First"))))) -> First | H13: =IF(H53=5,"Fifth",IF(H53=4,"Fourth",IF(H53=3,"Third",IF(H53=2,"Second",IF(H53=1,"First"))))) -> Fifth | I13: =IF(I53=5,"Fifth",IF(I53=4,"Fourth",IF(I53=3,"Third",IF(I53=2,"Second",IF(I53=1,"First"))))) -> Second | K13: Participant #7 | L13: Blowfish | M13: Straw phonation
A14: 8 | B14: Girl | C14: ='Data-transposed view'!B9 -> Carissa | D14: ="Participant #"&A14 -> Participant #8 | E14: =IF(E54=5,"Fifth",IF(E54=4,"Fourth",IF(E54=3,"Third",IF(E54=2,"Second",IF(E54=1,"First"))))) -> Second | F14: =IF(F54=5,"Fifth",IF(F54=4,"Fourth",IF(F54=3,"Third",IF(F54=2,"Second",IF(F54=1,"First"))))) -> Fifth | G14: =IF(G54=5,"Fifth",IF(G54=4,"Fourth",IF(G54=3,"Third",IF(G54=2,"Second",IF(G54=1,"First"))))) -> Fourth | H14: =IF(H54=5,"Fifth",IF(H54=4,"Fourth",IF(H54=3,"Third",IF(H54=2,"Second",IF(H54=1,"First"))))) -> Third | I14: =IF(I54=5,"Fifth",IF(I54=4,"Fourth",IF(I54=3,"Third",IF(I54=2,"Second",IF(I54=1,"First"))))) -> First | K14: Participant #8 | L14: Water Resistance | M14: Tongue trill
A15: 9 | B15: Girl | C15: ='Data-transposed view'!B10 -> Elena | D15: ="Participant #"&A15 -> Participant #9 | E15: =IF(E55=5,"Fifth",IF(E55=4,"Fourth",IF(E55=3,"Third",IF(E55=2,"Second",IF(E55=1,"First"))))) -> First | F15: =IF(F55=5,"Fifth",IF(F55=4,"Fourth",IF(F55=3,"Third",IF(F55=2,"Second",IF(F55=1,"First"))))) -> Fifth | G15: =IF(G55=5,"Fifth",IF(G55=4,"Fourth",IF(G55=3,"Third",IF(G55=2,"Second",IF(G55=1,"First"))))) -> Fourth | H15: =IF(H55=5,"Fifth",IF(H55=4,"Fourth",IF(H55=3,"Third",IF(H55=2,"Second",IF(H55=1,"First"))))) -> Second | I15: =IF(I55=5,"Fifth",IF(I55=4,"Fourth",IF(I55=3,"Third",IF(I55=2,"Second",IF(I55=1,"First"))))) -> Third | K15: Participant #9 | L15: Lip trill | M15: Tongue trill
A16: 10 | B16: Girl | C16: ='Data-transposed view'!B11 -> Emily | D16: ="Participant #"&A16 -> Participant #10 | E16: =IF(E56=5,"Fifth",IF(E56=4,"Fourth",IF(E56=3,"Third",IF(E56=2,"Second",IF(E56=1,"First"))))) -> First | F16: =IF(F56=5,"Fifth",IF(F56=4,"Fourth",IF(F56=3,"Third",IF(F56=2,"Second",IF(F56=1,"First"))))) -> Fifth | G16: =IF(G56=5,"Fifth",IF(G56=4,"Fourth",IF(G56=3,"Third",IF(G56=2,"Second",IF(G56=1,"First"))))) -> Third | H16: =IF(H56=5,"Fifth",IF(H56=4,"Fourth",IF(H56=3,"Third",IF(H56=2,"Second",IF(H56=1,"First"))))) -> Fourth | I16: =IF(I56=5,"Fifth",IF(I56=4,"Fourth",IF(I56=3,"Third",IF(I56=2,"Second",IF(I56=1,"First"))))) -> Second | K16: Participant #10 | L16: Lip trill | M16: Tongue trill
A17: 11 | B17: Girl | C17: ='Data-transposed view'!B12 -> Sophia | D17: ="Participant #"&A17 -> Participant #11 | E17: =IF(E57=5,"Fifth",IF(E57=4,"Fourth",IF(E57=3,"Third",IF(E57=2,"Second",IF(E57=1,"First"))))) -> Third | F17: =IF(F57=5,"Fifth",IF(F57=4,"Fourth",IF(F57=3,"Third",IF(F57=2,"Second",IF(F57=1,"First"))))) -> First | G17: =IF(G57=5,"Fifth",IF(G57=4,"Fourth",IF(G57=3,"Third",IF(G57=2,"Second",IF(G57=1,"First"))))) -> Fifth | H17: =IF(H57=5,"Fifth",IF(H57=4,"Fourth",IF(H57=3,"Third",IF(H57=2,"Second",IF(H57=1,"First"))))) -> Second | I17: =IF(I57=5,"Fifth",IF(I57=4,"Fourth",IF(I57=3,"Third",IF(I57=2,"Second",IF(I57=1,"First"))))) -> Fourth | K17: Participant #11 | L17: Tongue trill | M17: Blowfish
A18: 12 | B18: Girl | C18: ='Data-transposed view'!B13 -> Kezia | D18: ="Participant #"&A18 -> Participant #12 | E18: =IF(E58=5,"Fifth",IF(E58=4,"Fourth",IF(E58=3,"Third",IF(E58=2,"Second",IF(E58=1,"First"))))) -> Fifth | F18: =IF(F58=5,"Fifth",IF(F58=4,"Fourth",IF(F58=3,"Third",IF(F58=2,"Second",IF(F58=1,"First"))))) -> First | G18: =IF(G58=5,"Fifth",IF(G58=4,"Fourth",IF(G58=3,"Third",IF(G58=2,"Second",IF(G58=1,"First"))))) -> Fourth | H18: =IF(H58=5,"Fifth",IF(H58=4,"Fourth",IF(H58=3,"Third",IF(H58=2,"Second",IF(H58=1,"First"))))) -> Third | I18: =IF(I58=5,"Fifth",IF(I58=4,"Fourth",IF(I58=3,"Third",IF(I58=2,"Second",IF(I58=1,"First"))))) -> Second | K18: Participant #12 | L18: Tongue trill | M18: Lip trill
A19: 13 | B19: Girl | C19: ='Data-transposed view'!B14 -> Nina | D19: ="Participant #"&A19 -> Participant #13 | E19: =IF(E59=5,"Fifth",IF(E59=4,"Fourth",IF(E59=3,"Third",IF(E59=2,"Second",IF(E59=1,"First"))))) -> Second | F19: =IF(F59=5,"Fifth",IF(F59=4,"Fourth",IF(F59=3,"Third",IF(F59=2,"Second",IF(F59=1,"First"))))) -> Fifth | G19: =IF(G59=5,"Fifth",IF(G59=4,"Fourth",IF(G59=3,"Third",IF(G59=2,"Second",IF(G59=1,"First"))))) -> Fourth | H19: =IF(H59=5,"Fifth",IF(H59=4,"Fourth",IF(H59=3,"Third",IF(H59=2,"Second",IF(H59=1,"First"))))) -> Third | I19: =IF(I59=5,"Fifth",IF(I59=4,"Fourth",IF(I59=3,"Third",IF(I59=2,"Second",IF(I59=1,"First"))))) -> First | K19: Participant #13 | L19: Water Resistance | M19: Tongue trill
... A27: 21 | B27: Girl | C27: ='Data-transposed view'!B22 -> Inessa | D27: ="Participant #"&A27 -> Participant #21 | E27: =IF(E67=5,"Fifth",IF(E67=4,"Fourth",IF(E67=3,"Third",IF(E67=2,"Second",IF(E67=1,"First"))))) -> Fourth | F27: =IF(F67=5,"Fifth",IF(F67=4,"Fourth",IF(F67=3,"Third",IF(F67=2,"Second",IF(F67=1,"First"))))) -> Fifth | G27: =IF(G67=5,"Fifth",IF(G67=4,"Fourth",IF(G67=3,"Third",IF(G67=2,"Second",IF(G67=1,"First"))))) -> Second | H27: =IF(H67=5,"Fifth",IF(H67=4,"Fourth",IF(H67=3,"Third",IF(H67=2,"Second",IF(H67=1,"First"))))) -> Third | I27: =IF(I67=5,"Fifth",IF(I67=4,"Fourth",IF(I67=3,"Third",IF(I67=2,"Second",IF(I67=1,"First"))))) -> First | K27: Participant #21 | L27: Water Resistance | M27: Tongue trill
C29: Frequencies | E29: Lip trill | F29: Tongue trill | G29: Blowfish | H29: Straw phonation | I29: Water Resistance | P29: Lip trill | Q29: Tongue trill | R29: Blowfish | S29: Straw phonation | T29: Water Resistance
C30: First | E30: =COUNTIF($E$7:$E$27,C30) -> 5 | F30: =COUNTIF($F$7:$F$27,C30) -> 4 | G30: =COUNTIF($G$7:$G$27,C30) -> 2 | H30: =COUNTIF($H$7:$H$27,C30) -> 1 | I30: =COUNTIF($I$7:$I$27,C30) -> 9 | O30: Least Favorite SOTV | P30: =P4/SUM($P$4:$T$4) -> 0.23809524 | Q30: =Q4/SUM($P$4:$T$4) -> 0.38095238 | R30: =R4/SUM($P$4:$T$4) -> 0.14285714 | S30: =S4/SUM($P$4:$T$4) -> 0.14285714 | T30: =T4/SUM($P$4:$T$4) -> 0.095238095
C31: Second | E31: =COUNTIF($E$7:$E$27,C31) -> 7 | F31: =COUNTIF($F$7:$F$27,C31) -> 1 | G31: =COUNTIF($G$7:$G$27,C31) -> 3 | H31: =COUNTIF($H$7:$H$27,C31) -> 4 | I31: =COUNTIF($I$7:$I$27,C31) -> 6
C32: Third | E32: =COUNTIF($E$7:$E$27,C32) -> 2 | F32: =COUNTIF($F$7:$F$27,C32) -> 4 | G32: =COUNTIF($G$7:$G$27,C32) -> 4 | H32: =COUNTIF($H$7:$H$27,C32) -> 9 | I32: =COUNTIF($I$7:$I$27,C32) -> 2
C33: Fourth | E33: =COUNTIF($E$7:$E$27,C33) -> 2 | F33: =COUNTIF($F$7:$F$27,C33) -> 4 | G33: =COUNTIF($G$7:$G$27,C33) -> 9 | H33: =COUNTIF($H$7:$H$27,C33) -> 4 | I33: =COUNTIF($I$7:$I$27,C33) -> 2
C34: Fifth | E34: =COUNTIF($E$7:$E$27,C34) -> 5 | F34: =COUNTIF($F$7:$F$27,C34) -> 8 | G34: =COUNTIF($G$7:$G$27,C34) -> 3 | H34: =COUNTIF($H$7:$H$27,C34) -> 3 | I34: =COUNTIF($I$7:$I$27,C34) -> 2
C37: in % | E37: Lip trill | F37: Tongue trill | G37: Blowfish | H37: Straw phonation | I37: Water Resistance
C38: First | E38: =(COUNTIF(E$7:E$27,$C38))/SUM(E$30:E$34) -> 0.23809524 | F38: =(COUNTIF(F$7:F$27,$C38))/SUM(F$30:F$34) -> 0.19047619 | G38: =(COUNTIF(G$7:G$27,$C38))/SUM(G$30:G$34) -> 0.095238095 | H38: =(COUNTIF(H$7:H$27,$C38))/SUM(H$30:H$34) -> 0.047619048 | I38: =(COUNTIF(I$7:I$27,$C38))/SUM(I$30:I$34) -> 0.42857143
C39: Second | E39: =(COUNTIF(E$7:E$27,$C39))/SUM(E$30:E$34) -> 0.33333333 | F39: =(COUNTIF(F$7:F$27,$C39))/SUM(F$30:F$34) -> 0.047619048 | G39: =(COUNTIF(G$7:G$27,$C39))/SUM(G$30:G$34) -> 0.14285714 | H39: =(COUNTIF(H$7:H$27,$C39))/SUM(H$30:H$34) -> 0.19047619 | I39: =(COUNTIF(I$7:I$27,$C39))/SUM(I$30:I$34) -> 0.28571429
C40: Third | E40: =(COUNTIF(E$7:E$27,$C40))/SUM(E$30:E$34) -> 0.095238095 | F40: =(COUNTIF(F$7:F$27,$C40))/SUM(F$30:F$34) -> 0.19047619 | G40: =(COUNTIF(G$7:G$27,$C40))/SUM(G$30:G$34) -> 0.19047619 | H40: =(COUNTIF(H$7:H$27,$C40))/SUM(H$30:H$34) -> 0.42857143 | I40: =(COUNTIF(I$7:I$27,$C40))/SUM(I$30:I$34) -> 0.095238095
C41: Fourth | E41: =(COUNTIF(E$7:E$27,$C41))/SUM(E$30:E$34) -> 0.095238095 | F41: =(COUNTIF(F$7:F$27,$C41))/SUM(F$30:F$34) -> 0.19047619 | G41: =(COUNTIF(G$7:G$27,$C41))/SUM(G$30:G$34) -> 0.42857143 | H41: =(COUNTIF(H$7:H$27,$C41))/SUM(H$30:H$34) -> 0.19047619 | I41: =(COUNTIF(I$7:I$27,$C41))/SUM(I$30:I$34) -> 0.095238095
C42: Fifth | E42: =(COUNTIF(E$7:E$27,$C42))/SUM(E$30:E$34) -> 0.23809524 | F42: =(COUNTIF(F$7:F$27,$C42))/SUM(F$30:F$34) -> 0.38095238 | G42: =(COUNTIF(G$7:G$27,$C42))/SUM(G$30:G$34) -> 0.14285714 | H42: =(COUNTIF(H$7:H$27,$C42))/SUM(H$30:H$34) -> 0.14285714 | I42: =(COUNTIF(I$7:I$27,$C42))/SUM(I$30:I$34) -> 0.095238095
B45: same data, but presented in number 1 - 5 instead of in words "first to fifth"
B46: No | C46: Name | D46: Participant | E46: Lip trill | F46: Tongue trill | G46: Blowfish | H46: Straw phonation | I46: Water Resistance
B47: 1 | C47: ='Data-transposed view'!B2 -> Andrew | D47: ="Participant #"&B47 -> Participant #1 | E47: ='Data-transposed view'!AT2 -> 5 | F47: ='Data-transposed view'!AU2 -> 2 | G47: ='Data-transposed view'!AV2 -> 4 | H47: ='Data-transposed view'!AW2 -> 3 | I47: ='Data-transposed view'!AX2 -> 1 | O47: SOVT Favoritism Based on Mean Rank
B48: 2 | C48: ='Data-transposed view'!B3 -> Kamini | D48: ="Participant #"&B48 -> Participant #2 | E48: ='Data-transposed view'!AT3 -> 2 | F48: ='Data-transposed view'!AU3 -> 5 | G48: ='Data-transposed view'!AV3 -> 4 | H48: ='Data-transposed view'!AW3 -> 1 | I48: ='Data-transposed view'!AX3 -> 3
B49: 3 | C49: ='Data-transposed view'!B4 -> Gaby | D49: ="Participant #"&B49 -> Participant #3 | E49: ='Data-transposed view'!AT4 -> 5 | F49: ='Data-transposed view'!AU4 -> 4 | G49: ='Data-transposed view'!AV4 -> 2 | H49: ='Data-transposed view'!AW4 -> 3 | I49: ='Data-transposed view'!AX4 -> 1 | O49: Exercise | P49: Mean Rank | Q49: Rank
B50: 4 | C50: ='Data-transposed view'!B5 -> Domi | D50: ="Participant #"&B50 -> Participant #4 | E50: ='Data-transposed view'!AT5 -> 5 | F50: ='Data-transposed view'!AU5 -> 3 | G50: ='Data-transposed view'!AV5 -> 4 | H50: ='Data-transposed view'!AW5 -> 2 | I50: ='Data-transposed view'!AX5 -> 1 | O50: Water Resistance | P50: 2.1428571 | Q50: First
B51: 5 | C51: ='Data-transposed view'!B6 -> Selena | D51: ="Participant #"&B51 -> Participant #5 | E51: ='Data-transposed view'!AT6 -> 5 | F51: ='Data-transposed view'!AU6 -> 1 | G51: ='Data-transposed view'!AV6 -> 4 | H51: ='Data-transposed view'!AW6 -> 3 | I51: ='Data-transposed view'!AX6 -> 2 | O51: Lip trill | P51: 2.7619048 | Q51: Second
B52: 6 | C52: ='Data-transposed view'!B7 -> Kael | D52: ="Participant #"&B52 -> Participant #6 | E52: ='Data-transposed view'!AT7 -> 4 | F52: ='Data-transposed view'!AU7 -> 5 | G52: ='Data-transposed view'!AV7 -> 3 | H52: ='Data-transposed view'!AW7 -> 2 | I52: ='Data-transposed view'!AX7 -> 1 | O52: Straw phonation | P52: 3.1904762 | Q52: Third
B53: 7 | C53: ='Data-transposed view'!B8 -> Kidung | D53: ="Participant #"&B53 -> Participant #7 | E53: ='Data-transposed view'!AT8 -> 3 | F53: ='Data-transposed view'!AU8 -> 4 | G53: ='Data-transposed view'!AV8 -> 1 | H53: ='Data-transposed view'!AW8 -> 5 | I53: ='Data-transposed view'!AX8 -> 2 | O53: Blowfish | P53: 3.3809524 | Q53: Fourth
B54: 8 | C54: ='Data-transposed view'!B9 -> Carissa | D54: ="Participant #"&B54 -> Participant #8 | E54: ='Data-transposed view'!AT9 -> 2 | F54: ='Data-transposed view'!AU9 -> 5 | G54: ='Data-transposed view'!AV9 -> 4 | H54: ='Data-transposed view'!AW9 -> 3 | I54: ='Data-transposed view'!AX9 -> 1 | O54: Tongue trill | P54: 3.5238095 | Q54: Last
B55: 9 | C55: ='Data-transposed view'!B10 -> Elena | D55: ="Participant #"&B55 -> Participant #9 | E55: ='Data-transposed view'!AT10 -> 1 | F55: ='Data-transposed view'!AU10 -> 5 | G55: ='Data-transposed view'!AV10 -> 4 | H55: ='Data-transposed view'!AW10 -> 2 | I55: ='Data-transposed view'!AX10 -> 3
B56: 10 | C56: ='Data-transposed view'!B11 -> Emily | D56: ="Participant #"&B56 -> Participant #10 | E56: ='Data-transposed view'!AT11 -> 1 | F56: ='Data-transposed view'!AU11 -> 5 | G56: ='Data-transposed view'!AV11 -> 3 | H56: ='Data-transposed view'!AW11 -> 4 | I56: ='Data-transposed view'!AX11 -> 2
B57: 11 | C57: ='Data-transposed view'!B12 -> Sophia | D57: ="Participant #"&B57 -> Participant #11 | E57: ='Data-transposed view'!AT12 -> 3 | F57: ='Data-transposed view'!AU12 -> 1 | G57: ='Data-transposed view'!AV12 -> 5 | H57: ='Data-transposed view'!AW12 -> 2 | I57: ='Data-transposed view'!AX12 -> 4
B58: 12 | C58: ='Data-transposed view'!B13 -> Kezia | D58: ="Participant #"&B58 -> Participant #12 | E58: ='Data-transposed view'!AT13 -> 5 | F58: ='Data-transposed view'!AU13 -> 1 | G58: ='Data-transposed view'!AV13 -> 4 | H58: ='Data-transposed view'!AW13 -> 3 | I58: ='Data-transposed view'!AX13 -> 2 | P58: Lip trill | Q58: Tongue trill | R58: Blowfish | S58: Straw phonation | T58: Water Resistance
B59: 13 | C59: ='Data-transposed view'!B14 -> Nina | D59: ="Participant #"&B59 -> Participant #13 | E59: ='Data-transposed view'!AT14 -> 2 | F59: ='Data-transposed view'!AU14 -> 5 | G59: ='Data-transposed view'!AV14 -> 4 | H59: ='Data-transposed view'!AW14 -> 3 | I59: ='Data-transposed view'!AX14 -> 1 | O59: Mean Rank | P59: 2.7619048 | Q59: 3.5238095 | R59: 3.3809524 | S59: 3.1904762 | T59: 2.1428571
B60: 14 | C60: ='Data-transposed view'!B15 -> Jayden | D60: ="Participant #"&B60 -> Participant #14 | E60: ='Data-transposed view'!AT15 -> 2 | F60: ='Data-transposed view'!AU15 -> 1 | G60: ='Data-transposed view'!AV15 -> 3 | H60: ='Data-transposed view'!AW15 -> 4 | I60: ='Data-transposed view'!AX15 -> 5 | O60: Rank of Mean Rank | P60: Second | Q60: Last | R60: Fourth | S60: Third | T60: First
B61: 15 | C61: ='Data-transposed view'!B16 -> Naomi | D61: ="Participant #"&B61 -> Participant #15 | E61: ='Data-transposed view'!AT16 -> 2 | F61: ='Data-transposed view'!AU16 -> 4 | G61: ='Data-transposed view'!AV16 -> 5 | H61: ='Data-transposed view'!AW16 -> 3 | I61: ='Data-transposed view'!AX16 -> 1 | O61: Mode | P61: 2 | Q61: 5 | R61: 4 | S61: 3 | T61: 1
B62: 16 | C62: ='Data-transposed view'!B17 -> Amalia | D62: ="Participant #"&B62 -> Participant #16 | E62: ='Data-transposed view'!AT17 -> 1 | F62: ='Data-transposed view'!AU17 -> 5 | G62: ='Data-transposed view'!AV17 -> 3 | H62: ='Data-transposed view'!AW17 -> 4 | I62: ='Data-transposed view'!AX17 -> 2
B63: 17 | C63: ='Data-transposed view'!B18 -> Helsa | D63: ="Participant #"&B63 -> Participant #17 | E63: ='Data-transposed view'!AT18 -> 1 | F63: ='Data-transposed view'!AU18 -> 3 | G63: ='Data-transposed view'!AV18 -> 4 | H63: ='Data-transposed view'!AW18 -> 5 | I63: ='Data-transposed view'!AX18 -> 2
B64: 18 | C64: ='Data-transposed view'!B19 -> Joel | D64: ="Participant #"&B64 -> Participant #18 | E64: ='Data-transposed view'!AT19 -> 2 | F64: ='Data-transposed view'!AU19 -> 4 | G64: ='Data-transposed view'!AV19 -> 5 | H64: ='Data-transposed view'!AW19 -> 3 | I64: ='Data-transposed view'!AX19 -> 1
B65: 19 | C65: ='Data-transposed view'!B20 -> Daniel | D65: ="Participant #"&B65 -> Participant #19 | E65: ='Data-transposed view'!AT20 -> 1 | F65: ='Data-transposed view'!AU20 -> 3 | G65: ='Data-transposed view'!AV20 -> 2 | H65: ='Data-transposed view'!AW20 -> 5 | I65: ='Data-transposed view'!AX20 -> 4
B66: 20 | C66: ='Data-transposed view'!B21 -> Keana | D66: ="Participant #"&B66 -> Participant #20 | E66: ='Data-transposed view'!AT21 -> 2 | F66: ='Data-transposed view'!AU21 -> 3 | G66: ='Data-transposed view'!AV21 -> 1 | H66: ='Data-transposed view'!AW21 -> 4 | I66: ='Data-transposed view'!AX21 -> 5
B67: 21 | C67: ='Data-transposed view'!B22 -> Inessa | D67: ="Participant #"&B67 -> Participant #21 | E67: ='Data-transposed view'!AT22 -> 4 | F67: ='Data-transposed view'!AU22 -> 5 | G67: ='Data-transposed view'!AV22 -> 2 | H67: ='Data-transposed view'!AW22 -> 3 | I67: ='Data-transposed view'!AX22 -> 1
C68: Mean Rank | D68: Mean Rank | E68: =AVERAGE(E47:E67) -> 2.7619048 | F68: =AVERAGE(F47:F67) -> 3.5238095 | G68: =AVERAGE(G47:G67) -> 3.3809524 | H68: =AVERAGE(H47:H67) -> 3.1904762 | I68: =AVERAGE(I47:I67) -> 2.1428571
C69: Rank of Mean Rank | D69: Rank of Mean Rank | E69: Second | F69: Last | G69: Fourth | H69: Third | I69: First
C70: MODE | D70: Mode | E70: =MODE(E47:E67) -> 2 | F70: =MODE(F47:F67) -> 5 | G70: =MODE(G47:G67) -> 4 | H70: =MODE(H47:H67) -> 3 | I70: =MODE(I47:I67) -> 1

Sheet 4_Independent exercise preferen
A2: Quant
A3: Preference for independent home exercise
B4: Participant | C4: age | D4: Would you do this on your own without supervisiton? | E4: Code | F4: if you "must do this exercise" (as homework, being graded, etc) which one would you do it? and why?
A5: Andrew | B5: Participant #1 | C5: =VLOOKUP(A5,maindata,'Data-transposed view'!$C$23,FALSE) -> 12 | D5: ='Data-transposed view'!BC2 -> yes | E5: yes | F5: ='Data-transposed view'!BD2 -> Tongue trill | G5: ='Data-transposed view'!BE2 -> because it is the easiest | I5: Lip trill | J5: =COUNTIF($F$5:$F$25,I5) -> 7 | K5: =J5/(SUM($J$5:$J$9)) -> 0.33333333
A6: Kamini | B6: Participant #2 | C6: =VLOOKUP(A6,maindata,'Data-transposed view'!$C$23,FALSE) -> 10 | D6: ='Data-transposed view'!BC3 -> yes | E6: yes | F6: ='Data-transposed view'!BD3 -> Blowfish | G6: ='Data-transposed view'!BE3 -> because it is simple and not using equipment, blowfish in random songs | I6: Tongue trill | J6: =COUNTIF($F$5:$F$25,I6) -> 4 | K6: =J6/(SUM($J$5:$J$9)) -> 0.19047619
A7: Gaby | B7: Participant #3 | C7: =VLOOKUP(A7,maindata,'Data-transposed view'!$C$23,FALSE) -> 11 | D7: ='Data-transposed view'!BC4 -> hopefully | E7: maybe | F7: ='Data-transposed view'!BD4 -> Blowfish | G7: ='Data-transposed view'!BE4 -> because it is easier, and doesn't required tools preparation | I7: Blowfish | J7: =COUNTIF($F$5:$F$25,I7) -> 4 | K7: =J7/(SUM($J$5:$J$9)) -> 0.19047619
A8: Domi | B8: Participant #4 | C8: =VLOOKUP(A8,maindata,'Data-transposed view'!$C$23,FALSE) -> 11 | D8: ='Data-transposed view'!BC5 -> yes | E8: yes | F8: ='Data-transposed view'!BD5 -> Water resistance | G8: ='Data-transposed view'!BE5 -> It's fun, it's my favourite one. because of the bubbles | I8: Straw phonation | J8: =COUNTIF($F$5:$F$25,I8) -> 0 | K8: =J8/(SUM($J$5:$J$9)) -> 0
A9: Selena | B9: Participant #5 | C9: =VLOOKUP(A9,maindata,'Data-transposed view'!$C$23,FALSE) -> 12 | D9: ='Data-transposed view'!BC6 -> yes | E9: yes | F9: ='Data-transposed view'!BD6 -> Tongue trill | G9: ='Data-transposed view'!BE6 -> I can do it anytime | I9: Water Resistance | J9: =COUNTIF($F$5:$F$25,I9) -> 6 | K9: =J9/(SUM($J$5:$J$9)) -> 0.28571429
A10: Kael | B10: Participant #6 | C10: =VLOOKUP(A10,maindata,'Data-transposed view'!$C$23,FALSE) -> 10 | D10: ='Data-transposed view'!BC7 -> I'm not going to do it, these exercise are not something appealing. | E10: no | F10: ='Data-transposed view'!BD7 -> Water resistance | G10: ='Data-transposed view'!BE7 -> because it's like playing | K10: =SUM(K5:K9) -> 1
A11: Kidung | B11: Participant #7 | C11: =VLOOKUP(A11,maindata,'Data-transposed view'!$C$23,FALSE) -> 10 | D11: ='Data-transposed view'!BC8 -> I would do it because there's an upcoming performing event | E11: yes | F11: ='Data-transposed view'!BD8 -> Blowfish | G11: ='Data-transposed view'!BE8 -> because it is the easiest.
A12: Carissa | B12: Participant #8 | C12: =VLOOKUP(A12,maindata,'Data-transposed view'!$C$23,FALSE) -> 11 | D12: ='Data-transposed view'!BC9 -> yes | E12: yes | F12: ='Data-transposed view'!BD9 -> Water resistance | G12: ='Data-transposed view'!BE9 -> because it is fun, and has bubbles
A13: Elena | B13: Participant #9 | C13: =VLOOKUP(A13,maindata,'Data-transposed view'!$C$23,FALSE) -> 12 | D13: ='Data-transposed view'!BC10 -> I most likely don't have the motivation to do it at home. depends on the exercise. I kind of lazy to do it. | E13: no | F13: ='Data-transposed view'!BD10 -> Lip trill | G13: ='Data-transposed view'!BE10 -> because this exercise is more familiar. I would not do the other exercises
A14: Emily | B14: Participant #10 | C14: =VLOOKUP(A14,maindata,'Data-transposed view'!$C$23,FALSE) -> 12 | D14: ='Data-transposed view'!BC11 -> Yes | E14: yes | F14: ='Data-transposed view'!BD11 -> Lip trill | G14: ='Data-transposed view'!BE11 -> for just exercises, liptrill... (because) I like liptrill more...
A15: Sophia | B15: Participant #11 | C15: =VLOOKUP(A15,maindata,'Data-transposed view'!$C$23,FALSE) -> 10 | D15: ='Data-transposed view'!BC12 -> I have too much activities, so probably no | E15: no | F15: ='Data-transposed view'!BD12 -> Tongue trill | G15: ='Data-transposed view'!BE12 -> I would choose tongue trill because in lip trill there's the Ticklish sensastions
A16: Kezia | B16: Participant #12 | C16: =VLOOKUP(A16,maindata,'Data-transposed view'!$C$23,FALSE) -> 12 | D16: ='Data-transposed view'!BC13 -> Yes, although, I would check on my time because I have lots of extracurricular activities. I'm very busy. | E16: yes | F16: ='Data-transposed view'!BD13 -> Tongue trill | G16: ='Data-transposed view'!BE13 -> Because it is the easiest for me
A17: Nina | B17: Participant #13 | C17: =VLOOKUP(A17,maindata,'Data-transposed view'!$C$23,FALSE) -> 12 | D17: ='Data-transposed view'!BC14 -> of course | E17: yes | F17: ='Data-transposed view'!BD14 -> Water resistance | G17: ='Data-transposed view'!BE14 -> because it was a lot of fun!
A18: Jayden | B18: Participant #14 | C18: =VLOOKUP(A18,maindata,'Data-transposed view'!$C$23,FALSE) -> 10 | D18: ='Data-transposed view'!BC15 -> maybe | E18: maybe | F18: Lip trill | G18: ='Data-transposed view'!BE15 -> (I choose) liptrill because tongue-trill is too easy, so I would go to the next challenging one.
A19: Naomi | B19: Participant #15 | C19: =VLOOKUP(A19,maindata,'Data-transposed view'!$C$23,FALSE) -> 11 | D19: ='Data-transposed view'!BC16 -> Yes | E19: yes | F19: ='Data-transposed view'!BD16 -> Lip trill | G19: ='Data-transposed view'!BE16 -> because it is more simpler to do and doesnt require a lot of steps to do, so you don't need to prepare the materials, but you can just simply do it whenver you want to.
A20: Amalia | B20: Participant #16 | C20: =VLOOKUP(A20,maindata,'Data-transposed view'!$C$23,FALSE) -> 11 | D20: ='Data-transposed view'!BC17 -> I would, but not tongue trill | E20: yes | F20: ='Data-transposed view'!BD17 -> Lip trill | G20: ='Data-transposed view'!BE17 -> (I would do) lip trill and maybe straw phonation with water. For lip trill, I found it easy to do, and for water phonation, I just found it fun to do.
A21: Helsa | B21: Participant #17 | C21: =VLOOKUP(A21,maindata,'Data-transposed view'!$C$23,FALSE) -> 12 | D21: ='Data-transposed view'!BC18 -> Maybe | E21: maybe | F21: ='Data-transposed view'!BD18 -> Lip trill | G21: ='Data-transposed view'!BE18 -> Because you don't need anything to prepare. | I21: Exercise | J21: Preference
A22: Joel | B22: Participant #18 | C22: =VLOOKUP(A22,maindata,'Data-transposed view'!$C$23,FALSE) -> 10 | D22: ='Data-transposed view'!BC19 -> not really | E22: no | F22: ='Data-transposed view'!BD19 -> Water resistance | G22: ='Data-transposed view'!BE19 -> It kept bubbling and it was fun. | I22: Lip trill | J22: =VLOOKUP(I22,independent,3,FALSE) -> 0.33333333
A23: Daniel | B23: Participant #19 | C23: =VLOOKUP(A23,maindata,'Data-transposed view'!$C$23,FALSE) -> 12 | D23: ='Data-transposed view'!BC20 -> Yes | E23: yes | F23: ='Data-transposed view'!BD20 -> Lip trill | G23: ='Data-transposed view'!BE20 -> because it is more familiar. | I23: Water Resistance | J23: =VLOOKUP(I23,independent,3,FALSE) -> 0.28571429
A24: Keana | B24: Participant #20 | C24: =VLOOKUP(A24,maindata,'Data-transposed view'!$C$23,FALSE) -> 12 | D24: ='Data-transposed view'!BC21 -> No, I dont like it | E24: no | F24: ='Data-transposed view'!BD21 -> Blowfish | G24: ='Data-transposed view'!BE21 -> because it is the easiest | I24: Blowfish | J24: =VLOOKUP(I24,independent,3,FALSE) -> 0.19047619
A25: Inessa | B25: Participant #21 | C25: =VLOOKUP(A25,maindata,'Data-transposed view'!$C$23,FALSE) -> 11 | D25: ='Data-transposed view'!BC22 -> Maybe | E25: maybe | F25: ='Data-transposed view'!BD22 -> Water resistance | G25: ='Data-transposed view'!BE22 -> Because it is fun and actually very easy | I25: Tongue trill | J25: =VLOOKUP(I25,independent,3,FALSE) -> 0.19047619
I26: Straw phonation | J26: =VLOOKUP(I26,independent,3,FALSE) -> 0
D27: Yes | E27: =COUNTIF($E$5:$E$25,D27) -> 12 | F27: =E27/(SUM($E$27:$E$29)) -> 0.57142857
D28: Maybe | E28: =COUNTIF($E$5:$E$25,D28) -> 4 | F28: =E28/(SUM($E$27:$E$29)) -> 0.19047619
D29: No | E29: =COUNTIF($E$5:$E$25,D29) -> 5 | F29: =E29/(SUM($E$27:$E$29)) -> 0.23809524

Sheet 5_Before and after impression
B3: Name | D3: ='Data-transposed view'!BA1 -> Before & After impressions/ participants' perception/perspective | E3: Is there any difference between before & after? | F3: Code | H3: Is there any difference between before & after? | I3: answer
A4: 1 | B4: Andrew | C4: Participant #1 | D4: ='Data-transposed view'!BA2 -> there's a difference, I feel a bit easier to reach higher notes | E4: Yes | F4: easier | H4: Yes | I4: =(COUNTIF($E$4:$E$24,H4))/COUNTA($E$4:$E$24) -> 0.78947368
A5: 2 | B5: Kamini | C5: Participant #2 | D5: ='Data-transposed view'!BA3 -> I feel easier to do the vocalization after the sovts exercises | E5: Yes | F5: easier | H5: No | I5: =COUNTIF($E$4:$E$24,H5)/COUNTA($E$4:$E$24) -> 0.21052632
A6: 3 | B6: Gaby | C6: Participant #3 | D6: ='Data-transposed view'!BA4 -> Yes, I feel difference, feels better after the exercise, more relaxed, more easier. I think it is due to the exercise | E6: Yes | F6: easier, more comfortable
A7: 4 | B7: Domi | C7: Participant #4 | D7: ='Data-transposed view'!BA5 -> Yes. I feel i can sing lauder and easier after the exercise | E7: Yes | F7: stronger, easier
A8: 5 | B8: Selena | C8: Participant #5 | D8: ='Data-transposed view'!BA6 -> Researcher's observation notes: Participant's sound after the intervention seems to be stronger and clearer and forward. the participant confirmed: I feel that after the exercises the singing becomes easier | E8: Yes | F8: easier
A9: 6 | B9: Kael | C9: Participant #6 | D9: ='Data-transposed view'!BA7 -> ((we didn't check after the intervention))
A10: 7 | B10: Kidung | C10: Participant #7 | D10: ='Data-transposed view'!BA8 -> Yes, I feel there's difference. I feel that before the exercise, my voice is wider, also I felt that it was heavier to sing before the exercise, while after the exercise, it was more easier to sing. I like my voice better after the exercise | E10: Yes | F10: easier
A11: 8 | B11: Carissa | C11: Participant #8 | D11: ='Data-transposed view'!BA9 -> I feel a little different between before and after. It feels easier to reach the high notes. it is easier to sing and it is lighter to sing. Before this, it felt heavy. | E11: Yes | F11: easier, lighter
A12: 9 | B12: Elena | C12: Participant #9 | D12: ='Data-transposed view'!BA10 -> I cant tell the difference before and after teh exercises. I do feel that I can reach higher notes now compared to before the exercises. It feels a bit more easier to sing after the exercises. | E12: Yes | F12: easier, higher range
A13: 10 | B13: Emily | C13: Participant #10 | D13: ='Data-transposed view'!BA11 -> ((was not asked))
A14: 11 | B14: Sophia | C14: Participant #11 | D14: ='Data-transposed view'!BA12 -> a bit more warmed up. because we are doing a different type of warm up. it is more easier to sing because it is feels more warmed up | E14: Yes | F14: easier,
A15: 12 | B15: Kezia | C15: Participant #12 | D15: ='Data-transposed view'!BA13 -> a more stronger sound | E15: Yes | F15: stronger
A16: 13 | B16: Nina | C16: Participant #13 | D16: ='Data-transposed view'!BA14 -> I feel comfortable after these five exercises and my voice is a lot different | E16: Yes | F16: more comfortable
A17: 14 | B17: Jayden | C17: Participant #14 | D17: ='Data-transposed view'!BA15 -> A bit more easier to sing. | E17: Yes | F17: easier
A18: 15 | B18: Naomi | C18: Participant #15 | D18: ='Data-transposed view'!BA16 -> Yes, I feel changes in my voice. It is more comfortable to sing and I could reach the higher notes more comfortably. | E18: Yes | F18: more comfortable
A19: 16 | B19: Amalia | C19: Participant #16 | D19: ='Data-transposed view'!BA17 -> After 5 exercises, my voice feels the same. | E19: No | F19: no effect
A20: 17 | B20: Helsa | C20: Participant #17 | D20: ='Data-transposed view'!BA18 -> I don't feel any different. I feel that the lip-trill did some effect. | E20: No | F20: no effect
A21: 18 | B21: Joel | C21: Participant #18 | D21: ='Data-transposed view'!BA19 -> It was the same voice. | E21: No | F21: no effect
A22: 19 | B22: Daniel | C22: Participant #19 | D22: ='Data-transposed view'!BA20 -> I dont think all these five exercises really helps. At first I thougth that the second time I sing was because of the five exercises, but aftter I think about it, I think it is more because I already now more familiar with the given melody. | E22: No | F22: no effect
A23: 20 | B23: Keana | C23: Participant #20 | D23: ='Data-transposed view'!BA21 -> yes a little bit different. I don't know, suddenly it's hard to reach the hight notes. On the low notes it feels like you relieve (more easy to sing). | E23: Yes | F23: relieve on the low notes, harder to reach high notes
A24: 21 | B24: Inessa | C24: Participant #21 | D24: ='Data-transposed view'!BA22 -> After the exercise, singing feels lighter, easier, and more comfortable. However, nerves might also contribute to discomfort during singing prior to the exercise. | E24: Yes | F24: lighter, easier, more comfortable
G25: % | H25: Codes | I25: %
D26: effort | E26: easier | F26: =COUNTIF($F$4:$F$24,"*"&E26&"*") -> 11 | G26: =F26/(SUM($F$26:$F$41)) -> 0.55 | H26: easier | I26: 0.55
D27: sensation | E27: more comfortable | F27: =COUNTIF($F$4:$F$24,"*"&E27&"*") -> 4 | G27: =F27/(SUM($F$26:$F$41)) -> 0.2 | H27: more comfortable | I27: 0.2
E28: stronger | F28: =COUNTIF($F$4:$F$24,"*"&E28&"*") -> 2 | G28: =F28/(SUM($F$26:$F$41)) -> 0.1 | H28: stronger | I28: 0.1
E29: relieve on the low notes | F29: =COUNTIF($F$4:$F$24,"*"&E29&"*") -> 1 | G29: =F29/(SUM($F$26:$F$41)) -> 0.05 | H29: relieve on the low notes | I29: 0.05
E30: higher range | F30: =COUNTIF($F$4:$F$24,"*"&E30&"*") -> 1 | G30: =F30/(SUM($F$26:$F$41)) -> 0.05 | H30: higher range | I30: 0.05
E31: harder to reach high notes | F31: =COUNTIF($F$4:$F$24,"*"&E31&"*") -> 1 | G31: =F31/(SUM($F$26:$F$41)) -> 0.05 | H31: harder to reach high notes | I31: 0.05
