Workbook

Sheet Task1
F2: ISO-OCTANE | Q2: BLEND | R2: (50% Iso-octane)+(50% Metahnol)
F4: O2 | G4: 21 | J4: Atmospheric | L4: Ratio | Q4: CH3OH + C8H18 + F (O2 + 3.76 N2) −−→ n1 CO2 + n2 H2O + n3 N2
F5: N2 | G5: =100-$G$4 -> 79 | J5: Composition | L5: 3.76
F7: HC Fuel Balance | U7: Atmospheric | W7: Ratio
B8: Air composition and mass | U8: Composition | W8: 3.76
D10: PERIODIC TABLE
B11: Atomic No | D11: Atomic weight | F11: N. OF ATOMS | G11: BALANCE | J11: F | K11: =(2*$K$13+$K$14)/2 -> 12.5 | Q11: N. OF ATOMS | R11: BALANCE | U11: F | V11: =(((2*$V$13)+$V$14)-1)/2 -> 14
D12: Kg/kmol
B13: Hydrogen | C13: 1 | D13: 1.00797 | F13: Carbon (x) | G13: 8 | J13: CO2 (n1) | K13: =$G$13 -> 8 | Q13: Carbon (x) | R13: =$G$13+$G$44 -> 9 | U13: CO2 (n1) | V13: =$R$13 -> 9
B14: Carbon | C14: 6 | D14: 12.0107 | F14: Hyrdrogen (y) | G14: 18 | J14: H20 (n2) | K14: =$G$14/2 -> 9 | Q14: Hyrdrogen (y) | R14: =$G$14+$G$45 -> 22 | U14: H20 (n2) | V14: =$R$14/2 -> 11
B15: Nitrogen | C15: 7 | D15: 14.0067 | F15: Oxigen (2*F) | G15: =2*$K$11 -> 25 | J15: N2 (n3) | K15: =$K$11*$L$5 -> 47 | Q15: Oxigen | R15: 1 | U15: N2 (n3) | V15: =$V$11*$W$8 -> 52.64
B16: Oxygen | C16: 8 | D16: 15.9994 | J16: Oxigen | K16: =2*$K$13+$K$14 -> 25
F17: m (air) | G17: =$K$11*(2*$D$16+$L$5*2*$D$15) -> 1716.6148 | H17: Kg | Q17: Tot oxigen balance | R17: =1+(2*$V$11) -> 29 | T17: Tot oxigen balance | V17: =2*$V$13+$V$14 -> 29
F18: m (fuel) | G18: =($G$13*$D$14+$G$14*$D$13) -> 114.22906 | H18: Kg | Q18: Tot N2 balance | R18: =$V$11*2*$W$8 -> 105.28 | T18: Tot N2 balance | V18: =2*$V$15 -> 105.28
F19: AFR BY MASS | G19: =$G$17/$G$18 -> 15.027829 | Q19: Tot Carbon balance | R19: =$R$13 -> 9 | T19: Tot Carbon balance | V19: =$V$13 -> 9
F20: Stoich ratio | G20: 14.7 | Q20: Tot H balance | R20: =$R$14 -> 22 | T20: Tot H balance | V20: =2*$V$14 -> 22
F21: lambda λ | G21: =$G$19/$G$20 -> 1.0223013 | Q21: TOTAL m (air) | R21: =$V$11*((2*$D$16)+($W$8*2*$D$15)) -> 1922.6086 | S21: Kg | V21: %
F22: Equiv Ratio | G22: =1/$G$21 -> 0.97818519 | Q22: TOTAL m (fuel) | R22: =($R$13*$D$14+$R$14*$D$13++$R$15*$D$16) -> 146.27104 | S22: Kg | T22: METHANOL m | V22: =($G$49/$R$22)*100 -> 21.905895 | W22: TOT check
Q23: AFR BY MASS | R23: =$R$21/$R$22 -> 13.144151 | T23: Isococtne | V23: =($G$18/$R$22)*100 -> 78.094105 | W23: =V22+V23 -> 100
Q24: stoich ratio | R24: 14.7
A25: MASSES; | F25: 1Kmol of | G25: ISO-OCTANE | I25: =($G$13*$D$14)+($G$14*$D$13) -> 114.22906 | J25: Kg | K25: CO2 | L25: =$K$13*(1*$D$14+2*$D$16) -> 352.076 | M25: Kg | Q25: lambda λ | R25: =$R$23/$R$24 -> 0.8941599
K26: H20 | L26: =$K$14*(2*$D$13+1*$D$16) -> 162.13806 | M26: Kg | Q26: Equiv Ratio | R26: =1/$R$25 -> 1.1183682
A27: AVOGADROS NUMBER | C27: 6.022*10^23 | K27: N2 | L27: =K15*(2*$D$15) -> 1316.6298 | M27: Kg
D28: Kg | T28: HENTALPY OF FORMATION DATA
A29: 1Kmol of | B29: Carbon | C29: equal "=" | D29: =$D$14 -> 12.0107
A30: 1Kmol of | B30: Hidrogen | C30: equal "=" | D30: =$D$13 -> 1.00797 | U30: hf | V30: -393.5 | W30: KJ/Kmol
A31: 1Kmol of | B31: Nitrogen | C31: equal "=" | D31: =$D$15 -> 14.0067 | P31: Q1C | U31: hf Liquid | V31: -285.8 | W31: KJ/Kmol
A32: 1Kmol of | B32: Oxigen | C32: equal "=" | D32: =$D$16 -> 15.9994 | U32: hf Gas | V32: -241.8 | W32: KJ/Kmol
Q33: Assuming 1 Kmol of Methanol and Isoocatane have burnt | U33: hf | V33: -259.2 | W33: KJ/Kmol
Q34: ENTALPY OF FORMATION OF THE REACTIONS | U34: hf | V34: -201.5 | W34: KJ/Kmol
F35: METHANOL | Q35: CH3OH + C8H18 + F (O2 + 3.76 N2) −−→ n1 CO2 + n2 H2O(LIQUID) + n3 N2
F36: O2 | G36: 21 | J36: Atmospheric | L36: Ratio
F37: N2 | G37: =100-$G$4 -> 79 | J37: Composition | L37: 3.76
Q38: H20 as liquid
R39: ENTALPHTY REACTANTS | T39: =(($V$34)+($V$33)) -> -460.7 | U39: MJ/Kmol
R40: ENTALPHTY OF PRODUCTS | T40: =((9*$V$30)+(11*$V$31)) -> -6685.3 | U40: MJ/Kmol
S42: HIGHER HHV | T42: =ABS($T$40)-ABS($T$39) -> 6224.6 | U42: MJ | V42: HEAT PRODUCED
F43: N. OF ATOMS | G43: BALANCE | J43: F | K43: =(2*$K$44+$K$45-G46)/2 -> 1.5 | T43: =$T$42/$R$22 -> 42.555245 | U43: MJ/Kg | V43: AT CONSTANT P
F44: Carbon (x) | G44: 1 | J44: CO2 (n1) | K44: =$G$44 -> 1
F45: Hyrdrogen (y) | G45: 4 | J45: H20 (n2) | K45: =$G$45/2 -> 2 | Q45: CH3OH + C8H18 + F (O2 + 3.76 N2) −−→ n1 CO2 + n2 H2O(GAS) + n3 N2
...

Sheet Task2A)values_PHI_dependent
Q1: Φ | R1: phi | S1: n1 (CO2) | T1: n2(H20) | U1: n3 (O2) | V1: n4 (N2) | AC1: INITIAL TEMP
C2: ENGINE Characteristics | R2: 1 | S2: =O8*$R$2 -> 8 | T2: =P8*$R$2 -> 9 | U2: =($K$8-(2*$S$2)-$T$2)/2 -> 0 | V2: =$R$8 -> 47 | AC2: POLINOM | AD2: =((6.6506859177*10^-19)*(A3^6))-((7.8984343104*10^-15)*(A3^5))+((3.6879849877*10^-11)*(A3^4))-((8.6386228559*10^-8)*(A3^3))+((1.1074017861*10^-4)*(A3^2))-((3.1241611608*10^-2)*(A3))+(3.3006694533) -> 3.3006695
R3: DROP DOWN MENU TO LINK PHI AND NS TO CALCULATE TOTAL ENTALPY
C4: Displacement | D4: 1600 | E4: cm^3
C5: Clearence V. | D5: 40 | E5: cm^3 | I5: Φ(C8H18) + 12.5 (O2 + 3.76 N2)−−→ n1 CO2 + n2 H2O + n3 O2 + n4 N2
C6: N. Of cyl | D6: 4 | I6: PHI DEPENDENT TABLE | O6: n1 | P6: n2 | Q6: n3 | R6: n4 | V6: TOT EXH KMOLS | W6: ENTALPY REFERENCE | Y6: 1 METHOD | AA6: 2ND METHOD
C7: Vol eff | D7: 0.4 | I7: Carbon (x) | J7: Hyrdrogen (y) | K7: Oxigen | L7: F | M7: Φ | O7: CO2 | P7: H2O | Q7: O2 | R7: N2 | S7: alpha | T7: [N2] CONC | U7: [O2] CONC | W7: MJ | Y7: FLAME TEMP [K] | Z7: POLYNOMIAL ENT | AA7: FLAME TEMP [K] | AG7: Φ | AH7: 1 | AI7: 2
C8: P at inlet | D8: 1 | E8: Bar | I8: =8*M8 -> 8 | J8: =18*M8 -> 18 | K8: =2*12.5 -> 25 | L8: 12.5 | M8: 1 | O8: =I8 -> 8 | P8: =J8/2 -> 9 | Q8: =(K8-(2*O8)-P8)/2 -> 0 | R8: =12.5*3.76 -> 47 | S8: =$D$19/(M8+L8*(1+3.76)) -> 1.0856428e-07 | T8: =(R8*S8)/('Task2A)values_PHI_dependent'!$D$5*10^-6) -> 0.12756303 | U8: =(Q8*S8)/('Task2A)values_PHI_dependent'!$D$5*10^-6) -> 0 | V8: =S8*(O8+P8+Q8+R8) -> 6.9481141e-06 | W8: =(O8*(ABS($C$31))+(P8*ABS($C$33)))-ABS($C$34*M8) -> 5065 | X8: =$AA$8 -> 2390.9132 | Y8: =(($W$8-AH10)/($AH$11-$AH$10))*($AI$11-AI10)+$AI$10 -> 2390.904 | Z8: =8*M8*(((8.5770134353*10^-19)*(AA8^6))-((1.0374875556*10^-14)*(AA8^5))+((4.9689475953*10^-11)*(AA8^4))-((1.2019118054*10^-7)*(AA8^3))+((1.5650954893*10^-4)*(AA8^2))-((4.8239362033*10^-2)*(AA8))+(5.2084519626))+(9*M8*(((6.6506859177*10^-19)*(AA8^6))-((7.8984343104*10^-15)*(AA8^5))+((3.6879849877*10^-11)*(AA8^4))-((8.6386228559*10^-8)*(AA8^3))+((1.1074017861*10^-4)*(AA8^2))-((3.1241611608*10^-2)*(AA8))+(3.3006694533)))+(L8*(1-M8)*(((6.4958291549*10^-19)*(AA8^6))-((7.8224528491*10^-15)*(AA8^5))+((3.7120417697*10^-11)*(AA8^4))-((8.798317617*10^-8)*(AA8^3))+((1.0982327235*10^-4)*(AA8^2))-((3.2606444641*10^-2)*(AA8))+(3.5786489003))+(47*((((5.9376621671*(10^-19)*(AA8^6))-((7.1020711589*10^-15)*(AA8^5))+((3.3460896805*10^-11)*(AA8^4))-((7.8909601634*10^-8)*(AA8^3))+((9.8599769212*10^-5)*(AA8^2))-((2.8172899156*10^-2)*(AA8))+((3.05378908))))))) -> 5065.0003 | AA8: 2390.9132 | AG8: 1 | AH8: ENTALP RANGE | AI8: TEMP RANGE
C9: T at inlet | D9: 20 | E9: °C | I9: =8*M9 -> 7.92 | J9: =18*M9 -> 17.82 | K9: =2*12.5 -> 25 | L9: 12.5 | M9: 0.99 | O9: =I9 -> 7.92 | P9: =J9/2 -> 8.91 | Q9: =(K9-(2*O9)-P9)/2 -> 0.125 | R9: =12.5*3.76 -> 47 | S9: =$D$19/(M9+L9*(1+3.76)) -> 1.0858223e-07 | T9: =(R9*S9)/('Task2A)values_PHI_dependent'!$D$5*10^-6) -> 0.12758412 | U9: =(Q9*S9)/('Task2A)values_PHI_dependent'!$D$5*10^-6) -> 0.00033931947 | V9: =S9*(O9+P9+Q9+R9) -> 6.9443765e-06 | W9: =(O9*(ABS($C$31))+(P9*ABS($C$33)))-ABS($C$34*M9) -> 5014.35 | X9: =$AA$9 -> 2375.4523 | Y9: =(($W$9-$AM$15)/($AM$16-$AM$15))*($AN$16-$AN$15)+$AN$15 -> 2375.4363 | Z9: =8*M9*(((8.5770134353*10^-19)*(AA9^6))-((1.0374875556*10^-14)*(AA9^5))+((4.9689475953*10^-11)*(AA9^4))-((1.2019118054*10^-7)*(AA9^3))+((1.5650954893*10^-4)*(AA9^2))-((4.8239362033*10^-2)*(AA9))+(5.2084519626))+(9*M9*(((6.6506859177*10^-19)*(AA9^6))-((7.8984343104*10^-15)*(AA9^5))+((3.6879849877*10^-11)*(AA9^4))-((8.6386228559*10^-8)*(AA9^3))+((1.1074017861*10^-4)*(AA9^2))-((3.1241611608*10^-2)*(AA9))+(3.3006694533)))+(L9*(1-M9)*(((6.4958291549*10^-19)*(AA9^6))-((7.8224528491*10^-15)*(AA9^5))+((3.7120417697*10^-11)*(AA9^4))-((8.798317617*10^-8)*(AA9^3))+((1.0982327235*10^-4)*(AA9^2))-((3.2606444641*10^-2)*(AA9))+(3.5786489003))+(47*((((5.9376621671*(10^-19)*(AA9^6))-((7.1020711589*10^-15)*(AA9^5))+((3.3460896805*10^-11)*(AA9^4))-((7.8909601634*10^-8)*(AA9^3))+((9.8599769212*10^-5)*(AA9^2))-((2.8172899156*10^-2)*(AA9))+((3.05378908))))))) -> 5014.35 | AA9: 2375.4523 | AH9: RANGE
I10: =8*M10 -> 7.84 | J10: =18*M10 -> 17.64 | K10: =2*12.5 -> 25 | L10: 12.5 | M10: 0.98 | O10: =I10 -> 7.84 | P10: =J10/2 -> 8.82 | Q10: =(K10-(2*O10)-P10)/2 -> 0.25 | R10: =12.5*3.76 -> 47 | S10: =$D$19/(M10+L10*(1+3.76)) -> 1.0860018e-07 | T10: =(R10*S10)/('Task2A)values_PHI_dependent'!$D$5*10^-6) -> 0.12760522 | U10: =(Q10*S10)/('Task2A)values_PHI_dependent'!$D$5*10^-6) -> 0.00067875115 | V10: =S10*(O10+P10+Q10+R10) -> 6.9406377e-06 | W10: =(O10*(ABS($C$31))+(P10*ABS($C$33)))-ABS($C$34*M10) -> 4963.7 | Y10: =((W$10-$AM$20)/($AM$21-$AM$20))*($AN$21-$AN$20)+$AN$20 -> 2359.9127 | Z10: =8*M10*(((8.5770134353*10^-19)*(AA10^6))-((1.0374875556*10^-14)*(AA10^5))+((4.9689475953*10^-11)*(AA10^4))-((1.2019118054*10^-7)*(AA10^3))+((1.5650954893*10^-4)*(AA10^2))-((4.8239362033*10^-2)*(AA10))+(5.2084519626))+(9*M10*(((6.6506859177*10^-19)*(AA10^6))-((7.8984343104*10^-15)*(AA10^5))+((3.6879849877*10^-11)*(AA10^4))-((8.6386228559*10^-8)*(AA10^3))+((1.1074017861*10^-4)*(AA10^2))-((3.1241611608*10^-2)*(AA10))+(3.3006694533)))+(L10*(1-M10)*(((6.4958291549*10^-19)*(AA10^6))-((7.8224528491*10^-15)*(AA10^5))+((3.7120417697*10^-11)*(AA10^4))-((8.798317617*10^-8)*(AA10^3))+((1.0982327235*10^-4)*(AA10^2))-((3.2606444641*10^-2)*(AA10))+(3.5786489003))+(47*((((5.9376621671*(10^-19)*(AA10^6))-((7.1020711589*10^-15)*(AA10^5))+((3.3460896805*10^-11)*(AA10^4))-((7.8909601634*10^-8)*(AA10^3))+((9.8599769212*10^-5)*(AA10^2))-((2.8172899156*10^-2)*(AA10))+((3.05378908))))))) -> 4963.7 | AA10: 2359.9233 | AH10: =SMALL(Ent_tables!AE3:AE70,COUNTIF(Ent_tables!AE3:AE70,"<"&'Task2A)values_PHI_dependent'!$W$8)+0.1) -> 4952.928 | AI10: =VLOOKUP(AH10,Ent_tables!AE3:AF70,COLUMN(Ent_tables!AF3:AF70)-COLUMN(Ent_tables!AE3:AF70)+1,0) -> 2350
C11: Gas Const. R | D11: 8314 | E11: J/(Kmol*K) | I11: =8*M11 -> 7.76 | J11: =18*M11 -> 17.46 | K11: =2*12.5 -> 25 | L11: 12.5 | M11: 0.97 | O11: =I11 -> 7.76 | P11: =J11/2 -> 8.73 | Q11: =(K11-(2*O11)-P11)/2 -> 0.375 | R11: =12.5*3.76 -> 47 | S11: =$D$19/(M11+L11*(1+3.76)) -> 1.0861814e-07 | T11: =(R11*S11)/('Task2A)values_PHI_dependent'!$D$5*10^-6) -> 0.12762632 | U11: =(Q11*S11)/('Task2A)values_PHI_dependent'!$D$5*10^-6) -> 0.0010182951 | V11: =S11*(O11+P11+Q11+R11) -> 6.9368977e-06 | W11: =(O11*(ABS($C$31))+(P11*ABS($C$33)))-ABS($C$34*M11) -> 4913.05 | Z11: =8*M11*(((8.5770134353*10^-19)*(AA11^6))-((1.0374875556*10^-14)*(AA11^5))+((4.9689475953*10^-11)*(AA11^4))-((1.2019118054*10^-7)*(AA11^3))+((1.5650954893*10^-4)*(AA11^2))-((4.8239362033*10^-2)*(AA11))+(5.2084519626))+(9*M11*(((6.6506859177*10^-19)*(AA11^6))-((7.8984343104*10^-15)*(AA11^5))+((3.6879849877*10^-11)*(AA11^4))-((8.6386228559*10^-8)*(AA11^3))+((1.1074017861*10^-4)*(AA11^2))-((3.1241611608*10^-2)*(AA11))+(3.3006694533)))+(L11*(1-M11)*(((6.4958291549*10^-19)*(AA11^6))-((7.8224528491*10^-15)*(AA11^5))+((3.7120417697*10^-11)*(AA11^4))-((8.798317617*10^-8)*(AA11^3))+((1.0982327235*10^-4)*(AA11^2))-((3.2606444641*10^-2)*(AA11))+(3.5786489003))+(47*((((5.9376621671*(10^-19)*(AA11^6))-((7.1020711589*10^-15)*(AA11^5))+((3.3460896805*10^-11)*(AA11^4))-((7.8909601634*10^-8)*(AA11^3))+((9.8599769212*10^-5)*(AA11^2))-((2.8172899156*10^-2)*(AA11))+((3.05378908))))))) -> 4913.0501 | AA11: 2344.3242 | AH11: =SMALL(Ent_tables!AE3:AE70,COUNTIF(Ent_tables!AE3:AE70,"<"&'Task2A)values_PHI_dependent'!W8)+1) -> 5089.9221 | AI11: =VLOOKUP(AH11,Ent_tables!AE3:AF70,COLUMN(Ent_tables!AF3:AF70)-COLUMN(Ent_tables!AE3:AF70)+1,0) -> 2400
C12: Pol index | D12: 1.17 | I12: =8*M12 -> 7.68 | J12: =18*M12 -> 17.28 | K12: =2*12.5 -> 25 | L12: 12.5 | M12: 0.96 | O12: =I12 -> 7.68 | P12: =J12/2 -> 8.64 | Q12: =(K12-(2*O12)-P12)/2 -> 0.5 | R12: =12.5*3.76 -> 47 | S12: =$D$19/(M12+L12*(1+3.76)) -> 1.0863611e-07 | T12: =(R12*S12)/('Task2A)values_PHI_dependent'!$D$5*10^-6) -> 0.12764743 | U12: =(Q12*S12)/('Task2A)values_PHI_dependent'!$D$5*10^-6) -> 0.0013579514 | V12: =S12*(O12+P12+Q12+R12) -> 6.9331564e-06 | W12: =(O12*(ABS($C$31))+(P12*ABS($C$33)))-ABS($C$34*M12) -> 4862.4 | Z12: =8*M12*(((8.5770134353*10^-19)*(AA12^6))-((1.0374875556*10^-14)*(AA12^5))+((4.9689475953*10^-11)*(AA12^4))-((1.2019118054*10^-7)*(AA12^3))+((1.5650954893*10^-4)*(AA12^2))-((4.8239362033*10^-2)*(AA12))+(5.2084519626))+(9*M12*(((6.6506859177*10^-19)*(AA12^6))-((7.8984343104*10^-15)*(AA12^5))+((3.6879849877*10^-11)*(AA12^4))-((8.6386228559*10^-8)*(AA12^3))+((1.1074017861*10^-4)*(AA12^2))-((3.1241611608*10^-2)*(AA12))+(3.3006694533)))+(L12*(1-M12)*(((6.4958291549*10^-19)*(AA12^6))-((7.8224528491*10^-15)*(AA12^5))+((3.7120417697*10^-11)*(AA12^4))-((8.798317617*10^-8)*(AA12^3))+((1.0982327235*10^-4)*(AA12^2))-((3.2606444641*10^-2)*(AA12))+(3.5786489003))+(47*((((5.9376621671*(10^-19)*(AA12^6))-((7.1020711589*10^-15)*(AA12^5))+((3.3460896805*10^-11)*(AA12^4))-((7.8909601634*10^-8)*(AA12^3))+((9.8599769212*10^-5)*(AA12^2))-((2.8172899156*10^-2)*(AA12))+((3.05378908))))))) -> 4862.4002 | AA12: 2328.653 | AL12: Φ | AM12: 1 | AN12: 2
C13: RPM | D13: 1800 | E13: rpm | I13: =8*M13 -> 7.6 | J13: =18*M13 -> 17.1 | K13: =2*12.5 -> 25 | L13: 12.5 | M13: 0.95 | O13: =I13 -> 7.6 | P13: =J13/2 -> 8.55 | Q13: =(K13-(2*O13)-P13)/2 -> 0.625 | R13: =12.5*3.76 -> 47 | S13: =$D$19/(M13+L13*(1+3.76)) -> 1.0865408e-07 | T13: =(R13*S13)/('Task2A)values_PHI_dependent'!$D$5*10^-6) -> 0.12766854 | U13: =(Q13*S13)/('Task2A)values_PHI_dependent'!$D$5*10^-6) -> 0.00169772 | V13: =S13*(O13+P13+Q13+R13) -> 6.9294139e-06 | W13: =(O13*(ABS($C$31))+(P13*ABS($C$33)))-ABS($C$34*M13) -> 4811.75 | Z13: =8*M13*(((8.5770134353*10^-19)*(AA13^6))-((1.0374875556*10^-14)*(AA13^5))+((4.9689475953*10^-11)*(AA13^4))-((1.2019118054*10^-7)*(AA13^3))+((1.5650954893*10^-4)*(AA13^2))-((4.8239362033*10^-2)*(AA13))+(5.2084519626))+(9*M13*(((6.6506859177*10^-19)*(AA13^6))-((7.8984343104*10^-15)*(AA13^5))+((3.6879849877*10^-11)*(AA13^4))-((8.6386228559*10^-8)*(AA13^3))+((1.1074017861*10^-4)*(AA13^2))-((3.1241611608*10^-2)*(AA13))+(3.3006694533)))+(L13*(1-M13)*(((6.4958291549*10^-19)*(AA13^6))-((7.8224528491*10^-15)*(AA13^5))+((3.7120417697*10^-11)*(AA13^4))-((8.798317617*10^-8)*(AA13^3))+((1.0982327235*10^-4)*(AA13^2))-((3.2606444641*10^-2)*(AA13))+(3.5786489003))+(47*((((5.9376621671*(10^-19)*(AA13^6))-((7.1020711589*10^-15)*(AA13^5))+((3.3460896805*10^-11)*(AA13^4))-((7.8909601634*10^-8)*(AA13^3))+((9.8599769212*10^-5)*(AA13^2))-((2.8172899156*10^-2)*(AA13))+((3.05378908))))))) -> 4811.7506 | AA13: 2312.908 | AL13: 0.99 | AM13: ENTALP RANGE | AN13: TEMP RANGE
D14: =$D$13*(360/60) -> 10800 | E14: °/sec | I14: =8*M14 -> 7.52 | J14: =18*M14 -> 16.92 | K14: =2*12.5 -> 25 | L14: 12.5 | M14: 0.94 | O14: =I14 -> 7.52 | P14: =J14/2 -> 8.46 | Q14: =(K14-(2*O14)-P14)/2 -> 0.75 | R14: =12.5*3.76 -> 47 | S14: =$D$19/(M14+L14*(1+3.76)) -> 1.0867206e-07 | T14: =(R14*S14)/('Task2A)values_PHI_dependent'!$D$5*10^-6) -> 0.12768967 | U14: =(Q14*S14)/('Task2A)values_PHI_dependent'!$D$5*10^-6) -> 0.0020376011 | V14: =S14*(O14+P14+Q14+R14) -> 6.9256702e-06 | W14: =(O14*(ABS($C$31))+(P14*ABS($C$33)))-ABS($C$34*M14) -> 4761.1 | Z14: =8*M14*(((8.5770134353*10^-19)*(AA14^6))-((1.0374875556*10^-14)*(AA14^5))+((4.9689475953*10^-11)*(AA14^4))-((1.2019118054*10^-7)*(AA14^3))+((1.5650954893*10^-4)*(AA14^2))-((4.8239362033*10^-2)*(AA14))+(5.2084519626))+(9*M14*(((6.6506859177*10^-19)*(AA14^6))-((7.8984343104*10^-15)*(AA14^5))+((3.6879849877*10^-11)*(AA14^4))-((8.6386228559*10^-8)*(AA14^3))+((1.1074017861*10^-4)*(AA14^2))-((3.1241611608*10^-2)*(AA14))+(3.3006694533)))+(L14*(1-M14)*(((6.4958291549*10^-19)*(AA14^6))-((7.8224528491*10^-15)*(AA14^5))+((3.7120417697*10^-11)*(AA14^4))-((8.798317617*10^-8)*(AA14^3))+((1.0982327235*10^-4)*(AA14^2))-((3.2606444641*10^-2)*(AA14))+(3.5786489003))+(47*((((5.9376621671*(10^-19)*(AA14^6))-((7.1020711589*10^-15)*(AA14^5))+((3.3460896805*10^-11)*(AA14^4))-((7.8909601634*10^-8)*(AA14^3))+((9.8599769212*10^-5)*(AA14^2))-((2.8172899156*10^-2)*(AA14))+((3.05378908))))))) -> 4761.1 | AA14: 2297.0866 | AM14: RANGE
I15: =8*M15 -> 7.44 | J15: =18*M15 -> 16.74 | K15: =2*12.5 -> 25 | L15: 12.5 | M15: 0.93 | O15: =I15 -> 7.44 | P15: =J15/2 -> 8.37 | Q15: =(K15-(2*O15)-P15)/2 -> 0.875 | R15: =12.5*3.76 -> 47 | S15: =$D$19/(M15+L15*(1+3.76)) -> 1.0869004e-07 | T15: =(R15*S15)/('Task2A)values_PHI_dependent'!$D$5*10^-6) -> 0.1277108 | U15: =(Q15*S15)/('Task2A)values_PHI_dependent'!$D$5*10^-6) -> 0.0023775946 | V15: =S15*(O15+P15+Q15+R15) -> 6.9219252e-06 | W15: =(O15*(ABS($C$31))+(P15*ABS($C$33)))-ABS($C$34*M15) -> 4710.45 | Z15: =8*M15*(((8.5770134353*10^-19)*(AA15^6))-((1.0374875556*10^-14)*(AA15^5))+((4.9689475953*10^-11)*(AA15^4))-((1.2019118054*10^-7)*(AA15^3))+((1.5650954893*10^-4)*(AA15^2))-((4.8239362033*10^-2)*(AA15))+(5.2084519626))+(9*M15*(((6.6506859177*10^-19)*(AA15^6))-((7.8984343104*10^-15)*(AA15^5))+((3.6879849877*10^-11)*(AA15^4))-((8.6386228559*10^-8)*(AA15^3))+((1.1074017861*10^-4)*(AA15^2))-((3.1241611608*10^-2)*(AA15))+(3.3006694533)))+(L15*(1-M15)*(((6.4958291549*10^-19)*(AA15^6))-((7.8224528491*10^-15)*(AA15^5))+((3.7120417697*10^-11)*(AA15^4))-((8.798317617*10^-8)*(AA15^3))+((1.0982327235*10^-4)*(AA15^2))-((3.2606444641*10^-2)*(AA15))+(3.5786489003))+(47*((((5.9376621671*(10^-19)*(AA15^6))-((7.1020711589*10^-15)*(AA15^5))+((3.3460896805*10^-11)*(AA15^4))-((7.8909601634*10^-8)*(AA15^3))+((9.8599769212*10^-5)*(AA15^2))-((2.8172899156*10^-2)*(AA15))+((3.05378908))))))) -> 4710.45 | AA15: 2281.1875 | AM15: =SMALL(Ent_tables!AM3:AM70,COUNTIF(Ent_tables!AM3:AM70,"<"&W9)+0.1) -> 4944.7832 | AN15: =VLOOKUP(AM15,Ent_tables!AM3:AN70,COLUMN(Ent_tables!AN3:AN70)-COLUMN(Ent_tables!AM3:AN70)+1,0) -> 2350
C16: n | D16: =(($D$8*10^5)*($D$7*$D$4/$D$6*10^-6))/($D$11*($D$9+273)) -> 6.5681391e-06 | E16: Kmols | I16: =8*M16 -> 7.36 | J16: =18*M16 -> 16.56 | K16: =2*12.5 -> 25 | L16: 12.5 | M16: 0.92 | O16: =I16 -> 7.36 | P16: =J16/2 -> 8.28 | Q16: =(K16-(2*O16)-P16)/2 -> 1 | R16: =12.5*3.76 -> 47 | S16: =$D$19/(M16+L16*(1+3.76)) -> 1.0870803e-07 | T16: =(R16*S16)/('Task2A)values_PHI_dependent'!$D$5*10^-6) -> 0.12773193 | U16: =(Q16*S16)/('Task2A)values_PHI_dependent'!$D$5*10^-6) -> 0.0027177007 | V16: =S16*(O16+P16+Q16+R16) -> 6.918179e-06 | W16: =(O16*(ABS($C$31))+(P16*ABS($C$33)))-ABS($C$34*M16) -> 4659.8 | Z16: =8*M16*(((8.5770134353*10^-19)*(AA16^6))-((1.0374875556*10^-14)*(AA16^5))+((4.9689475953*10^-11)*(AA16^4))-((1.2019118054*10^-7)*(AA16^3))+((1.5650954893*10^-4)*(AA16^2))-((4.8239362033*10^-2)*(AA16))+(5.2084519626))+(9*M16*(((6.6506859177*10^-19)*(AA16^6))-((7.8984343104*10^-15)*(AA16^5))+((3.6879849877*10^-11)*(AA16^4))-((8.6386228559*10^-8)*(AA16^3))+((1.1074017861*10^-4)*(AA16^2))-((3.1241611608*10^-2)*(AA16))+(3.3006694533)))+(L16*(1-M16)*(((6.4958291549*10^-19)*(AA16^6))-((7.8224528491*10^-15)*(AA16^5))+((3.7120417697*10^-11)*(AA16^4))-((8.798317617*10^-8)*(AA16^3))+((1.0982327235*10^-4)*(AA16^2))-((3.2606444641*10^-2)*(AA16))+(3.5786489003))+(47*((((5.9376621671*(10^-19)*(AA16^6))-((7.1020711589*10^-15)*(AA16^5))+((3.3460896805*10^-11)*(AA16^4))-((7.8909601634*10^-8)*(AA16^3))+((9.8599769212*10^-5)*(AA16^2))-((2.8172899156*10^-2)*(AA16))+((3.05378908))))))) -> 4659.8 | AA16: 2265.2085 | AM16: =SMALL(Ent_tables!AM3:AM70,COUNTIF(Ent_tables!AM3:AM70,"<"&W9)+1) -> 5081.5301 | AN16: =VLOOKUP(AM16,Ent_tables!AM3:AN70,COLUMN(Ent_tables!AN3:AN70)-COLUMN(Ent_tables!AM3:AN70)+1,0) -> 2400
I17: =8*M17 -> 7.28 | J17: =18*M17 -> 16.38 | K17: =2*12.5 -> 25 | L17: 12.5 | M17: 0.91 | O17: =I17 -> 7.28 | P17: =J17/2 -> 8.19 | Q17: =(K17-(2*O17)-P17)/2 -> 1.125 | R17: =12.5*3.76 -> 47 | S17: =$D$19/(M17+L17*(1+3.76)) -> 1.0872602e-07 | T17: =(R17*S17)/('Task2A)values_PHI_dependent'!$D$5*10^-6) -> 0.12775308 | U17: =(Q17*S17)/('Task2A)values_PHI_dependent'!$D$5*10^-6) -> 0.0030579194 | V17: =S17*(O17+P17+Q17+R17) -> 6.9144315e-06 | W17: =(O17*(ABS($C$31))+(P17*ABS($C$33)))-ABS($C$34*M17) -> 4609.15 | Z17: =8*M17*(((8.5770134353*10^-19)*(AA17^6))-((1.0374875556*10^-14)*(AA17^5))+((4.9689475953*10^-11)*(AA17^4))-((1.2019118054*10^-7)*(AA17^3))+((1.5650954893*10^-4)*(AA17^2))-((4.8239362033*10^-2)*(AA17))+(5.2084519626))+(9*M17*(((6.6506859177*10^-19)*(AA17^6))-((7.8984343104*10^-15)*(AA17^5))+((3.6879849877*10^-11)*(AA17^4))-((8.6386228559*10^-8)*(AA17^3))+((1.1074017861*10^-4)*(AA17^2))-((3.1241611608*10^-2)*(AA17))+(3.3006694533)))+(L17*(1-M17)*(((6.4958291549*10^-19)*(AA17^6))-((7.8224528491*10^-15)*(AA17^5))+((3.7120417697*10^-11)*(AA17^4))-((8.798317617*10^-8)*(AA17^3))+((1.0982327235*10^-4)*(AA17^2))-((3.2606444641*10^-2)*(AA17))+(3.5786489003))+(47*((((5.9376621671*(10^-19)*(AA17^6))-((7.1020711589*10^-15)*(AA17^5))+((3.3460896805*10^-11)*(AA17^4))-((7.8909601634*10^-8)*(AA17^3))+((9.8599769212*10^-5)*(AA17^2))-((2.8172899156*10^-2)*(AA17))+((3.05378908))))))) -> 4609.15 | AA17: 2249.1475 | AL17: Φ | AM17: 1 | AN17: 2
C18: Alpha | D18: =$D$16/(draft!$H$18+draft!$M$11*(1+3.76)) -> 1.0856428e-07 | E18: Kmols | I18: =8*M18 -> 7.2 | J18: =18*M18 -> 16.2 | K18: =2*12.5 -> 25 | L18: 12.5 | M18: 0.9 | O18: =I18 -> 7.2 | P18: =J18/2 -> 8.1 | Q18: =(K18-(2*O18)-P18)/2 -> 1.25 | R18: =12.5*3.76 -> 47 | S18: =$D$19/(M18+L18*(1+3.76)) -> 1.0874402e-07 | T18: =(R18*S18)/('Task2A)values_PHI_dependent'!$D$5*10^-6) -> 0.12777423 | U18: =(Q18*S18)/('Task2A)values_PHI_dependent'!$D$5*10^-6) -> 0.0033982508 | V18: =S18*(O18+P18+Q18+R18) -> 6.9106828e-06 | W18: =(O18*(ABS($C$31))+(P18*ABS($C$33)))-ABS($C$34*M18) -> 4558.5 | Z18: =8*M18*(((8.5770134353*10^-19)*(AA18^6))-((1.0374875556*10^-14)*(AA18^5))+((4.9689475953*10^-11)*(AA18^4))-((1.2019118054*10^-7)*(AA18^3))+((1.5650954893*10^-4)*(AA18^2))-((4.8239362033*10^-2)*(AA18))+(5.2084519626))+(9*M18*(((6.6506859177*10^-19)*(AA18^6))-((7.8984343104*10^-15)*(AA18^5))+((3.6879849877*10^-11)*(AA18^4))-((8.6386228559*10^-8)*(AA18^3))+((1.1074017861*10^-4)*(AA18^2))-((3.1241611608*10^-2)*(AA18))+(3.3006694533)))+(L18*(1-M18)*(((6.4958291549*10^-19)*(AA18^6))-((7.8224528491*10^-15)*(AA18^5))+((3.7120417697*10^-11)*(AA18^4))-((8.798317617*10^-8)*(AA18^3))+((1.0982327235*10^-4)*(AA18^2))-((3.2606444641*10^-2)*(AA18))+(3.5786489003))+(47*((((5.9376621671*(10^-19)*(AA18^6))-((7.1020711589*10^-15)*(AA18^5))+((3.3460896805*10^-11)*(AA18^4))-((7.8909601634*10^-8)*(AA18^3))+((9.8599769212*10^-5)*(AA18^2))-((2.8172899156*10^-2)*(AA18))+((3.05378908))))))) -> 4558.5 | AA18: 2233.0026 | AL18: 0.98 | AM18: ENTALP RANGE | AN18: TEMP RANGE
C19: n | D19: ='Task2A)values_PHI_dependent'!$D$16 -> 6.5681391e-06 | E19: Kmols | I19: =8*M19 -> 6.8 | J19: =18*M19 -> 15.3 | K19: =2*12.5 -> 25 | L19: 12.5 | M19: 0.85 | O19: =I19 -> 6.8 | P19: =J19/2 -> 7.65 | Q19: =(K19-(2*O19)-P19)/2 -> 1.875 | R19: =12.5*3.76 -> 47 | S19: =$D$19/(M19+L19*(1+3.76)) -> 1.0883412e-07 | T19: =(R19*S19)/('Task2A)values_PHI_dependent'!$D$5*10^-6) -> 0.12788009 | U19: =(Q19*S19)/('Task2A)values_PHI_dependent'!$D$5*10^-6) -> 0.0051015993 | V19: =S19*(O19+P19+Q19+R19) -> 6.8919206e-06 | W19: =(O19*(ABS($C$31))+(P19*ABS($C$33)))-ABS($C$34*M19) -> 4305.25 | Z19: =8*M19*(((8.5770134353*10^-19)*(AA19^6))-((1.0374875556*10^-14)*(AA19^5))+((4.9689475953*10^-11)*(AA19^4))-((1.2019118054*10^-7)*(AA19^3))+((1.5650954893*10^-4)*(AA19^2))-((4.8239362033*10^-2)*(AA19))+(5.2084519626))+(9*M19*(((6.6506859177*10^-19)*(AA19^6))-((7.8984343104*10^-15)*(AA19^5))+((3.6879849877*10^-11)*(AA19^4))-((8.6386228559*10^-8)*(AA19^3))+((1.1074017861*10^-4)*(AA19^2))-((3.1241611608*10^-2)*(AA19))+(3.3006694533)))+(L19*(1-M19)*(((6.4958291549*10^-19)*(AA19^6))-((7.8224528491*10^-15)*(AA19^5))+((3.7120417697*10^-11)*(AA19^4))-((8.798317617*10^-8)*(AA19^3))+((1.0982327235*10^-4)*(AA19^2))-((3.2606444641*10^-2)*(AA19))+(3.5786489003))+(47*((((5.9376621671*(10^-19)*(AA19^6))-((7.1020711589*10^-15)*(AA19^5))+((3.3460896805*10^-11)*(AA19^4))-((7.8909601634*10^-8)*(AA19^3))+((9.8599769212*10^-5)*(AA19^2))-((2.8172899156*10^-2)*(AA19))+((3.05378908))))))) -> 4305.25 | AA19: 2150.9481 | AM19: RANGE
C20: number of Kmols sucked in the Cylinder | I20: =8*M20 -> 6.4 | J20: =18*M20 -> 14.4 | K20: =2*12.5 -> 25 | L20: 12.5 | M20: 0.8 | O20: =I20 -> 6.4 | P20: =J20/2 -> 7.2 | Q20: =(K20-(2*O20)-P20)/2 -> 2.5 | R20: =12.5*3.76 -> 47 | S20: =$D$19/(M20+L20*(1+3.76)) -> 1.0892436e-07 | T20: =(R20*S20)/('Task2A)values_PHI_dependent'!$D$5*10^-6) -> 0.12798613 | U20: =(Q20*S20)/('Task2A)values_PHI_dependent'!$D$5*10^-6) -> 0.0068077727 | V20: =S20*(O20+P20+Q20+R20) -> 6.8731273e-06 | W20: =(O20*(ABS($C$31))+(P20*ABS($C$33)))-ABS($C$34*M20) -> 4052 | Z20: =8*M20*(((8.5770134353*10^-19)*(AA20^6))-((1.0374875556*10^-14)*(AA20^5))+((4.9689475953*10^-11)*(AA20^4))-((1.2019118054*10^-7)*(AA20^3))+((1.5650954893*10^-4)*(AA20^2))-((4.8239362033*10^-2)*(AA20))+(5.2084519626))+(9*M20*(((6.6506859177*10^-19)*(AA20^6))-((7.8984343104*10^-15)*(AA20^5))+((3.6879849877*10^-11)*(AA20^4))-((8.6386228559*10^-8)*(AA20^3))+((1.1074017861*10^-4)*(AA20^2))-((3.1241611608*10^-2)*(AA20))+(3.3006694533)))+(L20*(1-M20)*(((6.4958291549*10^-19)*(AA20^6))-((7.8224528491*10^-15)*(AA20^5))+((3.7120417697*10^-11)*(AA20^4))-((8.798317617*10^-8)*(AA20^3))+((1.0982327235*10^-4)*(AA20^2))-((3.2606444641*10^-2)*(AA20))+(3.5786489003))+(47*((((5.9376621671*(10^-19)*(AA20^6))-((7.1020711589*10^-15)*(AA20^5))+((3.3460896805*10^-11)*(AA20^4))-((7.8909601634*10^-8)*(AA20^3))+((9.8599769212*10^-5)*(AA20^2))-((2.8172899156*10^-2)*(AA20))+((3.05378908))))))) -> 4052 | AA20: 2066.4957 | AM20: =SMALL(Ent_tables!AU3:AV70,COUNTIF(Ent_tables!AU3:AV70,"<"&W10)+0.1) -> 4936.6383 | AN20: =VLOOKUP(AM20,Ent_tables!AU3:AV70,COLUMN(Ent_tables!AV3:AV70)-COLUMN(Ent_tables!AU3:AV70)+1,0) -> 2350
I21: =8*M21 -> 6 | J21: =18*M21 -> 13.5 | K21: =2*12.5 -> 25 | L21: 12.5 | M21: 0.75 | O21: =I21 -> 6 | P21: =J21/2 -> 6.75 | Q21: =(K21-(2*O21)-P21)/2 -> 3.125 | R21: =12.5*3.76 -> 47 | S21: =$D$19/(M21+L21*(1+3.76)) -> 1.0901476e-07 | T21: =(R21*S21)/('Task2A)values_PHI_dependent'!$D$5*10^-6) -> 0.12809234 | U21: =(Q21*S21)/('Task2A)values_PHI_dependent'!$D$5*10^-6) -> 0.0085167779 | V21: =S21*(O21+P21+Q21+R21) -> 6.8543028e-06 | W21: =(O21*(ABS($C$31))+(P21*ABS($C$33)))-ABS($C$34*M21) -> 3798.75 | Z21: =8*M21*(((8.5770134353*10^-19)*(AA21^6))-((1.0374875556*10^-14)*(AA21^5))+((4.9689475953*10^-11)*(AA21^4))-((1.2019118054*10^-7)*(AA21^3))+((1.5650954893*10^-4)*(AA21^2))-((4.8239362033*10^-2)*(AA21))+(5.2084519626))+(9*M21*(((6.6506859177*10^-19)*(AA21^6))-((7.8984343104*10^-15)*(AA21^5))+((3.6879849877*10^-11)*(AA21^4))-((8.6386228559*10^-8)*(AA21^3))+((1.1074017861*10^-4)*(AA21^2))-((3.1241611608*10^-2)*(AA21))+(3.3006694533)))+(L21*(1-M21)*(((6.4958291549*10^-19)*(AA21^6))-((7.8224528491*10^-15)*(AA21^5))+((3.7120417697*10^-11)*(AA21^4))-((8.798317617*10^-8)*(AA21^3))+((1.0982327235*10^-4)*(AA21^2))-((3.2606444641*10^-2)*(AA21))+(3.5786489003))+(47*((((5.9376621671*(10^-19)*(AA21^6))-((7.1020711589*10^-15)*(AA21^5))+((3.3460896805*10^-11)*(AA21^4))-((7.8909601634*10^-8)*(AA21^3))+((9.8599769212*10^-5)*(AA21^2))-((2.8172899156*10^-2)*(AA21))+((3.05378908))))))) -> 3798.75 | AA21: 1979.4127 | AM21: =SMALL(Ent_tables!AU3:AV70,COUNTIF(Ent_tables!AU3:AV70,"<"&W10)+1) -> 5073.1382 | AN21: =VLOOKUP(AM21,Ent_tables!AU3:AV70,COLUMN(Ent_tables!AV3:AV70)-COLUMN(Ent_tables!AU3:AV70)+1,0) -> 2400
I22: =8*M22 -> 5.6 | J22: =18*M22 -> 12.6 | K22: =2*12.5 -> 25 | L22: 12.5 | M22: 0.7 | O22: =I22 -> 5.6 | P22: =J22/2 -> 6.3 | Q22: =(K22-(2*O22)-P22)/2 -> 3.75 | R22: =12.5*3.76 -> 47 | S22: =$D$19/(M22+L22*(1+3.76)) -> 1.091053e-07 | T22: =(R22*S22)/('Task2A)values_PHI_dependent'!$D$5*10^-6) -> 0.12819873 | U22: =(Q22*S22)/('Task2A)values_PHI_dependent'!$D$5*10^-6) -> 0.010228622 | V22: =S22*(O22+P22+Q22+R22) -> 6.8354471e-06 | W22: =(O22*(ABS($C$31))+(P22*ABS($C$33)))-ABS($C$34*M22) -> 3545.5 | Z22: =8*M22*(((8.5770134353*10^-19)*(AA22^6))-((1.0374875556*10^-14)*(AA22^5))+((4.9689475953*10^-11)*(AA22^4))-((1.2019118054*10^-7)*(AA22^3))+((1.5650954893*10^-4)*(AA22^2))-((4.8239362033*10^-2)*(AA22))+(5.2084519626))+(9*M22*(((6.6506859177*10^-19)*(AA22^6))-((7.8984343104*10^-15)*(AA22^5))+((3.6879849877*10^-11)*(AA22^4))-((8.6386228559*10^-8)*(AA22^3))+((1.1074017861*10^-4)*(AA22^2))-((3.1241611608*10^-2)*(AA22))+(3.3006694533)))+(L22*(1-M22)*(((6.4958291549*10^-19)*(AA22^6))-((7.8224528491*10^-15)*(AA22^5))+((3.7120417697*10^-11)*(AA22^4))-((8.798317617*10^-8)*(AA22^3))+((1.0982327235*10^-4)*(AA22^2))-((3.2606444641*10^-2)*(AA22))+(3.5786489003))+(47*((((5.9376621671*(10^-19)*(AA22^6))-((7.1020711589*10^-15)*(AA22^5))+((3.3460896805*10^-11)*(AA22^4))-((7.8909601634*10^-8)*(AA22^3))+((9.8599769212*10^-5)*(AA22^2))-((2.8172899156*10^-2)*(AA22))+((3.05378908))))))) -> 3545.5002 | AA22: 1889.5021 | AL22: Φ | AM22: 1 | AN22: 2
A23: REACTION BALANCE | B23: BALANCE | E23: F | F23: 12.5 | I23: =8*M23 -> 5.2 | J23: =18*M23 -> 11.7 | K23: =2*12.5 -> 25 | L23: 12.5 | M23: 0.65 | O23: =I23 -> 5.2 | P23: =J23/2 -> 5.85 | Q23: =(K23-(2*O23)-P23)/2 -> 4.375 | R23: =12.5*3.76 -> 47 | S23: =$D$19/(M23+L23*(1+3.76)) -> 1.09196e-07 | T23: =(R23*S23)/('Task2A)values_PHI_dependent'!$D$5*10^-6) -> 0.12830529 | U23: =(Q23*S23)/('Task2A)values_PHI_dependent'!$D$5*10^-6) -> 0.011943312 | V23: =S23*(O23+P23+Q23+R23) -> 6.81656e-06 | W23: =(O23*(ABS($C$31))+(P23*ABS($C$33)))-ABS($C$34*M23) -> 3292.25 | Z23: =8*M23*(((8.5770134353*10^-19)*(AA23^6))-((1.0374875556*10^-14)*(AA23^5))+((4.9689475953*10^-11)*(AA23^4))-((1.2019118054*10^-7)*(AA23^3))+((1.5650954893*10^-4)*(AA23^2))-((4.8239362033*10^-2)*(AA23))+(5.2084519626))+(9*M23*(((6.6506859177*10^-19)*(AA23^6))-((7.8984343104*10^-15)*(AA23^5))+((3.6879849877*10^-11)*(AA23^4))-((8.6386228559*10^-8)*(AA23^3))+((1.1074017861*10^-4)*(AA23^2))-((3.1241611608*10^-2)*(AA23))+(3.3006694533)))+(L23*(1-M23)*(((6.4958291549*10^-19)*(AA23^6))-((7.8224528491*10^-15)*(AA23^5))+((3.7120417697*10^-11)*(AA23^4))-((8.798317617*10^-8)*(AA23^3))+((1.0982327235*10^-4)*(AA23^2))-((3.2606444641*10^-2)*(AA23))+(3.5786489003))+(47*((((5.9376621671*(10^-19)*(AA23^6))-((7.1020711589*10^-15)*(AA23^5))+((3.3460896805*10^-11)*(AA23^4))-((7.8909601634*10^-8)*(AA23^3))+((9.8599769212*10^-5)*(AA23^2))-((2.8172899156*10^-2)*(AA23))+((3.05378908))))))) -> 3292.2506 | AA23: 1796.628 | AL23: 0.97 | AM23: ENTALP RANGE | AN23: TEMP RANGE
A24: FIXED VALUESSSS | I24: =8*M24 -> 4.8 | J24: =18*M24 -> 10.8 | K24: =2*12.5 -> 25 | L24: 12.5 | M24: 0.6 | O24: =I24 -> 4.8 | P24: =J24/2 -> 5.4 | Q24: =(K24-(2*O24)-P24)/2 -> 5 | R24: =12.5*3.76 -> 47 | S24: =$D$19/(M24+L24*(1+3.76)) -> 1.0928684e-07 | T24: =(R24*S24)/('Task2A)values_PHI_dependent'!$D$5*10^-6) -> 0.12841204 | U24: =(Q24*S24)/('Task2A)values_PHI_dependent'!$D$5*10^-6) -> 0.013660855 | V24: =S24*(O24+P24+Q24+R24) -> 6.7976415e-06 | W24: =(O24*(ABS($C$31))+(P24*ABS($C$33)))-ABS($C$34*M24) -> 3039 | Z24: =8*M24*(((8.5770134353*10^-19)*(AA24^6))-((1.0374875556*10^-14)*(AA24^5))+((4.9689475953*10^-11)*(AA24^4))-((1.2019118054*10^-7)*(AA24^3))+((1.5650954893*10^-4)*(AA24^2))-((4.8239362033*10^-2)*(AA24))+(5.2084519626))+(9*M24*(((6.6506859177*10^-19)*(AA24^6))-((7.8984343104*10^-15)*(AA24^5))+((3.6879849877*10^-11)*(AA24^4))-((8.6386228559*10^-8)*(AA24^3))+((1.1074017861*10^-4)*(AA24^2))-((3.1241611608*10^-2)*(AA24))+(3.3006694533)))+(L24*(1-M24)*(((6.4958291549*10^-19)*(AA24^6))-((7.8224528491*10^-15)*(AA24^5))+((3.7120417697*10^-11)*(AA24^4))-((8.798317617*10^-8)*(AA24^3))+((1.0982327235*10^-4)*(AA24^2))-((3.2606444641*10^-2)*(AA24))+(3.5786489003))+(47*((((5.9376621671*(10^-19)*(AA24^6))-((7.1020711589*10^-15)*(AA24^5))+((3.3460896805*10^-11)*(AA24^4))-((7.8909601634*10^-8)*(AA24^3))+((9.8599769212*10^-5)*(AA24^2))-((2.8172899156*10^-2)*(AA24))+((3.05378908))))))) -> 3039 | AA24: 1700.7428 | AM24: RANGE
A25: Carbon (x) | B25: 8 | E25: CO2 (n1) | F25: =8 -> 8 | AM25: =SMALL(Ent_tables!BC3:BC70,COUNTIF(Ent_tables!BC3:BC70,"<"&W11)+0.1) -> 4792.6533 | AN25: =VLOOKUP(AM25,Ent_tables!AU8:AV75,COLUMN(Ent_tables!AV8:AV75)-COLUMN(Ent_tables!AU8:AV75)+1,0) -> #N/A
A26: Hyrdrogen (y) | B26: 18 | E26: H20 (n2) | F26: =B26/2 -> 9 | M26: POL INDEX | N26: =1.17 -> 1.17 | AM26: =SMALL(Ent_tables!BC3:BC705,COUNTIF(Ent_tables!BC3:BC70,"<"&W11)+1) -> 4928.4934 | AN26: =VLOOKUP(AM26,Ent_tables!AU8:AV75,COLUMN(Ent_tables!AV8:AV75)-COLUMN(Ent_tables!AU8:AV75)+1,0) -> #N/A
A27: Oxigen | B27: =2*12.5 -> 25 | E27: Oxigen (n3) | F27: 0 | M27: INDICE AT POWER | N27: =($N$26-1)/$N$26 -> 0.14529915 | O27: phi 1 | Q27: phi 0.99 | S27: phi 0.98 | U27: phi 0.97 | W27: phi 0.96 | Y27: phi 0.95
E28: Nitrogen (n4) | F28: =12.5*3.76 -> 47 | M28: deg | N28: PRESSURE[bar] | O28: TEMP [K] | P28: NOX [Kmol/°] | Q28: TEMP [K] | R28: NOX [Kmol/°] | S28: TEMP [K] | T28: NOX [Kmol/°] | U28: TEMP [K] | V28: NOX [Kmol/°] | W28: TEMP [K] | X28: NOX [Kmol/°] | Y28: TEMP [K] | Z28: NOX [Kmol/°]
M29: 0 | N29: 10 | O29: =AA8 -> 2390.9132 | P29: =(4.17*10^13*$T$8*$U$8^0.5*EXP(-67837/O29))/'Task2A)values_PHI_dependent'!$D$14*'Task2A)values_PHI_dependent'!$D$5*10^-6 -> 0 | Q29: =$AA$9 -> 2375.4523 | R29: =(4.17*10^13*$T$9*$U$9^0.5*EXP(-67837/Q29))/'Task2A)values_PHI_dependent'!$D$14*'Task2A)values_PHI_dependent'!$D$5*10^-6 -> 1.4371588e-10 | S29: =$AA$10 -> 2359.9233 | T29: =(4.17*10^13*$T$10*$U$10^0.5*EXP(-67837/S29))/'Task2A)values_PHI_dependent'!$D$14*'Task2A)values_PHI_dependent'!$D$5*10^-6 -> 1.6846748e-10 | U29: =$AA$11 -> 2344.3242 | V29: =(4.17*10^13*$T$11*$U$11^0.5*EXP(-67837/U29))/'Task2A)values_PHI_dependent'!$D$14*'Task2A)values_PHI_dependent'!$D$5*10^-6 -> 1.7045161e-10 | W29: =$AA$12 -> 2328.653 | X29: =(4.17*10^13*$T$12*$U$12^0.5*EXP(-67837/W29))/'Task2A)values_PHI_dependent'!$D$14*'Task2A)values_PHI_dependent'!$D$5*10^-6 -> 1.6203388e-10 | Y29: =$AA$13 -> 2312.908 | Z29: =(4.17*10^13*$T$13*$U$13^0.5*EXP(-67837/Y29))/'Task2A)values_PHI_dependent'!$D$14*'Task2A)values_PHI_dependent'!$D$5*10^-6 -> 1.4860832e-10
M30: 1 | N30: 12 | O30: =O29*(N30/N29)^$N$27 -> 2455.0977 | P30: =(4.17*10^13*$T$8*$U$8^0.5*EXP(-67837/O30))/'Task2A)values_PHI_dependent'!$D$14*'Task2A)values_PHI_dependent'!$D$5*10^-6 -> 0 | Q30: =Q29*(N30/N29)^$N$27 -> 2439.2217 | R30: =(4.17*10^13*$T$9*$U$9^0.5*EXP(-67837/Q30))/'Task2A)values_PHI_dependent'!$D$14*'Task2A)values_PHI_dependent'!$D$5*10^-6 -> 3.0321053e-10 | S30: =S29*(N30/N29)^$N$27 -> 2423.2758 | T30: =(4.17*10^13*$T$10*$U$10^0.5*EXP(-67837/S30))/'Task2A)values_PHI_dependent'!$D$14*'Task2A)values_PHI_dependent'!$D$5*10^-6 -> 3.5718169e-10 | U30: =U29*(N30/N29)^$N$27 -> 2407.258 | V30: =(4.17*10^13*$T$11*$U$11^0.5*EXP(-67837/U30))/'Task2A)values_PHI_dependent'!$D$14*'Task2A)values_PHI_dependent'!$D$5*10^-6 -> 3.6320005e-10 | W30: =W29*(N30/N29)^$N$27 -> 2391.1661 | X30: =(4.17*10^13*$T$12*$U$12^0.5*EXP(-67837/W30))/'Task2A)values_PHI_dependent'!$D$14*'Task2A)values_PHI_dependent'!$D$5*10^-6 -> 3.4702569e-10 | Y30: =Y29*(N30/N29)^$N$27 -> 2374.9984 | Z30: =(4.17*10^13*$T$13*$U$13^0.5*EXP(-67837/Y30))/'Task2A)values_PHI_dependent'!$D$14*'Task2A)values_PHI_dependent'!$D$5*10^-6 -> 3.1992674e-10
B31: hf | C31: -393.5 | D31: KJ/Kmol | M31: 2 | N31: 14 | O31: =O30*(N31/N30)^$N$27 -> 2510.7073 | P31: =(4.17*10^13*$T$8*$U$8^0.5*EXP(-67837/O31))/'Task2A)values_PHI_dependent'!$D$14*'Task2A)values_PHI_dependent'!$D$5*10^-6 -> 0 | Q31: =Q30*(N31/N30)^$N$27 -> 2494.4718 | R31: =(4.17*10^13*$T$9*$U$9^0.5*EXP(-67837/Q31))/'Task2A)values_PHI_dependent'!$D$14*'Task2A)values_PHI_dependent'!$D$5*10^-6 -> 5.6138736e-10 | S31: =S30*(N31/N30)^$N$27 -> 2478.1647 | T31: =(4.17*10^13*$T$10*$U$10^0.5*EXP(-67837/S31))/'Task2A)values_PHI_dependent'!$D$14*'Task2A)values_PHI_dependent'!$D$5*10^-6 -> 6.6399972e-10 | U31: =U30*(N31/N30)^$N$27 -> 2461.784 | V31: =(4.17*10^13*$T$11*$U$11^0.5*EXP(-67837/U31))/'Task2A)values_PHI_dependent'!$D$14*'Task2A)values_PHI_dependent'!$D$5*10^-6 -> 6.7797924e-10 | W31: =W30*(N31/N30)^$N$27 -> 2445.3277 | X31: =(4.17*10^13*$T$12*$U$12^0.5*EXP(-67837/W31))/'Task2A)values_PHI_dependent'!$D$14*'Task2A)values_PHI_dependent'!$D$5*10^-6 -> 6.5051353e-10 | Y31: =Y30*(N31/N30)^$N$27 -> 2428.7937 | Z31: =(4.17*10^13*$T$13*$U$13^0.5*EXP(-67837/Y31))/'Task2A)values_PHI_dependent'!$D$14*'Task2A)values_PHI_dependent'!$D$5*10^-6 -> 6.0228628e-10
B32: hf Liquid | C32: -285.8 | D32: KJ/Kmol | M32: 3 | N32: 16 | O32: =O31*(N32/N31)^$N$27 -> 2559.8957 | P32: =(4.17*10^13*$T$8*$U$8^0.5*EXP(-67837/O32))/'Task2A)values_PHI_dependent'!$D$14*'Task2A)values_PHI_dependent'!$D$5*10^-6 -> 0 | Q32: =Q31*(N32/N31)^$N$27 -> 2543.342 | R32: =(4.17*10^13*$T$9*$U$9^0.5*EXP(-67837/Q32))/'Task2A)values_PHI_dependent'!$D$14*'Task2A)values_PHI_dependent'!$D$5*10^-6 -> 9.4668042e-10 | S32: =S31*(N32/N31)^$N$27 -> 2526.7155 | T32: =(4.17*10^13*$T$10*$U$10^0.5*EXP(-67837/S32))/'Task2A)values_PHI_dependent'!$D$14*'Task2A)values_PHI_dependent'!$D$5*10^-6 -> 1.1235748e-09 | U32: =U31*(N32/N31)^$N$27 -> 2510.0139 | V32: =(4.17*10^13*$T$11*$U$11^0.5*EXP(-67837/U32))/'Task2A)values_PHI_dependent'!$D$14*'Task2A)values_PHI_dependent'!$D$5*10^-6 -> 1.1512523e-09 | W32: =W31*(N32/N31)^$N$27 -> 2493.2352 | X32: =(4.17*10^13*$T$12*$U$12^0.5*EXP(-67837/W32))/'Task2A)values_PHI_dependent'!$D$14*'Task2A)values_PHI_dependent'!$D$5*10^-6 -> 1.1085568e-09 | Y32: =Y31*(N32/N31)^$N$27 -> 2476.3773 | Z32: =(4.17*10^13*$T$13*$U$13^0.5*EXP(-67837/Y32))/'Task2A)values_PHI_dependent'!$D$14*'Task2A)values_PHI_dependent'!$D$5*10^-6 -> 1.0301027e-09
B33: hf Gas | C33: -241.8 | D33: KJ/Kmol | M33: 4 | N33: 18 | O33: =O32*(N33/N32)^$N$27 -> 2604.0822 | P33: =(4.17*10^13*$T$8*$U$8^0.5*EXP(-67837/O33))/'Task2A)values_PHI_dependent'!$D$14*'Task2A)values_PHI_dependent'!$D$5*10^-6 -> 0 | Q33: =Q32*(N33/N32)^$N$27 -> 2587.2428 | R33: =(4.17*10^13*$T$9*$U$9^0.5*EXP(-67837/Q33))/'Task2A)values_PHI_dependent'!$D$14*'Task2A)values_PHI_dependent'!$D$5*10^-6 -> 1.4885281e-09 | S33: =S32*(N33/N32)^$N$27 -> 2570.3293 | T33: =(4.17*10^13*$T$10*$U$10^0.5*EXP(-67837/S33))/'Task2A)values_PHI_dependent'!$D$14*'Task2A)values_PHI_dependent'!$D$5*10^-6 -> 1.77194e-09 | U33: =U32*(N33/N32)^$N$27 -> 2553.3394 | V33: =(4.17*10^13*$T$11*$U$11^0.5*EXP(-67837/U33))/'Task2A)values_PHI_dependent'!$D$14*'Task2A)values_PHI_dependent'!$D$5*10^-6 -> 1.8211008e-09 | W33: =W32*(N33/N32)^$N$27 -> 2536.271 | X33: =(4.17*10^13*$T$12*$U$12^0.5*EXP(-67837/W33))/'Task2A)values_PHI_dependent'!$D$14*'Task2A)values_PHI_dependent'!$D$5*10^-6 -> 1.7589834e-09 | Y33: =Y32*(N33/N32)^$N$27 -> 2519.1222 | Z33: =(4.17*10^13*$T$13*$U$13^0.5*EXP(-67837/Y33))/'Task2A)values_PHI_dependent'!$D$14*'Task2A)values_PHI_dependent'!$D$5*10^-6 -> 1.6396428e-09
B34: hf | C34: -259.2 | D34: KJ/Kmol | M34: 5 | N34: 20 | O34: =O33*(N34/N33)^$N$27 -> 2644.2543 | P34: =(4.17*10^13*$T$8*$U$8^0.5*EXP(-67837/O34))/'Task2A)values_PHI_dependent'!$D$14*'Task2A)values_PHI_dependent'!$D$5*10^-6 -> 0 | Q34: =Q33*(N34/N33)^$N$27 -> 2627.1551 | R34: =(4.17*10^13*$T$9*$U$9^0.5*EXP(-67837/Q34))/'Task2A)values_PHI_dependent'!$D$14*'Task2A)values_PHI_dependent'!$D$5*10^-6 -> 2.2169325e-09 | S34: =S33*(N34/N33)^$N$27 -> 2609.9806 | T34: =(4.17*10^13*$T$10*$U$10^0.5*EXP(-67837/S34))/'Task2A)values_PHI_dependent'!$D$14*'Task2A)values_PHI_dependent'!$D$5*10^-6 -> 2.6459573e-09 | U34: =U33*(N34/N33)^$N$27 -> 2592.7286 | V34: =(4.17*10^13*$T$11*$U$11^0.5*EXP(-67837/U34))/'Task2A)values_PHI_dependent'!$D$14*'Task2A)values_PHI_dependent'!$D$5*10^-6 -> 2.7266317e-09 | W34: =W33*(N34/N33)^$N$27 -> 2575.397 | X34: =(4.17*10^13*$T$12*$U$12^0.5*EXP(-67837/W34))/'Task2A)values_PHI_dependent'!$D$14*'Task2A)values_PHI_dependent'!$D$5*10^-6 -> 2.6407903e-09 | Y34: =Y33*(N34/N33)^$N$27 -> 2557.9836 | Z34: =(4.17*10^13*$T$13*$U$13^0.5*EXP(-67837/Y34))/'Task2A)values_PHI_dependent'!$D$14*'Task2A)values_PHI_dependent'!$D$5*10^-6 -> 2.4684409e-09
B35: hf | C35: -201.5 | D35: KJ/Kmol | M35: 6 | N35: 22 | O35: =O34*(N35/N34)^$N$27 -> 2681.1279 | P35: =(4.17*10^13*$T$8*$U$8^0.5*EXP(-67837/O35))/'Task2A)values_PHI_dependent'!$D$14*'Task2A)values_PHI_dependent'!$D$5*10^-6 -> 0 | Q35: =Q34*(N35/N34)^$N$27 -> 2663.7903 | R35: =(4.17*10^13*$T$9*$U$9^0.5*EXP(-67837/Q35))/'Task2A)values_PHI_dependent'!$D$14*'Task2A)values_PHI_dependent'!$D$5*10^-6 -> 3.1621372e-09 | S35: =S34*(N35/N34)^$N$27 -> 2646.3763 | T35: =(4.17*10^13*$T$10*$U$10^0.5*EXP(-67837/S35))/'Task2A)values_PHI_dependent'!$D$14*'Task2A)values_PHI_dependent'!$D$5*10^-6 -> 3.7829093e-09 | U35: =U34*(N35/N34)^$N$27 -> 2628.8838 | V35: =(4.17*10^13*$T$11*$U$11^0.5*EXP(-67837/U35))/'Task2A)values_PHI_dependent'!$D$14*'Task2A)values_PHI_dependent'!$D$5*10^-6 -> 3.9075322e-09 | W35: =W34*(N35/N34)^$N$27 -> 2611.3105 | X35: =(4.17*10^13*$T$12*$U$12^0.5*EXP(-67837/W35))/'Task2A)values_PHI_dependent'!$D$14*'Task2A)values_PHI_dependent'!$D$5*10^-6 -> 3.7936887e-09 | Y35: =Y34*(N35/N34)^$N$27 -> 2593.6542 | Z35: =(4.17*10^13*$T$13*$U$13^0.5*EXP(-67837/Y35))/'Task2A)values_PHI_dependent'!$D$14*'Task2A)values_PHI_dependent'!$D$5*10^-6 -> 3.554852e-09
M36: 7 | N36: 24 | O36: =O35*(N36/N35)^$N$27 -> 2715.2397 | P36: =(4.17*10^13*$T$8*$U$8^0.5*EXP(-67837/O36))/'Task2A)values_PHI_dependent'!$D$14*'Task2A)values_PHI_dependent'!$D$5*10^-6 -> 0 | Q36: =Q35*(N36/N35)^$N$27 -> 2697.6815 | R36: =(4.17*10^13*$T$9*$U$9^0.5*EXP(-67837/Q36))/'Task2A)values_PHI_dependent'!$D$14*'Task2A)values_PHI_dependent'!$D$5*10^-6 -> 4.3543888e-09 | S36: =S35*(N36/N35)^$N$27 -> 2680.046 | T36: =(4.17*10^13*$T$10*$U$10^0.5*EXP(-67837/S36))/'Task2A)values_PHI_dependent'!$D$14*'Task2A)values_PHI_dependent'!$D$5*10^-6 -> 5.2201951e-09 | U36: =U35*(N36/N35)^$N$27 -> 2662.3309 | V36: =(4.17*10^13*$T$11*$U$11^0.5*EXP(-67837/U36))/'Task2A)values_PHI_dependent'!$D$14*'Task2A)values_PHI_dependent'!$D$5*10^-6 -> 5.4037345e-09 | W36: =W35*(N36/N35)^$N$27 -> 2644.534 | X36: =(4.17*10^13*$T$12*$U$12^0.5*EXP(-67837/W36))/'Task2A)values_PHI_dependent'!$D$14*'Task2A)values_PHI_dependent'!$D$5*10^-6 -> 5.2577582e-09 | Y36: =Y35*(N36/N35)^$N$27 -> 2626.6531 | Z36: =(4.17*10^13*$T$13*$U$13^0.5*EXP(-67837/Y36))/'Task2A)values_PHI_dependent'!$D$14*'Task2A)values_PHI_dependent'!$D$5*10^-6 -> 4.9377071e-09
M37: 8 | N37: 26 | O37: =O36*(N37/N36)^$N$27 -> 2747.0027 | P37: =(4.17*10^13*$T$8*$U$8^0.5*EXP(-67837/O37))/'Task2A)values_PHI_dependent'!$D$14*'Task2A)values_PHI_dependent'!$D$5*10^-6 -> 0 | Q37: =Q36*(N37/N36)^$N$27 -> 2729.2391 | R37: =(4.17*10^13*$T$9*$U$9^0.5*EXP(-67837/Q37))/'Task2A)values_PHI_dependent'!$D$14*'Task2A)values_PHI_dependent'!$D$5*10^-6 -> 5.8237614e-09 | S37: =S36*(N37/N36)^$N$27 -> 2711.3973 | T37: =(4.17*10^13*$T$10*$U$10^0.5*EXP(-67837/S37))/'Task2A)values_PHI_dependent'!$D$14*'Task2A)values_PHI_dependent'!$D$5*10^-6 -> 6.9951018e-09 | U37: =U36*(N37/N36)^$N$27 -> 2693.4749 | V37: =(4.17*10^13*$T$11*$U$11^0.5*EXP(-67837/U37))/'Task2A)values_PHI_dependent'!$D$14*'Task2A)values_PHI_dependent'!$D$5*10^-6 -> 7.2551615e-09 | W37: =W36*(N37/N36)^$N$27 -> 2675.4698 | X37: =(4.17*10^13*$T$12*$U$12^0.5*EXP(-67837/W37))/'Task2A)values_PHI_dependent'!$D$14*'Task2A)values_PHI_dependent'!$D$5*10^-6 -> 7.0731811e-09 | Y37: =Y36*(N37/N36)^$N$27 -> 2657.3798 | Z37: =(4.17*10^13*$T$13*$U$13^0.5*EXP(-67837/Y37))/'Task2A)values_PHI_dependent'!$D$14*'Task2A)values_PHI_dependent'!$D$5*10^-6 -> 6.6560471e-09
M38: 9 | N38: 28 | O38: =O37*(N38/N37)^$N$27 -> 2776.7418 | P38: =(4.17*10^13*$T$8*$U$8^0.5*EXP(-67837/O38))/'Task2A)values_PHI_dependent'!$D$14*'Task2A)values_PHI_dependent'!$D$5*10^-6 -> 0 | Q38: =Q37*(N38/N37)^$N$27 -> 2758.7859 | R38: =(4.17*10^13*$T$9*$U$9^0.5*EXP(-67837/Q38))/'Task2A)values_PHI_dependent'!$D$14*'Task2A)values_PHI_dependent'!$D$5*10^-6 -> 7.6000269e-09 | S38: =S37*(N38/N37)^$N$27 -> 2740.7509 | T38: =(4.17*10^13*$T$10*$U$10^0.5*EXP(-67837/S38))/'Task2A)values_PHI_dependent'!$D$14*'Task2A)values_PHI_dependent'!$D$5*10^-6 -> 9.1446346e-09 | U38: =U37*(N38/N37)^$N$27 -> 2722.6345 | V38: =(4.17*10^13*$T$11*$U$11^0.5*EXP(-67837/U38))/'Task2A)values_PHI_dependent'!$D$14*'Task2A)values_PHI_dependent'!$D$5*10^-6 -> 9.5015342e-09 | W38: =W37*(N38/N37)^$N$27 -> 2704.4345 | X38: =(4.17*10^13*$T$12*$U$12^0.5*EXP(-67837/W38))/'Task2A)values_PHI_dependent'!$D$14*'Task2A)values_PHI_dependent'!$D$5*10^-6 -> 9.2800388e-09 | Y38: =Y37*(N38/N37)^$N$27 -> 2686.1486 | Z38: =(4.17*10^13*$T$13*$U$13^0.5*EXP(-67837/Y38))/'Task2A)values_PHI_dependent'!$D$14*'Task2A)values_PHI_dependent'!$D$5*10^-6 -> 8.7489158e-09
M39: 10 | N39: 30 | O39: =O38*(N39/N38)^$N$27 -> 2804.7175 | P39: =(4.17*10^13*$T$8*$U$8^0.5*EXP(-67837/O39))/'Task2A)values_PHI_dependent'!$D$14*'Task2A)values_PHI_dependent'!$D$5*10^-6 -> 0 | Q39: =Q38*(N39/N38)^$N$27 -> 2786.5807 | R39: =(4.17*10^13*$T$9*$U$9^0.5*EXP(-67837/Q39))/'Task2A)values_PHI_dependent'!$D$14*'Task2A)values_PHI_dependent'!$D$5*10^-6 -> 9.7125591e-09 | S39: =S38*(N39/N38)^$N$27 -> 2768.364 | T39: =(4.17*10^13*$T$10*$U$10^0.5*EXP(-67837/S39))/'Task2A)values_PHI_dependent'!$D$14*'Task2A)values_PHI_dependent'!$D$5*10^-6 -> 1.1705388e-08 | U39: =U38*(N39/N38)^$N$27 -> 2750.0651 | V39: =(4.17*10^13*$T$11*$U$11^0.5*EXP(-67837/U39))/'Task2A)values_PHI_dependent'!$D$14*'Task2A)values_PHI_dependent'!$D$5*10^-6 -> 1.2182226e-08 | W39: =W38*(N39/N38)^$N$27 -> 2731.6817 | X39: =(4.17*10^13*$T$12*$U$12^0.5*EXP(-67837/W39))/'Task2A)values_PHI_dependent'!$D$14*'Task2A)values_PHI_dependent'!$D$5*10^-6 -> 1.1918156e-08 | Y39: =Y38*(N39/N38)^$N$27 -> 2713.2116 | Z39: =(4.17*10^13*$T$13*$U$13^0.5*EXP(-67837/Y39))/'Task2A)values_PHI_dependent'!$D$14*'Task2A)values_PHI_dependent'!$D$5*10^-6 -> 1.12552e-08
M40: 11 | N40: 32 | O40: =O39*(N40/N39)^$N$27 -> 2831.1421 | P40: =(4.17*10^13*$T$8*$U$8^0.5*EXP(-67837/O40))/'Task2A)values_PHI_dependent'!$D$14*'Task2A)values_PHI_dependent'!$D$5*10^-6 -> 0 | Q40: =Q39*(N40/N39)^$N$27 -> 2812.8345 | R40: =(4.17*10^13*$T$9*$U$9^0.5*EXP(-67837/Q40))/'Task2A)values_PHI_dependent'!$D$14*'Task2A)values_PHI_dependent'!$D$5*10^-6 -> 1.2190264e-08 | S40: =S39*(N40/N39)^$N$27 -> 2794.4461 | T40: =(4.17*10^13*$T$10*$U$10^0.5*EXP(-67837/S40))/'Task2A)values_PHI_dependent'!$D$14*'Task2A)values_PHI_dependent'!$D$5*10^-6 -> 1.4713453e-08 | U40: =U39*(N40/N39)^$N$27 -> 2775.9748 | V40: =(4.17*10^13*$T$11*$U$11^0.5*EXP(-67837/U40))/'Task2A)values_PHI_dependent'!$D$14*'Task2A)values_PHI_dependent'!$D$5*10^-6 -> 1.5336151e-08 | W40: =W39*(N40/N39)^$N$27 -> 2757.4182 | X40: =(4.17*10^13*$T$12*$U$12^0.5*EXP(-67837/W40))/'Task2A)values_PHI_dependent'!$D$14*'Task2A)values_PHI_dependent'!$D$5*10^-6 -> 1.5026979e-08 | Y40: =Y39*(N40/N39)^$N$27 -> 2738.7741 | Z40: =(4.17*10^13*$T$13*$U$13^0.5*EXP(-67837/Y40))/'Task2A)values_PHI_dependent'!$D$14*'Task2A)values_PHI_dependent'!$D$5*10^-6 -> 1.4213501e-08
...

Sheet EGR EFFECT
B2: EGR | C2: 0.05 | D2: 1.05
C3: 0.1 | D3: 1.1
C4: 0.15 | D4: 1.15
C5: 0.2 | D5: 1.2 | E5: Φ(C8H18) + 12.5 (O2 + 3.76 N2)+EGR%*(n1co2+n2H20+n3O2+n4N2)−−→ (1+EGR%)*(n1 CO2 + n2 H2O + n3 O2 + n4 N2)
B7: 5% EGR | F7: REFERENCE TABLE | H7: n1 | I7: n2 | J7: n3 | K7: n4 | T7: POLYNOMIAL
B8: Carbon (x) | C8: Hyrdrogen (y) | D8: Oxigen | E8: F | F8: Φ | H8: CO2 | I8: H2O | J8: O2 | K8: N2 | L8: alpha | M8: [N2] CONC | N8: [O2] CONC | O8: ENTALPY REFERENCE | Q8: TOT EX MOLECULES | R8: Temp T1 (FLAME) | S8: ENT. FOR GOAL SEEK
B9: =8*$F$9 -> 7.76 | C9: =18*$F$9 -> 17.46 | D9: 25 | E9: =12.5 -> 12.5 | F9: 0.97 | H9: =B9*$D$2 -> 8.148 | I9: =(C9/2)*$D$2 -> 9.1665 | J9: =($E$9*(1-$F$9)*$D$2) -> 0.39375 | K9: =$E$9*3.76*$D$2 -> 49.35 | L9: ='Task2A)values_PHI_dependent'!$S$11 -> 1.0861814e-07 | M9: =(K9*L9)/('Task2A)values_PHI_dependent'!$D$5*10^-6) -> 0.13400763 | N9: =(J9*L9)/('Task2A)values_PHI_dependent'!$D$5*10^-6) -> 0.0010692098 | O9: ='Task2A)values_PHI_dependent'!$W$11 -> 4913.05 | Q9: =$L$9*($H$9+$I$9+$J$9+$K$9) -> 7.2837426e-06 | R9: 2258.0507 | S9: =(H9*$R$17)+(I9*$R$18)+(J9*$R$19)+(K9*$R$20) -> 4913.05 | T9: 5% EGR | U9: 5
B10: 10% EGR | S10: =(H10*$R$17)+(I10*$R$18)+(J10*$R$19)+(K10*$R$20) -> 0
B11: =$B$9 -> 7.76 | C11: =$C$9 -> 17.46 | D11: =$D$9 -> 25 | E11: =$E$9 -> 12.5 | F11: 0.97 | H11: =B11*$D$3 -> 8.536 | I11: =(C11/2)*$D$3 -> 9.603 | J11: =($E$9*(1-$F$9)*$D$3) -> 0.4125 | K11: =$E$9*3.76*$D$3 -> 51.7 | L11: ='Task2A)values_PHI_dependent'!$S$11 -> 1.0861814e-07 | M11: =(K11*L11)/('Task2A)values_PHI_dependent'!$D$5*10^-6) -> 0.14038895 | N11: =(J11*L11)/('Task2A)values_PHI_dependent'!$D$5*10^-6) -> 0.0011201246 | O11: ='Task2A)values_PHI_dependent'!$W$11 -> 4913.05 | Q11: =L11*($H$11+$I$11+$J$11+$K$11) -> 7.6305875e-06 | R11: 2179.017 | S11: =(H11*$R$21)+(I11*$R$22)+(J11*$R$23)+(K11*$R$24) -> 4913.05 | T11: 10% EGR | U11: 10
B12: 15% EGR | S12: =(H12*$R$17)+(I12*$R$18)+(J12*$R$19)+(K12*$R$20) -> 0
B13: =$B$9 -> 7.76 | C13: =$C$9 -> 17.46 | D13: =$D$9 -> 25 | E13: =$E$9 -> 12.5 | F13: 0.97 | H13: =B13*$D$4 -> 8.924 | I13: =(C13/2)*$D$4 -> 10.0395 | J13: =($E$9*(1-$F$9)*$D$4) -> 0.43125 | K13: =$E$9*3.76*$D$4 -> 54.05 | L13: ='Task2A)values_PHI_dependent'!$S$11 -> 1.0861814e-07 | M13: =(K13*L13)/('Task2A)values_PHI_dependent'!$D$5*10^-6) -> 0.14677027 | N13: =(J13*L13)/('Task2A)values_PHI_dependent'!$D$5*10^-6) -> 0.0011710394 | O13: ='Task2A)values_PHI_dependent'!$W$11 -> 4913.05 | Q13: =L13*($H$13+$I$13+$J$13+$K$13) -> 7.9774324e-06 | R13: 2106.2129 | S13: =(H13*$R$25)+(I13*$R$26)+(J13*$R$27)+(K13*$R$28) -> 4913.05 | T13: 15% EGR | U13: 15
B14: 20% EGR | S14: =(H14*$R$17)+(I14*$R$18)+(J14*$R$19)+(K14*$R$20) -> 0
B15: =$B$9 -> 7.76 | C15: =$C$9 -> 17.46 | D15: =$D$9 -> 25 | E15: =$E$9 -> 12.5 | F15: 0.97 | H15: =B15*$D$5 -> 9.312 | I15: =(C15/2)*$D$5 -> 10.476 | J15: =($E$9*(1-$F$9)*$D$5) -> 0.45 | K15: =$E$9*3.76*$D$5 -> 56.4 | L15: ='Task2A)values_PHI_dependent'!$S$11 -> 1.0861814e-07 | M15: =(K15*L15)/('Task2A)values_PHI_dependent'!$D$5*10^-6) -> 0.15315158 | N15: =(J15*L15)/('Task2A)values_PHI_dependent'!$D$5*10^-6) -> 0.0012219541 | O15: ='Task2A)values_PHI_dependent'!$W$11 -> 4913.05 | Q15: =L15*($H$15+$I$15+$J$15+$K$15) -> 8.3242772e-06 | R15: 2038.8455 | S15: =(H15*$R$29)+(I15*$R$30)+(J15*$R$31)+(K15*$R$32) -> 4913.05 | T15: 20% EGR | U15: 20
O16: CONSTANT
Q17: POLY CO2 | R17: =((8.5770134353*10^-19)*(R9^6))-((1.0374875556*10^-14)*(R9^5))+((4.9689475953*10^-11)*(R9^4))-((1.2019118054*10^-7)*(R9^3))+((1.5650954893*10^-4)*(R9^2))-((4.8239362033*10^-2)*(R9))+(5.2084519626) -> 106.94824 | S17: 5% EGR
Q18: POLYH2O | R18: =((6.6506859177*10^-19)*($R$9^6))-((7.8984343104*10^-15)*($R$9^5))+((3.6879849877*10^-11)*($R$9^4))-((8.6386228559*10^-8)*($R$9^3))+((1.1074017861*10^-4)*($R$9^2))-((3.1241611608*10^-2)*($R$9))+(3.3006694533) -> 86.083147
B19: POL INDEX | C19: =1.17 -> 1.17 | G19: POL INDEX | H19: =1.17 -> 1.17 | Q19: POLYO2 | R19: =((6.4958291549*10^-19)*($R$9^6)) -((7.8224528491*10^-15)*($R$9^5)) + ((3.7120417697*10^-11)*($R$9^4)) -((8.798317617*10^-8)*($R$9^3)) + ((1.0982327235*10^-4)*($R$9^2)) -((3.2606444641*10^-2)*($R$9))+(3.5786489003) -> 68.879858
B20: INDICE AT POWER | C20: =($C$19-1)/$C$19 -> 0.14529915 | D20: phi0.97 (5%EGR) | G20: INDICE AT POWER | H20: =($C$19-1)/$C$19 -> 0.14529915 | I20: phi0.97 (10%EGR) | Q20: POLY N2 | R20: =(((5.9376621671*(10^-19)*($R$9^6))-((7.1020711589*10^-15)*($R$9^5))+((3.3460896805*10^-11)*($R$9^4))-((7.8909601634*10^-8)*($R$9^3))+((9.8599769212*10^-5)*($R$9^2))-((2.8172899156*10^-2)*($R$9))+((3.05378908)))) -> 65.358321
B21: deg | C21: PRESSURE[bar] | D21: TEMP [K] | E21: NOX [Kmol/°] | G21: deg | H21: PRESSURE[bar] | I21: TEMP [K] | J21: NOX [Kmol/°] | Q21: POLY CO2 | R21: =((8.5770134353*10^-19)*($R$11^6))-((1.0374875556*10^-14)*($R$11^5))+((4.9689475953*10^-11)*($R$11^4))-((1.2019118054*10^-7)*($R$11^3))+((1.5650954893*10^-4)*($R$11^2))-((4.8239362033*10^-2)*($R$11))+(5.2084519626) -> 102.06949 | S21: 10% EGR
B22: 0 | C22: 10 | D22: =$R$9 -> 2258.0507 | E22: =(4.17*10^13*$M$9*$N$9^0.5*EXP(-67837/D22))/'Task2A)values_PHI_dependent'!$D$14*'Task2A)values_PHI_dependent'!$D$5*10^-6 -> 6.0706534e-11 | G22: 0 | H22: 10 | I22: =R11 -> 2179.017 | J22: =(4.17*10^13*$M$9*$N$9^0.5*EXP(-67837/I22))/'Task2A)values_PHI_dependent'!$D$14*'Task2A)values_PHI_dependent'!$D$5*10^-6 -> 2.0417794e-11 | Q22: POLYH2O | R22: =((6.6506859177*10^-19)*(R11^6))-((7.8984343104*10^-15)*(R11^5))+((3.6879849877*10^-11)*(R11^4))-((8.6386228559*10^-8)*(R11^3))+((1.1074017861*10^-4)*(R11^2))-((3.1241611608*10^-2)*(R11))+(3.3006694533) -> 81.882671
B23: 1 | C23: 12 | D23: =D22*(C23/C22)^$C$20 -> 2318.6685 | E23: =(4.17*10^13*$M$9*$N$9^0.5*EXP(-67837/D23))/'Task2A)values_PHI_dependent'!$D$14*'Task2A)values_PHI_dependent'!$D$5*10^-6 -> 1.3314748e-10 | G23: 1 | H23: 12 | I23: =I22*(H23/H22)^$C$20 -> 2237.5131 | J23: =(4.17*10^13*$M$9*$N$9^0.5*EXP(-67837/I23))/'Task2A)values_PHI_dependent'!$D$14*'Task2A)values_PHI_dependent'!$D$5*10^-6 -> 4.6076349e-11 | Q23: POLYO2 | R23: =((6.4958291549*10^-19)*($R$11^6)) -((7.8224528491*10^-15)*($R$11^5)) + ((3.7120417697*10^-11)*($R$11^4)) -((8.798317617*10^-8)*($R$11^3)) + ((1.0982327235*10^-4)*($R$11^2)) -((3.2606444641*10^-2)*($R$11))+(3.5786489003) -> 65.809147
B24: 2 | C24: 14 | D24: =D23*(C24/C23)^$C$20 -> 2371.1879 | E24: =(4.17*10^13*$M$9*$N$9^0.5*EXP(-67837/D24))/'Task2A)values_PHI_dependent'!$D$14*'Task2A)values_PHI_dependent'!$D$5*10^-6 -> 2.5454246e-10 | G24: 2 | H24: 14 | I24: =I23*(H24/H23)^$C$20 -> 2288.1943 | J24: =(4.17*10^13*$M$9*$N$9^0.5*EXP(-67837/I24))/'Task2A)values_PHI_dependent'!$D$14*'Task2A)values_PHI_dependent'!$D$5*10^-6 -> 9.0180537e-11 | Q24: POLY N2 | R24: =(((5.9376621671*(10^-19)*($R$11^6))-((7.1020711589*10^-15)*($R$11^5))+((3.3460896805*10^-11)*($R$11^4))-((7.8909601634*10^-8)*($R$11^3))+((9.8599769212*10^-5)*($R$11^2))-((2.8172899156*10^-2)*($R$11))+((3.05378908)))) -> 62.443312
B25: 3 | C25: 16 | D25: =D24*(C25/C24)^$C$20 -> 2417.6429 | E25: =(4.17*10^13*$M$9*$N$9^0.5*EXP(-67837/D25))/'Task2A)values_PHI_dependent'!$D$14*'Task2A)values_PHI_dependent'!$D$5*10^-6 -> 4.4106257e-10 | G25: 3 | H25: 16 | I25: =I24*(H25/H24)^$C$20 -> 2333.0233 | J25: =(4.17*10^13*$M$9*$N$9^0.5*EXP(-67837/I25))/'Task2A)values_PHI_dependent'!$D$14*'Task2A)values_PHI_dependent'!$D$5*10^-6 -> 1.5940868e-10 | Q25: POLY CO2 | R25: =((8.5770134353*10^-19)*($R$13^6))-((1.0374875556*10^-14)*($R$13^5))+((4.9689475953*10^-11)*($R$13^4))-((1.2019118054*10^-7)*($R$13^3))+((1.5650954893*10^-4)*(R13^2))-((4.8239362033*10^-2)*($R$13))+(5.2084519626) -> 97.608636 | S25: 15% EGR
B26: 4 | C26: 18 | D26: =D25*(C26/C25)^$C$20 -> 2459.374 | E26: =(4.17*10^13*$M$9*$N$9^0.5*EXP(-67837/D26))/'Task2A)values_PHI_dependent'!$D$14*'Task2A)values_PHI_dependent'!$D$5*10^-6 -> 7.1002417e-10 | G26: 4 | H26: 18 | I26: =I25*(H26/H25)^$C$20 -> 2373.2937 | J26: =(4.17*10^13*$M$9*$N$9^0.5*EXP(-67837/I26))/'Task2A)values_PHI_dependent'!$D$14*'Task2A)values_PHI_dependent'!$D$5*10^-6 -> 2.6108663e-10 | Q26: POLYH2O | R26: =((6.6506859177*10^-19)*($R$13^6))-((7.8984343104*10^-15)*($R$13^5))+((3.6879849877*10^-11)*($R$13^4))-((8.6386228559*10^-8)*($R$13^3))+((1.1074017861*10^-4)*($R$13^2))-((3.1241611608*10^-2)*($R$13))+(3.3006694533) -> 78.061689
B27: 5 | C27: 20 | D27: =D26*(C27/C26)^$C$20 -> 2497.3137 | E27: =(4.17*10^13*$M$9*$N$9^0.5*EXP(-67837/D27))/'Task2A)values_PHI_dependent'!$D$14*'Task2A)values_PHI_dependent'!$D$5*10^-6 -> 1.0796004e-09 | G27: 5 | H27: 20 | I27: =I26*(H27/H26)^$C$20 -> 2409.9055 | J27: =(4.17*10^13*$M$9*$N$9^0.5*EXP(-67837/I27))/'Task2A)values_PHI_dependent'!$D$14*'Task2A)values_PHI_dependent'!$D$5*10^-6 -> 4.0306527e-10 | Q27: POLYO2 | R27: =((6.4958291549*10^-19)*(R13^6)) -((7.8224528491*10^-15)*(R13^5)) + ((3.7120417697*10^-11)*(R13^4)) -((8.798317617*10^-8)*(R13^3)) + ((1.0982327235*10^-4)*(R13^2)) -((3.2606444641*10^-2)*(R13))+(3.5786489003) -> 63.008175
B28: 6 | C28: 22 | D28: =D27*(C28/C27)^$C$20 -> 2532.1383 | E28: =(4.17*10^13*$M$9*$N$9^0.5*EXP(-67837/D28))/'Task2A)values_PHI_dependent'!$D$14*'Task2A)values_PHI_dependent'!$D$5*10^-6 -> 1.5685919e-09 | G28: 6 | H28: 22 | I28: =I27*(H28/H27)^$C$20 -> 2443.5112 | J28: =(4.17*10^13*$M$9*$N$9^0.5*EXP(-67837/I28))/'Task2A)values_PHI_dependent'!$D$14*'Task2A)values_PHI_dependent'!$D$5*10^-6 -> 5.9361801e-10 | Q28: POLY N2 | R28: =(((5.9376621671*(10^-19)*($R$13^6))-((7.1020711589*10^-15)*($R$13^5))+((3.3460896805*10^-11)*($R$13^4))-((7.8909601634*10^-8)*($R$13^3))+((9.8599769212*10^-5)*($R$13^2))-((2.8172899156*10^-2)*($R$13))+((3.05378908)))) -> 59.780165
B29: 7 | C29: 24 | D29: =D28*(C29/C28)^$C$20 -> 2564.3545 | E29: =(4.17*10^13*$M$9*$N$9^0.5*EXP(-67837/D29))/'Task2A)values_PHI_dependent'!$D$14*'Task2A)values_PHI_dependent'!$D$5*10^-6 -> 2.1962442e-09 | G29: 7 | H29: 24 | I29: =I28*(H29/H28)^$C$20 -> 2474.5999 | J29: =(4.17*10^13*$M$9*$N$9^0.5*EXP(-67837/I29))/'Task2A)values_PHI_dependent'!$D$14*'Task2A)values_PHI_dependent'!$D$5*10^-6 -> 8.4135521e-10 | Q29: POLY CO2 | R29: =((8.5770134353*10^-19)*($R$15^6))-((1.0374875556*10^-14)*($R$15^5))+((4.9689475953*10^-11)*($R$15^4))-((1.2019118054*10^-7)*($R$15^3))+((1.5650954893*10^-4)*($R$15^2))-((4.8239362033*10^-2)*($R$15))+(5.2084519626) -> 93.513313 | S29: 20% EGR
B30: 8 | C30: 26 | D30: =D29*(C30/C29)^$C$20 -> 2594.3524 | E30: =(4.17*10^13*$M$9*$N$9^0.5*EXP(-67837/D30))/'Task2A)values_PHI_dependent'!$D$14*'Task2A)values_PHI_dependent'!$D$5*10^-6 -> 2.9821015e-09 | G30: 8 | H30: 26 | I30: =I29*(H30/H29)^$C$20 -> 2503.5478 | J30: =(4.17*10^13*$M$9*$N$9^0.5*EXP(-67837/I30))/'Task2A)values_PHI_dependent'!$D$14*'Task2A)values_PHI_dependent'!$D$5*10^-6 -> 1.1551527e-09 | Q30: POLYH2O | R30: =((6.6506859177*10^-19)*($R$15^6))-((7.8984343104*10^-15)*($R$15^5))+((3.6879849877*10^-11)*($R$15^4))-((8.6386228559*10^-8)*($R$15^3))+((1.1074017861*10^-4)*($R$15^2))-((3.1241611608*10^-2)*($R$15))+(3.3006694533) -> 74.571709
B31: 9 | C31: 28 | D31: =D30*(C31/C30)^$C$20 -> 2622.4389 | E31: =(4.17*10^13*$M$9*$N$9^0.5*EXP(-67837/D31))/'Task2A)values_PHI_dependent'!$D$14*'Task2A)values_PHI_dependent'!$D$5*10^-6 -> 3.9458893e-09 | G31: 9 | H31: 28 | I31: =I30*(H31/H30)^$C$20 -> 2530.6512 | J31: =(4.17*10^13*$M$9*$N$9^0.5*EXP(-67837/I31))/'Task2A)values_PHI_dependent'!$D$14*'Task2A)values_PHI_dependent'!$D$5*10^-6 -> 1.544092e-09 | Q31: POLYO2 | R31: =((6.4958291549*10^-19)*($R$15^6)) -((7.8224528491*10^-15)*($R$15^5)) + ((3.7120417697*10^-11)*($R$15^4)) -((8.798317617*10^-8)*($R$15^3)) + ((1.0982327235*10^-4)*($R$15^2)) -((3.2606444641*10^-2)*($R$15))+(3.5786489003) -> 60.442477
B32: 10 | C32: 30 | D32: =D31*(C32/C31)^$C$20 -> 2648.86 | E32: =(4.17*10^13*$M$9*$N$9^0.5*EXP(-67837/D32))/'Task2A)values_PHI_dependent'!$D$14*'Task2A)values_PHI_dependent'!$D$5*10^-6 -> 5.1074204e-09 | G32: 10 | H32: 30 | I32: =I31*(H32/H31)^$C$20 -> 2556.1476 | J32: =(4.17*10^13*$M$9*$N$9^0.5*EXP(-67837/I32))/'Task2A)values_PHI_dependent'!$D$14*'Task2A)values_PHI_dependent'!$D$5*10^-6 -> 2.0174102e-09 | Q32: POLY N2 | R32: =(((5.9376621671*(10^-19)*($R$15^6))-((7.1020711589*10^-15)*($R$15^5))+((3.3460896805*10^-11)*($R$15^4))-((7.8909601634*10^-8)*($R$15^3))+((9.8599769212*10^-5)*($R$15^2))-((2.8172899156*10^-2)*($R$15))+((3.05378908)))) -> 57.337619
B33: 11 | C33: 32 | D33: =D32*(C33/C32)^$C$20 -> 2673.8162 | E33: =(4.17*10^13*$M$9*$N$9^0.5*EXP(-67837/D33))/'Task2A)values_PHI_dependent'!$D$14*'Task2A)values_PHI_dependent'!$D$5*10^-6 -> 6.4865181e-09 | G33: 11 | H33: 32 | I33: =I32*(H33/H32)^$C$20 -> 2580.2303 | J33: =(4.17*10^13*$M$9*$N$9^0.5*EXP(-67837/I33))/'Task2A)values_PHI_dependent'!$D$14*'Task2A)values_PHI_dependent'!$D$5*10^-6 -> 2.5844579e-09
B34: 12 | C34: 34 | D34: =D33*(C34/C33)^$C$20 -> 2697.4731 | E34: =(4.17*10^13*$M$9*$N$9^0.5*EXP(-67837/D34))/'Task2A)values_PHI_dependent'!$D$14*'Task2A)values_PHI_dependent'!$D$5*10^-6 -> 8.1029553e-09 | G34: 12 | H34: 34 | I34: =I33*(H34/H33)^$C$20 -> 2603.0592 | J34: =(4.17*10^13*$M$9*$N$9^0.5*EXP(-67837/I34))/'Task2A)values_PHI_dependent'!$D$14*'Task2A)values_PHI_dependent'!$D$5*10^-6 -> 3.2546639e-09
