Workbook

Sheet Task1
F2: ISO-OCTANE | Q2: BLEND | R2: (50% Iso-octane)+(50% Metahnol)
F4: O2 | G4: 21 | J4: Atmospheric | L4: Ratio | Q4: CH3OH + C8H18 + F (O2 + 3.76 N2) −−→ n1 CO2 + n2 H2O + n3 N2
F5: N2 | G5: =100-$G$4 -> 79 | J5: Composition | L5: 3.76
F7: HC Fuel Balance | U7: Atmospheric | W7: Ratio
B8: Air composition and mass | U8: Composition | W8: 3.76
D10: PERIODIC TABLE
B11: Atomic No | D11: Atomic weight | F11: N. OF ATOMS | G11: BALANCE | J11: F | K11: =(2*$K$13+$K$14)/2 -> 12.5 | Q11: N. OF ATOMS | R11: BALANCE | U11: F | V11: =(((2*$V$13)+$V$14)-1)/2 -> 14
D12: Kg/kmol
B13: Hydrogen | C13: 1 | D13: 1.00797 | F13: Carbon (x) | G13: 8 | J13: CO2 (n1) | K13: =$G$13 -> 8 | Q13: Carbon (x) | R13: =$G$13+$G$44 -> 9 | U13: CO2 (n1) | V13: =$R$13 -> 9
B14: Carbon | C14: 6 | D14: 12.0107 | F14: Hyrdrogen (y) | G14: 18 | J14: H20 (n2) | K14: =$G$14/2 -> 9 | Q14: Hyrdrogen (y) | R14: =$G$14+$G$45 -> 22 | U14: H20 (n2) | V14: =$R$14/2 -> 11
B15: Nitrogen | C15: 7 | D15: 14.0067 | F15: Oxigen (2*F) | G15: =2*$K$11 -> 25 | J15: N2 (n3) | K15: =$K$11*$L$5 -> 47 | Q15: Oxigen | R15: 1 | U15: N2 (n3) | V15: =$V$11*$W$8 -> 52.64
B16: Oxygen | C16: 8 | D16: 15.9994 | J16: Oxigen | K16: =2*$K$13+$K$14 -> 25
F17: m (air) | G17: =$K$11*(2*$D$16+$L$5*2*$D$15) -> 1716.6148 | H17: Kg | Q17: Tot oxigen balance | R17: =1+(2*$V$11) -> 29 | T17: Tot oxigen balance | V17: =2*$V$13+$V$14 -> 29
F18: m (fuel) | G18: =($G$13*$D$14+$G$14*$D$13) -> 114.22906 | H18: Kg | Q18: Tot N2 balance | R18: =$V$11*2*$W$8 -> 105.28 | T18: Tot N2 balance | V18: =2*$V$15 -> 105.28
F19: AFR BY MASS | G19: =$G$17/$G$18 -> 15.027829 | Q19: Tot Carbon balance | R19: =$R$13 -> 9 | T19: Tot Carbon balance | V19: =$V$13 -> 9
F20: Stoich ratio | G20: 14.7 | Q20: Tot H balance | R20: =$R$14 -> 22 | T20: Tot H balance | V20: =2*$V$14 -> 22
F21: lambda λ | G21: =$G$19/$G$20 -> 1.0223013 | Q21: TOTAL m (air) | R21: =$V$11*((2*$D$16)+($W$8*2*$D$15)) -> 1922.6086 | S21: Kg | V21: %
F22: Equiv Ratio | G22: =1/$G$21 -> 0.97818519 | Q22: TOTAL m (fuel) | R22: =($R$13*$D$14+$R$14*$D$13++$R$15*$D$16) -> 146.27104 | S22: Kg | T22: METHANOL m | V22: =($G$49/$R$22)*100 -> 21.905895 | W22: TOT check
Q23: AFR BY MASS | R23: =$R$21/$R$22 -> 13.144151 | T23: Isococtne | V23: =($G$18/$R$22)*100 -> 78.094105 | W23: =V22+V23 -> 100
Q24: stoich ratio | R24: 14.7
A25: MASSES; | F25: 1Kmol of | G25: ISO-OCTANE | I25: =($G$13*$D$14)+($G$14*$D$13) -> 114.22906 | J25: Kg | K25: CO2 | L25: =$K$13*(1*$D$14+2*$D$16) -> 352.076 | M25: Kg | Q25: lambda λ | R25: =$R$23/$R$24 -> 0.8941599
K26: H20 | L26: =$K$14*(2*$D$13+1*$D$16) -> 162.13806 | M26: Kg | Q26: Equiv Ratio | R26: =1/$R$25 -> 1.1183682
A27: AVOGADROS NUMBER | C27: 6.022*10^23 | K27: N2 | L27: =K15*(2*$D$15) -> 1316.6298 | M27: Kg
D28: Kg | T28: HENTALPY OF FORMATION DATA
A29: 1Kmol of | B29: Carbon | C29: equal "=" | D29: =$D$14 -> 12.0107
A30: 1Kmol of | B30: Hidrogen | C30: equal "=" | D30: =$D$13 -> 1.00797 | U30: hf | V30: -393.5 | W30: KJ/Kmol
A31: 1Kmol of | B31: Nitrogen | C31: equal "=" | D31: =$D$15 -> 14.0067 | P31: Q1C | U31: hf Liquid | V31: -285.8 | W31: KJ/Kmol
A32: 1Kmol of | B32: Oxigen | C32: equal "=" | D32: =$D$16 -> 15.9994 | U32: hf Gas | V32: -241.8 | W32: KJ/Kmol
Q33: Assuming 1 Kmol of Methanol and Isoocatane have burnt | U33: hf | V33: -259.2 | W33: KJ/Kmol
Q34: ENTALPY OF FORMATION OF THE REACTIONS | U34: hf | V34: -201.5 | W34: KJ/Kmol
F35: METHANOL | Q35: CH3OH + C8H18 + F (O2 + 3.76 N2) −−→ n1 CO2 + n2 H2O(LIQUID) + n3 N2
F36: O2 | G36: 21 | J36: Atmospheric | L36: Ratio
F37: N2 | G37: =100-$G$4 -> 79 | J37: Composition | L37: 3.76
Q38: H20 as liquid
R39: ENTALPHTY REACTANTS | T39: =(($V$34)+($V$33)) -> -460.7 | U39: MJ/Kmol
R40: ENTALPHTY OF PRODUCTS | T40: =((9*$V$30)+(11*$V$31)) -> -6685.3 | U40: MJ/Kmol
S42: HIGHER HHV | T42: =ABS($T$40)-ABS($T$39) -> 6224.6 | U42: MJ | V42: HEAT PRODUCED
F43: N. OF ATOMS | G43: BALANCE | J43: F | K43: =(2*$K$44+$K$45-G46)/2 -> 1.5 | T43: =$T$42/$R$22 -> 42.555245 | U43: MJ/Kg | V43: AT CONSTANT P
F44: Carbon (x) | G44: 1 | J44: CO2 (n1) | K44: =$G$44 -> 1
F45: Hyrdrogen (y) | G45: 4 | J45: H20 (n2) | K45: =$G$45/2 -> 2 | Q45: CH3OH + C8H18 + F (O2 + 3.76 N2) −−→ n1 CO2 + n2 H2O(GAS) + n3 N2
F46: Oxygen (z) | G46: 1 | J46: N2 (n3) | K46: =($L$37*$K$43)/2 -> 2.82 | Q46: H20 as GAS
R47: ENTALPHTY REACTANTS | T47: =(($V$34)+($V$33)) -> -460.7 | U47: MJ/Kmol
F48: m (air) | G48: =$K$43*(2*$D$16+$L$37*2*$D$15) -> 205.99378 | R48: ENTALPHTY OF PRODUCTS | T48: =((9*$V$30)+(11*$V$32)) -> -6201.3 | U48: MJ/Kmol
F49: m (fuel) | G49: =($G$44*$D$14+$G$45*$D$13+G46*$D$16) -> 32.04198
F50: AFR BY MASS | G50: =$G$48/$G$49 -> 6.4288716 | S50: LOWER LHV | T50: =ABS($T$48)-ABS($T$47) -> 5740.6 | U50: MJ | V50: HEAT PRODUCED
F51: Stoich ratio | G51: 14.7 | T51: =$T$50/$R$22 -> 39.24632 | U51: MJ/Kg | V51: AT CONSTANT P
F52: lambda λ | G52: =$G$50/$G$51 -> 0.43733821
F54: Equiv Ratio | G54: =1/$G$52 -> 2.2865599
F55: (fuel/air)
Q56: 1Kmol of FUEL | R56: ISO-OCTANE | U56: CO2 | V56: =$V$13*$D$29+$V$13*2*$D$32 -> 396.0855 | W56: Kg
R57: and (plus) | U57: CO2 | V57: =$L$25+$L$59 -> 396.0855 | W57: Kg
L58: Kg | R58: METHANOL | U58: H20 | V58: =$L$60+$L$26 -> 198.16874 | W58: Kg
F59: 1Kmol of | G59: METHANOL | I59: =($G$44*$D$14)+($G$45*$D$13)+($G$46*$D$16) -> 32.04198 | J59: Kg | K59: CO2 | L59: =$K$44*(1*$D$14+2*$D$16) -> 44.0095 | U59: N2 | V59: =$L$27+$L$61 -> 1395.6276 | W59: Kg
K60: H20 | L60: =$K$45*(2*$D$13+1*$D$16) -> 36.03068
K61: N2 | L61: =$K$46*(2*$D$15) -> 78.997788

Sheet Task2A)values_PHI_dependent
Q1: Φ | R1: phi | S1: n1 (CO2) | T1: n2(H20) | U1: n3 (O2) | V1: n4 (N2) | AC1: INITIAL TEMP
C2: ENGINE Characteristics | R2: 1 | S2: =O8*$R$2 -> 8 | T2: =P8*$R$2 -> 9 | U2: =($K$8-(2*$S$2)-$T$2)/2 -> 0 | V2: =$R$8 -> 47 | AC2: POLINOM | AD2: =((6.6506859177*10^-19)*(A3^6))-((7.8984343104*10^-15)*(A3^5))+((3.6879849877*10^-11)*(A3^4))-((8.6386228559*10^-8)*(A3^3))+((1.1074017861*10^-4)*(A3^2))-((3.1241611608*10^-2)*(A3))+(3.3006694533) -> 3.3006695
R3: DROP DOWN MENU TO LINK PHI AND NS TO CALCULATE TOTAL ENTALPY
C4: Displacement | D4: 1600 | E4: cm^3
C5: Clearence V. | D5: 40 | E5: cm^3 | I5: Φ(C8H18) + 12.5 (O2 + 3.76 N2)−−→ n1 CO2 + n2 H2O + n3 O2 + n4 N2
C6: N. Of cyl | D6: 4 | I6: PHI DEPENDENT TABLE | O6: n1 | P6: n2 | Q6: n3 | R6: n4 | V6: TOT EXH KMOLS | W6: ENTALPY REFERENCE | Y6: 1 METHOD | AA6: 2ND METHOD
C7: Vol eff | D7: 0.4 | I7: Carbon (x) | J7: Hyrdrogen (y) | K7: Oxigen | L7: F | M7: Φ | O7: CO2 | P7: H2O | Q7: O2 | R7: N2 | S7: alpha | T7: [N2] CONC | U7: [O2] CONC | W7: MJ | Y7: FLAME TEMP [K] | Z7: POLYNOMIAL ENT | AA7: FLAME TEMP [K] | AG7: Φ | AH7: 1 | AI7: 2
C8: P at inlet | D8: 1 | E8: Bar | I8: =8*M8 -> 8 | J8: =18*M8 -> 18 | K8: =2*12.5 -> 25 | L8: 12.5 | M8: 1 | O8: =I8 -> 8 | P8: =J8/2 -> 9 | Q8: =(K8-(2*O8)-P8)/2 -> 0 | R8: =12.5*3.76 -> 47 | S8: =$D$19/(M8+L8*(1+3.76)) -> 1.0856428e-07 | T8: =(R8*S8)/('Task2A)values_PHI_dependent'!$D$5*10^-6) -> 0.12756303 | U8: =(Q8*S8)/('Task2A)values_PHI_dependent'!$D$5*10^-6) -> 0 | V8: =S8*(O8+P8+Q8+R8) -> 6.9481141e-06 | W8: =(O8*(ABS($C$31))+(P8*ABS($C$33)))-ABS($C$34*M8) -> 5065 | X8: =$AA$8 -> 2390.9132 | Y8: =(($W$8-AH10)/($AH$11-$AH$10))*($AI$11-AI10)+$AI$10 -> 2390.904 | Z8: =8*M8*(((8.5770134353*10^-19)*(AA8^6))-((1.0374875556*10^-14)*(AA8^5))+((4.9689475953*10^-11)*(AA8^4))-((1.2019118054*10^-7)*(AA8^3))+((1.5650954893*10^-4)*(AA8^2))-((4.8239362033*10^-2)*(AA8))+(5.2084519626))+(9*M8*(((6.6506859177*10^-19)*(AA8^6))-((7.8984343104*10^-15)*(AA8^5))+((3.6879849877*10^-11)*(AA8^4))-((8.6386228559*10^-8)*(AA8^3))+((1.1074017861*10^-4)*(AA8^2))-((3.1241611608*10^-2)*(AA8))+(3.3006694533)))+(L8*(1-M8)*(((6.4958291549*10^-19)*(AA8^6))-((7.8224528491*10^-15)*(AA8^5))+((3.7120417697*10^-11)*(AA8^4))-((8.798317617*10^-8)*(AA8^3))+((1.0982327235*10^-4)*(AA8^2))-((3.2606444641*10^-2)*(AA8))+(3.5786489003))+(47*((((5.9376621671*(10^-19)*(AA8^6))-((7.1020711589*10^-15)*(AA8^5))+((3.3460896805*10^-11)*(AA8^4))-((7.8909601634*10^-8)*(AA8^3))+((9.8599769212*10^-5)*(AA8^2))-((2.8172899156*10^-2)*(AA8))+((3.05378908))))))) -> 5065.0003 | AA8: 2390.9132 | AG8: 1 | AH8: ENTALP RANGE | AI8: TEMP RANGE
C9: T at inlet | D9: 20 | E9: °C | I9: =8*M9 -> 7.92 | J9: =18*M9 -> 17.82 | K9: =2*12.5 -> 25 | L9: 12.5 | M9: 0.99 | O9: =I9 -> 7.92 | P9: =J9/2 -> 8.91 | Q9: =(K9-(2*O9)-P9)/2 -> 0.125 | R9: =12.5*3.76 -> 47 | S9: =$D$19/(M9+L9*(1+3.76)) -> 1.0858223e-07 | T9: =(R9*S9)/('Task2A)values_PHI_dependent'!$D$5*10^-6) -> 0.12758412 | U9: =(Q9*S9)/('Task2A)values_PHI_dependent'!$D$5*10^-6) -> 0.00033931947 | V9: =S9*(O9+P9+Q9+R9) -> 6.9443765e-06 | W9: =(O9*(ABS($C$31))+(P9*ABS($C$33)))-ABS($C$34*M9) -> 5014.35 | X9: =$AA$9 -> 2375.4523 | Y9: =(($W$9-$AM$15)/($AM$16-$AM$15))*($AN$16-$AN$15)+$AN$15 -> 2375.4363 | Z9: =8*M9*(((8.5770134353*10^-19)*(AA9^6))-((1.0374875556*10^-14)*(AA9^5))+((4.9689475953*10^-11)*(AA9^4))-((1.2019118054*10^-7)*(AA9^3))+((1.5650954893*10^-4)*(AA9^2))-((4.8239362033*10^-2)*(AA9))+(5.2084519626))+(9*M9*(((6.6506859177*10^-19)*(AA9^6))-((7.8984343104*10^-15)*(AA9^5))+((3.6879849877*10^-11)*(AA9^4))-((8.6386228559*10^-8)*(AA9^3))+((1.1074017861*10^-4)*(AA9^2))-((3.1241611608*10^-2)*(AA9))+(3.3006694533)))+(L9*(1-M9)*(((6.4958291549*10^-19)*(AA9^6))-((7.8224528491*10^-15)*(AA9^5))+((3.7120417697*10^-11)*(AA9^4))-((8.798317617*10^-8)*(AA9^3))+((1.0982327235*10^-4)*(AA9^2))-((3.2606444641*10^-2)*(AA9))+(3.5786489003))+(47*((((5.9376621671*(10^-19)*(AA9^6))-((7.1020711589*10^-15)*(AA9^5))+((3.3460896805*10^-11)*(AA9^4))-((7.8909601634*10^-8)*(AA9^3))+((9.8599769212*10^-5)*(AA9^2))-((2.8172899156*10^-2)*(AA9))+((3.05378908))))))) -> 5014.35 | AA9: 2375.4523 | AH9: RANGE
I10: =8*M10 -> 7.84 | J10: =18*M10 -> 17.64 | K10: =2*12.5 -> 25 | L10: 12.5 | M10: 0.98 | O10: =I10 -> 7.84 | P10: =J10/2 -> 8.82 | Q10: =(K10-(2*O10)-P10)/2 -> 0.25 | R10: =12.5*3.76 -> 47 | S10: =$D$19/(M10+L10*(1+3.76)) -> 1.0860018e-07 | T10: =(R10*S10)/('Task2A)values_PHI_dependent'!$D$5*10^-6) -> 0.12760522 | U10: =(Q10*S10)/('Task2A)values_PHI_dependent'!$D$5*10^-6) -> 0.00067875115 | V10: =S10*(O10+P10+Q10+R10) -> 6.9406377e-06 | W10: =(O10*(ABS($C$31))+(P10*ABS($C$33)))-ABS($C$34*M10) -> 4963.7 | Y10: =((W$10-$AM$20)/($AM$21-$AM$20))*($AN$21-$AN$20)+$AN$20 -> 2359.9127 | Z10: =8*M10*(((8.5770134353*10^-19)*(AA10^6))-((1.0374875556*10^-14)*(AA10^5))+((4.9689475953*10^-11)*(AA10^4))-((1.2019118054*10^-7)*(AA10^3))+((1.5650954893*10^-4)*(AA10^2))-((4.8239362033*10^-2)*(AA10))+(5.2084519626))+(9*M10*(((6.6506859177*10^-19)*(AA10^6))-((7.8984343104*10^-15)*(AA10^5))+((3.6879849877*10^-11)*(AA10^4))-((8.6386228559*10^-8)*(AA10^3))+((1.1074017861*10^-4)*(AA10^2))-((3.1241611608*10^-2)*(AA10))+(3.3006694533)))+(L10*(1-M10)*(((6.4958291549*10^-19)*(AA10^6))-((7.8224528491*10^-15)*(AA10^5))+((3.7120417697*10^-11)*(AA10^4))-((8.798317617*10^-8)*(AA10^3))+((1.0982327235*10^-4)*(AA10^2))-((3.2606444641*10^-2)*(AA10))+(3.5786489003))+(47*((((5.9376621671*(10^-19)*(AA10^6))-((7.1020711589*10^-15)*(AA10^5))+((3.3460896805*10^-11)*(AA10^4))-((7.8909601634*10^-8)*(AA10^3))+((9.8599769212*10^-5)*(AA10^2))-((2.8172899156*10^-2)*(AA10))+((3.05378908))))))) -> 4963.7 | AA10: 2359.9233 | AH10: =SMALL(Ent_tables!AE3:AE70,COUNTIF(Ent_tables!AE3:AE70,"<"&'Task2A)values_PHI_dependent'!$W$8)+0.1) -> 4952.928 | AI10: =VLOOKUP(AH10,Ent_tables!AE3:AF70,COLUMN(Ent_tables!AF3:AF70)-COLUMN(Ent_tables!AE3:AF70)+1,0) -> 2350
C11: Gas Const. R | D11: 8314 | E11: J/(Kmol*K) | I11: =8*M11 -> 7.76 | J11: =18*M11 -> 17.46 | K11: =2*12.5 -> 25 | L11: 12.5 | M11: 0.97 | O11: =I11 -> 7.76 | P11: =J11/2 -> 8.73 | Q11: =(K11-(2*O11)-P11)/2 -> 0.375 | R11: =12.5*3.76 -> 47 | S11: =$D$19/(M11+L11*(1+3.76)) -> 1.0861814e-07 | T11: =(R11*S11)/('Task2A)values_PHI_dependent'!$D$5*10^-6) -> 0.12762632 | U11: =(Q11*S11)/('Task2A)values_PHI_dependent'!$D$5*10^-6) -> 0.0010182951 | V11: =S11*(O11+P11+Q11+R11) -> 6.9368977e-06 | W11: =(O11*(ABS($C$31))+(P11*ABS($C$33)))-ABS($C$34*M11) -> 4913.05 | Z11: =8*M11*(((8.5770134353*10^-19)*(AA11^6))-((1.0374875556*10^-14)*(AA11^5))+((4.9689475953*10^-11)*(AA11^4))-((1.2019118054*10^-7)*(AA11^3))+((1.5650954893*10^-4)*(AA11^2))-((4.8239362033*10^-2)*(AA11))+(5.2084519626))+(9*M11*(((6.6506859177*10^-19)*(AA11^6))-((7.8984343104*10^-15)*(AA11^5))+((3.6879849877*10^-11)*(AA11^4))-((8.6386228559*10^-8)*(AA11^3))+((1.1074017861*10^-4)*(AA11^2))-((3.1241611608*10^-2)*(AA11))+(3.3006694533)))+(L11*(1-M11)*(((6.4958291549*10^-19)*(AA11^6))-((7.8224528491*10^-15)*(AA11^5))+((3.7120417697*10^-11)*(AA11^4))-((8.798317617*10^-8)*(AA11^3))+((1.0982327235*10^-4)*(AA11^2))-((3.2606444641*10^-2)*(AA11))+(3.5786489003))+(47*((((5.9376621671*(10^-19)*(AA11^6))-((7.1020711589*10^-15)*(AA11^5))+((3.3460896805*10^-11)*(AA11^4))-((7.8909601634*10^-8)*(AA11^3))+((9.8599769212*10^-5)*(AA11^2))-((2.8172899156*10^-2)*(AA11))+((3.05378908))))))) -> 4913.0501 | AA11: 2344.3242 | AH11: =SMALL(Ent_tables!AE3:AE70,COUNTIF(Ent_tables!AE3:AE70,"<"&'Task2A)values_PHI_dependent'!W8)+1) -> 5089.9221 | AI11: =VLOOKUP(AH11,Ent_tables!AE3:AF70,COLUMN(Ent_tables!AF3:AF70)-COLUMN(Ent_tables!AE3:AF70)+1,0) -> 2400
C12: Pol index | D12: 1.17 | I12: =8*M12 -> 7.68 | J12: =18*M12 -> 17.28 | K12: =2*12.5 -> 25 | L12: 12.5 | M12: 0.96 | O12: =I12 -> 7.68 | P12: =J12/2 -> 8.64 | Q12: =(K12-(2*O12)-P12)/2 -> 0.5 | R12: =12.5*3.76 -> 47 | S12: =$D$19/(M12+L12*(1+3.76)) -> 1.0863611e-07 | T12: =(R12*S12)/('Task2A)values_PHI_dependent'!$D$5*10^-6) -> 0.12764743 | U12: =(Q12*S12)/('Task2A)values_PHI_dependent'!$D$5*10^-6) -> 0.0013579514 | V12: =S12*(O12+P12+Q12+R12) -> 6.9331564e-06 | W12: =(O12*(ABS($C$31))+(P12*ABS($C$33)))-ABS($C$34*M12) -> 4862.4 | Z12: =8*M12*(((8.5770134353*10^-19)*(AA12^6))-((1.0374875556*10^-14)*(AA12^5))+((4.9689475953*10^-11)*(AA12^4))-((1.2019118054*10^-7)*(AA12^3))+((1.5650954893*10^-4)*(AA12^2))-((4.8239362033*10^-2)*(AA12))+(5.2084519626))+(9*M12*(((6.6506859177*10^-19)*(AA12^6))-((7.8984343104*10^-15)*(AA12^5))+((3.6879849877*10^-11)*(AA12^4))-((8.6386228559*10^-8)*(AA12^3))+((1.1074017861*10^-4)*(AA12^2))-((3.1241611608*10^-2)*(AA12))+(3.3006694533)))+(L12*(1-M12)*(((6.4958291549*10^-19)*(AA12^6))-((7.8224528491*10^-15)*(AA12^5))+((3.7120417697*10^-11)*(AA12^4))-((8.798317617*10^-8)*(AA12^3))+((1.0982327235*10^-4)*(AA12^2))-((3.2606444641*10^-2)*(AA12))+(3.5786489003))+(47*((((5.9376621671*(10^-19)*(AA12^6))-((7.1020711589*10^-15)*(AA12^5))+((3.3460896805*10^-11)*(AA12^4))-((7.8909601634*10^-8)*(AA12^3))+((9.8599769212*10^-5)*(AA12^2))-((2.8172899156*10^-2)*(AA12))+((3.05378908))))))) -> 4862.4002 | AA12: 2328.653 | AL12: Φ | AM12: 1 | AN12: 2
C13: RPM | D13: 1800 | E13: rpm | I13: =8*M13 -> 7.6 | J13: =18*M13 -> 17.1 | K13: =2*12.5 -> 25 | L13: 12.5 | M13: 0.95 | O13: =I13 -> 7.6 | P13: =J13/2 -> 8.55 | Q13: =(K13-(2*O13)-P13)/2 -> 0.625 | R13: =12.5*3.76 -> 47 | S13: =$D$19/(M13+L13*(1+3.76)) -> 1.0865408e-07 | T13: =(R13*S13)/('Task2A)values_PHI_dependent'!$D$5*10^-6) -> 0.12766854 | U13: =(Q13*S13)/('Task2A)values_PHI_dependent'!$D$5*10^-6) -> 0.00169772 | V13: =S13*(O13+P13+Q13+R13) -> 6.9294139e-06 | W13: =(O13*(ABS($C$31))+(P13*ABS($C$33)))-ABS($C$34*M13) -> 4811.75 | Z13: =8*M13*(((8.5770134353*10^-19)*(AA13^6))-((1.0374875556*10^-14)*(AA13^5))+((4.9689475953*10^-11)*(AA13^4))-((1.2019118054*10^-7)*(AA13^3))+((1.5650954893*10^-4)*(AA13^2))-((4.8239362033*10^-2)*(AA13))+(5.2084519626))+(9*M13*(((6.6506859177*10^-19)*(AA13^6))-((7.8984343104*10^-15)*(AA13^5))+((3.6879849877*10^-11)*(AA13^4))-((8.6386228559*10^-8)*(AA13^3))+((1.1074017861*10^-4)*(AA13^2))-((3.1241611608*10^-2)*(AA13))+(3.3006694533)))+(L13*(1-M13)*(((6.4958291549*10^-19)*(AA13^6))-((7.8224528491*10^-15)*(AA13^5))+((3.7120417697*10^-11)*(AA13^4))-((8.798317617*10^-8)*(AA13^3))+((1.0982327235*10^-4)*(AA13^2))-((3.2606444641*10^-2)*(AA13))+(3.5786489003))+(47*((((5.9376621671*(10^-19)*(AA13^6))-((7.1020711589*10^-15)*(AA13^5))+((3.3460896805*10^-11)*(AA13^4))-((7.8909601634*10^-8)*(AA13^3))+((9.8599769212*10^-5)*(AA13^2))-((2.8172899156*10^-2)*(AA13))+((3.05378908))))))) -> 4811.7506 | AA13: 2312.908 | AL13: 0.99 | AM13: ENTALP RANGE | AN13: TEMP RANGE
D14: =$D$13*(360/60) -> 10800 | E14: °/sec | I14: =8*M14 -> 7.52 | J14: =18*M14 -> 16.92 | K14: =2*12.5 -> 25 | L14: 12.5 | M14: 0.94 | O14: =I14 -> 7.52 | P14: =J14/2 -> 8.46 | Q14: =(K14-(2*O14)-P14)/2 -> 0.75 | R14: =12.5*3.76 -> 47 | S14: =$D$19/(M14+L14*(1+3.76)) -> 1.0867206e-07 | T14: =(R14*S14)/('Task2A)values_PHI_dependent'!$D$5*10^-6) -> 0.12768967 | U14: =(Q14*S14)/('Task2A)values_PHI_dependent'!$D$5*10^-6) -> 0.0020376011 | V14: =S14*(O14+P14+Q14+R14) -> 6.9256702e-06 | W14: =(O14*(ABS($C$31))+(P14*ABS($C$33)))-ABS($C$34*M14) -> 4761.1 | Z14: =8*M14*(((8.5770134353*10^-19)*(AA14^6))-((1.0374875556*10^-14)*(AA14^5))+((4.9689475953*10^-11)*(AA14^4))-((1.2019118054*10^-7)*(AA14^3))+((1.5650954893*10^-4)*(AA14^2))-((4.8239362033*10^-2)*(AA14))+(5.2084519626))+(9*M14*(((6.6506859177*10^-19)*(AA14^6))-((7.8984343104*10^-15)*(AA14^5))+((3.6879849877*10^-11)*(AA14^4))-((8.6386228559*10^-8)*(AA14^3))+((1.1074017861*10^-4)*(AA14^2))-((3.1241611608*10^-2)*(AA14))+(3.3006694533)))+(L14*(1-M14)*(((6.4958291549*10^-19)*(AA14^6))-((7.8224528491*10^-15)*(AA14^5))+((3.7120417697*10^-11)*(AA14^4))-((8.798317617*10^-8)*(AA14^3))+((1.0982327235*10^-4)*(AA14^2))-((3.2606444641*10^-2)*(AA14))+(3.5786489003))+(47*((((5.9376621671*(10^-19)*(AA14^6))-((7.1020711589*10^-15)*(AA14^5))+((3.3460896805*10^-11)*(AA14^4))-((7.8909601634*10^-8)*(AA14^3))+((9.8599769212*10^-5)*(AA14^2))-((2.8172899156*10^-2)*(AA14))+((3.05378908))))))) -> 4761.1 | AA14: 2297.0866 | AM14: RANGE
I15: =8*M15 -> 7.44 | J15: =18*M15 -> 16.74 | K15: =2*12.5 -> 25 | L15: 12.5 | M15: 0.93 | O15: =I15 -> 7.44 | P15: =J15/2 -> 8.37 | Q15: =(K15-(2*O15)-P15)/2 -> 0.875 | R15: =12.5*3.76 -> 47 | S15: =$D$19/(M15+L15*(1+3.76)) -> 1.0869004e-07 | T15: =(R15*S15)/('Task2A)values_PHI_dependent'!$D$5*10^-6) -> 0.1277108 | U15: =(Q15*S15)/('Task2A)values_PHI_dependent'!$D$5*10^-6) -> 0.0023775946 | V15: =S15*(O15+P15+Q15+R15) -> 6.9219252e-06 | W15: =(O15*(ABS($C$31))+(P15*ABS($C$33)))-ABS($C$34*M15) -> 4710.45 | Z15: =8*M15*(((8.5770134353*10^-19)*(AA15^6))-((1.0374875556*10^-14)*(AA15^5))+((4.9689475953*10^-11)*(AA15^4))-((1.2019118054*10^-7)*(AA15^3))+((1.5650954893*10^-4)*(AA15^2))-((4.8239362033*10^-2)*(AA15))+(5.2084519626))+(9*M15*(((6.6506859177*10^-19)*(AA15^6))-((7.8984343104*10^-15)*(AA15^5))+((3.6879849877*10^-11)*(AA15^4))-((8.6386228559*10^-8)*(AA15^3))+((1.1074017861*10^-4)*(AA15^2))-((3.1241611608*10^-2)*(AA15))+(3.3006694533)))+(L15*(1-M15)*(((6.4958291549*10^-19)*(AA15^6))-((7.8224528491*10^-15)*(AA15^5))+((3.7120417697*10^-11)*(AA15^4))-((8.798317617*10^-8)*(AA15^3))+((1.0982327235*10^-4)*(AA15^2))-((3.2606444641*10^-2)*(AA15))+(3.5786489003))+(47*((((5.9376621671*(10^-19)*(AA15^6))-((7.1020711589*10^-15)*(AA15^5))+((3.3460896805*10^-11)*(AA15^4))-((7.8909601634*10^-8)*(AA15^3))+((9.8599769212*10^-5)*(AA15^2))-((2.8172899156*10^-2)*(AA15))+((3.05378908))))))) -> 4710.45 | AA15: 2281.1875 | AM15: =SMALL(Ent_tables!AM3:AM70,COUNTIF(Ent_tables!AM3:AM70,"<"&W9)+0.1) -> 4944.7832 | AN15: =VLOOKUP(AM15,Ent_tables!AM3:AN70,COLUMN(Ent_tables!AN3:AN70)-COLUMN(Ent_tables!AM3:AN70)+1,0) -> 2350
C16: n | D16: =(($D$8*10^5)*($D$7*$D$4/$D$6*10^-6))/($D$11*($D$9+273)) -> 6.5681391e-06 | E16: Kmols | I16: =8*M16 -> 7.36 | J16: =18*M16 -> 16.56 | K16: =2*12.5 -> 25 | L16: 12.5 | M16: 0.92 | O16: =I16 -> 7.36 | P16: =J16/2 -> 8.28 | Q16: =(K16-(2*O16)-P16)/2 -> 1 | R16: =12.5*3.76 -> 47 | S16: =$D$19/(M16+L16*(1+3.76)) -> 1.0870803e-07 | T16: =(R16*S16)/('Task2A)values_PHI_dependent'!$D$5*10^-6) -> 0.12773193 | U16: =(Q16*S16)/('Task2A)values_PHI_dependent'!$D$5*10^-6) -> 0.0027177007 | V16: =S16*(O16+P16+Q16+R16) -> 6.918179e-06 | W16: =(O16*(ABS($C$31))+(P16*ABS($C$33)))-ABS($C$34*M16) -> 4659.8 | Z16: =8*M16*(((8.5770134353*10^-19)*(AA16^6))-((1.0374875556*10^-14)*(AA16^5))+((4.9689475953*10^-11)*(AA16^4))-((1.2019118054*10^-7)*(AA16^3))+((1.5650954893*10^-4)*(AA16^2))-((4.8239362033*10^-2)*(AA16))+(5.2084519626))+(9*M16*(((6.6506859177*10^-19)*(AA16^6))-((7.8984343104*10^-15)*(AA16^5))+((3.6879849877*10^-11)*(AA16^4))-((8.6386228559*10^-8)*(AA16^3))+((1.1074017861*10^-4)*(AA16^2))-((3.1241611608*10^-2)*(AA16))+(3.3006694533)))+(L16*(1-M16)*(((6.4958291549*10^-19)*(AA16^6))-((7.8224528491*10^-15)*(AA16^5))+((3.7120417697*10^-11)*(AA16^4))-((8.798317617*10^-8)*(AA16^3))+((1.0982327235*10^-4)*(AA16^2))-((3.2606444641*10^-2)*(AA16))+(3.5786489003))+(47*((((5.9376621671*(10^-19)*(AA16^6))-((7.1020711589*10^-15)*(AA16^5))+((3.3460896805*10^-11)*(AA16^4))-((7.8909601634*10^-8)*(AA16^3))+((9.8599769212*10^-5)*(AA16^2))-((2.8172899156*10^-2)*(AA16))+((3.05378908))))))) -> 4659.8 | AA16: 2265.2085 | AM16: =SMALL(Ent_tables!AM3:AM70,COUNTIF(Ent_tables!AM3:AM70,"<"&W9)+1) -> 5081.5301 | AN16: =VLOOKUP(AM16,Ent_tables!AM3:AN70,COLUMN(Ent_tables!AN3:AN70)-COLUMN(Ent_tables!AM3:AN70)+1,0) -> 2400
I17: =8*M17 -> 7.28 | J17: =18*M17 -> 16.38 | K17: =2*12.5 -> 25 | L17: 12.5 | M17: 0.91 | O17: =I17 -> 7.28 | P17: =J17/2 -> 8.19 | Q17: =(K17-(2*O17)-P17)/2 -> 1.125 | R17: =12.5*3.76 -> 47 | S17: =$D$19/(M17+L17*(1+3.76)) -> 1.0872602e-07 | T17: =(R17*S17)/('Task2A)values_PHI_dependent'!$D$5*10^-6) -> 0.12775308 | U17: =(Q17*S17)/('Task2A)values_PHI_dependent'!$D$5*10^-6) -> 0.0030579194 | V17: =S17*(O17+P17+Q17+R17) -> 6.9144315e-06 | W17: =(O17*(ABS($C$31))+(P17*ABS($C$33)))-ABS($C$34*M17) -> 4609.15 | Z17: =8*M17*(((8.5770134353*10^-19)*(AA17^6))-((1.0374875556*10^-14)*(AA17^5))+((4.9689475953*10^-11)*(AA17^4))-((1.2019118054*10^-7)*(AA17^3))+((1.5650954893*10^-4)*(AA17^2))-((4.8239362033*10^-2)*(AA17))+(5.2084519626))+(9*M17*(((6.6506859177*10^-19)*(AA17^6))-((7.8984343104*10^-15)*(AA17^5))+((3.6879849877*10^-11)*(AA17^4))-((8.6386228559*10^-8)*(AA17^3))+((1.1074017861*10^-4)*(AA17^2))-((3.1241611608*10^-2)*(AA17))+(3.3006694533)))+(L17*(1-M17)*(((6.4958291549*10^-19)*(AA17^6))-((7.8224528491*10^-15)*(AA17^5))+((3.7120417697*10^-11)*(AA17^4))-((8.798317617*10^-8)*(AA17^3))+((1.0982327235*10^-4)*(AA17^2))-((3.2606444641*10^-2)*(AA17))+(3.5786489003))+(47*((((5.9376621671*(10^-19)*(AA17^6))-((7.1020711589*10^-15)*(AA17^5))+((3.3460896805*10^-11)*(AA17^4))-((7.8909601634*10^-8)*(AA17^3))+((9.8599769212*10^-5)*(AA17^2))-((2.8172899156*10^-2)*(AA17))+((3.05378908))))))) -> 4609.15 | AA17: 2249.1475 | AL17: Φ | AM17: 1 | AN17: 2
C18: Alpha | D18: =$D$16/(draft!$H$18+draft!$M$11*(1+3.76)) -> 1.0856428e-07 | E18: Kmols | I18: =8*M18 -> 7.2 | J18: =18*M18 -> 16.2 | K18: =2*12.5 -> 25 | L18: 12.5 | M18: 0.9 | O18: =I18 -> 7.2 | P18: =J18/2 -> 8.1 | Q18: =(K18-(2*O18)-P18)/2 -> 1.25 | R18: =12.5*3.76 -> 47 | S18: =$D$19/(M18+L18*(1+3.76)) -> 1.0874402e-07 | T18: =(R18*S18)/('Task2A)values_PHI_dependent'!$D$5*10^-6) -> 0.12777423 | U18: =(Q18*S18)/('Task2A)values_PHI_dependent'!$D$5*10^-6) -> 0.0033982508 | V18: =S18*(O18+P18+Q18+R18) -> 6.9106828e-06 | W18: =(O18*(ABS($C$31))+(P18*ABS($C$33)))-ABS($C$34*M18) -> 4558.5 | Z18: =8*M18*(((8.5770134353*10^-19)*(AA18^6))-((1.0374875556*10^-14)*(AA18^5))+((4.9689475953*10^-11)*(AA18^4))-((1.2019118054*10^-7)*(AA18^3))+((1.5650954893*10^-4)*(AA18^2))-((4.8239362033*10^-2)*(AA18))+(5.2084519626))+(9*M18*(((6.6506859177*10^-19)*(AA18^6))-((7.8984343104*10^-15)*(AA18^5))+((3.6879849877*10^-11)*(AA18^4))-((8.6386228559*10^-8)*(AA18^3))+((1.1074017861*10^-4)*(AA18^2))-((3.1241611608*10^-2)*(AA18))+(3.3006694533)))+(L18*(1-M18)*(((6.4958291549*10^-19)*(AA18^6))-((7.8224528491*10^-15)*(AA18^5))+((3.7120417697*10^-11)*(AA18^4))-((8.798317617*10^-8)*(AA18^3))+((1.0982327235*10^-4)*(AA18^2))-((3.2606444641*10^-2)*(AA18))+(3.5786489003))+(47*((((5.9376621671*(10^-19)*(AA18^6))-((7.1020711589*10^-15)*(AA18^5))+((3.3460896805*10^-11)*(AA18^4))-((7.8909601634*10^-8)*(AA18^3))+((9.8599769212*10^-5)*(AA18^2))-((2.8172899156*10^-2)*(AA18))+((3.05378908))))))) -> 4558.5 | AA18: 2233.0026 | AL18: 0.98 | AM18: ENTALP RANGE | AN18: TEMP RANGE
C19: n | D19: ='Task2A)values_PHI_dependent'!$D$16 -> 6.5681391e-06 | E19: Kmols | I19: =8*M19 -> 6.8 | J19: =18*M19 -> 15.3 | K19: =2*12.5 -> 25 | L19: 12.5 | M19: 0.85 | O19: =I19 -> 6.8 | P19: =J19/2 -> 7.65 | Q19: =(K19-(2*O19)-P19)/2 -> 1.875 | R19: =12.5*3.76 -> 47 | S19: =$D$19/(M19+L19*(1+3.76)) -> 1.0883412e-07 | T19: =(R19*S19)/('Task2A)values_PHI_dependent'!$D$5*10^-6) -> 0.12788009 | U19: =(Q19*S19)/('Task2A)values_PHI_dependent'!$D$5*10^-6) -> 0.0051015993 | V19: =S19*(O19+P19+Q19+R19) -> 6.8919206e-06 | W19: =(O19*(ABS($C$31))+(P19*ABS($C$33)))-ABS($C$34*M19) -> 4305.25 | Z19: =8*M19*(((8.5770134353*10^-19)*(AA19^6))-((1.0374875556*10^-14)*(AA19^5))+((4.9689475953*10^-11)*(AA19^4))-((1.2019118054*10^-7)*(AA19^3))+((1.5650954893*10^-4)*(AA19^2))-((4.8239362033*10^-2)*(AA19))+(5.2084519626))+(9*M19*(((6.6506859177*10^-19)*(AA19^6))-((7.8984343104*10^-15)*(AA19^5))+((3.6879849877*10^-11)*(AA19^4))-((8.6386228559*10^-8)*(AA19^3))+((1.1074017861*10^-4)*(AA19^2))-((3.1241611608*10^-2)*(AA19))+(3.3006694533)))+(L19*(1-M19)*(((6.4958291549*10^-19)*(AA19^6))-((7.8224528491*10^-15)*(AA19^5))+((3.7120417697*10^-11)*(AA19^4))-((8.798317617*10^-8)*(AA19^3))+((1.0982327235*10^-4)*(AA19^2))-((3.2606444641*10^-2)*(AA19))+(3.5786489003))+(47*((((5.9376621671*(10^-19)*(AA19^6))-((7.1020711589*10^-15)*(AA19^5))+((3.3460896805*10^-11)*(AA19^4))-((7.8909601634*10^-8)*(AA19^3))+((9.8599769212*10^-5)*(AA19^2))-((2.8172899156*10^-2)*(AA19))+((3.05378908))))))) -> 4305.25 | AA19: 2150.9481 | AM19: RANGE
C20: number of Kmols sucked in the Cylinder | I20: =8*M20 -> 6.4 | J20: =18*M20 -> 14.4 | K20: =2*12.5 -> 25 | L20: 12.5 | M20: 0.8 | O20: =I20 -> 6.4 | P20: =J20/2 -> 7.2 | Q20: =(K20-(2*O20)-P20)/2 -> 2.5 | R20: =12.5*3.76 -> 47 | S20: =$D$19/(M20+L20*(1+3.76)) -> 1.0892436e-07 | T20: =(R20*S20)/('Task2A)values_PHI_dependent'!$D$5*10^-6) -> 0.12798613 | U20: =(Q20*S20)/('Task2A)values_PHI_dependent'!$D$5*10^-6) -> 0.0068077727 | V20: =S20*(O20+P20+Q20+R20) -> 6.8731273e-06 | W20: =(O20*(ABS($C$31))+(P20*ABS($C$33)))-ABS($C$34*M20) -> 4052 | Z20: =8*M20*(((8.5770134353*10^-19)*(AA20^6))-((1.0374875556*10^-14)*(AA20^5))+((4.9689475953*10^-11)*(AA20^4))-((1.2019118054*10^-7)*(AA20^3))+((1.5650954893*10^-4)*(AA20^2))-((4.8239362033*10^-2)*(AA20))+(5.2084519626))+(9*M20*(((6.6506859177*10^-19)*(AA20^6))-((7.8984343104*10^-15)*(AA20^5))+((3.6879849877*10^-11)*(AA20^4))-((8.6386228559*10^-8)*(AA20^3))+((1.1074017861*10^-4)*(AA20^2))-((3.1241611608*10^-2)*(AA20))+(3.3006694533)))+(L20*(1-M20)*(((6.4958291549*10^-19)*(AA20^6))-((7.8224528491*10^-15)*(AA20^5))+((3.7120417697*10^-11)*(AA20^4))-((8.798317617*10^-8)*(AA20^3))+((1.0982327235*10^-4)*(AA20^2))-((3.2606444641*10^-2)*(AA20))+(3.5786489003))+(47*((((5.9376621671*(10^-19)*(AA20^6))-((7.1020711589*10^-15)*(AA20^5))+((3.3460896805*10^-11)*(AA20^4))-((7.8909601634*10^-8)*(AA20^3))+((9.8599769212*10^-5)*(AA20^2))-((2.8172899156*10^-2)*(AA20))+((3.05378908))))))) -> 4052 | AA20: 2066.4957 | AM20: =SMALL(Ent_tables!AU3:AV70,COUNTIF(Ent_tables!AU3:AV70,"<"&W10)+0.1) -> 4936.6383 | AN20: =VLOOKUP(AM20,Ent_tables!AU3:AV70,COLUMN(Ent_tables!AV3:AV70)-COLUMN(Ent_tables!AU3:AV70)+1,0) -> 2350
I21: =8*M21 -> 6 | J21: =18*M21 -> 13.5 | K21: =2*12.5 -> 25 | L21: 12.5 | M21: 0.75 | O21: =I21 -> 6 | P21: =J21/2 -> 6.75 | Q21: =(K21-(2*O21)-P21)/2 -> 3.125 | R21: =12.5*3.76 -> 47 | S21: =$D$19/(M21+L21*(1+3.76)) -> 1.0901476e-07 | T21: =(R21*S21)/('Task2A)values_PHI_dependent'!$D$5*10^-6) -> 0.12809234 | U21: =(Q21*S21)/('Task2A)values_PHI_dependent'!$D$5*10^-6) -> 0.0085167779 | V21: =S21*(O21+P21+Q21+R21) -> 6.8543028e-06 | W21: =(O21*(ABS($C$31))+(P21*ABS($C$33)))-ABS($C$34*M21) -> 3798.75 | Z21: =8*M21*(((8.5770134353*10^-19)*(AA21^6))-((1.0374875556*10^-14)*(AA21^5))+((4.9689475953*10^-11)*(AA21^4))-((1.2019118054*10^-7)*(AA21^3))+((1.5650954893*10^-4)*(AA21^2))-((4.8239362033*10^-2)*(AA21))+(5.2084519626))+(9*M21*(((6.6506859177*10^-19)*(AA21^6))-((7.8984343104*10^-15)*(AA21^5))+((3.6879849877*10^-11)*(AA21^4))-((8.6386228559*10^-8)*(AA21^3))+((1.1074017861*10^-4)*(AA21^2))-((3.1241611608*10^-2)*(AA21))+(3.3006694533)))+(L21*(1-M21)*(((6.4958291549*10^-19)*(AA21^6))-((7.8224528491*10^-15)*(AA21^5))+((3.7120417697*10^-11)*(AA21^4))-((8.798317617*10^-8)*(AA21^3))+((1.0982327235*10^-4)*(AA21^2))-((3.2606444641*10^-2)*(AA21))+(3.5786489003))+(47*((((5.9376621671*(10^-19)*(AA21^6))-((7.1020711589*10^-15)*(AA21^5))+((3.3460896805*10^-11)*(AA21^4))-((7.8909601634*10^-8)*(AA21^3))+((9.8599769212*10^-5)*(AA21^2))-((2.8172899156*10^-2)*(AA21))+((3.05378908))))))) -> 3798.75 | AA21: 1979.4127 | AM21: =SMALL(Ent_tables!AU3:AV70,COUNTIF(Ent_tables!AU3:AV70,"<"&W10)+1) -> 5073.1382 | AN21: =VLOOKUP(AM21,Ent_tables!AU3:AV70,COLUMN(Ent_tables!AV3:AV70)-COLUMN(Ent_tables!AU3:AV70)+1,0) -> 2400
I22: =8*M22 -> 5.6 | J22: =18*M22 -> 12.6 | K22: =2*12.5 -> 25 | L22: 12.5 | M22: 0.7 | O22: =I22 -> 5.6 | P22: =J22/2 -> 6.3 | Q22: =(K22-(2*O22)-P22)/2 -> 3.75 | R22: =12.5*3.76 -> 47 | S22: =$D$19/(M22+L22*(1+3.76)) -> 1.091053e-07 | T22: =(R22*S22)/('Task2A)values_PHI_dependent'!$D$5*10^-6) -> 0.12819873 | U22: =(Q22*S22)/('Task2A)values_PHI_dependent'!$D$5*10^-6) -> 0.010228622 | V22: =S22*(O22+P22+Q22+R22) -> 6.8354471e-06 | W22: =(O22*(ABS($C$31))+(P22*ABS($C$33)))-ABS($C$34*M22) -> 3545.5 | Z22: =8*M22*(((8.5770134353*10^-19)*(AA22^6))-((1.0374875556*10^-14)*(AA22^5))+((4.9689475953*10^-11)*(AA22^4))-((1.2019118054*10^-7)*(AA22^3))+((1.5650954893*10^-4)*(AA22^2))-((4.8239362033*10^-2)*(AA22))+(5.2084519626))+(9*M22*(((6.6506859177*10^-19)*(AA22^6))-((7.8984343104*10^-15)*(AA22^5))+((3.6879849877*10^-11)*(AA22^4))-((8.6386228559*10^-8)*(AA22^3))+((1.1074017861*10^-4)*(AA22^2))-((3.1241611608*10^-2)*(AA22))+(3.3006694533)))+(L22*(1-M22)*(((6.4958291549*10^-19)*(AA22^6))-((7.8224528491*10^-15)*(AA22^5))+((3.7120417697*10^-11)*(AA22^4))-((8.798317617*10^-8)*(AA22^3))+((1.0982327235*10^-4)*(AA22^2))-((3.2606444641*10^-2)*(AA22))+(3.5786489003))+(47*((((5.9376621671*(10^-19)*(AA22^6))-((7.1020711589*10^-15)*(AA22^5))+((3.3460896805*10^-11)*(AA22^4))-((7.8909601634*10^-8)*(AA22^3))+((9.8599769212*10^-5)*(AA22^2))-((2.8172899156*10^-2)*(AA22))+((3.05378908))))))) -> 3545.5002 | AA22: 1889.5021 | AL22: Φ | AM22: 1 | AN22: 2
A23: REACTION BALANCE | B23: BALANCE | E23: F | F23: 12.5 | I23: =8*M23 -> 5.2 | J23: =18*M23 -> 11.7 | K23: =2*12.5 -> 25 | L23: 12.5 | M23: 0.65 | O23: =I23 -> 5.2 | P23: =J23/2 -> 5.85 | Q23: =(K23-(2*O23)-P23)/2 -> 4.375 | R23: =12.5*3.76 -> 47 | S23: =$D$19/(M23+L23*(1+3.76)) -> 1.09196e-07 | T23: =(R23*S23)/('Task2A)values_PHI_dependent'!$D$5*10^-6) -> 0.12830529 | U23: =(Q23*S23)/('Task2A)values_PHI_dependent'!$D$5*10^-6) -> 0.011943312 | V23: =S23*(O23+P23+Q23+R23) -> 6.81656e-06 | W23: =(O23*(ABS($C$31))+(P23*ABS($C$33)))-ABS($C$34*M23) -> 3292.25 | Z23: =8*M23*(((8.5770134353*10^-19)*(AA23^6))-((1.0374875556*10^-14)*(AA23^5))+((4.9689475953*10^-11)*(AA23^4))-((1.2019118054*10^-7)*(AA23^3))+((1.5650954893*10^-4)*(AA23^2))-((4.8239362033*10^-2)*(AA23))+(5.2084519626))+(9*M23*(((6.6506859177*10^-19)*(AA23^6))-((7.8984343104*10^-15)*(AA23^5))+((3.6879849877*10^-11)*(AA23^4))-((8.6386228559*10^-8)*(AA23^3))+((1.1074017861*10^-4)*(AA23^2))-((3.1241611608*10^-2)*(AA23))+(3.3006694533)))+(L23*(1-M23)*(((6.4958291549*10^-19)*(AA23^6))-((7.8224528491*10^-15)*(AA23^5))+((3.7120417697*10^-11)*(AA23^4))-((8.798317617*10^-8)*(AA23^3))+((1.0982327235*10^-4)*(AA23^2))-((3.2606444641*10^-2)*(AA23))+(3.5786489003))+(47*((((5.9376621671*(10^-19)*(AA23^6))-((7.1020711589*10^-15)*(AA23^5))+((3.3460896805*10^-11)*(AA23^4))-((7.8909601634*10^-8)*(AA23^3))+((9.8599769212*10^-5)*(AA23^2))-((2.8172899156*10^-2)*(AA23))+((3.05378908))))))) -> 3292.2506 | AA23: 1796.628 | AL23: 0.97 | AM23: ENTALP RANGE | AN23: TEMP RANGE
A24: FIXED VALUESSSS | I24: =8*M24 -> 4.8 | J24: =18*M24 -> 10.8 | K24: =2*12.5 -> 25 | L24: 12.5 | M24: 0.6 | O24: =I24 -> 4.8 | P24: =J24/2 -> 5.4 | Q24: =(K24-(2*O24)-P24)/2 -> 5 | R24: =12.5*3.76 -> 47 | S24: =$D$19/(M24+L24*(1+3.76)) -> 1.0928684e-07 | T24: =(R24*S24)/('Task2A)values_PHI_dependent'!$D$5*10^-6) -> 0.12841204 | U24: =(Q24*S24)/('Task2A)values_PHI_dependent'!$D$5*10^-6) -> 0.013660855 | V24: =S24*(O24+P24+Q24+R24) -> 6.7976415e-06 | W24: =(O24*(ABS($C$31))+(P24*ABS($C$33)))-ABS($C$34*M24) -> 3039 | Z24: =8*M24*(((8.5770134353*10^-19)*(AA24^6))-((1.0374875556*10^-14)*(AA24^5))+((4.9689475953*10^-11)*(AA24^4))-((1.2019118054*10^-7)*(AA24^3))+((1.5650954893*10^-4)*(AA24^2))-((4.8239362033*10^-2)*(AA24))+(5.2084519626))+(9*M24*(((6.6506859177*10^-19)*(AA24^6))-((7.8984343104*10^-15)*(AA24^5))+((3.6879849877*10^-11)*(AA24^4))-((8.6386228559*10^-8)*(AA24^3))+((1.1074017861*10^-4)*(AA24^2))-((3.1241611608*10^-2)*(AA24))+(3.3006694533)))+(L24*(1-M24)*(((6.4958291549*10^-19)*(AA24^6))-((7.8224528491*10^-15)*(AA24^5))+((3.7120417697*10^-11)*(AA24^4))-((8.798317617*10^-8)*(AA24^3))+((1.0982327235*10^-4)*(AA24^2))-((3.2606444641*10^-2)*(AA24))+(3.5786489003))+(47*((((5.9376621671*(10^-19)*(AA24^6))-((7.1020711589*10^-15)*(AA24^5))+((3.3460896805*10^-11)*(AA24^4))-((7.8909601634*10^-8)*(AA24^3))+((9.8599769212*10^-5)*(AA24^2))-((2.8172899156*10^-2)*(AA24))+((3.05378908))))))) -> 3039 | AA24: 1700.7428 | AM24: RANGE
A25: Carbon (x) | B25: 8 | E25: CO2 (n1) | F25: =8 -> 8 | AM25: =SMALL(Ent_tables!BC3:BC70,COUNTIF(Ent_tables!BC3:BC70,"<"&W11)+0.1) -> 4792.6533 | AN25: =VLOOKUP(AM25,Ent_tables!AU8:AV75,COLUMN(Ent_tables!AV8:AV75)-COLUMN(Ent_tables!AU8:AV75)+1,0) -> #N/A
A26: Hyrdrogen (y) | B26: 18 | E26: H20 (n2) | F26: =B26/2 -> 9 | M26: POL INDEX | N26: =1.17 -> 1.17 | AM26: =SMALL(Ent_tables!BC3:BC705,COUNTIF(Ent_tables!BC3:BC70,"<"&W11)+1) -> 4928.4934 | AN26: =VLOOKUP(AM26,Ent_tables!AU8:AV75,COLUMN(Ent_tables!AV8:AV75)-COLUMN(Ent_tables!AU8:AV75)+1,0) -> #N/A
A27: Oxigen | B27: =2*12.5 -> 25 | E27: Oxigen (n3) | F27: 0 | M27: INDICE AT POWER | N27: =($N$26-1)/$N$26 -> 0.14529915 | O27: phi 1 | Q27: phi 0.99 | S27: phi 0.98 | U27: phi 0.97 | W27: phi 0.96 | Y27: phi 0.95
E28: Nitrogen (n4) | F28: =12.5*3.76 -> 47 | M28: deg | N28: PRESSURE[bar] | O28: TEMP [K] | P28: NOX [Kmol/°] | Q28: TEMP [K] | R28: NOX [Kmol/°] | S28: TEMP [K] | T28: NOX [Kmol/°] | U28: TEMP [K] | V28: NOX [Kmol/°] | W28: TEMP [K] | X28: NOX [Kmol/°] | Y28: TEMP [K] | Z28: NOX [Kmol/°]
M29: 0 | N29: 10 | O29: =AA8 -> 2390.9132 | P29: =(4.17*10^13*$T$8*$U$8^0.5*EXP(-67837/O29))/'Task2A)values_PHI_dependent'!$D$14*'Task2A)values_PHI_dependent'!$D$5*10^-6 -> 0 | Q29: =$AA$9 -> 2375.4523 | R29: =(4.17*10^13*$T$9*$U$9^0.5*EXP(-67837/Q29))/'Task2A)values_PHI_dependent'!$D$14*'Task2A)values_PHI_dependent'!$D$5*10^-6 -> 1.4371588e-10 | S29: =$AA$10 -> 2359.9233 | T29: =(4.17*10^13*$T$10*$U$10^0.5*EXP(-67837/S29))/'Task2A)values_PHI_dependent'!$D$14*'Task2A)values_PHI_dependent'!$D$5*10^-6 -> 1.6846748e-10 | U29: =$AA$11 -> 2344.3242 | V29: =(4.17*10^13*$T$11*$U$11^0.5*EXP(-67837/U29))/'Task2A)values_PHI_dependent'!$D$14*'Task2A)values_PHI_dependent'!$D$5*10^-6 -> 1.7045161e-10 | W29: =$AA$12 -> 2328.653 | X29: =(4.17*10^13*$T$12*$U$12^0.5*EXP(-67837/W29))/'Task2A)values_PHI_dependent'!$D$14*'Task2A)values_PHI_dependent'!$D$5*10^-6 -> 1.6203388e-10 | Y29: =$AA$13 -> 2312.908 | Z29: =(4.17*10^13*$T$13*$U$13^0.5*EXP(-67837/Y29))/'Task2A)values_PHI_dependent'!$D$14*'Task2A)values_PHI_dependent'!$D$5*10^-6 -> 1.4860832e-10
M30: 1 | N30: 12 | O30: =O29*(N30/N29)^$N$27 -> 2455.0977 | P30: =(4.17*10^13*$T$8*$U$8^0.5*EXP(-67837/O30))/'Task2A)values_PHI_dependent'!$D$14*'Task2A)values_PHI_dependent'!$D$5*10^-6 -> 0 | Q30: =Q29*(N30/N29)^$N$27 -> 2439.2217 | R30: =(4.17*10^13*$T$9*$U$9^0.5*EXP(-67837/Q30))/'Task2A)values_PHI_dependent'!$D$14*'Task2A)values_PHI_dependent'!$D$5*10^-6 -> 3.0321053e-10 | S30: =S29*(N30/N29)^$N$27 -> 2423.2758 | T30: =(4.17*10^13*$T$10*$U$10^0.5*EXP(-67837/S30))/'Task2A)values_PHI_dependent'!$D$14*'Task2A)values_PHI_dependent'!$D$5*10^-6 -> 3.5718169e-10 | U30: =U29*(N30/N29)^$N$27 -> 2407.258 | V30: =(4.17*10^13*$T$11*$U$11^0.5*EXP(-67837/U30))/'Task2A)values_PHI_dependent'!$D$14*'Task2A)values_PHI_dependent'!$D$5*10^-6 -> 3.6320005e-10 | W30: =W29*(N30/N29)^$N$27 -> 2391.1661 | X30: =(4.17*10^13*$T$12*$U$12^0.5*EXP(-67837/W30))/'Task2A)values_PHI_dependent'!$D$14*'Task2A)values_PHI_dependent'!$D$5*10^-6 -> 3.4702569e-10 | Y30: =Y29*(N30/N29)^$N$27 -> 2374.9984 | Z30: =(4.17*10^13*$T$13*$U$13^0.5*EXP(-67837/Y30))/'Task2A)values_PHI_dependent'!$D$14*'Task2A)values_PHI_dependent'!$D$5*10^-6 -> 3.1992674e-10
B31: hf | C31: -393.5 | D31: KJ/Kmol | M31: 2 | N31: 14 | O31: =O30*(N31/N30)^$N$27 -> 2510.7073 | P31: =(4.17*10^13*$T$8*$U$8^0.5*EXP(-67837/O31))/'Task2A)values_PHI_dependent'!$D$14*'Task2A)values_PHI_dependent'!$D$5*10^-6 -> 0 | Q31: =Q30*(N31/N30)^$N$27 -> 2494.4718 | R31: =(4.17*10^13*$T$9*$U$9^0.5*EXP(-67837/Q31))/'Task2A)values_PHI_dependent'!$D$14*'Task2A)values_PHI_dependent'!$D$5*10^-6 -> 5.6138736e-10 | S31: =S30*(N31/N30)^$N$27 -> 2478.1647 | T31: =(4.17*10^13*$T$10*$U$10^0.5*EXP(-67837/S31))/'Task2A)values_PHI_dependent'!$D$14*'Task2A)values_PHI_dependent'!$D$5*10^-6 -> 6.6399972e-10 | U31: =U30*(N31/N30)^$N$27 -> 2461.784 | V31: =(4.17*10^13*$T$11*$U$11^0.5*EXP(-67837/U31))/'Task2A)values_PHI_dependent'!$D$14*'Task2A)values_PHI_dependent'!$D$5*10^-6 -> 6.7797924e-10 | W31: =W30*(N31/N30)^$N$27 -> 2445.3277 | X31: =(4.17*10^13*$T$12*$U$12^0.5*EXP(-67837/W31))/'Task2A)values_PHI_dependent'!$D$14*'Task2A)values_PHI_dependent'!$D$5*10^-6 -> 6.5051353e-10 | Y31: =Y30*(N31/N30)^$N$27 -> 2428.7937 | Z31: =(4.17*10^13*$T$13*$U$13^0.5*EXP(-67837/Y31))/'Task2A)values_PHI_dependent'!$D$14*'Task2A)values_PHI_dependent'!$D$5*10^-6 -> 6.0228628e-10
B32: hf Liquid | C32: -285.8 | D32: KJ/Kmol | M32: 3 | N32: 16 | O32: =O31*(N32/N31)^$N$27 -> 2559.8957 | P32: =(4.17*10^13*$T$8*$U$8^0.5*EXP(-67837/O32))/'Task2A)values_PHI_dependent'!$D$14*'Task2A)values_PHI_dependent'!$D$5*10^-6 -> 0 | Q32: =Q31*(N32/N31)^$N$27 -> 2543.342 | R32: =(4.17*10^13*$T$9*$U$9^0.5*EXP(-67837/Q32))/'Task2A)values_PHI_dependent'!$D$14*'Task2A)values_PHI_dependent'!$D$5*10^-6 -> 9.4668042e-10 | S32: =S31*(N32/N31)^$N$27 -> 2526.7155 | T32: =(4.17*10^13*$T$10*$U$10^0.5*EXP(-67837/S32))/'Task2A)values_PHI_dependent'!$D$14*'Task2A)values_PHI_dependent'!$D$5*10^-6 -> 1.1235748e-09 | U32: =U31*(N32/N31)^$N$27 -> 2510.0139 | V32: =(4.17*10^13*$T$11*$U$11^0.5*EXP(-67837/U32))/'Task2A)values_PHI_dependent'!$D$14*'Task2A)values_PHI_dependent'!$D$5*10^-6 -> 1.1512523e-09 | W32: =W31*(N32/N31)^$N$27 -> 2493.2352 | X32: =(4.17*10^13*$T$12*$U$12^0.5*EXP(-67837/W32))/'Task2A)values_PHI_dependent'!$D$14*'Task2A)values_PHI_dependent'!$D$5*10^-6 -> 1.1085568e-09 | Y32: =Y31*(N32/N31)^$N$27 -> 2476.3773 | Z32: =(4.17*10^13*$T$13*$U$13^0.5*EXP(-67837/Y32))/'Task2A)values_PHI_dependent'!$D$14*'Task2A)values_PHI_dependent'!$D$5*10^-6 -> 1.0301027e-09
B33: hf Gas | C33: -241.8 | D33: KJ/Kmol | M33: 4 | N33: 18 | O33: =O32*(N33/N32)^$N$27 -> 2604.0822 | P33: =(4.17*10^13*$T$8*$U$8^0.5*EXP(-67837/O33))/'Task2A)values_PHI_dependent'!$D$14*'Task2A)values_PHI_dependent'!$D$5*10^-6 -> 0 | Q33: =Q32*(N33/N32)^$N$27 -> 2587.2428 | R33: =(4.17*10^13*$T$9*$U$9^0.5*EXP(-67837/Q33))/'Task2A)values_PHI_dependent'!$D$14*'Task2A)values_PHI_dependent'!$D$5*10^-6 -> 1.4885281e-09 | S33: =S32*(N33/N32)^$N$27 -> 2570.3293 | T33: =(4.17*10^13*$T$10*$U$10^0.5*EXP(-67837/S33))/'Task2A)values_PHI_dependent'!$D$14*'Task2A)values_PHI_dependent'!$D$5*10^-6 -> 1.77194e-09 | U33: =U32*(N33/N32)^$N$27 -> 2553.3394 | V33: =(4.17*10^13*$T$11*$U$11^0.5*EXP(-67837/U33))/'Task2A)values_PHI_dependent'!$D$14*'Task2A)values_PHI_dependent'!$D$5*10^-6 -> 1.8211008e-09 | W33: =W32*(N33/N32)^$N$27 -> 2536.271 | X33: =(4.17*10^13*$T$12*$U$12^0.5*EXP(-67837/W33))/'Task2A)values_PHI_dependent'!$D$14*'Task2A)values_PHI_dependent'!$D$5*10^-6 -> 1.7589834e-09 | Y33: =Y32*(N33/N32)^$N$27 -> 2519.1222 | Z33: =(4.17*10^13*$T$13*$U$13^0.5*EXP(-67837/Y33))/'Task2A)values_PHI_dependent'!$D$14*'Task2A)values_PHI_dependent'!$D$5*10^-6 -> 1.6396428e-09
B34: hf | C34: -259.2 | D34: KJ/Kmol | M34: 5 | N34: 20 | O34: =O33*(N34/N33)^$N$27 -> 2644.2543 | P34: =(4.17*10^13*$T$8*$U$8^0.5*EXP(-67837/O34))/'Task2A)values_PHI_dependent'!$D$14*'Task2A)values_PHI_dependent'!$D$5*10^-6 -> 0 | Q34: =Q33*(N34/N33)^$N$27 -> 2627.1551 | R34: =(4.17*10^13*$T$9*$U$9^0.5*EXP(-67837/Q34))/'Task2A)values_PHI_dependent'!$D$14*'Task2A)values_PHI_dependent'!$D$5*10^-6 -> 2.2169325e-09 | S34: =S33*(N34/N33)^$N$27 -> 2609.9806 | T34: =(4.17*10^13*$T$10*$U$10^0.5*EXP(-67837/S34))/'Task2A)values_PHI_dependent'!$D$14*'Task2A)values_PHI_dependent'!$D$5*10^-6 -> 2.6459573e-09 | U34: =U33*(N34/N33)^$N$27 -> 2592.7286 | V34: =(4.17*10^13*$T$11*$U$11^0.5*EXP(-67837/U34))/'Task2A)values_PHI_dependent'!$D$14*'Task2A)values_PHI_dependent'!$D$5*10^-6 -> 2.7266317e-09 | W34: =W33*(N34/N33)^$N$27 -> 2575.397 | X34: =(4.17*10^13*$T$12*$U$12^0.5*EXP(-67837/W34))/'Task2A)values_PHI_dependent'!$D$14*'Task2A)values_PHI_dependent'!$D$5*10^-6 -> 2.6407903e-09 | Y34: =Y33*(N34/N33)^$N$27 -> 2557.9836 | Z34: =(4.17*10^13*$T$13*$U$13^0.5*EXP(-67837/Y34))/'Task2A)values_PHI_dependent'!$D$14*'Task2A)values_PHI_dependent'!$D$5*10^-6 -> 2.4684409e-09
B35: hf | C35: -201.5 | D35: KJ/Kmol | M35: 6 | N35: 22 | O35: =O34*(N35/N34)^$N$27 -> 2681.1279 | P35: =(4.17*10^13*$T$8*$U$8^0.5*EXP(-67837/O35))/'Task2A)values_PHI_dependent'!$D$14*'Task2A)values_PHI_dependent'!$D$5*10^-6 -> 0 | Q35: =Q34*(N35/N34)^$N$27 -> 2663.7903 | R35: =(4.17*10^13*$T$9*$U$9^0.5*EXP(-67837/Q35))/'Task2A)values_PHI_dependent'!$D$14*'Task2A)values_PHI_dependent'!$D$5*10^-6 -> 3.1621372e-09 | S35: =S34*(N35/N34)^$N$27 -> 2646.3763 | T35: =(4.17*10^13*$T$10*$U$10^0.5*EXP(-67837/S35))/'Task2A)values_PHI_dependent'!$D$14*'Task2A)values_PHI_dependent'!$D$5*10^-6 -> 3.7829093e-09 | U35: =U34*(N35/N34)^$N$27 -> 2628.8838 | V35: =(4.17*10^13*$T$11*$U$11^0.5*EXP(-67837/U35))/'Task2A)values_PHI_dependent'!$D$14*'Task2A)values_PHI_dependent'!$D$5*10^-6 -> 3.9075322e-09 | W35: =W34*(N35/N34)^$N$27 -> 2611.3105 | X35: =(4.17*10^13*$T$12*$U$12^0.5*EXP(-67837/W35))/'Task2A)values_PHI_dependent'!$D$14*'Task2A)values_PHI_dependent'!$D$5*10^-6 -> 3.7936887e-09 | Y35: =Y34*(N35/N34)^$N$27 -> 2593.6542 | Z35: =(4.17*10^13*$T$13*$U$13^0.5*EXP(-67837/Y35))/'Task2A)values_PHI_dependent'!$D$14*'Task2A)values_PHI_dependent'!$D$5*10^-6 -> 3.554852e-09
M36: 7 | N36: 24 | O36: =O35*(N36/N35)^$N$27 -> 2715.2397 | P36: =(4.17*10^13*$T$8*$U$8^0.5*EXP(-67837/O36))/'Task2A)values_PHI_dependent'!$D$14*'Task2A)values_PHI_dependent'!$D$5*10^-6 -> 0 | Q36: =Q35*(N36/N35)^$N$27 -> 2697.6815 | R36: =(4.17*10^13*$T$9*$U$9^0.5*EXP(-67837/Q36))/'Task2A)values_PHI_dependent'!$D$14*'Task2A)values_PHI_dependent'!$D$5*10^-6 -> 4.3543888e-09 | S36: =S35*(N36/N35)^$N$27 -> 2680.046 | T36: =(4.17*10^13*$T$10*$U$10^0.5*EXP(-67837/S36))/'Task2A)values_PHI_dependent'!$D$14*'Task2A)values_PHI_dependent'!$D$5*10^-6 -> 5.2201951e-09 | U36: =U35*(N36/N35)^$N$27 -> 2662.3309 | V36: =(4.17*10^13*$T$11*$U$11^0.5*EXP(-67837/U36))/'Task2A)values_PHI_dependent'!$D$14*'Task2A)values_PHI_dependent'!$D$5*10^-6 -> 5.4037345e-09 | W36: =W35*(N36/N35)^$N$27 -> 2644.534 | X36: =(4.17*10^13*$T$12*$U$12^0.5*EXP(-67837/W36))/'Task2A)values_PHI_dependent'!$D$14*'Task2A)values_PHI_dependent'!$D$5*10^-6 -> 5.2577582e-09 | Y36: =Y35*(N36/N35)^$N$27 -> 2626.6531 | Z36: =(4.17*10^13*$T$13*$U$13^0.5*EXP(-67837/Y36))/'Task2A)values_PHI_dependent'!$D$14*'Task2A)values_PHI_dependent'!$D$5*10^-6 -> 4.9377071e-09
M37: 8 | N37: 26 | O37: =O36*(N37/N36)^$N$27 -> 2747.0027 | P37: =(4.17*10^13*$T$8*$U$8^0.5*EXP(-67837/O37))/'Task2A)values_PHI_dependent'!$D$14*'Task2A)values_PHI_dependent'!$D$5*10^-6 -> 0 | Q37: =Q36*(N37/N36)^$N$27 -> 2729.2391 | R37: =(4.17*10^13*$T$9*$U$9^0.5*EXP(-67837/Q37))/'Task2A)values_PHI_dependent'!$D$14*'Task2A)values_PHI_dependent'!$D$5*10^-6 -> 5.8237614e-09 | S37: =S36*(N37/N36)^$N$27 -> 2711.3973 | T37: =(4.17*10^13*$T$10*$U$10^0.5*EXP(-67837/S37))/'Task2A)values_PHI_dependent'!$D$14*'Task2A)values_PHI_dependent'!$D$5*10^-6 -> 6.9951018e-09 | U37: =U36*(N37/N36)^$N$27 -> 2693.4749 | V37: =(4.17*10^13*$T$11*$U$11^0.5*EXP(-67837/U37))/'Task2A)values_PHI_dependent'!$D$14*'Task2A)values_PHI_dependent'!$D$5*10^-6 -> 7.2551615e-09 | W37: =W36*(N37/N36)^$N$27 -> 2675.4698 | X37: =(4.17*10^13*$T$12*$U$12^0.5*EXP(-67837/W37))/'Task2A)values_PHI_dependent'!$D$14*'Task2A)values_PHI_dependent'!$D$5*10^-6 -> 7.0731811e-09 | Y37: =Y36*(N37/N36)^$N$27 -> 2657.3798 | Z37: =(4.17*10^13*$T$13*$U$13^0.5*EXP(-67837/Y37))/'Task2A)values_PHI_dependent'!$D$14*'Task2A)values_PHI_dependent'!$D$5*10^-6 -> 6.6560471e-09
M38: 9 | N38: 28 | O38: =O37*(N38/N37)^$N$27 -> 2776.7418 | P38: =(4.17*10^13*$T$8*$U$8^0.5*EXP(-67837/O38))/'Task2A)values_PHI_dependent'!$D$14*'Task2A)values_PHI_dependent'!$D$5*10^-6 -> 0 | Q38: =Q37*(N38/N37)^$N$27 -> 2758.7859 | R38: =(4.17*10^13*$T$9*$U$9^0.5*EXP(-67837/Q38))/'Task2A)values_PHI_dependent'!$D$14*'Task2A)values_PHI_dependent'!$D$5*10^-6 -> 7.6000269e-09 | S38: =S37*(N38/N37)^$N$27 -> 2740.7509 | T38: =(4.17*10^13*$T$10*$U$10^0.5*EXP(-67837/S38))/'Task2A)values_PHI_dependent'!$D$14*'Task2A)values_PHI_dependent'!$D$5*10^-6 -> 9.1446346e-09 | U38: =U37*(N38/N37)^$N$27 -> 2722.6345 | V38: =(4.17*10^13*$T$11*$U$11^0.5*EXP(-67837/U38))/'Task2A)values_PHI_dependent'!$D$14*'Task2A)values_PHI_dependent'!$D$5*10^-6 -> 9.5015342e-09 | W38: =W37*(N38/N37)^$N$27 -> 2704.4345 | X38: =(4.17*10^13*$T$12*$U$12^0.5*EXP(-67837/W38))/'Task2A)values_PHI_dependent'!$D$14*'Task2A)values_PHI_dependent'!$D$5*10^-6 -> 9.2800388e-09 | Y38: =Y37*(N38/N37)^$N$27 -> 2686.1486 | Z38: =(4.17*10^13*$T$13*$U$13^0.5*EXP(-67837/Y38))/'Task2A)values_PHI_dependent'!$D$14*'Task2A)values_PHI_dependent'!$D$5*10^-6 -> 8.7489158e-09
M39: 10 | N39: 30 | O39: =O38*(N39/N38)^$N$27 -> 2804.7175 | P39: =(4.17*10^13*$T$8*$U$8^0.5*EXP(-67837/O39))/'Task2A)values_PHI_dependent'!$D$14*'Task2A)values_PHI_dependent'!$D$5*10^-6 -> 0 | Q39: =Q38*(N39/N38)^$N$27 -> 2786.5807 | R39: =(4.17*10^13*$T$9*$U$9^0.5*EXP(-67837/Q39))/'Task2A)values_PHI_dependent'!$D$14*'Task2A)values_PHI_dependent'!$D$5*10^-6 -> 9.7125591e-09 | S39: =S38*(N39/N38)^$N$27 -> 2768.364 | T39: =(4.17*10^13*$T$10*$U$10^0.5*EXP(-67837/S39))/'Task2A)values_PHI_dependent'!$D$14*'Task2A)values_PHI_dependent'!$D$5*10^-6 -> 1.1705388e-08 | U39: =U38*(N39/N38)^$N$27 -> 2750.0651 | V39: =(4.17*10^13*$T$11*$U$11^0.5*EXP(-67837/U39))/'Task2A)values_PHI_dependent'!$D$14*'Task2A)values_PHI_dependent'!$D$5*10^-6 -> 1.2182226e-08 | W39: =W38*(N39/N38)^$N$27 -> 2731.6817 | X39: =(4.17*10^13*$T$12*$U$12^0.5*EXP(-67837/W39))/'Task2A)values_PHI_dependent'!$D$14*'Task2A)values_PHI_dependent'!$D$5*10^-6 -> 1.1918156e-08 | Y39: =Y38*(N39/N38)^$N$27 -> 2713.2116 | Z39: =(4.17*10^13*$T$13*$U$13^0.5*EXP(-67837/Y39))/'Task2A)values_PHI_dependent'!$D$14*'Task2A)values_PHI_dependent'!$D$5*10^-6 -> 1.12552e-08
M40: 11 | N40: 32 | O40: =O39*(N40/N39)^$N$27 -> 2831.1421 | P40: =(4.17*10^13*$T$8*$U$8^0.5*EXP(-67837/O40))/'Task2A)values_PHI_dependent'!$D$14*'Task2A)values_PHI_dependent'!$D$5*10^-6 -> 0 | Q40: =Q39*(N40/N39)^$N$27 -> 2812.8345 | R40: =(4.17*10^13*$T$9*$U$9^0.5*EXP(-67837/Q40))/'Task2A)values_PHI_dependent'!$D$14*'Task2A)values_PHI_dependent'!$D$5*10^-6 -> 1.2190264e-08 | S40: =S39*(N40/N39)^$N$27 -> 2794.4461 | T40: =(4.17*10^13*$T$10*$U$10^0.5*EXP(-67837/S40))/'Task2A)values_PHI_dependent'!$D$14*'Task2A)values_PHI_dependent'!$D$5*10^-6 -> 1.4713453e-08 | U40: =U39*(N40/N39)^$N$27 -> 2775.9748 | V40: =(4.17*10^13*$T$11*$U$11^0.5*EXP(-67837/U40))/'Task2A)values_PHI_dependent'!$D$14*'Task2A)values_PHI_dependent'!$D$5*10^-6 -> 1.5336151e-08 | W40: =W39*(N40/N39)^$N$27 -> 2757.4182 | X40: =(4.17*10^13*$T$12*$U$12^0.5*EXP(-67837/W40))/'Task2A)values_PHI_dependent'!$D$14*'Task2A)values_PHI_dependent'!$D$5*10^-6 -> 1.5026979e-08 | Y40: =Y39*(N40/N39)^$N$27 -> 2738.7741 | Z40: =(4.17*10^13*$T$13*$U$13^0.5*EXP(-67837/Y40))/'Task2A)values_PHI_dependent'!$D$14*'Task2A)values_PHI_dependent'!$D$5*10^-6 -> 1.4213501e-08
M41: 12 | N41: 34 | O41: =O40*(N41/N40)^$N$27 -> 2856.191 | P41: =(4.17*10^13*$T$8*$U$8^0.5*EXP(-67837/O41))/'Task2A)values_PHI_dependent'!$D$14*'Task2A)values_PHI_dependent'!$D$5*10^-6 -> 0 | Q41: =Q40*(N41/N40)^$N$27 -> 2837.7213 | R41: =(4.17*10^13*$T$9*$U$9^0.5*EXP(-67837/Q41))/'Task2A)values_PHI_dependent'!$D$14*'Task2A)values_PHI_dependent'!$D$5*10^-6 -> 1.5061531e-08 | S41: =S40*(N41/N40)^$N$27 -> 2819.1703 | T41: =(4.17*10^13*$T$10*$U$10^0.5*EXP(-67837/S41))/'Task2A)values_PHI_dependent'!$D$14*'Task2A)values_PHI_dependent'!$D$5*10^-6 -> 1.8204345e-08 | U41: =U40*(N41/N40)^$N$27 -> 2800.5356 | V41: =(4.17*10^13*$T$11*$U$11^0.5*EXP(-67837/U41))/'Task2A)values_PHI_dependent'!$D$14*'Task2A)values_PHI_dependent'!$D$5*10^-6 -> 1.9001681e-08 | W41: =W40*(N41/N40)^$N$27 -> 2781.8148 | X41: =(4.17*10^13*$T$12*$U$12^0.5*EXP(-67837/W41))/'Task2A)values_PHI_dependent'!$D$14*'Task2A)values_PHI_dependent'!$D$5*10^-6 -> 1.8645486e-08 | Y41: =Y40*(N41/N40)^$N$27 -> 2763.0058 | Z41: =(4.17*10^13*$T$13*$U$13^0.5*EXP(-67837/Y41))/'Task2A)values_PHI_dependent'!$D$14*'Task2A)values_PHI_dependent'!$D$5*10^-6 -> 1.7662045e-08
M42: 13 | N42: 36 | O42: =O41*(N42/N41)^$N$27 -> 2880.0106 | P42: =(4.17*10^13*$T$8*$U$8^0.5*EXP(-67837/O42))/'Task2A)values_PHI_dependent'!$D$14*'Task2A)values_PHI_dependent'!$D$5*10^-6 -> 0 | Q42: =Q41*(N42/N41)^$N$27 -> 2861.3869 | R42: =(4.17*10^13*$T$9*$U$9^0.5*EXP(-67837/Q42))/'Task2A)values_PHI_dependent'!$D$14*'Task2A)values_PHI_dependent'!$D$5*10^-6 -> 1.8354194e-08 | S42: =S41*(N42/N41)^$N$27 -> 2842.6812 | T42: =(4.17*10^13*$T$10*$U$10^0.5*EXP(-67837/S42))/'Task2A)values_PHI_dependent'!$D$14*'Task2A)values_PHI_dependent'!$D$5*10^-6 -> 2.2212952e-08 | U42: =U41*(N42/N41)^$N$27 -> 2823.8911 | V42: =(4.17*10^13*$T$11*$U$11^0.5*EXP(-67837/U42))/'Task2A)values_PHI_dependent'!$D$14*'Task2A)values_PHI_dependent'!$D$5*10^-6 -> 2.3216587e-08 | W42: =W41*(N42/N41)^$N$27 -> 2805.0142 | X42: =(4.17*10^13*$T$12*$U$12^0.5*EXP(-67837/W42))/'Task2A)values_PHI_dependent'!$D$14*'Task2A)values_PHI_dependent'!$D$5*10^-6 -> 2.2812117e-08 | Y42: =Y41*(N42/N41)^$N$27 -> 2786.0483 | Z42: =(4.17*10^13*$T$13*$U$13^0.5*EXP(-67837/Y42))/'Task2A)values_PHI_dependent'!$D$14*'Task2A)values_PHI_dependent'!$D$5*10^-6 -> 2.1638599e-08
M43: 14 | N43: 38 | O43: =O42*(N43/N42)^$N$27 -> 2902.7249 | P43: =(4.17*10^13*$T$8*$U$8^0.5*EXP(-67837/O43))/'Task2A)values_PHI_dependent'!$D$14*'Task2A)values_PHI_dependent'!$D$5*10^-6 -> 0 | Q43: =Q42*(N43/N42)^$N$27 -> 2883.9543 | R43: =(4.17*10^13*$T$9*$U$9^0.5*EXP(-67837/Q43))/'Task2A)values_PHI_dependent'!$D$14*'Task2A)values_PHI_dependent'!$D$5*10^-6 -> 2.2095512e-08 | S43: =S42*(N43/N42)^$N$27 -> 2865.1011 | T43: =(4.17*10^13*$T$10*$U$10^0.5*EXP(-67837/S43))/'Task2A)values_PHI_dependent'!$D$14*'Task2A)values_PHI_dependent'!$D$5*10^-6 -> 2.6773503e-08 | U43: =U42*(N43/N42)^$N$27 -> 2846.1627 | V43: =(4.17*10^13*$T$11*$U$11^0.5*EXP(-67837/U43))/'Task2A)values_PHI_dependent'!$D$14*'Task2A)values_PHI_dependent'!$D$5*10^-6 -> 2.8017987e-08 | W43: =W42*(N43/N42)^$N$27 -> 2827.1369 | X43: =(4.17*10^13*$T$12*$U$12^0.5*EXP(-67837/W43))/'Task2A)values_PHI_dependent'!$D$14*'Task2A)values_PHI_dependent'!$D$5*10^-6 -> 2.7564717e-08 | Y43: =Y42*(N43/N42)^$N$27 -> 2808.0214 | Z43: =(4.17*10^13*$T$13*$U$13^0.5*EXP(-67837/Y43))/'Task2A)values_PHI_dependent'!$D$14*'Task2A)values_PHI_dependent'!$D$5*10^-6 -> 2.6180419e-08
M44: 16 | N44: 40 | O44: =O43*(N44/N43)^$N$27 -> 2924.4393 | P44: =(4.17*10^13*$T$8*$U$8^0.5*EXP(-67837/O44))/'Task2A)values_PHI_dependent'!$D$14*'Task2A)values_PHI_dependent'!$D$5*10^-6 -> 0 | Q44: =Q43*(N44/N43)^$N$27 -> 2905.5283 | R44: =(4.17*10^13*$T$9*$U$9^0.5*EXP(-67837/Q44))/'Task2A)values_PHI_dependent'!$D$14*'Task2A)values_PHI_dependent'!$D$5*10^-6 -> 2.6312154e-08 | S44: =S43*(N44/N43)^$N$27 -> 2886.5341 | T44: =(4.17*10^13*$T$10*$U$10^0.5*EXP(-67837/S44))/'Task2A)values_PHI_dependent'!$D$14*'Task2A)values_PHI_dependent'!$D$5*10^-6 -> 3.1919542e-08 | U44: =U43*(N44/N43)^$N$27 -> 2867.454 | V44: =(4.17*10^13*$T$11*$U$11^0.5*EXP(-67837/U44))/'Task2A)values_PHI_dependent'!$D$14*'Task2A)values_PHI_dependent'!$D$5*10^-6 -> 3.3442322e-08 | W44: =W43*(N44/N43)^$N$27 -> 2848.2859 | X44: =(4.17*10^13*$T$12*$U$12^0.5*EXP(-67837/W44))/'Task2A)values_PHI_dependent'!$D$14*'Task2A)values_PHI_dependent'!$D$5*10^-6 -> 3.2940507e-08 | Y44: =Y43*(N44/N43)^$N$27 -> 2829.0274 | Z44: =(4.17*10^13*$T$13*$U$13^0.5*EXP(-67837/Y44))/'Task2A)values_PHI_dependent'!$D$14*'Task2A)values_PHI_dependent'!$D$5*10^-6 -> 3.1324205e-08
O47: 0.94 | Q47: phi 0.93 | S47: phi 0.92 | U47: phi 0.91 | W47: phi 0.90 | Y47: phi 0.85
M48: deg | N48: PRESSURE[bar] | O48: TEMP [K] | P48: NOX [Kmol/°] | Q48: TEMP [K] | R48: NOX [Kmol/°] | S48: TEMP [K] | T48: NOX [Kmol/°] | U48: TEMP [K] | V48: NOX [Kmol/°] | W48: TEMP [K] | X48: NOX [Kmol/°] | Y48: TEMP [K] | Z48: NOX [Kmol/°]
M49: 0 | N49: 10 | O49: =$AA$14 -> 2297.0866 | P49: =(4.17*10^13*$T$14*$U$14^0.5*EXP(-67837/O49))/'Task2A)values_PHI_dependent'!$D$14*'Task2A)values_PHI_dependent'!$D$5*10^-6 -> 1.3304829e-10 | Q49: =$AA$15 -> 2281.1875 | R49: =(4.17*10^13*$T$15*$U$15^0.5*EXP(-67837/Q49))/'Task2A)values_PHI_dependent'!$D$14*'Task2A)values_PHI_dependent'!$D$5*10^-6 -> 1.1700417e-10 | S49: =$AA$16 -> 2265.2085 | T49: =(4.17*10^13*$T$16*$U$16^0.5*EXP(-67837/S49))/'Task2A)values_PHI_dependent'!$D$14*'Task2A)values_PHI_dependent'!$D$5*10^-6 -> 1.0143836e-10 | U49: =$AA$17 -> 2249.1475 | V49: =(4.17*10^13*$T$17*$U$17^0.5*EXP(-67837/U49))/'Task2A)values_PHI_dependent'!$D$14*'Task2A)values_PHI_dependent'!$D$5*10^-6 -> 8.6898401e-11 | W49: =$AA$18 -> 2233.0026 | X49: =(4.17*10^13*$T$18*U$18^0.5*EXP(-67837/W49))/'Task2A)values_PHI_dependent'!$D$14*'Task2A)values_PHI_dependent'!$D$5*10^-6 -> 7.3670196e-11 | Y49: =$AA$19 -> 2150.9481 | Z49: =(4.17*10^13*$T$19*$U$19^0.5*EXP(-67837/Y49))/'Task2A)values_PHI_dependent'!$D$14*'Task2A)values_PHI_dependent'!$D$5*10^-6 -> 2.8351004e-11
M50: 1 | N50: 12 | O50: =O49*(N50/N49)^$N$27 -> 2358.7523 | P50: =(4.17*10^13*$T$14*$U$14^0.5*EXP(-67837/O50))/'Task2A)values_PHI_dependent'!$D$14*'Task2A)values_PHI_dependent'!$D$5*10^-6 -> 2.8794551e-10 | Q50: =Q49*(N50/N49)^$N$27 -> 2342.4264 | R50: =(4.17*10^13*$T$15*$U$15^0.5*EXP(-67837/Q50))/'Task2A)values_PHI_dependent'!$D$14*'Task2A)values_PHI_dependent'!$D$5*10^-6 -> 2.5458879e-10 | S50: =S49*(N50/N49)^$N$27 -> 2326.0184 | T50: =(4.17*10^13*$T$16*$U$16^0.5*EXP(-67837/S50))/'Task2A)values_PHI_dependent'!$D$14*'Task2A)values_PHI_dependent'!$D$5*10^-6 -> 2.2193302e-10 | U50: =U49*(N50/N49)^$N$27 -> 2309.5263 | V50: =(4.17*10^13*$T$17*$U$17^0.5*EXP(-67837/U50))/'Task2A)values_PHI_dependent'!$D$14*'Task2A)values_PHI_dependent'!$D$5*10^-6 -> 1.9118751e-10 | W50: =W49*(N50/N49)^$N$27 -> 2292.948 | X50: =(4.17*10^13*$T$18*U$18^0.5*EXP(-67837/W50))/'Task2A)values_PHI_dependent'!$D$14*'Task2A)values_PHI_dependent'!$D$5*10^-6 -> 1.6301047e-10 | Y50: =Y49*(N50/N49)^$N$27 -> 2208.6907 | Z50: =(4.17*10^13*$T$19*$U$19^0.5*EXP(-67837/Y50))/'Task2A)values_PHI_dependent'!$D$14*'Task2A)values_PHI_dependent'!$D$5*10^-6 -> 6.4662174e-11
M51: 2 | N51: 14 | O51: =O50*(N51/N50)^$N$27 -> 2412.1797 | P51: =(4.17*10^13*$T$14*$U$14^0.5*EXP(-67837/O51))/'Task2A)values_PHI_dependent'!$D$14*'Task2A)values_PHI_dependent'!$D$5*10^-6 -> 5.4444638e-10 | Q51: =Q50*(N51/N50)^$N$27 -> 2395.484 | R51: =(4.17*10^13*$T$15*$U$15^0.5*EXP(-67837/Q51))/'Task2A)values_PHI_dependent'!$D$14*'Task2A)values_PHI_dependent'!$D$5*10^-6 -> 4.8351752e-10 | S51: =S50*(N51/N50)^$N$27 -> 2378.7043 | T51: =(4.17*10^13*$T$16*$U$16^0.5*EXP(-67837/S51))/'Task2A)values_PHI_dependent'!$D$14*'Task2A)values_PHI_dependent'!$D$5*10^-6 -> 4.2340885e-10 | U51: =U50*(N51/N50)^$N$27 -> 2361.8386 | V51: =(4.17*10^13*$T$17*$U$17^0.5*EXP(-67837/U51))/'Task2A)values_PHI_dependent'!$D$14*'Task2A)values_PHI_dependent'!$D$5*10^-6 -> 3.6643828e-10 | W51: =W50*(N51/N50)^$N$27 -> 2344.8848 | X51: =(4.17*10^13*$T$18*U$18^0.5*EXP(-67837/W51))/'Task2A)values_PHI_dependent'!$D$14*'Task2A)values_PHI_dependent'!$D$5*10^-6 -> 3.1390601e-10 | Y51: =Y50*(N51/N50)^$N$27 -> 2258.719 | Z51: =(4.17*10^13*$T$19*$U$19^0.5*EXP(-67837/Y51))/'Task2A)values_PHI_dependent'!$D$14*'Task2A)values_PHI_dependent'!$D$5*10^-6 -> 1.2767056e-10
M52: 3 | N52: 16 | O52: =O51*(N52/N51)^$N$27 -> 2459.4377 | P52: =(4.17*10^13*$T$14*$U$14^0.5*EXP(-67837/O52))/'Task2A)values_PHI_dependent'!$D$14*'Task2A)values_PHI_dependent'!$D$5*10^-6 -> 9.3462635e-10 | Q52: =Q51*(N52/N51)^$N$27 -> 2442.415 | R52: =(4.17*10^13*$T$15*$U$15^0.5*EXP(-67837/Q52))/'Task2A)values_PHI_dependent'!$D$14*'Task2A)values_PHI_dependent'!$D$5*10^-6 -> 8.3316453e-10 | S52: =S51*(N52/N51)^$N$27 -> 2425.3066 | T52: =(4.17*10^13*$T$16*$U$16^0.5*EXP(-67837/S52))/'Task2A)values_PHI_dependent'!$D$14*'Task2A)values_PHI_dependent'!$D$5*10^-6 -> 7.3239524e-10 | U52: =U51*(N52/N51)^$N$27 -> 2408.1105 | V52: =(4.17*10^13*$T$17*$U$17^0.5*EXP(-67837/U52))/'Task2A)values_PHI_dependent'!$D$14*'Task2A)values_PHI_dependent'!$D$5*10^-6 -> 6.3633505e-10 | W52: =W51*(N52/N51)^$N$27 -> 2390.8245 | X52: =(4.17*10^13*$T$18*U$18^0.5*EXP(-67837/W52))/'Task2A)values_PHI_dependent'!$D$14*'Task2A)values_PHI_dependent'!$D$5*10^-6 -> 5.4729012e-10 | Y52: =Y51*(N52/N51)^$N$27 -> 2302.9706 | Z52: =(4.17*10^13*$T$19*$U$19^0.5*EXP(-67837/Y52))/'Task2A)values_PHI_dependent'!$D$14*'Task2A)values_PHI_dependent'!$D$5*10^-6 -> 2.2736225e-10
M53: 4 | N53: 18 | O53: =O52*(N53/N52)^$N$27 -> 2501.8902 | P53: =(4.17*10^13*$T$14*$U$14^0.5*EXP(-67837/O53))/'Task2A)values_PHI_dependent'!$D$14*'Task2A)values_PHI_dependent'!$D$5*10^-6 -> 1.4924408e-09 | Q53: =Q52*(N53/N52)^$N$27 -> 2484.5736 | R53: =(4.17*10^13*$T$15*$U$15^0.5*EXP(-67837/Q53))/'Task2A)values_PHI_dependent'!$D$14*'Task2A)values_PHI_dependent'!$D$5*10^-6 -> 1.3347703e-09 | S53: =S52*(N53/N52)^$N$27 -> 2467.1699 | T53: =(4.17*10^13*$T$16*$U$16^0.5*EXP(-67837/S53))/'Task2A)values_PHI_dependent'!$D$14*'Task2A)values_PHI_dependent'!$D$5*10^-6 -> 1.1772402e-09 | U53: =U52*(N53/N52)^$N$27 -> 2449.677 | V53: =(4.17*10^13*$T$17*$U$17^0.5*EXP(-67837/U53))/'Task2A)values_PHI_dependent'!$D$14*'Task2A)values_PHI_dependent'!$D$5*10^-6 -> 1.026307e-09 | W53: =W52*(N53/N52)^$N$27 -> 2432.0926 | X53: =(4.17*10^13*$T$18*U$18^0.5*EXP(-67837/W53))/'Task2A)values_PHI_dependent'!$D$14*'Task2A)values_PHI_dependent'!$D$5*10^-6 -> 8.8574755e-10 | Y53: =Y52*(N53/N52)^$N$27 -> 2342.7223 | Z53: =(4.17*10^13*$T$19*$U$19^0.5*EXP(-67837/Y53))/'Task2A)values_PHI_dependent'!$D$14*'Task2A)values_PHI_dependent'!$D$5*10^-6 -> 3.747893e-10
M54: 5 | N54: 20 | O54: =O53*(N54/N53)^$N$27 -> 2540.4858 | P54: =(4.17*10^13*$T$14*$U$14^0.5*EXP(-67837/O54))/'Task2A)values_PHI_dependent'!$D$14*'Task2A)values_PHI_dependent'!$D$5*10^-6 -> 2.2531721e-09 | Q54: =Q53*(N54/N53)^$N$27 -> 2522.9021 | R54: =(4.17*10^13*$T$15*$U$15^0.5*EXP(-67837/Q54))/'Task2A)values_PHI_dependent'!$D$14*'Task2A)values_PHI_dependent'!$D$5*10^-6 -> 2.0209269e-09 | S54: =S53*(N54/N53)^$N$27 -> 2505.2299 | T54: =(4.17*10^13*$T$16*$U$16^0.5*EXP(-67837/S54))/'Task2A)values_PHI_dependent'!$D$14*'Task2A)values_PHI_dependent'!$D$5*10^-6 -> 1.7876393e-09 | U54: =U53*(N54/N53)^$N$27 -> 2487.4671 | V54: =(4.17*10^13*$T$17*$U$17^0.5*EXP(-67837/U54))/'Task2A)values_PHI_dependent'!$D$14*'Task2A)values_PHI_dependent'!$D$5*10^-6 -> 1.563103e-09 | W54: =W53*(N54/N53)^$N$27 -> 2469.6115 | X54: =(4.17*10^13*$T$18*U$18^0.5*EXP(-67837/W54))/'Task2A)values_PHI_dependent'!$D$14*'Task2A)values_PHI_dependent'!$D$5*10^-6 -> 1.3531355e-09 | Y54: =Y53*(N54/N53)^$N$27 -> 2378.8624 | Z54: =(4.17*10^13*$T$19*$U$19^0.5*EXP(-67837/Y54))/'Task2A)values_PHI_dependent'!$D$14*'Task2A)values_PHI_dependent'!$D$5*10^-6 -> 5.818874e-10
M55: 6 | N55: 22 | O55: =O54*(N55/N54)^$N$27 -> 2575.9124 | P55: =(4.17*10^13*$T$14*$U$14^0.5*EXP(-67837/O55))/'Task2A)values_PHI_dependent'!$D$14*'Task2A)values_PHI_dependent'!$D$5*10^-6 -> 3.2530005e-09 | Q55: =Q54*(N55/N54)^$N$27 -> 2558.0835 | R55: =(4.17*10^13*$T$15*$U$15^0.5*EXP(-67837/Q55))/'Task2A)values_PHI_dependent'!$D$14*'Task2A)values_PHI_dependent'!$D$5*10^-6 -> 2.9251757e-09 | S55: =S54*(N55/N54)^$N$27 -> 2540.1649 | T55: =(4.17*10^13*$T$16*$U$16^0.5*EXP(-67837/S55))/'Task2A)values_PHI_dependent'!$D$14*'Task2A)values_PHI_dependent'!$D$5*10^-6 -> 2.594264e-09 | U55: =U54*(N55/N54)^$N$27 -> 2522.1544 | V55: =(4.17*10^13*$T$17*$U$17^0.5*EXP(-67837/U55))/'Task2A)values_PHI_dependent'!$D$14*'Task2A)values_PHI_dependent'!$D$5*10^-6 -> 2.274452e-09 | W55: =W54*(N55/N54)^$N$27 -> 2504.0497 | X55: =(4.17*10^13*$T$18*U$18^0.5*EXP(-67837/W55))/'Task2A)values_PHI_dependent'!$D$14*'Task2A)values_PHI_dependent'!$D$5*10^-6 -> 1.9742775e-09 | Y55: =Y54*(N55/N54)^$N$27 -> 2412.0353 | Z55: =(4.17*10^13*$T$19*$U$19^0.5*EXP(-67837/Y55))/'Task2A)values_PHI_dependent'!$D$14*'Task2A)values_PHI_dependent'!$D$5*10^-6 -> 8.6132031e-10
M56: 7 | N56: 24 | O56: =O55*(N56/N55)^$N$27 -> 2608.6856 | P56: =(4.17*10^13*$T$14*$U$14^0.5*EXP(-67837/O56))/'Task2A)values_PHI_dependent'!$D$14*'Task2A)values_PHI_dependent'!$D$5*10^-6 -> 4.5286714e-09 | Q56: =Q55*(N56/N55)^$N$27 -> 2590.6298 | R56: =(4.17*10^13*$T$15*$U$15^0.5*EXP(-67837/Q56))/'Task2A)values_PHI_dependent'!$D$14*'Task2A)values_PHI_dependent'!$D$5*10^-6 -> 4.0816907e-09 | S56: =S55*(N56/N55)^$N$27 -> 2572.4832 | T56: =(4.17*10^13*$T$16*$U$16^0.5*EXP(-67837/S56))/'Task2A)values_PHI_dependent'!$D$14*'Task2A)values_PHI_dependent'!$D$5*10^-6 -> 3.628465e-09 | U56: =U55*(N56/N55)^$N$27 -> 2554.2436 | V56: =(4.17*10^13*$T$17*$U$17^0.5*EXP(-67837/U56))/'Task2A)values_PHI_dependent'!$D$14*'Task2A)values_PHI_dependent'!$D$5*10^-6 -> 3.1887909e-09 | W56: =W55*(N56/N55)^$N$27 -> 2535.9086 | X56: =(4.17*10^13*$T$18*U$18^0.5*EXP(-67837/W56))/'Task2A)values_PHI_dependent'!$D$14*'Task2A)values_PHI_dependent'!$D$5*10^-6 -> 2.7747156e-09 | Y56: =Y55*(N56/N55)^$N$27 -> 2442.7234 | Z56: =(4.17*10^13*$T$19*$U$19^0.5*EXP(-67837/Y56))/'Task2A)values_PHI_dependent'!$D$14*'Task2A)values_PHI_dependent'!$D$5*10^-6 -> 1.2263478e-09
M57: 8 | N57: 26 | O57: =O56*(N57/N56)^$N$27 -> 2639.2021 | P57: =(4.17*10^13*$T$14*$U$14^0.5*EXP(-67837/O57))/'Task2A)values_PHI_dependent'!$D$14*'Task2A)values_PHI_dependent'!$D$5*10^-6 -> 6.1172345e-09 | Q57: =Q56*(N57/N56)^$N$27 -> 2620.9351 | R57: =(4.17*10^13*$T$15*$U$15^0.5*EXP(-67837/Q57))/'Task2A)values_PHI_dependent'!$D$14*'Task2A)values_PHI_dependent'!$D$5*10^-6 -> 5.5250287e-09 | S57: =S56*(N57/N56)^$N$27 -> 2602.5762 | T57: =(4.17*10^13*$T$16*$U$16^0.5*EXP(-67837/S57))/'Task2A)values_PHI_dependent'!$D$14*'Task2A)values_PHI_dependent'!$D$5*10^-6 -> 4.922038e-09 | U57: =U56*(N57/N56)^$N$27 -> 2584.1232 | V57: =(4.17*10^13*$T$17*$U$17^0.5*EXP(-67837/U57))/'Task2A)values_PHI_dependent'!$D$14*'Task2A)values_PHI_dependent'!$D$5*10^-6 -> 4.3350457e-09 | W57: =W56*(N57/N56)^$N$27 -> 2565.5737 | X57: =(4.17*10^13*$T$18*U$18^0.5*EXP(-67837/W57))/'Task2A)values_PHI_dependent'!$D$14*'Task2A)values_PHI_dependent'!$D$5*10^-6 -> 3.7805099e-09 | Y57: =Y56*(N57/N56)^$N$27 -> 2471.2985 | Z57: =(4.17*10^13*$T$19*$U$19^0.5*EXP(-67837/Y57))/'Task2A)values_PHI_dependent'!$D$14*'Task2A)values_PHI_dependent'!$D$5*10^-6 -> 1.6907137e-09
M58: 9 | N58: 28 | O58: =O57*(N58/N57)^$N$27 -> 2667.7741 | P58: =(4.17*10^13*$T$14*$U$14^0.5*EXP(-67837/O58))/'Task2A)values_PHI_dependent'!$D$14*'Task2A)values_PHI_dependent'!$D$5*10^-6 -> 8.0558394e-09 | Q58: =Q57*(N58/N57)^$N$27 -> 2649.3093 | R58: =(4.17*10^13*$T$15*$U$15^0.5*EXP(-67837/Q58))/'Task2A)values_PHI_dependent'!$D$14*'Task2A)values_PHI_dependent'!$D$5*10^-6 -> 7.2899319e-09 | S58: =S57*(N58/N57)^$N$27 -> 2630.7517 | T58: =(4.17*10^13*$T$16*$U$16^0.5*EXP(-67837/S58))/'Task2A)values_PHI_dependent'!$D$14*'Task2A)values_PHI_dependent'!$D$5*10^-6 -> 6.5070348e-09 | U58: =U57*(N58/N57)^$N$27 -> 2612.099 | V58: =(4.17*10^13*$T$17*$U$17^0.5*EXP(-67837/U58))/'Task2A)values_PHI_dependent'!$D$14*'Task2A)values_PHI_dependent'!$D$5*10^-6 -> 5.742455e-09 | W58: =W57*(N58/N57)^$N$27 -> 2593.3487 | X58: =(4.17*10^13*$T$18*U$18^0.5*EXP(-67837/W58))/'Task2A)values_PHI_dependent'!$D$14*'Task2A)values_PHI_dependent'!$D$5*10^-6 -> 5.0180748e-09 | Y58: =Y57*(N58/N57)^$N$27 -> 2498.0528 | Z58: =(4.17*10^13*$T$19*$U$19^0.5*EXP(-67837/Y58))/'Task2A)values_PHI_dependent'!$D$14*'Task2A)values_PHI_dependent'!$D$5*10^-6 -> 2.2685509e-09
M59: 10 | N59: 30 | O59: =O58*(N59/N58)^$N$27 -> 2694.652 | P59: =(4.17*10^13*$T$14*$U$14^0.5*EXP(-67837/O59))/'Task2A)values_PHI_dependent'!$D$14*'Task2A)values_PHI_dependent'!$D$5*10^-6 -> 1.0381575e-08 | Q59: =Q58*(N59/N58)^$N$27 -> 2676.0012 | R59: =(4.17*10^13*$T$15*$U$15^0.5*EXP(-67837/Q59))/'Task2A)values_PHI_dependent'!$D$14*'Task2A)values_PHI_dependent'!$D$5*10^-6 -> 9.4111707e-09 | S59: =S58*(N59/N58)^$N$27 -> 2657.2566 | T59: =(4.17*10^13*$T$16*$U$16^0.5*EXP(-67837/S59))/'Task2A)values_PHI_dependent'!$D$14*'Task2A)values_PHI_dependent'!$D$5*10^-6 -> 8.4156129e-09 | U59: =U58*(N59/N58)^$N$27 -> 2638.4159 | V59: =(4.17*10^13*$T$17*$U$17^0.5*EXP(-67837/U59))/'Task2A)values_PHI_dependent'!$D$14*'Task2A)values_PHI_dependent'!$D$5*10^-6 -> 7.4404274e-09 | W59: =W58*(N59/N58)^$N$27 -> 2619.4767 | X59: =(4.17*10^13*$T$18*U$18^0.5*EXP(-67837/W59))/'Task2A)values_PHI_dependent'!$D$14*'Task2A)values_PHI_dependent'!$D$5*10^-6 -> 6.5140457e-09 | Y59: =Y58*(N59/N58)^$N$27 -> 2523.2207 | Z59: =(4.17*10^13*$T$19*$U$19^0.5*EXP(-67837/Y59))/'Task2A)values_PHI_dependent'!$D$14*'Task2A)values_PHI_dependent'!$D$5*10^-6 -> 2.9743008e-09
M60: 11 | N60: 32 | O60: =O59*(N60/N59)^$N$27 -> 2720.0396 | P60: =(4.17*10^13*$T$14*$U$14^0.5*EXP(-67837/O60))/'Task2A)values_PHI_dependent'!$D$14*'Task2A)values_PHI_dependent'!$D$5*10^-6 -> 1.3131344e-08 | Q60: =Q59*(N60/N59)^$N$27 -> 2701.2131 | R60: =(4.17*10^13*$T$15*$U$15^0.5*EXP(-67837/Q60))/'Task2A)values_PHI_dependent'!$D$14*'Task2A)values_PHI_dependent'!$D$5*10^-6 -> 1.1923419e-08 | S60: =S59*(N60/N59)^$N$27 -> 2682.2919 | T60: =(4.17*10^13*$T$16*$U$16^0.5*EXP(-67837/S60))/'Task2A)values_PHI_dependent'!$D$14*'Task2A)values_PHI_dependent'!$D$5*10^-6 -> 1.0679914e-08 | U60: =U59*(N60/N59)^$N$27 -> 2663.2737 | V60: =(4.17*10^13*$T$17*$U$17^0.5*EXP(-67837/U60))/'Task2A)values_PHI_dependent'!$D$14*'Task2A)values_PHI_dependent'!$D$5*10^-6 -> 9.4584255e-09 | W60: =W59*(N60/N59)^$N$27 -> 2644.1561 | X60: =(4.17*10^13*$T$18*U$18^0.5*EXP(-67837/W60))/'Task2A)values_PHI_dependent'!$D$14*'Task2A)values_PHI_dependent'!$D$5*10^-6 -> 8.2951701e-09 | Y60: =Y59*(N60/N59)^$N$27 -> 2546.9932 | Z60: =(4.17*10^13*$T$19*$U$19^0.5*EXP(-67837/Y60))/'Task2A)values_PHI_dependent'!$D$14*'Task2A)values_PHI_dependent'!$D$5*10^-6 -> 3.8226449e-09
M61: 12 | N61: 34 | O61: =O60*(N61/N60)^$N$27 -> 2744.1055 | P61: =(4.17*10^13*$T$14*$U$14^0.5*EXP(-67837/O61))/'Task2A)values_PHI_dependent'!$D$14*'Task2A)values_PHI_dependent'!$D$5*10^-6 -> 1.6341761e-08 | Q61: =Q60*(N61/N60)^$N$27 -> 2725.1124 | R61: =(4.17*10^13*$T$15*$U$15^0.5*EXP(-67837/Q61))/'Task2A)values_PHI_dependent'!$D$14*'Task2A)values_PHI_dependent'!$D$5*10^-6 -> 1.4861154e-08 | S61: =S60*(N61/N60)^$N$27 -> 2706.0238 | T61: =(4.17*10^13*$T$16*$U$16^0.5*EXP(-67837/S61))/'Task2A)values_PHI_dependent'!$D$14*'Task2A)values_PHI_dependent'!$D$5*10^-6 -> 1.3331967e-08 | U61: =U60*(N61/N60)^$N$27 -> 2686.8374 | V61: =(4.17*10^13*$T$17*$U$17^0.5*EXP(-67837/U61))/'Task2A)values_PHI_dependent'!$D$14*'Task2A)values_PHI_dependent'!$D$5*10^-6 -> 1.1825872e-08 | W61: =W60*(N61/N60)^$N$27 -> 2667.5506 | X61: =(4.17*10^13*$T$18*U$18^0.5*EXP(-67837/W61))/'Task2A)values_PHI_dependent'!$D$14*'Task2A)values_PHI_dependent'!$D$5*10^-6 -> 1.0388218e-08 | Y61: =Y60*(N61/N60)^$N$27 -> 2569.528 | Z61: =(4.17*10^13*$T$19*$U$19^0.5*EXP(-67837/Y61))/'Task2A)values_PHI_dependent'!$D$14*'Task2A)values_PHI_dependent'!$D$5*10^-6 -> 4.828446e-09
... M64: 16 | N64: 40 | O64: =O63*(N64/N63)^$N$27 -> 2809.6756 | P64: =(4.17*10^13*$T$14*$U$14^0.5*EXP(-67837/O64))/'Task2A)values_PHI_dependent'!$D$14*'Task2A)values_PHI_dependent'!$D$5*10^-6 -> 2.9097242e-08 | Q64: =Q63*(N64/N63)^$N$27 -> 2790.2286 | R64: =(4.17*10^13*$T$15*$U$15^0.5*EXP(-67837/Q64))/'Task2A)values_PHI_dependent'!$D$14*'Task2A)values_PHI_dependent'!$D$5*10^-6 -> 2.6567566e-08 | S64: =S63*(N64/N63)^$N$27 -> 2770.6839 | T64: =(4.17*10^13*$T$16*$U$16^0.5*EXP(-67837/S64))/'Task2A)values_PHI_dependent'!$D$14*'Task2A)values_PHI_dependent'!$D$5*10^-6 -> 2.3931681e-08 | U64: =U63*(N64/N63)^$N$27 -> 2751.039 | V64: =(4.17*10^13*$T$17*$U$17^0.5*EXP(-67837/U64))/'Task2A)values_PHI_dependent'!$D$14*'Task2A)values_PHI_dependent'!$D$5*10^-6 -> 2.1317021e-08 | W64: =W63*(N64/N63)^$N$27 -> 2731.2914 | X64: =(4.17*10^13*$T$18*U$18^0.5*EXP(-67837/W64))/'Task2A)values_PHI_dependent'!$D$14*'Task2A)values_PHI_dependent'!$D$5*10^-6 -> 1.8805485e-08 | Y64: =Y63*(N64/N63)^$N$27 -> 2630.9266 | Z64: =(4.17*10^13*$T$19*$U$19^0.5*EXP(-67837/Y64))/'Task2A)values_PHI_dependent'!$D$14*'Task2A)values_PHI_dependent'!$D$5*10^-6 -> 8.9409421e-09
O67: PHI 0.8 | Q67: PHI 0.75 | S67: PHI 0.7 | U67: PHI 0.65 | W67: PHI 0.6
M68: deg | N68: PRESSURE[bar] | O68: TEMP [K] | P68: NOX [Kmol/°] | Q68: TEMP [K] | R68: NOX [Kmol/°] | S68: TEMP [K] | T68: NOX [Kmol/°] | U68: TEMP [K] | V68: NOX [Kmol/°] | W68: TEMP [K] | X68: NOX [Kmol/°] | Y68: e AT EXPONENT
M69: 0 | N69: 10 | O69: =$AA$20 -> 2066.4957 | P69: =(4.17*10^13*$T$20*$U$20^0.5*EXP(-67837/O69))/'Task2A)values_PHI_dependent'!$D$14*'Task2A)values_PHI_dependent'!$D$5*10^-6 -> 9.0327935e-12 | Q69: =$AA$21 -> 1979.4127 | R69: =(4.17*10^13*$T$21*$U$21^0.5*EXP(-67837/Q69))/'Task2A)values_PHI_dependent'!$D$14*'Task2A)values_PHI_dependent'!$D$5*10^-6 -> 2.3856494e-12 | S69: =$AA$22 -> 1889.5021 | T69: =(4.17*10^13*$T$22*$U$22^0.5*EXP(-67837/S69))/'Task2A)values_PHI_dependent'!$D$14*'Task2A)values_PHI_dependent'!$D$5*10^-6 -> 5.1227356e-13 | U69: =$AA$23 -> 1796.628 | V69: =(4.17*10^13*$T$23*$U$23^0.5*EXP(-67837/U69))/'Task2A)values_PHI_dependent'!$D$14*'Task2A)values_PHI_dependent'!$D$5*10^-6 -> 8.6597861e-14 | W69: =$AA$24 -> 1700.7428 | X69: =(4.17*10^13*$T$24*$U$24^0.5*EXP(-67837/W69))/'Task2A)values_PHI_dependent'!$D$14*'Task2A)values_PHI_dependent'!$D$5*10^-6 -> 1.1029306e-14
M70: 1 | N70: 12 | O70: =O69*(N70/N69)^$N$27 -> 2121.9711 | P70: =(4.17*10^13*$T$20*$U$20^0.5*EXP(-67837/O70))/'Task2A)values_PHI_dependent'!$D$14*'Task2A)values_PHI_dependent'!$D$5*10^-6 -> 2.1307761e-11 | Q70: =Q69*(N70/N69)^$N$27 -> 2032.5504 | R70: =(4.17*10^13*$T$15*$U$15^0.5*EXP(-67837/Q70))/'Task2A)values_PHI_dependent'!$D$14*'Task2A)values_PHI_dependent'!$D$5*10^-6 -> 3.0786155e-12 | S70: =S69*(N70/N69)^$N$27 -> 1940.2261 | T70: =(4.17*10^13*$T$22*$U$22^0.5*EXP(-67837/S70))/'Task2A)values_PHI_dependent'!$D$14*'Task2A)values_PHI_dependent'!$D$5*10^-6 -> 1.3095761e-12 | U70: =U69*(N70/N69)^$N$27 -> 1844.8588 | V70: =(4.17*10^13*$T$23*$U$23^0.5*EXP(-67837/U70))/'Task2A)values_PHI_dependent'!$D$14*'Task2A)values_PHI_dependent'!$D$5*10^-6 -> 2.3238482e-13 | W70: =W69*(N70/N69)^$N$27 -> 1746.3996 | X70: =(4.17*10^13*$T$24*$U$24^0.5*EXP(-67837/W70))/'Task2A)values_PHI_dependent'!$D$14*'Task2A)values_PHI_dependent'!$D$5*10^-6 -> 3.1290913e-14
M71: 2 | N71: 14 | O71: =O70*(N71/N70)^$N$27 -> 2170.0352 | P71: =(4.17*10^13*$T$20*$U$20^0.5*EXP(-67837/O71))/'Task2A)values_PHI_dependent'!$D$14*'Task2A)values_PHI_dependent'!$D$5*10^-6 -> 4.325658e-11 | Q71: =Q70*(N71/N70)^$N$27 -> 2078.589 | R71: =(4.17*10^13*$T$15*$U$15^0.5*EXP(-67837/Q71))/'Task2A)values_PHI_dependent'!$D$14*'Task2A)values_PHI_dependent'!$D$5*10^-6 -> 6.4476094e-12 | S71: =S70*(N71/N70)^$N$27 -> 1984.1735 | T71: =(4.17*10^13*$T$22*$U$22^0.5*EXP(-67837/S71))/'Task2A)values_PHI_dependent'!$D$14*'Task2A)values_PHI_dependent'!$D$5*10^-6 -> 2.8408652e-12 | U71: =U70*(N71/N70)^$N$27 -> 1886.6461 | V71: =(4.17*10^13*$T$23*$U$23^0.5*EXP(-67837/U71))/'Task2A)values_PHI_dependent'!$D$14*'Task2A)values_PHI_dependent'!$D$5*10^-6 -> 5.2470259e-13 | W71: =W70*(N71/N70)^$N$27 -> 1785.9567 | X71: =(4.17*10^13*$T$24*$U$24^0.5*EXP(-67837/W71))/'Task2A)values_PHI_dependent'!$D$14*'Task2A)values_PHI_dependent'!$D$5*10^-6 -> 7.3971602e-14
M72: 3 | N72: 16 | O72: =O71*(N72/N71)^$N$27 -> 2212.5493 | P72: =(4.17*10^13*$T$20*$U$20^0.5*EXP(-67837/O72))/'Task2A)values_PHI_dependent'!$D$14*'Task2A)values_PHI_dependent'!$D$5*10^-6 -> 7.8871898e-11 | Q72: =Q71*(N72/N71)^$N$27 -> 2119.3116 | R72: =(4.17*10^13*$T$15*$U$15^0.5*EXP(-67837/Q72))/'Task2A)values_PHI_dependent'!$D$14*'Task2A)values_PHI_dependent'!$D$5*10^-6 -> 1.2071067e-11 | S72: =S71*(N72/N71)^$N$27 -> 2023.0464 | T72: =(4.17*10^13*$T$22*$U$22^0.5*EXP(-67837/S72))/'Task2A)values_PHI_dependent'!$D$14*'Task2A)values_PHI_dependent'!$D$5*10^-6 -> 5.4797025e-12 | U72: =U71*(N72/N71)^$N$27 -> 1923.6082 | V72: =(4.17*10^13*$T$23*$U$23^0.5*EXP(-67837/U72))/'Task2A)values_PHI_dependent'!$D$14*'Task2A)values_PHI_dependent'!$D$5*10^-6 -> 1.0470516e-12 | W72: =W71*(N72/N71)^$N$27 -> 1820.9462 | X72: =(4.17*10^13*$T$24*$U$24^0.5*EXP(-67837/W72))/'Task2A)values_PHI_dependent'!$D$14*'Task2A)values_PHI_dependent'!$D$5*10^-6 -> 1.5347459e-13
M73: 4 | N73: 18 | O73: =O72*(N73/N72)^$N$27 -> 2250.7403 | P73: =(4.17*10^13*$T$20*$U$20^0.5*EXP(-67837/O73))/'Task2A)values_PHI_dependent'!$D$14*'Task2A)values_PHI_dependent'!$D$5*10^-6 -> 1.3269732e-10 | Q73: =Q72*(N73/N72)^$N$27 -> 2155.8931 | R73: =(4.17*10^13*$T$15*$U$15^0.5*EXP(-67837/Q73))/'Task2A)values_PHI_dependent'!$D$14*'Task2A)values_PHI_dependent'!$D$5*10^-6 -> 2.0779046e-11 | S73: =S72*(N73/N72)^$N$27 -> 2057.9663 | T73: =(4.17*10^13*$T$22*$U$22^0.5*EXP(-67837/S73))/'Task2A)values_PHI_dependent'!$D$14*'Task2A)values_PHI_dependent'!$D$5*10^-6 -> 9.6796825e-12 | U73: =U72*(N73/N72)^$N$27 -> 1956.8117 | V73: =(4.17*10^13*$T$23*$U$23^0.5*EXP(-67837/U73))/'Task2A)values_PHI_dependent'!$D$14*'Task2A)values_PHI_dependent'!$D$5*10^-6 -> 1.9047847e-12 | W73: =W72*(N73/N72)^$N$27 -> 1852.3776 | X73: =(4.17*10^13*$T$24*$U$24^0.5*EXP(-67837/W73))/'Task2A)values_PHI_dependent'!$D$14*'Task2A)values_PHI_dependent'!$D$5*10^-6 -> 2.8877913e-13
M74: 5 | N74: 20 | O74: =O73*(N74/N73)^$N$27 -> 2285.4615 | P74: =(4.17*10^13*$T$20*$U$20^0.5*EXP(-67837/O74))/'Task2A)values_PHI_dependent'!$D$14*'Task2A)values_PHI_dependent'!$D$5*10^-6 -> 2.0975954e-10 | Q74: =Q73*(N74/N73)^$N$27 -> 2189.1511 | R74: =(4.17*10^13*$T$15*$U$15^0.5*EXP(-67837/Q74))/'Task2A)values_PHI_dependent'!$D$14*'Task2A)values_PHI_dependent'!$D$5*10^-6 -> 3.3514587e-11 | S74: =S73*(N74/N73)^$N$27 -> 2089.7136 | T74: =(4.17*10^13*$T$22*$U$22^0.5*EXP(-67837/S74))/'Task2A)values_PHI_dependent'!$D$14*'Task2A)values_PHI_dependent'!$D$5*10^-6 -> 1.5971594e-11 | U74: =U73*(N74/N73)^$N$27 -> 1986.9986 | V74: =(4.17*10^13*$T$23*$U$23^0.5*EXP(-67837/U74))/'Task2A)values_PHI_dependent'!$D$14*'Task2A)values_PHI_dependent'!$D$5*10^-6 -> 3.2253418e-12 | W74: =W73*(N74/N73)^$N$27 -> 1880.9535 | X74: =(4.17*10^13*$T$24*$U$24^0.5*EXP(-67837/W74))/'Task2A)values_PHI_dependent'!$D$14*'Task2A)values_PHI_dependent'!$D$5*10^-6 -> 5.0372218e-13
M75: 6 | N75: 22 | O75: =O74*(N75/N74)^$N$27 -> 2317.3318 | P75: =(4.17*10^13*$T$20*$U$20^0.5*EXP(-67837/O75))/'Task2A)values_PHI_dependent'!$D$14*'Task2A)values_PHI_dependent'!$D$5*10^-6 -> 3.1550645e-10 | Q75: =Q74*(N75/N74)^$N$27 -> 2219.6785 | R75: =(4.17*10^13*$T$15*$U$15^0.5*EXP(-67837/Q75))/'Task2A)values_PHI_dependent'!$D$14*'Task2A)values_PHI_dependent'!$D$5*10^-6 -> 5.132394e-11 | S75: =S74*(N75/N74)^$N$27 -> 2118.8543 | T75: =(4.17*10^13*$T$22*$U$22^0.5*EXP(-67837/S75))/'Task2A)values_PHI_dependent'!$D$14*'Task2A)values_PHI_dependent'!$D$5*10^-6 -> 2.4959828e-11 | U75: =U74*(N75/N74)^$N$27 -> 2014.7069 | V75: =(4.17*10^13*$T$23*$U$23^0.5*EXP(-67837/U75))/'Task2A)values_PHI_dependent'!$D$14*'Task2A)values_PHI_dependent'!$D$5*10^-6 -> 5.1581278e-12 | W75: =W74*(N75/N74)^$N$27 -> 1907.183 | X75: =(4.17*10^13*$T$24*$U$24^0.5*EXP(-67837/W75))/'Task2A)values_PHI_dependent'!$D$14*'Task2A)values_PHI_dependent'!$D$5*10^-6 -> 8.2718738e-13
M76: 7 | N76: 24 | O76: =O75*(N76/N75)^$N$27 -> 2346.8151 | P76: =(4.17*10^13*$T$20*$U$20^0.5*EXP(-67837/O76))/'Task2A)values_PHI_dependent'!$D$14*'Task2A)values_PHI_dependent'!$D$5*10^-6 -> 4.5575168e-10 | Q76: =Q75*(N76/N75)^$N$27 -> 2247.9193 | R76: =(4.17*10^13*$T$15*$U$15^0.5*EXP(-67837/Q76))/'Task2A)values_PHI_dependent'!$D$14*'Task2A)values_PHI_dependent'!$D$5*10^-6 -> 7.5347145e-11 | S76: =S75*(N76/N75)^$N$27 -> 2145.8124 | T76: =(4.17*10^13*$T$22*$U$22^0.5*EXP(-67837/S76))/'Task2A)values_PHI_dependent'!$D$14*'Task2A)values_PHI_dependent'!$D$5*10^-6 -> 3.7318392e-11 | U76: =U75*(N76/N75)^$N$27 -> 2040.3399 | V76: =(4.17*10^13*$T$23*$U$23^0.5*EXP(-67837/U76))/'Task2A)values_PHI_dependent'!$D$14*'Task2A)values_PHI_dependent'!$D$5*10^-6 -> 7.8741438e-12 | W76: =W75*(N76/N75)^$N$27 -> 1931.448 | X76: =(4.17*10^13*$T$24*$U$24^0.5*EXP(-67837/W76))/'Task2A)values_PHI_dependent'!$D$14*'Task2A)values_PHI_dependent'!$D$5*10^-6 -> 1.2932202e-12
M77: 8 | N77: 26 | O77: =O76*(N77/N76)^$N$27 -> 2374.2682 | P77: =(4.17*10^13*$T$20*$U$20^0.5*EXP(-67837/O77))/'Task2A)values_PHI_dependent'!$D$14*'Task2A)values_PHI_dependent'!$D$5*10^-6 -> 6.3662532e-10 | Q77: =Q76*(N77/N76)^$N$27 -> 2274.2155 | R77: =(4.17*10^13*$T$15*$U$15^0.5*EXP(-67837/Q77))/'Task2A)values_PHI_dependent'!$D$14*'Task2A)values_PHI_dependent'!$D$5*10^-6 -> 1.0680915e-10 | S77: =S76*(N77/N76)^$N$27 -> 2170.9141 | T77: =(4.17*10^13*$T$22*$U$22^0.5*EXP(-67837/S77))/'Task2A)values_PHI_dependent'!$D$14*'Task2A)values_PHI_dependent'!$D$5*10^-6 -> 5.3786785e-11 | U77: =U76*(N77/N76)^$N$27 -> 2064.2079 | V77: =(4.17*10^13*$T$23*$U$23^0.5*EXP(-67837/U77))/'Task2A)values_PHI_dependent'!$D$14*'Task2A)values_PHI_dependent'!$D$5*10^-6 -> 1.1565449e-11 | W77: =W76*(N77/N76)^$N$27 -> 1954.0421 | X77: =(4.17*10^13*$T$24*$U$24^0.5*EXP(-67837/W77))/'Task2A)values_PHI_dependent'!$D$14*'Task2A)values_PHI_dependent'!$D$5*10^-6 -> 1.9410849e-12
M78: 9 | N78: 28 | O78: =O77*(N78/N77)^$N$27 -> 2399.972 | P78: =(4.17*10^13*$T$20*$U$20^0.5*EXP(-67837/O78))/'Task2A)values_PHI_dependent'!$D$14*'Task2A)values_PHI_dependent'!$D$5*10^-6 -> 8.6453038e-10 | Q78: =Q77*(N78/N77)^$N$27 -> 2298.8362 | R78: =(4.17*10^13*$T$15*$U$15^0.5*EXP(-67837/Q78))/'Task2A)values_PHI_dependent'!$D$14*'Task2A)values_PHI_dependent'!$D$5*10^-6 -> 1.4701157e-10 | S78: =S77*(N78/N77)^$N$27 -> 2194.4165 | T78: =(4.17*10^13*$T$22*$U$22^0.5*EXP(-67837/S78))/'Task2A)values_PHI_dependent'!$D$14*'Task2A)values_PHI_dependent'!$D$5*10^-6 -> 7.5165858e-11 | U78: =U77*(N78/N77)^$N$27 -> 2086.555 | V78: =(4.17*10^13*$T$23*$U$23^0.5*EXP(-67837/U78))/'Task2A)values_PHI_dependent'!$D$14*'Task2A)values_PHI_dependent'!$D$5*10^-6 -> 1.644451e-11 | W78: =W77*(N78/N77)^$N$27 -> 1975.1966 | X78: =(4.17*10^13*$T$24*$U$24^0.5*EXP(-67837/W78))/'Task2A)values_PHI_dependent'!$D$14*'Task2A)values_PHI_dependent'!$D$5*10^-6 -> 2.8152753e-12
M79: 10 | N79: 30 | O79: =O78*(N79/N78)^$N$27 -> 2424.1518 | P79: =(4.17*10^13*$T$20*$U$20^0.5*EXP(-67837/O79))/'Task2A)values_PHI_dependent'!$D$14*'Task2A)values_PHI_dependent'!$D$5*10^-6 -> 1.1461043e-09 | Q79: =Q78*(N79/N78)^$N$27 -> 2321.997 | R79: =(4.17*10^13*$T$15*$U$15^0.5*EXP(-67837/Q79))/'Task2A)values_PHI_dependent'!$D$14*'Task2A)values_PHI_dependent'!$D$5*10^-6 -> 1.9732505e-10 | S79: =S78*(N79/N78)^$N$27 -> 2216.5253 | T79: =(4.17*10^13*$T$22*$U$22^0.5*EXP(-67837/S79))/'Task2A)values_PHI_dependent'!$D$14*'Task2A)values_PHI_dependent'!$D$5*10^-6 -> 1.0231376e-10 | U79: =U78*(N79/N78)^$N$27 -> 2107.5771 | V79: =(4.17*10^13*$T$23*$U$23^0.5*EXP(-67837/U79))/'Task2A)values_PHI_dependent'!$D$14*'Task2A)values_PHI_dependent'!$D$5*10^-6 -> 2.2743476e-11 | W79: =W78*(N79/N78)^$N$27 -> 1995.0968 | X79: =(4.17*10^13*$T$24*$U$24^0.5*EXP(-67837/W79))/'Task2A)values_PHI_dependent'!$D$14*'Task2A)values_PHI_dependent'!$D$5*10^-6 -> 3.9654902e-12
M80: 11 | N80: 32 | O80: =O79*(N80/N79)^$N$27 -> 2446.991 | P80: =(4.17*10^13*$T$20*$U$20^0.5*EXP(-67837/O80))/'Task2A)values_PHI_dependent'!$D$14*'Task2A)values_PHI_dependent'!$D$5*10^-6 -> 1.4881849e-09 | Q80: =Q79*(N80/N79)^$N$27 -> 2343.8737 | R80: =(4.17*10^13*$T$15*$U$15^0.5*EXP(-67837/Q80))/'Task2A)values_PHI_dependent'!$D$14*'Task2A)values_PHI_dependent'!$D$5*10^-6 -> 2.5918233e-10 | S80: =S79*(N80/N79)^$N$27 -> 2237.4082 | T80: =(4.17*10^13*$T$22*$U$22^0.5*EXP(-67837/S80))/'Task2A)values_PHI_dependent'!$D$14*'Task2A)values_PHI_dependent'!$D$5*10^-6 -> 1.3614206e-10 | U80: =U79*(N80/N79)^$N$27 -> 2127.4336 | V80: =(4.17*10^13*$T$23*$U$23^0.5*EXP(-67837/U80))/'Task2A)values_PHI_dependent'!$D$14*'Task2A)values_PHI_dependent'!$D$5*10^-6 -> 3.0713415e-11 | W80: =W79*(N80/N79)^$N$27 -> 2013.8935 | X80: =(4.17*10^13*$T$24*$U$24^0.5*EXP(-67837/W80))/'Task2A)values_PHI_dependent'!$D$14*'Task2A)values_PHI_dependent'!$D$5*10^-6 -> 5.4465802e-12
M81: 12 | N81: 34 | O81: =O80*(N81/N80)^$N$27 -> 2468.641 | P81: =(4.17*10^13*$T$20*$U$20^0.5*EXP(-67837/O81))/'Task2A)values_PHI_dependent'!$D$14*'Task2A)values_PHI_dependent'!$D$5*10^-6 -> 1.8977808e-09 | Q81: =Q80*(N81/N80)^$N$27 -> 2364.6114 | R81: =(4.17*10^13*$T$15*$U$15^0.5*EXP(-67837/Q81))/'Task2A)values_PHI_dependent'!$D$14*'Task2A)values_PHI_dependent'!$D$5*10^-6 -> 3.3407184e-10 | S81: =S80*(N81/N80)^$N$27 -> 2257.204 | T81: =(4.17*10^13*$T$22*$U$22^0.5*EXP(-67837/S81))/'Task2A)values_PHI_dependent'!$D$14*'Task2A)values_PHI_dependent'!$D$5*10^-6 -> 1.7761196e-10 | U81: =U80*(N81/N80)^$N$27 -> 2146.2563 | V81: =(4.17*10^13*$T$23*$U$23^0.5*EXP(-67837/U81))/'Task2A)values_PHI_dependent'!$D$14*'Task2A)values_PHI_dependent'!$D$5*10^-6 -> 4.0623523e-11 | W81: =W80*(N81/N80)^$N$27 -> 2031.7117 | X81: =(4.17*10^13*$T$24*$U$24^0.5*EXP(-67837/W81))/'Task2A)values_PHI_dependent'!$D$14*'Task2A)values_PHI_dependent'!$D$5*10^-6 -> 7.3184735e-12
... M84: 16 | N84: 40 | O84: =O83*(N84/N83)^$N$27 -> 2527.6289 | P84: =(4.17*10^13*$T$20*$U$20^0.5*EXP(-67837/O84))/'Task2A)values_PHI_dependent'!$D$14*'Task2A)values_PHI_dependent'!$D$5*10^-6 -> 3.6037702e-09 | Q84: =Q83*(N84/N83)^$N$27 -> 2421.1135 | R84: =(4.17*10^13*$T$15*$U$15^0.5*EXP(-67837/Q84))/'Task2A)values_PHI_dependent'!$D$14*'Task2A)values_PHI_dependent'!$D$5*10^-6 -> 6.5253503e-10 | S84: =S83*(N84/N83)^$N$27 -> 2311.1396 | T84: =(4.17*10^13*$T$22*$U$22^0.5*EXP(-67837/S84))/'Task2A)values_PHI_dependent'!$D$14*'Task2A)values_PHI_dependent'!$D$5*10^-6 -> 3.5815579e-10 | U84: =U83*(N84/N83)^$N$27 -> 2197.5408 | V84: =(4.17*10^13*$T$23*$U$23^0.5*EXP(-67837/U84))/'Task2A)values_PHI_dependent'!$D$14*'Task2A)values_PHI_dependent'!$D$5*10^-6 -> 8.4942139e-11 | W84: =W83*(N84/N83)^$N$27 -> 2080.2592 | X84: =(4.17*10^13*$T$24*$U$24^0.5*EXP(-67837/W84))/'Task2A)values_PHI_dependent'!$D$14*'Task2A)values_PHI_dependent'!$D$5*10^-6 -> 1.5952424e-11
O88: PHI | P88: NOX SUM | Q88: TOT EXH MOL [Kmol] | R88: PPM
P89: [Kmol/cycle] | Q89: [Kmol] | R89: Parts per million
O90: 1 | P90: =SUM(P29:P44) -> 0 | Q90: =V8 -> 6.9481141e-06 | R90: =(P90/Q90)*10^6 -> 0
O91: 0.99 | P91: =SUM(R29:R44) -> 1.3032698e-07 | Q91: =V9 -> 6.9443765e-06 | R91: =(P91/Q91)*10^6 -> 18767.269
O92: 0.98 | P92: =SUM(T29:T44) -> 1.5740315e-07 | Q92: =V10 -> 6.9406377e-06 | R92: =(P92/Q92)*10^6 -> 22678.485
O93: 0.97 | P93: =SUM(V29:V44) -> 1.6417553e-07 | Q93: =V11 -> 6.9368977e-06 | R93: =(P93/Q93)*10^6 -> 23666.996
O94: 0.96 | P94: =SUM(X29:X44) -> 1.6098053e-07 | Q94: =V12 -> 6.9331564e-06 | R94: =(P94/Q94)*10^6 -> 23218.938
O95: 0.95 | P95: =SUM(Z29:Z44) -> 1.523805e-07 | Q95: =V13 -> 6.9294139e-06 | R95: =(P95/Q95)*10^6 -> 21990.388
O96: 0.94 | P96: =SUM(P49:P64) -> 1.4089055e-07 | Q96: =V14 -> 6.9256702e-06 | R96: =(P96/Q96)*10^6 -> 20343.236
O97: 0.93 | P97: =SUM(R49:R64) -> 1.2803724e-07 | Q97: =V15 -> 6.9219252e-06 | R97: =(P97/Q97)*10^6 -> 18497.345
O98: 0.92 | P98: =SUM(T49:T64) -> 1.1478506e-07 | Q98: =V16 -> 6.918179e-06 | R98: =(P98/Q98)*10^6 -> 16591.803
O99: 0.91 | P99: =SUM(V49:V64) -> 1.0175099e-07 | Q99: =V17 -> 6.9144315e-06 | R99: =(P99/Q99)*10^6 -> 14715.742
O100: 0.9 | P100: =SUM(X49:X64) -> 8.9324012e-08 | Q100: =V18 -> 6.9106828e-06 | R100: =(P100/Q100)*10^6 -> 12925.497
O101: 0.85 | P101: =SUM(Z49:Z64) -> 4.1397173e-08 | Q101: =V19 -> 6.8919206e-06 | R101: =(P101/Q101)*10^6 -> 6006.6236
O102: 0.8 | P102: =SUM(P69:P84) -> 1.6233474e-08 | Q102: =V20 -> 6.8731273e-06 | R102: =(P102/Q102)*10^6 -> 2361.876
O103: 0.75 | P103: =SUM(R69:R84) -> 2.8545599e-09 | Q103: =V21 -> 6.8543028e-06 | R103: =(P103/Q103)*10^6 -> 416.46248
O104: 0.7 | P104: =SUM(T69:T84) -> 1.5165278e-09 | Q104: =V22 -> 6.8354471e-06 | R104: =(P104/Q104)*10^6 -> 221.86227
O105: 0.65 | P105: =SUM(V69:V84) -> 3.472729e-10 | Q105: =V23 -> 6.81656e-06 | R105: =(P105/Q105)*10^6 -> 50.945477
O106: 0.6 | P106: =SUM(X69:X84) -> 6.27673e-11 | Q106: =V24 -> 6.7976415e-06 | R106: =(P106/Q106)*10^6 -> 9.233688

Sheet EGR EFFECT
B2: EGR | C2: 0.05 | D2: 1.05
C3: 0.1 | D3: 1.1
C4: 0.15 | D4: 1.15
C5: 0.2 | D5: 1.2 | E5: Φ(C8H18) + 12.5 (O2 + 3.76 N2)+EGR%*(n1co2+n2H20+n3O2+n4N2)−−→ (1+EGR%)*(n1 CO2 + n2 H2O + n3 O2 + n4 N2)
B7: 5% EGR | F7: REFERENCE TABLE | H7: n1 | I7: n2 | J7: n3 | K7: n4 | T7: POLYNOMIAL
B8: Carbon (x) | C8: Hyrdrogen (y) | D8: Oxigen | E8: F | F8: Φ | H8: CO2 | I8: H2O | J8: O2 | K8: N2 | L8: alpha | M8: [N2] CONC | N8: [O2] CONC | O8: ENTALPY REFERENCE | Q8: TOT EX MOLECULES | R8: Temp T1 (FLAME) | S8: ENT. FOR GOAL SEEK
B9: =8*$F$9 -> 7.76 | C9: =18*$F$9 -> 17.46 | D9: 25 | E9: =12.5 -> 12.5 | F9: 0.97 | H9: =B9*$D$2 -> 8.148 | I9: =(C9/2)*$D$2 -> 9.1665 | J9: =($E$9*(1-$F$9)*$D$2) -> 0.39375 | K9: =$E$9*3.76*$D$2 -> 49.35 | L9: ='Task2A)values_PHI_dependent'!$S$11 -> 1.0861814e-07 | M9: =(K9*L9)/('Task2A)values_PHI_dependent'!$D$5*10^-6) -> 0.13400763 | N9: =(J9*L9)/('Task2A)values_PHI_dependent'!$D$5*10^-6) -> 0.0010692098 | O9: ='Task2A)values_PHI_dependent'!$W$11 -> 4913.05 | Q9: =$L$9*($H$9+$I$9+$J$9+$K$9) -> 7.2837426e-06 | R9: 2258.0507 | S9: =(H9*$R$17)+(I9*$R$18)+(J9*$R$19)+(K9*$R$20) -> 4913.05 | T9: 5% EGR | U9: 5
B10: 10% EGR | S10: =(H10*$R$17)+(I10*$R$18)+(J10*$R$19)+(K10*$R$20) -> 0
B11: =$B$9 -> 7.76 | C11: =$C$9 -> 17.46 | D11: =$D$9 -> 25 | E11: =$E$9 -> 12.5 | F11: 0.97 | H11: =B11*$D$3 -> 8.536 | I11: =(C11/2)*$D$3 -> 9.603 | J11: =($E$9*(1-$F$9)*$D$3) -> 0.4125 | K11: =$E$9*3.76*$D$3 -> 51.7 | L11: ='Task2A)values_PHI_dependent'!$S$11 -> 1.0861814e-07 | M11: =(K11*L11)/('Task2A)values_PHI_dependent'!$D$5*10^-6) -> 0.14038895 | N11: =(J11*L11)/('Task2A)values_PHI_dependent'!$D$5*10^-6) -> 0.0011201246 | O11: ='Task2A)values_PHI_dependent'!$W$11 -> 4913.05 | Q11: =L11*($H$11+$I$11+$J$11+$K$11) -> 7.6305875e-06 | R11: 2179.017 | S11: =(H11*$R$21)+(I11*$R$22)+(J11*$R$23)+(K11*$R$24) -> 4913.05 | T11: 10% EGR | U11: 10
B12: 15% EGR | S12: =(H12*$R$17)+(I12*$R$18)+(J12*$R$19)+(K12*$R$20) -> 0
B13: =$B$9 -> 7.76 | C13: =$C$9 -> 17.46 | D13: =$D$9 -> 25 | E13: =$E$9 -> 12.5 | F13: 0.97 | H13: =B13*$D$4 -> 8.924 | I13: =(C13/2)*$D$4 -> 10.0395 | J13: =($E$9*(1-$F$9)*$D$4) -> 0.43125 | K13: =$E$9*3.76*$D$4 -> 54.05 | L13: ='Task2A)values_PHI_dependent'!$S$11 -> 1.0861814e-07 | M13: =(K13*L13)/('Task2A)values_PHI_dependent'!$D$5*10^-6) -> 0.14677027 | N13: =(J13*L13)/('Task2A)values_PHI_dependent'!$D$5*10^-6) -> 0.0011710394 | O13: ='Task2A)values_PHI_dependent'!$W$11 -> 4913.05 | Q13: =L13*($H$13+$I$13+$J$13+$K$13) -> 7.9774324e-06 | R13: 2106.2129 | S13: =(H13*$R$25)+(I13*$R$26)+(J13*$R$27)+(K13*$R$28) -> 4913.05 | T13: 15% EGR | U13: 15
B14: 20% EGR | S14: =(H14*$R$17)+(I14*$R$18)+(J14*$R$19)+(K14*$R$20) -> 0
B15: =$B$9 -> 7.76 | C15: =$C$9 -> 17.46 | D15: =$D$9 -> 25 | E15: =$E$9 -> 12.5 | F15: 0.97 | H15: =B15*$D$5 -> 9.312 | I15: =(C15/2)*$D$5 -> 10.476 | J15: =($E$9*(1-$F$9)*$D$5) -> 0.45 | K15: =$E$9*3.76*$D$5 -> 56.4 | L15: ='Task2A)values_PHI_dependent'!$S$11 -> 1.0861814e-07 | M15: =(K15*L15)/('Task2A)values_PHI_dependent'!$D$5*10^-6) -> 0.15315158 | N15: =(J15*L15)/('Task2A)values_PHI_dependent'!$D$5*10^-6) -> 0.0012219541 | O15: ='Task2A)values_PHI_dependent'!$W$11 -> 4913.05 | Q15: =L15*($H$15+$I$15+$J$15+$K$15) -> 8.3242772e-06 | R15: 2038.8455 | S15: =(H15*$R$29)+(I15*$R$30)+(J15*$R$31)+(K15*$R$32) -> 4913.05 | T15: 20% EGR | U15: 20
O16: CONSTANT
Q17: POLY CO2 | R17: =((8.5770134353*10^-19)*(R9^6))-((1.0374875556*10^-14)*(R9^5))+((4.9689475953*10^-11)*(R9^4))-((1.2019118054*10^-7)*(R9^3))+((1.5650954893*10^-4)*(R9^2))-((4.8239362033*10^-2)*(R9))+(5.2084519626) -> 106.94824 | S17: 5% EGR
Q18: POLYH2O | R18: =((6.6506859177*10^-19)*($R$9^6))-((7.8984343104*10^-15)*($R$9^5))+((3.6879849877*10^-11)*($R$9^4))-((8.6386228559*10^-8)*($R$9^3))+((1.1074017861*10^-4)*($R$9^2))-((3.1241611608*10^-2)*($R$9))+(3.3006694533) -> 86.083147
B19: POL INDEX | C19: =1.17 -> 1.17 | G19: POL INDEX | H19: =1.17 -> 1.17 | Q19: POLYO2 | R19: =((6.4958291549*10^-19)*($R$9^6)) -((7.8224528491*10^-15)*($R$9^5)) + ((3.7120417697*10^-11)*($R$9^4)) -((8.798317617*10^-8)*($R$9^3)) + ((1.0982327235*10^-4)*($R$9^2)) -((3.2606444641*10^-2)*($R$9))+(3.5786489003) -> 68.879858
B20: INDICE AT POWER | C20: =($C$19-1)/$C$19 -> 0.14529915 | D20: phi0.97 (5%EGR) | G20: INDICE AT POWER | H20: =($C$19-1)/$C$19 -> 0.14529915 | I20: phi0.97 (10%EGR) | Q20: POLY N2 | R20: =(((5.9376621671*(10^-19)*($R$9^6))-((7.1020711589*10^-15)*($R$9^5))+((3.3460896805*10^-11)*($R$9^4))-((7.8909601634*10^-8)*($R$9^3))+((9.8599769212*10^-5)*($R$9^2))-((2.8172899156*10^-2)*($R$9))+((3.05378908)))) -> 65.358321
B21: deg | C21: PRESSURE[bar] | D21: TEMP [K] | E21: NOX [Kmol/°] | G21: deg | H21: PRESSURE[bar] | I21: TEMP [K] | J21: NOX [Kmol/°] | Q21: POLY CO2 | R21: =((8.5770134353*10^-19)*($R$11^6))-((1.0374875556*10^-14)*($R$11^5))+((4.9689475953*10^-11)*($R$11^4))-((1.2019118054*10^-7)*($R$11^3))+((1.5650954893*10^-4)*($R$11^2))-((4.8239362033*10^-2)*($R$11))+(5.2084519626) -> 102.06949 | S21: 10% EGR
B22: 0 | C22: 10 | D22: =$R$9 -> 2258.0507 | E22: =(4.17*10^13*$M$9*$N$9^0.5*EXP(-67837/D22))/'Task2A)values_PHI_dependent'!$D$14*'Task2A)values_PHI_dependent'!$D$5*10^-6 -> 6.0706534e-11 | G22: 0 | H22: 10 | I22: =R11 -> 2179.017 | J22: =(4.17*10^13*$M$9*$N$9^0.5*EXP(-67837/I22))/'Task2A)values_PHI_dependent'!$D$14*'Task2A)values_PHI_dependent'!$D$5*10^-6 -> 2.0417794e-11 | Q22: POLYH2O | R22: =((6.6506859177*10^-19)*(R11^6))-((7.8984343104*10^-15)*(R11^5))+((3.6879849877*10^-11)*(R11^4))-((8.6386228559*10^-8)*(R11^3))+((1.1074017861*10^-4)*(R11^2))-((3.1241611608*10^-2)*(R11))+(3.3006694533) -> 81.882671
B23: 1 | C23: 12 | D23: =D22*(C23/C22)^$C$20 -> 2318.6685 | E23: =(4.17*10^13*$M$9*$N$9^0.5*EXP(-67837/D23))/'Task2A)values_PHI_dependent'!$D$14*'Task2A)values_PHI_dependent'!$D$5*10^-6 -> 1.3314748e-10 | G23: 1 | H23: 12 | I23: =I22*(H23/H22)^$C$20 -> 2237.5131 | J23: =(4.17*10^13*$M$9*$N$9^0.5*EXP(-67837/I23))/'Task2A)values_PHI_dependent'!$D$14*'Task2A)values_PHI_dependent'!$D$5*10^-6 -> 4.6076349e-11 | Q23: POLYO2 | R23: =((6.4958291549*10^-19)*($R$11^6)) -((7.8224528491*10^-15)*($R$11^5)) + ((3.7120417697*10^-11)*($R$11^4)) -((8.798317617*10^-8)*($R$11^3)) + ((1.0982327235*10^-4)*($R$11^2)) -((3.2606444641*10^-2)*($R$11))+(3.5786489003) -> 65.809147
B24: 2 | C24: 14 | D24: =D23*(C24/C23)^$C$20 -> 2371.1879 | E24: =(4.17*10^13*$M$9*$N$9^0.5*EXP(-67837/D24))/'Task2A)values_PHI_dependent'!$D$14*'Task2A)values_PHI_dependent'!$D$5*10^-6 -> 2.5454246e-10 | G24: 2 | H24: 14 | I24: =I23*(H24/H23)^$C$20 -> 2288.1943 | J24: =(4.17*10^13*$M$9*$N$9^0.5*EXP(-67837/I24))/'Task2A)values_PHI_dependent'!$D$14*'Task2A)values_PHI_dependent'!$D$5*10^-6 -> 9.0180537e-11 | Q24: POLY N2 | R24: =(((5.9376621671*(10^-19)*($R$11^6))-((7.1020711589*10^-15)*($R$11^5))+((3.3460896805*10^-11)*($R$11^4))-((7.8909601634*10^-8)*($R$11^3))+((9.8599769212*10^-5)*($R$11^2))-((2.8172899156*10^-2)*($R$11))+((3.05378908)))) -> 62.443312
B25: 3 | C25: 16 | D25: =D24*(C25/C24)^$C$20 -> 2417.6429 | E25: =(4.17*10^13*$M$9*$N$9^0.5*EXP(-67837/D25))/'Task2A)values_PHI_dependent'!$D$14*'Task2A)values_PHI_dependent'!$D$5*10^-6 -> 4.4106257e-10 | G25: 3 | H25: 16 | I25: =I24*(H25/H24)^$C$20 -> 2333.0233 | J25: =(4.17*10^13*$M$9*$N$9^0.5*EXP(-67837/I25))/'Task2A)values_PHI_dependent'!$D$14*'Task2A)values_PHI_dependent'!$D$5*10^-6 -> 1.5940868e-10 | Q25: POLY CO2 | R25: =((8.5770134353*10^-19)*($R$13^6))-((1.0374875556*10^-14)*($R$13^5))+((4.9689475953*10^-11)*($R$13^4))-((1.2019118054*10^-7)*($R$13^3))+((1.5650954893*10^-4)*(R13^2))-((4.8239362033*10^-2)*($R$13))+(5.2084519626) -> 97.608636 | S25: 15% EGR
B26: 4 | C26: 18 | D26: =D25*(C26/C25)^$C$20 -> 2459.374 | E26: =(4.17*10^13*$M$9*$N$9^0.5*EXP(-67837/D26))/'Task2A)values_PHI_dependent'!$D$14*'Task2A)values_PHI_dependent'!$D$5*10^-6 -> 7.1002417e-10 | G26: 4 | H26: 18 | I26: =I25*(H26/H25)^$C$20 -> 2373.2937 | J26: =(4.17*10^13*$M$9*$N$9^0.5*EXP(-67837/I26))/'Task2A)values_PHI_dependent'!$D$14*'Task2A)values_PHI_dependent'!$D$5*10^-6 -> 2.6108663e-10 | Q26: POLYH2O | R26: =((6.6506859177*10^-19)*($R$13^6))-((7.8984343104*10^-15)*($R$13^5))+((3.6879849877*10^-11)*($R$13^4))-((8.6386228559*10^-8)*($R$13^3))+((1.1074017861*10^-4)*($R$13^2))-((3.1241611608*10^-2)*($R$13))+(3.3006694533) -> 78.061689
B27: 5 | C27: 20 | D27: =D26*(C27/C26)^$C$20 -> 2497.3137 | E27: =(4.17*10^13*$M$9*$N$9^0.5*EXP(-67837/D27))/'Task2A)values_PHI_dependent'!$D$14*'Task2A)values_PHI_dependent'!$D$5*10^-6 -> 1.0796004e-09 | G27: 5 | H27: 20 | I27: =I26*(H27/H26)^$C$20 -> 2409.9055 | J27: =(4.17*10^13*$M$9*$N$9^0.5*EXP(-67837/I27))/'Task2A)values_PHI_dependent'!$D$14*'Task2A)values_PHI_dependent'!$D$5*10^-6 -> 4.0306527e-10 | Q27: POLYO2 | R27: =((6.4958291549*10^-19)*(R13^6)) -((7.8224528491*10^-15)*(R13^5)) + ((3.7120417697*10^-11)*(R13^4)) -((8.798317617*10^-8)*(R13^3)) + ((1.0982327235*10^-4)*(R13^2)) -((3.2606444641*10^-2)*(R13))+(3.5786489003) -> 63.008175
B28: 6 | C28: 22 | D28: =D27*(C28/C27)^$C$20 -> 2532.1383 | E28: =(4.17*10^13*$M$9*$N$9^0.5*EXP(-67837/D28))/'Task2A)values_PHI_dependent'!$D$14*'Task2A)values_PHI_dependent'!$D$5*10^-6 -> 1.5685919e-09 | G28: 6 | H28: 22 | I28: =I27*(H28/H27)^$C$20 -> 2443.5112 | J28: =(4.17*10^13*$M$9*$N$9^0.5*EXP(-67837/I28))/'Task2A)values_PHI_dependent'!$D$14*'Task2A)values_PHI_dependent'!$D$5*10^-6 -> 5.9361801e-10 | Q28: POLY N2 | R28: =(((5.9376621671*(10^-19)*($R$13^6))-((7.1020711589*10^-15)*($R$13^5))+((3.3460896805*10^-11)*($R$13^4))-((7.8909601634*10^-8)*($R$13^3))+((9.8599769212*10^-5)*($R$13^2))-((2.8172899156*10^-2)*($R$13))+((3.05378908)))) -> 59.780165
B29: 7 | C29: 24 | D29: =D28*(C29/C28)^$C$20 -> 2564.3545 | E29: =(4.17*10^13*$M$9*$N$9^0.5*EXP(-67837/D29))/'Task2A)values_PHI_dependent'!$D$14*'Task2A)values_PHI_dependent'!$D$5*10^-6 -> 2.1962442e-09 | G29: 7 | H29: 24 | I29: =I28*(H29/H28)^$C$20 -> 2474.5999 | J29: =(4.17*10^13*$M$9*$N$9^0.5*EXP(-67837/I29))/'Task2A)values_PHI_dependent'!$D$14*'Task2A)values_PHI_dependent'!$D$5*10^-6 -> 8.4135521e-10 | Q29: POLY CO2 | R29: =((8.5770134353*10^-19)*($R$15^6))-((1.0374875556*10^-14)*($R$15^5))+((4.9689475953*10^-11)*($R$15^4))-((1.2019118054*10^-7)*($R$15^3))+((1.5650954893*10^-4)*($R$15^2))-((4.8239362033*10^-2)*($R$15))+(5.2084519626) -> 93.513313 | S29: 20% EGR
B30: 8 | C30: 26 | D30: =D29*(C30/C29)^$C$20 -> 2594.3524 | E30: =(4.17*10^13*$M$9*$N$9^0.5*EXP(-67837/D30))/'Task2A)values_PHI_dependent'!$D$14*'Task2A)values_PHI_dependent'!$D$5*10^-6 -> 2.9821015e-09 | G30: 8 | H30: 26 | I30: =I29*(H30/H29)^$C$20 -> 2503.5478 | J30: =(4.17*10^13*$M$9*$N$9^0.5*EXP(-67837/I30))/'Task2A)values_PHI_dependent'!$D$14*'Task2A)values_PHI_dependent'!$D$5*10^-6 -> 1.1551527e-09 | Q30: POLYH2O | R30: =((6.6506859177*10^-19)*($R$15^6))-((7.8984343104*10^-15)*($R$15^5))+((3.6879849877*10^-11)*($R$15^4))-((8.6386228559*10^-8)*($R$15^3))+((1.1074017861*10^-4)*($R$15^2))-((3.1241611608*10^-2)*($R$15))+(3.3006694533) -> 74.571709
B31: 9 | C31: 28 | D31: =D30*(C31/C30)^$C$20 -> 2622.4389 | E31: =(4.17*10^13*$M$9*$N$9^0.5*EXP(-67837/D31))/'Task2A)values_PHI_dependent'!$D$14*'Task2A)values_PHI_dependent'!$D$5*10^-6 -> 3.9458893e-09 | G31: 9 | H31: 28 | I31: =I30*(H31/H30)^$C$20 -> 2530.6512 | J31: =(4.17*10^13*$M$9*$N$9^0.5*EXP(-67837/I31))/'Task2A)values_PHI_dependent'!$D$14*'Task2A)values_PHI_dependent'!$D$5*10^-6 -> 1.544092e-09 | Q31: POLYO2 | R31: =((6.4958291549*10^-19)*($R$15^6)) -((7.8224528491*10^-15)*($R$15^5)) + ((3.7120417697*10^-11)*($R$15^4)) -((8.798317617*10^-8)*($R$15^3)) + ((1.0982327235*10^-4)*($R$15^2)) -((3.2606444641*10^-2)*($R$15))+(3.5786489003) -> 60.442477
B32: 10 | C32: 30 | D32: =D31*(C32/C31)^$C$20 -> 2648.86 | E32: =(4.17*10^13*$M$9*$N$9^0.5*EXP(-67837/D32))/'Task2A)values_PHI_dependent'!$D$14*'Task2A)values_PHI_dependent'!$D$5*10^-6 -> 5.1074204e-09 | G32: 10 | H32: 30 | I32: =I31*(H32/H31)^$C$20 -> 2556.1476 | J32: =(4.17*10^13*$M$9*$N$9^0.5*EXP(-67837/I32))/'Task2A)values_PHI_dependent'!$D$14*'Task2A)values_PHI_dependent'!$D$5*10^-6 -> 2.0174102e-09 | Q32: POLY N2 | R32: =(((5.9376621671*(10^-19)*($R$15^6))-((7.1020711589*10^-15)*($R$15^5))+((3.3460896805*10^-11)*($R$15^4))-((7.8909601634*10^-8)*($R$15^3))+((9.8599769212*10^-5)*($R$15^2))-((2.8172899156*10^-2)*($R$15))+((3.05378908)))) -> 57.337619
B33: 11 | C33: 32 | D33: =D32*(C33/C32)^$C$20 -> 2673.8162 | E33: =(4.17*10^13*$M$9*$N$9^0.5*EXP(-67837/D33))/'Task2A)values_PHI_dependent'!$D$14*'Task2A)values_PHI_dependent'!$D$5*10^-6 -> 6.4865181e-09 | G33: 11 | H33: 32 | I33: =I32*(H33/H32)^$C$20 -> 2580.2303 | J33: =(4.17*10^13*$M$9*$N$9^0.5*EXP(-67837/I33))/'Task2A)values_PHI_dependent'!$D$14*'Task2A)values_PHI_dependent'!$D$5*10^-6 -> 2.5844579e-09
B34: 12 | C34: 34 | D34: =D33*(C34/C33)^$C$20 -> 2697.4731 | E34: =(4.17*10^13*$M$9*$N$9^0.5*EXP(-67837/D34))/'Task2A)values_PHI_dependent'!$D$14*'Task2A)values_PHI_dependent'!$D$5*10^-6 -> 8.1029553e-09 | G34: 12 | H34: 34 | I34: =I33*(H34/H33)^$C$20 -> 2603.0592 | J34: =(4.17*10^13*$M$9*$N$9^0.5*EXP(-67837/I34))/'Task2A)values_PHI_dependent'!$D$14*'Task2A)values_PHI_dependent'!$D$5*10^-6 -> 3.2546639e-09
B35: 13 | C35: 36 | D35: =D34*(C35/C34)^$C$20 -> 2719.9691 | E35: =(4.17*10^13*$M$9*$N$9^0.5*EXP(-67837/D35))/'Task2A)values_PHI_dependent'!$D$14*'Task2A)values_PHI_dependent'!$D$5*10^-6 -> 9.9764043e-09 | G35: 13 | H35: 36 | I35: =I34*(H35/H34)^$C$20 -> 2624.7678 | J35: =(4.17*10^13*$M$9*$N$9^0.5*EXP(-67837/I35))/'Task2A)values_PHI_dependent'!$D$14*'Task2A)values_PHI_dependent'!$D$5*10^-6 -> 4.0375049e-09
B36: 14 | C36: 38 | D36: =D35*(C36/C35)^$C$20 -> 2741.4211 | E36: =(4.17*10^13*$M$9*$N$9^0.5*EXP(-67837/D36))/'Task2A)values_PHI_dependent'!$D$14*'Task2A)values_PHI_dependent'!$D$5*10^-6 -> 1.2126397e-08 | G36: 14 | H36: 38 | I36: =I35*(H36/H35)^$C$20 -> 2645.469 | J36: =(4.17*10^13*$M$9*$N$9^0.5*EXP(-67837/I36))/'Task2A)values_PHI_dependent'!$D$14*'Task2A)values_PHI_dependent'!$D$5*10^-6 -> 4.9424808e-09
B37: 16 | C37: 40 | D37: =D36*(C37/C36)^$C$20 -> 2761.9289 | E37: =(4.17*10^13*$M$9*$N$9^0.5*EXP(-67837/D37))/'Task2A)values_PHI_dependent'!$D$14*'Task2A)values_PHI_dependent'!$D$5*10^-6 -> 1.4572291e-08 | G37: 16 | H37: 40 | I37: =I36*(H37/H36)^$C$20 -> 2665.259 | J37: =(4.17*10^13*$M$9*$N$9^0.5*EXP(-67837/I37))/'Task2A)values_PHI_dependent'!$D$14*'Task2A)values_PHI_dependent'!$D$5*10^-6 -> 5.9790927e-09
O39: EGR RESULTS
O40: PHI 0.97 | P40: NOX TOTAL | Q40: TOT-EXH MOL | R40: PPM | S40: % DROP | T40: EGR MAGNITUDE EFFECT
B41: POL INDEX | C41: =1.17 -> 1.17 | G41: POL INDEX | H41: =1.17 -> 1.17 | O41: 0% EGR | P41: ='Task2A)values_PHI_dependent'!$P$93 -> 1.6417553e-07 | Q41: ='Task2A)values_PHI_dependent'!$Q$93 -> 6.9368977e-06 | R41: ='Task2A)values_PHI_dependent'!$R$93 -> 23666.996 | S41: =(($R$41-R41)/$R$41)*100 -> 0 | T41: 0
B42: INDICE AT POWER | C42: =($C$19-1)/$C$19 -> 0.14529915 | D42: phi0.97 (15%EGR) | G42: INDICE AT POWER | H42: =($C$19-1)/$C$19 -> 0.14529915 | I42: phi0.97 (20%EGR) | O42: 5% EGR | P42: =SUM(E22:E37) -> 6.9743896e-08 | Q42: =$Q$9 -> 7.2837426e-06 | R42: =(P42/Q42)*10^6 -> 9575.283 | S42: =(($R$41-R42)/$R$41)*100 -> 59.541622 | T42: =S42-S41 -> 59.541622
B43: deg | C43: PRESSURE[bar] | D43: TEMP [K] | E43: NOX [Kmol/°] | G43: deg | H43: PRESSURE[bar] | I43: TEMP [K] | J43: NOX [Kmol/°] | O43: 10% EGR | P43: =SUM(J22:J37) -> 2.7930064e-08 | Q43: =$Q$11 -> 7.6305875e-06 | R43: =(P43/Q43)*10^6 -> 3660.277 | S43: =(($R$41-R43)/$R$41)*100 -> 84.534256 | T43: =S43-S42 -> 24.992635
B44: 0 | C44: 10 | D44: =$R$13 -> 2106.2129 | E44: =(4.17*10^13*$M$9*$N$9^0.5*EXP(-67837/D44))/'Task2A)values_PHI_dependent'!$D$14*'Task2A)values_PHI_dependent'!$D$5*10^-6 -> 6.9607674e-12 | G44: 0 | H44: 10 | I44: =$R$15 -> 2038.8455 | J44: =(4.17*10^13*$M$9*$N$9^0.5*EXP(-67837/I44))/'Task2A)values_PHI_dependent'!$D$14*'Task2A)values_PHI_dependent'!$D$5*10^-6 -> 2.4014529e-12 | O44: 15% EGR | P44: =SUM(E44:E59) -> 1.1320859e-08 | Q44: =$Q$13 -> 7.9774324e-06 | R44: =(P44/Q44)*10^6 -> 1419.1106 | S44: =(($R$41-R44)/$R$41)*100 -> 94.003842 | T44: =S44-S43 -> 9.4695853
B45: 1 | C45: 12 | D45: =D44*(C45/C44)^$C$20 -> 2162.7546 | E45: =(4.17*10^13*$M$9*$N$9^0.5*EXP(-67837/D45))/'Task2A)values_PHI_dependent'!$D$14*'Task2A)values_PHI_dependent'!$D$5*10^-6 -> 1.6156396e-11 | G45: 1 | H45: 12 | I45: =I44*(H45/H44)^$C$20 -> 2093.5787 | J45: =(4.17*10^13*$M$9*$N$9^0.5*EXP(-67837/I45))/'Task2A)values_PHI_dependent'!$D$14*'Task2A)values_PHI_dependent'!$D$5*10^-6 -> 5.7311854e-12 | O45: 20% EGR | P45: =SUM(J44:J59) -> 4.6377796e-09 | Q45: =$Q$15 -> 8.3242772e-06 | R45: =(P45/Q45)*10^6 -> 557.13901 | S45: =(($R$41-R45)/$R$41)*100 -> 97.645924 | T45: =S45-S44 -> 3.6420826
B46: 2 | C46: 14 | D46: =D45*(C46/C45)^$C$20 -> 2211.7424 | E46: =(4.17*10^13*$M$9*$N$9^0.5*EXP(-67837/D46))/'Task2A)values_PHI_dependent'!$D$14*'Task2A)values_PHI_dependent'!$D$5*10^-6 -> 3.2363837e-11 | G46: 2 | H46: 14 | I46: =I45*(H46/H45)^$C$20 -> 2140.9997 | J46: =(4.17*10^13*$M$9*$N$9^0.5*EXP(-67837/I46))/'Task2A)values_PHI_dependent'!$D$14*'Task2A)values_PHI_dependent'!$D$5*10^-6 -> 1.1747061e-11
B47: 3 | C47: 16 | D47: =D46*(C47/C46)^$C$20 -> 2255.0736 | E47: =(4.17*10^13*$M$9*$N$9^0.5*EXP(-67837/D47))/'Task2A)values_PHI_dependent'!$D$14*'Task2A)values_PHI_dependent'!$D$5*10^-6 -> 5.8345967e-11 | G47: 3 | H47: 16 | I47: =I46*(H47/H46)^$C$20 -> 2182.9449 | J47: =(4.17*10^13*$M$9*$N$9^0.5*EXP(-67837/I47))/'Task2A)values_PHI_dependent'!$D$14*'Task2A)values_PHI_dependent'!$D$5*10^-6 -> 2.1594203e-11
B48: 4 | C48: 18 | D48: =D47*(C48/C47)^$C$20 -> 2293.9986 | E48: =(4.17*10^13*$M$9*$N$9^0.5*EXP(-67837/D48))/'Task2A)values_PHI_dependent'!$D$14*'Task2A)values_PHI_dependent'!$D$5*10^-6 -> 9.7205341e-11 | G48: 4 | H48: 18 | I48: =I47*(H48/H47)^$C$20 -> 2220.6249 | J48: =(4.17*10^13*$M$9*$N$9^0.5*EXP(-67837/I48))/'Task2A)values_PHI_dependent'!$D$14*'Task2A)values_PHI_dependent'!$D$5*10^-6 -> 3.658821e-11
B49: 5 | C49: 20 | D49: =D48*(C49/C48)^$C$20 -> 2329.3871 | E49: =(4.17*10^13*$M$9*$N$9^0.5*EXP(-67837/D49))/'Task2A)values_PHI_dependent'!$D$14*'Task2A)values_PHI_dependent'!$D$5*10^-6 -> 1.5233502e-10 | G49: 5 | H49: 20 | I49: =I48*(H49/H48)^$C$20 -> 2254.8815 | J49: =(4.17*10^13*$M$9*$N$9^0.5*EXP(-67837/I49))/'Task2A)values_PHI_dependent'!$D$14*'Task2A)values_PHI_dependent'!$D$5*10^-6 -> 5.8196599e-11
B50: 6 | C50: 22 | D50: =D49*(C50/C49)^$C$20 -> 2361.87 | E50: =(4.17*10^13*$M$9*$N$9^0.5*EXP(-67837/D50))/'Task2A)values_PHI_dependent'!$D$14*'Task2A)values_PHI_dependent'!$D$5*10^-6 -> 2.2737523e-10 | G50: 6 | H50: 22 | I50: =I49*(H50/H49)^$C$20 -> 2286.3254 | J50: =(4.17*10^13*$M$9*$N$9^0.5*EXP(-67837/I50))/'Task2A)values_PHI_dependent'!$D$14*'Task2A)values_PHI_dependent'!$D$5*10^-6 -> 8.802143e-11
B51: 7 | C51: 24 | D51: =D50*(C51/C50)^$C$20 -> 2391.9199 | E51: =(4.17*10^13*$M$9*$N$9^0.5*EXP(-67837/D51))/'Task2A)values_PHI_dependent'!$D$14*'Task2A)values_PHI_dependent'!$D$5*10^-6 -> 3.2617549e-10 | G51: 7 | H51: 24 | I51: =I50*(H51/H50)^$C$20 -> 2315.4142 | J51: =(4.17*10^13*$M$9*$N$9^0.5*EXP(-67837/I51))/'Task2A)values_PHI_dependent'!$D$14*'Task2A)values_PHI_dependent'!$D$5*10^-6 -> 1.2778342e-10
B52: 8 | C52: 26 | D52: =D51*(C52/C51)^$C$20 -> 2419.9007 | E52: =(4.17*10^13*$M$9*$N$9^0.5*EXP(-67837/D52))/'Task2A)values_PHI_dependent'!$D$14*'Task2A)values_PHI_dependent'!$D$5*10^-6 -> 4.5276175e-10 | G52: 8 | H52: 26 | I52: =I51*(H52/H51)^$C$20 -> 2342.5 | J52: =(4.17*10^13*$M$9*$N$9^0.5*EXP(-67837/I52))/'Task2A)values_PHI_dependent'!$D$14*'Task2A)values_PHI_dependent'!$D$5*10^-6 -> 1.7930761e-10
B53: 9 | C53: 28 | D53: =D52*(C53/C52)^$C$20 -> 2446.0985 | E53: =(4.17*10^13*$M$9*$N$9^0.5*EXP(-67837/D53))/'Task2A)values_PHI_dependent'!$D$14*'Task2A)values_PHI_dependent'!$D$5*10^-6 -> 6.1130793e-10 | G53: 9 | H53: 28 | I53: =I52*(H53/H52)^$C$20 -> 2367.8599 | J53: =(4.17*10^13*$M$9*$N$9^0.5*EXP(-67837/I53))/'Task2A)values_PHI_dependent'!$D$14*'Task2A)values_PHI_dependent'!$D$5*10^-6 -> 2.4451041e-10
B54: 10 | C54: 30 | D54: =D53*(C54/C53)^$C$20 -> 2470.743 | E54: =(4.17*10^13*$M$9*$N$9^0.5*EXP(-67837/D54))/'Task2A)values_PHI_dependent'!$D$14*'Task2A)values_PHI_dependent'!$D$5*10^-6 -> 8.061112e-10 | G54: 10 | H54: 30 | I54: =I53*(H54/H53)^$C$20 -> 2391.7161 | J54: =(4.17*10^13*$M$9*$N$9^0.5*EXP(-67837/I54))/'Task2A)values_PHI_dependent'!$D$14*'Task2A)values_PHI_dependent'!$D$5*10^-6 -> 3.2538818e-10
B55: 11 | C55: 32 | D55: =D54*(C55/C54)^$C$20 -> 2494.0211 | E55: =(4.17*10^13*$M$9*$N$9^0.5*EXP(-67837/D55))/'Task2A)values_PHI_dependent'!$D$14*'Task2A)values_PHI_dependent'!$D$5*10^-6 -> 1.0415706e-09 | G55: 11 | H55: 32 | I55: =I54*(H55/H54)^$C$20 -> 2414.2497 | J55: =(4.17*10^13*$M$9*$N$9^0.5*EXP(-67837/I55))/'Task2A)values_PHI_dependent'!$D$14*'Task2A)values_PHI_dependent'!$D$5*10^-6 -> 4.2400685e-10
B56: 12 | C56: 34 | D56: =D55*(C56/C55)^$C$20 -> 2516.0873 | E56: =(4.17*10^13*$M$9*$N$9^0.5*EXP(-67837/D56))/'Task2A)values_PHI_dependent'!$D$14*'Task2A)values_PHI_dependent'!$D$5*10^-6 -> 1.3221683e-09 | G56: 12 | H56: 34 | I56: =I55*(H56/H55)^$C$20 -> 2435.61 | J56: =(4.17*10^13*$M$9*$N$9^0.5*EXP(-67837/I56))/'Task2A)values_PHI_dependent'!$D$14*'Task2A)values_PHI_dependent'!$D$5*10^-6 -> 5.4249282e-10
B57: 13 | C57: 36 | D57: =D56*(C57/C56)^$C$20 -> 2537.0706 | E57: =(4.17*10^13*$M$9*$N$9^0.5*EXP(-67837/D57))/'Task2A)values_PHI_dependent'!$D$14*'Task2A)values_PHI_dependent'!$D$5*10^-6 -> 1.6524537e-09 | G57: 13 | H57: 36 | I57: =I56*(H57/H56)^$C$20 -> 2455.9222 | J57: =(4.17*10^13*$M$9*$N$9^0.5*EXP(-67837/I57))/'Task2A)values_PHI_dependent'!$D$14*'Task2A)values_PHI_dependent'!$D$5*10^-6 -> 6.8302472e-10
... B59: 16 | C59: 40 | D59: =D58*(C59/C58)^$C$20 -> 2576.2089 | E59: =(4.17*10^13*$M$9*$N$9^0.5*EXP(-67837/D59))/'Task2A)values_PHI_dependent'!$D$14*'Task2A)values_PHI_dependent'!$D$5*10^-6 -> 2.4805378e-09 | G59: 16 | H59: 40 | I59: =I58*(H59/H58)^$C$20 -> 2493.8086 | J59: =(4.17*10^13*$M$9*$N$9^0.5*EXP(-67837/I59))/'Task2A)values_PHI_dependent'!$D$14*'Task2A)values_PHI_dependent'!$D$5*10^-6 -> 1.0391593e-09

Sheet Ent_tables
A1: H2O | H1: N2 | O1: O2 | V1: CO2 | AD1: phi1 | AF1: SUM ENTHALPIES OF ALL COMPONENTS | AL1: phi o.99 | AN1: SUM ENTALPIES OF ALL COMPONETNS | AT1: phi 0.98 | AV1: SUM ENTALPIES OF ALL COMPONETS | BB1: phi 0.97 | BD1: SUM ENTALPIES OF ALL COMPONETS
A2: T(K) | B2: c^p(kJ/kmol-K) | C2: h^h^0(MJ/kmol) | D2: Pol. Ent | E2: s^(kJ/kmol-K) | F2: g0R^uT | H2: T(K) | I2: c^p(kJ/kmol-K) | J2: h^h^0(MJ/kmol) | K2: Pol. Ent (MJ/kmol) | L2: s^(kJ/kmol-K) | M2: g0R^uT | O2: T(K) | P2: c^p(kJ/kmol-K) | Q2: h^h^0(MJ/kmol) | R2: Pol. Ent (MJ/kmol) | S2: s^(kJ/kmol-K) | T2: g0R^uT | V2: T(K) | W2: c^p(kJ/kmol-K) | X2: h^h^0(MJ/kmol) | Y2: Pol. Ent (MJ/kmol) | Z2: s^(kJ/kmol-K) | AA2: g0R^uT | AE2: TOT | AF2: TEMP | AG2: H20 | AH2: N2 | AI2: O2 | AJ2: CO2 | AM2: TOT | AN2: TEMP | AO2: H20 | AP2: N2 | AQ2: O2 | AR2: CO2 | AU2: TOT | AV2: TEMP | AW2: H20 | AX2: N2 | AY2: O2 | AZ2: CO2 | BC2: TOT | BD2: TEMP | BE2: H20 | BF2: N2 | BG2: O2 | BH2: CO2
A3: 200 | B3: 32.25 | C3: 3.23 | D3: =((6.6506859177*10^-19)*(A3^6))-((7.8984343104*10^-15)*(A3^5))+((3.6879849877*10^-11)*(A3^4))-((8.6386228559*10^-8)*(A3^3))+((1.1074017861*10^-4)*(A3^2))-((3.1241611608*10^-2)*(A3))+(3.3006694533) -> 0.84738727 | E3: 175.59 | F3: 168.5 | H3: 200 | I3: 28.79 | J3: 2.84 | K3: =(((5.9376621671*(10^-19)*(H3^6))-((7.1020711589*10^-15)*(H3^5))+((3.3460896805*10^-11)*(H3^4))-((7.8909601634*10^-8)*(H3^3))+((9.8599769212*10^-5)*(H3^2))-((2.8172899156*10^-2)*(H3))+((3.05378908)))) -> 0.78322598 | L3: 179.95 | M3: 23.35 | O3: 200 | P3: 28.47 | Q3: 2.84 | R3: =((6.4958291549*10^-19)*(O3^6)) -((7.8224528491*10^-15)*(O3^5)) + ((3.7120417697*10^-11)*(O3^4)) -((8.798317617*10^-8)*(O3^3)) + ((1.0982327235*10^-4)*(O3^2)) -((3.2606444641*10^-2)*(O3))+(3.5786489003) -> 0.80335651 | S3: 193.51 | T3: 24.98 | V3: 200 | W3: 32.39 | X3: 3.42 | Y3: =((8.5770134353*10^-19)*(V3^6))-((1.0374875556*10^-14)*(V3^5))+((4.9689475953*10^-11)*(V3^4))-((1.2019118054*10^-7)*(V3^3))+((1.5650954893*10^-4)*(V3^2))-((4.8239362033*10^-2)*(V3))+(5.2084519626) -> 0.93567016 | Z3: 199.87 | AA3: 262.76 | AE3: =AG3+AH3+AI3+AJ3 -> 51.923468 | AF3: 200 | AG3: =($D3)*'Task2A)values_PHI_dependent'!$T$2 -> 7.6264855 | AH3: =$K3*'Task2A)values_PHI_dependent'!$V$2 -> 36.811621 | AI3: =$R3*'Task2A)values_PHI_dependent'!$U$2 -> 0 | AJ3: =($Y3)*'Task2A)values_PHI_dependent'!$S$2 -> 7.4853613 | AM3: =AO3+AP3+AQ3+AR3 -> 51.872769 | AN3: 200 | AO3: =($D3)*'Task2A)values_PHI_dependent'!$P$9 -> 7.5502206 | AP3: =$K3*'Task2A)values_PHI_dependent'!$R$9 -> 36.811621 | AQ3: =$R3*'Task2A)values_PHI_dependent'!$Q$9 -> 0.10041956 | AR3: =($Y3)*'Task2A)values_PHI_dependent'!$O$9 -> 7.4105077 | AU3: =AW3+AX3+AY3+AZ3 -> 51.82207 | AV3: 200 | AW3: =($D3)*'Task2A)values_PHI_dependent'!$P$10 -> 7.4739557 | AX3: =$K3*'Task2A)values_PHI_dependent'!$R$10 -> 36.811621 | AY3: =$R3*'Task2A)values_PHI_dependent'!$Q$10 -> 0.20083913 | AZ3: =($Y3)*'Task2A)values_PHI_dependent'!$O$10 -> 7.3356541 | BC3: =BE3+BF3+BG3+BH3 -> 51.771371 | BD3: 200 | BE3: =($D3)*'Task2A)values_PHI_dependent'!$P$11 -> 7.3976909 | BF3: =$K3*'Task2A)values_PHI_dependent'!$R$10 -> 36.811621 | BG3: =$R3*'Task2A)values_PHI_dependent'!$Q$11 -> 0.30125869 | BH3: =($Y3)*'Task2A)values_PHI_dependent'!$O$11 -> 7.2608005
A4: 250 | B4: 32.9 | C4: 1.6 | D4: =((6.6506859177*10^-19)*(A4^6))-((7.8984343104*10^-15)*(A4^5))+((3.6879849877*10^-11)*(A4^4))-((8.6386228559*10^-8)*(A4^3))+((1.1074017861*10^-4)*(A4^2))-((3.1241611608*10^-2)*(A4))+(3.3006694533) -> 1.1982539 | E4: 182.86 | F4: 139.11 | H4: 250 | I4: 28.95 | J4: 1.4 | K4: =(((5.9376621671*(10^-19)*(H4^6))-((7.1020711589*10^-15)*(H4^5))+((3.3460896805*10^-11)*(H4^4))-((7.8909601634*10^-8)*(H4^3))+((9.8599769212*10^-5)*(H4^2))-((2.8172899156*10^-2)*(H4))+((3.05378908)))) -> 1.0640033 | L4: 186.39 | M4: 23.09 | O4: 250 | P4: 28.9 | Q4: 1.4 | R4: =((6.4958291549*10^-19)*(O4^6)) -((7.8224528491*10^-15)*(O4^5)) + ((3.7120417697*10^-11)*(O4^4)) -((8.798317617*10^-8)*(O4^3)) + ((1.0982327235*10^-4)*(O4^2)) -((3.2606444641*10^-2)*(O4))+(3.5786489003) -> 1.0537762 | S4: 199.91 | T4: 24.72 | V4: 250 | W4: 34.96 | X4: 1.74 | Y4: =((8.5770134353*10^-19)*(V4^6))-((1.0374875556*10^-14)*(V4^5))+((4.9689475953*10^-11)*(V4^4))-((1.2019118054*10^-7)*(V4^3))+((1.5650954893*10^-4)*(V4^2))-((4.8239362033*10^-2)*(V4))+(5.2084519626) -> 1.2366483 | Z4: 207.37 | AA4: 215.11 | AE4: =AG4+AH4+AI4+AJ4 -> 70.685627 | AF4: 250 | AG4: =($D4)*'Task2A)values_PHI_dependent'!$T$2 -> 10.784285 | AH4: =$K4*'Task2A)values_PHI_dependent'!$V$2 -> 50.008156 | AI4: =$R4*'Task2A)values_PHI_dependent'!$U$2 -> 0 | AJ4: =($Y4)*'Task2A)values_PHI_dependent'!$S$2 -> 9.8931861 | AM4: =AO4+AP4+AQ4+AR4 -> 70.610574 | AN4: 250 | AO4: =($D4)*'Task2A)values_PHI_dependent'!$P$9 -> 10.676442 | AP4: =$K4*'Task2A)values_PHI_dependent'!$R$9 -> 50.008156 | AQ4: =$R4*'Task2A)values_PHI_dependent'!$Q$9 -> 0.13172203 | AR4: =($Y4)*'Task2A)values_PHI_dependent'!$O$9 -> 9.7942543 | AU4: =AW4+AX4+AY4+AZ4 -> 70.535521 | AV4: 250 | AW4: =($D4)*'Task2A)values_PHI_dependent'!$P$10 -> 10.568599 | AX4: =$K4*'Task2A)values_PHI_dependent'!$R$10 -> 50.008156 | AY4: =$R4*'Task2A)values_PHI_dependent'!$Q$10 -> 0.26344406 | AZ4: =($Y4)*'Task2A)values_PHI_dependent'!$O$10 -> 9.6953224 | BC4: =BE4+BF4+BG4+BH4 -> 70.460469 | BD4: 250 | BE4: =($D4)*'Task2A)values_PHI_dependent'!$P$11 -> 10.460756 | BF4: =$K4*'Task2A)values_PHI_dependent'!$R$10 -> 50.008156 | BG4: =$R4*'Task2A)values_PHI_dependent'!$Q$11 -> 0.39516609 | BH4: =($Y4)*'Task2A)values_PHI_dependent'!$O$11 -> 9.5963906
A5: 298 | B5: 33.45 | C5: 0 | D5: =((6.6506859177*10^-19)*(A5^6))-((7.8984343104*10^-15)*(A5^5))+((3.6879849877*10^-11)*(A5^4))-((8.6386228559*10^-8)*(A5^3))+((1.1074017861*10^-4)*(A5^2))-((3.1241611608*10^-2)*(A5))+(3.3006694533) -> 1.811494 | E5: 188.71 | F5: 120.26 | H5: 298 | I5: 29.07 | J5: 0 | K5: =(((5.9376621671*(10^-19)*(H5^6))-((7.1020711589*10^-15)*(H5^5))+((3.3460896805*10^-11)*(H5^4))-((7.8909601634*10^-8)*(H5^3))+((9.8599769212*10^-5)*(H5^2))-((2.8172899156*10^-2)*(H5))+((3.05378908)))) -> 1.5736906 | L5: 191.5 | M5: 23.03 | O5: 298 | P5: 29.31 | Q5: 0 | R5: =((6.4958291549*10^-19)*(O5^6)) -((7.8224528491*10^-15)*(O5^5)) + ((3.7120417697*10^-11)*(O5^4)) -((8.798317617*10^-8)*(O5^3)) + ((1.0982327235*10^-4)*(O5^2)) -((3.2606444641*10^-2)*(O5))+(3.5786489003) -> 1.5611322 | S5: 205.03 | T5: 24.66 | V5: 298 | W5: 37.2 | X5: 0 | Y5: =((8.5770134353*10^-19)*(V5^6))-((1.0374875556*10^-14)*(V5^5))+((4.9689475953*10^-11)*(V5^4))-((1.2019118054*10^-7)*(V5^3))+((1.5650954893*10^-4)*(V5^2))-((4.8239362033*10^-2)*(V5))+(5.2084519626) -> 1.9191833 | Z5: 213.73 | AA5: 184.46 | AE5: =AG5+AH5+AI5+AJ5 -> 105.62037 | AF5: 298 | AG5: =($D5)*'Task2A)values_PHI_dependent'!$T$2 -> 16.303446 | AH5: =$K5*'Task2A)values_PHI_dependent'!$V$2 -> 73.96346 | AI5: =$R5*'Task2A)values_PHI_dependent'!$U$2 -> 0 | AJ5: =($Y5)*'Task2A)values_PHI_dependent'!$S$2 -> 15.353467 | AM5: =AO5+AP5+AQ5+AR5 -> 105.49895 | AN5: 298 | AO5: =($D5)*'Task2A)values_PHI_dependent'!$P$9 -> 16.140412 | AP5: =$K5*'Task2A)values_PHI_dependent'!$R$9 -> 73.96346 | AQ5: =$R5*'Task2A)values_PHI_dependent'!$Q$9 -> 0.19514152 | AR5: =($Y5)*'Task2A)values_PHI_dependent'!$O$9 -> 15.199932 | AU5: =AW5+AX5+AY5+AZ5 -> 105.37752 | AV5: 298 | AW5: =($D5)*'Task2A)values_PHI_dependent'!$P$10 -> 15.977377 | AX5: =$K5*'Task2A)values_PHI_dependent'!$R$10 -> 73.96346 | AY5: =$R5*'Task2A)values_PHI_dependent'!$Q$10 -> 0.39028304 | AZ5: =($Y5)*'Task2A)values_PHI_dependent'!$O$10 -> 15.046397 | BC5: =BE5+BF5+BG5+BH5 -> 105.25609 | BD5: 298 | BE5: =($D5)*'Task2A)values_PHI_dependent'!$P$11 -> 15.814343 | BF5: =$K5*'Task2A)values_PHI_dependent'!$R$10 -> 73.96346 | BG5: =$R5*'Task2A)values_PHI_dependent'!$Q$11 -> 0.58542457 | BH5: =($Y5)*'Task2A)values_PHI_dependent'!$O$11 -> 14.892863
A6: 300 | B6: 33.47 | C6: 0.06 | D6: =((6.6506859177*10^-19)*(A6^6))-((7.8984343104*10^-15)*(A6^5))+((3.6879849877*10^-11)*(A6^4))-((8.6386228559*10^-8)*(A6^3))+((1.1074017861*10^-4)*(A6^2))-((3.1241611608*10^-2)*(A6))+(3.3006694533) -> 1.8423923 | E6: 188.91 | F6: 119.66 | H6: 300 | I6: 29.07 | J6: 0.05 | K6: =(((5.9376621671*(10^-19)*(H6^6))-((7.1020711589*10^-15)*(H6^5))+((3.3460896805*10^-11)*(H6^4))-((7.8909601634*10^-8)*(H6^3))+((9.8599769212*10^-5)*(H6^2))-((2.8172899156*10^-2)*(H6))+((3.05378908)))) -> 1.5995474 | L6: 191.68 | M6: 23.03 | O6: 300 | P6: 29.33 | Q6: 0.05 | R6: =((6.4958291549*10^-19)*(O6^6)) -((7.8224528491*10^-15)*(O6^5)) + ((3.7120417697*10^-11)*(O6^4)) -((8.798317617*10^-8)*(O6^3)) + ((1.0982327235*10^-4)*(O6^2)) -((3.2606444641*10^-2)*(O6))+(3.5786489003) -> 1.5874046 | S6: 205.21 | T6: 24.66 | V6: 300 | W6: 37.28 | X6: 0.07 | Y6: =((8.5770134353*10^-19)*(V6^6))-((1.0374875556*10^-14)*(V6^5))+((4.9689475953*10^-11)*(V6^4))-((1.2019118054*10^-7)*(V6^3))+((1.5650954893*10^-4)*(V6^2))-((4.8239362033*10^-2)*(V6))+(5.2084519626) -> 1.95524 | Z6: 213.96 | AA6: 183.48 | AE6: =AG6+AH6+AI6+AJ6 -> 107.40218 | AF6: 300 | AG6: =($D6)*'Task2A)values_PHI_dependent'!$T$2 -> 16.581531 | AH6: =$K6*'Task2A)values_PHI_dependent'!$V$2 -> 75.178728 | AI6: =$R6*'Task2A)values_PHI_dependent'!$U$2 -> 0 | AJ6: =($Y6)*'Task2A)values_PHI_dependent'!$S$2 -> 15.64192 | AM6: =AO6+AP6+AQ6+AR6 -> 107.27837 | AN6: 300 | AO6: =($D6)*'Task2A)values_PHI_dependent'!$P$9 -> 16.415715 | AP6: =$K6*'Task2A)values_PHI_dependent'!$R$9 -> 75.178728 | AQ6: =$R6*'Task2A)values_PHI_dependent'!$Q$9 -> 0.19842558 | AR6: =($Y6)*'Task2A)values_PHI_dependent'!$O$9 -> 15.4855 | AU6: =AW6+AX6+AY6+AZ6 -> 107.15456 | AV6: 300 | AW6: =($D6)*'Task2A)values_PHI_dependent'!$P$10 -> 16.2499 | AX6: =$K6*'Task2A)values_PHI_dependent'!$R$10 -> 75.178728 | AY6: =$R6*'Task2A)values_PHI_dependent'!$Q$10 -> 0.39685116 | AZ6: =($Y6)*'Task2A)values_PHI_dependent'!$O$10 -> 15.329081 | BC6: =BE6+BF6+BG6+BH6 -> 107.03075 | BD6: 300 | BE6: =($D6)*'Task2A)values_PHI_dependent'!$P$11 -> 16.084085 | BF6: =$K6*'Task2A)values_PHI_dependent'!$R$10 -> 75.178728 | BG6: =$R6*'Task2A)values_PHI_dependent'!$Q$11 -> 0.59527674 | BH6: =($Y6)*'Task2A)values_PHI_dependent'!$O$11 -> 15.172662
A7: 350 | B7: 33.97 | C7: 1.75 | D7: =((6.6506859177*10^-19)*(A7^6))-((7.8984343104*10^-15)*(A7^5))+((3.6879849877*10^-11)*(A7^4))-((8.6386228559*10^-8)*(A7^3))+((1.1074017861*10^-4)*(A7^2))-((3.1241611608*10^-2)*(A7))+(3.3006694533) -> 2.7411345 | E7: 194.11 | F7: 105.85 | H7: 350 | I7: 29.19 | J7: 1.51 | K7: =(((5.9376621671*(10^-19)*(H7^6))-((7.1020711589*10^-15)*(H7^5))+((3.3460896805*10^-11)*(H7^4))-((7.8909601634*10^-8)*(H7^3))+((9.8599769212*10^-5)*(H7^2))-((2.8172899156*10^-2)*(H7))+((3.05378908)))) -> 2.3544096 | L7: 196.17 | M7: 23.08 | O7: 350 | P7: 29.77 | Q7: 1.53 | R7: =((6.4958291549*10^-19)*(O7^6)) -((7.8224528491*10^-15)*(O7^5)) + ((3.7120417697*10^-11)*(O7^4)) -((8.798317617*10^-8)*(O7^3)) + ((1.0982327235*10^-4)*(O7^2)) -((3.2606444641*10^-2)*(O7))+(3.5786489003) -> 2.3646128 | S7: 209.77 | T7: 24.7 | V7: 350 | W7: 39.37 | X7: 1.99 | Y7: =((8.5770134353*10^-19)*(V7^6))-((1.0374875556*10^-14)*(V7^5))+((4.9689475953*10^-11)*(V7^4))-((1.2019118054*10^-7)*(V7^3))+((1.5650954893*10^-4)*(V7^2))-((4.8239362033*10^-2)*(V7))+(5.2084519626) -> 3.0366367 | Z7: 219.86 | AA7: 161 | AE7: =AG7+AH7+AI7+AJ7 -> 159.62056 | AF7: 350 | AG7: =($D7)*'Task2A)values_PHI_dependent'!$T$2 -> 24.67021 | AH7: =$K7*'Task2A)values_PHI_dependent'!$V$2 -> 110.65725 | AI7: =$R7*'Task2A)values_PHI_dependent'!$U$2 -> 0 | AJ7: =($Y7)*'Task2A)values_PHI_dependent'!$S$2 -> 24.293094 | AM7: =AO7+AP7+AQ7+AR7 -> 159.4265 | AN7: 350 | AO7: =($D7)*'Task2A)values_PHI_dependent'!$P$9 -> 24.423508 | AP7: =$K7*'Task2A)values_PHI_dependent'!$R$9 -> 110.65725 | AQ7: =$R7*'Task2A)values_PHI_dependent'!$Q$9 -> 0.29557661 | AR7: =($Y7)*'Task2A)values_PHI_dependent'!$O$9 -> 24.050163 | AU7: =AW7+AX7+AY7+AZ7 -> 159.23244 | AV7: 350 | AW7: =($D7)*'Task2A)values_PHI_dependent'!$P$10 -> 24.176806 | AX7: =$K7*'Task2A)values_PHI_dependent'!$R$10 -> 110.65725 | AY7: =$R7*'Task2A)values_PHI_dependent'!$Q$10 -> 0.59115321 | AZ7: =($Y7)*'Task2A)values_PHI_dependent'!$O$10 -> 23.807232 | BC7: =BE7+BF7+BG7+BH7 -> 159.03839 | BD7: 350 | BE7: =($D7)*'Task2A)values_PHI_dependent'!$P$11 -> 23.930104 | BF7: =$K7*'Task2A)values_PHI_dependent'!$R$10 -> 110.65725 | BG7: =$R7*'Task2A)values_PHI_dependent'!$Q$11 -> 0.88672982 | BH7: =($Y7)*'Task2A)values_PHI_dependent'!$O$11 -> 23.564301
A8: 400 | B8: 34.44 | C8: 3.46 | D8: =((6.6506859177*10^-19)*(A8^6))-((7.8984343104*10^-15)*(A8^5))+((3.6879849877*10^-11)*(A8^4))-((8.6386228559*10^-8)*(A8^3))+((1.1074017861*10^-4)*(A8^2))-((3.1241611608*10^-2)*(A8))+(3.3006694533) -> 3.8597031 | E8: 198.68 | F8: 95.58 | H8: 400 | I8: 29.32 | J8: 2.97 | K8: =(((5.9376621671*(10^-19)*(H8^6))-((7.1020711589*10^-15)*(H8^5))+((3.3460896805*10^-11)*(H8^4))-((7.8909601634*10^-8)*(H8^3))+((9.8599769212*10^-5)*(H8^2))-((2.8172899156*10^-2)*(H8))+((3.05378908)))) -> 3.2966838 | L8: 200.08 | M8: 23.17 | O8: 400 | P8: 30.21 | Q8: 3.03 | R8: =((6.4958291549*10^-19)*(O8^6)) -((7.8224528491*10^-15)*(O8^5)) + ((3.7120417697*10^-11)*(O8^4)) -((8.798317617*10^-8)*(O8^3)) + ((1.0982327235*10^-4)*(O8^2)) -((3.2606444641*10^-2)*(O8))+(3.5786489003) -> 3.3497128 | S8: 213.77 | T8: 24.8 | V8: 400 | W8: 41.27 | X8: 4 | Y8: =((8.5770134353*10^-19)*(V8^6))-((1.0374875556*10^-14)*(V8^5))+((4.9689475953*10^-11)*(V8^4))-((1.2019118054*10^-7)*(V8^3))+((1.5650954893*10^-4)*(V8^2))-((4.8239362033*10^-2)*(V8))+(5.2084519626) -> 4.4313244 | Z8: 225.25 | AA8: 144.22 | AE8: =AG8+AH8+AI8+AJ8 -> 225.13206 | AF8: 400 | AG8: =($D8)*'Task2A)values_PHI_dependent'!$T$2 -> 34.737328 | AH8: =$K8*'Task2A)values_PHI_dependent'!$V$2 -> 154.94414 | AI8: =$R8*'Task2A)values_PHI_dependent'!$U$2 -> 0 | AJ8: =($Y8)*'Task2A)values_PHI_dependent'!$S$2 -> 35.450595 | AM8: =AO8+AP8+AQ8+AR8 -> 224.8489 | AN8: 400 | AO8: =($D8)*'Task2A)values_PHI_dependent'!$P$9 -> 34.389954 | AP8: =$K8*'Task2A)values_PHI_dependent'!$R$9 -> 154.94414 | AQ8: =$R8*'Task2A)values_PHI_dependent'!$Q$9 -> 0.4187141 | AR8: =($Y8)*'Task2A)values_PHI_dependent'!$O$9 -> 35.096089 | AU8: =AW8+AX8+AY8+AZ8 -> 224.56573 | AV8: 400 | AW8: =($D8)*'Task2A)values_PHI_dependent'!$P$10 -> 34.042581 | AX8: =$K8*'Task2A)values_PHI_dependent'!$R$10 -> 154.94414 | AY8: =$R8*'Task2A)values_PHI_dependent'!$Q$10 -> 0.8374282 | AZ8: =($Y8)*'Task2A)values_PHI_dependent'!$O$10 -> 34.741584 | BC8: =BE8+BF8+BG8+BH8 -> 224.28257 | BD8: 400 | BE8: =($D8)*'Task2A)values_PHI_dependent'!$P$11 -> 33.695208 | BF8: =$K8*'Task2A)values_PHI_dependent'!$R$10 -> 154.94414 | BG8: =$R8*'Task2A)values_PHI_dependent'!$Q$11 -> 1.2561423 | BH8: =($Y8)*'Task2A)values_PHI_dependent'!$O$11 -> 34.387078
A9: 450 | B9: 34.89 | C9: 5.19 | D9: =((6.6506859177*10^-19)*(A9^6))-((7.8984343104*10^-15)*(A9^5))+((3.6879849877*10^-11)*(A9^4))-((8.6386228559*10^-8)*(A9^3))+((1.1074017861*10^-4)*(A9^2))-((3.1241611608*10^-2)*(A9))+(3.3006694533) -> 5.1669639 | E9: 202.76 | F9: 87.64 | H9: 450 | I9: 29.46 | J9: 4.44 | K9: =(((5.9376621671*(10^-19)*(H9^6))-((7.1020711589*10^-15)*(H9^5))+((3.3460896805*10^-11)*(H9^4))-((7.8909601634*10^-8)*(H9^3))+((9.8599769212*10^-5)*(H9^2))-((2.8172899156*10^-2)*(H9))+((3.05378908)))) -> 4.3977835 | L9: 203.54 | M9: 23.29 | O9: 450 | P9: 30.66 | Q9: 4.55 | R9: =((6.4958291549*10^-19)*(O9^6)) -((7.8224528491*10^-15)*(O9^5)) + ((3.7120417697*10^-11)*(O9^4)) -((8.798317617*10^-8)*(O9^3)) + ((1.0982327235*10^-4)*(O9^2)) -((3.2606444641*10^-2)*(O9))+(3.5786489003) -> 4.5107114 | S9: 217.36 | T9: 24.93 | V9: 450 | W9: 43 | X9: 6.11 | Y9: =((8.5770134353*10^-19)*(V9^6))-((1.0374875556*10^-14)*(V9^5))+((4.9689475953*10^-11)*(V9^4))-((1.2019118054*10^-7)*(V9^3))+((1.5650954893*10^-4)*(V9^2))-((4.8239362033*10^-2)*(V9))+(5.2084519626) -> 6.094757 | Z9: 230.21 | AA9: 131.24 | AE9: =AG9+AH9+AI9+AJ9 -> 301.95655 | AF9: 450 | AG9: =($D9)*'Task2A)values_PHI_dependent'!$T$2 -> 46.502675 | AH9: =$K9*'Task2A)values_PHI_dependent'!$V$2 -> 206.69582 | AI9: =$R9*'Task2A)values_PHI_dependent'!$U$2 -> 0 | AJ9: =($Y9)*'Task2A)values_PHI_dependent'!$S$2 -> 48.758056 | AM9: =AO9+AP9+AQ9+AR9 -> 301.56779 | AN9: 450 | AO9: =($D9)*'Task2A)values_PHI_dependent'!$P$9 -> 46.037648 | AP9: =$K9*'Task2A)values_PHI_dependent'!$R$9 -> 206.69582 | AQ9: =$R9*'Task2A)values_PHI_dependent'!$Q$9 -> 0.56383892 | AR9: =($Y9)*'Task2A)values_PHI_dependent'!$O$9 -> 48.270475 | AU9: =AW9+AX9+AY9+AZ9 -> 301.17902 | AV9: 450 | AW9: =($D9)*'Task2A)values_PHI_dependent'!$P$10 -> 45.572622 | AX9: =$K9*'Task2A)values_PHI_dependent'!$R$10 -> 206.69582 | AY9: =$R9*'Task2A)values_PHI_dependent'!$Q$10 -> 1.1276778 | AZ9: =($Y9)*'Task2A)values_PHI_dependent'!$O$10 -> 47.782895 | BC9: =BE9+BF9+BG9+BH9 -> 300.79025 | BD9: 450 | BE9: =($D9)*'Task2A)values_PHI_dependent'!$P$11 -> 45.107595 | BF9: =$K9*'Task2A)values_PHI_dependent'!$R$10 -> 206.69582 | BG9: =$R9*'Task2A)values_PHI_dependent'!$Q$11 -> 1.6915168 | BH9: =($Y9)*'Task2A)values_PHI_dependent'!$O$11 -> 47.295314
A10: 500 | B10: 35.34 | C10: 6.95 | D10: =((6.6506859177*10^-19)*(A10^6))-((7.8984343104*10^-15)*(A10^5))+((3.6879849877*10^-11)*(A10^4))-((8.6386228559*10^-8)*(A10^3))+((1.1074017861*10^-4)*(A10^2))-((3.1241611608*10^-2)*(A10))+(3.3006694533) -> 6.635186 | E10: 206.46 | F10: 81.34 | H10: 500 | I10: 29.63 | J10: 5.92 | K10: =(((5.9376621671*(10^-19)*(H10^6))-((7.1020711589*10^-15)*(H10^5))+((3.3460896805*10^-11)*(H10^4))-((7.8909601634*10^-8)*(H10^3))+((9.8599769212*10^-5)*(H10^2))-((2.8172899156*10^-2)*(H10))+((3.05378908)))) -> 5.6322255 | L10: 206.65 | M10: 23.43 | O10: 500 | P10: 31.11 | Q10: 6.1 | R10: =((6.4958291549*10^-19)*(O10^6)) -((7.8224528491*10^-15)*(O10^5)) + ((3.7120417697*10^-11)*(O10^4)) -((8.798317617*10^-8)*(O10^3)) + ((1.0982327235*10^-4)*(O10^2)) -((3.2606444641*10^-2)*(O10))+(3.5786489003) -> 5.8190718 | S10: 220.61 | T10: 25.07 | V10: 500 | W10: 44.57 | X10: 8.3 | Y10: =((8.5770134353*10^-19)*(V10^6))-((1.0374875556*10^-14)*(V10^5))+((4.9689475953*10^-11)*(V10^4))-((1.2019118054*10^-7)*(V10^3))+((1.5650954893*10^-4)*(V10^2))-((4.8239362033*10^-2)*(V10))+(5.2084519626) -> 7.9870396 | Z10: 234.82 | AA10: 120.91 | AE10: =AG10+AH10+AI10+AJ10 -> 388.32759 | AF10: 500 | AG10: =($D10)*'Task2A)values_PHI_dependent'!$T$2 -> 59.716674 | AH10: =$K10*'Task2A)values_PHI_dependent'!$V$2 -> 264.7146 | AI10: =$R10*'Task2A)values_PHI_dependent'!$U$2 -> 0 | AJ10: =($Y10)*'Task2A)values_PHI_dependent'!$S$2 -> 63.896317 | AM10: =AO10+AP10+AQ10+AR10 -> 387.81884 | AN10: 500 | AO10: =($D10)*'Task2A)values_PHI_dependent'!$P$9 -> 59.119507 | AP10: =$K10*'Task2A)values_PHI_dependent'!$R$9 -> 264.7146 | AQ10: =$R10*'Task2A)values_PHI_dependent'!$Q$9 -> 0.72738398 | AR10: =($Y10)*'Task2A)values_PHI_dependent'!$O$9 -> 63.257353 | AU10: =AW10+AX10+AY10+AZ10 -> 387.3101 | AV10: 500 | AW10: =($D10)*'Task2A)values_PHI_dependent'!$P$10 -> 58.52234 | AX10: =$K10*'Task2A)values_PHI_dependent'!$R$10 -> 264.7146 | AY10: =$R10*'Task2A)values_PHI_dependent'!$Q$10 -> 1.454768 | AZ10: =($Y10)*'Task2A)values_PHI_dependent'!$O$10 -> 62.61839 | BC10: =BE10+BF10+BG10+BH10 -> 386.80135 | BD10: 500 | BE10: =($D10)*'Task2A)values_PHI_dependent'!$P$11 -> 57.925174 | BF10: =$K10*'Task2A)values_PHI_dependent'!$R$10 -> 264.7146 | BG10: =$R10*'Task2A)values_PHI_dependent'!$Q$11 -> 2.1821519 | BH10: =($Y10)*'Task2A)values_PHI_dependent'!$O$11 -> 61.979427
A11: 550 | B11: 35.8 | C11: 8.73 | D11: =((6.6506859177*10^-19)*(A11^6))-((7.8984343104*10^-15)*(A11^5))+((3.6879849877*10^-11)*(A11^4))-((8.6386228559*10^-8)*(A11^3))+((1.1074017861*10^-4)*(A11^2))-((3.1241611608*10^-2)*(A11))+(3.3006694533) -> 8.2398088 | E11: 209.85 | F11: 76.22 | H11: 550 | I11: 29.84 | J11: 7.41 | K11: =(((5.9376621671*(10^-19)*(H11^6))-((7.1020711589*10^-15)*(H11^5))+((3.3460896805*10^-11)*(H11^4))-((7.8909601634*10^-8)*(H11^3))+((9.8599769212*10^-5)*(H11^2))-((2.8172899156*10^-2)*(H11))+((3.05378908)))) -> 6.9774206 | L11: 209.49 | M11: 23.58 | O11: 550 | P11: 31.57 | Q11: 7.66 | R11: =((6.4958291549*10^-19)*(O11^6)) -((7.8224528491*10^-15)*(O11^5)) + ((3.7120417697*10^-11)*(O11^4)) -((8.798317617*10^-8)*(O11^3)) + ((1.0982327235*10^-4)*(O11^2)) -((3.2606444641*10^-2)*(O11))+(3.5786489003) -> 7.2494826 | S11: 223.6 | T11: 25.22 | V11: 550 | W11: 46 | X11: 10.56 | Y11: =((8.5770134353*10^-19)*(V11^6))-((1.0374875556*10^-14)*(V11^5))+((4.9689475953*10^-11)*(V11^4))-((1.2019118054*10^-7)*(V11^3))+((1.5650954893*10^-4)*(V11^2))-((4.8239362033*10^-2)*(V11))+(5.2084519626) -> 10.072622 | Z11: 239.14 | AA11: 112.51 | AE11: =AG11+AH11+AI11+AJ11 -> 482.67802 | AF11: 550 | AG11: =($D11)*'Task2A)values_PHI_dependent'!$T$2 -> 74.158279 | AH11: =$K11*'Task2A)values_PHI_dependent'!$V$2 -> 327.93877 | AI11: =$R11*'Task2A)values_PHI_dependent'!$U$2 -> 0 | AJ11: =($Y11)*'Task2A)values_PHI_dependent'!$S$2 -> 80.580974 | AM11: =AO11+AP11+AQ11+AR11 -> 482.03682 | AN11: 550 | AO11: =($D11)*'Task2A)values_PHI_dependent'!$P$9 -> 73.416696 | AP11: =$K11*'Task2A)values_PHI_dependent'!$R$9 -> 327.93877 | AQ11: =$R11*'Task2A)values_PHI_dependent'!$Q$9 -> 0.90618532 | AR11: =($Y11)*'Task2A)values_PHI_dependent'!$O$9 -> 79.775165 | AU11: =AW11+AX11+AY11+AZ11 -> 481.39561 | AV11: 550 | AW11: =($D11)*'Task2A)values_PHI_dependent'!$P$10 -> 72.675113 | AX11: =$K11*'Task2A)values_PHI_dependent'!$R$10 -> 327.93877 | AY11: =$R11*'Task2A)values_PHI_dependent'!$Q$10 -> 1.8123706 | AZ11: =($Y11)*'Task2A)values_PHI_dependent'!$O$10 -> 78.969355 | BC11: =BE11+BF11+BG11+BH11 -> 480.7544 | BD11: 550 | BE11: =($D11)*'Task2A)values_PHI_dependent'!$P$11 -> 71.93353 | BF11: =$K11*'Task2A)values_PHI_dependent'!$R$10 -> 327.93877 | BG11: =$R11*'Task2A)values_PHI_dependent'!$Q$11 -> 2.718556 | BH11: =($Y11)*'Task2A)values_PHI_dependent'!$O$11 -> 78.163545
A12: 600 | B12: 36.29 | C12: 10.53 | D12: =((6.6506859177*10^-19)*(A12^6))-((7.8984343104*10^-15)*(A12^5))+((3.6879849877*10^-11)*(A12^4))-((8.6386228559*10^-8)*(A12^3))+((1.1074017861*10^-4)*(A12^2))-((3.1241611608*10^-2)*(A12))+(3.3006694533) -> 9.9592172 | E12: 212.98 | F12: 71.99 | H12: 600 | I12: 30.08 | J12: 8.9 | K12: =(((5.9376621671*(10^-19)*(H12^6))-((7.1020711589*10^-15)*(H12^5))+((3.3460896805*10^-11)*(H12^4))-((7.8909601634*10^-8)*(H12^3))+((9.8599769212*10^-5)*(H12^2))-((2.8172899156*10^-2)*(H12))+((3.05378908)))) -> 8.4134705 | L12: 212.09 | M12: 23.72 | O12: 600 | P12: 32.03 | Q12: 9.25 | R12: =((6.4958291549*10^-19)*(O12^6)) -((7.8224528491*10^-15)*(O12^5)) + ((3.7120417697*10^-11)*(O12^4)) -((8.798317617*10^-8)*(O12^3)) + ((1.0982327235*10^-4)*(O12^2)) -((3.2606444641*10^-2)*(O12))+(3.5786489003) -> 8.7796332 | S12: 226.36 | T12: 25.37 | V12: 600 | W12: 47.31 | X12: 12.9 | Y12: =((8.5770134353*10^-19)*(V12^6))-((1.0374875556*10^-14)*(V12^5))+((4.9689475953*10^-11)*(V12^4))-((1.2019118054*10^-7)*(V12^3))+((1.5650954893*10^-4)*(V12^2))-((4.8239362033*10^-2)*(V12))+(5.2084519626) -> 12.32 | Z12: 243.2 | AA12: 105.55 | AE12: =AG12+AH12+AI12+AJ12 -> 583.62607 | AF12: 600 | AG12: =($D12)*'Task2A)values_PHI_dependent'!$T$2 -> 89.632954 | AH12: =$K12*'Task2A)values_PHI_dependent'!$V$2 -> 395.43311 | AI12: =$R12*'Task2A)values_PHI_dependent'!$U$2 -> 0 | AJ12: =($Y12)*'Task2A)values_PHI_dependent'!$S$2 -> 98.56 | AM12: =AO12+AP12+AQ12+AR12 -> 582.84159 | AN12: 600 | AO12: =($D12)*'Task2A)values_PHI_dependent'!$P$9 -> 88.736625 | AP12: =$K12*'Task2A)values_PHI_dependent'!$R$9 -> 395.43311 | AQ12: =$R12*'Task2A)values_PHI_dependent'!$Q$9 -> 1.0974542 | AR12: =($Y12)*'Task2A)values_PHI_dependent'!$O$9 -> 97.5744 | AU12: =AW12+AX12+AY12+AZ12 -> 582.05712 | AV12: 600 | AW12: =($D12)*'Task2A)values_PHI_dependent'!$P$10 -> 87.840295 | AX12: =$K12*'Task2A)values_PHI_dependent'!$R$10 -> 395.43311 | AY12: =$R12*'Task2A)values_PHI_dependent'!$Q$10 -> 2.1949083 | AZ12: =($Y12)*'Task2A)values_PHI_dependent'!$O$10 -> 96.5888 | BC12: =BE12+BF12+BG12+BH12 -> 581.27264 | BD12: 600 | BE12: =($D12)*'Task2A)values_PHI_dependent'!$P$11 -> 86.943966 | BF12: =$K12*'Task2A)values_PHI_dependent'!$R$10 -> 395.43311 | BG12: =$R12*'Task2A)values_PHI_dependent'!$Q$11 -> 3.2923625 | BH12: =($Y12)*'Task2A)values_PHI_dependent'!$O$11 -> 95.6032
A13: 650 | B13: 36.81 | C13: 12.35 | D13: =((6.6506859177*10^-19)*(A13^6))-((7.8984343104*10^-15)*(A13^5))+((3.6879849877*10^-11)*(A13^4))-((8.6386228559*10^-8)*(A13^3))+((1.1074017861*10^-4)*(A13^2))-((3.1241611608*10^-2)*(A13))+(3.3006694533) -> 11.774524 | E13: 215.91 | F13: 68.43 | H13: 650 | I13: 30.37 | J13: 10.42 | K13: =(((5.9376621671*(10^-19)*(H13^6))-((7.1020711589*10^-15)*(H13^5))+((3.3460896805*10^-11)*(H13^4))-((7.8909601634*10^-8)*(H13^3))+((9.8599769212*10^-5)*(H13^2))-((2.8172899156*10^-2)*(H13))+((3.05378908)))) -> 9.9229715 | L13: 214.51 | M13: 23.87 | O13: 650 | P13: 32.48 | Q13: 10.87 | R13: =((6.4958291549*10^-19)*(O13^6)) -((7.8224528491*10^-15)*(O13^5)) + ((3.7120417697*10^-11)*(O13^4)) -((8.798317617*10^-8)*(O13^3)) + ((1.0982327235*10^-4)*(O13^2)) -((3.2606444641*10^-2)*(O13))+(3.5786489003) -> 10.389998 | S13: 228.94 | T13: 25.53 | V13: 650 | W13: 48.51 | X13: 15.29 | Y13: =((8.5770134353*10^-19)*(V13^6))-((1.0374875556*10^-14)*(V13^5))+((4.9689475953*10^-11)*(V13^4))-((1.2019118054*10^-7)*(V13^3))+((1.5650954893*10^-4)*(V13^2))-((4.8239362033*10^-2)*(V13))+(5.2084519626) -> 14.70143 | Z13: 247.03 | AA13: 99.7 | AE13: =AG13+AH13+AI13+AJ13 -> 689.96182 | AF13: 650 | AG13: =($D13)*'Task2A)values_PHI_dependent'!$T$2 -> 105.97071 | AH13: =$K13*'Task2A)values_PHI_dependent'!$V$2 -> 466.37966 | AI13: =$R13*'Task2A)values_PHI_dependent'!$U$2 -> 0 | AJ13: =($Y13)*'Task2A)values_PHI_dependent'!$S$2 -> 117.61144 | AM13: =AO13+AP13+AQ13+AR13 -> 689.02474 | AN13: 650 | AO13: =($D13)*'Task2A)values_PHI_dependent'!$P$9 -> 104.91101 | AP13: =$K13*'Task2A)values_PHI_dependent'!$R$9 -> 466.37966 | AQ13: =$R13*'Task2A)values_PHI_dependent'!$Q$9 -> 1.2987498 | AR13: =($Y13)*'Task2A)values_PHI_dependent'!$O$9 -> 116.43533 | AU13: =AW13+AX13+AY13+AZ13 -> 688.08767 | AV13: 650 | AW13: =($D13)*'Task2A)values_PHI_dependent'!$P$10 -> 103.8513 | AX13: =$K13*'Task2A)values_PHI_dependent'!$R$10 -> 466.37966 | AY13: =$R13*'Task2A)values_PHI_dependent'!$Q$10 -> 2.5974996 | AZ13: =($Y13)*'Task2A)values_PHI_dependent'!$O$10 -> 115.25921 | BC13: =BE13+BF13+BG13+BH13 -> 687.1506 | BD13: 650 | BE13: =($D13)*'Task2A)values_PHI_dependent'!$P$11 -> 102.79159 | BF13: =$K13*'Task2A)values_PHI_dependent'!$R$10 -> 466.37966 | BG13: =$R13*'Task2A)values_PHI_dependent'!$Q$11 -> 3.8962493 | BH13: =($Y13)*'Task2A)values_PHI_dependent'!$O$11 -> 114.0831
A14: 700 | B14: 37.36 | C14: 14.21 | D14: =((6.6506859177*10^-19)*(A14^6))-((7.8984343104*10^-15)*(A14^5))+((3.6879849877*10^-11)*(A14^4))-((8.6386228559*10^-8)*(A14^3))+((1.1074017861*10^-4)*(A14^2))-((3.1241611608*10^-2)*(A14))+(3.3006694533) -> 13.669359 | E14: 218.65 | F14: 65.41 | H14: 700 | I14: 30.68 | J14: 11.94 | K14: =(((5.9376621671*(10^-19)*(H14^6))-((7.1020711589*10^-15)*(H14^5))+((3.3460896805*10^-11)*(H14^4))-((7.8909601634*10^-8)*(H14^3))+((9.8599769212*10^-5)*(H14^2))-((2.8172899156*10^-2)*(H14))+((3.05378908)))) -> 11.490825 | L14: 216.77 | M14: 24.02 | O14: 700 | P14: 32.93 | Q14: 12.5 | R14: =((6.4958291549*10^-19)*(O14^6)) -((7.8224528491*10^-15)*(O14^5)) + ((3.7120417697*10^-11)*(O14^4)) -((8.798317617*10^-8)*(O14^3)) + ((1.0982327235*10^-4)*(O14^2)) -((3.2606444641*10^-2)*(O14))+(3.5786489003) -> 12.063627 | S14: 231.37 | T14: 25.68 | V14: 700 | W14: 49.61 | X14: 17.75 | Y14: =((8.5770134353*10^-19)*(V14^6))-((1.0374875556*10^-14)*(V14^5))+((4.9689475953*10^-11)*(V14^4))-((1.2019118054*10^-7)*(V14^3))+((1.5650954893*10^-4)*(V14^2))-((4.8239362033*10^-2)*(V14))+(5.2084519626) -> 17.192648 | Z14: 250.67 | AA14: 94.72 | AE14: =AG14+AH14+AI14+AJ14 -> 800.63421 | AF14: 700 | AG14: =($D14)*'Task2A)values_PHI_dependent'!$T$2 -> 123.02423 | AH14: =$K14*'Task2A)values_PHI_dependent'!$V$2 -> 540.0688 | AI14: =$R14*'Task2A)values_PHI_dependent'!$U$2 -> 0 | AJ14: =($Y14)*'Task2A)values_PHI_dependent'!$S$2 -> 137.54119 | AM14: =AO14+AP14+AQ14+AR14 -> 799.53651 | AN14: 700 | AO14: =($D14)*'Task2A)values_PHI_dependent'!$P$9 -> 121.79399 | AP14: =$K14*'Task2A)values_PHI_dependent'!$R$9 -> 540.0688 | AQ14: =$R14*'Task2A)values_PHI_dependent'!$Q$9 -> 1.5079534 | AR14: =($Y14)*'Task2A)values_PHI_dependent'!$O$9 -> 136.16577 | AU14: =AW14+AX14+AY14+AZ14 -> 798.43881 | AV14: 700 | AW14: =($D14)*'Task2A)values_PHI_dependent'!$P$10 -> 120.56375 | AX14: =$K14*'Task2A)values_PHI_dependent'!$R$10 -> 540.0688 | AY14: =$R14*'Task2A)values_PHI_dependent'!$Q$10 -> 3.0159068 | AZ14: =($Y14)*'Task2A)values_PHI_dependent'!$O$10 -> 134.79036 | BC14: =BE14+BF14+BG14+BH14 -> 797.34111 | BD14: 700 | BE14: =($D14)*'Task2A)values_PHI_dependent'!$P$11 -> 119.33351 | BF14: =$K14*'Task2A)values_PHI_dependent'!$R$10 -> 540.0688 | BG14: =$R14*'Task2A)values_PHI_dependent'!$Q$11 -> 4.5238602 | BH14: =($Y14)*'Task2A)values_PHI_dependent'!$O$11 -> 133.41495
... A70: 3500 | B70: 57.07 | C70: 154.79 | D70: =((6.6506859177*10^-19)*(A70^6))-((7.8984343104*10^-15)*(A70^5))+((3.6879849877*10^-11)*(A70^4))-((8.6386228559*10^-8)*(A70^3))+((1.1074017861*10^-4)*(A70^2))-((3.1241611608*10^-2)*(A70))+(3.3006694533) -> 155.16207 | E70: 295.11 | F70: 38.49 | H70: 3500 | I70: 37.3 | J70: 111.31 | K70: =(((5.9376621671*(10^-19)*(H70^6))-((7.1020711589*10^-15)*(H70^5))+((3.3460896805*10^-11)*(H70^4))-((7.8909601634*10^-8)*(H70^3))+((9.8599769212*10^-5)*(H70^2))-((2.8172899156*10^-2)*(H70))+((3.05378908)))) -> 111.63156 | L70: 272.53 | M70: 28.95 | O70: 3500 | P70: 40.68 | Q70: 118.17 | R70: =((6.4958291549*10^-19)*(O70^6)) -((7.8224528491*10^-15)*(O70^5)) + ((3.7120417697*10^-11)*(O70^4)) -((8.798317617*10^-8)*(O70^3)) + ((1.0982327235*10^-4)*(O70^2)) -((3.2606444641*10^-2)*(O70))+(3.5786489003) -> 118.50222 | S70: 290.58 | T70: 30.89 | V70: 3500 | W70: 62.72 | X70: 184.11 | Y70: =((8.5770134353*10^-19)*(V70^6))-((1.0374875556*10^-14)*(V70^5))+((4.9689475953*10^-11)*(V70^4))-((1.2019118054*10^-7)*(V70^3))+((1.5650954893*10^-4)*(V70^2))-((4.8239362033*10^-2)*(V70))+(5.2084519626) -> 184.5465 | Z70: 343.73 | AA70: 48.54 | AE70: =AG70+AH70+AI70+AJ70 -> 8119.5141 | AF70: 3500 | AG70: =($D70)*'Task2A)values_PHI_dependent'!$T$2 -> 1396.4587 | AH70: =$K70*'Task2A)values_PHI_dependent'!$V$2 -> 5246.6833 | AI70: =$R70*'Task2A)values_PHI_dependent'!$U$2 -> 0 | AJ70: =($Y70)*'Task2A)values_PHI_dependent'!$S$2 -> 1476.372 | AM70: =AO70+AP70+AQ70+AR70 -> 8105.5985 | AN70: 3500 | AO70: =($D70)*'Task2A)values_PHI_dependent'!$P$9 -> 1382.4941 | AP70: =$K70*'Task2A)values_PHI_dependent'!$R$9 -> 5246.6833 | AQ70: =$R70*'Task2A)values_PHI_dependent'!$Q$9 -> 14.812777 | AR70: =($Y70)*'Task2A)values_PHI_dependent'!$O$9 -> 1461.6083 | AU70: =AW70+AX70+AY70+AZ70 -> 8091.683 | AV70: 3500 | AW70: =($D70)*'Task2A)values_PHI_dependent'!$P$10 -> 1368.5295 | AX70: =$K70*'Task2A)values_PHI_dependent'!$R$10 -> 5246.6833 | AY70: =$R70*'Task2A)values_PHI_dependent'!$Q$10 -> 29.625555 | AZ70: =($Y70)*'Task2A)values_PHI_dependent'!$O$10 -> 1446.8446 | BC70: =BE70+BF70+BG70+BH70 -> 8077.7675 | BD70: 3500 | BE70: =($D70)*'Task2A)values_PHI_dependent'!$P$11 -> 1354.5649 | BF70: =$K70*'Task2A)values_PHI_dependent'!$R$10 -> 5246.6833 | BG70: =$R70*'Task2A)values_PHI_dependent'!$Q$11 -> 44.438332 | BH70: =($Y70)*'Task2A)values_PHI_dependent'!$O$11 -> 1432.0809
J88: y = 5.9376621671E-19x6 - 7.1020711589E-15x5 + 3.3460896805E-11x4 - 7.8909601634E-08x3 + 9.8599769212E-05x2 - 2.8172899156E-02x + 3.0537890800E+00
H90: N2 | I90: =(((5.9376621671*(10^-19)*($H$91^6))-((7.1020711589*10^-15)*($H$91^5))+((3.3460896805*10^-11)*($H$91^4))-((7.8909601634*10^-8)*($H$91^3))+((9.8599769212*10^-5)*($H$91^2))-((2.8172899156*10^-2)*($H$91))+((3.05378908)))) -> 55.939364 | R90: y = 6.4958291549E-19x6 - 7.8224528491E-15x5 + 3.7120417697E-11x4 - 8.7983176170E-08x3 + 1.0982327235E-04x2 - 3.2606444641E-02x + 3.5786489003E+00
H91: 2000 | I91: k
A92: h20
B93: y = 6.6506859177E-19x6 - 7.8984343104E-15x5 + 3.6879849877E-11x4 - 8.6386228559E-08x3 + 1.1074017861E-04x2 - 3.1241611608E-02x + 3.3006694533E+00

Sheet draft
H7: ISO-OCTANE REACTION
H8: Φ(C8H18) + 12.5 (O2 + 3.76 N2)−−→ n1 CO2 + n2 H2O + n3 O2 + n4 N2
H11: REACTION BALANCE | I11: BALANCE | L11: F | M11: 12.5
H13: Carbon (x) | I13: =8*$H$18 -> 8 | L13: CO2 (n1) | M13: =$I$13 -> 8
H14: Hyrdrogen (y) | I14: =18*$H$18 -> 18 | L14: H20 (n2) | M14: =$I$14/2 -> 9
H15: Oxigen | I15: =2*12.5 -> 25 | L15: Oxigen (n3) | M15: =($I$15-(2*$M$13)-$M$14)/2 -> 0
L16: Nitrogen (n4) | M16: =12.5*3.76 -> 47
H17: Φ
G18: change here | H18: 1 | I18: =($M$15*'Task2A)values_PHI_dependent'!$D$18)/('Task2A)values_PHI_dependent'!$D$5*10^-6) -> 0 | J18: =($M$16*'Task2A)values_PHI_dependent'!$D$18)/('Task2A)values_PHI_dependent'!$D$5*10^-6) -> 0.12756303 | O18: ENTALPHTY REACTANTS
O19: ENTALPHTY OF elements
I20: check later
G21: Alpha | H21: Φ | K21: ENT OF FORMATION
G22: ='Task2A)values_PHI_dependent'!$D$16/(H22+$M$11*(1+3.76)) -> 1.0856428e-07 | H22: 1 | I22: =($M$15*G22)/('Task2A)values_PHI_dependent'!$D$5*10^-6) -> 0 | J22: =($M$16*G22)/('Task2A)values_PHI_dependent'!$D$5*10^-6) -> 0.12756303
G23: ='Task2A)values_PHI_dependent'!$D$16/(H23+$M$11*(1+3.76)) -> 1.0858223e-07 | H23: 0.99 | I23: =($M$15*G23)/('Task2A)values_PHI_dependent'!$D$5*10^-6) -> 0 | J23: =($M$16*G23)/('Task2A)values_PHI_dependent'!$D$5*10^-6) -> 0.12758412
G24: ='Task2A)values_PHI_dependent'!$D$16/(H24+$M$11*(1+3.76)) -> 1.0860018e-07 | H24: 0.98 | I24: =($M$15*G24)/('Task2A)values_PHI_dependent'!$D$5*10^-6) -> 0 | J24: =($M$16*G24)/('Task2A)values_PHI_dependent'!$D$5*10^-6) -> 0.12760522
G25: ='Task2A)values_PHI_dependent'!$D$16/(H25+$M$11*(1+3.76)) -> 1.0861814e-07 | H25: 0.97 | I25: =($M$15*G25)/('Task2A)values_PHI_dependent'!$D$5*10^-6) -> 0 | J25: =($M$16*G25)/('Task2A)values_PHI_dependent'!$D$5*10^-6) -> 0.12762632
A26: HENTALPY OF FORMATION DATA | G26: ='Task2A)values_PHI_dependent'!$D$16/(H26+$M$11*(1+3.76)) -> 1.0863611e-07 | H26: 0.96 | I26: =($M$15*G26)/('Task2A)values_PHI_dependent'!$D$5*10^-6) -> 0 | J26: =($M$16*G26)/('Task2A)values_PHI_dependent'!$D$5*10^-6) -> 0.12764743
G27: ='Task2A)values_PHI_dependent'!$D$16/(H27+$M$11*(1+3.76)) -> 1.0865408e-07 | H27: 0.95 | I27: =($M$15*G27)/('Task2A)values_PHI_dependent'!$D$5*10^-6) -> 0 | J27: =($M$16*G27)/('Task2A)values_PHI_dependent'!$D$5*10^-6) -> 0.12766854
B28: hf | C28: -393.5 | D28: KJ/Kmol | G28: ='Task2A)values_PHI_dependent'!$D$16/(H28+$M$11*(1+3.76)) -> 1.0867206e-07 | H28: 0.94 | I28: =($M$15*G28)/('Task2A)values_PHI_dependent'!$D$5*10^-6) -> 0 | J28: =($M$16*G28)/('Task2A)values_PHI_dependent'!$D$5*10^-6) -> 0.12768967
B29: hf Liquid | C29: -285.8 | D29: KJ/Kmol | G29: ='Task2A)values_PHI_dependent'!$D$16/(H29+$M$11*(1+3.76)) -> 1.0869004e-07 | H29: 0.93 | I29: =($M$15*G29)/('Task2A)values_PHI_dependent'!$D$5*10^-6) -> 0 | J29: =($M$16*G29)/('Task2A)values_PHI_dependent'!$D$5*10^-6) -> 0.1277108
B30: hf Gas | C30: -241.8 | D30: KJ/Kmol | G30: ='Task2A)values_PHI_dependent'!$D$16/(H30+$M$11*(1+3.76)) -> 1.0870803e-07 | H30: 0.92 | I30: =($M$15*G30)/('Task2A)values_PHI_dependent'!$D$5*10^-6) -> 0 | J30: =($M$16*G30)/('Task2A)values_PHI_dependent'!$D$5*10^-6) -> 0.12773193
B31: hf | C31: -259.2 | D31: KJ/Kmol | G31: ='Task2A)values_PHI_dependent'!$D$16/(H31+$M$11*(1+3.76)) -> 1.0872602e-07 | H31: 0.91 | I31: =($M$15*G31)/('Task2A)values_PHI_dependent'!$D$5*10^-6) -> 0 | J31: =($M$16*G31)/('Task2A)values_PHI_dependent'!$D$5*10^-6) -> 0.12775308
B32: hf | C32: -201.5 | D32: KJ/Kmol | G32: ='Task2A)values_PHI_dependent'!$D$16/(H32+$M$11*(1+3.76)) -> 1.0874402e-07 | H32: 0.9 | I32: =($M$15*G32)/('Task2A)values_PHI_dependent'!$D$5*10^-6) -> 0 | J32: =($M$16*G32)/('Task2A)values_PHI_dependent'!$D$5*10^-6) -> 0.12777423
G33: ='Task2A)values_PHI_dependent'!$D$16/(H33+$M$11*(1+3.76)) -> 1.0883412e-07 | H33: 0.85 | I33: =($M$15*G33)/('Task2A)values_PHI_dependent'!$D$5*10^-6) -> 0 | J33: =($M$16*G33)/('Task2A)values_PHI_dependent'!$D$5*10^-6) -> 0.12788009
