Workbook

Sheet Terms & Conditions
A1: Celtic Fireworks Ltd are pleased to present the 2022 Trade List. Please note our terms & conditions of sale, as noted below. Should you have any questions please contact Jonathan (07970 062783) or Ed (07779 238359). We look forward to supplying you in 2022. This trade list is under constant development and following customer feedback might be slightly different from last year. It will be updated with new information and product detail as and when available. If you experience any problems please contact Ed on 07779 238359.
A2: PRICING With the current global pandemic many factories have been unable to confirm their prices to us. We have therefore been forced to 'guess' some of our prices for 2022. Shipping prices seem to have stabilised at $37,500 per container. The pre-order and 2022 buying group prices are provided as an indication of what we think the final price will be. Prices will confirmed by email once we are in a position to confirm them. We do not anticipate that they will be higher than indicated. In the event that factory or shipping prices are lower than indicated - this will be reflected on your confirmation.
A3: PRE-ORDERS Pre-orders must be received by January 31st 2022 to benefit from pre-order pricing. A deposit - 25% of the value of the pre-order - will be invoiced. This invoice will be payable before March 31st. We anticpate that PRE-ORDER confirmations will be sent out in May and that 'pre-orders' will be supplied from 1st August 2022 onwards. Pre-ordered goods will be invoiced following collection/delivery - balancing payment will be due (in full) by November 15th latest. In the event that any pre-ordered goods are required before 1st August they will be invoiced on collection with 30 day payment terms - and are subject to availability.
A4: STOCK ORDERS Any items ordered from current stock (column H on the following tabs) must be collected from our stores before March 31st. These items will be invoiced on collection with 30 day terms. Any items that remain un-collected on April 1st will be invoiced at 2022 Buying Group prices.
A5: DELIVERY Our prices are based on COLLECTION from our site in Tutbury. THE COST OF THE DELIVERY IS NOT INCLUDED PRE-ORDER OR BUYING GROUP PRICES. We are able to arrange delivery and the cost will be advised if/when delivery is requested. We are able to offer a 'preferential rate' for deliveries 'out-of-season'.
A6: RETURNS Goods are NOT supplied on a 'Sale or Return' basis. Please note that no items are to be returned to our stores without prior agreement. We regret that our staff will not accept any returns unless previously arranged. In the event that you wish to return an item please email celticfireworks@gmail.com stating the item to be returned, the quantity and the reason for return. We will reply via email and instruct our staff accordingly. We reserve the right to charge a 10% re-stocking fee.
A7: The sale and use of Category 4 material is legally restricted to professional use only. Celtic Fireworks Ltd. will require copies of your explosive storage licence and public liability insurance as well as copies of documentation to prove specialist knowledge. You will be asked to declare that the products will only be made available for use to those persons with 'specialist knowledge'. Celtic Fireworks Ltd reserves the right to decline any order or supply any person/company. By their very nature fireworks could prove dangerous. Celtic Fireworks Ltd will accept no liability for any injury to persons and/or damage to property following the use of any of it's products. It is the customers' responsibility to observe adequate safety distances and to take all necessary safety precautions to protect any and all persons and/or property that may be affected by their activity. The customer must ensure that no damage or injury will occur to any person or property should a product malfunction.
A8: Celtic Fireworks Ltd., Castle Hayes Lane, Castle Hayes Farm,Tutbury. DE13 9HL

Sheet      2022    
C1: category | D1: website title | E1: description | G1: stock | I1: now price | L1: Container Price | M1: Pre-Order | N1: caliber | O1: units/case | P1: Duration | Q1: low noise | R1: weight per unit | S1: neq per unit | T1: Prefire time | U1: Hazard Class | V1: Hazardous material | W1: cat. | X1: Retail RRP | Y1: Retail SSP | Z1: CBM | AA1: ce number | AB1: ADR Classification | AC1: cad expiry | AD1: video link | BA1: 0.05
H2: Order value on this page | K2: =AO2+AP2 -> 0 | N2: Total Order Value | P2: =SUM(AO1:AX2) -> 0 | AO2: =IF(BA2+BB2>70000,SUMPRODUCT(AO4:AO1644,BD4:BD1644),SUMPRODUCT(AO4:AO1644,$I4:$I1644)) -> 0 | AP2: =ROUNDUP(IF(BA2+BB2>70000,SUMPRODUCT(AP4:AP1644,BD4:$BD1644),SUMPRODUCT(AP4:AP1644,$L4:$L1644)),2) -> 0 | AQ2: =IF(BA2+BB2>70000,SUMPRODUCT(AQ4:AQ1644,$BD4:$BD1644),SUMPRODUCT(AQ4:AQ1644,$I4:$I1644)) -> 0 | AR2: =ROUNDUP(IF(BA2+BB2>70000,SUMPRODUCT(AR4:AR1644,$BD4:$BD1644),SUMPRODUCT(AR4:AR1644,$L4:$L1644)),2) -> 0 | AS2: =IF(BA2+BB2>70000,SUMPRODUCT(AS4:AS1644,$BD4:$BD1644),SUMPRODUCT(AS4:AS1644,$I4:$I1644)) -> 0 | AT2: =ROUNDUP(IF(BA2+BB2>70000,SUMPRODUCT(AT4:AT1644,$BD4:$BD1644),SUMPRODUCT(AT4:AT1644,$L4:$L1644)),2) -> 0 | AU2: =IF(BA2+BB2>70000,SUMPRODUCT(AU4:AU1644,$BD4:$BD1644),SUMPRODUCT(AU4:AU1644,$I4:$I1644)) -> 0 | AV2: =ROUNDUP(IF(BA2+BB2>70000,SUMPRODUCT(AV4:AV1644,$BD4:$BD1644),SUMPRODUCT(AV4:AV1644,$L4:$L1644)),2) -> 0 | AW2: =IF(BA2+BB2>70000,SUMPRODUCT(AW4:AW1644,$BD4:$BD1644),SUMPRODUCT(AW4:AW1644,$I4:$I1644)) -> 0 | AX2: =ROUNDUP(IF(BA2+BB2>70000,SUMPRODUCT(AX4:AX1644,$BD4:$BD1644),SUMPRODUCT(AX4:AX1644,$L4:$L1644)),2) -> 0 | AZ2: =SUM(AO2:AX2) -> 0 | BA2: =SUM(Table1[Value for now]) -> 0 | BB2: =SUM(Table1[Pre order Value for season]) -> 0 | BC2: =SUMIF(BC4:BC1644,">0") -> 0 | BD2: =SUMPRODUCT(BD4:BD1644,AZ4:AZ1644) -> 0
C3: Category | D3: Product ID | E3: Description | F3: Video | G3: Qty in stock 15.3.22 | H3: ORDER QUANTITY to be collected BEFORE 31.3.22 | I3: GUARANTEED PRICE for STOCK orders collected before 31.3.22 | J3: ORDER QUANTITY for collection in season | K3: Unit Price (from PO price) | L3: PRE-ORDER Price | M3: BUYING GROUP price | N3: Calibre | O3: Units per case | P3: Duration (seconds) | Q3: Low Noise | R3: Weight per case (kg) | S3: NEQ per case (kg) | T3: Pre-fire time (secs) | U3: Hazard Class | V3: UN no. | W3: Cat. | X3: Retail RRP | Y3: Retail SSP | Z3: CBM (m³) | AA3: CE Number | AB3: ADR Classification | AC3: CAD Expiry | AD3: Video Link | AE3: Quiet? | AF3: Quiet List position | AG3: New? | AH3: New List position | AI3: Retail? | AJ3: Retail List position | AK3: 1.4G? | AL3: 1.4G List position | AM3: Is the line ordered? | AN3: Position on summary sheet | AO3: ordered for now on this page | AP3: Ordered for season on this page | AQ3: ordered for now on retail page | AR3: Ordered for sesaon on RETAIL page | AS3: ordered for now on new2022 page | AT3: Ordered for season on new2022 Page | AU3: ordered for now on quiet page | AV3: Ordered for season on 'Quiet' page | AW3: ordered for now on 1.4g page | AX3: Ordered for season on 1.4G page | AY3: Line total ordered for now | AZ3: Line total ordered for season | BA3: Value for now | BB3: Pre order Value for season | BC3: Line volume | BD3: Container
A4: 1 | B4: NEW2022 | C4: Shell - 2" | D4: CS20016 | E4: 2". Red peony green peony | F4: =IF(LEFT(AD4,4)="http",HYPERLINK(AD4,"Video"),"") -> Video | G4: 0 | I4: 249.18 | K4: 1.7304167 | L4: 226.7538 | M4: 249.18 | N4: 2" | O4: 144 | P4: 0 | Q4: 0 | R4: 0 | S4: 0 | T4: 0 | V4: 0 | W4: 0 | Z4: 0.063 | AA4: 0 | AB4: 0 | AC4: 0 | AD4: https://youtu.be/nuRI8mIPMEw | AE4: 0 | AF4: 0 | AG4: =IF(OR(B4="NEW2021",B4="NEW2022"),1,0) -> 1 | AH4: =SUM(AG$4:AG4) -> 1 | AI4: =IF(RIGHT(E4,6)="retail",1,0) -> 0 | AJ4: =COUNTIF(AI$4:AI4,">0") -> 0 | AK4: 0 | AL4: 0 | AM4: =IF(OR(Table1[[#This Row],[Line total ordered for now]]>0,Table1[[#This Row],[Line total ordered for season]]>0),1,"") | AN4: =COUNTIF(AM$4:AM4,">0") -> 0 | AO4: =Table1[[#This Row],[ORDER QUANTITY to be collected BEFORE 31.3.22]] -> 0 | AP4: =J4 -> 0 | AQ4: =IFERROR(INDEX(Retail!H:H,MATCH($D4,Retail!$D:$D,0)),0) -> 0 | AR4: =IFERROR(INDEX(Retail!J:J,MATCH($D4,Retail!$D:$D,0)),0) -> 0 | AS4: =IFERROR(INDEX('NEW2022'!H:H,MATCH($D4,'NEW2022'!D:D,0)),0) -> 0 | AT4: =IFERROR(INDEX('NEW2022'!J:J,MATCH($D4,'NEW2022'!D:D,0)),0) -> 0 | AU4: =IFERROR(INDEX('Quiet Items'!H:H,MATCH($D4,'Quiet Items'!D:D,0)),0) -> 0 | AV4: =IFERROR(INDEX('Quiet Items'!J:J,MATCH($D4,'Quiet Items'!D:D,0)),0) -> 0 | AW4: =IFERROR(INDEX('1.4G'!H:H,MATCH($D4,'1.4G'!D:D,0)),0) -> 0 | AX4: =IFERROR(INDEX('1.4G'!J:J,MATCH($D4,'1.4G'!D:D,0)),0) -> 0 | AY4: =IF(OR(AU4>0,AW4>0,AO4>0,AS4>0,AQ4>0),AU4+AW4+AO4+AS4+AQ4,0) -> 0 | AZ4: =IF(OR(AV4>0,AX4>0,AP4>0,AT4>0,AR4>0),AV4+AX4+AP4+AT4+AR4,0) -> 0 | BA4: =IFERROR(Table1[[#This Row],[Line total ordered for now]]*Table1[[#This Row],[GUARANTEED PRICE for STOCK orders collected before 31.3.22]],0) -> 0 | BB4: =AZ4*L4 -> 0 | BC4: =(AZ4+Table1[[#This Row],[Line total ordered for now]])*Z4 -> 0 | BD4: 211.803
A5: 2 | C5: Shell - 2" Mixed | D5: CS20001-CS20006 | E5: 2" Mixed case. CS20001 red to crackling CS20002 white to red peony CS20003 green peony CS20004 green to chrys. CS20005 blue peony CS20006 gold peony | F5: =IF(LEFT(AD5,4)="http",HYPERLINK(AD5,"Video"),"") -> Video | G5: 24 | I5: 177.53 | K5: 1.2677349 | L5: 181.0806 | M5: 182.55382 | N5: 2" | O5: 144 | P5: 2 | Q5: No | R5: 14 | S5: 8 | T5: 2.4 | U5: 1.3G | V5: UN0335 | W5: F4 | Z5: 0.062957 | AA5: 1008-F4-69249628 | AB5: GB/HSE-350926, GB/HSE-350927, GB/HSE-350928, GB/HSE-350929, GB/HSE-350930, GB/HSE-350931 | AC5: 7/29/2030 | AD5: https://youtu.be/xirain-eo8s | AE5: 0 | AF5: 0 | AG5: =IF(OR(B5="NEW2021",B5="NEW2022"),1,0) -> 0 | AH5: =SUM(AG$4:AG5) -> 1 | AI5: =IF(RIGHT(E5,6)="retail",1,0) -> 0 | AJ5: =COUNTIF(AI$4:AI5,">0") -> 0 | AK5: 0 | AL5: 0 | AM5: =IF(OR(Table1[[#This Row],[Line total ordered for now]]>0,Table1[[#This Row],[Line total ordered for season]]>0),1,"") | AN5: =COUNTIF(AM$4:AM5,">0") -> 0 | AO5: =Table1[[#This Row],[ORDER QUANTITY to be collected BEFORE 31.3.22]] -> 0 | AP5: =J5 -> 0 | AQ5: =IFERROR(INDEX(Retail!H:H,MATCH($D5,Retail!$D:$D,0)),0) -> 0 | AR5: =IFERROR(INDEX(Retail!J:J,MATCH($D5,Retail!$D:$D,0)),0) -> 0 | AS5: =IFERROR(INDEX('NEW2022'!H:H,MATCH($D5,'NEW2022'!D:D,0)),0) -> 0 | AT5: =IFERROR(INDEX('NEW2022'!J:J,MATCH($D5,'NEW2022'!D:D,0)),0) -> 0 | AU5: =IFERROR(INDEX('Quiet Items'!H:H,MATCH($D5,'Quiet Items'!D:D,0)),0) -> 0 | AV5: =IFERROR(INDEX('Quiet Items'!J:J,MATCH($D5,'Quiet Items'!D:D,0)),0) -> 0 | AW5: =IFERROR(INDEX('1.4G'!H:H,MATCH($D5,'1.4G'!D:D,0)),0) -> 0 | AX5: =IFERROR(INDEX('1.4G'!J:J,MATCH($D5,'1.4G'!D:D,0)),0) -> 0 | AY5: =IF(OR(AU5>0,AW5>0,AO5>0,AS5>0,AQ5>0),AU5+AW5+AO5+AS5+AQ5,0) -> 0 | AZ5: =IF(OR(AV5>0,AX5>0,AP5>0,AT5>0,AR5>0),AV5+AX5+AP5+AT5+AR5,0) -> 0 | BA5: =IFERROR(Table1[[#This Row],[Line total ordered for now]]*Table1[[#This Row],[GUARANTEED PRICE for STOCK orders collected before 31.3.22]],0) -> 0 | BB5: =AZ5*L5 -> 0 | BC5: =(AZ5+Table1[[#This Row],[Line total ordered for now]])*Z5 -> 0 | BD5: 155.17075
A6: 3 | C6: Shell - 2" Mixed | D6: 144xCS20010-CS20015 | E6: 2"x144 Mixed case. White strobe. Blue to orange peony. Green to purple peony. Red to blue Peony. Gold titanium willow. Red to crackling. | F6: =IF(LEFT(AD6,4)="http",HYPERLINK(AD6,"Video"),"") | G6: 1 | I6: 177.35 | K6: 1.4163889 | L6: 185.6036 | M6: 203.96 | N6: 2" | O6: 144 | P6: 2 | Q6: No | R6: 14 | S6: 8 | T6: 2.4 | U6: 1.3G | V6: UN0335 | W6: F4 | Z6: 0.063 | AA6: 1008-F4-69249628 | AB6: GB/HSE-358687, GB/HSE-358691, GB/HSE-358692, GB/HSE-358688, GB/HSE-358690 20x red to crackling (CS20012), GB/HSE-358689 | AC6: 8/15/2028 | AD6: 0 | AE6: 0 | AF6: 0 | AG6: =IF(OR(B6="NEW2021",B6="NEW2022"),1,0) -> 0 | AH6: =SUM(AG$4:AG6) -> 1 | AI6: =IF(RIGHT(E6,6)="retail",1,0) -> 0 | AJ6: =COUNTIF(AI$4:AI6,">0") -> 0 | AK6: 0 | AL6: 0 | AM6: =IF(OR(Table1[[#This Row],[Line total ordered for now]]>0,Table1[[#This Row],[Line total ordered for season]]>0),1,"") | AN6: =COUNTIF(AM$4:AM6,">0") -> 0 | AO6: =Table1[[#This Row],[ORDER QUANTITY to be collected BEFORE 31.3.22]] -> 0 | AP6: =J6 -> 0 | AQ6: =IFERROR(INDEX(Retail!H:H,MATCH($D6,Retail!$D:$D,0)),0) -> 0 | AR6: =IFERROR(INDEX(Retail!J:J,MATCH($D6,Retail!$D:$D,0)),0) -> 0 | AS6: =IFERROR(INDEX('NEW2022'!H:H,MATCH($D6,'NEW2022'!D:D,0)),0) -> 0 | AT6: =IFERROR(INDEX('NEW2022'!J:J,MATCH($D6,'NEW2022'!D:D,0)),0) -> 0 | AU6: =IFERROR(INDEX('Quiet Items'!H:H,MATCH($D6,'Quiet Items'!D:D,0)),0) -> 0 | AV6: =IFERROR(INDEX('Quiet Items'!J:J,MATCH($D6,'Quiet Items'!D:D,0)),0) -> 0 | AW6: =IFERROR(INDEX('1.4G'!H:H,MATCH($D6,'1.4G'!D:D,0)),0) -> 0 | AX6: =IFERROR(INDEX('1.4G'!J:J,MATCH($D6,'1.4G'!D:D,0)),0) -> 0 | AY6: =IF(OR(AU6>0,AW6>0,AO6>0,AS6>0,AQ6>0),AU6+AW6+AO6+AS6+AQ6,0) -> 0 | AZ6: =IF(OR(AV6>0,AX6>0,AP6>0,AT6>0,AR6>0),AV6+AX6+AP6+AT6+AR6,0) -> 0 | BA6: =IFERROR(Table1[[#This Row],[Line total ordered for now]]*Table1[[#This Row],[GUARANTEED PRICE for STOCK orders collected before 31.3.22]],0) -> 0 | BB6: =AZ6*L6 -> 0 | BC6: =(AZ6+Table1[[#This Row],[Line total ordered for now]])*Z6 -> 0 | BD6: 173.366
A7: 4 | C7: Shell - 2" Mixed | D7: 120xCS20010-CS20015 | E7: 2"x120 Mixed case. White strobe. Blue to orange peony. Green to purple peony. Red to blue Peony. Gold titanium willow. Red to crackling. | F7: =IF(LEFT(AD7,4)="http",HYPERLINK(AD7,"Video"),"") | G7: 39 | I7: 147.8 | K7: 1.4164167 | L7: 154.6727 | M7: 169.97 | N7: 2" | O7: 120 | P7: 2 | Q7: No | R7: 14 | S7: 8 | T7: 2.4 | U7: 1.3G | V7: UN0335 | W7: F4 | Z7: 0.063 | AA7: 1008-F4-69249628 | AB7: GB/HSE-358687, GB/HSE-358691, GB/HSE-358692, GB/HSE-358688, GB/HSE-358690 20x red to crackling (CS20012), GB/HSE-358689 | AC7: 8/15/2028 | AD7: 0 | AE7: 0 | AF7: 0 | AG7: =IF(OR(B7="NEW2021",B7="NEW2022"),1,0) -> 0 | AH7: =SUM(AG$4:AG7) -> 1 | AI7: =IF(RIGHT(E7,6)="retail",1,0) -> 0 | AJ7: =COUNTIF(AI$4:AI7,">0") -> 0 | AK7: 0 | AL7: 0 | AM7: =IF(OR(Table1[[#This Row],[Line total ordered for now]]>0,Table1[[#This Row],[Line total ordered for season]]>0),1,"") | AN7: =COUNTIF(AM$4:AM7,">0") -> 0 | AO7: =Table1[[#This Row],[ORDER QUANTITY to be collected BEFORE 31.3.22]] -> 0 | AP7: =J7 -> 0 | AQ7: =IFERROR(INDEX(Retail!H:H,MATCH($D7,Retail!$D:$D,0)),0) -> 0 | AR7: =IFERROR(INDEX(Retail!J:J,MATCH($D7,Retail!$D:$D,0)),0) -> 0 | AS7: =IFERROR(INDEX('NEW2022'!H:H,MATCH($D7,'NEW2022'!D:D,0)),0) -> 0 | AT7: =IFERROR(INDEX('NEW2022'!J:J,MATCH($D7,'NEW2022'!D:D,0)),0) -> 0 | AU7: =IFERROR(INDEX('Quiet Items'!H:H,MATCH($D7,'Quiet Items'!D:D,0)),0) -> 0 | AV7: =IFERROR(INDEX('Quiet Items'!J:J,MATCH($D7,'Quiet Items'!D:D,0)),0) -> 0 | AW7: =IFERROR(INDEX('1.4G'!H:H,MATCH($D7,'1.4G'!D:D,0)),0) -> 0 | AX7: =IFERROR(INDEX('1.4G'!J:J,MATCH($D7,'1.4G'!D:D,0)),0) -> 0 | AY7: =IF(OR(AU7>0,AW7>0,AO7>0,AS7>0,AQ7>0),AU7+AW7+AO7+AS7+AQ7,0) -> 0 | AZ7: =IF(OR(AV7>0,AX7>0,AP7>0,AT7>0,AR7>0),AV7+AX7+AP7+AT7+AR7,0) -> 0 | BA7: =IFERROR(Table1[[#This Row],[Line total ordered for now]]*Table1[[#This Row],[GUARANTEED PRICE for STOCK orders collected before 31.3.22]],0) -> 0 | BB7: =AZ7*L7 -> 0 | BC7: =(AZ7+Table1[[#This Row],[Line total ordered for now]])*Z7 -> 0 | BD7: 144.4745
A8: 5 | C8: Shell - 2.5" | D8: CBS25001 | E8: 2.5" Multicolour peony | F8: =IF(LEFT(AD8,4)="http",HYPERLINK(AD8,"Video"),"") -> Video | G8: 19 | I8: 185.13 | K8: 2.1310442 | L8: 232.71002 | M8: 255.7253 | N8: 2.5" | O8: 120 | P8: 4 | Q8: No | R8: 14 | S8: 8.12 | T8: 2.6 | U8: 1.3G | V8: UN0335 | W8: F4 | Z8: 0.063 | AA8: 1008-F4-69249629 | AB8: GB/HSE-320920 | AC8: 10/4/2030 | AD8: https://www.youtube.com/watch?v=QQ2ojAa3D2Q&list=PLDAnggd3oes5F6oc2GvRW7F0KeontGh-k | AE8: 0 | AF8: 0 | AG8: =IF(OR(B8="NEW2021",B8="NEW2022"),1,0) -> 0 | AH8: =SUM(AG$4:AG8) -> 1 | AI8: =IF(RIGHT(E8,6)="retail",1,0) -> 0 | AJ8: =COUNTIF(AI$4:AI8,">0") -> 0 | AK8: 0 | AL8: 0 | AM8: =IF(OR(Table1[[#This Row],[Line total ordered for now]]>0,Table1[[#This Row],[Line total ordered for season]]>0),1,"") | AN8: =COUNTIF(AM$4:AM8,">0") -> 0 | AO8: =Table1[[#This Row],[ORDER QUANTITY to be collected BEFORE 31.3.22]] -> 0 | AP8: =J8 -> 0 | AQ8: =IFERROR(INDEX(Retail!H:H,MATCH($D8,Retail!$D:$D,0)),0) -> 0 | AR8: =IFERROR(INDEX(Retail!J:J,MATCH($D8,Retail!$D:$D,0)),0) -> 0 | AS8: =IFERROR(INDEX('NEW2022'!H:H,MATCH($D8,'NEW2022'!D:D,0)),0) -> 0 | AT8: =IFERROR(INDEX('NEW2022'!J:J,MATCH($D8,'NEW2022'!D:D,0)),0) -> 0 | AU8: =IFERROR(INDEX('Quiet Items'!H:H,MATCH($D8,'Quiet Items'!D:D,0)),0) -> 0 | AV8: =IFERROR(INDEX('Quiet Items'!J:J,MATCH($D8,'Quiet Items'!D:D,0)),0) -> 0 | AW8: =IFERROR(INDEX('1.4G'!H:H,MATCH($D8,'1.4G'!D:D,0)),0) -> 0 | AX8: =IFERROR(INDEX('1.4G'!J:J,MATCH($D8,'1.4G'!D:D,0)),0) -> 0 | AY8: =IF(OR(AU8>0,AW8>0,AO8>0,AS8>0,AQ8>0),AU8+AW8+AO8+AS8+AQ8,0) -> 0 | AZ8: =IF(OR(AV8>0,AX8>0,AP8>0,AT8>0,AR8>0),AV8+AX8+AP8+AT8+AR8,0) -> 0 | BA8: =IFERROR(Table1[[#This Row],[Line total ordered for now]]*Table1[[#This Row],[GUARANTEED PRICE for STOCK orders collected before 31.3.22]],0) -> 0 | BB8: =AZ8*L8 -> 0 | BC8: =(AZ8+Table1[[#This Row],[Line total ordered for now]])*Z8 -> 0 | BD8: 217.3665
A9: 6 | C9: Shell - 2.5" | D9: CS25020 | E9: 2.5" White strobe | F9: =IF(LEFT(AD9,4)="http",HYPERLINK(AD9,"Video"),"") -> Video | G9: 4 | I9: 154.14 | K9: 2.334142 | L9: 203.91064 | M9: 224.07763 | N9: 2.5" | O9: 96 | P9: 3 | Q9: No | R9: 14 | S9: 8.12 | T9: 2.6 | U9: 1.3G | V9: UN0335 | W9: F4 | Z9: 0.063 | AA9: 2806-F4-001942 | AB9: GB/HSE-362546 | AC9: 11/30/2030 | AD9: https://www.dropbox.com/s/lphxolvz75vdqnc/dc241119-1.MP4?dl=0 | AE9: 0 | AF9: 0 | AG9: =IF(OR(B9="NEW2021",B9="NEW2022"),1,0) -> 0 | AH9: =SUM(AG$4:AG9) -> 1 | AI9: =IF(RIGHT(E9,6)="retail",1,0) -> 0 | AJ9: =COUNTIF(AI$4:AI9,">0") -> 0 | AK9: 0 | AL9: 0 | AM9: =IF(OR(Table1[[#This Row],[Line total ordered for now]]>0,Table1[[#This Row],[Line total ordered for season]]>0),1,"") | AN9: =COUNTIF(AM$4:AM9,">0") -> 0 | AO9: =Table1[[#This Row],[ORDER QUANTITY to be collected BEFORE 31.3.22]] -> 0 | AP9: =J9 -> 0 | AQ9: =IFERROR(INDEX(Retail!H:H,MATCH($D9,Retail!$D:$D,0)),0) -> 0 | AR9: =IFERROR(INDEX(Retail!J:J,MATCH($D9,Retail!$D:$D,0)),0) -> 0 | AS9: =IFERROR(INDEX('NEW2022'!H:H,MATCH($D9,'NEW2022'!D:D,0)),0) -> 0 | AT9: =IFERROR(INDEX('NEW2022'!J:J,MATCH($D9,'NEW2022'!D:D,0)),0) -> 0 | AU9: =IFERROR(INDEX('Quiet Items'!H:H,MATCH($D9,'Quiet Items'!D:D,0)),0) -> 0 | AV9: =IFERROR(INDEX('Quiet Items'!J:J,MATCH($D9,'Quiet Items'!D:D,0)),0) -> 0 | AW9: =IFERROR(INDEX('1.4G'!H:H,MATCH($D9,'1.4G'!D:D,0)),0) -> 0 | AX9: =IFERROR(INDEX('1.4G'!J:J,MATCH($D9,'1.4G'!D:D,0)),0) -> 0 | AY9: =IF(OR(AU9>0,AW9>0,AO9>0,AS9>0,AQ9>0),AU9+AW9+AO9+AS9+AQ9,0) -> 0 | AZ9: =IF(OR(AV9>0,AX9>0,AP9>0,AT9>0,AR9>0),AV9+AX9+AP9+AT9+AR9,0) -> 0 | BA9: =IFERROR(Table1[[#This Row],[Line total ordered for now]]*Table1[[#This Row],[GUARANTEED PRICE for STOCK orders collected before 31.3.22]],0) -> 0 | BB9: =AZ9*L9 -> 0 | BC9: =(AZ9+Table1[[#This Row],[Line total ordered for now]])*Z9 -> 0 | BD9: 190.46598
A10: 7 | C10: Shell - 2.5" | D10: CS25021 | E10: 2.5"Colour peony to coco pistil | F10: =IF(LEFT(AD10,4)="http",HYPERLINK(AD10,"Video"),"") -> Video | G10: 23 | I10: 158.61 | K10: 2.4035457 | L10: 209.97375 | M10: 230.74038 | N10: 2.5" | O10: 96 | P10: 3 | Q10: No | R10: 14 | S10: 8.12 | T10: 2.6 | U10: 1.3G | V10: UN0335 | W10: F4 | Z10: 0.063 | AA10: 2806-F4-001942 | AB10: GB/HSE-362484 | AC10: 11/30/2030 | AD10: https://www.dropbox.com/s/om21s4pyxxz7ajw/dc241119-3.MP4?dl=0 | AE10: 0 | AF10: 0 | AG10: =IF(OR(B10="NEW2021",B10="NEW2022"),1,0) -> 0 | AH10: =SUM(AG$4:AG10) -> 1 | AI10: =IF(RIGHT(E10,6)="retail",1,0) -> 0 | AJ10: =COUNTIF(AI$4:AI10,">0") -> 0 | AK10: 0 | AL10: 0 | AM10: =IF(OR(Table1[[#This Row],[Line total ordered for now]]>0,Table1[[#This Row],[Line total ordered for season]]>0),1,"") | AN10: =COUNTIF(AM$4:AM10,">0") -> 0 | AO10: =Table1[[#This Row],[ORDER QUANTITY to be collected BEFORE 31.3.22]] -> 0 | AP10: =J10 -> 0 | AQ10: =IFERROR(INDEX(Retail!H:H,MATCH($D10,Retail!$D:$D,0)),0) -> 0 | AR10: =IFERROR(INDEX(Retail!J:J,MATCH($D10,Retail!$D:$D,0)),0) -> 0 | AS10: =IFERROR(INDEX('NEW2022'!H:H,MATCH($D10,'NEW2022'!D:D,0)),0) -> 0 | AT10: =IFERROR(INDEX('NEW2022'!J:J,MATCH($D10,'NEW2022'!D:D,0)),0) -> 0 | AU10: =IFERROR(INDEX('Quiet Items'!H:H,MATCH($D10,'Quiet Items'!D:D,0)),0) -> 0 | AV10: =IFERROR(INDEX('Quiet Items'!J:J,MATCH($D10,'Quiet Items'!D:D,0)),0) -> 0 | AW10: =IFERROR(INDEX('1.4G'!H:H,MATCH($D10,'1.4G'!D:D,0)),0) -> 0 | AX10: =IFERROR(INDEX('1.4G'!J:J,MATCH($D10,'1.4G'!D:D,0)),0) -> 0 | AY10: =IF(OR(AU10>0,AW10>0,AO10>0,AS10>0,AQ10>0),AU10+AW10+AO10+AS10+AQ10,0) -> 0 | AZ10: =IF(OR(AV10>0,AX10>0,AP10>0,AT10>0,AR10>0),AV10+AX10+AP10+AT10+AR10,0) -> 0 | BA10: =IFERROR(Table1[[#This Row],[Line total ordered for now]]*Table1[[#This Row],[GUARANTEED PRICE for STOCK orders collected before 31.3.22]],0) -> 0 | BB10: =AZ10*L10 -> 0 | BC10: =(AZ10+Table1[[#This Row],[Line total ordered for now]])*Z10 -> 0 | BD10: 196.12933
A11: 8 | C11: Shell - 2.5" | D11: CBS25009 | E11: 2.5" Dragon egg w/ crackling tail | F11: =IF(LEFT(AD11,4)="http",HYPERLINK(AD11,"Video"),"") -> Video | G11: 17 | I11: 214.47 | K11: 2.5966813 | L11: 283.5576 | M11: 311.60176 | N11: 2.5" | O11: 120 | P11: 3 | Q11: No | R11: 14 | S11: 8.12 | T11: 2.6 | U11: 1.3G | V11: UN0335 | W11: F4 | Z11: 0.063 | AA11: 1008-F4-69249629 | AB11: GB/HSE-320928 | AC11: 10/4/2030 | AD11: https://www.youtube.com/watch?v=UybdBBJ4ugQ&list=PLDAnggd3oes5F6oc2GvRW7F0KeontGh-k&index=2 | AE11: 0 | AF11: 0 | AG11: =IF(OR(B11="NEW2021",B11="NEW2022"),1,0) -> 0 | AH11: =SUM(AG$4:AG11) -> 1 | AI11: =IF(RIGHT(E11,6)="retail",1,0) -> 0 | AJ11: =COUNTIF(AI$4:AI11,">0") -> 0 | AK11: 0 | AL11: 0 | AM11: =IF(OR(Table1[[#This Row],[Line total ordered for now]]>0,Table1[[#This Row],[Line total ordered for season]]>0),1,"") | AN11: =COUNTIF(AM$4:AM11,">0") -> 0 | AO11: =Table1[[#This Row],[ORDER QUANTITY to be collected BEFORE 31.3.22]] -> 0 | AP11: =J11 -> 0 | AQ11: =IFERROR(INDEX(Retail!H:H,MATCH($D11,Retail!$D:$D,0)),0) -> 0 | AR11: =IFERROR(INDEX(Retail!J:J,MATCH($D11,Retail!$D:$D,0)),0) -> 0 | AS11: =IFERROR(INDEX('NEW2022'!H:H,MATCH($D11,'NEW2022'!D:D,0)),0) -> 0 | AT11: =IFERROR(INDEX('NEW2022'!J:J,MATCH($D11,'NEW2022'!D:D,0)),0) -> 0 | AU11: =IFERROR(INDEX('Quiet Items'!H:H,MATCH($D11,'Quiet Items'!D:D,0)),0) -> 0 | AV11: =IFERROR(INDEX('Quiet Items'!J:J,MATCH($D11,'Quiet Items'!D:D,0)),0) -> 0 | AW11: =IFERROR(INDEX('1.4G'!H:H,MATCH($D11,'1.4G'!D:D,0)),0) -> 0 | AX11: =IFERROR(INDEX('1.4G'!J:J,MATCH($D11,'1.4G'!D:D,0)),0) -> 0 | AY11: =IF(OR(AU11>0,AW11>0,AO11>0,AS11>0,AQ11>0),AU11+AW11+AO11+AS11+AQ11,0) -> 0 | AZ11: =IF(OR(AV11>0,AX11>0,AP11>0,AT11>0,AR11>0),AV11+AX11+AP11+AT11+AR11,0) -> 0 | BA11: =IFERROR(Table1[[#This Row],[Line total ordered for now]]*Table1[[#This Row],[GUARANTEED PRICE for STOCK orders collected before 31.3.22]],0) -> 0 | BB11: =AZ11*L11 -> 0 | BC11: =(AZ11+Table1[[#This Row],[Line total ordered for now]])*Z11 -> 0 | BD11: 264.86149
A12: 9 | C12: Shell - 2.5" | D12: CBS25010 | E12: 2.5" Brocade crown w/ brocade tail | F12: =IF(LEFT(AD12,4)="http",HYPERLINK(AD12,"Video"),"") -> Video | G12: 0 | I12: 214.37 | K12: 2.6366971 | L12: 287.92732 | M12: 316.40365 | N12: 2.5" | O12: 120 | P12: 7 | Q12: No | R12: 14 | S12: 8.12 | T12: 2.6 | U12: 1.3G | V12: UN0335 | W12: F4 | Z12: 0.063 | AA12: 1008-F4-69249629 | AB12: GB/HSE-320929 | AC12: 10/4/2030 | AD12: https://www.youtube.com/watch?v=0M0__L9N7zU&list=PLDAnggd3oes5F6oc2GvRW7F0KeontGh-k&index=3 | AE12: 0 | AF12: 0 | AG12: =IF(OR(B12="NEW2021",B12="NEW2022"),1,0) -> 0 | AH12: =SUM(AG$4:AG12) -> 1 | AI12: =IF(RIGHT(E12,6)="retail",1,0) -> 0 | AJ12: =COUNTIF(AI$4:AI12,">0") -> 0 | AK12: 0 | AL12: 0 | AM12: =IF(OR(Table1[[#This Row],[Line total ordered for now]]>0,Table1[[#This Row],[Line total ordered for season]]>0),1,"") | AN12: =COUNTIF(AM$4:AM12,">0") -> 0 | AO12: =Table1[[#This Row],[ORDER QUANTITY to be collected BEFORE 31.3.22]] -> 0 | AP12: =J12 -> 0 | AQ12: =IFERROR(INDEX(Retail!H:H,MATCH($D12,Retail!$D:$D,0)),0) -> 0 | AR12: =IFERROR(INDEX(Retail!J:J,MATCH($D12,Retail!$D:$D,0)),0) -> 0 | AS12: =IFERROR(INDEX('NEW2022'!H:H,MATCH($D12,'NEW2022'!D:D,0)),0) -> 0 | AT12: =IFERROR(INDEX('NEW2022'!J:J,MATCH($D12,'NEW2022'!D:D,0)),0) -> 0 | AU12: =IFERROR(INDEX('Quiet Items'!H:H,MATCH($D12,'Quiet Items'!D:D,0)),0) -> 0 | AV12: =IFERROR(INDEX('Quiet Items'!J:J,MATCH($D12,'Quiet Items'!D:D,0)),0) -> 0 | AW12: =IFERROR(INDEX('1.4G'!H:H,MATCH($D12,'1.4G'!D:D,0)),0) -> 0 | AX12: =IFERROR(INDEX('1.4G'!J:J,MATCH($D12,'1.4G'!D:D,0)),0) -> 0 | AY12: =IF(OR(AU12>0,AW12>0,AO12>0,AS12>0,AQ12>0),AU12+AW12+AO12+AS12+AQ12,0) -> 0 | AZ12: =IF(OR(AV12>0,AX12>0,AP12>0,AT12>0,AR12>0),AV12+AX12+AP12+AT12+AR12,0) -> 0 | BA12: =IFERROR(Table1[[#This Row],[Line total ordered for now]]*Table1[[#This Row],[GUARANTEED PRICE for STOCK orders collected before 31.3.22]],0) -> 0 | BB12: =AZ12*L12 -> 0 | BC12: =(AZ12+Table1[[#This Row],[Line total ordered for now]])*Z12 -> 0 | BD12: 268.9431
A13: 10 | C13: Shell - 2.5" Cylinder | D13: CY25003 | E13: 2.5" Orange with 4 crackers | F13: =IF(LEFT(AD13,4)="http",HYPERLINK(AD13,"Video"),"") -> Video | G13: 9 | I13: 158.75 | K13: 3.81 | L13: 173.355 | M13: 190.5 | N13: 2.5" | O13: 50 | P13: 5 | Q13: No | R13: 19 | S13: 10.6 | T13: 2.6 | U13: 1.3G | V13: UN0335 | W13: F4 | Z13: 0.053 | AA13: 1395-F4-0163/2012 | AB13: GB/HSE-358733 | AC13: 8/15/2028 | AD13: https://www.youtube.com/watch?v=d5_b7ip3JPk&list=PLDAnggd3oes5F6oc2GvRW7F0KeontGh-k&index=4 | AE13: 0 | AF13: 0 | AG13: =IF(OR(B13="NEW2021",B13="NEW2022"),1,0) -> 0 | AH13: =SUM(AG$4:AG13) -> 1 | AI13: =IF(RIGHT(E13,6)="retail",1,0) -> 0 | AJ13: =COUNTIF(AI$4:AI13,">0") -> 0 | AK13: 0 | AL13: 0 | AM13: =IF(OR(Table1[[#This Row],[Line total ordered for now]]>0,Table1[[#This Row],[Line total ordered for season]]>0),1,"") | AN13: =COUNTIF(AM$4:AM13,">0") -> 0 | AO13: =Table1[[#This Row],[ORDER QUANTITY to be collected BEFORE 31.3.22]] -> 0 | AP13: =J13 -> 0 | AQ13: =IFERROR(INDEX(Retail!H:H,MATCH($D13,Retail!$D:$D,0)),0) -> 0 | AR13: =IFERROR(INDEX(Retail!J:J,MATCH($D13,Retail!$D:$D,0)),0) -> 0 | AS13: =IFERROR(INDEX('NEW2022'!H:H,MATCH($D13,'NEW2022'!D:D,0)),0) -> 0 | AT13: =IFERROR(INDEX('NEW2022'!J:J,MATCH($D13,'NEW2022'!D:D,0)),0) -> 0 | AU13: =IFERROR(INDEX('Quiet Items'!H:H,MATCH($D13,'Quiet Items'!D:D,0)),0) -> 0 | AV13: =IFERROR(INDEX('Quiet Items'!J:J,MATCH($D13,'Quiet Items'!D:D,0)),0) -> 0 | AW13: =IFERROR(INDEX('1.4G'!H:H,MATCH($D13,'1.4G'!D:D,0)),0) -> 0 | AX13: =IFERROR(INDEX('1.4G'!J:J,MATCH($D13,'1.4G'!D:D,0)),0) -> 0 | AY13: =IF(OR(AU13>0,AW13>0,AO13>0,AS13>0,AQ13>0),AU13+AW13+AO13+AS13+AQ13,0) -> 0 | AZ13: =IF(OR(AV13>0,AX13>0,AP13>0,AT13>0,AR13>0),AV13+AX13+AP13+AT13+AR13,0) -> 0 | BA13: =IFERROR(Table1[[#This Row],[Line total ordered for now]]*Table1[[#This Row],[GUARANTEED PRICE for STOCK orders collected before 31.3.22]],0) -> 0 | BB13: =AZ13*L13 -> 0 | BC13: =(AZ13+Table1[[#This Row],[Line total ordered for now]])*Z13 -> 0 | BD13: 161.925
A14: 11 | C14: Shell - 2.5" Mixed | D14: S099 | E14: 2.5" Mixed case. Green, blue, red, silver, purple, yellow peony. | F14: =IF(LEFT(AD14,4)="http",HYPERLINK(AD14,"Video"),"") | G14: 0 | I14: 189.59 | K14: 2.2195726 | L14: 242.37733 | M14: 266.34872 | N14: 2.5" | O14: 120 | P14: 3 | Q14: No | R14: 15 | S14: 9.8 | T14: 2.6 | U14: 1.3G | V14: UN0335 | W14: F4 | Z14: 0.063 | AA14: 1008-F4-69249629 | AB14: GB/HSE-320921, GB/HSE-320922, GB/HSE-320923, GB/HSE-320924, GB/HSE-345097, GB/HSE-320920 | AC14: 11/1/2026 | AD14: 0 | AE14: 0 | AF14: 0 | AG14: =IF(OR(B14="NEW2021",B14="NEW2022"),1,0) -> 0 | AH14: =SUM(AG$4:AG14) -> 1 | AI14: =IF(RIGHT(E14,6)="retail",1,0) -> 0 | AJ14: =COUNTIF(AI$4:AI14,">0") -> 0 | AK14: 0 | AL14: 0 | AM14: =IF(OR(Table1[[#This Row],[Line total ordered for now]]>0,Table1[[#This Row],[Line total ordered for season]]>0),1,"") | AN14: =COUNTIF(AM$4:AM14,">0") -> 0 | AO14: =Table1[[#This Row],[ORDER QUANTITY to be collected BEFORE 31.3.22]] -> 0 | AP14: =J14 -> 0 | AQ14: =IFERROR(INDEX(Retail!H:H,MATCH($D14,Retail!$D:$D,0)),0) -> 0 | AR14: =IFERROR(INDEX(Retail!J:J,MATCH($D14,Retail!$D:$D,0)),0) -> 0 | AS14: =IFERROR(INDEX('NEW2022'!H:H,MATCH($D14,'NEW2022'!D:D,0)),0) -> 0 | AT14: =IFERROR(INDEX('NEW2022'!J:J,MATCH($D14,'NEW2022'!D:D,0)),0) -> 0 | AU14: =IFERROR(INDEX('Quiet Items'!H:H,MATCH($D14,'Quiet Items'!D:D,0)),0) -> 0 | AV14: =IFERROR(INDEX('Quiet Items'!J:J,MATCH($D14,'Quiet Items'!D:D,0)),0) -> 0 | AW14: =IFERROR(INDEX('1.4G'!H:H,MATCH($D14,'1.4G'!D:D,0)),0) -> 0 | AX14: =IFERROR(INDEX('1.4G'!J:J,MATCH($D14,'1.4G'!D:D,0)),0) -> 0 | AY14: =IF(OR(AU14>0,AW14>0,AO14>0,AS14>0,AQ14>0),AU14+AW14+AO14+AS14+AQ14,0) -> 0 | AZ14: =IF(OR(AV14>0,AX14>0,AP14>0,AT14>0,AR14>0),AV14+AX14+AP14+AT14+AR14,0) -> 0 | BA14: =IFERROR(Table1[[#This Row],[Line total ordered for now]]*Table1[[#This Row],[GUARANTEED PRICE for STOCK orders collected before 31.3.22]],0) -> 0 | BB14: =AZ14*L14 -> 0 | BC14: =(AZ14+Table1[[#This Row],[Line total ordered for now]])*Z14 -> 0 | BD14: 226.39641
A15: 12 | C15: Shell - 2.5" Mixed | D15: CBS25013-CBS25019 | E15: 2.5" Mixed case. Red coconut, silver crackling coconut, time rain, green to chrys., purple peony w/silver palm core, gold crown. | F15: =IF(LEFT(AD15,4)="http",HYPERLINK(AD15,"Video"),"") | G15: 0 | I15: 204.66 | K15: 2.401935 | L15: 262.2913 | M15: 288.2322 | N15: 2.5" | O15: 120 | P15: 3 | Q15: No | R15: 15 | S15: 9.8 | T15: 2.6 | U15: 1.3G | V15: UN0335 | W15: F4 | Z15: 0.063 | AA15: 1008-F4-69249629 | AB15: GB/HSE-350932, GB/HSE-350933, GB/HSE-350934, GB/HSE-350935, GB/HSE-350936, GB/HSE-350937 | AC15: 7/29/2030 | AD15: 0 | AE15: 0 | AF15: 0 | AG15: =IF(OR(B15="NEW2021",B15="NEW2022"),1,0) -> 0 | AH15: =SUM(AG$4:AG15) -> 1 | AI15: =IF(RIGHT(E15,6)="retail",1,0) -> 0 | AJ15: =COUNTIF(AI$4:AI15,">0") -> 0 | AK15: 0 | AL15: 0 | AM15: =IF(OR(Table1[[#This Row],[Line total ordered for now]]>0,Table1[[#This Row],[Line total ordered for season]]>0),1,"") | AN15: =COUNTIF(AM$4:AM15,">0") -> 0 | AO15: =Table1[[#This Row],[ORDER QUANTITY to be collected BEFORE 31.3.22]] -> 0 | AP15: =J15 -> 0 | AQ15: =IFERROR(INDEX(Retail!H:H,MATCH($D15,Retail!$D:$D,0)),0) -> 0 | AR15: =IFERROR(INDEX(Retail!J:J,MATCH($D15,Retail!$D:$D,0)),0) -> 0 | AS15: =IFERROR(INDEX('NEW2022'!H:H,MATCH($D15,'NEW2022'!D:D,0)),0) -> 0 | AT15: =IFERROR(INDEX('NEW2022'!J:J,MATCH($D15,'NEW2022'!D:D,0)),0) -> 0 | AU15: =IFERROR(INDEX('Quiet Items'!H:H,MATCH($D15,'Quiet Items'!D:D,0)),0) -> 0 | AV15: =IFERROR(INDEX('Quiet Items'!J:J,MATCH($D15,'Quiet Items'!D:D,0)),0) -> 0 | AW15: =IFERROR(INDEX('1.4G'!H:H,MATCH($D15,'1.4G'!D:D,0)),0) -> 0 | AX15: =IFERROR(INDEX('1.4G'!J:J,MATCH($D15,'1.4G'!D:D,0)),0) -> 0 | AY15: =IF(OR(AU15>0,AW15>0,AO15>0,AS15>0,AQ15>0),AU15+AW15+AO15+AS15+AQ15,0) -> 0 | AZ15: =IF(OR(AV15>0,AX15>0,AP15>0,AT15>0,AR15>0),AV15+AX15+AP15+AT15+AR15,0) -> 0 | BA15: =IFERROR(Table1[[#This Row],[Line total ordered for now]]*Table1[[#This Row],[GUARANTEED PRICE for STOCK orders collected before 31.3.22]],0) -> 0 | BB15: =AZ15*L15 -> 0 | BC15: =(AZ15+Table1[[#This Row],[Line total ordered for now]])*Z15 -> 0 | BD15: 244.99737
A16: 13 | C16: Shell - 3" | D16: CS30340 | E16: 3" Red peony to Ti chrys | F16: =IF(LEFT(AD16,4)="http",HYPERLINK(AD16,"Video"),"") -> Video | G16: 0 | I16: 179.18 | K16: 2.5383833 | L16: 182.7636 | M16: 182.7636 | N16: 3" | O16: 72 | P16: 5 | Q16: No | R16: 16 | S16: 11 | T16: 2.8 | U16: 1.3G | V16: UN0335 | W16: F4 | Z16: 0.063 | AA16: 1008-F4-69249633 | AB16: GB/HSE-345101 | AC16: 10/9/2028 | AD16: https://youtu.be/DH5Q5Q4kNEk | AE16: 0 | AF16: 0 | AG16: =IF(OR(B16="NEW2021",B16="NEW2022"),1,0) -> 0 | AH16: =SUM(AG$4:AG16) -> 1 | AI16: =IF(RIGHT(E16,6)="retail",1,0) -> 0 | AJ16: =COUNTIF(AI$4:AI16,">0") -> 0 | AK16: 0 | AL16: 0 | AM16: =IF(OR(Table1[[#This Row],[Line total ordered for now]]>0,Table1[[#This Row],[Line total ordered for season]]>0),1,"") | AN16: =COUNTIF(AM$4:AM16,">0") -> 0 | AO16: =Table1[[#This Row],[ORDER QUANTITY to be collected BEFORE 31.3.22]] -> 0 | AP16: =J16 -> 0 | AQ16: =IFERROR(INDEX(Retail!H:H,MATCH($D16,Retail!$D:$D,0)),0) -> 0 | AR16: =IFERROR(INDEX(Retail!J:J,MATCH($D16,Retail!$D:$D,0)),0) -> 0 | AS16: =IFERROR(INDEX('NEW2022'!H:H,MATCH($D16,'NEW2022'!D:D,0)),0) -> 0 | AT16: =IFERROR(INDEX('NEW2022'!J:J,MATCH($D16,'NEW2022'!D:D,0)),0) -> 0 | AU16: =IFERROR(INDEX('Quiet Items'!H:H,MATCH($D16,'Quiet Items'!D:D,0)),0) -> 0 | AV16: =IFERROR(INDEX('Quiet Items'!J:J,MATCH($D16,'Quiet Items'!D:D,0)),0) -> 0 | AW16: =IFERROR(INDEX('1.4G'!H:H,MATCH($D16,'1.4G'!D:D,0)),0) -> 0 | AX16: =IFERROR(INDEX('1.4G'!J:J,MATCH($D16,'1.4G'!D:D,0)),0) -> 0 | AY16: =IF(OR(AU16>0,AW16>0,AO16>0,AS16>0,AQ16>0),AU16+AW16+AO16+AS16+AQ16,0) -> 0 | AZ16: =IF(OR(AV16>0,AX16>0,AP16>0,AT16>0,AR16>0),AV16+AX16+AP16+AT16+AR16,0) -> 0 | BA16: =IFERROR(Table1[[#This Row],[Line total ordered for now]]*Table1[[#This Row],[GUARANTEED PRICE for STOCK orders collected before 31.3.22]],0) -> 0 | BB16: =AZ16*L16 -> 0 | BC16: =(AZ16+Table1[[#This Row],[Line total ordered for now]])*Z16 -> 0 | BD16: 155.34906
... A23: 20 | C23: Shell - 3" | D23: CS30397 | E23: 3" Purple and orange peony | F23: =IF(LEFT(AD23,4)="http",HYPERLINK(AD23,"Video"),"") -> Video | G23: 12 | I23: 167.18 | K23: 2.7156944 | L23: 177.9323 | M23: 195.53 | N23: 3" | O23: 72 | P23: 3 | Q23: No | R23: 17 | S23: 9.9 | T23: 2.8 | U23: 1.3G | V23: UN0335 | W23: F4 | Z23: 0.058539 | AA23: 1008-F4-69249633 | AB23: GB/HSE-358695 | AC23: 8/15/2028 | AD23: https://www.youtube.com/watch?v=SJq8SNAHz7g&list=PLDAnggd3oes5F6oc2GvRW7F0KeontGh-k&index=16&t=0s | AE23: 0 | AF23: 0 | AG23: =IF(OR(B23="NEW2021",B23="NEW2022"),1,0) -> 0 | AH23: =SUM(AG$4:AG23) -> 1 | AI23: =IF(RIGHT(E23,6)="retail",1,0) -> 0 | AJ23: =COUNTIF(AI$4:AI23,">0") -> 0 | AK23: 0 | AL23: 0 | AM23: =IF(OR(Table1[[#This Row],[Line total ordered for now]]>0,Table1[[#This Row],[Line total ordered for season]]>0),1,"") | AN23: =COUNTIF(AM$4:AM23,">0") -> 0 | AO23: =Table1[[#This Row],[ORDER QUANTITY to be collected BEFORE 31.3.22]] -> 0 | AP23: =J23 -> 0 | AQ23: =IFERROR(INDEX(Retail!H:H,MATCH($D23,Retail!$D:$D,0)),0) -> 0 | AR23: =IFERROR(INDEX(Retail!J:J,MATCH($D23,Retail!$D:$D,0)),0) -> 0 | AS23: =IFERROR(INDEX('NEW2022'!H:H,MATCH($D23,'NEW2022'!D:D,0)),0) -> 0 | AT23: =IFERROR(INDEX('NEW2022'!J:J,MATCH($D23,'NEW2022'!D:D,0)),0) -> 0 | AU23: =IFERROR(INDEX('Quiet Items'!H:H,MATCH($D23,'Quiet Items'!D:D,0)),0) -> 0 | AV23: =IFERROR(INDEX('Quiet Items'!J:J,MATCH($D23,'Quiet Items'!D:D,0)),0) -> 0 | AW23: =IFERROR(INDEX('1.4G'!H:H,MATCH($D23,'1.4G'!D:D,0)),0) -> 0 | AX23: =IFERROR(INDEX('1.4G'!J:J,MATCH($D23,'1.4G'!D:D,0)),0) -> 0 | AY23: =IF(OR(AU23>0,AW23>0,AO23>0,AS23>0,AQ23>0),AU23+AW23+AO23+AS23+AQ23,0) -> 0 | AZ23: =IF(OR(AV23>0,AX23>0,AP23>0,AT23>0,AR23>0),AV23+AX23+AP23+AT23+AR23,0) -> 0 | BA23: =IFERROR(Table1[[#This Row],[Line total ordered for now]]*Table1[[#This Row],[GUARANTEED PRICE for STOCK orders collected before 31.3.22]],0) -> 0 | BB23: =AZ23*L23 -> 0 | BC23: =(AZ23+Table1[[#This Row],[Line total ordered for now]])*Z23 -> 0 | BD23: 166.2005
A24: 21 | C24: Shell - 3" | D24: CS30401N | E24: 3" Silver wave to dragon eggs (was CS30405) | F24: =IF(LEFT(AD24,4)="http",HYPERLINK(AD24,"Video"),"") | G24: 0 | I24: 168.42 | K24: 2.7358333 | L24: 179.2518 | M24: 196.98 | N24: 3" | O24: 72 | P24: 5 | Q24: No | R24: 16 | S24: 11.5 | T24: 0 | U24: 1.3G | V24: UN0335 | W24: F4 | Z24: 0.057434 | AA24: 2806-F4-000627 | AB24: GB/HSE-360514 | AC24: 8/6/2029 | AD24: 0 | AE24: 0 | AF24: 0 | AG24: =IF(OR(B24="NEW2021",B24="NEW2022"),1,0) -> 0 | AH24: =SUM(AG$4:AG24) -> 1 | AI24: =IF(RIGHT(E24,6)="retail",1,0) -> 0 | AJ24: =COUNTIF(AI$4:AI24,">0") -> 0 | AK24: 0 | AL24: 0 | AM24: =IF(OR(Table1[[#This Row],[Line total ordered for now]]>0,Table1[[#This Row],[Line total ordered for season]]>0),1,"") | AN24: =COUNTIF(AM$4:AM24,">0") -> 0 | AO24: =Table1[[#This Row],[ORDER QUANTITY to be collected BEFORE 31.3.22]] -> 0 | AP24: =J24 -> 0 | AQ24: =IFERROR(INDEX(Retail!H:H,MATCH($D24,Retail!$D:$D,0)),0) -> 0 | AR24: =IFERROR(INDEX(Retail!J:J,MATCH($D24,Retail!$D:$D,0)),0) -> 0 | AS24: =IFERROR(INDEX('NEW2022'!H:H,MATCH($D24,'NEW2022'!D:D,0)),0) -> 0 | AT24: =IFERROR(INDEX('NEW2022'!J:J,MATCH($D24,'NEW2022'!D:D,0)),0) -> 0 | AU24: =IFERROR(INDEX('Quiet Items'!H:H,MATCH($D24,'Quiet Items'!D:D,0)),0) -> 0 | AV24: =IFERROR(INDEX('Quiet Items'!J:J,MATCH($D24,'Quiet Items'!D:D,0)),0) -> 0 | AW24: =IFERROR(INDEX('1.4G'!H:H,MATCH($D24,'1.4G'!D:D,0)),0) -> 0 | AX24: =IFERROR(INDEX('1.4G'!J:J,MATCH($D24,'1.4G'!D:D,0)),0) -> 0 | AY24: =IF(OR(AU24>0,AW24>0,AO24>0,AS24>0,AQ24>0),AU24+AW24+AO24+AS24+AQ24,0) -> 0 | AZ24: =IF(OR(AV24>0,AX24>0,AP24>0,AT24>0,AR24>0),AV24+AX24+AP24+AT24+AR24,0) -> 0 | BA24: =IFERROR(Table1[[#This Row],[Line total ordered for now]]*Table1[[#This Row],[GUARANTEED PRICE for STOCK orders collected before 31.3.22]],0) -> 0 | BB24: =AZ24*L24 -> 0 | BC24: =(AZ24+Table1[[#This Row],[Line total ordered for now]])*Z24 -> 0 | BD24: 167.433
A25: 22 | C25: Shell - 3" | D25: CS30417 | E25: 3" Green ring dark orange | F25: =IF(LEFT(AD25,4)="http",HYPERLINK(AD25,"Video"),"") -> Video | G25: 11 | I25: 168.66 | K25: 2.7397222 | L25: 179.5066 | M25: 197.26 | N25: 3" | O25: 72 | P25: 4 | Q25: No | R25: 17 | S25: 10.8 | T25: 2.8 | U25: 1.3G | V25: UN0335 | W25: F4 | Z25: 0.057434 | AA25: 2806-F4-001943 | AB25: GB/HSE-362392 | AC25: 11/30/2030 | AD25: https://youtu.be/0bFeGZoknX4 | AE25: 0 | AF25: 0 | AG25: =IF(OR(B25="NEW2021",B25="NEW2022"),1,0) -> 0 | AH25: =SUM(AG$4:AG25) -> 1 | AI25: =IF(RIGHT(E25,6)="retail",1,0) -> 0 | AJ25: =COUNTIF(AI$4:AI25,">0") -> 0 | AK25: 0 | AL25: 0 | AM25: =IF(OR(Table1[[#This Row],[Line total ordered for now]]>0,Table1[[#This Row],[Line total ordered for season]]>0),1,"") | AN25: =COUNTIF(AM$4:AM25,">0") -> 0 | AO25: =Table1[[#This Row],[ORDER QUANTITY to be collected BEFORE 31.3.22]] -> 0 | AP25: =J25 -> 0 | AQ25: =IFERROR(INDEX(Retail!H:H,MATCH($D25,Retail!$D:$D,0)),0) -> 0 | AR25: =IFERROR(INDEX(Retail!J:J,MATCH($D25,Retail!$D:$D,0)),0) -> 0 | AS25: =IFERROR(INDEX('NEW2022'!H:H,MATCH($D25,'NEW2022'!D:D,0)),0) -> 0 | AT25: =IFERROR(INDEX('NEW2022'!J:J,MATCH($D25,'NEW2022'!D:D,0)),0) -> 0 | AU25: =IFERROR(INDEX('Quiet Items'!H:H,MATCH($D25,'Quiet Items'!D:D,0)),0) -> 0 | AV25: =IFERROR(INDEX('Quiet Items'!J:J,MATCH($D25,'Quiet Items'!D:D,0)),0) -> 0 | AW25: =IFERROR(INDEX('1.4G'!H:H,MATCH($D25,'1.4G'!D:D,0)),0) -> 0 | AX25: =IFERROR(INDEX('1.4G'!J:J,MATCH($D25,'1.4G'!D:D,0)),0) -> 0 | AY25: =IF(OR(AU25>0,AW25>0,AO25>0,AS25>0,AQ25>0),AU25+AW25+AO25+AS25+AQ25,0) -> 0 | AZ25: =IF(OR(AV25>0,AX25>0,AP25>0,AT25>0,AR25>0),AV25+AX25+AP25+AT25+AR25,0) -> 0 | BA25: =IFERROR(Table1[[#This Row],[Line total ordered for now]]*Table1[[#This Row],[GUARANTEED PRICE for STOCK orders collected before 31.3.22]],0) -> 0 | BB25: =AZ25*L25 -> 0 | BC25: =(AZ25+Table1[[#This Row],[Line total ordered for now]])*Z25 -> 0 | BD25: 167.671
A26: 23 | C26: Shell - 3" | D26: CBS3006 | E26: 3" Purple peony | F26: =IF(LEFT(AD26,4)="http",HYPERLINK(AD26,"Video"),"") -> Video | G26: 0 | I26: 159.04 | K26: 2.741218 | L26: 179.6046 | M26: 197.3677 | N26: 3" | O26: 72 | P26: 3 | Q26: No | R26: 16 | S26: 9.42 | T26: 2.8 | U26: 1.3G | V26: UN0335 | W26: F4 | Z26: 0.063 | AA26: 1008-F4-69249633 | AB26: GB/HSE-320936 | AC26: 10/4/2030 | AD26: https://www.youtube.com/watch?v=AFi-7mPQXyQ&list=PLDAnggd3oes5F6oc2GvRW7F0KeontGh-k&index=11&t=0s | AE26: 0 | AF26: 0 | AG26: =IF(OR(B26="NEW2021",B26="NEW2022"),1,0) -> 0 | AH26: =SUM(AG$4:AG26) -> 1 | AI26: =IF(RIGHT(E26,6)="retail",1,0) -> 0 | AJ26: =COUNTIF(AI$4:AI26,">0") -> 0 | AK26: 0 | AL26: 0 | AM26: =IF(OR(Table1[[#This Row],[Line total ordered for now]]>0,Table1[[#This Row],[Line total ordered for season]]>0),1,"") | AN26: =COUNTIF(AM$4:AM26,">0") -> 0 | AO26: =Table1[[#This Row],[ORDER QUANTITY to be collected BEFORE 31.3.22]] -> 0 | AP26: =J26 -> 0 | AQ26: =IFERROR(INDEX(Retail!H:H,MATCH($D26,Retail!$D:$D,0)),0) -> 0 | AR26: =IFERROR(INDEX(Retail!J:J,MATCH($D26,Retail!$D:$D,0)),0) -> 0 | AS26: =IFERROR(INDEX('NEW2022'!H:H,MATCH($D26,'NEW2022'!D:D,0)),0) -> 0 | AT26: =IFERROR(INDEX('NEW2022'!J:J,MATCH($D26,'NEW2022'!D:D,0)),0) -> 0 | AU26: =IFERROR(INDEX('Quiet Items'!H:H,MATCH($D26,'Quiet Items'!D:D,0)),0) -> 0 | AV26: =IFERROR(INDEX('Quiet Items'!J:J,MATCH($D26,'Quiet Items'!D:D,0)),0) -> 0 | AW26: =IFERROR(INDEX('1.4G'!H:H,MATCH($D26,'1.4G'!D:D,0)),0) -> 0 | AX26: =IFERROR(INDEX('1.4G'!J:J,MATCH($D26,'1.4G'!D:D,0)),0) -> 0 | AY26: =IF(OR(AU26>0,AW26>0,AO26>0,AS26>0,AQ26>0),AU26+AW26+AO26+AS26+AQ26,0) -> 0 | AZ26: =IF(OR(AV26>0,AX26>0,AP26>0,AT26>0,AR26>0),AV26+AX26+AP26+AT26+AR26,0) -> 0 | BA26: =IFERROR(Table1[[#This Row],[Line total ordered for now]]*Table1[[#This Row],[GUARANTEED PRICE for STOCK orders collected before 31.3.22]],0) -> 0 | BB26: =AZ26*L26 -> 0 | BC26: =(AZ26+Table1[[#This Row],[Line total ordered for now]])*Z26 -> 0 | BD26: 167.76254
A27: 24 | C27: Shell - 3" | D27: CS30389 | E27: 3" Red & green crossette | F27: =IF(LEFT(AD27,4)="http",HYPERLINK(AD27,"Video"),"") -> Video | G27: 4 | I27: 195.9 | K27: 2.741218 | L27: 199.818 | M27: 197.3677 | N27: 3" | O27: 72 | P27: 7 | Q27: No | R27: 16 | S27: 9.42 | T27: 2.8 | U27: 1.3G | V27: UN0335 | W27: F4 | Z27: 0.063 | AA27: 1008-F4-69249633 | AB27: GB/HSE-358693 | AC27: 8/15/2028 | AD27: https://youtu.be/fjE3CfoVF_s | AE27: 0 | AF27: 0 | AG27: =IF(OR(B27="NEW2021",B27="NEW2022"),1,0) -> 0 | AH27: =SUM(AG$4:AG27) -> 1 | AI27: =IF(RIGHT(E27,6)="retail",1,0) -> 0 | AJ27: =COUNTIF(AI$4:AI27,">0") -> 0 | AK27: 0 | AL27: 0 | AM27: =IF(OR(Table1[[#This Row],[Line total ordered for now]]>0,Table1[[#This Row],[Line total ordered for season]]>0),1,"") | AN27: =COUNTIF(AM$4:AM27,">0") -> 0 | AO27: =Table1[[#This Row],[ORDER QUANTITY to be collected BEFORE 31.3.22]] -> 0 | AP27: =J27 -> 0 | AQ27: =IFERROR(INDEX(Retail!H:H,MATCH($D27,Retail!$D:$D,0)),0) -> 0 | AR27: =IFERROR(INDEX(Retail!J:J,MATCH($D27,Retail!$D:$D,0)),0) -> 0 | AS27: =IFERROR(INDEX('NEW2022'!H:H,MATCH($D27,'NEW2022'!D:D,0)),0) -> 0 | AT27: =IFERROR(INDEX('NEW2022'!J:J,MATCH($D27,'NEW2022'!D:D,0)),0) -> 0 | AU27: =IFERROR(INDEX('Quiet Items'!H:H,MATCH($D27,'Quiet Items'!D:D,0)),0) -> 0 | AV27: =IFERROR(INDEX('Quiet Items'!J:J,MATCH($D27,'Quiet Items'!D:D,0)),0) -> 0 | AW27: =IFERROR(INDEX('1.4G'!H:H,MATCH($D27,'1.4G'!D:D,0)),0) -> 0 | AX27: =IFERROR(INDEX('1.4G'!J:J,MATCH($D27,'1.4G'!D:D,0)),0) -> 0 | AY27: =IF(OR(AU27>0,AW27>0,AO27>0,AS27>0,AQ27>0),AU27+AW27+AO27+AS27+AQ27,0) -> 0 | AZ27: =IF(OR(AV27>0,AX27>0,AP27>0,AT27>0,AR27>0),AV27+AX27+AP27+AT27+AR27,0) -> 0 | BA27: =IFERROR(Table1[[#This Row],[Line total ordered for now]]*Table1[[#This Row],[GUARANTEED PRICE for STOCK orders collected before 31.3.22]],0) -> 0 | BB27: =AZ27*L27 -> 0 | BC27: =(AZ27+Table1[[#This Row],[Line total ordered for now]])*Z27 -> 0 | BD27: 167.76254
A28: 25 | C28: Shell - 3" | D28: CS30413 | E28: 3" Red green yellow coconut crossette | F28: =IF(LEFT(AD28,4)="http",HYPERLINK(AD28,"Video"),"") -> Video | G28: 2 | I28: 187.07 | K28: 2.741218 | L28: 190.8114 | M28: 197.3677 | N28: 3" | O28: 72 | P28: 5 | Q28: No | R28: 19 | S28: 9.42 | T28: 2.8 | U28: 1.3G | V28: UN0335 | W28: F4 | Z28: 0.063 | AA28: 2806-F4-001943 | AB28: GB/HSE-362487 | AC28: 11/30/2030 | AD28: https://youtu.be/afEaiXdYtPo | AE28: 0 | AF28: 0 | AG28: =IF(OR(B28="NEW2021",B28="NEW2022"),1,0) -> 0 | AH28: =SUM(AG$4:AG28) -> 1 | AI28: =IF(RIGHT(E28,6)="retail",1,0) -> 0 | AJ28: =COUNTIF(AI$4:AI28,">0") -> 0 | AK28: 0 | AL28: 0 | AM28: =IF(OR(Table1[[#This Row],[Line total ordered for now]]>0,Table1[[#This Row],[Line total ordered for season]]>0),1,"") | AN28: =COUNTIF(AM$4:AM28,">0") -> 0 | AO28: =Table1[[#This Row],[ORDER QUANTITY to be collected BEFORE 31.3.22]] -> 0 | AP28: =J28 -> 0 | AQ28: =IFERROR(INDEX(Retail!H:H,MATCH($D28,Retail!$D:$D,0)),0) -> 0 | AR28: =IFERROR(INDEX(Retail!J:J,MATCH($D28,Retail!$D:$D,0)),0) -> 0 | AS28: =IFERROR(INDEX('NEW2022'!H:H,MATCH($D28,'NEW2022'!D:D,0)),0) -> 0 | AT28: =IFERROR(INDEX('NEW2022'!J:J,MATCH($D28,'NEW2022'!D:D,0)),0) -> 0 | AU28: =IFERROR(INDEX('Quiet Items'!H:H,MATCH($D28,'Quiet Items'!D:D,0)),0) -> 0 | AV28: =IFERROR(INDEX('Quiet Items'!J:J,MATCH($D28,'Quiet Items'!D:D,0)),0) -> 0 | AW28: =IFERROR(INDEX('1.4G'!H:H,MATCH($D28,'1.4G'!D:D,0)),0) -> 0 | AX28: =IFERROR(INDEX('1.4G'!J:J,MATCH($D28,'1.4G'!D:D,0)),0) -> 0 | AY28: =IF(OR(AU28>0,AW28>0,AO28>0,AS28>0,AQ28>0),AU28+AW28+AO28+AS28+AQ28,0) -> 0 | AZ28: =IF(OR(AV28>0,AX28>0,AP28>0,AT28>0,AR28>0),AV28+AX28+AP28+AT28+AR28,0) -> 0 | BA28: =IFERROR(Table1[[#This Row],[Line total ordered for now]]*Table1[[#This Row],[GUARANTEED PRICE for STOCK orders collected before 31.3.22]],0) -> 0 | BB28: =AZ28*L28 -> 0 | BC28: =(AZ28+Table1[[#This Row],[Line total ordered for now]])*Z28 -> 0 | BD28: 167.76254
A29: 26 | C29: Shell - 3" | D29: S002 | E29: 3" Blue to Ti chrysanthemum | F29: =IF(LEFT(AD29,4)="http",HYPERLINK(AD29,"Video"),"") -> Video | G29: 0 | I29: 178.91 | K29: 2.741218 | L29: 179.6046 | M29: 197.3677 | N29: 3" | O29: 72 | P29: 5 | Q29: No | R29: 16 | S29: 9.42 | T29: 2.8 | U29: 1.3G | V29: UN0335 | W29: F4 | Z29: 0.063 | AA29: 1008-F4-69249633 | AB29: GB/HSE-337849 | AC29: 11/1/2026 | AD29: https://youtu.be/4EpwdLKZnF0 | AE29: 0 | AF29: 0 | AG29: =IF(OR(B29="NEW2021",B29="NEW2022"),1,0) -> 0 | AH29: =SUM(AG$4:AG29) -> 1 | AI29: =IF(RIGHT(E29,6)="retail",1,0) -> 0 | AJ29: =COUNTIF(AI$4:AI29,">0") -> 0 | AK29: 0 | AL29: 0 | AM29: =IF(OR(Table1[[#This Row],[Line total ordered for now]]>0,Table1[[#This Row],[Line total ordered for season]]>0),1,"") | AN29: =COUNTIF(AM$4:AM29,">0") -> 0 | AO29: =Table1[[#This Row],[ORDER QUANTITY to be collected BEFORE 31.3.22]] -> 0 | AP29: =J29 -> 0 | AQ29: =IFERROR(INDEX(Retail!H:H,MATCH($D29,Retail!$D:$D,0)),0) -> 0 | AR29: =IFERROR(INDEX(Retail!J:J,MATCH($D29,Retail!$D:$D,0)),0) -> 0 | AS29: =IFERROR(INDEX('NEW2022'!H:H,MATCH($D29,'NEW2022'!D:D,0)),0) -> 0 | AT29: =IFERROR(INDEX('NEW2022'!J:J,MATCH($D29,'NEW2022'!D:D,0)),0) -> 0 | AU29: =IFERROR(INDEX('Quiet Items'!H:H,MATCH($D29,'Quiet Items'!D:D,0)),0) -> 0 | AV29: =IFERROR(INDEX('Quiet Items'!J:J,MATCH($D29,'Quiet Items'!D:D,0)),0) -> 0 | AW29: =IFERROR(INDEX('1.4G'!H:H,MATCH($D29,'1.4G'!D:D,0)),0) -> 0 | AX29: =IFERROR(INDEX('1.4G'!J:J,MATCH($D29,'1.4G'!D:D,0)),0) -> 0 | AY29: =IF(OR(AU29>0,AW29>0,AO29>0,AS29>0,AQ29>0),AU29+AW29+AO29+AS29+AQ29,0) -> 0 | AZ29: =IF(OR(AV29>0,AX29>0,AP29>0,AT29>0,AR29>0),AV29+AX29+AP29+AT29+AR29,0) -> 0 | BA29: =IFERROR(Table1[[#This Row],[Line total ordered for now]]*Table1[[#This Row],[GUARANTEED PRICE for STOCK orders collected before 31.3.22]],0) -> 0 | BB29: =AZ29*L29 -> 0 | BC29: =(AZ29+Table1[[#This Row],[Line total ordered for now]])*Z29 -> 0 | BD29: 167.76254
A30: 27 | C30: Shell - 3" | D30: S017 | E30: 3" Red crackling wave | F30: =IF(LEFT(AD30,4)="http",HYPERLINK(AD30,"Video"),"") -> Video | G30: 0 | I30: 177.47 | K30: 2.741218 | L30: 179.6046 | M30: 197.3677 | N30: 3" | O30: 72 | P30: 6 | Q30: No | R30: 16 | S30: 9.42 | T30: 2.8 | U30: 1.3G | V30: UN0335 | W30: F4 | Z30: 0.063 | AA30: 1008-F4-69249633 | AB30: GB/HSE-337856 | AC30: 11/1/2026 | AD30: https://youtu.be/D3AJIhkOkPo | AE30: 0 | AF30: 0 | AG30: =IF(OR(B30="NEW2021",B30="NEW2022"),1,0) -> 0 | AH30: =SUM(AG$4:AG30) -> 1 | AI30: =IF(RIGHT(E30,6)="retail",1,0) -> 0 | AJ30: =COUNTIF(AI$4:AI30,">0") -> 0 | AK30: 0 | AL30: 0 | AM30: =IF(OR(Table1[[#This Row],[Line total ordered for now]]>0,Table1[[#This Row],[Line total ordered for season]]>0),1,"") | AN30: =COUNTIF(AM$4:AM30,">0") -> 0 | AO30: =Table1[[#This Row],[ORDER QUANTITY to be collected BEFORE 31.3.22]] -> 0 | AP30: =J30 -> 0 | AQ30: =IFERROR(INDEX(Retail!H:H,MATCH($D30,Retail!$D:$D,0)),0) -> 0 | AR30: =IFERROR(INDEX(Retail!J:J,MATCH($D30,Retail!$D:$D,0)),0) -> 0 | AS30: =IFERROR(INDEX('NEW2022'!H:H,MATCH($D30,'NEW2022'!D:D,0)),0) -> 0 | AT30: =IFERROR(INDEX('NEW2022'!J:J,MATCH($D30,'NEW2022'!D:D,0)),0) -> 0 | AU30: =IFERROR(INDEX('Quiet Items'!H:H,MATCH($D30,'Quiet Items'!D:D,0)),0) -> 0 | AV30: =IFERROR(INDEX('Quiet Items'!J:J,MATCH($D30,'Quiet Items'!D:D,0)),0) -> 0 | AW30: =IFERROR(INDEX('1.4G'!H:H,MATCH($D30,'1.4G'!D:D,0)),0) -> 0 | AX30: =IFERROR(INDEX('1.4G'!J:J,MATCH($D30,'1.4G'!D:D,0)),0) -> 0 | AY30: =IF(OR(AU30>0,AW30>0,AO30>0,AS30>0,AQ30>0),AU30+AW30+AO30+AS30+AQ30,0) -> 0 | AZ30: =IF(OR(AV30>0,AX30>0,AP30>0,AT30>0,AR30>0),AV30+AX30+AP30+AT30+AR30,0) -> 0 | BA30: =IFERROR(Table1[[#This Row],[Line total ordered for now]]*Table1[[#This Row],[GUARANTEED PRICE for STOCK orders collected before 31.3.22]],0) -> 0 | BB30: =AZ30*L30 -> 0 | BC30: =(AZ30+Table1[[#This Row],[Line total ordered for now]])*Z30 -> 0 | BD30: 167.76254
A31: 28 | C31: Shell - 3" | D31: CS30301 | E31: 3" Red & green falling leaves | F31: =IF(LEFT(AD31,4)="http",HYPERLINK(AD31,"Video"),"") -> Video | G31: 0 | I31: 166.83 | K31: 2.7888609 | L31: 182.72616 | M31: 200.79798 | N31: 3" | O31: 72 | P31: 8 | Q31: No | R31: 17 | S31: 9.9 | T31: 2.8 | U31: 1.3G | V31: UN0335 | W31: F4 | Z31: 0.057434 | AA31: 1008-F4-69249632 | AB31: GB/HSE-340879 | AC31: 8/3/2027 | AD31: https://youtu.be/XQN_2l2So3Y | AE31: 0 | AF31: 0 | AG31: =IF(OR(B31="NEW2021",B31="NEW2022"),1,0) -> 0 | AH31: =SUM(AG$4:AG31) -> 1 | AI31: =IF(RIGHT(E31,6)="retail",1,0) -> 0 | AJ31: =COUNTIF(AI$4:AI31,">0") -> 0 | AK31: 0 | AL31: 0 | AM31: =IF(OR(Table1[[#This Row],[Line total ordered for now]]>0,Table1[[#This Row],[Line total ordered for season]]>0),1,"") | AN31: =COUNTIF(AM$4:AM31,">0") -> 0 | AO31: =Table1[[#This Row],[ORDER QUANTITY to be collected BEFORE 31.3.22]] -> 0 | AP31: =J31 -> 0 | AQ31: =IFERROR(INDEX(Retail!H:H,MATCH($D31,Retail!$D:$D,0)),0) -> 0 | AR31: =IFERROR(INDEX(Retail!J:J,MATCH($D31,Retail!$D:$D,0)),0) -> 0 | AS31: =IFERROR(INDEX('NEW2022'!H:H,MATCH($D31,'NEW2022'!D:D,0)),0) -> 0 | AT31: =IFERROR(INDEX('NEW2022'!J:J,MATCH($D31,'NEW2022'!D:D,0)),0) -> 0 | AU31: =IFERROR(INDEX('Quiet Items'!H:H,MATCH($D31,'Quiet Items'!D:D,0)),0) -> 0 | AV31: =IFERROR(INDEX('Quiet Items'!J:J,MATCH($D31,'Quiet Items'!D:D,0)),0) -> 0 | AW31: =IFERROR(INDEX('1.4G'!H:H,MATCH($D31,'1.4G'!D:D,0)),0) -> 0 | AX31: =IFERROR(INDEX('1.4G'!J:J,MATCH($D31,'1.4G'!D:D,0)),0) -> 0 | AY31: =IF(OR(AU31>0,AW31>0,AO31>0,AS31>0,AQ31>0),AU31+AW31+AO31+AS31+AQ31,0) -> 0 | AZ31: =IF(OR(AV31>0,AX31>0,AP31>0,AT31>0,AR31>0),AV31+AX31+AP31+AT31+AR31,0) -> 0 | BA31: =IFERROR(Table1[[#This Row],[Line total ordered for now]]*Table1[[#This Row],[GUARANTEED PRICE for STOCK orders collected before 31.3.22]],0) -> 0 | BB31: =AZ31*L31 -> 0 | BC31: =(AZ31+Table1[[#This Row],[Line total ordered for now]])*Z31 -> 0 | BD31: 170.67829
A32: 29 | C32: Shell - 3" | D32: CS30414 | E32: 3" Red Wave chrysathemum with crackling coconut pistil | F32: =IF(LEFT(AD32,4)="http",HYPERLINK(AD32,"Video"),"") -> Video | G32: 0 | I32: 172.26 | K32: 2.7981944 | L32: 183.3377 | M32: 201.47 | N32: 3" | O32: 72 | P32: 4 | Q32: No | R32: 16 | S32: 9.42 | T32: 2.8 | U32: 1.3G | V32: UN0335 | W32: F4 | Z32: 0.063 | AA32: 2806-F4-001943 | AB32: GB/HSE-362488 | AC32: 11/30/2030 | AD32: https://youtu.be/GJtjcbrbc54 | AE32: 0 | AF32: 0 | AG32: =IF(OR(B32="NEW2021",B32="NEW2022"),1,0) -> 0 | AH32: =SUM(AG$4:AG32) -> 1 | AI32: =IF(RIGHT(E32,6)="retail",1,0) -> 0 | AJ32: =COUNTIF(AI$4:AI32,">0") -> 0 | AK32: 0 | AL32: 0 | AM32: =IF(OR(Table1[[#This Row],[Line total ordered for now]]>0,Table1[[#This Row],[Line total ordered for season]]>0),1,"") | AN32: =COUNTIF(AM$4:AM32,">0") -> 0 | AO32: =Table1[[#This Row],[ORDER QUANTITY to be collected BEFORE 31.3.22]] -> 0 | AP32: =J32 -> 0 | AQ32: =IFERROR(INDEX(Retail!H:H,MATCH($D32,Retail!$D:$D,0)),0) -> 0 | AR32: =IFERROR(INDEX(Retail!J:J,MATCH($D32,Retail!$D:$D,0)),0) -> 0 | AS32: =IFERROR(INDEX('NEW2022'!H:H,MATCH($D32,'NEW2022'!D:D,0)),0) -> 0 | AT32: =IFERROR(INDEX('NEW2022'!J:J,MATCH($D32,'NEW2022'!D:D,0)),0) -> 0 | AU32: =IFERROR(INDEX('Quiet Items'!H:H,MATCH($D32,'Quiet Items'!D:D,0)),0) -> 0 | AV32: =IFERROR(INDEX('Quiet Items'!J:J,MATCH($D32,'Quiet Items'!D:D,0)),0) -> 0 | AW32: =IFERROR(INDEX('1.4G'!H:H,MATCH($D32,'1.4G'!D:D,0)),0) -> 0 | AX32: =IFERROR(INDEX('1.4G'!J:J,MATCH($D32,'1.4G'!D:D,0)),0) -> 0 | AY32: =IF(OR(AU32>0,AW32>0,AO32>0,AS32>0,AQ32>0),AU32+AW32+AO32+AS32+AQ32,0) -> 0 | AZ32: =IF(OR(AV32>0,AX32>0,AP32>0,AT32>0,AR32>0),AV32+AX32+AP32+AT32+AR32,0) -> 0 | BA32: =IFERROR(Table1[[#This Row],[Line total ordered for now]]*Table1[[#This Row],[GUARANTEED PRICE for STOCK orders collected before 31.3.22]],0) -> 0 | BB32: =AZ32*L32 -> 0 | BC32: =(AZ32+Table1[[#This Row],[Line total ordered for now]])*Z32 -> 0 | BD32: 171.2495
A33: 30 | C33: Shell - 3" | D33: CS30303 | E33: 3" Gold coconut | F33: =IF(LEFT(AD33,4)="http",HYPERLINK(AD33,"Video"),"") -> Video | G33: 14 | I33: 173.82 | K33: 2.8234722 | L33: 184.9939 | M33: 203.29 | N33: 3" | O33: 72 | P33: 5 | Q33: No | R33: 16 | S33: 9.42 | T33: 2.8 | U33: 1.3G | V33: UN0335 | W33: F4 | Z33: 0.063 | AA33: 1008-F4-69249633 | AB33: GB/HSE-340881 | AC33: 8/3/2027 | AD33: https://youtu.be/NPCLItBf9cU | AE33: 0 | AF33: 0 | AG33: =IF(OR(B33="NEW2021",B33="NEW2022"),1,0) -> 0 | AH33: =SUM(AG$4:AG33) -> 1 | AI33: =IF(RIGHT(E33,6)="retail",1,0) -> 0 | AJ33: =COUNTIF(AI$4:AI33,">0") -> 0 | AK33: 0 | AL33: 0 | AM33: =IF(OR(Table1[[#This Row],[Line total ordered for now]]>0,Table1[[#This Row],[Line total ordered for season]]>0),1,"") | AN33: =COUNTIF(AM$4:AM33,">0") -> 0 | AO33: =Table1[[#This Row],[ORDER QUANTITY to be collected BEFORE 31.3.22]] -> 0 | AP33: =J33 -> 0 | AQ33: =IFERROR(INDEX(Retail!H:H,MATCH($D33,Retail!$D:$D,0)),0) -> 0 | AR33: =IFERROR(INDEX(Retail!J:J,MATCH($D33,Retail!$D:$D,0)),0) -> 0 | AS33: =IFERROR(INDEX('NEW2022'!H:H,MATCH($D33,'NEW2022'!D:D,0)),0) -> 0 | AT33: =IFERROR(INDEX('NEW2022'!J:J,MATCH($D33,'NEW2022'!D:D,0)),0) -> 0 | AU33: =IFERROR(INDEX('Quiet Items'!H:H,MATCH($D33,'Quiet Items'!D:D,0)),0) -> 0 | AV33: =IFERROR(INDEX('Quiet Items'!J:J,MATCH($D33,'Quiet Items'!D:D,0)),0) -> 0 | AW33: =IFERROR(INDEX('1.4G'!H:H,MATCH($D33,'1.4G'!D:D,0)),0) -> 0 | AX33: =IFERROR(INDEX('1.4G'!J:J,MATCH($D33,'1.4G'!D:D,0)),0) -> 0 | AY33: =IF(OR(AU33>0,AW33>0,AO33>0,AS33>0,AQ33>0),AU33+AW33+AO33+AS33+AQ33,0) -> 0 | AZ33: =IF(OR(AV33>0,AX33>0,AP33>0,AT33>0,AR33>0),AV33+AX33+AP33+AT33+AR33,0) -> 0 | BA33: =IFERROR(Table1[[#This Row],[Line total ordered for now]]*Table1[[#This Row],[GUARANTEED PRICE for STOCK orders collected before 31.3.22]],0) -> 0 | BB33: =AZ33*L33 -> 0 | BC33: =(AZ33+Table1[[#This Row],[Line total ordered for now]])*Z33 -> 0 | BD33: 172.7965
A34: 31 | C34: Shell - 3" | D34: CS30069 | E34: 3" Colour Dahlia | F34: =IF(LEFT(AD34,4)="http",HYPERLINK(AD34,"Video"),"") -> Video | G34: 0 | I34: 161.2 | K34: 2.8400121 | L34: 186.07759 | M34: 204.48087 | N34: 3" | O34: 72 | P34: 0 | Q34: No | R34: 16 | S34: 9.42 | T34: 2.8 | U34: 1.3G | V34: UN0335 | W34: F4 | Z34: 0 | AA34: 1008-F4-69249633 | AB34: GB/HSE-321113 | AC34: 10/4/2030 | AD34: https://youtu.be/t_ffGW50fmg | AE34: 0 | AF34: 0 | AG34: =IF(OR(B34="NEW2021",B34="NEW2022"),1,0) -> 0 | AH34: =SUM(AG$4:AG34) -> 1 | AI34: =IF(RIGHT(E34,6)="retail",1,0) -> 0 | AJ34: =COUNTIF(AI$4:AI34,">0") -> 0 | AK34: 0 | AL34: 0 | AM34: =IF(OR(Table1[[#This Row],[Line total ordered for now]]>0,Table1[[#This Row],[Line total ordered for season]]>0),1,"") | AN34: =COUNTIF(AM$4:AM34,">0") -> 0 | AO34: =Table1[[#This Row],[ORDER QUANTITY to be collected BEFORE 31.3.22]] -> 0 | AP34: =J34 -> 0 | AQ34: =IFERROR(INDEX(Retail!H:H,MATCH($D34,Retail!$D:$D,0)),0) -> 0 | AR34: =IFERROR(INDEX(Retail!J:J,MATCH($D34,Retail!$D:$D,0)),0) -> 0 | AS34: =IFERROR(INDEX('NEW2022'!H:H,MATCH($D34,'NEW2022'!D:D,0)),0) -> 0 | AT34: =IFERROR(INDEX('NEW2022'!J:J,MATCH($D34,'NEW2022'!D:D,0)),0) -> 0 | AU34: =IFERROR(INDEX('Quiet Items'!H:H,MATCH($D34,'Quiet Items'!D:D,0)),0) -> 0 | AV34: =IFERROR(INDEX('Quiet Items'!J:J,MATCH($D34,'Quiet Items'!D:D,0)),0) -> 0 | AW34: =IFERROR(INDEX('1.4G'!H:H,MATCH($D34,'1.4G'!D:D,0)),0) -> 0 | AX34: =IFERROR(INDEX('1.4G'!J:J,MATCH($D34,'1.4G'!D:D,0)),0) -> 0 | AY34: =IF(OR(AU34>0,AW34>0,AO34>0,AS34>0,AQ34>0),AU34+AW34+AO34+AS34+AQ34,0) -> 0 | AZ34: =IF(OR(AV34>0,AX34>0,AP34>0,AT34>0,AR34>0),AV34+AX34+AP34+AT34+AR34,0) -> 0 | BA34: =IFERROR(Table1[[#This Row],[Line total ordered for now]]*Table1[[#This Row],[GUARANTEED PRICE for STOCK orders collected before 31.3.22]],0) -> 0 | BB34: =AZ34*L34 -> 0 | BC34: =(AZ34+Table1[[#This Row],[Line total ordered for now]])*Z34 -> 0 | BD34: 173.80874
A35: 32 | C35: Shell - 3" | D35: CS30419 | E35: 3" Chrys coconut with blue pistil | F35: =IF(LEFT(AD35,4)="http",HYPERLINK(AD35,"Video"),"") -> Video | G35: 0 | I35: 175.4 | K35: 2.8491667 | L35: 186.6774 | M35: 205.14 | N35: 3" | O35: 72 | P35: 6 | Q35: No | R35: 17 | S35: 11.5 | T35: 2.8 | U35: 1.3G | V35: UN0335 | W35: F4 | Z35: 0.0574 | AA35: 2806-F4-001943 | AB35: GB/HSE-362491 | AC35: 11/30/2030 | AD35: https://www.dropbox.com/s/xjuvezrdx6jpbgy/P1040292.MOV?dl=0 | AE35: 0 | AF35: 0 | AG35: =IF(OR(B35="NEW2021",B35="NEW2022"),1,0) -> 0 | AH35: =SUM(AG$4:AG35) -> 1 | AI35: =IF(RIGHT(E35,6)="retail",1,0) -> 0 | AJ35: =COUNTIF(AI$4:AI35,">0") -> 0 | AK35: 0 | AL35: 0 | AM35: =IF(OR(Table1[[#This Row],[Line total ordered for now]]>0,Table1[[#This Row],[Line total ordered for season]]>0),1,"") | AN35: =COUNTIF(AM$4:AM35,">0") -> 0 | AO35: =Table1[[#This Row],[ORDER QUANTITY to be collected BEFORE 31.3.22]] -> 0 | AP35: =J35 -> 0 | AQ35: =IFERROR(INDEX(Retail!H:H,MATCH($D35,Retail!$D:$D,0)),0) -> 0 | AR35: =IFERROR(INDEX(Retail!J:J,MATCH($D35,Retail!$D:$D,0)),0) -> 0 | AS35: =IFERROR(INDEX('NEW2022'!H:H,MATCH($D35,'NEW2022'!D:D,0)),0) -> 0 | AT35: =IFERROR(INDEX('NEW2022'!J:J,MATCH($D35,'NEW2022'!D:D,0)),0) -> 0 | AU35: =IFERROR(INDEX('Quiet Items'!H:H,MATCH($D35,'Quiet Items'!D:D,0)),0) -> 0 | AV35: =IFERROR(INDEX('Quiet Items'!J:J,MATCH($D35,'Quiet Items'!D:D,0)),0) -> 0 | AW35: =IFERROR(INDEX('1.4G'!H:H,MATCH($D35,'1.4G'!D:D,0)),0) -> 0 | AX35: =IFERROR(INDEX('1.4G'!J:J,MATCH($D35,'1.4G'!D:D,0)),0) -> 0 | AY35: =IF(OR(AU35>0,AW35>0,AO35>0,AS35>0,AQ35>0),AU35+AW35+AO35+AS35+AQ35,0) -> 0 | AZ35: =IF(OR(AV35>0,AX35>0,AP35>0,AT35>0,AR35>0),AV35+AX35+AP35+AT35+AR35,0) -> 0 | BA35: =IFERROR(Table1[[#This Row],[Line total ordered for now]]*Table1[[#This Row],[GUARANTEED PRICE for STOCK orders collected before 31.3.22]],0) -> 0 | BB35: =AZ35*L35 -> 0 | BC35: =(AZ35+Table1[[#This Row],[Line total ordered for now]])*Z35 -> 0 | BD35: 174.369
