Workbook

Sheet Explanations
C1: This file contains the WLTC cycles for validation 2, based on the following preliminary vehicle classification:
C3: Class 1 | D3: ratio of rated power in W / kerb mass in kg <= 22
C4: (version 1.4) | D4: The table with the speed trace is named "WLTC_class_1" and contains a low and a medium speed part.
D5: If v_max >= 70 km/h, phase low is repeated after phase medium.
D6: If v_max < 70 km/h, phase medium is replaced by a repetition of phase low.
D8: If a vehicle has a ratio of rated power in W divide by kerb mass in kg close to the borderline, any additional tests with the WLTC, class 2, version 1.4 cycle are highly welcomed.
C10: Class 2 | D10: ratio of rated power in W / kerb mass in kg > 22 but <= 34
C11: (version 1.4) | D11: The table with the speed trace is named "WLTC_class_2" and contains a low, a medium and a high speed part.
D12: If v_max < 90 km/h, phase high is replaced by a repetition of phase low.
D14: If a vehicle with a ratio of rated power in W divided by kerb mass in kg between 22 and 34, but close to the lower borderline cannot follow the WLTC class 2, version 1.4 speed trac
D15: it shall proceed at full throttle until the reference speed profile is reached again. This test shall be repeated at least 3 times. Additionally, the same vehicle can be tested
D16: with the WLTC, class 1 , version 1.4 driving cycle (3 tests), provided that all the other provisions of the WLTP are the same as before.
D18: If a vehicle has a ratio of rated power in W divided by kerb mass in kg between 22 and 34, but close to the upper borderline, any additional tests with the WLTC, class 3, version 5 cycle are highly welcomed.
C20: Class 3 | D20: ratio of rated power in W / kerb mass in kg > 34
C21: (version 5) | D21: The table with the speed trace is named "WLTC_class_3" and contains a low, a medium, a high and an extra high speed part.
D22: If v_max < 135 km/h, phase high is replaced by a repetition of phase low.
D24: If a vehicle with a ratio of rated power in W divided by kerb masin kg > 34, but close to this borderline cannot follow the WLTC class 3, version 5 speed trace
D25: it shall proceed at full throttle until the reference speed profile is reached again. This test shall be repeated at least 3 times. Additionally, the same vehicle can be tested
D26: with the WLTC, class 2 , version 1.4 driving cycle (3 tests), provided that all the other provisions of the WLTP are the same as before.
D28: kerb mass means the "unladen mass" as defined in ECE R83.
D29: v_max is the maximum speed of the vehicle as declared by the manufacturer (ECE R 68) and not any use restriction or safety based limitation.

Sheet WLTC_class_3
B2: Class 3 vehicles: | C2: vehicles with a ratio of rated power in W / kerb mass in kg > 34
B4: For further requirements/recommendations see table "Explanations"
B6: Phase | C6: Total elapsed time | D6: Phase elapsed time | E6: WLTC class 3, version 5, vehicle speed | F6: WLTC class 3, version 5, acceleration | G6: WLTC class 3, version 5, vehicle speed | T6: Is the vehicle braking? | V6: Rolling Resistance Force | W6: Aerodynamic Drag Force | X6: Acceleration Force | Y6: Total Tractive Force | Z6: Tractive Power | AA6: Cumulative Tractive Energy | AB6: Cumulative Braking Energy | AC6: Cumulative Braking Energy | AD6: MGU IN | AE6: Inverter IN | AF6: Battery IN | AG6: Battery OUT | AH6: Inverter OUT | AI6: MGU OUT | AJ6: Recovered Energy
B7: Phase | C7: s | D7: s | E7: km/h | F7: m/s² | G7: m/s | V7: N | W7: N | X7: N | Y7: N | Z7: W | AA7: j | AB7: j | AC7: kw/h | AD7: J | AE7: J | AF7: J | AG7: J | AH7: J | AI7: J | AJ7: J
B8: Low | C8: 0 | D8: 0 | E8: 0 | F8: =($E9-0)/2/3.6 -> 0 | G8: =E8/3.6 -> 0 | T8: =IF(F8<0,"Yes","No") -> No | V8: =Constants!$D$3*Constants!$D$4*Constants!$D$5 -> 179.08155 | W8: =0.5*Constants!$D$6*Constants!$D$7*(WLTC_class_3!G8)^2 -> 0 | X8: =Constants!$D$3*WLTC_class_3!F8 -> 0 | Y8: =X8+W8+V8 -> 179.08155 | Z8: =Y8*G8 -> 0 | AA8: =IF(Z8>0, Z8, 0) -> 0 | AB8: =IF(Z8<0, ABS(Z8), 0) -> 0 | AC8: =AB8*0.000000277778 -> 0 | AD8: =AB8 -> 0 | AE8: =AD8*0.93 -> 0 | AF8: =AE8*0.97 -> 0 | AG8: =AF8*0.94 -> 0 | AH8: =AG8*0.94 -> 0 | AI8: =AH8*0.97 -> 0 | AJ8: =AI8*0.93 -> 0
B9: Low | C9: 1 | D9: 1 | E9: 0 | F9: =($E10-$E8)/2/3.6 -> 0 | G9: =E9/3.6 -> 0 | T9: =IF(F9<0,"Yes","No") -> No | V9: =Constants!$D$3*Constants!$D$4*Constants!$D$5 -> 179.08155 | W9: =0.5*Constants!$D$6*Constants!$D$7*(WLTC_class_3!G9)^2 -> 0 | X9: =Constants!$D$3*WLTC_class_3!F9 -> 0 | Y9: =X9+W9+V9 -> 179.08155 | Z9: =Y9*G9 -> 0 | AA9: =AA8 + IF(Z9>0, Z8, 0) -> 0 | AB9: =AB8 + IF(Z9<0, ABS(Z9), 0) -> 0 | AC9: =AB9*0.000000277778 -> 0 | AD9: =AB9 -> 0 | AE9: =AD9*0.93 -> 0 | AF9: =AE9*0.97 -> 0 | AG9: =AF9*0.94 -> 0 | AH9: =AG9*0.94 -> 0 | AI9: =AH9*0.97 -> 0 | AJ9: =AI9*0.93 -> 0
B10: Low | C10: 2 | D10: 2 | E10: 0 | F10: =($E11-$E9)/2/3.6 -> 0 | G10: =E10/3.6 -> 0 | T10: =IF(F10<0,"Yes","No") -> No | V10: =Constants!$D$3*Constants!$D$4*Constants!$D$5 -> 179.08155 | W10: =0.5*Constants!$D$6*Constants!$D$7*(WLTC_class_3!G10)^2 -> 0 | X10: =Constants!$D$3*WLTC_class_3!F10 -> 0 | Y10: =X10+W10+V10 -> 179.08155 | Z10: =Y10*G10 -> 0 | AA10: =AA9 + IF(Z10>0, Z9, 0) -> 0 | AB10: =AB9 + IF(Z10<0, ABS(Z10), 0) -> 0 | AC10: =AB10*0.000000277778 -> 0 | AD10: =AB10 -> 0 | AE10: =AD10*0.93 -> 0 | AF10: =AE10*0.97 -> 0 | AG10: =AF10*0.94 -> 0 | AH10: =AG10*0.94 -> 0 | AI10: =AH10*0.97 -> 0 | AJ10: =AI10*0.93 -> 0
B11: Low | C11: 3 | D11: 3 | E11: 0 | F11: =($E12-$E10)/2/3.6 -> 0 | G11: =E11/3.6 -> 0 | T11: =IF(F11<0,"Yes","No") -> No | V11: =Constants!$D$3*Constants!$D$4*Constants!$D$5 -> 179.08155 | W11: =0.5*Constants!$D$6*Constants!$D$7*(WLTC_class_3!G11)^2 -> 0 | X11: =Constants!$D$3*WLTC_class_3!F11 -> 0 | Y11: =X11+W11+V11 -> 179.08155 | Z11: =Y11*G11 -> 0 | AA11: =AA10 + IF(Z11>0, Z10, 0) -> 0 | AB11: =AB10 + IF(Z11<0, ABS(Z11), 0) -> 0 | AC11: =AB11*0.000000277778 -> 0 | AD11: =AB11 -> 0 | AE11: =AD11*0.93 -> 0 | AF11: =AE11*0.97 -> 0 | AG11: =AF11*0.94 -> 0 | AH11: =AG11*0.94 -> 0 | AI11: =AH11*0.97 -> 0 | AJ11: =AI11*0.93 -> 0
B12: Low | C12: 4 | D12: 4 | E12: 0 | F12: =($E13-$E11)/2/3.6 -> 0 | G12: =E12/3.6 -> 0 | T12: =IF(F12<0,"Yes","No") -> No | V12: =Constants!$D$3*Constants!$D$4*Constants!$D$5 -> 179.08155 | W12: =0.5*Constants!$D$6*Constants!$D$7*(WLTC_class_3!G12)^2 -> 0 | X12: =Constants!$D$3*WLTC_class_3!F12 -> 0 | Y12: =X12+W12+V12 -> 179.08155 | Z12: =Y12*G12 -> 0 | AA12: =AA11 + IF(Z12>0, Z11, 0) -> 0 | AB12: =AB11 + IF(Z12<0, ABS(Z12), 0) -> 0 | AC12: =AB12*0.000000277778 -> 0 | AD12: =AB12 -> 0 | AE12: =AD12*0.93 -> 0 | AF12: =AE12*0.97 -> 0 | AG12: =AF12*0.94 -> 0 | AH12: =AG12*0.94 -> 0 | AI12: =AH12*0.97 -> 0 | AJ12: =AI12*0.93 -> 0
B13: Low | C13: 5 | D13: 5 | E13: 0 | F13: =($E14-$E12)/2/3.6 -> 0 | G13: =E13/3.6 -> 0 | T13: =IF(F13<0,"Yes","No") -> No | V13: =Constants!$D$3*Constants!$D$4*Constants!$D$5 -> 179.08155 | W13: =0.5*Constants!$D$6*Constants!$D$7*(WLTC_class_3!G13)^2 -> 0 | X13: =Constants!$D$3*WLTC_class_3!F13 -> 0 | Y13: =X13+W13+V13 -> 179.08155 | Z13: =Y13*G13 -> 0 | AA13: =AA12 + IF(Z13>0, Z12, 0) -> 0 | AB13: =AB12 + IF(Z13<0, ABS(Z13), 0) -> 0 | AC13: =AB13*0.000000277778 -> 0 | AD13: =AB13 -> 0 | AE13: =AD13*0.93 -> 0 | AF13: =AE13*0.97 -> 0 | AG13: =AF13*0.94 -> 0 | AH13: =AG13*0.94 -> 0 | AI13: =AH13*0.97 -> 0 | AJ13: =AI13*0.93 -> 0
B14: Low | C14: 6 | D14: 6 | E14: 0 | F14: =($E15-$E13)/2/3.6 -> 0 | G14: =E14/3.6 -> 0 | T14: =IF(F14<0,"Yes","No") -> No | V14: =Constants!$D$3*Constants!$D$4*Constants!$D$5 -> 179.08155 | W14: =0.5*Constants!$D$6*Constants!$D$7*(WLTC_class_3!G14)^2 -> 0 | X14: =Constants!$D$3*WLTC_class_3!F14 -> 0 | Y14: =X14+W14+V14 -> 179.08155 | Z14: =Y14*G14 -> 0 | AA14: =AA13 + IF(Z14>0, Z13, 0) -> 0 | AB14: =AB13 + IF(Z14<0, ABS(Z14), 0) -> 0 | AC14: =AB14*0.000000277778 -> 0 | AD14: =AB14 -> 0 | AE14: =AD14*0.93 -> 0 | AF14: =AE14*0.97 -> 0 | AG14: =AF14*0.94 -> 0 | AH14: =AG14*0.94 -> 0 | AI14: =AH14*0.97 -> 0 | AJ14: =AI14*0.93 -> 0
B15: Low | C15: 7 | D15: 7 | E15: 0 | F15: =($E16-$E14)/2/3.6 -> 0 | G15: =E15/3.6 -> 0 | T15: =IF(F15<0,"Yes","No") -> No | V15: =Constants!$D$3*Constants!$D$4*Constants!$D$5 -> 179.08155 | W15: =0.5*Constants!$D$6*Constants!$D$7*(WLTC_class_3!G15)^2 -> 0 | X15: =Constants!$D$3*WLTC_class_3!F15 -> 0 | Y15: =X15+W15+V15 -> 179.08155 | Z15: =Y15*G15 -> 0 | AA15: =AA14 + IF(Z15>0, Z14, 0) -> 0 | AB15: =AB14 + IF(Z15<0, ABS(Z15), 0) -> 0 | AC15: =AB15*0.000000277778 -> 0 | AD15: =AB15 -> 0 | AE15: =AD15*0.93 -> 0 | AF15: =AE15*0.97 -> 0 | AG15: =AF15*0.94 -> 0 | AH15: =AG15*0.94 -> 0 | AI15: =AH15*0.97 -> 0 | AJ15: =AI15*0.93 -> 0
B16: Low | C16: 8 | D16: 8 | E16: 0 | F16: =($E17-$E15)/2/3.6 -> 0 | G16: =E16/3.6 -> 0 | T16: =IF(F16<0,"Yes","No") -> No | V16: =Constants!$D$3*Constants!$D$4*Constants!$D$5 -> 179.08155 | W16: =0.5*Constants!$D$6*Constants!$D$7*(WLTC_class_3!G16)^2 -> 0 | X16: =Constants!$D$3*WLTC_class_3!F16 -> 0 | Y16: =X16+W16+V16 -> 179.08155 | Z16: =Y16*G16 -> 0 | AA16: =AA15 + IF(Z16>0, Z15, 0) -> 0 | AB16: =AB15 + IF(Z16<0, ABS(Z16), 0) -> 0 | AC16: =AB16*0.000000277778 -> 0 | AD16: =AB16 -> 0 | AE16: =AD16*0.93 -> 0 | AF16: =AE16*0.97 -> 0 | AG16: =AF16*0.94 -> 0 | AH16: =AG16*0.94 -> 0 | AI16: =AH16*0.97 -> 0 | AJ16: =AI16*0.93 -> 0
B17: Low | C17: 9 | D17: 9 | E17: 0 | F17: =($E18-$E16)/2/3.6 -> 0 | G17: =E17/3.6 -> 0 | T17: =IF(F17<0,"Yes","No") -> No | V17: =Constants!$D$3*Constants!$D$4*Constants!$D$5 -> 179.08155 | W17: =0.5*Constants!$D$6*Constants!$D$7*(WLTC_class_3!G17)^2 -> 0 | X17: =Constants!$D$3*WLTC_class_3!F17 -> 0 | Y17: =X17+W17+V17 -> 179.08155 | Z17: =Y17*G17 -> 0 | AA17: =AA16 + IF(Z17>0, Z16, 0) -> 0 | AB17: =AB16 + IF(Z17<0, ABS(Z17), 0) -> 0 | AC17: =AB17*0.000000277778 -> 0 | AD17: =AB17 -> 0 | AE17: =AD17*0.93 -> 0 | AF17: =AE17*0.97 -> 0 | AG17: =AF17*0.94 -> 0 | AH17: =AG17*0.94 -> 0 | AI17: =AH17*0.97 -> 0 | AJ17: =AI17*0.93 -> 0
B18: Low | C18: 10 | D18: 10 | E18: 0 | F18: =($E19-$E17)/2/3.6 -> 0 | G18: =E18/3.6 -> 0 | T18: =IF(F18<0,"Yes","No") -> No | V18: =Constants!$D$3*Constants!$D$4*Constants!$D$5 -> 179.08155 | W18: =0.5*Constants!$D$6*Constants!$D$7*(WLTC_class_3!G18)^2 -> 0 | X18: =Constants!$D$3*WLTC_class_3!F18 -> 0 | Y18: =X18+W18+V18 -> 179.08155 | Z18: =Y18*G18 -> 0 | AA18: =AA17 + IF(Z18>0, Z17, 0) -> 0 | AB18: =AB17 + IF(Z18<0, ABS(Z18), 0) -> 0 | AC18: =AB18*0.000000277778 -> 0 | AD18: =AB18 -> 0 | AE18: =AD18*0.93 -> 0 | AF18: =AE18*0.97 -> 0 | AG18: =AF18*0.94 -> 0 | AH18: =AG18*0.94 -> 0 | AI18: =AH18*0.97 -> 0 | AJ18: =AI18*0.93 -> 0
B19: Low | C19: 11 | D19: 11 | E19: 0 | F19: =($E20-$E18)/2/3.6 -> 0.027777778 | G19: =E19/3.6 -> 0 | T19: =IF(F19<0,"Yes","No") -> No | V19: =Constants!$D$3*Constants!$D$4*Constants!$D$5 -> 179.08155 | W19: =0.5*Constants!$D$6*Constants!$D$7*(WLTC_class_3!G19)^2 -> 0 | X19: =Constants!$D$3*WLTC_class_3!F19 -> 41.666667 | Y19: =X19+W19+V19 -> 220.74822 | Z19: =Y19*G19 -> 0 | AA19: =AA18 + IF(Z19>0, Z18, 0) -> 0 | AB19: =AB18 + IF(Z19<0, ABS(Z19), 0) -> 0 | AC19: =AB19*0.000000277778 -> 0 | AD19: =AB19 -> 0 | AE19: =AD19*0.93 -> 0 | AF19: =AE19*0.97 -> 0 | AG19: =AF19*0.94 -> 0 | AH19: =AG19*0.94 -> 0 | AI19: =AH19*0.97 -> 0 | AJ19: =AI19*0.93 -> 0
B20: Low | C20: 12 | D20: 12 | E20: 0.2 | F20: =($E21-$E19)/2/3.6 -> 0.23611111 | G20: =E20/3.6 -> 0.055555556 | T20: =IF(F20<0,"Yes","No") -> No | V20: =Constants!$D$3*Constants!$D$4*Constants!$D$5 -> 179.08155 | W20: =0.5*Constants!$D$6*Constants!$D$7*(WLTC_class_3!G20)^2 -> 0.00096530556 | X20: =Constants!$D$3*WLTC_class_3!F20 -> 354.16667 | Y20: =X20+W20+V20 -> 533.24918 | Z20: =Y20*G20 -> 29.624955 | AA20: =AA19 + IF(Z20>0, Z19, 0) -> 0 | AB20: =AB19 + IF(Z20<0, ABS(Z20), 0) -> 0 | AC20: =AB20*0.000000277778 -> 0 | AD20: =AB20 -> 0 | AE20: =AD20*0.93 -> 0 | AF20: =AE20*0.97 -> 0 | AG20: =AF20*0.94 -> 0 | AH20: =AG20*0.94 -> 0 | AI20: =AH20*0.97 -> 0 | AJ20: =AI20*0.93 -> 0
... B1808: Extra-high | C1808: 1800 | D1808: 323 | E1808: 0 | F1808: =($E1809-$E1807)/2/3.6 -> 0 | G1808: =E1808/3.6 -> 0 | T1808: =IF(F1808<0,"Yes","No") -> No | V1808: =Constants!$D$3*Constants!$D$4*Constants!$D$5 -> 179.08155 | W1808: =0.5*Constants!$D$6*Constants!$D$7*(WLTC_class_3!G1808)^2 -> 0 | X1808: =Constants!$D$3*WLTC_class_3!F1808 -> 0 | Y1808: =X1808+W1808+V1808 -> 179.08155 | Z1808: =Y1808*G1808 -> 0 | AA1808: =AA1807 + IF(Z1808>0, Z1807, 0) -> 10742189 | AB1808: =AB1807 + IF(Z1808<0, ABS(Z1808), 0) -> 3062906.7 | AC1808: =AB1808*0.000000277778 -> 0.85080811 | AD1808: =AB1808 -> 3062906.7 | AE1808: =AD1808*0.93 -> 2848503.3 | AF1808: =AE1808*0.97 -> 2763048.2 | AG1808: =AF1808*0.94 -> 2597265.3 | AH1808: =AG1808*0.94 -> 2441429.4 | AI1808: =AH1808*0.97 -> 2368186.5 | AJ1808: =AI1808*0.93 -> 2202413.4

Sheet Constants
C2: Constants | G2: Values of interest
C3: Test mass (m) (kg) | D3: 1500 | G3: Peak breaking power (W) | H3: =_xlfn.MINIFS(WLTC_class_3!Z8:Z1808,WLTC_class_3!Z8:Z1808,"<0") -> -29053.902
C4: Gravity (g) | D4: 9.81 | G4: Max positive (kW) | H4: 38.5
C5: Crr | D5: 0.01217 | G5: Max energy in single breaking event (J) | H5: 285611 | I5: 79.34 (Wh)
C6: Cd | D6: 0.31
C7: Frontal area (A) (m) | D7: 2.0178
C8: Air density (rho) | D8: 1.225
C9: Overall KERS efficiency | D9: 0.848
C10: CdA | D10: =D7*D6 -> 0.625518

Sheet Graphs
