Workbook

Sheet Gearing Calculator
B2: Yamaha YZF R6 2009 | J2: http://odm.lt/wp-content/uploads/2016/03/yzf_r6_2009_user_manual.pdf
AG4: Road Speed (m/s) | AN4: Road Speed (mph) | AU4: Road Speed (kmh)
B5: Motorcycle Data | F5: Power | I5: Gearing Calculator | O5: RPM Drop Calculator | T5: Mass & CoG | AA5: RPM | AB5: Power (BHP) | AC5: Power (KW) | AD5: Power (W) | AE5: Torque | AG5: 1st | AH5: 2nd | AI5: 3rd | AJ5: 4th | AK5: 5th | AL5: 6th | AN5: 1st | AO5: 2nd | AP5: 3rd | AQ5: 4th | AR5: 5th | AS5: 6th | AU5: 1st | AV5: 2nd | AW5: 3rd | AX5: 4th | AY5: 5th | AZ5: 6th
B6: Parameter | C6: Value | D6: Unit | F6: Max power (BHP) | G6: 114 | I6: Gear | J6: Driving | K6: Driven | L6: Ratio | M6: overall | O6: Gear | P6: Speed (KPH) | Q6: RPM | R6: RPM Fall | T6: Parameter | U6: Tucked | V6: Braking | W6: Leaning | X6: Unit | AA6: 5200 | AB6: 30 | AC6: =0.7457*AB6 -> 22.371 | AD6: =AC6*10^3 -> 22371 | AE6: =(AB6*5252)/AA6 -> 30.3 | AG6: =(((AA6/$M$8)*($C$14))/(60)) -> 10.442772 | AH6: =(((AA6/$M$9)*($C$14))/(60)) -> 13.488581 | AI6: =(((AA6/$M$10)*($C$14))/(60)) -> 16.186297 | AJ6: =(((AA6/$M$11)*($C$14))/(60)) -> 18.676496 | AK6: =(((AA6/$M$12)*($C$14))/(60)) -> 20.982236 | AL6: =(((AA6/$M$13)*($C$14))/(60)) -> 23.458401 | AN6: =AG6*2.237 -> 23.360481 | AO6: =AH6*2.237 -> 30.173955 | AP6: =AI6*2.237 -> 36.208746 | AQ6: =AJ6*2.237 -> 41.779322 | AR6: =AK6*2.237 -> 46.937263 | AS6: =AL6*2.237 -> 52.476443 | AU6: =AG6*3.6 -> 37.593979 | AV6: =AH6*3.6 -> 48.55889 | AW6: =AI6*3.6 -> 58.270668 | AX6: =AJ6*3.6 -> 67.235386 | AY6: =AK6*3.6 -> 75.536051 | AZ6: =AL6*3.6 -> 84.450244
B7: Wb | C7: 1.38 | D7: m | F7: Max Power (RPM) | G7: 14250 | I7: Primary | J7: 85 | K7: 41 | L7: =J7/K7 -> 2.0731707 | O7: 1 | P7: 38 | Q7: 5250 | T7: Weight Front (Wf) | U7: 123.37 | V7: 126.61 | W7: 126.61 | X7: kg | AA7: 5300 | AB7: 31 | AC7: =0.7457*AB7 -> 23.1167 | AD7: =AC7*10^3 -> 23116.7 | AE7: =(AB7*5252)/AA7 -> 30.719245 | AG7: =(((AA7/$M$8)*($C$14))/(60)) -> 10.643595 | AH7: =(((AA7/$M$9)*($C$14))/(60)) -> 13.747976 | AI7: =(((AA7/$M$10)*($C$14))/(60)) -> 16.497572 | AJ7: =(((AA7/$M$11)*($C$14))/(60)) -> 19.03566 | AK7: =(((AA7/$M$12)*($C$14))/(60)) -> 21.385741 | AL7: =(((AA7/$M$13)*($C$14))/(60)) -> 23.909524 | AN7: =AG7*2.237 -> 23.809721 | AO7: =AH7*2.237 -> 30.754223 | AP7: =AI7*2.237 -> 36.905068 | AQ7: =AJ7*2.237 -> 42.58277 | AR7: =AK7*2.237 -> 47.839903 | AS7: =AL7*2.237 -> 53.485605 | AU7: =AG7*3.6 -> 38.316941 | AV7: =AH7*3.6 -> 49.492715 | AW7: =AI7*3.6 -> 59.391258 | AX7: =AJ7*3.6 -> 68.528374 | AY7: =AK7*3.6 -> 76.988668 | AZ7: =AL7*3.6 -> 86.074287
B8: Rr | C8: 0.31496 | D8: m | F8: Max Torque (nm) | G8: 61 | I8: 1 | J8: 31 | K8: 12 | L8: =J8/K8 -> 2.5833333 | M8: =$L$7*L8*$L$14 -> 16.424119 | P8: 100 | Q8: 13750 | T8: Weight Rear (Wr) | U8: 142.83 | V8: 139.59 | W8: 139.59 | X8: kg | AA8: 5400 | AB8: 32 | AC8: =0.7457*AB8 -> 23.8624 | AD8: =AC8*10^3 -> 23862.4 | AE8: =(AB8*5252)/AA8 -> 31.122963 | AG8: =(((AA8/$M$8)*($C$14))/(60)) -> 10.844417 | AH8: =(((AA8/$M$9)*($C$14))/(60)) -> 14.007372 | AI8: =(((AA8/$M$10)*($C$14))/(60)) -> 16.808847 | AJ8: =(((AA8/$M$11)*($C$14))/(60)) -> 19.394823 | AK8: =(((AA8/$M$12)*($C$14))/(60)) -> 21.789246 | AL8: =(((AA8/$M$13)*($C$14))/(60)) -> 24.360647 | AN8: =AG8*2.237 -> 24.258961 | AO8: =AH8*2.237 -> 31.334491 | AP8: =AI8*2.237 -> 37.60139 | AQ8: =AJ8*2.237 -> 43.386219 | AR8: =AK8*2.237 -> 48.742542 | AS8: =AL8*2.237 -> 54.494768 | AU8: =AG8*3.6 -> 39.039902 | AV8: =AH8*3.6 -> 50.42654 | AW8: =AI8*3.6 -> 60.511848 | AX8: =AJ8*3.6 -> 69.821363 | AY8: =AK8*3.6 -> 78.441284 | AZ8: =AL8*3.6 -> 87.69833
B9: Fr | C9: 0.299847 | D9: m | F9: Max torque (RPM) | G9: 10750 | I9: 2 | J9: 32 | K9: 16 | L9: =J9/K9 -> 2 | M9: =$L$7*L9*$L$14 -> 12.715447 | O9: 2 | P9: 100 | Q9: 10750 | R9: =Q8-Q9 -> 3000 | T9: Weight Total (Wt) | U9: 266.2 | V9: 266.2 | W9: 266.2 | X9: kg | AA9: 5500 | AB9: 33 | AC9: =0.7457*AB9 -> 24.6081 | AD9: =AC9*10^3 -> 24608.1 | AE9: =(AB9*5252)/AA9 -> 31.512 | AG9: =(((AA9/$M$8)*($C$14))/(60)) -> 11.04524 | AH9: =(((AA9/$M$9)*($C$14))/(60)) -> 14.266768 | AI9: =(((AA9/$M$10)*($C$14))/(60)) -> 17.120121 | AJ9: =(((AA9/$M$11)*($C$14))/(60)) -> 19.753986 | AK9: =(((AA9/$M$12)*($C$14))/(60)) -> 22.19275 | AL9: =(((AA9/$M$13)*($C$14))/(60)) -> 24.81177 | AN9: =AG9*2.237 -> 24.708201 | AO9: =AH9*2.237 -> 31.91476 | AP9: =AI9*2.237 -> 38.297712 | AQ9: =AJ9*2.237 -> 44.189667 | AR9: =AK9*2.237 -> 49.645182 | AS9: =AL9*2.237 -> 55.50393 | AU9: =AG9*3.6 -> 39.762863 | AV9: =AH9*3.6 -> 51.360364 | AW9: =AI9*3.6 -> 61.632437 | AX9: =AJ9*3.6 -> 71.114351 | AY9: =AK9*3.6 -> 79.8939 | AZ9: =AL9*3.6 -> 89.322373
B10: AV Wheel radius | C10: =(C8+C9)/2 -> 0.3074035 | F10: redline | G10: 15750 | I10: 3 | J10: 30 | K10: 18 | L10: =J10/K10 -> 1.6666667 | M10: =$L$7*L10*$L$14 -> 10.596206 | P10: 129 | Q10: 13750 | T10: Lifted Weight front (WLf) | U10: 135.93 | V10: 138.18 | W10: 138.18 | X10: kg | AA10: 5600 | AB10: 34 | AC10: =0.7457*AB10 -> 25.3538 | AD10: =AC10*10^3 -> 25353.8 | AE10: =(AB10*5252)/AA10 -> 31.887143 | AG10: =(((AA10/$M$8)*($C$14))/(60)) -> 11.246062 | AH10: =(((AA10/$M$9)*($C$14))/(60)) -> 14.526164 | AI10: =(((AA10/$M$10)*($C$14))/(60)) -> 17.431396 | AJ10: =(((AA10/$M$11)*($C$14))/(60)) -> 20.11315 | AK10: =(((AA10/$M$12)*($C$14))/(60)) -> 22.596255 | AL10: =(((AA10/$M$13)*($C$14))/(60)) -> 25.262893 | AN10: =AG10*2.237 -> 25.157441 | AO10: =AH10*2.237 -> 32.495028 | AP10: =AI10*2.237 -> 38.994034 | AQ10: =AJ10*2.237 -> 44.993116 | AR10: =AK10*2.237 -> 50.547822 | AS10: =AL10*2.237 -> 56.513092 | AU10: =AG10*3.6 -> 40.485824 | AV10: =AH10*3.6 -> 52.294189 | AW10: =AI10*3.6 -> 62.753027 | AX10: =AJ10*3.6 -> 72.407339 | AY10: =AK10*3.6 -> 81.346517 | AZ10: =AL10*3.6 -> 90.946416
B11: Front Tyre Width | C11: 0.12 | D11: m | I11: 4 | J11: 26 | K11: 18 | L11: =J11/K11 -> 1.4444444 | M11: =$L$7*L11*$L$14 -> 9.1833785 | O11: 3 | P11: 129 | Q11: 11500 | R11: =Q10-Q11 -> 2250 | T11: Lifted Weight Rear (WLr) | U11: 134.17 | V11: 131.92 | W11: 131.92 | X11: kg | AA11: 5700 | AB11: 35 | AC11: =0.7457*AB11 -> 26.0995 | AD11: =AC11*10^3 -> 26099.5 | AE11: =(AB11*5252)/AA11 -> 32.249123 | AG11: =(((AA11/$M$8)*($C$14))/(60)) -> 11.446885 | AH11: =(((AA11/$M$9)*($C$14))/(60)) -> 14.785559 | AI11: =(((AA11/$M$10)*($C$14))/(60)) -> 17.742671 | AJ11: =(((AA11/$M$11)*($C$14))/(60)) -> 20.472313 | AK11: =(((AA11/$M$12)*($C$14))/(60)) -> 22.999759 | AL11: =(((AA11/$M$13)*($C$14))/(60)) -> 25.714016 | AN11: =AG11*2.237 -> 25.606681 | AO11: =AH11*2.237 -> 33.075297 | AP11: =AI11*2.237 -> 39.690356 | AQ11: =AJ11*2.237 -> 45.796564 | AR11: =AK11*2.237 -> 51.450461 | AS11: =AL11*2.237 -> 57.522255 | AU11: =AG11*3.6 -> 41.208785 | AV11: =AH11*3.6 -> 53.228014 | AW11: =AI11*3.6 -> 63.873617 | AX11: =AJ11*3.6 -> 73.700327 | AY11: =AK11*3.6 -> 82.799133 | AZ11: =AL11*3.6 -> 92.570459
B12: Rear Tyre Width | C12: 0.18 | D12: m | I12: 5 | J12: 27 | K12: 21 | L12: =J12/K12 -> 1.2857143 | M12: =$L$7*L12*$L$14 -> 8.174216 | P12: 154 | Q12: 13750 | T12: Weight Total (WLt) | U12: 270.1 | V12: 270.1 | W12: 270.1 | X12: kg | AA12: 5800 | AB12: 36 | AC12: =0.7457*AB12 -> 26.8452 | AD12: =AC12*10^3 -> 26845.2 | AE12: =(AB12*5252)/AA12 -> 32.598621 | AG12: =(((AA12/$M$8)*($C$14))/(60)) -> 11.647707 | AH12: =(((AA12/$M$9)*($C$14))/(60)) -> 15.044955 | AI12: =(((AA12/$M$10)*($C$14))/(60)) -> 18.053946 | AJ12: =(((AA12/$M$11)*($C$14))/(60)) -> 20.831476 | AK12: =(((AA12/$M$12)*($C$14))/(60)) -> 23.403264 | AL12: =(((AA12/$M$13)*($C$14))/(60)) -> 26.16514 | AN12: =AG12*2.237 -> 26.055921 | AO12: =AH12*2.237 -> 33.655565 | AP12: =AI12*2.237 -> 40.386678 | AQ12: =AJ12*2.237 -> 46.600013 | AR12: =AK12*2.237 -> 52.353101 | AS12: =AL12*2.237 -> 58.531417 | AU12: =AG12*3.6 -> 41.931746 | AV12: =AH12*3.6 -> 54.161839 | AW12: =AI12*3.6 -> 64.994207 | AX12: =AJ12*3.6 -> 74.993315 | AY12: =AK12*3.6 -> 84.251749 | AZ12: =AL12*3.6 -> 94.194502
B13: AV Wheel Width | C13: =AVERAGE(C11:C12) -> 0.15 | D13: m | I13: 6 | J13: 23 | K13: 20 | L13: =J13/K13 -> 1.15 | M13: =$L$7*L13*$L$14 -> 7.3113821 | O13: 4 | P13: 154 | Q13: 11900 | R13: =Q12-Q13 -> 1850 | T13: Stool Weight | U13: 3.9 | X13: kg | AA13: 5900 | AB13: 37 | AC13: =0.7457*AB13 -> 27.5909 | AD13: =AC13*10^3 -> 27590.9 | AE13: =(AB13*5252)/AA13 -> 32.936271 | AG13: =(((AA13/$M$8)*($C$14))/(60)) -> 11.84853 | AH13: =(((AA13/$M$9)*($C$14))/(60)) -> 15.304351 | AI13: =(((AA13/$M$10)*($C$14))/(60)) -> 18.365221 | AJ13: =(((AA13/$M$11)*($C$14))/(60)) -> 21.19064 | AK13: =(((AA13/$M$12)*($C$14))/(60)) -> 23.806768 | AL13: =(((AA13/$M$13)*($C$14))/(60)) -> 26.616263 | AN13: =AG13*2.237 -> 26.505161 | AO13: =AH13*2.237 -> 34.235833 | AP13: =AI13*2.237 -> 41.083 | AQ13: =AJ13*2.237 -> 47.403461 | AR13: =AK13*2.237 -> 53.255741 | AS13: =AL13*2.237 -> 59.54058 | AU13: =AG13*3.6 -> 42.654707 | AV13: =AH13*3.6 -> 55.095664 | AW13: =AI13*3.6 -> 66.114796 | AX13: =AJ13*3.6 -> 76.286304 | AY13: =AK13*3.6 -> 85.704366 | AZ13: =AL13*3.6 -> 95.818546
B14: φ | C14: 1.979 | D14: m | I14: Final | J14: 15 | K14: 46 | L14: =K14/J14 -> 3.0666667 | P14: 178 | Q14: 13750 | T14: Lifted Angle (Ѳ) | U14: 12.769 | X14: ° | AA14: 6000 | AB14: 38 | AC14: =0.7457*AB14 -> 28.3366 | AD14: =AC14*10^3 -> 28336.6 | AE14: =(AB14*5252)/AA14 -> 33.262667 | AG14: =(((AA14/$M$8)*($C$14))/(60)) -> 12.049352 | AH14: =(((AA14/$M$9)*($C$14))/(60)) -> 15.563747 | AI14: =(((AA14/$M$10)*($C$14))/(60)) -> 18.676496 | AJ14: =(((AA14/$M$11)*($C$14))/(60)) -> 21.549803 | AK14: =(((AA14/$M$12)*($C$14))/(60)) -> 24.210273 | AL14: =(((AA14/$M$13)*($C$14))/(60)) -> 27.067386 | AN14: =AG14*2.237 -> 26.954401 | AO14: =AH14*2.237 -> 34.816102 | AP14: =AI14*2.237 -> 41.779322 | AQ14: =AJ14*2.237 -> 48.20691 | AR14: =AK14*2.237 -> 54.15838 | AS14: =AL14*2.237 -> 60.549742 | AU14: =AG14*3.6 -> 43.377669 | AV14: =AH14*3.6 -> 56.029488 | AW14: =AI14*3.6 -> 67.235386 | AX14: =AJ14*3.6 -> 77.579292 | AY14: =AK14*3.6 -> 87.156982 | AZ14: =AL14*3.6 -> 97.442589
B15: ρ | C15: 1.225 | D15: kg/m³ | O15: 5 | P15: 178 | Q15: 12250 | R15: =Q14-Q15 -> 1500 | T15: Height of Lift (h) | U15: 0.305 | X15: m | AA15: 6100 | AB15: 38.5 | AC15: =0.7457*AB15 -> 28.70945 | AD15: =AC15*10^3 -> 28709.45 | AE15: =(AB15*5252)/AA15 -> 33.147869 | AG15: =(((AA15/$M$8)*($C$14))/(60)) -> 12.250175 | AH15: =(((AA15/$M$9)*($C$14))/(60)) -> 15.823143 | AI15: =(((AA15/$M$10)*($C$14))/(60)) -> 18.987771 | AJ15: =(((AA15/$M$11)*($C$14))/(60)) -> 21.908967 | AK15: =(((AA15/$M$12)*($C$14))/(60)) -> 24.613777 | AL15: =(((AA15/$M$13)*($C$14))/(60)) -> 27.518509 | AN15: =AG15*2.237 -> 27.403641 | AO15: =AH15*2.237 -> 35.39637 | AP15: =AI15*2.237 -> 42.475644 | AQ15: =AJ15*2.237 -> 49.010358 | AR15: =AK15*2.237 -> 55.06102 | AS15: =AL15*2.237 -> 61.558904 | AU15: =AG15*3.6 -> 44.10063 | AV15: =AH15*3.6 -> 56.963313 | AW15: =AI15*3.6 -> 68.355976 | AX15: =AJ15*3.6 -> 78.87228 | AY15: =AK15*3.6 -> 88.609598 | AZ15: =AL15*3.6 -> 99.066632
B16: μd | C16: =0.5*C15*C20*((U20+V20+W20)/3)*((P18/3.6)^2) -> 383.52147 | D16: N | P16: 200 | Q16: 13750 | T16: X-CoG | U16: =(U8*$C$7)/U9 -> 0.74044102 | V16: =(V8*$C$7)/V9 -> 0.72364463 | W16: =(W8*$C$7)/W9 -> 0.72364463 | X16: m | AA16: 6200 | AB16: 39 | AC16: =0.7457*AB16 -> 29.0823 | AD16: =AC16*10^3 -> 29082.3 | AE16: =(AB16*5252)/AA16 -> 33.036774 | AG16: =(((AA16/$M$8)*($C$14))/(60)) -> 12.450997 | AH16: =(((AA16/$M$9)*($C$14))/(60)) -> 16.082538 | AI16: =(((AA16/$M$10)*($C$14))/(60)) -> 19.299046 | AJ16: =(((AA16/$M$11)*($C$14))/(60)) -> 22.26813 | AK16: =(((AA16/$M$12)*($C$14))/(60)) -> 25.017282 | AL16: =(((AA16/$M$13)*($C$14))/(60)) -> 27.969632 | AN16: =AG16*2.237 -> 27.852881 | AO16: =AH16*2.237 -> 35.976638 | AP16: =AI16*2.237 -> 43.171966 | AQ16: =AJ16*2.237 -> 49.813807 | AR16: =AK16*2.237 -> 55.96366 | AS16: =AL16*2.237 -> 62.568067 | AU16: =AG16*3.6 -> 44.823591 | AV16: =AH16*3.6 -> 57.897138 | AW16: =AI16*3.6 -> 69.476566 | AX16: =AJ16*3.6 -> 80.165268 | AY16: =AK16*3.6 -> 90.062215 | AZ16: =AL16*3.6 -> 100.69067
B17: μf | C17: 1.5 | O17: 6 | P17: 200 | Q17: 12300 | R17: =Q16-Q17 -> 1450 | T17: Y-CoG | U17: =(($C$7*(U8-(U11-$U$13)))/((U9)*TAN(RADIANS($U$14))))+($C$8+$C$9/2) -> 0.75219425 | V17: =(($C$7*(V8-(V11-$U$13)))/((V9)*TAN(RADIANS($U$14))))+($C$8+$C$9/2) -> 0.72954794 | W17: =(($C$7*(W8-(W11-$U$13)))/((W9)*TAN(RADIANS($U$14))))+($C$8+$C$9/2) -> 0.72954794 | X17: m | AA17: 6300 | AB17: 39.5 | AC17: =0.7457*AB17 -> 29.45515 | AD17: =AC17*10^3 -> 29455.15 | AE17: =(AB17*5252)/AA17 -> 32.929206 | AG17: =(((AA17/$M$8)*($C$14))/(60)) -> 12.65182 | AH17: =(((AA17/$M$9)*($C$14))/(60)) -> 16.341934 | AI17: =(((AA17/$M$10)*($C$14))/(60)) -> 19.610321 | AJ17: =(((AA17/$M$11)*($C$14))/(60)) -> 22.627293 | AK17: =(((AA17/$M$12)*($C$14))/(60)) -> 25.420786 | AL17: =(((AA17/$M$13)*($C$14))/(60)) -> 28.420755 | AN17: =AG17*2.237 -> 28.302121 | AO17: =AH17*2.237 -> 36.556907 | AP17: =AI17*2.237 -> 43.868288 | AQ17: =AJ17*2.237 -> 50.617255 | AR17: =AK17*2.237 -> 56.866299 | AS17: =AL17*2.237 -> 63.577229 | AU17: =AG17*3.6 -> 45.546552 | AV17: =AH17*3.6 -> 58.830963 | AW17: =AI17*3.6 -> 70.597155 | AX17: =AJ17*3.6 -> 81.458256 | AY17: =AK17*3.6 -> 91.514831 | AZ17: =AL17*3.6 -> 102.31472
B18: frontal Area (Af) | C18: =((U20+V20+W20)/3) -> 0.282 | D18: m² | P18: 219 | Q18: 13400 | T18: Front Weight Distribution | U18: =U7/U9 -> 0.46344853 | V18: =V7/V9 -> 0.47561983 | W18: =W7/W9 -> 0.47561983 | AA18: 6400 | AB18: 40 | AC18: =0.7457*AB18 -> 29.828 | AD18: =AC18*10^3 -> 29828 | AE18: =(AB18*5252)/AA18 -> 32.825 | AG18: =(((AA18/$M$8)*($C$14))/(60)) -> 12.852643 | AH18: =(((AA18/$M$9)*($C$14))/(60)) -> 16.60133 | AI18: =(((AA18/$M$10)*($C$14))/(60)) -> 19.921596 | AJ18: =(((AA18/$M$11)*($C$14))/(60)) -> 22.986457 | AK18: =(((AA18/$M$12)*($C$14))/(60)) -> 25.824291 | AL18: =(((AA18/$M$13)*($C$14))/(60)) -> 28.871878 | AN18: =AG18*2.237 -> 28.751361 | AO18: =AH18*2.237 -> 37.137175 | AP18: =AI18*2.237 -> 44.56461 | AQ18: =AJ18*2.237 -> 51.420704 | AR18: =AK18*2.237 -> 57.768939 | AS18: =AL18*2.237 -> 64.586391 | AU18: =AG18*3.6 -> 46.269513 | AV18: =AH18*3.6 -> 59.764788 | AW18: =AI18*3.6 -> 71.717745 | AX18: =AJ18*3.6 -> 82.751245 | AY18: =AK18*3.6 -> 92.967448 | AZ18: =AL18*3.6 -> 103.93876
B19: Rider | C19: 78.2 | D19: kg | T19: Rear Weight Distrubution | U19: =U8/U9 -> 0.53655147 | V19: =V8/V9 -> 0.52438017 | W19: =W8/W9 -> 0.52438017 | AA19: 6500 | AB19: 40 | AC19: =0.7457*AB19 -> 29.828 | AD19: =AC19*10^3 -> 29828 | AE19: =(AB19*5252)/AA19 -> 32.32 | AG19: =(((AA19/$M$8)*($C$14))/(60)) -> 13.053465 | AH19: =(((AA19/$M$9)*($C$14))/(60)) -> 16.860726 | AI19: =(((AA19/$M$10)*($C$14))/(60)) -> 20.232871 | AJ19: =(((AA19/$M$11)*($C$14))/(60)) -> 23.34562 | AK19: =(((AA19/$M$12)*($C$14))/(60)) -> 26.227796 | AL19: =(((AA19/$M$13)*($C$14))/(60)) -> 29.323001 | AN19: =AG19*2.237 -> 29.200601 | AO19: =AH19*2.237 -> 37.717443 | AP19: =AI19*2.237 -> 45.260932 | AQ19: =AJ19*2.237 -> 52.224152 | AR19: =AK19*2.237 -> 58.671579 | AS19: =AL19*2.237 -> 65.595554 | AU19: =AG19*3.6 -> 46.992474 | AV19: =AH19*3.6 -> 60.698613 | AW19: =AI19*3.6 -> 72.838335 | AX19: =AJ19*3.6 -> 84.044233 | AY19: =AK19*3.6 -> 94.420064 | AZ19: =AL19*3.6 -> 105.5628
B20: CD | C20: 0.6 | T20: Frontal Area | U20: 0.229 | V20: 0.329 | W20: 0.288 | X20: m² | AA20: 6600 | AB20: 40.5 | AC20: =0.7457*AB20 -> 30.20085 | AD20: =AC20*10^3 -> 30200.85 | AE20: =(AB20*5252)/AA20 -> 32.228182 | AG20: =(((AA20/$M$8)*($C$14))/(60)) -> 13.254288 | AH20: =(((AA20/$M$9)*($C$14))/(60)) -> 17.120121 | AI20: =(((AA20/$M$10)*($C$14))/(60)) -> 20.544146 | AJ20: =(((AA20/$M$11)*($C$14))/(60)) -> 23.704784 | AK20: =(((AA20/$M$12)*($C$14))/(60)) -> 26.6313 | AL20: =(((AA20/$M$13)*($C$14))/(60)) -> 29.774124 | AN20: =AG20*2.237 -> 29.649841 | AO20: =AH20*2.237 -> 38.297712 | AP20: =AI20*2.237 -> 45.957254 | AQ20: =AJ20*2.237 -> 53.027601 | AR20: =AK20*2.237 -> 59.574218 | AS20: =AL20*2.237 -> 66.604716 | AU20: =AG20*3.6 -> 47.715435 | AV20: =AH20*3.6 -> 61.632437 | AW20: =AI20*3.6 -> 73.958925 | AX20: =AJ20*3.6 -> 85.337221 | AY20: =AK20*3.6 -> 95.87268 | AZ20: =AL20*3.6 -> 107.18685
B21: Rake Angle | C21: 24 | D21: ᵒ | AA21: 6700 | AB21: 41 | AC21: =0.7457*AB21 -> 30.5737 | AD21: =AC21*10^3 -> 30573.7 | AE21: =(AB21*5252)/AA21 -> 32.139104 | AG21: =(((AA21/$M$8)*($C$14))/(60)) -> 13.45511 | AH21: =(((AA21/$M$9)*($C$14))/(60)) -> 17.379517 | AI21: =(((AA21/$M$10)*($C$14))/(60)) -> 20.855421 | AJ21: =(((AA21/$M$11)*($C$14))/(60)) -> 24.063947 | AK21: =(((AA21/$M$12)*($C$14))/(60)) -> 27.034805 | AL21: =(((AA21/$M$13)*($C$14))/(60)) -> 30.225247 | AN21: =AG21*2.237 -> 30.099081 | AO21: =AH21*2.237 -> 38.87798 | AP21: =AI21*2.237 -> 46.653576 | AQ21: =AJ21*2.237 -> 53.831049 | AR21: =AK21*2.237 -> 60.476858 | AS21: =AL21*2.237 -> 67.613878 | AU21: =AG21*3.6 -> 48.438397 | AV21: =AH21*3.6 -> 62.566262 | AW21: =AI21*3.6 -> 75.079515 | AX21: =AJ21*3.6 -> 86.630209 | AY21: =AK21*3.6 -> 97.325297 | AZ21: =AL21*3.6 -> 108.81089
B22: Kf | C22: 6.86 | D22: N/mm | AA22: 6800 | AB22: 42 | AC22: =0.7457*AB22 -> 31.3194 | AD22: =AC22*10^3 -> 31319.4 | AE22: =(AB22*5252)/AA22 -> 32.438824 | AG22: =(((AA22/$M$8)*($C$14))/(60)) -> 13.655933 | AH22: =(((AA22/$M$9)*($C$14))/(60)) -> 17.638913 | AI22: =(((AA22/$M$10)*($C$14))/(60)) -> 21.166696 | AJ22: =(((AA22/$M$11)*($C$14))/(60)) -> 24.42311 | AK22: =(((AA22/$M$12)*($C$14))/(60)) -> 27.438309 | AL22: =(((AA22/$M$13)*($C$14))/(60)) -> 30.676371 | AN22: =AG22*2.237 -> 30.548321 | AO22: =AH22*2.237 -> 39.458248 | AP22: =AI22*2.237 -> 47.349898 | AQ22: =AJ22*2.237 -> 54.634498 | AR22: =AK22*2.237 -> 61.379498 | AS22: =AL22*2.237 -> 68.623041 | AU22: =AG22*3.6 -> 49.161358 | AV22: =AH22*3.6 -> 63.500087 | AW22: =AI22*3.6 -> 76.200104 | AX22: =AJ22*3.6 -> 87.923197 | AY22: =AK22*3.6 -> 98.777913 | AZ22: =AL22*3.6 -> 110.43493
B23: Kw | C23: =((((2*PI()*2.1)^2)*U8)/2000) -> 12.433339 | D23: N/mm | AA23: 6900 | AB23: 43 | AC23: =0.7457*AB23 -> 32.0651 | AD23: =AC23*10^3 -> 32065.1 | AE23: =(AB23*5252)/AA23 -> 32.729855 | AG23: =(((AA23/$M$8)*($C$14))/(60)) -> 13.856755 | AH23: =(((AA23/$M$9)*($C$14))/(60)) -> 17.898309 | AI23: =(((AA23/$M$10)*($C$14))/(60)) -> 21.477971 | AJ23: =(((AA23/$M$11)*($C$14))/(60)) -> 24.782274 | AK23: =(((AA23/$M$12)*($C$14))/(60)) -> 27.841814 | AL23: =(((AA23/$M$13)*($C$14))/(60)) -> 31.127494 | AN23: =AG23*2.237 -> 30.997561 | AO23: =AH23*2.237 -> 40.038517 | AP23: =AI23*2.237 -> 48.04622 | AQ23: =AJ23*2.237 -> 55.437946 | AR23: =AK23*2.237 -> 62.282137 | AS23: =AL23*2.237 -> 69.632203 | AU23: =AG23*3.6 -> 49.884319 | AV23: =AH23*3.6 -> 64.433912 | AW23: =AI23*3.6 -> 77.320694 | AX23: =AJ23*3.6 -> 89.216186 | AY23: =AK23*3.6 -> 100.23053 | AZ23: =AL23*3.6 -> 112.05898
B24: Ks | C24: =(C23*(2.4^2)) -> 71.616031 | D24: N/mm | AA24: 7000 | AB24: 44 | AC24: =0.7457*AB24 -> 32.8108 | AD24: =AC24*10^3 -> 32810.8 | AE24: =(AB24*5252)/AA24 -> 33.012571 | AG24: =(((AA24/$M$8)*($C$14))/(60)) -> 14.057578 | AH24: =(((AA24/$M$9)*($C$14))/(60)) -> 18.157705 | AI24: =(((AA24/$M$10)*($C$14))/(60)) -> 21.789246 | AJ24: =(((AA24/$M$11)*($C$14))/(60)) -> 25.141437 | AK24: =(((AA24/$M$12)*($C$14))/(60)) -> 28.245318 | AL24: =(((AA24/$M$13)*($C$14))/(60)) -> 31.578617 | AN24: =AG24*2.237 -> 31.446801 | AO24: =AH24*2.237 -> 40.618785 | AP24: =AI24*2.237 -> 48.742542 | AQ24: =AJ24*2.237 -> 56.241395 | AR24: =AK24*2.237 -> 63.184777 | AS24: =AL24*2.237 -> 70.641366 | AU24: =AG24*3.6 -> 50.60728 | AV24: =AH24*3.6 -> 65.367737 | AW24: =AI24*3.6 -> 78.441284 | AX24: =AJ24*3.6 -> 90.509174 | AY24: =AK24*3.6 -> 101.68315 | AZ24: =AL24*3.6 -> 113.68302
B25: bike total | C25: 188 | D25: kg | AA25: 7100 | AB25: 44.5 | AC25: =0.7457*AB25 -> 33.18365 | AD25: =AC25*10^3 -> 33183.65 | AE25: =(AB25*5252)/AA25 -> 32.917465 | AG25: =(((AA25/$M$8)*($C$14))/(60)) -> 14.2584 | AH25: =(((AA25/$M$9)*($C$14))/(60)) -> 18.4171 | AI25: =(((AA25/$M$10)*($C$14))/(60)) -> 22.10052 | AJ25: =(((AA25/$M$11)*($C$14))/(60)) -> 25.500601 | AK25: =(((AA25/$M$12)*($C$14))/(60)) -> 28.648823 | AL25: =(((AA25/$M$13)*($C$14))/(60)) -> 32.02974 | AN25: =AG25*2.237 -> 31.896041 | AO25: =AH25*2.237 -> 41.199054 | AP25: =AI25*2.237 -> 49.438864 | AQ25: =AJ25*2.237 -> 57.044843 | AR25: =AK25*2.237 -> 64.087417 | AS25: =AL25*2.237 -> 71.650528 | AU25: =AG25*3.6 -> 51.330241 | AV25: =AH25*3.6 -> 66.301561 | AW25: =AI25*3.6 -> 79.561874 | AX25: =AJ25*3.6 -> 91.802162 | AY25: =AK25*3.6 -> 103.13576 | AZ25: =AL25*3.6 -> 115.30706
AA26: 7200 | AB26: 45 | AC26: =0.7457*AB26 -> 33.5565 | AD26: =AC26*10^3 -> 33556.5 | AE26: =(AB26*5252)/AA26 -> 32.825 | AG26: =(((AA26/$M$8)*($C$14))/(60)) -> 14.459223 | AH26: =(((AA26/$M$9)*($C$14))/(60)) -> 18.676496 | AI26: =(((AA26/$M$10)*($C$14))/(60)) -> 22.411795 | AJ26: =(((AA26/$M$11)*($C$14))/(60)) -> 25.859764 | AK26: =(((AA26/$M$12)*($C$14))/(60)) -> 29.052327 | AL26: =(((AA26/$M$13)*($C$14))/(60)) -> 32.480863 | AN26: =AG26*2.237 -> 32.345281 | AO26: =AH26*2.237 -> 41.779322 | AP26: =AI26*2.237 -> 50.135186 | AQ26: =AJ26*2.237 -> 57.848292 | AR26: =AK26*2.237 -> 64.990056 | AS26: =AL26*2.237 -> 72.65969 | AU26: =AG26*3.6 -> 52.053202 | AV26: =AH26*3.6 -> 67.235386 | AW26: =AI26*3.6 -> 80.682463 | AX26: =AJ26*3.6 -> 93.09515 | AY26: =AK26*3.6 -> 104.58838 | AZ26: =AL26*3.6 -> 116.93111
AA27: 7300 | AB27: 46 | AC27: =0.7457*AB27 -> 34.3022 | AD27: =AC27*10^3 -> 34302.2 | AE27: =(AB27*5252)/AA27 -> 33.094795 | AG27: =(((AA27/$M$8)*($C$14))/(60)) -> 14.660045 | AH27: =(((AA27/$M$9)*($C$14))/(60)) -> 18.935892 | AI27: =(((AA27/$M$10)*($C$14))/(60)) -> 22.72307 | AJ27: =(((AA27/$M$11)*($C$14))/(60)) -> 26.218927 | AK27: =(((AA27/$M$12)*($C$14))/(60)) -> 29.455832 | AL27: =(((AA27/$M$13)*($C$14))/(60)) -> 32.931986 | AN27: =AG27*2.237 -> 32.794522 | AO27: =AH27*2.237 -> 42.35959 | AP27: =AI27*2.237 -> 50.831508 | AQ27: =AJ27*2.237 -> 58.65174 | AR27: =AK27*2.237 -> 65.892696 | AS27: =AL27*2.237 -> 73.668853 | AU27: =AG27*3.6 -> 52.776163 | AV27: =AH27*3.6 -> 68.169211 | AW27: =AI27*3.6 -> 81.803053 | AX27: =AJ27*3.6 -> 94.388138 | AY27: =AK27*3.6 -> 106.04099 | AZ27: =AL27*3.6 -> 118.55515
AA28: 7400 | AB28: 47 | AC28: =0.7457*AB28 -> 35.0479 | AD28: =AC28*10^3 -> 35047.9 | AE28: =(AB28*5252)/AA28 -> 33.357297 | AG28: =(((AA28/$M$8)*($C$14))/(60)) -> 14.860868 | AH28: =(((AA28/$M$9)*($C$14))/(60)) -> 19.195288 | AI28: =(((AA28/$M$10)*($C$14))/(60)) -> 23.034345 | AJ28: =(((AA28/$M$11)*($C$14))/(60)) -> 26.578091 | AK28: =(((AA28/$M$12)*($C$14))/(60)) -> 29.859336 | AL28: =(((AA28/$M$13)*($C$14))/(60)) -> 33.383109 | AN28: =AG28*2.237 -> 33.243762 | AO28: =AH28*2.237 -> 42.939859 | AP28: =AI28*2.237 -> 51.52783 | AQ28: =AJ28*2.237 -> 59.455189 | AR28: =AK28*2.237 -> 66.795336 | AS28: =AL28*2.237 -> 74.678015 | AU28: =AG28*3.6 -> 53.499124 | AV28: =AH28*3.6 -> 69.103036 | AW28: =AI28*3.6 -> 82.923643 | AX28: =AJ28*3.6 -> 95.681127 | AY28: =AK28*3.6 -> 107.49361 | AZ28: =AL28*3.6 -> 120.17919
AA29: 7500 | AB29: 48 | AC29: =0.7457*AB29 -> 35.7936 | AD29: =AC29*10^3 -> 35793.6 | AE29: =(AB29*5252)/AA29 -> 33.6128 | AG29: =(((AA29/$M$8)*($C$14))/(60)) -> 15.06169 | AH29: =(((AA29/$M$9)*($C$14))/(60)) -> 19.454684 | AI29: =(((AA29/$M$10)*($C$14))/(60)) -> 23.34562 | AJ29: =(((AA29/$M$11)*($C$14))/(60)) -> 26.937254 | AK29: =(((AA29/$M$12)*($C$14))/(60)) -> 30.262841 | AL29: =(((AA29/$M$13)*($C$14))/(60)) -> 33.834232 | AN29: =AG29*2.237 -> 33.693002 | AO29: =AH29*2.237 -> 43.520127 | AP29: =AI29*2.237 -> 52.224152 | AQ29: =AJ29*2.237 -> 60.258637 | AR29: =AK29*2.237 -> 67.697975 | AS29: =AL29*2.237 -> 75.687177 | AU29: =AG29*3.6 -> 54.222086 | AV29: =AH29*3.6 -> 70.036861 | AW29: =AI29*3.6 -> 84.044233 | AX29: =AJ29*3.6 -> 96.974115 | AY29: =AK29*3.6 -> 108.94623 | AZ29: =AL29*3.6 -> 121.80324
AA30: 7600 | AB30: 49 | AC30: =0.7457*AB30 -> 36.5393 | AD30: =AC30*10^3 -> 36539.3 | AE30: =(AB30*5252)/AA30 -> 33.861579 | AG30: =(((AA30/$M$8)*($C$14))/(60)) -> 15.262513 | AH30: =(((AA30/$M$9)*($C$14))/(60)) -> 19.714079 | AI30: =(((AA30/$M$10)*($C$14))/(60)) -> 23.656895 | AJ30: =(((AA30/$M$11)*($C$14))/(60)) -> 27.296417 | AK30: =(((AA30/$M$12)*($C$14))/(60)) -> 30.666346 | AL30: =(((AA30/$M$13)*($C$14))/(60)) -> 34.285355 | AN30: =AG30*2.237 -> 34.142242 | AO30: =AH30*2.237 -> 44.100395 | AP30: =AI30*2.237 -> 52.920474 | AQ30: =AJ30*2.237 -> 61.062086 | AR30: =AK30*2.237 -> 68.600615 | AS30: =AL30*2.237 -> 76.69634 | AU30: =AG30*3.6 -> 54.945047 | AV30: =AH30*3.6 -> 70.970685 | AW30: =AI30*3.6 -> 85.164823 | AX30: =AJ30*3.6 -> 98.267103 | AY30: =AK30*3.6 -> 110.39884 | AZ30: =AL30*3.6 -> 123.42728
AA31: 7700 | AB31: 49.5 | AC31: =0.7457*AB31 -> 36.91215 | AD31: =AC31*10^3 -> 36912.15 | AE31: =(AB31*5252)/AA31 -> 33.762857 | AG31: =(((AA31/$M$8)*($C$14))/(60)) -> 15.463336 | AH31: =(((AA31/$M$9)*($C$14))/(60)) -> 19.973475 | AI31: =(((AA31/$M$10)*($C$14))/(60)) -> 23.96817 | AJ31: =(((AA31/$M$11)*($C$14))/(60)) -> 27.655581 | AK31: =(((AA31/$M$12)*($C$14))/(60)) -> 31.06985 | AL31: =(((AA31/$M$13)*($C$14))/(60)) -> 34.736478 | AN31: =AG31*2.237 -> 34.591482 | AO31: =AH31*2.237 -> 44.680664 | AP31: =AI31*2.237 -> 53.616796 | AQ31: =AJ31*2.237 -> 61.865534 | AR31: =AK31*2.237 -> 69.503255 | AS31: =AL31*2.237 -> 77.705502 | AU31: =AG31*3.6 -> 55.668008 | AV31: =AH31*3.6 -> 71.90451 | AW31: =AI31*3.6 -> 86.285412 | AX31: =AJ31*3.6 -> 99.560091 | AY31: =AK31*3.6 -> 111.85146 | AZ31: =AL31*3.6 -> 125.05132
AA32: 7800 | AB32: 50 | AC32: =0.7457*AB32 -> 37.285 | AD32: =AC32*10^3 -> 37285 | AE32: =(AB32*5252)/AA32 -> 33.666667 | AG32: =(((AA32/$M$8)*($C$14))/(60)) -> 15.664158 | AH32: =(((AA32/$M$9)*($C$14))/(60)) -> 20.232871 | AI32: =(((AA32/$M$10)*($C$14))/(60)) -> 24.279445 | AJ32: =(((AA32/$M$11)*($C$14))/(60)) -> 28.014744 | AK32: =(((AA32/$M$12)*($C$14))/(60)) -> 31.473355 | AL32: =(((AA32/$M$13)*($C$14))/(60)) -> 35.187601 | AN32: =AG32*2.237 -> 35.040722 | AO32: =AH32*2.237 -> 45.260932 | AP32: =AI32*2.237 -> 54.313118 | AQ32: =AJ32*2.237 -> 62.668983 | AR32: =AK32*2.237 -> 70.405894 | AS32: =AL32*2.237 -> 78.714664 | AU32: =AG32*3.6 -> 56.390969 | AV32: =AH32*3.6 -> 72.838335 | AW32: =AI32*3.6 -> 87.406002 | AX32: =AJ32*3.6 -> 100.85308 | AY32: =AK32*3.6 -> 113.30408 | AZ32: =AL32*3.6 -> 126.67537
AA33: 7900 | AB33: 51 | AC33: =0.7457*AB33 -> 38.0307 | AD33: =AC33*10^3 -> 38030.7 | AE33: =(AB33*5252)/AA33 -> 33.905316 | AG33: =(((AA33/$M$8)*($C$14))/(60)) -> 15.864981 | AH33: =(((AA33/$M$9)*($C$14))/(60)) -> 20.492267 | AI33: =(((AA33/$M$10)*($C$14))/(60)) -> 24.59072 | AJ33: =(((AA33/$M$11)*($C$14))/(60)) -> 28.373908 | AK33: =(((AA33/$M$12)*($C$14))/(60)) -> 31.876859 | AL33: =(((AA33/$M$13)*($C$14))/(60)) -> 35.638725 | AN33: =AG33*2.237 -> 35.489962 | AO33: =AH33*2.237 -> 45.8412 | AP33: =AI33*2.237 -> 55.009441 | AQ33: =AJ33*2.237 -> 63.472431 | AR33: =AK33*2.237 -> 71.308534 | AS33: =AL33*2.237 -> 79.723827 | AU33: =AG33*3.6 -> 57.11393 | AV33: =AH33*3.6 -> 73.77216 | AW33: =AI33*3.6 -> 88.526592 | AX33: =AJ33*3.6 -> 102.14607 | AY33: =AK33*3.6 -> 114.75669 | AZ33: =AL33*3.6 -> 128.29941
AA34: 8000 | AB34: 52 | AC34: =0.7457*AB34 -> 38.7764 | AD34: =AC34*10^3 -> 38776.4 | AE34: =(AB34*5252)/AA34 -> 34.138 | AG34: =(((AA34/$M$8)*($C$14))/(60)) -> 16.065803 | AH34: =(((AA34/$M$9)*($C$14))/(60)) -> 20.751662 | AI34: =(((AA34/$M$10)*($C$14))/(60)) -> 24.901995 | AJ34: =(((AA34/$M$11)*($C$14))/(60)) -> 28.733071 | AK34: =(((AA34/$M$12)*($C$14))/(60)) -> 32.280364 | AL34: =(((AA34/$M$13)*($C$14))/(60)) -> 36.089848 | AN34: =AG34*2.237 -> 35.939202 | AO34: =AH34*2.237 -> 46.421469 | AP34: =AI34*2.237 -> 55.705763 | AQ34: =AJ34*2.237 -> 64.27588 | AR34: =AK34*2.237 -> 72.211174 | AS34: =AL34*2.237 -> 80.732989 | AU34: =AG34*3.6 -> 57.836891 | AV34: =AH34*3.6 -> 74.705985 | AW34: =AI34*3.6 -> 89.647182 | AX34: =AJ34*3.6 -> 103.43906 | AY34: =AK34*3.6 -> 116.20931 | AZ34: =AL34*3.6 -> 129.92345
AA35: 8100 | AB35: 52.5 | AC35: =0.7457*AB35 -> 39.14925 | AD35: =AC35*10^3 -> 39149.25 | AE35: =(AB35*5252)/AA35 -> 34.040741 | AG35: =(((AA35/$M$8)*($C$14))/(60)) -> 16.266626 | AH35: =(((AA35/$M$9)*($C$14))/(60)) -> 21.011058 | AI35: =(((AA35/$M$10)*($C$14))/(60)) -> 25.21327 | AJ35: =(((AA35/$M$11)*($C$14))/(60)) -> 29.092234 | AK35: =(((AA35/$M$12)*($C$14))/(60)) -> 32.683868 | AL35: =(((AA35/$M$13)*($C$14))/(60)) -> 36.540971 | AN35: =AG35*2.237 -> 36.388442 | AO35: =AH35*2.237 -> 47.001737 | AP35: =AI35*2.237 -> 56.402085 | AQ35: =AJ35*2.237 -> 65.079328 | AR35: =AK35*2.237 -> 73.113813 | AS35: =AL35*2.237 -> 81.742152 | AU35: =AG35*3.6 -> 58.559852 | AV35: =AH35*3.6 -> 75.639809 | AW35: =AI35*3.6 -> 90.767771 | AX35: =AJ35*3.6 -> 104.73204 | AY35: =AK35*3.6 -> 117.66193 | AZ35: =AL35*3.6 -> 131.54749
AA36: 8200 | AB36: 53 | AC36: =0.7457*AB36 -> 39.5221 | AD36: =AC36*10^3 -> 39522.1 | AE36: =(AB36*5252)/AA36 -> 33.945854 | AG36: =(((AA36/$M$8)*($C$14))/(60)) -> 16.467448 | AH36: =(((AA36/$M$9)*($C$14))/(60)) -> 21.270454 | AI36: =(((AA36/$M$10)*($C$14))/(60)) -> 25.524545 | AJ36: =(((AA36/$M$11)*($C$14))/(60)) -> 29.451398 | AK36: =(((AA36/$M$12)*($C$14))/(60)) -> 33.087373 | AL36: =(((AA36/$M$13)*($C$14))/(60)) -> 36.992094 | AN36: =AG36*2.237 -> 36.837682 | AO36: =AH36*2.237 -> 47.582006 | AP36: =AI36*2.237 -> 57.098407 | AQ36: =AJ36*2.237 -> 65.882777 | AR36: =AK36*2.237 -> 74.016453 | AS36: =AL36*2.237 -> 82.751314 | AU36: =AG36*3.6 -> 59.282814 | AV36: =AH36*3.6 -> 76.573634 | AW36: =AI36*3.6 -> 91.888361 | AX36: =AJ36*3.6 -> 106.02503 | AY36: =AK36*3.6 -> 119.11454 | AZ36: =AL36*3.6 -> 133.17154
AA37: 8300 | AB37: 54 | AC37: =0.7457*AB37 -> 40.2678 | AD37: =AC37*10^3 -> 40267.8 | AE37: =(AB37*5252)/AA37 -> 34.169639 | AG37: =(((AA37/$M$8)*($C$14))/(60)) -> 16.668271 | AH37: =(((AA37/$M$9)*($C$14))/(60)) -> 21.52985 | AI37: =(((AA37/$M$10)*($C$14))/(60)) -> 25.83582 | AJ37: =(((AA37/$M$11)*($C$14))/(60)) -> 29.810561 | AK37: =(((AA37/$M$12)*($C$14))/(60)) -> 33.490877 | AL37: =(((AA37/$M$13)*($C$14))/(60)) -> 37.443217 | AN37: =AG37*2.237 -> 37.286922 | AO37: =AH37*2.237 -> 48.162274 | AP37: =AI37*2.237 -> 57.794729 | AQ37: =AJ37*2.237 -> 66.686225 | AR37: =AK37*2.237 -> 74.919093 | AS37: =AL37*2.237 -> 83.760476 | AU37: =AG37*3.6 -> 60.005775 | AV37: =AH37*3.6 -> 77.507459 | AW37: =AI37*3.6 -> 93.008951 | AX37: =AJ37*3.6 -> 107.31802 | AY37: =AK37*3.6 -> 120.56716 | AZ37: =AL37*3.6 -> 134.79558
... AA112: 15800 | AB112: 105 | AC112: =0.7457*AB112 -> 78.2985 | AD112: =AC112*10^3 -> 78298.5 | AE112: =(AB112*5252)/AA112 -> 34.902532 | AG112: =(((AA112/$M$8)*($C$14))/(60)) -> 31.729961 | AH112: =(((AA112/$M$9)*($C$14))/(60)) -> 40.984533 | AI112: =(((AA112/$M$10)*($C$14))/(60)) -> 49.18144 | AJ112: =(((AA112/$M$11)*($C$14))/(60)) -> 56.747815 | AK112: =(((AA112/$M$12)*($C$14))/(60)) -> 63.753718 | AL112: =(((AA112/$M$13)*($C$14))/(60)) -> 71.277449 | AN112: =AG112*2.237 -> 70.979923 | AO112: =AH112*2.237 -> 91.682401 | AP112: =AI112*2.237 -> 110.01888 | AQ112: =AJ112*2.237 -> 126.94486 | AR112: =AK112*2.237 -> 142.61707 | AS112: =AL112*2.237 -> 159.44765 | AU112: =AG112*3.6 -> 114.22786 | AV112: =AH112*3.6 -> 147.54432 | AW112: =AI112*3.6 -> 177.05318 | AX112: =AJ112*3.6 -> 204.29213 | AY112: =AK112*3.6 -> 229.51339 | AZ112: =AL112*3.6 -> 256.59882

Sheet Forces
H2: Road Speed (m/s) | O2: Road Speed (kmh) | V2: Driving Force (N) | AC2: Drag Force Tucked (N) | AJ2: Resultant Force Tucked (N) | AQ2: Drag Force Leaning (N) | AX2: Resultant Force Leaning (N)
B3: RPM | C3: Power (BHP) | D3: Power (KW) | E3: Power (W) | F3: Torque | H3: 1st | I3: 2nd | J3: 3rd | K3: 4th | L3: 5th | M3: 6th | O3: 1st | P3: 2nd | Q3: 3rd | R3: 4th | S3: 5th | T3: 6th | V3: 1st | W3: 2nd | X3: 3rd | Y3: 4th | Z3: 5th | AA3: 6th | AC3: 1st | AD3: 2nd | AE3: 3rd | AF3: 4th | AG3: 5th | AH3: 6th | AJ3: 1st | AK3: 2nd | AL3: 3rd | AM3: 4th | AN3: 5th | AO3: 6th | AQ3: 1st | AR3: 2nd | AS3: 3rd | AT3: 4th | AU3: 5th | AV3: 6th | AX3: 1st | AY3: 2nd | AZ3: 3rd | BA3: 4th | BB3: 5th | BC3: 6th
B4: 5200 | C4: 30 | D4: =0.7457*C4 -> 22.371 | E4: =D4*10^3 -> 22371 | F4: =(C4*5252)/B4 -> 30.3 | H4: 10.457074 | I4: 13.507055 | J4: 16.208465 | K4: 18.702075 | L4: 21.010974 | M4: 23.49053 | O4: =H4*3.6 -> 37.645468 | P4: =I4*3.6 -> 48.625396 | Q4: =J4*3.6 -> 58.350476 | R4: =K4*3.6 -> 67.327472 | S4: =L4*3.6 -> 75.639505 | T4: =M4*3.6 -> 84.565907 | V4: =($D4*1000/H4) -> 2139.3173 | W4: =($D4*1000/I4) -> 1656.2456 | X4: =($D4*1000/J4) -> 1380.2047 | Y4: =($D4*1000/K4) -> 1196.1774 | Z4: =($D4*1000/L4) -> 1064.7293 | AA4: =($D4*1000/M4) -> 952.34124 | AC4: =0.5*'Gearing Calculator'!$C$15*'Gearing Calculator'!$C$20*'Gearing Calculator'!$U$20*(Forces!H4^2) -> 9.2026568 | AD4: =0.5*'Gearing Calculator'!$C$15*'Gearing Calculator'!$C$20*'Gearing Calculator'!$U$20*(Forces!I4^2) -> 15.353738 | AE4: =0.5*'Gearing Calculator'!$C$15*'Gearing Calculator'!$C$20*'Gearing Calculator'!$U$20*(Forces!J4^2) -> 22.109383 | AF4: =0.5*'Gearing Calculator'!$C$15*'Gearing Calculator'!$C$20*'Gearing Calculator'!$U$20*(Forces!K4^2) -> 29.435569 | AG4: =0.5*'Gearing Calculator'!$C$15*'Gearing Calculator'!$C$20*'Gearing Calculator'!$U$20*(Forces!L4^2) -> 37.152255 | AH4: =0.5*'Gearing Calculator'!$C$15*'Gearing Calculator'!$C$20*'Gearing Calculator'!$U$20*(Forces!M4^2) -> 46.438528 | AJ4: =V4-AC4 -> 2130.1146 | AK4: =W4-AD4 -> 1640.8919 | AL4: =X4-AE4 -> 1358.0953 | AM4: =Y4-AF4 -> 1166.7418 | AN4: =Z4-AG4 -> 1027.5771 | AO4: =AA4-AH4 -> 905.90271 | AQ4: =0.5*'Gearing Calculator'!$C$15*'Gearing Calculator'!$C$20*'Gearing Calculator'!$W$20*(Forces!H4^2) -> 11.573647 | AR4: =0.5*'Gearing Calculator'!$C$15*'Gearing Calculator'!$C$20*'Gearing Calculator'!$W$20*(Forces!I4^2) -> 19.309505 | AS4: =0.5*'Gearing Calculator'!$C$15*'Gearing Calculator'!$C$20*'Gearing Calculator'!$W$20*(Forces!J4^2) -> 27.805687 | AT4: =0.5*'Gearing Calculator'!$C$15*'Gearing Calculator'!$C$20*'Gearing Calculator'!$W$20*(Forces!K4^2) -> 37.019406 | AU4: =0.5*'Gearing Calculator'!$C$15*'Gearing Calculator'!$C$20*'Gearing Calculator'!$W$20*(Forces!L4^2) -> 46.724234 | AV4: =0.5*'Gearing Calculator'!$C$15*'Gearing Calculator'!$C$20*'Gearing Calculator'!$W$20*(Forces!M4^2) -> 58.403039 | AX4: =V4-AQ4 -> 2127.7436 | AY4: =W4-AR4 -> 1636.9361 | AZ4: =X4-AS4 -> 1352.399 | BA4: =Y4-AT4 -> 1159.158 | BB4: =Z4-AU4 -> 1018.0051 | BC4: =AA4-AV4 -> 893.9382
B5: 5300 | C5: 31 | D5: =0.7457*C5 -> 23.1167 | E5: =D5*10^3 -> 23116.7 | F5: =(C5*5252)/B5 -> 30.719245 | H5: 10.658172 | I5: 13.766806 | J5: 16.520167 | K5: 19.061731 | L5: 21.415031 | M5: 23.942271 | O5: =H5*3.6 -> 38.369419 | P5: =I5*3.6 -> 49.5605 | Q5: =J5*3.6 -> 59.4726 | R5: =K5*3.6 -> 68.622231 | S5: =L5*3.6 -> 77.094111 | T5: =M5*3.6 -> 86.192174 | V5: =($D5*1000/H5) -> 2168.9179 | W5: =($D5*1000/I5) -> 1679.1622 | X5: =($D5*1000/J5) -> 1399.3019 | Y5: =($D5*1000/K5) -> 1212.7283 | Z5: =($D5*1000/L5) -> 1079.4614 | AA5: =($D5*1000/M5) -> 965.51828 | AC5: =0.5*'Gearing Calculator'!$C$15*'Gearing Calculator'!$C$20*'Gearing Calculator'!$U$20*(Forces!H5^2) -> 9.5600085 | AD5: =0.5*'Gearing Calculator'!$C$15*'Gearing Calculator'!$C$20*'Gearing Calculator'!$U$20*(Forces!I5^2) -> 15.949945 | AE5: =0.5*'Gearing Calculator'!$C$15*'Gearing Calculator'!$C$20*'Gearing Calculator'!$U$20*(Forces!J5^2) -> 22.96792 | AF5: =0.5*'Gearing Calculator'!$C$15*'Gearing Calculator'!$C$20*'Gearing Calculator'!$U$20*(Forces!K5^2) -> 30.578592 | AG5: =0.5*'Gearing Calculator'!$C$15*'Gearing Calculator'!$C$20*'Gearing Calculator'!$U$20*(Forces!L5^2) -> 38.594928 | AH5: =0.5*'Gearing Calculator'!$C$15*'Gearing Calculator'!$C$20*'Gearing Calculator'!$U$20*(Forces!M5^2) -> 48.241799 | AJ5: =V5-AC5 -> 2159.3579 | AK5: =W5-AD5 -> 1663.2123 | AL5: =X5-AE5 -> 1376.3339 | AM5: =Y5-AF5 -> 1182.1497 | AN5: =Z5-AG5 -> 1040.8665 | AO5: =AA5-AH5 -> 917.27649 | AQ5: =0.5*'Gearing Calculator'!$C$15*'Gearing Calculator'!$C$20*'Gearing Calculator'!$W$20*(Forces!H5^2) -> 12.023067 | AR5: =0.5*'Gearing Calculator'!$C$15*'Gearing Calculator'!$C$20*'Gearing Calculator'!$W$20*(Forces!I5^2) -> 20.059319 | AS5: =0.5*'Gearing Calculator'!$C$15*'Gearing Calculator'!$C$20*'Gearing Calculator'!$W$20*(Forces!J5^2) -> 28.88542 | AT5: =0.5*'Gearing Calculator'!$C$15*'Gearing Calculator'!$C$20*'Gearing Calculator'!$W$20*(Forces!K5^2) -> 38.45692 | AU5: =0.5*'Gearing Calculator'!$C$15*'Gearing Calculator'!$C$20*'Gearing Calculator'!$W$20*(Forces!L5^2) -> 48.5386 | AV5: =0.5*'Gearing Calculator'!$C$15*'Gearing Calculator'!$C$20*'Gearing Calculator'!$W$20*(Forces!M5^2) -> 60.670909 | AX5: =V5-AQ5 -> 2156.8948 | AY5: =W5-AR5 -> 1659.1029 | AZ5: =X5-AS5 -> 1370.4164 | BA5: =Y5-AT5 -> 1174.2714 | BB5: =Z5-AU5 -> 1030.9228 | BC5: =AA5-AV5 -> 904.84738
B6: 5400 | C6: 32 | D6: =0.7457*C6 -> 23.8624 | E6: =D6*10^3 -> 23862.4 | F6: =(C6*5252)/B6 -> 31.122963 | H6: 10.85927 | I6: 14.026557 | J6: 16.831868 | K6: 19.421386 | L6: 21.819088 | M6: 24.394012 | O6: =H6*3.6 -> 39.093371 | P6: =I6*3.6 -> 50.495604 | Q6: =J6*3.6 -> 60.594725 | R6: =K6*3.6 -> 69.91699 | S6: =L6*3.6 -> 78.548717 | T6: =M6*3.6 -> 87.818441 | V6: =($D6*1000/H6) -> 2197.4222 | W6: =($D6*1000/I6) -> 1701.2301 | X6: =($D6*1000/J6) -> 1417.6917 | Y6: =($D6*1000/K6) -> 1228.6662 | Z6: =($D6*1000/L6) -> 1093.6479 | AA6: =($D6*1000/M6) -> 978.20729 | AC6: =0.5*'Gearing Calculator'!$C$15*'Gearing Calculator'!$C$20*'Gearing Calculator'!$U$20*(Forces!H6^2) -> 9.9241669 | AD6: =0.5*'Gearing Calculator'!$C$15*'Gearing Calculator'!$C$20*'Gearing Calculator'!$U$20*(Forces!I6^2) -> 16.557508 | AE6: =0.5*'Gearing Calculator'!$C$15*'Gearing Calculator'!$C$20*'Gearing Calculator'!$U$20*(Forces!J6^2) -> 23.842811 | AF6: =0.5*'Gearing Calculator'!$C$15*'Gearing Calculator'!$C$20*'Gearing Calculator'!$U$20*(Forces!K6^2) -> 31.743387 | AG6: =0.5*'Gearing Calculator'!$C$15*'Gearing Calculator'!$C$20*'Gearing Calculator'!$U$20*(Forces!L6^2) -> 40.06508 | AH6: =0.5*'Gearing Calculator'!$C$15*'Gearing Calculator'!$C$20*'Gearing Calculator'!$U$20*(Forces!M6^2) -> 50.079418 | AJ6: =V6-AC6 -> 2187.498 | AK6: =W6-AD6 -> 1684.6726 | AL6: =X6-AE6 -> 1393.8489 | AM6: =Y6-AF6 -> 1196.9228 | AN6: =Z6-AG6 -> 1053.5828 | AO6: =AA6-AH6 -> 928.12788 | AQ6: =0.5*'Gearing Calculator'!$C$15*'Gearing Calculator'!$C$20*'Gearing Calculator'!$W$20*(Forces!H6^2) -> 12.481048 | AR6: =0.5*'Gearing Calculator'!$C$15*'Gearing Calculator'!$C$20*'Gearing Calculator'!$W$20*(Forces!I6^2) -> 20.823416 | AS6: =0.5*'Gearing Calculator'!$C$15*'Gearing Calculator'!$C$20*'Gearing Calculator'!$W$20*(Forces!J6^2) -> 29.985719 | AT6: =0.5*'Gearing Calculator'!$C$15*'Gearing Calculator'!$C$20*'Gearing Calculator'!$W$20*(Forces!K6^2) -> 39.921815 | AU6: =0.5*'Gearing Calculator'!$C$15*'Gearing Calculator'!$C$20*'Gearing Calculator'!$W$20*(Forces!L6^2) -> 50.387524 | AV6: =0.5*'Gearing Calculator'!$C$15*'Gearing Calculator'!$C$20*'Gearing Calculator'!$W$20*(Forces!M6^2) -> 62.981976 | AX6: =V6-AQ6 -> 2184.9411 | AY6: =W6-AR6 -> 1680.4067 | AZ6: =X6-AS6 -> 1387.706 | BA6: =Y6-AT6 -> 1188.7444 | BB6: =Z6-AU6 -> 1043.2604 | BC6: =AA6-AV6 -> 915.22532
B7: 5500 | C7: 33 | D7: =0.7457*C7 -> 24.6081 | E7: =D7*10^3 -> 24608.1 | F7: =(C7*5252)/B7 -> 31.512 | H7: 11.060367 | I7: 14.286308 | J7: 17.143569 | K7: 19.781041 | L7: 22.223145 | M7: 24.845752 | O7: =H7*3.6 -> 39.817322 | P7: =I7*3.6 -> 51.430708 | Q7: =J7*3.6 -> 61.716849 | R7: =K7*3.6 -> 71.211749 | S7: =L7*3.6 -> 80.003323 | T7: =M7*3.6 -> 89.444709 | V7: =($D7*1000/H7) -> 2224.89 | W7: =($D7*1000/I7) -> 1722.4955 | X7: =($D7*1000/J7) -> 1435.4129 | Y7: =($D7*1000/K7) -> 1244.0245 | Z7: =($D7*1000/L7) -> 1107.3185 | AA7: =($D7*1000/M7) -> 990.43489 | AC7: =0.5*'Gearing Calculator'!$C$15*'Gearing Calculator'!$C$20*'Gearing Calculator'!$U$20*(Forces!H7^2) -> 10.295132 | AD7: =0.5*'Gearing Calculator'!$C$15*'Gearing Calculator'!$C$20*'Gearing Calculator'!$U$20*(Forces!I7^2) -> 17.176427 | AE7: =0.5*'Gearing Calculator'!$C$15*'Gearing Calculator'!$C$20*'Gearing Calculator'!$U$20*(Forces!J7^2) -> 24.734055 | AF7: =0.5*'Gearing Calculator'!$C$15*'Gearing Calculator'!$C$20*'Gearing Calculator'!$U$20*(Forces!K7^2) -> 32.929954 | AG7: =0.5*'Gearing Calculator'!$C$15*'Gearing Calculator'!$C$20*'Gearing Calculator'!$U$20*(Forces!L7^2) -> 41.562712 | AH7: =0.5*'Gearing Calculator'!$C$15*'Gearing Calculator'!$C$20*'Gearing Calculator'!$U$20*(Forces!M7^2) -> 51.951385 | AJ7: =V7-AC7 -> 2214.5948 | AK7: =W7-AD7 -> 1705.319 | AL7: =X7-AE7 -> 1410.6788 | AM7: =Y7-AF7 -> 1211.0945 | AN7: =Z7-AG7 -> 1065.7558 | AO7: =AA7-AH7 -> 938.4835 | AQ7: =0.5*'Gearing Calculator'!$C$15*'Gearing Calculator'!$C$20*'Gearing Calculator'!$W$20*(Forces!H7^2) -> 12.94759 | AR7: =0.5*'Gearing Calculator'!$C$15*'Gearing Calculator'!$C$20*'Gearing Calculator'!$W$20*(Forces!I7^2) -> 21.601794 | AS7: =0.5*'Gearing Calculator'!$C$15*'Gearing Calculator'!$C$20*'Gearing Calculator'!$W$20*(Forces!J7^2) -> 31.106584 | AT7: =0.5*'Gearing Calculator'!$C$15*'Gearing Calculator'!$C$20*'Gearing Calculator'!$W$20*(Forces!K7^2) -> 41.414091 | AU7: =0.5*'Gearing Calculator'!$C$15*'Gearing Calculator'!$C$20*'Gearing Calculator'!$W$20*(Forces!L7^2) -> 52.271009 | AV7: =0.5*'Gearing Calculator'!$C$15*'Gearing Calculator'!$C$20*'Gearing Calculator'!$W$20*(Forces!M7^2) -> 65.33624 | AX7: =V7-AQ7 -> 2211.9424 | AY7: =W7-AR7 -> 1700.8937 | AZ7: =X7-AS7 -> 1404.3063 | BA7: =Y7-AT7 -> 1202.6104 | BB7: =Z7-AU7 -> 1055.0475 | BC7: =AA7-AV7 -> 925.09865
B8: 5600 | C8: 34 | D8: =0.7457*C8 -> 25.3538 | E8: =D8*10^3 -> 25353.8 | F8: =(C8*5252)/B8 -> 31.887143 | H8: 11.261465 | I8: 14.546059 | J8: 17.45527 | K8: 20.140697 | L8: 22.627202 | M8: 25.297493 | O8: =H8*3.6 -> 40.541273 | P8: =I8*3.6 -> 52.365811 | Q8: =J8*3.6 -> 62.838974 | R8: =K8*3.6 -> 72.506508 | S8: =L8*3.6 -> 81.457929 | T8: =M8*3.6 -> 91.070976 | V8: =($D8*1000/H8) -> 2251.3767 | W8: =($D8*1000/I8) -> 1743.0014 | X8: =($D8*1000/J8) -> 1452.5011 | Y8: =($D8*1000/K8) -> 1258.8343 | Z8: =($D8*1000/L8) -> 1120.5009 | AA8: =($D8*1000/M8) -> 1002.2258 | AC8: =0.5*'Gearing Calculator'!$C$15*'Gearing Calculator'!$C$20*'Gearing Calculator'!$U$20*(Forces!H8^2) -> 10.672904 | AD8: =0.5*'Gearing Calculator'!$C$15*'Gearing Calculator'!$C$20*'Gearing Calculator'!$U$20*(Forces!I8^2) -> 17.806702 | AE8: =0.5*'Gearing Calculator'!$C$15*'Gearing Calculator'!$C$20*'Gearing Calculator'!$U$20*(Forces!J8^2) -> 25.641651 | AF8: =0.5*'Gearing Calculator'!$C$15*'Gearing Calculator'!$C$20*'Gearing Calculator'!$U$20*(Forces!K8^2) -> 34.138293 | AG8: =0.5*'Gearing Calculator'!$C$15*'Gearing Calculator'!$C$20*'Gearing Calculator'!$U$20*(Forces!L8^2) -> 43.087823 | AH8: =0.5*'Gearing Calculator'!$C$15*'Gearing Calculator'!$C$20*'Gearing Calculator'!$U$20*(Forces!M8^2) -> 53.857701 | AJ8: =V8-AC8 -> 2240.7038 | AK8: =W8-AD8 -> 1725.1946 | AL8: =X8-AE8 -> 1426.8595 | AM8: =Y8-AF8 -> 1224.696 | AN8: =Z8-AG8 -> 1077.413 | AO8: =AA8-AH8 -> 948.36808 | AQ8: =0.5*'Gearing Calculator'!$C$15*'Gearing Calculator'!$C$20*'Gearing Calculator'!$W$20*(Forces!H8^2) -> 13.422691 | AR8: =0.5*'Gearing Calculator'!$C$15*'Gearing Calculator'!$C$20*'Gearing Calculator'!$W$20*(Forces!I8^2) -> 22.394455 | AS8: =0.5*'Gearing Calculator'!$C$15*'Gearing Calculator'!$C$20*'Gearing Calculator'!$W$20*(Forces!J8^2) -> 32.248016 | AT8: =0.5*'Gearing Calculator'!$C$15*'Gearing Calculator'!$C$20*'Gearing Calculator'!$W$20*(Forces!K8^2) -> 42.933749 | AU8: =0.5*'Gearing Calculator'!$C$15*'Gearing Calculator'!$C$20*'Gearing Calculator'!$W$20*(Forces!L8^2) -> 54.189052 | AV8: =0.5*'Gearing Calculator'!$C$15*'Gearing Calculator'!$C$20*'Gearing Calculator'!$W$20*(Forces!M8^2) -> 67.733702 | AX8: =V8-AQ8 -> 2237.9541 | AY8: =W8-AR8 -> 1720.6069 | AZ8: =X8-AS8 -> 1420.2531 | BA8: =Y8-AT8 -> 1215.9006 | BB8: =Z8-AU8 -> 1066.3118 | BC8: =AA8-AV8 -> 934.49207
B9: 5700 | C9: 35 | D9: =0.7457*C9 -> 26.0995 | E9: =D9*10^3 -> 26099.5 | F9: =(C9*5252)/B9 -> 32.249123 | H9: 11.462562 | I9: 14.80581 | J9: 17.766972 | K9: 20.500352 | L9: 23.03126 | M9: 25.749234 | O9: =H9*3.6 -> 41.265225 | P9: =I9*3.6 -> 53.300915 | Q9: =J9*3.6 -> 63.961098 | R9: =K9*3.6 -> 73.801267 | S9: =L9*3.6 -> 82.912535 | T9: =M9*3.6 -> 92.697244 | V9: =($D9*1000/H9) -> 2276.9342 | W9: =($D9*1000/I9) -> 1762.7877 | X9: =($D9*1000/J9) -> 1468.9898 | Y9: =($D9*1000/K9) -> 1273.1245 | Z9: =($D9*1000/L9) -> 1133.2207 | AA9: =($D9*1000/M9) -> 1013.603 | AC9: =0.5*'Gearing Calculator'!$C$15*'Gearing Calculator'!$C$20*'Gearing Calculator'!$U$20*(Forces!H9^2) -> 11.057482 | AD9: =0.5*'Gearing Calculator'!$C$15*'Gearing Calculator'!$C$20*'Gearing Calculator'!$U$20*(Forces!I9^2) -> 18.448334 | AE9: =0.5*'Gearing Calculator'!$C$15*'Gearing Calculator'!$C$20*'Gearing Calculator'!$U$20*(Forces!J9^2) -> 26.565601 | AF9: =0.5*'Gearing Calculator'!$C$15*'Gearing Calculator'!$C$20*'Gearing Calculator'!$U$20*(Forces!K9^2) -> 35.368404 | AG9: =0.5*'Gearing Calculator'!$C$15*'Gearing Calculator'!$C$20*'Gearing Calculator'!$U$20*(Forces!L9^2) -> 44.640413 | AH9: =0.5*'Gearing Calculator'!$C$15*'Gearing Calculator'!$C$20*'Gearing Calculator'!$U$20*(Forces!M9^2) -> 55.798364 | AJ9: =V9-AC9 -> 2265.8767 | AK9: =W9-AD9 -> 1744.3394 | AL9: =X9-AE9 -> 1442.4242 | AM9: =Y9-AF9 -> 1237.7561 | AN9: =Z9-AG9 -> 1088.5803 | AO9: =AA9-AH9 -> 957.80459 | AQ9: =0.5*'Gearing Calculator'!$C$15*'Gearing Calculator'!$C$20*'Gearing Calculator'!$W$20*(Forces!H9^2) -> 13.906353 | AR9: =0.5*'Gearing Calculator'!$C$15*'Gearing Calculator'!$C$20*'Gearing Calculator'!$W$20*(Forces!I9^2) -> 23.201398 | AS9: =0.5*'Gearing Calculator'!$C$15*'Gearing Calculator'!$C$20*'Gearing Calculator'!$W$20*(Forces!J9^2) -> 33.410014 | AT9: =0.5*'Gearing Calculator'!$C$15*'Gearing Calculator'!$C$20*'Gearing Calculator'!$W$20*(Forces!K9^2) -> 44.480787 | AU9: =0.5*'Gearing Calculator'!$C$15*'Gearing Calculator'!$C$20*'Gearing Calculator'!$W$20*(Forces!L9^2) -> 56.141655 | AV9: =0.5*'Gearing Calculator'!$C$15*'Gearing Calculator'!$C$20*'Gearing Calculator'!$W$20*(Forces!M9^2) -> 70.174362 | AX9: =V9-AQ9 -> 2263.0278 | AY9: =W9-AR9 -> 1739.5863 | AZ9: =X9-AS9 -> 1435.5798 | BA9: =Y9-AT9 -> 1228.6437 | BB9: =Z9-AU9 -> 1077.079 | BC9: =AA9-AV9 -> 943.42859
B10: 5800 | C10: 36 | D10: =0.7457*C10 -> 26.8452 | E10: =D10*10^3 -> 26845.2 | F10: =(C10*5252)/B10 -> 32.598621 | H10: 11.66366 | I10: 15.065561 | J10: 18.078673 | K10: 20.860007 | L10: 23.435317 | M10: 26.200975 | O10: =H10*3.6 -> 41.989176 | P10: =I10*3.6 -> 54.236019 | Q10: =J10*3.6 -> 65.083223 | R10: =K10*3.6 -> 75.096026 | S10: =L10*3.6 -> 84.367141 | T10: =M10*3.6 -> 94.323511 | V10: =($D10*1000/H10) -> 2301.6103 | W10: =($D10*1000/I10) -> 1781.8918 | X10: =($D10*1000/J10) -> 1484.9099 | Y10: =($D10*1000/K10) -> 1286.9219 | Z10: =($D10*1000/L10) -> 1145.5019 | AA10: =($D10*1000/M10) -> 1024.5878 | AC10: =0.5*'Gearing Calculator'!$C$15*'Gearing Calculator'!$C$20*'Gearing Calculator'!$U$20*(Forces!H10^2) -> 11.448867 | AD10: =0.5*'Gearing Calculator'!$C$15*'Gearing Calculator'!$C$20*'Gearing Calculator'!$U$20*(Forces!I10^2) -> 19.101322 | AE10: =0.5*'Gearing Calculator'!$C$15*'Gearing Calculator'!$C$20*'Gearing Calculator'!$U$20*(Forces!J10^2) -> 27.505904 | AF10: =0.5*'Gearing Calculator'!$C$15*'Gearing Calculator'!$C$20*'Gearing Calculator'!$U$20*(Forces!K10^2) -> 36.620286 | AG10: =0.5*'Gearing Calculator'!$C$15*'Gearing Calculator'!$C$20*'Gearing Calculator'!$U$20*(Forces!L10^2) -> 46.220483 | AH10: =0.5*'Gearing Calculator'!$C$15*'Gearing Calculator'!$C$20*'Gearing Calculator'!$U$20*(Forces!M10^2) -> 57.773375 | AJ10: =V10-AC10 -> 2290.1614 | AK10: =W10-AD10 -> 1762.7905 | AL10: =X10-AE10 -> 1457.404 | AM10: =Y10-AF10 -> 1250.3016 | AN10: =Z10-AG10 -> 1099.2814 | AO10: =AA10-AH10 -> 966.81444 | AQ10: =0.5*'Gearing Calculator'!$C$15*'Gearing Calculator'!$C$20*'Gearing Calculator'!$W$20*(Forces!H10^2) -> 14.398576 | AR10: =0.5*'Gearing Calculator'!$C$15*'Gearing Calculator'!$C$20*'Gearing Calculator'!$W$20*(Forces!I10^2) -> 24.022624 | AS10: =0.5*'Gearing Calculator'!$C$15*'Gearing Calculator'!$C$20*'Gearing Calculator'!$W$20*(Forces!J10^2) -> 34.592578 | AT10: =0.5*'Gearing Calculator'!$C$15*'Gearing Calculator'!$C$20*'Gearing Calculator'!$W$20*(Forces!K10^2) -> 46.055207 | AU10: =0.5*'Gearing Calculator'!$C$15*'Gearing Calculator'!$C$20*'Gearing Calculator'!$W$20*(Forces!L10^2) -> 58.128818 | AV10: =0.5*'Gearing Calculator'!$C$15*'Gearing Calculator'!$C$20*'Gearing Calculator'!$W$20*(Forces!M10^2) -> 72.658219 | AX10: =V10-AQ10 -> 2287.2117 | AY10: =W10-AR10 -> 1757.8692 | AZ10: =X10-AS10 -> 1450.3173 | BA10: =Y10-AT10 -> 1240.8667 | BB10: =Z10-AU10 -> 1087.3731 | BC10: =AA10-AV10 -> 951.92959
B11: 5900 | C11: 37 | D11: =0.7457*C11 -> 27.5909 | E11: =D11*10^3 -> 27590.9 | F11: =(C11*5252)/B11 -> 32.936271 | H11: 11.864758 | I11: 15.325312 | J11: 18.390374 | K11: 21.219663 | L11: 23.839374 | M11: 26.652716 | O11: =H11*3.6 -> 42.713127 | P11: =I11*3.6 -> 55.171123 | Q11: =J11*3.6 -> 66.205347 | R11: =K11*3.6 -> 76.390785 | S11: =L11*3.6 -> 85.821746 | T11: =M11*3.6 -> 95.949779 | V11: =($D11*1000/H11) -> 2325.45 | W11: =($D11*1000/I11) -> 1800.3484 | X11: =($D11*1000/J11) -> 1500.2903 | Y11: =($D11*1000/K11) -> 1300.2516 | Z11: =($D11*1000/L11) -> 1157.3668 | AA11: =($D11*1000/M11) -> 1035.2003 | AC11: =0.5*'Gearing Calculator'!$C$15*'Gearing Calculator'!$C$20*'Gearing Calculator'!$U$20*(Forces!H11^2) -> 11.847059 | AD11: =0.5*'Gearing Calculator'!$C$15*'Gearing Calculator'!$C$20*'Gearing Calculator'!$U$20*(Forces!I11^2) -> 19.765667 | AE11: =0.5*'Gearing Calculator'!$C$15*'Gearing Calculator'!$C$20*'Gearing Calculator'!$U$20*(Forces!J11^2) -> 28.46256 | AF11: =0.5*'Gearing Calculator'!$C$15*'Gearing Calculator'!$C$20*'Gearing Calculator'!$U$20*(Forces!K11^2) -> 37.893941 | AG11: =0.5*'Gearing Calculator'!$C$15*'Gearing Calculator'!$C$20*'Gearing Calculator'!$U$20*(Forces!L11^2) -> 47.828033 | AH11: =0.5*'Gearing Calculator'!$C$15*'Gearing Calculator'!$C$20*'Gearing Calculator'!$U$20*(Forces!M11^2) -> 59.782735 | AJ11: =V11-AC11 -> 2313.6029 | AK11: =W11-AD11 -> 1780.5827 | AL11: =X11-AE11 -> 1471.8277 | AM11: =Y11-AF11 -> 1262.3576 | AN11: =Z11-AG11 -> 1109.5388 | AO11: =AA11-AH11 -> 975.41757 | AQ11: =0.5*'Gearing Calculator'!$C$15*'Gearing Calculator'!$C$20*'Gearing Calculator'!$W$20*(Forces!H11^2) -> 14.899358 | AR11: =0.5*'Gearing Calculator'!$C$15*'Gearing Calculator'!$C$20*'Gearing Calculator'!$W$20*(Forces!I11^2) -> 24.858131 | AS11: =0.5*'Gearing Calculator'!$C$15*'Gearing Calculator'!$C$20*'Gearing Calculator'!$W$20*(Forces!J11^2) -> 35.795709 | AT11: =0.5*'Gearing Calculator'!$C$15*'Gearing Calculator'!$C$20*'Gearing Calculator'!$W$20*(Forces!K11^2) -> 47.657009 | AU11: =0.5*'Gearing Calculator'!$C$15*'Gearing Calculator'!$C$20*'Gearing Calculator'!$W$20*(Forces!L11^2) -> 60.150539 | AV11: =0.5*'Gearing Calculator'!$C$15*'Gearing Calculator'!$C$20*'Gearing Calculator'!$W$20*(Forces!M11^2) -> 75.185273 | AX11: =V11-AQ11 -> 2310.5506 | AY11: =W11-AR11 -> 1775.4902 | AZ11: =X11-AS11 -> 1464.4946 | BA11: =Y11-AT11 -> 1252.5946 | BB11: =Z11-AU11 -> 1097.2163 | BC11: =AA11-AV11 -> 960.01503
B12: 6000 | C12: 38 | D12: =0.7457*C12 -> 28.3366 | E12: =D12*10^3 -> 28336.6 | F12: =(C12*5252)/B12 -> 33.262667 | H12: 12.065855 | I12: 15.585063 | J12: 18.702075 | K12: 21.579318 | L12: 24.243431 | M12: 27.104457 | O12: =H12*3.6 -> 43.437079 | P12: =I12*3.6 -> 56.106226 | Q12: =J12*3.6 -> 67.327472 | R12: =K12*3.6 -> 77.685544 | S12: =L12*3.6 -> 87.276352 | T12: =M12*3.6 -> 97.576046 | V12: =($D12*1000/H12) -> 2348.495 | W12: =($D12*1000/I12) -> 1818.1896 | X12: =($D12*1000/J12) -> 1515.158 | Y12: =($D12*1000/K12) -> 1313.137 | Z12: =($D12*1000/L12) -> 1168.8362 | AA12: =($D12*1000/M12) -> 1045.459 | AC12: =0.5*'Gearing Calculator'!$C$15*'Gearing Calculator'!$C$20*'Gearing Calculator'!$U$20*(Forces!H12^2) -> 12.252058 | AD12: =0.5*'Gearing Calculator'!$C$15*'Gearing Calculator'!$C$20*'Gearing Calculator'!$U$20*(Forces!I12^2) -> 20.441367 | AE12: =0.5*'Gearing Calculator'!$C$15*'Gearing Calculator'!$C$20*'Gearing Calculator'!$U$20*(Forces!J12^2) -> 29.435569 | AF12: =0.5*'Gearing Calculator'!$C$15*'Gearing Calculator'!$C$20*'Gearing Calculator'!$U$20*(Forces!K12^2) -> 39.189367 | AG12: =0.5*'Gearing Calculator'!$C$15*'Gearing Calculator'!$C$20*'Gearing Calculator'!$U$20*(Forces!L12^2) -> 49.463062 | AH12: =0.5*'Gearing Calculator'!$C$15*'Gearing Calculator'!$C$20*'Gearing Calculator'!$U$20*(Forces!M12^2) -> 61.826442 | AJ12: =V12-AC12 -> 2336.2429 | AK12: =W12-AD12 -> 1797.7483 | AL12: =X12-AE12 -> 1485.7225 | AM12: =Y12-AF12 -> 1273.9476 | AN12: =Z12-AG12 -> 1119.3731 | AO12: =AA12-AH12 -> 983.6326 | AQ12: =0.5*'Gearing Calculator'!$C$15*'Gearing Calculator'!$C$20*'Gearing Calculator'!$W$20*(Forces!H12^2) -> 15.408702 | AR12: =0.5*'Gearing Calculator'!$C$15*'Gearing Calculator'!$C$20*'Gearing Calculator'!$W$20*(Forces!I12^2) -> 25.707921 | AS12: =0.5*'Gearing Calculator'!$C$15*'Gearing Calculator'!$C$20*'Gearing Calculator'!$W$20*(Forces!J12^2) -> 37.019406 | AT12: =0.5*'Gearing Calculator'!$C$15*'Gearing Calculator'!$C$20*'Gearing Calculator'!$W$20*(Forces!K12^2) -> 49.286191 | AU12: =0.5*'Gearing Calculator'!$C$15*'Gearing Calculator'!$C$20*'Gearing Calculator'!$W$20*(Forces!L12^2) -> 62.20682 | AV12: =0.5*'Gearing Calculator'!$C$15*'Gearing Calculator'!$C$20*'Gearing Calculator'!$W$20*(Forces!M12^2) -> 77.755526 | AX12: =V12-AQ12 -> 2333.0863 | AY12: =W12-AR12 -> 1792.4817 | AZ12: =X12-AS12 -> 1478.1386 | BA12: =Y12-AT12 -> 1263.8508 | BB12: =Z12-AU12 -> 1106.6294 | BC12: =AA12-AV12 -> 967.70352
B13: 6100 | C13: 38.5 | D13: =0.7457*C13 -> 28.70945 | E13: =D13*10^3 -> 28709.45 | F13: =(C13*5252)/B13 -> 33.147869 | H13: 12.266953 | I13: 15.844814 | J13: 19.013777 | K13: 21.938973 | L13: 24.647488 | M13: 27.556198 | O13: =H13*3.6 -> 44.16103 | P13: =I13*3.6 -> 57.04133 | Q13: =J13*3.6 -> 68.449596 | R13: =K13*3.6 -> 78.980303 | S13: =L13*3.6 -> 88.730958 | T13: =M13*3.6 -> 99.202313 | V13: =($D13*1000/H13) -> 2340.3897 | W13: =($D13*1000/I13) -> 1811.9146 | X13: =($D13*1000/J13) -> 1509.9288 | Y13: =($D13*1000/K13) -> 1308.605 | Z13: =($D13*1000/L13) -> 1164.8023 | AA13: =($D13*1000/M13) -> 1041.8509 | AC13: =0.5*'Gearing Calculator'!$C$15*'Gearing Calculator'!$C$20*'Gearing Calculator'!$U$20*(Forces!H13^2) -> 12.663863 | AD13: =0.5*'Gearing Calculator'!$C$15*'Gearing Calculator'!$C$20*'Gearing Calculator'!$U$20*(Forces!I13^2) -> 21.128425 | AE13: =0.5*'Gearing Calculator'!$C$15*'Gearing Calculator'!$C$20*'Gearing Calculator'!$U$20*(Forces!J13^2) -> 30.424931 | AF13: =0.5*'Gearing Calculator'!$C$15*'Gearing Calculator'!$C$20*'Gearing Calculator'!$U$20*(Forces!K13^2) -> 40.506565 | AG13: =0.5*'Gearing Calculator'!$C$15*'Gearing Calculator'!$C$20*'Gearing Calculator'!$U$20*(Forces!L13^2) -> 51.12557 | AH13: =0.5*'Gearing Calculator'!$C$15*'Gearing Calculator'!$C$20*'Gearing Calculator'!$U$20*(Forces!M13^2) -> 63.904498 | AJ13: =V13-AC13 -> 2327.7258 | AK13: =W13-AD13 -> 1790.7862 | AL13: =X13-AE13 -> 1479.5039 | AM13: =Y13-AF13 -> 1268.0984 | AN13: =Z13-AG13 -> 1113.6767 | AO13: =AA13-AH13 -> 977.94641 | AQ13: =0.5*'Gearing Calculator'!$C$15*'Gearing Calculator'!$C$20*'Gearing Calculator'!$W$20*(Forces!H13^2) -> 15.926605 | AR13: =0.5*'Gearing Calculator'!$C$15*'Gearing Calculator'!$C$20*'Gearing Calculator'!$W$20*(Forces!I13^2) -> 26.571992 | AS13: =0.5*'Gearing Calculator'!$C$15*'Gearing Calculator'!$C$20*'Gearing Calculator'!$W$20*(Forces!J13^2) -> 38.263669 | AT13: =0.5*'Gearing Calculator'!$C$15*'Gearing Calculator'!$C$20*'Gearing Calculator'!$W$20*(Forces!K13^2) -> 50.942755 | AU13: =0.5*'Gearing Calculator'!$C$15*'Gearing Calculator'!$C$20*'Gearing Calculator'!$W$20*(Forces!L13^2) -> 64.297661 | AV13: =0.5*'Gearing Calculator'!$C$15*'Gearing Calculator'!$C$20*'Gearing Calculator'!$W$20*(Forces!M13^2) -> 80.368975 | AX13: =V13-AQ13 -> 2324.4631 | AY13: =W13-AR13 -> 1785.3426 | AZ13: =X13-AS13 -> 1471.6652 | BA13: =Y13-AT13 -> 1257.6622 | BB13: =Z13-AU13 -> 1100.5046 | BC13: =AA13-AV13 -> 961.48193
B14: 6200 | C14: 39 | D14: =0.7457*C14 -> 29.0823 | E14: =D14*10^3 -> 29082.3 | F14: =(C14*5252)/B14 -> 33.036774 | H14: 12.46805 | I14: 16.104565 | J14: 19.325478 | K14: 22.298628 | L14: 25.051546 | M14: 28.007939 | O14: =H14*3.6 -> 44.884981 | P14: =I14*3.6 -> 57.976434 | Q14: =J14*3.6 -> 69.571721 | R14: =K14*3.6 -> 80.275062 | S14: =L14*3.6 -> 90.185564 | T14: =M14*3.6 -> 100.82858 | V14: =($D14*1000/H14) -> 2332.5459 | W14: =($D14*1000/I14) -> 1805.842 | X14: =($D14*1000/J14) -> 1504.8683 | Y14: =($D14*1000/K14) -> 1304.2192 | Z14: =($D14*1000/L14) -> 1160.8984 | AA14: =($D14*1000/M14) -> 1038.3592 | AC14: =0.5*'Gearing Calculator'!$C$15*'Gearing Calculator'!$C$20*'Gearing Calculator'!$U$20*(Forces!H14^2) -> 13.082475 | AD14: =0.5*'Gearing Calculator'!$C$15*'Gearing Calculator'!$C$20*'Gearing Calculator'!$U$20*(Forces!I14^2) -> 21.826838 | AE14: =0.5*'Gearing Calculator'!$C$15*'Gearing Calculator'!$C$20*'Gearing Calculator'!$U$20*(Forces!J14^2) -> 31.430647 | AF14: =0.5*'Gearing Calculator'!$C$15*'Gearing Calculator'!$C$20*'Gearing Calculator'!$U$20*(Forces!K14^2) -> 41.845535 | AG14: =0.5*'Gearing Calculator'!$C$15*'Gearing Calculator'!$C$20*'Gearing Calculator'!$U$20*(Forces!L14^2) -> 52.815558 | AH14: =0.5*'Gearing Calculator'!$C$15*'Gearing Calculator'!$C$20*'Gearing Calculator'!$U$20*(Forces!M14^2) -> 66.016901 | AJ14: =V14-AC14 -> 2319.4635 | AK14: =W14-AD14 -> 1784.0152 | AL14: =X14-AE14 -> 1473.4377 | AM14: =Y14-AF14 -> 1262.3737 | AN14: =Z14-AG14 -> 1108.0829 | AO14: =AA14-AH14 -> 972.34225 | AQ14: =0.5*'Gearing Calculator'!$C$15*'Gearing Calculator'!$C$20*'Gearing Calculator'!$W$20*(Forces!H14^2) -> 16.453069 | AR14: =0.5*'Gearing Calculator'!$C$15*'Gearing Calculator'!$C$20*'Gearing Calculator'!$W$20*(Forces!I14^2) -> 27.450346 | AS14: =0.5*'Gearing Calculator'!$C$15*'Gearing Calculator'!$C$20*'Gearing Calculator'!$W$20*(Forces!J14^2) -> 39.528499 | AT14: =0.5*'Gearing Calculator'!$C$15*'Gearing Calculator'!$C$20*'Gearing Calculator'!$W$20*(Forces!K14^2) -> 52.6267 | AU14: =0.5*'Gearing Calculator'!$C$15*'Gearing Calculator'!$C$20*'Gearing Calculator'!$W$20*(Forces!L14^2) -> 66.42306 | AV14: =0.5*'Gearing Calculator'!$C$15*'Gearing Calculator'!$C$20*'Gearing Calculator'!$W$20*(Forces!M14^2) -> 83.025622 | AX14: =V14-AQ14 -> 2316.0929 | AY14: =W14-AR14 -> 1778.3917 | AZ14: =X14-AS14 -> 1465.3398 | BA14: =Y14-AT14 -> 1251.5925 | BB14: =Z14-AU14 -> 1094.4754 | BC14: =AA14-AV14 -> 955.33353
B15: 6300 | C15: 39.5 | D15: =0.7457*C15 -> 29.45515 | E15: =D15*10^3 -> 29455.15 | F15: =(C15*5252)/B15 -> 32.929206 | H15: 12.669148 | I15: 16.364316 | J15: 19.637179 | K15: 22.658284 | L15: 25.455603 | M15: 28.45968 | O15: =H15*3.6 -> 45.608932 | P15: =I15*3.6 -> 58.911538 | Q15: =J15*3.6 -> 70.693845 | R15: =K15*3.6 -> 81.569822 | S15: =L15*3.6 -> 91.64017 | T15: =M15*3.6 -> 102.45485 | V15: =($D15*1000/H15) -> 2324.9511 | W15: =($D15*1000/I15) -> 1799.9622 | X15: =($D15*1000/J15) -> 1499.9685 | Y15: =($D15*1000/K15) -> 1299.9727 | Z15: =($D15*1000/L15) -> 1157.1185 | AA15: =($D15*1000/M15) -> 1034.9783 | AC15: =0.5*'Gearing Calculator'!$C$15*'Gearing Calculator'!$C$20*'Gearing Calculator'!$U$20*(Forces!H15^2) -> 13.507894 | AD15: =0.5*'Gearing Calculator'!$C$15*'Gearing Calculator'!$C$20*'Gearing Calculator'!$U$20*(Forces!I15^2) -> 22.536608 | AE15: =0.5*'Gearing Calculator'!$C$15*'Gearing Calculator'!$C$20*'Gearing Calculator'!$U$20*(Forces!J15^2) -> 32.452715 | AF15: =0.5*'Gearing Calculator'!$C$15*'Gearing Calculator'!$C$20*'Gearing Calculator'!$U$20*(Forces!K15^2) -> 43.206277 | AG15: =0.5*'Gearing Calculator'!$C$15*'Gearing Calculator'!$C$20*'Gearing Calculator'!$U$20*(Forces!L15^2) -> 54.533026 | AH15: =0.5*'Gearing Calculator'!$C$15*'Gearing Calculator'!$C$20*'Gearing Calculator'!$U$20*(Forces!M15^2) -> 68.163653 | AJ15: =V15-AC15 -> 2311.4433 | AK15: =W15-AD15 -> 1777.4256 | AL15: =X15-AE15 -> 1467.5158 | AM15: =Y15-AF15 -> 1256.7664 | AN15: =Z15-AG15 -> 1102.5855 | AO15: =AA15-AH15 -> 966.8146 | AQ15: =0.5*'Gearing Calculator'!$C$15*'Gearing Calculator'!$C$20*'Gearing Calculator'!$W$20*(Forces!H15^2) -> 16.988094 | AR15: =0.5*'Gearing Calculator'!$C$15*'Gearing Calculator'!$C$20*'Gearing Calculator'!$W$20*(Forces!I15^2) -> 28.342983 | AS15: =0.5*'Gearing Calculator'!$C$15*'Gearing Calculator'!$C$20*'Gearing Calculator'!$W$20*(Forces!J15^2) -> 40.813895 | AT15: =0.5*'Gearing Calculator'!$C$15*'Gearing Calculator'!$C$20*'Gearing Calculator'!$W$20*(Forces!K15^2) -> 54.338026 | AU15: =0.5*'Gearing Calculator'!$C$15*'Gearing Calculator'!$C$20*'Gearing Calculator'!$W$20*(Forces!L15^2) -> 68.583019 | AV15: =0.5*'Gearing Calculator'!$C$15*'Gearing Calculator'!$C$20*'Gearing Calculator'!$W$20*(Forces!M15^2) -> 85.725467 | AX15: =V15-AQ15 -> 2307.9631 | AY15: =W15-AR15 -> 1771.6192 | AZ15: =X15-AS15 -> 1459.1546 | BA15: =Y15-AT15 -> 1245.6347 | BB15: =Z15-AU15 -> 1088.5355 | BC15: =AA15-AV15 -> 949.25279
... B110: 15800 | C110: 105 | D110: =0.7457*C110 -> 78.2985 | E110: =D110*10^3 -> 78298.5 | F110: =(C110*5252)/B110 -> 34.902532 | H110: 31.773419 | I110: 41.040666 | J110: 49.248799 | K110: 56.825537 | L110: 63.841035 | M110: 71.375071 | O110: =H110*3.6 -> 114.38431 | P110: =I110*3.6 -> 147.7464 | Q110: =J110*3.6 -> 177.29568 | R110: =K110*3.6 -> 204.57193 | S110: =L110*3.6 -> 229.82773 | T110: =M110*3.6 -> 256.95025 | V110: =($D110*1000/H110) -> 2464.2769 | W110: =($D110*1000/I110) -> 1907.8272 | X110: =($D110*1000/J110) -> 1589.856 | Y110: =($D110*1000/K110) -> 1377.8752 | Z110: =($D110*1000/L110) -> 1226.4604 | AA110: =($D110*1000/M110) -> 1097.0007 | AC110: =0.5*'Gearing Calculator'!$C$15*'Gearing Calculator'!$C$20*'Gearing Calculator'!$U$20*(Forces!H110^2) -> 84.961215 | AD110: =0.5*'Gearing Calculator'!$C$15*'Gearing Calculator'!$C$20*'Gearing Calculator'!$U$20*(Forces!I110^2) -> 141.74953 | AE110: =0.5*'Gearing Calculator'!$C$15*'Gearing Calculator'!$C$20*'Gearing Calculator'!$U$20*(Forces!J110^2) -> 204.11932 | AF110: =0.5*'Gearing Calculator'!$C$15*'Gearing Calculator'!$C$20*'Gearing Calculator'!$U$20*(Forces!K110^2) -> 271.75649 | AG110: =0.5*'Gearing Calculator'!$C$15*'Gearing Calculator'!$C$20*'Gearing Calculator'!$U$20*(Forces!L110^2) -> 342.99886 | AH110: =0.5*'Gearing Calculator'!$C$15*'Gearing Calculator'!$C$20*'Gearing Calculator'!$U$20*(Forces!M110^2) -> 428.73203 | AJ110: =V110-AC110 -> 2379.3156 | AK110: =W110-AD110 -> 1766.0777 | AL110: =X110-AE110 -> 1385.7367 | AM110: =Y110-AF110 -> 1106.1187 | AN110: =Z110-AG110 -> 883.46151 | AO110: =AA110-AH110 -> 668.26864 | AQ110: =0.5*'Gearing Calculator'!$C$15*'Gearing Calculator'!$C$20*'Gearing Calculator'!$W$20*(Forces!H110^2) -> 106.85079 | AR110: =0.5*'Gearing Calculator'!$C$15*'Gearing Calculator'!$C$20*'Gearing Calculator'!$W$20*(Forces!I110^2) -> 178.27015 | AS110: =0.5*'Gearing Calculator'!$C$15*'Gearing Calculator'!$C$20*'Gearing Calculator'!$W$20*(Forces!J110^2) -> 256.70901 | AT110: =0.5*'Gearing Calculator'!$C$15*'Gearing Calculator'!$C$20*'Gearing Calculator'!$W$20*(Forces!K110^2) -> 341.77235 | AU110: =0.5*'Gearing Calculator'!$C$15*'Gearing Calculator'!$C$20*'Gearing Calculator'!$W$20*(Forces!L110^2) -> 431.36974 | AV110: =0.5*'Gearing Calculator'!$C$15*'Gearing Calculator'!$C$20*'Gearing Calculator'!$W$20*(Forces!M110^2) -> 539.19137 | AX110: =V110-AQ110 -> 2357.4261 | AY110: =W110-AR110 -> 1729.5571 | AZ110: =X110-AS110 -> 1333.147 | BA110: =Y110-AT110 -> 1036.1029 | BB110: =Z110-AU110 -> 795.09063 | BC110: =AA110-AV110 -> 557.80929

Sheet Reduced Mass
B2: Parameter | C2: Front Wheel | D2: Rear Wheel | E2: Unit | G2: Internal Ratios | J2: Parameter | K2: Value | L2: Unit | N2: Reduced Mass Per Gear
B3: Wheel Radius | C3: 0.299847 | D3: 0.31496 | E3: m | G3: Gear | H3: Ratio | J3: Mass (Wt) | K3: ='Gearing Calculator'!U9 -> 266.2 | L3: Kg | N3: Gear | O3: Value | P3: Unit
B4: Spindle Radius | C4: 0.007 | D4: 0.008 | E4: m | G4: 1st | H4: 2.5833333 | J4: Rear Wheel Inertia (lwr) | K4: 0.8 | L4: Kg/m² | N4: 1st | O4: 434.78 | P4: kg
B5: Wheel Mass | C5: 7.3 | D5: 7.6 | E5: kg | G5: 2nd | H5: 2 | J5: Front Wheel Inertia (lwf) | K5: 0.6 | L5: Kg/m² | N5: 2nd | O5: 373.413 | P5: kg
B6: Height of Roll | C6: 0.1478 | E6: m | G6: 3rd | H6: 1.6666667 | J6: Engine Inertia (lwm) | K6: 0.05 | L6: Kg/m² | N6: 3rd | O6: 345.36 | P6: kg
B7: Distance of Roll | C7: 1 | E7: m | G7: 4th | H7: 1.4444444 | J7: Primary Shaft Inertia (lwp) | K7: 0.005 | L7: Kg/m² | N7: 4th | O7: 329.491 | P7: kg
B8: Time of Roll 1 | C8: 45.1 | D8: 44.5 | E8: s | G8: 5th | H8: 1.2857143 | J8: Secondary Shaft Inertia (lws) | K8: 0.007 | L8: Kg/m² | N8: 5th | O8: 319.544 | P8: kg
B9: Time of Roll 2 | C9: 44.9 | D9: 43.95 | E9: s | G9: 6th | H9: 1.15 | J9: Rear Velocity Ratio (τr) | K9: =1/'Gearing Calculator'!C8 -> 3.1750064 | L9: :1 | N9: 6th | O9: 311.957 | P9: kg
B10: Time of Roll 3 | C10: 45.15 | D10: 44.2 | E10: s | J10: Front Velocity Ratio (τf) | K10: =1/'Gearing Calculator'!C9 -> 3.3350342 | L10: :1
B11: Time of Roll Average | C11: =AVERAGE(C8:C10) -> 45.05 | D11: =AVERAGE(D8:D10) -> 44.216667 | E11: s | J11: Internal Gear Ratio (τir) | K11: =VLOOKUP(L11,G4:H9,2,FALSE) -> 1.15 | L11: 6th
B12: Moment of Inertia | C12: =(C5*C4^2)*(((4905*$C$6*C11^2)/$C$7^2)-1)/1000 -> 0.52628584 | D12: =(D5*D4^2)*(((4905*$C$6*D11^2)/$C$7^2)-1)/1000 -> 0.68941179 | E12: kg/m² | J12: Sproket Ratio (τsp) | K12: ='Gearing Calculator'!L14 -> 3.0666667 | L12: :1
B13: Eq Mass | C13: =C12/C3^2 -> 5.8535895 | D13: =D12/D3^2 -> 6.9497295 | E13: Kg | J13: Primary Reduction Ratio (τpr) | K13: ='Gearing Calculator'!L7 -> 2.0731707 | L13: :1
B14: Total Eff Weight | C14: =C5+C13 -> 13.15359 | D14: =D5+D13 -> 14.54973 | E14: Kg/f | J14: Engine Velocity Ratio (τm) | K14: =K13*K11*K12*(1/C3) -> 24.383709 | L14: :1
J15: Transmission Velocity Ratio (τp) | K15: =K11*K12*(1/D3) -> 11.197189 | L15: :1
J16: Gearing Velocity Ratio (τs) | K16: =K12*(1/D3) -> 9.7366861 | L16: :1
J17: Weight Total (Wt*) | K17: =K3+(K4*(K9^2))+(K5*(K10^2))+(K6*(K14^2))+(K7*(K15^2))+(K8*(K16^2)) -> 311.95677 | L17: Kg

Sheet Acceleration
A2: 1 | B2: Data | C2: Value | D2: Unit | F2: Parameter | G2: Tucked | H2: Leaning | I2: Unit | Q2: Max Acceleration Tucked (m/s²) | X2: Max Acceleration Leaning (m/s²)
A3: 2 | B3: Max Power | C3: ='Dyno Data'!E93 -> 83518.4 | D3: Watts | F3: X-CoG | G3: 0.74044102 | H3: 0.72364463 | I3: m | K3: RPM | L3: Power (BHP) | M3: Power (KW) | N3: Power (W) | O3: Torque | Q3: 1st | R3: 2nd | S3: 3rd | T3: 4th | U3: 5th | V3: 6th | X3: 1st | Y3: 2nd | Z3: 3rd | AA3: 4th | AB3: 5th | AC3: 6th
A4: 3 | B4: Weight Total (Wt) | C4: =266.2 -> 266.2 | D4: Kg | F4: Y-CoG | G4: 0.75219425 | H4: 0.72954794 | I4: m | K4: 5200 | L4: 30 | M4: 22.371 | N4: 22371 | O4: 30.3 | Q4: =Forces!AJ4/'Reduced Mass'!$O$4 -> 4.899293 | R4: =Forces!AK4/'Reduced Mass'!$O$5 -> 4.3943084 | S4: =Forces!AL4/'Reduced Mass'!$O$6 -> 3.9324048 | T4: =Forces!AM4/'Reduced Mass'!$O$7 -> 3.5410431 | U4: =Forces!AN4/'Reduced Mass'!$O$8 -> 3.2157608 | V4: =Forces!AO4/'Reduced Mass'!$O$9 -> 2.9039345 | X4: =Forces!AX4/'Reduced Mass'!$O$4 -> 4.8938397 | Y4: =Forces!AY4/'Reduced Mass'!$O$5 -> 4.3837149 | Z4: =Forces!AZ4/'Reduced Mass'!$O$6 -> 3.9159109 | AA4: =Forces!BA4/'Reduced Mass'!$O$7 -> 3.5180263 | AB4: =Forces!BB4/'Reduced Mass'!$O$8 -> 3.1858057 | AC4: =Forces!BC4/'Reduced Mass'!$O$9 -> 2.8655815
A5: 4 | B5: Reduced Mass (Wt) | C5: =VLOOKUP(C13,A42:C47,3,FALSE) -> 311.957 | D5: Kg | F5: Frontal Area (Af) | G5: 0.229 | H5: 0.288 | I5: m² | K5: 5300 | L5: 31 | M5: 23.1167 | N5: 23116.7 | O5: 30.719245 | Q5: =Forces!AJ5/'Reduced Mass'!$O$4 -> 4.9665529 | R5: =Forces!AK5/'Reduced Mass'!$O$5 -> 4.4540824 | S5: =Forces!AL5/'Reduced Mass'!$O$6 -> 3.9852153 | T5: =Forces!AM5/'Reduced Mass'!$O$7 -> 3.5878057 | U5: =Forces!AN5/'Reduced Mass'!$O$8 -> 3.2573496 | V5: =Forces!AO5/'Reduced Mass'!$O$9 -> 2.940394 | X5: =Forces!AX5/'Reduced Mass'!$O$4 -> 4.9608878 | Y5: =Forces!AY5/'Reduced Mass'!$O$5 -> 4.4430775 | Z5: =Forces!AZ5/'Reduced Mass'!$O$6 -> 3.968081 | AA5: =Forces!BA5/'Reduced Mass'!$O$7 -> 3.5638951 | AB5: =Forces!BB5/'Reduced Mass'!$O$8 -> 3.2262312 | AC5: =Forces!BC5/'Reduced Mass'!$O$9 -> 2.9005516
A6: 5 | B6: Drag Coefficent (μd) | C6: ='Gearing Calculator'!C20 -> 0.6 | F6: Friction Coefficient (μf) | G6: 1.5 | K6: 5400 | L6: 32 | M6: 23.8624 | N6: 23862.4 | O6: 31.122963 | Q6: =Forces!AJ6/'Reduced Mass'!$O$4 -> 5.0312756 | R6: =Forces!AK6/'Reduced Mass'!$O$5 -> 4.5115531 | S6: =Forces!AL6/'Reduced Mass'!$O$6 -> 4.0359304 | T6: =Forces!AM6/'Reduced Mass'!$O$7 -> 3.6326418 | U6: =Forces!AN6/'Reduced Mass'!$O$8 -> 3.2971448 | V6: =Forces!AO6/'Reduced Mass'!$O$9 -> 2.9751789 | X6: =Forces!AX6/'Reduced Mass'!$O$4 -> 5.0253948 | Y6: =Forces!AY6/'Reduced Mass'!$O$5 -> 4.500129 | Z6: =Forces!AZ6/'Reduced Mass'!$O$6 -> 4.0181434 | AA6: =Forces!BA6/'Reduced Mass'!$O$7 -> 3.6078204 | AB6: =Forces!BB6/'Reduced Mass'!$O$8 -> 3.2648411 | AC6: =Forces!BC6/'Reduced Mass'!$O$9 -> 2.9338188
A7: 6 | B7: Wheel Base (Wb) | C7: ='Gearing Calculator'!C7 -> 1.38 | D7: M | F7: Load Transfer Line (ϴ) | G7: =ATAN($G$4/$C$7) -> 0.49904899 | H7: =ATAN($G$4/$C$7) -> 0.49904899 | I7: ° | K7: 5500 | L7: 33 | M7: 24.6081 | N7: 24608.1 | O7: 31.512 | Q7: =Forces!AJ7/'Reduced Mass'!$O$4 -> 5.0935987 | R7: =Forces!AK7/'Reduced Mass'!$O$5 -> 4.5668443 | S7: =Forces!AL7/'Reduced Mass'!$O$6 -> 4.0846619 | T7: =Forces!AM7/'Reduced Mass'!$O$7 -> 3.6756529 | U7: =Forces!AN7/'Reduced Mass'!$O$8 -> 3.3352396 | V7: =Forces!AO7/'Reduced Mass'!$O$9 -> 3.0083746 | X7: =Forces!AX7/'Reduced Mass'!$O$4 -> 5.087498 | Y7: =Forces!AY7/'Reduced Mass'!$O$5 -> 4.5549932 | Z7: =Forces!AZ7/'Reduced Mass'!$O$6 -> 4.06621 | AA7: =Forces!BA7/'Reduced Mass'!$O$7 -> 3.6499036 | AB7: =Forces!BB7/'Reduced Mass'!$O$8 -> 3.3017284 | AC7: =Forces!BC7/'Reduced Mass'!$O$9 -> 2.9654685
A8: 7 | B8: Gravity (g) | C8: 9.81 | D8: m/s² | F8: Drag Force (Fd) | G8: =0.5*'Gearing Calculator'!$C$15*Acceleration!$C$6*Acceleration!G5*(Acceleration!$B$18^2) -> 345.35014 | H8: =0.5*'Gearing Calculator'!$C$15*Acceleration!$C$6*Acceleration!H5*(Acceleration!$B$18^2) -> 434.32682 | I8: N | K8: 5600 | L8: 34 | M8: 25.3538 | N8: 25353.8 | O8: 31.887143 | Q8: =Forces!AJ8/'Reduced Mass'!$O$4 -> 5.1536498 | R8: =Forces!AK8/'Reduced Mass'!$O$5 -> 4.6200712 | S8: =Forces!AL8/'Reduced Mass'!$O$6 -> 4.1315134 | T8: =Forces!AM8/'Reduced Mass'!$O$7 -> 3.7169331 | U8: =Forces!AN8/'Reduced Mass'!$O$8 -> 3.3717205 | V8: =Forces!AO8/'Reduced Mass'!$O$9 -> 3.0400603 | X8: =Forces!AX8/'Reduced Mass'!$O$4 -> 5.1473252 | Y8: =Forces!AY8/'Reduced Mass'!$O$5 -> 4.6077852 | Z8: =Forces!AZ8/'Reduced Mass'!$O$6 -> 4.1123845 | AA8: =Forces!BA8/'Reduced Mass'!$O$7 -> 3.6902391 | AB8: =Forces!BB8/'Reduced Mass'!$O$8 -> 3.3369796 | AC8: =Forces!BC8/'Reduced Mass'!$O$9 -> 2.9955798
A9: 8 | B9: Mass*Gravity (mg) | C9: =266.2*C8 -> 2611.422 | F9: Net Driving Force (Sn) | G9: =($C$4*$G$15)+G8 -> 239.8102 | H9: =($C$4*$G$15)+H8 -> 328.78688 | I9: N | K9: 5700 | L9: 35 | M9: 26.0995 | N9: 26099.5 | O9: 32.249123 | Q9: =Forces!AJ9/'Reduced Mass'!$O$4 -> 5.2115477 | R9: =Forces!AK9/'Reduced Mass'!$O$5 -> 4.6713409 | S9: =Forces!AL9/'Reduced Mass'!$O$6 -> 4.1765815 | T9: =Forces!AM9/'Reduced Mass'!$O$7 -> 3.7565702 | U9: =Forces!AN9/'Reduced Mass'!$O$8 -> 3.4066679 | V9: =Forces!AO9/'Reduced Mass'!$O$9 -> 3.0703097 | X9: =Forces!AX9/'Reduced Mass'!$O$4 -> 5.2049952 | Y9: =Forces!AY9/'Reduced Mass'!$O$5 -> 4.6586122 | Z9: =Forces!AZ9/'Reduced Mass'!$O$6 -> 4.1567633 | AA9: =Forces!BA9/'Reduced Mass'!$O$7 -> 3.7289143 | AB9: =Forces!BB9/'Reduced Mass'!$O$8 -> 3.3706752 | AC9: =Forces!BC9/'Reduced Mass'!$O$9 -> 3.0242264
A10: 9 | B10: Tyre Pressure | C10: 30 | D10: PSI | F10: Dynamic Rear Load (Nr) | G10: =($C$4*$C$8)*(($C$7-G3)/$C$7)+((G9)*(G4/C7)) -> 1340.9726 | H10: =($C$4*$C$8)*(($C$7-H3)/$C$7)+((H9)*(H4/C7)) -> 1415.8599 | I10: N | K10: 5800 | L10: 36 | M10: 26.8452 | N10: 26845.2 | O10: 32.598621 | Q10: =Forces!AJ10/'Reduced Mass'!$O$4 -> 5.2674029 | R10: =Forces!AK10/'Reduced Mass'!$O$5 -> 4.720753 | S10: =Forces!AL10/'Reduced Mass'!$O$6 -> 4.2199559 | T10: =Forces!AM10/'Reduced Mass'!$O$7 -> 3.7946457 | U10: =Forces!AN10/'Reduced Mass'!$O$8 -> 3.4401567 | V10: =Forces!AO10/'Reduced Mass'!$O$9 -> 3.0991914 | X10: =Forces!AX10/'Reduced Mass'!$O$4 -> 5.2606185 | Y10: =Forces!AY10/'Reduced Mass'!$O$5 -> 4.7075737 | Z10: =Forces!AZ10/'Reduced Mass'!$O$6 -> 4.1994362 | AA10: =Forces!BA10/'Reduced Mass'!$O$7 -> 3.7660109 | AB10: =Forces!BB10/'Reduced Mass'!$O$8 -> 3.40289 | AC10: =Forces!BC10/'Reduced Mass'!$O$9 -> 3.0514769
A11: 10 | C11: =C10*0.0689476 -> 2.068428 | D11: Bar | F11: Dynamic Front Load (Nf) | G11: =($C$4*$C$8)*(G3/$C$7)-((G9)*(G4/$C$7)) -> 1270.4494 | H11: =($C$4*$C$8)*(H3/$C$7)-((H9)*(H4/$C$7)) -> 1195.5621 | I11: N | K11: 5900 | L11: 37 | M11: 27.5909 | N11: 27590.9 | O11: 32.936271 | Q11: =Forces!AJ11/'Reduced Mass'!$O$4 -> 5.3213186 | R11: =Forces!AK11/'Reduced Mass'!$O$5 -> 4.7684004 | S11: =Forces!AL11/'Reduced Mass'!$O$6 -> 4.2617203 | T11: =Forces!AM11/'Reduced Mass'!$O$7 -> 3.8312356 | U11: =Forces!AN11/'Reduced Mass'!$O$8 -> 3.4722566 | V11: =Forces!AO11/'Reduced Mass'!$O$9 -> 3.1267693 | X11: =Forces!AX11/'Reduced Mass'!$O$4 -> 5.3142983 | Y11: =Forces!AY11/'Reduced Mass'!$O$5 -> 4.7547628 | Z11: =Forces!AZ11/'Reduced Mass'!$O$6 -> 4.240487 | AA11: =Forces!BA11/'Reduced Mass'!$O$7 -> 3.8016048 | AB11: =Forces!BB11/'Reduced Mass'!$O$8 -> 3.4336938 | AC11: =Forces!BC11/'Reduced Mass'!$O$9 -> 3.0773954
A12: 11 | F12: Max Available Acceleration | G12: =(($C$14/$B$18)-(0.5*'Gearing Calculator'!$C$15*Acceleration!$C$6*Acceleration!G5*Acceleration!$B$18^2))/Acceleration!$C$5 -> -0.3964686 | H12: =(($C$14/$B$18)-(0.5*'Gearing Calculator'!$C$15*Acceleration!$C$6*Acceleration!H5*Acceleration!$B$18^2))/Acceleration!$C$5 -> -0.68168955 | I12: m/s² | K12: 6000 | L12: 38 | M12: 28.3366 | N12: 28336.6 | O12: 33.262667 | Q12: =Forces!AJ12/'Reduced Mass'!$O$4 -> 5.3733909 | R12: =Forces!AK12/'Reduced Mass'!$O$5 -> 4.8143698 | S12: =Forces!AL12/'Reduced Mass'!$O$6 -> 4.3019529 | T12: =Forces!AM12/'Reduced Mass'!$O$7 -> 3.8664109 | U12: =Forces!AN12/'Reduced Mass'!$O$8 -> 3.5030329 | V12: =Forces!AO12/'Reduced Mass'!$O$9 -> 3.1531032 | X12: =Forces!AX12/'Reduced Mass'!$O$4 -> 5.3661306 | Y12: =Forces!AY12/'Reduced Mass'!$O$5 -> 4.800266 | Z12: =Forces!AZ12/'Reduced Mass'!$O$6 -> 4.2799937 | AA12: =Forces!BA12/'Reduced Mass'!$O$7 -> 3.8357672 | AB12: =Forces!BB12/'Reduced Mass'!$O$8 -> 3.4631518 | AC12: =Forces!BC12/'Reduced Mass'!$O$9 -> 3.1020414
A13: 12 | B13: Gear Ratio | C13: 6th | D13: =VLOOKUP(C13,A42:B47,2,FALSE) -> 1.15 | F13: Traction Limited Max Acceleration | G13: =((($G$6*$C$8)*(($C$7-G3)/$C$7))/(1-$G$6*(G4/$C$7)))-(G8/$C$4) -> 36.091573 | H13: =((($G$6*$C$8)*(($C$7-H3)/$C$7))/(1-$G$6*(H4/$C$7)))-(H8/$C$4) -> 32.176644 | I13: m/s² | K13: 6100 | L13: 38.5 | M13: 28.70945 | N13: 28709.45 | O13: 33.147869 | Q13: =Forces!AJ13/'Reduced Mass'!$O$4 -> 5.3538016 | R13: =Forces!AK13/'Reduced Mass'!$O$5 -> 4.7957254 | S13: =Forces!AL13/'Reduced Mass'!$O$6 -> 4.2839469 | T13: =Forces!AM13/'Reduced Mass'!$O$7 -> 3.8486588 | U13: =Forces!AN13/'Reduced Mass'!$O$8 -> 3.4852061 | V13: =Forces!AO13/'Reduced Mass'!$O$9 -> 3.1348757 | X13: =Forces!AX13/'Reduced Mass'!$O$4 -> 5.3462972 | Y13: =Forces!AY13/'Reduced Mass'!$O$5 -> 4.7811475 | Z13: =Forces!AZ13/'Reduced Mass'!$O$6 -> 4.2612496 | AA13: =Forces!BA13/'Reduced Mass'!$O$7 -> 3.8169851 | AB13: =Forces!BB13/'Reduced Mass'!$O$8 -> 3.4439845 | AC13: =Forces!BC13/'Reduced Mass'!$O$9 -> 3.0820976
A14: 13 | B14: Power (W) @ RPM | C14: 14200 | D14: =VLOOKUP(C14,'Dyno Data'!B3:E109,3,FALSE) -> 83.5184 | F14: Wheelie Limited Max Acceleration | G14: =(($C$8)*(G3/G4)-(G8/$C$4)) -> 8.3593829 | H14: =(($C$8)*(H3/H4)-(H8/$C$4)) -> 8.0990393 | I14: m/s² | K14: 6200 | L14: 39 | M14: 29.0823 | N14: 29082.3 | O14: 33.036774 | Q14: =Forces!AJ14/'Reduced Mass'!$O$4 -> 5.3347979 | R14: =Forces!AK14/'Reduced Mass'!$O$5 -> 4.7775926 | S14: =Forces!AL14/'Reduced Mass'!$O$6 -> 4.266382 | T14: =Forces!AM14/'Reduced Mass'!$O$7 -> 3.8312843 | U14: =Forces!AN14/'Reduced Mass'!$O$8 -> 3.4677005 | V14: =Forces!AO14/'Reduced Mass'!$O$9 -> 3.1169112 | X14: =Forces!AX14/'Reduced Mass'!$O$4 -> 5.3270455 | Y14: =Forces!AY14/'Reduced Mass'!$O$5 -> 4.7625328 | Z14: =Forces!AZ14/'Reduced Mass'!$O$6 -> 4.2429344 | AA14: =Forces!BA14/'Reduced Mass'!$O$7 -> 3.7985636 | AB14: =Forces!BB14/'Reduced Mass'!$O$8 -> 3.4251163 | AC14: =Forces!BC14/'Reduced Mass'!$O$9 -> 3.0623885
A15: 14 | F15: Actual Max Acceleration | G15: =MIN(G12:G14) -> -0.3964686 | H15: =MIN(H12:H14) -> -0.68168955 | I15: m/s² | K15: 6300 | L15: 39.5 | M15: 29.45515 | N15: 29455.15 | O15: 32.929206 | Q15: =Forces!AJ15/'Reduced Mass'!$O$4 -> 5.3163514 | R15: =Forces!AK15/'Reduced Mass'!$O$5 -> 4.7599456 | S15: =Forces!AL15/'Reduced Mass'!$O$6 -> 4.2492349 | T15: =Forces!AM15/'Reduced Mass'!$O$7 -> 3.8142663 | U15: =Forces!AN15/'Reduced Mass'!$O$8 -> 3.4504967 | V15: =Forces!AO15/'Reduced Mass'!$O$9 -> 3.0991919 | X15: =Forces!AX15/'Reduced Mass'!$O$4 -> 5.3083469 | Y15: =Forces!AY15/'Reduced Mass'!$O$5 -> 4.7443961 | Z15: =Forces!AZ15/'Reduced Mass'!$O$6 -> 4.2250249 | AA15: =Forces!BA15/'Reduced Mass'!$O$7 -> 3.7804816 | AB15: =Forces!BB15/'Reduced Mass'!$O$8 -> 3.4065278 | AC15: =Forces!BC15/'Reduced Mass'!$O$9 -> 3.0428963
A16: 15 | B16: Speed | K16: 6400 | L16: 40 | M16: 29.828 | N16: 29828 | O16: 32.825 | Q16: =Forces!AJ16/'Reduced Mass'!$O$4 -> 5.298435 | R16: =Forces!AK16/'Reduced Mass'!$O$5 -> 4.7427603 | S16: =Forces!AL16/'Reduced Mass'!$O$6 -> 4.2324838 | T16: =Forces!AM16/'Reduced Mass'!$O$7 -> 3.7975849 | U16: =Forces!AN16/'Reduced Mass'!$O$8 -> 3.4335766 | V16: =Forces!AO16/'Reduced Mass'!$O$9 -> 3.0817012 | X16: =Forces!AX16/'Reduced Mass'!$O$4 -> 5.2901744 | Y16: =Forces!AY16/'Reduced Mass'!$O$5 -> 4.7267133 | Z16: =Forces!AZ16/'Reduced Mass'!$O$6 -> 4.2074991 | AA16: =Forces!BA16/'Reduced Mass'!$O$7 -> 3.7627192 | AB16: =Forces!BB16/'Reduced Mass'!$O$8 -> 3.3882008 | AC16: =Forces!BC16/'Reduced Mass'!$O$9 -> 3.0236042
A17: 16 | B17: Value | C17: Unit | K17: 6500 | L17: 40 | M17: 29.828 | N17: 29828 | O17: 32.32 | Q17: =Forces!AJ17/'Reduced Mass'!$O$4 -> 5.2154176 | R17: =Forces!AK17/'Reduced Mass'!$O$5 -> 4.666875 | S17: =Forces!AL17/'Reduced Mass'!$O$6 -> 4.1628226 | T17: =Forces!AM17/'Reduced Mass'!$O$7 -> 3.7328166 | U17: =Forces!AN17/'Reduced Mass'!$O$8 -> 3.3724961 | V17: =Forces!AO17/'Reduced Mass'!$O$9 -> 3.0237195 | X17: =Forces!AX17/'Reduced Mass'!$O$4 -> 5.2068968 | Y17: =Forces!AY17/'Reduced Mass'!$O$5 -> 4.6503226 | Z17: =Forces!AZ17/'Reduced Mass'!$O$6 -> 4.137051 | AA17: =Forces!BA17/'Reduced Mass'!$O$7 -> 3.6968528 | AB17: =Forces!BB17/'Reduced Mass'!$O$8 -> 3.3256912 | AC17: =Forces!BC17/'Reduced Mass'!$O$9 -> 2.9637928
A18: 17 | B18: =VLOOKUP(C14,'Gearing Calculator'!AA6:AL112,F27, FALSE) -> 64.05948 | C18: m/s | K18: 6600 | L18: 40.5 | M18: 30.20085 | N18: 30200.85 | O18: 32.228182 | Q18: =Forces!AJ18/'Reduced Mass'!$O$4 -> 5.1994817 | R18: =Forces!AK18/'Reduced Mass'!$O$5 -> 4.6514423 | S18: =Forces!AL18/'Reduced Mass'!$O$6 -> 4.1476108 | T18: =Forces!AM18/'Reduced Mass'!$O$7 -> 3.7174874 | U18: =Forces!AN18/'Reduced Mass'!$O$8 -> 3.3567663 | V18: =Forces!AO18/'Reduced Mass'!$O$9 -> 3.0072567 | X18: =Forces!AX18/'Reduced Mass'!$O$4 -> 5.1906967 | Y18: =Forces!AY18/'Reduced Mass'!$O$5 -> 4.6343767 | Z18: =Forces!AZ18/'Reduced Mass'!$O$6 -> 4.1210401 | AA18: =Forces!BA18/'Reduced Mass'!$O$7 -> 3.6804085 | AB18: =Forces!BB18/'Reduced Mass'!$O$8 -> 3.3085102 | AC18: =Forces!BC18/'Reduced Mass'!$O$9 -> 2.9454719
A19: 18 | B19: =B18*3.6 -> 230.61413 | C19: kph | K19: 6700 | L19: 41 | M19: 30.5737 | N19: 30573.7 | O19: 32.139104 | Q19: =Forces!AJ19/'Reduced Mass'!$O$4 -> 5.1839752 | R19: =Forces!AK19/'Reduced Mass'!$O$5 -> 4.6363804 | S19: =Forces!AL19/'Reduced Mass'!$O$6 -> 4.1327131 | T19: =Forces!AM19/'Reduced Mass'!$O$7 -> 3.7024205 | U19: =Forces!AN19/'Reduced Mass'!$O$8 -> 3.3412519 | V19: =Forces!AO19/'Reduced Mass'!$O$9 -> 2.99096 | X19: =Forces!AX19/'Reduced Mass'!$O$4 -> 5.174922 | Y19: =Forces!AY19/'Reduced Mass'!$O$5 -> 4.6187937 | Z19: =Forces!AZ19/'Reduced Mass'!$O$6 -> 4.1053311 | AA19: =Forces!BA19/'Reduced Mass'!$O$7 -> 3.6642095 | AB19: =Forces!BB19/'Reduced Mass'!$O$8 -> 3.2915224 | AC19: =Forces!BC19/'Reduced Mass'!$O$9 -> 2.9272887
A20: 19 | B20: =B18*2.237 -> 143.30106 | C20: mph | F20: 1st | G20: 7 | K20: 6800 | L20: 42 | M20: 31.3194 | N20: 31319.4 | O20: 32.438824 | Q20: =Forces!AJ20/'Reduced Mass'!$O$4 -> 5.2315903 | R20: =Forces!AK20/'Reduced Mass'!$O$5 -> 4.6782016 | S20: =Forces!AL20/'Reduced Mass'!$O$6 -> 4.1690484 | T20: =Forces!AM20/'Reduced Mass'!$O$7 -> 3.733871 | U20: =Forces!AN20/'Reduced Mass'!$O$8 -> 3.3684067 | V20: =Forces!AO20/'Reduced Mass'!$O$9 -> 3.0137253 | X20: =Forces!AX20/'Reduced Mass'!$O$4 -> 5.2222648 | Y20: =Forces!AY20/'Reduced Mass'!$O$5 -> 4.660086 | Z20: =Forces!AZ20/'Reduced Mass'!$O$6 -> 4.140843 | AA20: =Forces!BA20/'Reduced Mass'!$O$7 -> 3.6945109 | AB20: =Forces!BB20/'Reduced Mass'!$O$8 -> 3.3171816 | AC20: =Forces!BC20/'Reduced Mass'!$O$9 -> 2.9481392
A21: 20 | F21: 2nd | G21: 8 | K21: 6900 | L21: 43 | M21: 32.0651 | N21: 32065.1 | O21: 32.729855 | Q21: =Forces!AJ21/'Reduced Mass'!$O$4 -> 5.2777789 | R21: =Forces!AK21/'Reduced Mass'!$O$5 -> 4.7187206 | S21: =Forces!AL21/'Reduced Mass'!$O$6 -> 4.2041905 | T21: =Forces!AM21/'Reduced Mass'!$O$7 -> 3.7642145 | U21: =Forces!AN21/'Reduced Mass'!$O$8 -> 3.3945201 | V21: =Forces!AO21/'Reduced Mass'!$O$9 -> 3.0355052 | X21: =Forces!AX21/'Reduced Mass'!$O$4 -> 5.2681771 | Y21: =Forces!AY21/'Reduced Mass'!$O$5 -> 4.7000683 | Z21: =Forces!AZ21/'Reduced Mass'!$O$6 -> 4.1751494 | AA21: =Forces!BA21/'Reduced Mass'!$O$7 -> 3.7236882 | AB21: =Forces!BB21/'Reduced Mass'!$O$8 -> 3.3417774 | AC21: =Forces!BC21/'Reduced Mass'!$O$9 -> 2.967976
A22: 21 | F22: 3rd | G22: 9 | K22: 7000 | L22: 44 | M22: 32.8108 | N22: 32810.8 | O22: 33.012571 | Q22: =Forces!AJ22/'Reduced Mass'!$O$4 -> 5.3226015 | R22: =Forces!AK22/'Reduced Mass'!$O$5 -> 4.757992 | S22: =Forces!AL22/'Reduced Mass'!$O$6 -> 4.2381885 | T22: =Forces!AM22/'Reduced Mass'!$O$7 -> 3.7934956 | U22: =Forces!AN22/'Reduced Mass'!$O$8 -> 3.4196331 | V22: =Forces!AO22/'Reduced Mass'!$O$9 -> 3.0563372 | X22: =Forces!AX22/'Reduced Mass'!$O$4 -> 5.3127194 | Y22: =Forces!AY22/'Reduced Mass'!$O$5 -> 4.7387951 | Z22: =Forces!AZ22/'Reduced Mass'!$O$6 -> 4.2082996 | AA22: =Forces!BA22/'Reduced Mass'!$O$7 -> 3.7517862 | AB22: =Forces!BB22/'Reduced Mass'!$O$8 -> 3.3653505 | AC22: =Forces!BC22/'Reduced Mass'!$O$9 -> 2.9868365
A23: 22 | F23: 4th | G23: 10 | K23: 7100 | L23: 44.5 | M23: 33.18365 | N23: 33183.65 | O23: 32.917465 | Q23: =Forces!AJ23/'Reduced Mass'!$O$4 -> 5.3060533 | R23: =Forces!AK23/'Reduced Mass'!$O$5 -> 4.7419259 | S23: =Forces!AL23/'Reduced Mass'!$O$6 -> 4.2223062 | T23: =Forces!AM23/'Reduced Mass'!$O$7 -> 3.777442 | U23: =Forces!AN23/'Reduced Mass'!$O$8 -> 3.4031117 | V23: =Forces!AO23/'Reduced Mass'!$O$9 -> 3.0389926 | X23: =Forces!AX23/'Reduced Mass'!$O$4 -> 5.2958868 | Y23: =Forces!AY23/'Reduced Mass'!$O$5 -> 4.7221766 | Z23: =Forces!AZ23/'Reduced Mass'!$O$6 -> 4.1915572 | AA23: =Forces!BA23/'Reduced Mass'!$O$7 -> 3.7345323 | AB23: =Forces!BB23/'Reduced Mass'!$O$8 -> 3.3472671 | AC23: =Forces!BC23/'Reduced Mass'!$O$9 -> 2.9674919
A24: 23 | F24: 5th | G24: 11 | K24: 7200 | L24: 45 | M24: 33.5565 | N24: 33556.5 | O24: 32.825 | Q24: =Forces!AJ24/'Reduced Mass'!$O$4 -> 5.2899185 | R24: =Forces!AK24/'Reduced Mass'!$O$5 -> 4.7262161 | S24: =Forces!AL24/'Reduced Mass'!$O$6 -> 4.2067249 | T24: =Forces!AM24/'Reduced Mass'!$O$7 -> 3.7616389 | U24: =Forces!AN24/'Reduced Mass'!$O$8 -> 3.3867948 | V24: =Forces!AO24/'Reduced Mass'!$O$9 -> 3.0218041 | X24: =Forces!AX24/'Reduced Mass'!$O$4 -> 5.2794636 | Y24: =Forces!AY24/'Reduced Mass'!$O$5 -> 4.7059066 | Z24: =Forces!AZ24/'Reduced Mass'!$O$6 -> 4.1751037 | AA24: =Forces!BA24/'Reduced Mass'!$O$7 -> 3.717512 | AB24: =Forces!BB24/'Reduced Mass'!$O$8 -> 3.3293661 | AC24: =Forces!BC24/'Reduced Mass'!$O$9 -> 2.9482751
A25: 24 | F25: 6th | G25: 12 | K25: 7300 | L25: 46 | M25: 34.3022 | N25: 34302.2 | O25: 33.094795 | Q25: =Forces!AJ25/'Reduced Mass'!$O$4 -> 5.3325957 | R25: =Forces!AK25/'Reduced Mass'!$O$5 -> 4.7635047 | S25: =Forces!AL25/'Reduced Mass'!$O$6 -> 4.2388766 | T25: =Forces!AM25/'Reduced Mass'!$O$7 -> 3.7891736 | U25: =Forces!AN25/'Reduced Mass'!$O$8 -> 3.4102289 | V25: =Forces!AO25/'Reduced Mass'!$O$9 -> 3.0410039 | X25: =Forces!AX25/'Reduced Mass'!$O$4 -> 5.3218484 | Y25: =Forces!AY25/'Reduced Mass'!$O$5 -> 4.7426271 | Z25: =Forces!AZ25/'Reduced Mass'!$O$6 -> 4.2063709 | AA25: =Forces!BA25/'Reduced Mass'!$O$7 -> 3.7438124 | AB25: =Forces!BB25/'Reduced Mass'!$O$8 -> 3.3511938 | AC25: =Forces!BC25/'Reduced Mass'!$O$9 -> 2.9654182
A26: 25 | K26: 7400 | L26: 47 | M26: 35.0479 | N26: 35047.9 | O26: 33.357297 | Q26: =Forces!AJ26/'Reduced Mass'!$O$4 -> 5.3740733 | R26: =Forces!AK26/'Reduced Mass'!$O$5 -> 4.7996955 | S26: =Forces!AL26/'Reduced Mass'!$O$6 -> 4.2700192 | T26: =Forces!AM26/'Reduced Mass'!$O$7 -> 3.8157685 | U26: =Forces!AN26/'Reduced Mass'!$O$8 -> 3.432775 | V26: =Forces!AO26/'Reduced Mass'!$O$9 -> 3.0593589 | X26: =Forces!AX26/'Reduced Mass'!$O$4 -> 5.3630295 | Y26: =Forces!AY26/'Reduced Mass'!$O$5 -> 4.7782421 | Z26: =Forces!AZ26/'Reduced Mass'!$O$6 -> 4.2366167 | AA26: =Forces!BA26/'Reduced Mass'!$O$7 -> 3.7691561 | AB26: =Forces!BB26/'Reduced Mass'!$O$8 -> 3.3721115 | AC26: =Forces!BC26/'Reduced Mass'!$O$9 -> 2.9816883
A27: 26 | F27: =VLOOKUP(C13,F20:G25,2,FALSE) -> 12 | K27: 7500 | L27: 48 | M27: 35.7936 | N27: 35793.6 | O27: 33.6128 | Q27: =Forces!AJ27/'Reduced Mass'!$O$4 -> 5.4143984 | R27: =Forces!AK27/'Reduced Mass'!$O$5 -> 4.8348313 | S27: =Forces!AL27/'Reduced Mass'!$O$6 -> 4.3001911 | T27: =Forces!AM27/'Reduced Mass'!$O$7 -> 3.8414587 | U27: =Forces!AN27/'Reduced Mass'!$O$8 -> 3.4544654 | V27: =Forces!AO27/'Reduced Mass'!$O$9 -> 3.0768986 | X27: =Forces!AX27/'Reduced Mass'!$O$4 -> 5.4030541 | Y27: =Forces!AY27/'Reduced Mass'!$O$5 -> 4.812794 | Z27: =Forces!AZ27/'Reduced Mass'!$O$6 -> 4.2658798 | AA27: =Forces!BA27/'Reduced Mass'!$O$7 -> 3.7935779 | AB27: =Forces!BB27/'Reduced Mass'!$O$8 -> 3.3921513 | AC27: =Forces!BC27/'Reduced Mass'!$O$9 -> 2.9971146
A28: 27 | K28: 7600 | L28: 49 | M28: 36.5393 | N28: 36539.3 | O28: 33.861579 | Q28: =Forces!AJ28/'Reduced Mass'!$O$4 -> 5.4536159 | R28: =Forces!AK28/'Reduced Mass'!$O$5 -> 4.8689523 | S28: =Forces!AL28/'Reduced Mass'!$O$6 -> 4.3294288 | T28: =Forces!AM28/'Reduced Mass'!$O$7 -> 3.8662772 | U28: =Forces!AN28/'Reduced Mass'!$O$8 -> 3.4753304 | V28: =Forces!AO28/'Reduced Mass'!$O$9 -> 3.0936508 | X28: =Forces!AX28/'Reduced Mass'!$O$4 -> 5.4419671 | Y28: =Forces!AY28/'Reduced Mass'!$O$5 -> 4.8463235 | Z28: =Forces!AZ28/'Reduced Mass'!$O$6 -> 4.2941965 | AA28: =Forces!BA28/'Reduced Mass'!$O$7 -> 3.8171111 | AB28: =Forces!BB28/'Reduced Mass'!$O$8 -> 3.4113435 | AC28: =Forces!BC28/'Reduced Mass'!$O$9 -> 3.0117249
A29: 28 | K29: 7700 | L29: 49.5 | M29: 36.91215 | N29: 36912.15 | O29: 33.762857 | Q29: =Forces!AJ29/'Reduced Mass'!$O$4 -> 5.4363867 | R29: =Forces!AK29/'Reduced Mass'!$O$5 -> 4.8521745 | S29: =Forces!AL29/'Reduced Mass'!$O$6 -> 4.3127856 | T29: =Forces!AM29/'Reduced Mass'!$O$7 -> 3.849394 | U29: =Forces!AN29/'Reduced Mass'!$O$8 -> 3.4578955 | V29: =Forces!AO29/'Reduced Mass'!$O$9 -> 3.0752813 | X29: =Forces!AX29/'Reduced Mass'!$O$4 -> 5.4244294 | Y29: =Forces!AY29/'Reduced Mass'!$O$5 -> 4.8289463 | Z29: =Forces!AZ29/'Reduced Mass'!$O$6 -> 4.2766199 | AA29: =Forces!BA29/'Reduced Mass'!$O$7 -> 3.7989255 | AB29: =Forces!BB29/'Reduced Mass'!$O$8 -> 3.3922136 | AC29: =Forces!BC29/'Reduced Mass'!$O$9 -> 2.9911853
A30: 29 | K30: 7800 | L30: 50 | M30: 37.285 | N30: 37285 | O30: 33.666667 | Q30: =Forces!AJ30/'Reduced Mass'!$O$4 -> 5.4195529 | R30: =Forces!AK30/'Reduced Mass'!$O$5 -> 4.8357369 | S30: =Forces!AL30/'Reduced Mass'!$O$6 -> 4.2964288 | T30: =Forces!AM30/'Reduced Mass'!$O$7 -> 3.832748 | U30: =Forces!AN30/'Reduced Mass'!$O$8 -> 3.440653 | V30: =Forces!AO30/'Reduced Mass'!$O$9 -> 3.0570567 | X30: =Forces!AX30/'Reduced Mass'!$O$4 -> 5.407283 | Y30: =Forces!AY30/'Reduced Mass'!$O$5 -> 4.8119014 | Z30: =Forces!AZ30/'Reduced Mass'!$O$6 -> 4.2593177 | AA30: =Forces!BA30/'Reduced Mass'!$O$7 -> 3.7809601 | AB30: =Forces!BB30/'Reduced Mass'!$O$8 -> 3.373254 | AC30: =Forces!BC30/'Reduced Mass'!$O$9 -> 2.9707623
A31: 30 | K31: 7900 | L31: 51 | M31: 38.0307 | N31: 38030.7 | O31: 33.905316 | Q31: =Forces!AJ31/'Reduced Mass'!$O$4 -> 5.4570786 | R31: =Forces!AK31/'Reduced Mass'!$O$5 -> 4.8682839 | S31: =Forces!AL31/'Reduced Mass'!$O$6 -> 4.3241885 | T31: =Forces!AM31/'Reduced Mass'!$O$7 -> 3.8561546 | U31: =Forces!AN31/'Reduced Mass'!$O$8 -> 3.4601461 | V31: =Forces!AO31/'Reduced Mass'!$O$9 -> 3.072458 | X31: =Forces!AX31/'Reduced Mass'!$O$4 -> 5.444492 | Y31: =Forces!AY31/'Reduced Mass'!$O$5 -> 4.8438334 | Z31: =Forces!AZ31/'Reduced Mass'!$O$6 -> 4.2861198 | AA31: =Forces!BA31/'Reduced Mass'!$O$7 -> 3.8030304 | AB31: =Forces!BB31/'Reduced Mass'!$O$8 -> 3.3910078 | AC31: =Forces!BC31/'Reduced Mass'!$O$9 -> 2.9839367
A32: 31 | K32: 8000 | L32: 52 | M32: 38.7764 | N32: 38776.4 | O32: 34.138 | Q32: =Forces!AJ32/'Reduced Mass'!$O$4 -> 5.4936198 | R32: =Forces!AK32/'Reduced Mass'!$O$5 -> 4.8999272 | S32: =Forces!AL32/'Reduced Mass'!$O$6 -> 4.351114 | T32: =Forces!AM32/'Reduced Mass'!$O$7 -> 3.8787803 | U32: =Forces!AN32/'Reduced Mass'!$O$8 -> 3.4788972 | V32: =Forces!AO32/'Reduced Mass'!$O$9 -> 3.0871481 | X32: =Forces!AX32/'Reduced Mass'!$O$4 -> 5.4807126 | Y32: =Forces!AY32/'Reduced Mass'!$O$5 -> 4.8748538 | Z32: =Forces!AZ32/'Reduced Mass'!$O$6 -> 4.3120753 | AA32: =Forces!BA32/'Reduced Mass'!$O$7 -> 3.8243027 | AB32: =Forces!BB32/'Reduced Mass'!$O$8 -> 3.4079975 | AC32: =Forces!BC32/'Reduced Mass'!$O$9 -> 2.9963716
A33: 32 | K33: 8100 | L33: 52.5 | M33: 39.14925 | N33: 39149.25 | O33: 34.040741 | Q33: =Forces!AJ33/'Reduced Mass'!$O$4 -> 5.4765655 | R33: =Forces!AK33/'Reduced Mass'!$O$5 -> 4.8832419 | S33: =Forces!AL33/'Reduced Mass'!$O$6 -> 4.3344742 | T33: =Forces!AM33/'Reduced Mass'!$O$7 -> 3.8618081 | U33: =Forces!AN33/'Reduced Mass'!$O$8 -> 3.4612791 | V33: =Forces!AO33/'Reduced Mass'!$O$9 -> 3.0684855 | X33: =Forces!AX33/'Reduced Mass'!$O$4 -> 5.4633335 | Y33: =Forces!AY33/'Reduced Mass'!$O$5 -> 4.8575377 | Z33: =Forces!AZ33/'Reduced Mass'!$O$6 -> 4.2944535 | AA33: =Forces!BA33/'Reduced Mass'!$O$7 -> 3.8059599 | AB33: =Forces!BB33/'Reduced Mass'!$O$8 -> 3.3885958 | AC33: =Forces!BC33/'Reduced Mass'!$O$9 -> 2.9754254
A34: 33 | K34: 8200 | L34: 53 | M34: 39.5221 | N34: 39522.1 | O34: 33.945854 | Q34: =Forces!AJ34/'Reduced Mass'!$O$4 -> 5.4598807 | R34: =Forces!AK34/'Reduced Mass'!$O$5 -> 4.8668734 | S34: =Forces!AL34/'Reduced Mass'!$O$6 -> 4.3180999 | T34: =Forces!AM34/'Reduced Mass'!$O$7 -> 3.8450539 | U34: =Forces!AN34/'Reduced Mass'!$O$8 -> 3.4438359 | V34: =Forces!AO34/'Reduced Mass'!$O$9 -> 3.0499519 | X34: =Forces!AX34/'Reduced Mass'!$O$4 -> 5.44632 | Y34: =Forces!AY34/'Reduced Mass'!$O$5 -> 4.8405306 | Z34: =Forces!AZ34/'Reduced Mass'!$O$6 -> 4.277085 | AA34: =Forces!BA34/'Reduced Mass'!$O$7 -> 3.7878183 | AB34: =Forces!BB34/'Reduced Mass'!$O$8 -> 3.3693469 | AC34: =Forces!BC34/'Reduced Mass'!$O$9 -> 2.9545798
A35: 34 | K35: 8300 | L35: 54 | M35: 40.2678 | N35: 40267.8 | O35: 34.169639 | Q35: =Forces!AJ35/'Reduced Mass'!$O$4 -> 5.4949299 | R35: =Forces!AK35/'Reduced Mass'!$O$5 -> 4.8971228 | S35: =Forces!AL35/'Reduced Mass'!$O$6 -> 4.3437096 | T35: =Forces!AM35/'Reduced Mass'!$O$7 -> 3.8664152 | U35: =Forces!AN35/'Reduced Mass'!$O$8 -> 3.4613504 | V35: =Forces!AO35/'Reduced Mass'!$O$9 -> 3.0634151 | X35: =Forces!AX35/'Reduced Mass'!$O$4 -> 5.4810364 | Y35: =Forces!AY35/'Reduced Mass'!$O$5 -> 4.8701336 | Z35: =Forces!AZ35/'Reduced Mass'!$O$6 -> 4.3016882 | AA35: =Forces!BA35/'Reduced Mass'!$O$7 -> 3.8077751 | AB35: =Forces!BB35/'Reduced Mass'!$O$8 -> 3.3850335 | AC35: =Forces!BC35/'Reduced Mass'!$O$9 -> 2.9657026
A36: 35 | K36: 8400 | L36: 55 | M36: 41.0135 | N36: 41013.5 | O36: 34.388095 | Q36: =Forces!AJ36/'Reduced Mass'!$O$4 -> 5.5290981 | R36: =Forces!AK36/'Reduced Mass'!$O$5 -> 4.9265619 | S36: =Forces!AL36/'Reduced Mass'!$O$6 -> 4.3685692 | T36: =Forces!AM36/'Reduced Mass'!$O$7 -> 3.887072 | U36: =Forces!AN36/'Reduced Mass'!$O$8 -> 3.478193 | V36: =Forces!AO36/'Reduced Mass'!$O$9 -> 3.0762313 | X36: =Forces!AX36/'Reduced Mass'!$O$4 -> 5.5148679 | Y36: =Forces!AY36/'Reduced Mass'!$O$5 -> 4.8989184 | Z36: =Forces!AZ36/'Reduced Mass'!$O$6 -> 4.3255292 | AA36: =Forces!BA36/'Reduced Mass'!$O$7 -> 3.8270104 | AB36: =Forces!BB36/'Reduced Mass'!$O$8 -> 3.400026 | AC36: =Forces!BC36/'Reduced Mass'!$O$9 -> 2.9761502
A37: 36 | K37: 8500 | L37: 56 | M37: 41.7592 | N37: 41759.2 | O37: 34.601412 | Q37: =Forces!AJ37/'Reduced Mass'!$O$4 -> 5.562416 | R37: =Forces!AK37/'Reduced Mass'!$O$5 -> 4.9552181 | S37: =Forces!AL37/'Reduced Mass'!$O$6 -> 4.3927035 | T37: =Forces!AM37/'Reduced Mass'!$O$7 -> 3.9070469 | U37: =Forces!AN37/'Reduced Mass'!$O$8 -> 3.4943843 | V37: =Forces!AO37/'Reduced Mass'!$O$9 -> 3.0884196 | X37: =Forces!AX37/'Reduced Mass'!$O$4 -> 5.5478449 | Y37: =Forces!AY37/'Reduced Mass'!$O$5 -> 4.9269125 | Z37: =Forces!AZ37/'Reduced Mass'!$O$6 -> 4.3486326 | AA37: =Forces!BA37/'Reduced Mass'!$O$7 -> 3.8455467 | AB37: =Forces!BB37/'Reduced Mass'!$O$8 -> 3.4143452 | AC37: =Forces!BC37/'Reduced Mass'!$O$9 -> 2.9859414
A38: 37 | K38: 8600 | L38: 57 | M38: 42.5049 | N38: 42504.9 | O38: 34.809767 | Q38: =Forces!AJ38/'Reduced Mass'!$O$4 -> 5.5949126 | R38: =Forces!AK38/'Reduced Mass'!$O$5 -> 4.9831178 | S38: =Forces!AL38/'Reduced Mass'!$O$6 -> 4.4161361 | T38: =Forces!AM38/'Reduced Mass'!$O$7 -> 3.9263613 | U38: =Forces!AN38/'Reduced Mass'!$O$8 -> 3.5099441 | V38: =Forces!AO38/'Reduced Mass'!$O$9 -> 3.0999979 | X38: =Forces!AX38/'Reduced Mass'!$O$4 -> 5.5799967 | Y38: =Forces!AY38/'Reduced Mass'!$O$5 -> 4.9541422 | Z38: =Forces!AZ38/'Reduced Mass'!$O$6 -> 4.3710221 | AA38: =Forces!BA38/'Reduced Mass'!$O$7 -> 3.8634056 | AB38: =Forces!BB38/'Reduced Mass'!$O$8 -> 3.4280106 | AC38: =Forces!BC38/'Reduced Mass'!$O$9 -> 2.9950943
A39: 38 | K39: 8700 | L39: 58 | M39: 43.2506 | N39: 43250.6 | O39: 35.013333 | Q39: =Forces!AJ39/'Reduced Mass'!$O$4 -> 5.6266158 | R39: =Forces!AK39/'Reduced Mass'!$O$5 -> 5.0102858 | S39: =Forces!AL39/'Reduced Mass'!$O$6 -> 4.4388896 | T39: =Forces!AM39/'Reduced Mass'!$O$7 -> 3.9450358 | U39: =Forces!AN39/'Reduced Mass'!$O$8 -> 3.5248911 | V39: =Forces!AO39/'Reduced Mass'!$O$9 -> 3.1109836 | X39: =Forces!AX39/'Reduced Mass'!$O$4 -> 5.6113509 | Y39: =Forces!AY39/'Reduced Mass'!$O$5 -> 4.9806325 | Z39: =Forces!AZ39/'Reduced Mass'!$O$6 -> 4.3927203 | AA39: =Forces!BA39/'Reduced Mass'!$O$7 -> 3.8806074 | AB39: =Forces!BB39/'Reduced Mass'!$O$8 -> 3.4410412 | AC39: =Forces!BC39/'Reduced Mass'!$O$9 -> 3.0036262
... A41: 40 | K41: 8900 | L41: 60 | M41: 44.742 | N41: 44742 | O41: 35.406742 | Q41: =Forces!AJ41/'Reduced Mass'!$O$4 -> 5.6877465 | R41: =Forces!AK41/'Reduced Mass'!$O$5 -> 5.0625218 | S41: =Forces!AL41/'Reduced Mass'!$O$6 -> 4.4824445 | T41: =Forces!AM41/'Reduced Mass'!$O$7 -> 3.9805422 | U41: =Forces!AN41/'Reduced Mass'!$O$8 -> 3.5530181 | V41: =Forces!AO41/'Reduced Mass'!$O$9 -> 3.1312419 | X41: =Forces!AX41/'Reduced Mass'!$O$4 -> 5.6717718 | Y41: =Forces!AY41/'Reduced Mass'!$O$5 -> 5.0314895 | Z41: =Forces!AZ41/'Reduced Mass'!$O$6 -> 4.4341281 | AA41: =Forces!BA41/'Reduced Mass'!$O$7 -> 3.9131176 | AB41: =Forces!BB41/'Reduced Mass'!$O$8 -> 3.4652687 | AC41: =Forces!BC41/'Reduced Mass'!$O$9 -> 3.0188918
A42: 1st | B42: 2.5833333 | C42: 434.78 | K42: 9000 | L42: 61 | M42: 45.4877 | N42: 45487.7 | O42: 35.596889 | Q42: =Forces!AJ42/'Reduced Mass'!$O$4 -> 5.7172236 | R42: =Forces!AK42/'Reduced Mass'!$O$5 -> 5.0876344 | S42: =Forces!AL42/'Reduced Mass'!$O$6 -> 4.5032861 | T42: =Forces!AM42/'Reduced Mass'!$O$7 -> 3.9974107 | U42: =Forces!AN42/'Reduced Mass'!$O$8 -> 3.5662316 | V42: =Forces!AO42/'Reduced Mass'!$O$9 -> 3.1405453 | X42: =Forces!AX42/'Reduced Mass'!$O$4 -> 5.7008879 | Y42: =Forces!AY42/'Reduced Mass'!$O$5 -> 5.0559008 | Z42: =Forces!AZ42/'Reduced Mass'!$O$6 -> 4.4538779 | AA42: =Forces!BA42/'Reduced Mass'!$O$7 -> 3.9284624 | AB42: =Forces!BB42/'Reduced Mass'!$O$8 -> 3.4764992 | AC42: =Forces!BC42/'Reduced Mass'!$O$9 -> 3.0256563
A43: 2nd | B43: 2 | C43: 373.413 | K43: 9100 | L43: 62 | M43: 46.2334 | N43: 46233.4 | O43: 35.782857 | Q43: =Forces!AJ43/'Reduced Mass'!$O$4 -> 5.7460065 | R43: =Forces!AK43/'Reduced Mass'!$O$5 -> 5.1121048 | S43: =Forces!AL43/'Reduced Mass'!$O$6 -> 4.5235292 | T43: =Forces!AM43/'Reduced Mass'!$O$7 -> 4.0137124 | U43: =Forces!AN43/'Reduced Mass'!$O$8 -> 3.5788995 | V43: =Forces!AO43/'Reduced Mass'!$O$9 -> 3.1493176 | X43: =Forces!AX43/'Reduced Mass'!$O$4 -> 5.7293057 | Y43: =Forces!AY43/'Reduced Mass'!$O$5 -> 5.0796621 | Z43: =Forces!AZ43/'Reduced Mass'!$O$6 -> 4.4730168 | AA43: =Forces!BA43/'Reduced Mass'!$O$7 -> 3.9432234 | AB43: =Forces!BB43/'Reduced Mass'!$O$8 -> 3.4871619 | AC43: =Forces!BC43/'Reduced Mass'!$O$9 -> 3.0318613
A44: 3rd | B44: 1.6666667 | C44: 345.36 | K44: 9200 | L44: 64 | M44: 47.7248 | N44: 47724.8 | O44: 36.535652 | Q44: =Forces!AJ44/'Reduced Mass'!$O$4 -> 5.8668214 | R44: =Forces!AK44/'Reduced Mass'!$O$5 -> 5.219519 | S44: =Forces!AL44/'Reduced Mass'!$O$6 -> 4.6184866 | T44: =Forces!AM44/'Reduced Mass'!$O$7 -> 4.0978621 | U44: =Forces!AN44/'Reduced Mass'!$O$8 -> 3.6538141 | V44: =Forces!AO44/'Reduced Mass'!$O$9 -> 3.2150888 | X44: =Forces!AX44/'Reduced Mass'!$O$4 -> 5.8497516 | Y44: =Forces!AY44/'Reduced Mass'!$O$5 -> 5.1863593 | Z44: =Forces!AZ44/'Reduced Mass'!$O$6 -> 4.566858 | AA44: =Forces!BA44/'Reduced Mass'!$O$7 -> 4.0258154 | AB44: =Forces!BB44/'Reduced Mass'!$O$8 -> 3.5600493 | AC44: =Forces!BC44/'Reduced Mass'!$O$9 -> 3.0950369
A45: 4th | B45: 1.4444444 | C45: 329.491 | K45: 9300 | L45: 66 | M45: 49.2162 | N45: 49216.2 | O45: 37.272258 | Q45: =Forces!AJ45/'Reduced Mass'!$O$4 -> 5.9849917 | R45: =Forces!AK45/'Reduced Mass'!$O$5 -> 5.324533 | S45: =Forces!AL45/'Reduced Mass'!$O$6 -> 4.7112614 | T45: =Forces!AM45/'Reduced Mass'!$O$7 -> 4.180006 | U45: =Forces!AN45/'Reduced Mass'!$O$8 -> 3.7268625 | V45: =Forces!AO45/'Reduced Mass'!$O$9 -> 3.2791189 | X45: =Forces!AX45/'Reduced Mass'!$O$4 -> 5.9675488 | Y45: =Forces!AY45/'Reduced Mass'!$O$5 -> 5.2906485 | Z45: =Forces!AZ45/'Reduced Mass'!$O$6 -> 4.6585043 | AA45: =Forces!BA45/'Reduced Mass'!$O$7 -> 4.1063845 | AB45: =Forces!BB45/'Reduced Mass'!$O$8 -> 3.6310482 | AC45: =Forces!BC45/'Reduced Mass'!$O$9 -> 3.1564429
A46: 5th | B46: 1.2857143 | C46: 319.544 | K46: 9400 | L46: 68 | M46: 50.7076 | N46: 50707.6 | O46: 37.993191 | Q46: =Forces!AJ46/'Reduced Mass'!$O$4 -> 6.1006013 | R46: =Forces!AK46/'Reduced Mass'!$O$5 -> 5.4272223 | S46: =Forces!AL46/'Reduced Mass'!$O$6 -> 4.8019217 | T46: =Forces!AM46/'Reduced Mass'!$O$7 -> 4.2602061 | U46: =Forces!AN46/'Reduced Mass'!$O$8 -> 3.7981014 | V46: =Forces!AO46/'Reduced Mass'!$O$9 -> 3.3414598 | X46: =Forces!AX46/'Reduced Mass'!$O$4 -> 6.0827813 | Y46: =Forces!AY46/'Reduced Mass'!$O$5 -> 5.3926053 | Z46: =Forces!AZ46/'Reduced Mass'!$O$6 -> 4.748024 | AA46: =Forces!BA46/'Reduced Mass'!$O$7 -> 4.1849928 | AB46: =Forces!BB46/'Reduced Mass'!$O$8 -> 3.7002156 | AC46: =Forces!BC46/'Reduced Mass'!$O$9 -> 3.2161315
A47: 6th | B47: 1.15 | C47: 311.957 | K47: 9500 | L47: 70 | M47: 52.199 | N47: 52199 | O47: 38.698947 | Q47: =Forces!AJ47/'Reduced Mass'!$O$4 -> 6.2137306 | R47: =Forces!AK47/'Reduced Mass'!$O$5 -> 5.5276595 | S47: =Forces!AL47/'Reduced Mass'!$O$6 -> 4.8905328 | T47: =Forces!AM47/'Reduced Mass'!$O$7 -> 4.3385216 | U47: =Forces!AN47/'Reduced Mass'!$O$8 -> 3.8675853 | V47: =Forces!AO47/'Reduced Mass'!$O$9 -> 3.4021615 | X47: =Forces!AX47/'Reduced Mass'!$O$4 -> 6.1955293 | Y47: =Forces!AY47/'Reduced Mass'!$O$5 -> 5.492302 | Z47: =Forces!AZ47/'Reduced Mass'!$O$6 -> 4.8354823 | AA47: =Forces!BA47/'Reduced Mass'!$O$7 -> 4.2616995 | AB47: =Forces!BB47/'Reduced Mass'!$O$8 -> 3.7676057 | AC47: =Forces!BC47/'Reduced Mass'!$O$9 -> 3.2741524
A48: 47 | K48: 9600 | L48: 72 | M48: 53.6904 | N48: 53690.4 | O48: 39.39 | Q48: =Forces!AJ48/'Reduced Mass'!$O$4 -> 6.3244565 | R48: =Forces!AK48/'Reduced Mass'!$O$5 -> 5.625914 | S48: =Forces!AL48/'Reduced Mass'!$O$6 -> 4.9771573 | T48: =Forces!AM48/'Reduced Mass'!$O$7 -> 4.4150093 | U48: =Forces!AN48/'Reduced Mass'!$O$8 -> 3.9353663 | V48: =Forces!AO48/'Reduced Mass'!$O$9 -> 3.4612716 | X48: =Forces!AX48/'Reduced Mass'!$O$4 -> 6.30587 | Y48: =Forces!AY48/'Reduced Mass'!$O$5 -> 5.5898082 | Z48: =Forces!AZ48/'Reduced Mass'!$O$6 -> 4.9209417 | AA48: =Forces!BA48/'Reduced Mass'!$O$7 -> 4.3365614 | AB48: =Forces!BB48/'Reduced Mass'!$O$8 -> 3.8332708 | AC48: =Forces!BC48/'Reduced Mass'!$O$9 -> 3.3305534
A49: 48 | K49: 9700 | L49: 74 | M49: 55.1818 | N49: 55181.8 | O49: 40.066804 | Q49: =Forces!AJ49/'Reduced Mass'!$O$4 -> 6.4328529 | R49: =Forces!AK49/'Reduced Mass'!$O$5 -> 5.7220523 | S49: =Forces!AL49/'Reduced Mass'!$O$6 -> 5.0618551 | T49: =Forces!AM49/'Reduced Mass'!$O$7 -> 4.4897238 | U49: =Forces!AN49/'Reduced Mass'!$O$8 -> 4.0014944 | V49: =Forces!AO49/'Reduced Mass'!$O$9 -> 3.5188361 | X49: =Forces!AX49/'Reduced Mass'!$O$4 -> 6.4138772 | Y49: =Forces!AY49/'Reduced Mass'!$O$5 -> 5.6851904 | Z49: =Forces!AZ49/'Reduced Mass'!$O$6 -> 5.0044622 | AA49: =Forces!BA49/'Reduced Mass'!$O$7 -> 4.4096331 | AB49: =Forces!BB49/'Reduced Mass'!$O$8 -> 3.8972608 | AC49: =Forces!BC49/'Reduced Mass'!$O$9 -> 3.3853804
A50: 49 | K50: 9800 | L50: 76 | M50: 56.6732 | N50: 56673.2 | O50: 40.729796 | Q50: =Forces!AJ50/'Reduced Mass'!$O$4 -> 6.5389906 | R50: =Forces!AK50/'Reduced Mass'!$O$5 -> 5.8161383 | S50: =Forces!AL50/'Reduced Mass'!$O$6 -> 5.1446838 | T50: =Forces!AM50/'Reduced Mass'!$O$7 -> 4.5627173 | U50: =Forces!AN50/'Reduced Mass'!$O$8 -> 4.0660176 | V50: =Forces!AO50/'Reduced Mass'!$O$9 -> 3.5748989 | X50: =Forces!AX50/'Reduced Mass'!$O$4 -> 6.5196217 | Y50: =Forces!AY50/'Reduced Mass'!$O$5 -> 5.7785124 | Z50: =Forces!AZ50/'Reduced Mass'!$O$6 -> 5.0861015 | AA50: =Forces!BA50/'Reduced Mass'!$O$7 -> 4.4809667 | AB50: =Forces!BB50/'Reduced Mass'!$O$8 -> 3.9596238 | AC50: =Forces!BC50/'Reduced Mass'!$O$9 -> 3.4386774
A51: 50 | K51: 9900 | L51: 78 | M51: 58.1646 | N51: 58164.6 | O51: 41.379394 | Q51: =Forces!AJ51/'Reduced Mass'!$O$4 -> 6.6429377 | R51: =Forces!AK51/'Reduced Mass'!$O$5 -> 5.9082332 | S51: =Forces!AL51/'Reduced Mass'!$O$6 -> 5.2256986 | T51: =Forces!AM51/'Reduced Mass'!$O$7 -> 4.63404 | U51: =Forces!AN51/'Reduced Mass'!$O$8 -> 4.128982 | V51: =Forces!AO51/'Reduced Mass'!$O$9 -> 3.6295021 | X51: =Forces!AX51/'Reduced Mass'!$O$4 -> 6.6231715 | Y51: =Forces!AY51/'Reduced Mass'!$O$5 -> 5.8698356 | Z51: =Forces!AZ51/'Reduced Mass'!$O$6 -> 5.1659146 | AA51: =Forces!BA51/'Reduced Mass'!$O$7 -> 4.5506125 | AB51: =Forces!BB51/'Reduced Mass'!$O$8 -> 4.0204057 | AC51: =Forces!BC51/'Reduced Mass'!$O$9 -> 3.4904863
A52: 51 | K52: 10000 | L52: 81 | M52: 60.4017 | N52: 60401.7 | O52: 42.5412 | Q52: =Forces!AJ52/'Reduced Mass'!$O$4 -> 6.8300473 | R52: =Forces!AK52/'Reduced Mass'!$O$5 -> 6.0752767 | S52: =Forces!AL52/'Reduced Mass'!$O$6 -> 5.3742238 | T52: =Forces!AM52/'Reduced Mass'!$O$7 -> 4.7666665 | U52: =Forces!AN52/'Reduced Mass'!$O$8 -> 4.2481868 | V52: =Forces!AO52/'Reduced Mass'!$O$9 -> 3.7356013 | X52: =Forces!AX52/'Reduced Mass'!$O$4 -> 6.8098797 | Y52: =Forces!AY52/'Reduced Mass'!$O$5 -> 6.0360994 | Z52: =Forces!AZ52/'Reduced Mass'!$O$6 -> 5.3132259 | AA52: =Forces!BA52/'Reduced Mass'!$O$7 -> 4.6815451 | AB52: =Forces!BB52/'Reduced Mass'!$O$8 -> 4.137406 | AC52: =Forces!BC52/'Reduced Mass'!$O$9 -> 3.593763
A53: 52 | K53: 10100 | L53: 83 | M53: 61.8931 | N53: 61893.1 | O53: 43.16 | Q53: =Forces!AJ53/'Reduced Mass'!$O$4 -> 6.9289617 | R53: =Forces!AK53/'Reduced Mass'!$O$5 -> 6.1628025 | S53: =Forces!AL53/'Reduced Mass'!$O$6 -> 5.4510817 | T53: =Forces!AM53/'Reduced Mass'!$O$7 -> 4.834167 | U53: =Forces!AN53/'Reduced Mass'!$O$8 -> 4.3075923 | V53: =Forces!AO53/'Reduced Mass'!$O$9 -> 3.7868813 | X53: =Forces!AX53/'Reduced Mass'!$O$4 -> 6.9083888 | Y53: =Forces!AY53/'Reduced Mass'!$O$5 -> 6.1228377 | Z53: =Forces!AZ53/'Reduced Mass'!$O$6 -> 5.3888578 | AA53: =Forces!BA53/'Reduced Mass'!$O$7 -> 4.7473346 | AB53: =Forces!BB53/'Reduced Mass'!$O$8 -> 4.1945848 | AC53: =Forces!BC53/'Reduced Mass'!$O$9 -> 3.6421921
A54: 53 | K54: 10200 | L54: 85 | M54: 63.3845 | N54: 63384.5 | O54: 43.766667 | Q54: =Forces!AJ54/'Reduced Mass'!$O$4 -> 7.0258901 | R54: =Forces!AK54/'Reduced Mass'!$O$5 -> 6.2485217 | S54: =Forces!AL54/'Reduced Mass'!$O$6 -> 5.526292 | T54: =Forces!AM54/'Reduced Mass'!$O$7 -> 4.9001476 | U54: =Forces!AN54/'Reduced Mass'!$O$8 -> 4.3655776 | V54: =Forces!AO54/'Reduced Mass'!$O$9 -> 3.8368288 | X54: =Forces!AX54/'Reduced Mass'!$O$4 -> 7.0049078 | Y54: =Forces!AY54/'Reduced Mass'!$O$5 -> 6.2077617 | Z54: =Forces!AZ54/'Reduced Mass'!$O$6 -> 5.4628298 | AA54: =Forces!BA54/'Reduced Mass'!$O$7 -> 4.8115873 | AB54: =Forces!BB54/'Reduced Mass'!$O$8 -> 4.2503213 | AC54: =Forces!BC54/'Reduced Mass'!$O$9 -> 3.6892602
A55: 54 | K55: 10300 | L55: 87 | M55: 64.8759 | N55: 64875.9 | O55: 44.361553 | Q55: =Forces!AJ55/'Reduced Mass'!$O$4 -> 7.1208899 | R55: =Forces!AK55/'Reduced Mass'!$O$5 -> 6.3324862 | S55: =Forces!AL55/'Reduced Mass'!$O$6 -> 5.5999012 | T55: =Forces!AM55/'Reduced Mass'!$O$7 -> 4.9646507 | U55: =Forces!AN55/'Reduced Mass'!$O$8 -> 4.4221814 | V55: =Forces!AO55/'Reduced Mass'!$O$9 -> 3.8854792 | X55: =Forces!AX55/'Reduced Mass'!$O$4 -> 7.0994941 | Y55: =Forces!AY55/'Reduced Mass'!$O$5 -> 6.290923 | Z55: =Forces!AZ55/'Reduced Mass'!$O$6 -> 5.5351886 | AA55: =Forces!BA55/'Reduced Mass'!$O$7 -> 4.8743454 | AB55: =Forces!BB55/'Reduced Mass'!$O$8 -> 4.3046541 | AC55: =Forces!BC55/'Reduced Mass'!$O$9 -> 3.735003
A56: 55 | K56: 10400 | L56: 89 | M56: 66.3673 | N56: 66367.3 | O56: 44.945 | Q56: =Forces!AJ56/'Reduced Mass'!$O$4 -> 7.2140163 | R56: =Forces!AK56/'Reduced Mass'!$O$5 -> 6.4147456 | S56: =Forces!AL56/'Reduced Mass'!$O$6 -> 5.6719542 | T56: =Forces!AM56/'Reduced Mass'!$O$7 -> 5.0277171 | U56: =Forces!AN56/'Reduced Mass'!$O$8 -> 4.4774413 | V56: =Forces!AO56/'Reduced Mass'!$O$9 -> 3.932867 | X56: =Forces!AX56/'Reduced Mass'!$O$4 -> 7.192203 | Y56: =Forces!AY56/'Reduced Mass'!$O$5 -> 6.3723714 | Z56: =Forces!AZ56/'Reduced Mass'!$O$6 -> 5.6059789 | AA56: =Forces!BA56/'Reduced Mass'!$O$7 -> 4.9356498 | AB56: =Forces!BB56/'Reduced Mass'!$O$8 -> 4.3576208 | AC56: =Forces!BC56/'Reduced Mass'!$O$9 -> 3.7794547
K57: 10500 | L57: 91 | M57: 67.8587 | N57: 67858.7 | O57: 45.517333 | Q57: =Forces!AJ57/'Reduced Mass'!$O$4 -> 7.3053223 | R57: =Forces!AK57/'Reduced Mass'!$O$5 -> 6.4953478 | S57: =Forces!AL57/'Reduced Mass'!$O$6 -> 5.742494 | T57: =Forces!AM57/'Reduced Mass'!$O$7 -> 5.0893858 | U57: =Forces!AN57/'Reduced Mass'!$O$8 -> 4.531393 | V57: =Forces!AO57/'Reduced Mass'!$O$9 -> 3.979025 | X57: =Forces!AX57/'Reduced Mass'!$O$4 -> 7.2830875 | Y57: =Forces!AY57/'Reduced Mass'!$O$5 -> 6.4521548 | Z57: =Forces!AZ57/'Reduced Mass'!$O$6 -> 5.6752439 | AA57: =Forces!BA57/'Reduced Mass'!$O$7 -> 4.9955395 | AB57: =Forces!BB57/'Reduced Mass'!$O$8 -> 4.4092572 | AC57: =Forces!BC57/'Reduced Mass'!$O$9 -> 3.8226482
K58: 10600 | L58: 92 | M58: 68.6044 | N58: 68604.4 | O58: 45.583396 | Q58: =Forces!AJ58/'Reduced Mass'!$O$4 -> 7.3143987 | R58: =Forces!AK58/'Reduced Mass'!$O$5 -> 6.5018098 | S58: =Forces!AL58/'Reduced Mass'!$O$6 -> 5.7462119 | T58: =Forces!AM58/'Reduced Mass'!$O$7 -> 5.09033 | U58: =Forces!AN58/'Reduced Mass'!$O$8 -> 4.5295852 | V58: =Forces!AO58/'Reduced Mass'!$O$9 -> 3.9740649 | X58: =Forces!AX58/'Reduced Mass'!$O$4 -> 7.2917384 | Y58: =Forces!AY58/'Reduced Mass'!$O$5 -> 6.4577902 | Z58: =Forces!AZ58/'Reduced Mass'!$O$6 -> 5.6776747 | AA58: =Forces!BA58/'Reduced Mass'!$O$7 -> 4.9946876 | AB58: =Forces!BB58/'Reduced Mass'!$O$8 -> 4.4051119 | AC58: =Forces!BC58/'Reduced Mass'!$O$9 -> 3.8146953
K59: 10700 | L59: 93 | M59: 69.3501 | N59: 69350.1 | O59: 45.648224 | Q59: =Forces!AJ59/'Reduced Mass'!$O$4 -> 7.3232589 | R59: =Forces!AK59/'Reduced Mass'!$O$5 -> 6.5080607 | S59: =Forces!AL59/'Reduced Mass'!$O$6 -> 5.7497195 | T59: =Forces!AM59/'Reduced Mass'!$O$7 -> 5.0910601 | U59: =Forces!AN59/'Reduced Mass'!$O$8 -> 4.5275556 | V59: =Forces!AO59/'Reduced Mass'!$O$9 -> 3.9688703 | X59: =Forces!AX59/'Reduced Mass'!$O$4 -> 7.300169 | Y59: =Forces!AY59/'Reduced Mass'!$O$5 -> 6.4632066 | Z59: =Forces!AZ59/'Reduced Mass'!$O$6 -> 5.6798831 | AA59: =Forces!BA59/'Reduced Mass'!$O$7 -> 4.9936046 | AB59: =Forces!BB59/'Reduced Mass'!$O$8 -> 4.4007227 | AC59: =Forces!BC59/'Reduced Mass'!$O$9 -> 3.8064796
K60: 10800 | L60: 94 | M60: 70.0958 | N60: 70095.8 | O60: 45.711852 | Q60: =Forces!AJ60/'Reduced Mass'!$O$4 -> 7.3319085 | R60: =Forces!AK60/'Reduced Mass'!$O$5 -> 6.5141054 | S60: =Forces!AL60/'Reduced Mass'!$O$6 -> 5.7530214 | T60: =Forces!AM60/'Reduced Mass'!$O$7 -> 5.0915803 | U60: =Forces!AN60/'Reduced Mass'!$O$8 -> 4.5253081 | V60: =Forces!AO60/'Reduced Mass'!$O$9 -> 3.9634446 | X60: =Forces!AX60/'Reduced Mass'!$O$4 -> 7.308385 | Y60: =Forces!AY60/'Reduced Mass'!$O$5 -> 6.468409 | Z60: =Forces!AZ60/'Reduced Mass'!$O$6 -> 5.6818736 | AA60: =Forces!BA60/'Reduced Mass'!$O$7 -> 4.9922947 | AB60: =Forces!BB60/'Reduced Mass'!$O$8 -> 4.3960934 | AC60: =Forces!BC60/'Reduced Mass'!$O$9 -> 3.7980044
K61: 10900 | L61: 95 | M61: 70.8415 | N61: 70841.5 | O61: 45.774312 | Q61: =Forces!AJ61/'Reduced Mass'!$O$4 -> 7.3403528 | R61: =Forces!AK61/'Reduced Mass'!$O$5 -> 6.5199488 | S61: =Forces!AL61/'Reduced Mass'!$O$6 -> 5.7561221 | T61: =Forces!AM61/'Reduced Mass'!$O$7 -> 5.0918945 | U61: =Forces!AN61/'Reduced Mass'!$O$8 -> 4.5228461 | V61: =Forces!AO61/'Reduced Mass'!$O$9 -> 3.9577912 | X61: =Forces!AX61/'Reduced Mass'!$O$4 -> 7.3163917 | Y61: =Forces!AY61/'Reduced Mass'!$O$5 -> 6.4734023 | Z61: =Forces!AZ61/'Reduced Mass'!$O$6 -> 5.6836505 | AA61: =Forces!BA61/'Reduced Mass'!$O$7 -> 4.9907618 | AB61: =Forces!BB61/'Reduced Mass'!$O$8 -> 4.3912275 | AC61: =Forces!BC61/'Reduced Mass'!$O$9 -> 3.7892731
K62: 11000 | L62: 95 | M62: 70.8415 | N62: 70841.5 | O62: 45.358182 | Q62: =Forces!AJ62/'Reduced Mass'!$O$4 -> 7.2710626 | R62: =Forces!AK62/'Reduced Mass'!$O$5 -> 6.455704 | S62: =Forces!AL62/'Reduced Mass'!$O$6 -> 5.6960516 | T62: =Forces!AM62/'Reduced Mass'!$O$7 -> 5.0348006 | U62: =Forces!AN62/'Reduced Mass'!$O$8 -> 4.4676686 | V62: =Forces!AO62/'Reduced Mass'!$O$9 -> 3.9038086 | X62: =Forces!AX62/'Reduced Mass'!$O$4 -> 7.2466598 | Y62: =Forces!AY62/'Reduced Mass'!$O$5 -> 6.4082995 | Z62: =Forces!AZ62/'Reduced Mass'!$O$6 -> 5.6222442 | AA62: =Forces!BA62/'Reduced Mass'!$O$7 -> 4.9318038 | AB62: =Forces!BB62/'Reduced Mass'!$O$8 -> 4.3336239 | AC62: =Forces!BC62/'Reduced Mass'!$O$9 -> 3.7321843
K63: 11100 | L63: 95 | M63: 70.8415 | N63: 70841.5 | O63: 44.94955 | Q63: =Forces!AJ63/'Reduced Mass'!$O$4 -> 7.2029743 | R63: =Forces!AK63/'Reduced Mass'!$O$5 -> 6.3925264 | S63: =Forces!AL63/'Reduced Mass'!$O$6 -> 5.6369227 | T63: =Forces!AM63/'Reduced Mass'!$O$7 -> 4.978539 | U63: =Forces!AN63/'Reduced Mass'!$O$8 -> 4.4132296 | V63: =Forces!AO63/'Reduced Mass'!$O$9 -> 3.8504714 | X63: =Forces!AX63/'Reduced Mass'!$O$4 -> 7.1781258 | Y63: =Forces!AY63/'Reduced Mass'!$O$5 -> 6.344256 | Z63: =Forces!AZ63/'Reduced Mass'!$O$6 -> 5.5617673 | AA63: =Forces!BA63/'Reduced Mass'!$O$7 -> 4.873661 | AB63: =Forces!BB63/'Reduced Mass'!$O$8 -> 4.2767367 | AC63: =Forces!BC63/'Reduced Mass'!$O$9 -> 3.6757124
K64: 11200 | L64: 95 | M64: 70.8415 | N64: 70841.5 | O64: 44.548214 | Q64: =Forces!AJ64/'Reduced Mass'!$O$4 -> 7.1360553 | R64: =Forces!AK64/'Reduced Mass'!$O$5 -> 6.3303865 | S64: =Forces!AL64/'Reduced Mass'!$O$6 -> 5.5787089 | T64: =Forces!AM64/'Reduced Mass'!$O$7 -> 4.9230856 | U64: =Forces!AN64/'Reduced Mass'!$O$8 -> 4.3595071 | V64: =Forces!AO64/'Reduced Mass'!$O$9 -> 3.7977592 | X64: =Forces!AX64/'Reduced Mass'!$O$4 -> 7.1107571 | Y64: =Forces!AY64/'Reduced Mass'!$O$5 -> 6.2812425 | Z64: =Forces!AZ64/'Reduced Mass'!$O$6 -> 5.5021932 | AA64: =Forces!BA64/'Reduced Mass'!$O$7 -> 4.8163094 | AB64: =Forces!BB64/'Reduced Mass'!$O$8 -> 4.2205437 | AC64: =Forces!BC64/'Reduced Mass'!$O$9 -> 3.6198372
K65: 11300 | L65: 95 | M65: 70.8415 | N65: 70841.5 | O65: 44.153982 | Q65: =Forces!AJ65/'Reduced Mass'!$O$4 -> 7.0702742 | R65: =Forces!AK65/'Reduced Mass'!$O$5 -> 6.269256 | S65: =Forces!AL65/'Reduced Mass'!$O$6 -> 5.5213847 | T65: =Forces!AM65/'Reduced Mass'!$O$7 -> 4.8684172 | U65: =Forces!AN65/'Reduced Mass'!$O$8 -> 4.3064797 | V65: =Forces!AO65/'Reduced Mass'!$O$9 -> 3.7456526 | X65: =Forces!AX65/'Reduced Mass'!$O$4 -> 7.0445222 | Y65: =Forces!AY65/'Reduced Mass'!$O$5 -> 6.2192305 | Z65: =Forces!AZ65/'Reduced Mass'!$O$6 -> 5.4434965 | AA65: =Forces!BA65/'Reduced Mass'!$O$7 -> 4.7597257 | AB65: =Forces!BB65/'Reduced Mass'!$O$8 -> 4.1650237 | AC65: =Forces!BC65/'Reduced Mass'!$O$9 -> 3.5645392
K66: 11400 | L66: 95 | M66: 70.8415 | N66: 70841.5 | O66: 43.766667 | Q66: =Forces!AJ66/'Reduced Mass'!$O$4 -> 7.0056006 | R66: =Forces!AK66/'Reduced Mass'!$O$5 -> 6.2091075 | S66: =Forces!AL66/'Reduced Mass'!$O$6 -> 5.4649253 | T66: =Forces!AM66/'Reduced Mass'!$O$7 -> 4.8145114 | U66: =Forces!AN66/'Reduced Mass'!$O$8 -> 4.2541269 | V66: =Forces!AO66/'Reduced Mass'!$O$9 -> 3.6941327 | X66: =Forces!AX66/'Reduced Mass'!$O$4 -> 6.9793908 | Y66: =Forces!AY66/'Reduced Mass'!$O$5 -> 6.1581927 | Z66: =Forces!AZ66/'Reduced Mass'!$O$6 -> 5.3856525 | AA66: =Forces!BA66/'Reduced Mass'!$O$7 -> 4.7038877 | AB66: =Forces!BB66/'Reduced Mass'!$O$8 -> 4.1101562 | AC66: =Forces!BC66/'Reduced Mass'!$O$9 -> 3.5097996
K67: 11500 | L67: 95 | M67: 70.8415 | N67: 70841.5 | O67: 43.386087 | Q67: =Forces!AJ67/'Reduced Mass'!$O$4 -> 6.9420051 | R67: =Forces!AK67/'Reduced Mass'!$O$5 -> 6.1499146 | S67: =Forces!AL67/'Reduced Mass'!$O$6 -> 5.409307 | T67: =Forces!AM67/'Reduced Mass'!$O$7 -> 4.7613466 | U67: =Forces!AN67/'Reduced Mass'!$O$8 -> 4.2024288 | V67: =Forces!AO67/'Reduced Mass'!$O$9 -> 3.6431814 | X67: =Forces!AX67/'Reduced Mass'!$O$4 -> 6.9153335 | Y67: =Forces!AY67/'Reduced Mass'!$O$5 -> 6.0981027 | Z67: =Forces!AZ67/'Reduced Mass'!$O$6 -> 5.3286373 | AA67: =Forces!BA67/'Reduced Mass'!$O$7 -> 4.6487736 | AB67: =Forces!BB67/'Reduced Mass'!$O$8 -> 4.0559212 | AC67: =Forces!BC67/'Reduced Mass'!$O$9 -> 3.4556002
K68: 11600 | L68: 96 | M68: 71.5872 | N68: 71587.2 | O68: 43.464828 | Q68: =Forces!AJ68/'Reduced Mass'!$O$4 -> 6.9529837 | R68: =Forces!AK68/'Reduced Mass'!$O$5 -> 6.1579284 | S68: =Forces!AL68/'Reduced Mass'!$O$6 -> 5.4142235 | T68: =Forces!AM68/'Reduced Mass'!$O$7 -> 4.7631489 | U68: =Forces!AN68/'Reduced Mass'!$O$8 -> 4.2011552 | V68: =Forces!AO68/'Reduced Mass'!$O$9 -> 3.6383975 | X68: =Forces!AX68/'Reduced Mass'!$O$4 -> 6.9258463 | Y68: =Forces!AY68/'Reduced Mass'!$O$5 -> 6.1052114 | Z68: =Forces!AZ68/'Reduced Mass'!$O$6 -> 5.3321448 | AA68: =Forces!BA68/'Reduced Mass'!$O$7 -> 4.6486096 | AB68: =Forces!BB68/'Reduced Mass'!$O$8 -> 4.0520886 | AC68: =Forces!BC68/'Reduced Mass'!$O$9 -> 3.4475399
... K110: 15800 | L110: 105 | M110: 78.2985 | N110: 78298.5 | O110: 34.902532 | Q110: =Forces!AJ110/'Reduced Mass'!$O$4 -> 5.4724588 | R110: =Forces!AK110/'Reduced Mass'!$O$5 -> 4.7295561 | S110: =Forces!AL110/'Reduced Mass'!$O$6 -> 4.0124413 | T110: =Forces!AM110/'Reduced Mass'!$O$7 -> 3.357053 | U110: =Forces!AN110/'Reduced Mass'!$O$8 -> 2.764757 | V110: =Forces!AO110/'Reduced Mass'!$O$9 -> 2.1421819 | X110: =Forces!AX110/'Reduced Mass'!$O$4 -> 5.4221125 | Y110: =Forces!AY110/'Reduced Mass'!$O$5 -> 4.6317538 | Z110: =Forces!AZ110/'Reduced Mass'!$O$6 -> 3.8601663 | AA110: =Forces!BA110/'Reduced Mass'!$O$7 -> 3.1445559 | AB110: =Forces!BB110/'Reduced Mass'!$O$8 -> 2.4882039 | AC110: =Forces!BC110/'Reduced Mass'!$O$9 -> 1.7880967

Sheet Braking
B2: Parameter | C2: Value | D2: Unit | G2: Fd Braking | O2: Endo Limit (m/s²) | W2: Front Brake % Under Braking | Z2: Front Brake % Leaning | AC2: Front Brake % Braking
B3: Total Weight (Wt) | C3: ='Gearing Calculator'!U9 -> 266.2 | D3: Kg | G3: RPM | H3: 1st | I3: 2nd | J3: 3rd | K3: 4th | L3: 5th | M3: 6th | O3: RPM | P3: 1st | Q3: 2nd | R3: 3rd | S3: 4th | T3: 5th | U3: 6th | W3: Brake % | X3: Ff | Z3: Brake % | AA3: Ff | AC3: Ff | AD3: Nf | AE3: Brake % | AF3: Traction Limit (N) | AG3: Traction Limit (m/s²)
B4: Gravity (g) | C4: 9.81 | D4: m/s² | G4: 5100 | H4: =0.5*'Gearing Calculator'!$C$15*Braking!$C$11*Acceleration!$C$6*(Forces!H4^2) -> 13.221284 | I4: =0.5*'Gearing Calculator'!$C$15*Braking!$C$11*Acceleration!$C$6*(Forces!I4^2) -> 22.058427 | J4: =0.5*'Gearing Calculator'!$C$15*Braking!$C$11*Acceleration!$C$6*(Forces!J4^2) -> 31.764135 | K4: =0.5*'Gearing Calculator'!$C$15*Braking!$C$11*Acceleration!$C$6*(Forces!K4^2) -> 42.289529 | L4: =0.5*'Gearing Calculator'!$C$15*Braking!$C$11*Acceleration!$C$6*(Forces!L4^2) -> 53.375948 | M4: =0.5*'Gearing Calculator'!$C$15*Braking!$C$11*Acceleration!$C$6*(Forces!M4^2) -> 66.717361 | O4: 5100 | P4: =(-(($C$8-$C$9)/$C$10)-H4/($C$3*$C$4))*$C$4 -> -8.8754695 | Q4: =(-(($C$8-$C$9)/$C$10)-I4/($C$3*$C$4))*$C$4 -> -8.9086669 | R4: =(-(($C$8-$C$9)/$C$10)-J4/($C$3*$C$4))*$C$4 -> -8.9451271 | S4: =(-(($C$8-$C$9)/$C$10)-K4/($C$3*$C$4))*$C$4 -> -8.9846665 | T4: =(-(($C$8-$C$9)/$C$10)-L4/($C$3*$C$4))*$C$4 -> -9.0263135 | U4: =(-(($C$8-$C$9)/$C$10)-M4/($C$3*$C$4))*$C$4 -> -9.0764315 | W4: 0 | X4: 0 | Z4: 0 | AA4: 0 | AC4: 0 | AD4: 0 | AE4: 0 | AF4: 0 | AG4: 0
A5: 1 | B5: Mass * Gravity (mg) | C5: =C3*C4 -> 2611.422 | D5: N | G5: 5200 | H5: =0.5*'Gearing Calculator'!$C$15*Braking!$C$11*Acceleration!$C$6*(Forces!H5^2) -> 13.734685 | I5: =0.5*'Gearing Calculator'!$C$15*Braking!$C$11*Acceleration!$C$6*(Forces!I5^2) -> 22.914986 | J5: =0.5*'Gearing Calculator'!$C$15*Braking!$C$11*Acceleration!$C$6*(Forces!J5^2) -> 32.99758 | K5: =0.5*'Gearing Calculator'!$C$15*Braking!$C$11*Acceleration!$C$6*(Forces!K5^2) -> 43.931689 | L5: =0.5*'Gearing Calculator'!$C$15*Braking!$C$11*Acceleration!$C$6*(Forces!L5^2) -> 55.448608 | M5: =0.5*'Gearing Calculator'!$C$15*Braking!$C$11*Acceleration!$C$6*(Forces!M5^2) -> 69.308087 | O5: 5200 | P5: =(-(($C$8-$C$9)/$C$10)-H5/($C$3*$C$4))*$C$4 -> -8.8773981 | Q5: =(-(($C$8-$C$9)/$C$10)-I5/($C$3*$C$4))*$C$4 -> -8.9118846 | R5: =(-(($C$8-$C$9)/$C$10)-J5/($C$3*$C$4))*$C$4 -> -8.9497606 | S5: =(-(($C$8-$C$9)/$C$10)-K5/($C$3*$C$4))*$C$4 -> -8.9908354 | T5: =(-(($C$8-$C$9)/$C$10)-L5/($C$3*$C$4))*$C$4 -> -9.0340996 | U5: =(-(($C$8-$C$9)/$C$10)-M5/($C$3*$C$4))*$C$4 -> -9.0861637 | W5: 1 | X5: =$C$16/100*W5 -> 23.494287 | Z5: 1 | AA5: =$D$16/100*Z5 -> 23.494287 | AC5: 1 | AD5: =($C$3*$C$4)*($C$9/$C$8)+(AC5*($C$10/$C$8)) -> 1369.9066 | AE5: =(AC5/$X$104)*100 -> 0.042563539 | AF5: ='Gearing Calculator'!$C$17*Braking!AD5 -> 2054.8598 | AG5: =-(AF5/$C$3) -> -7.719233
A6: 2 | G6: 5300 | H6: =0.5*'Gearing Calculator'!$C$15*Braking!$C$11*Acceleration!$C$6*(Forces!H6^2) -> 14.257864 | I6: =0.5*'Gearing Calculator'!$C$15*Braking!$C$11*Acceleration!$C$6*(Forces!I6^2) -> 23.78786 | J6: =0.5*'Gearing Calculator'!$C$15*Braking!$C$11*Acceleration!$C$6*(Forces!J6^2) -> 34.254519 | K6: =0.5*'Gearing Calculator'!$C$15*Braking!$C$11*Acceleration!$C$6*(Forces!K6^2) -> 45.605129 | L6: =0.5*'Gearing Calculator'!$C$15*Braking!$C$11*Acceleration!$C$6*(Forces!L6^2) -> 57.560748 | M6: =0.5*'Gearing Calculator'!$C$15*Braking!$C$11*Acceleration!$C$6*(Forces!M6^2) -> 71.94816 | O6: 5300 | P6: =(-(($C$8-$C$9)/$C$10)-H6/($C$3*$C$4))*$C$4 -> -8.8793635 | Q6: =(-(($C$8-$C$9)/$C$10)-I6/($C$3*$C$4))*$C$4 -> -8.9151636 | R6: =(-(($C$8-$C$9)/$C$10)-J6/($C$3*$C$4))*$C$4 -> -8.9544824 | S6: =(-(($C$8-$C$9)/$C$10)-K6/($C$3*$C$4))*$C$4 -> -8.9971218 | T6: =(-(($C$8-$C$9)/$C$10)-L6/($C$3*$C$4))*$C$4 -> -9.042034 | U6: =(-(($C$8-$C$9)/$C$10)-M6/($C$3*$C$4))*$C$4 -> -9.0960814 | W6: 2 | X6: =$C$16/100*W6 -> 46.988574 | Z6: 2 | AA6: =$D$16/100*Z6 -> 46.988574 | AC6: 2 | AD6: =($C$3*$C$4)*($C$9/$C$8)+(AC6*($C$10/$C$8)) -> 1370.4352 | AE6: =(AC6/$X$104)*100 -> 0.085127078 | AF6: ='Gearing Calculator'!$C$17*Braking!AD6 -> 2055.6528 | AG6: =-(AF6/$C$3) -> -7.722212
A7: 3 | B7: Parameter | C7: Braking | D7: Leaning | E7: Unit | G7: 5400 | H7: =0.5*'Gearing Calculator'!$C$15*Braking!$C$11*Acceleration!$C$6*(Forces!H7^2) -> 14.790823 | I7: =0.5*'Gearing Calculator'!$C$15*Braking!$C$11*Acceleration!$C$6*(Forces!I7^2) -> 24.67705 | J7: =0.5*'Gearing Calculator'!$C$15*Braking!$C$11*Acceleration!$C$6*(Forces!J7^2) -> 35.534952 | K7: =0.5*'Gearing Calculator'!$C$15*Braking!$C$11*Acceleration!$C$6*(Forces!K7^2) -> 47.309847 | L7: =0.5*'Gearing Calculator'!$C$15*Braking!$C$11*Acceleration!$C$6*(Forces!L7^2) -> 59.712368 | M7: =0.5*'Gearing Calculator'!$C$15*Braking!$C$11*Acceleration!$C$6*(Forces!M7^2) -> 74.63758 | O7: 5400 | P7: =(-(($C$8-$C$9)/$C$10)-H7/($C$3*$C$4))*$C$4 -> -8.8813656 | Q7: =(-(($C$8-$C$9)/$C$10)-I7/($C$3*$C$4))*$C$4 -> -8.9185039 | R7: =(-(($C$8-$C$9)/$C$10)-J7/($C$3*$C$4))*$C$4 -> -8.9592924 | S7: =(-(($C$8-$C$9)/$C$10)-K7/($C$3*$C$4))*$C$4 -> -9.0035257 | T7: =(-(($C$8-$C$9)/$C$10)-L7/($C$3*$C$4))*$C$4 -> -9.0501167 | U7: =(-(($C$8-$C$9)/$C$10)-M7/($C$3*$C$4))*$C$4 -> -9.1061844 | W7: 3 | X7: =$C$16/100*W7 -> 70.482861 | Z7: 3 | AA7: =$D$16/100*Z7 -> 70.482861 | AC7: 3 | AD7: =($C$3*$C$4)*($C$9/$C$8)+(AC7*($C$10/$C$8)) -> 1370.9639 | AE7: =(AC7/$X$104)*100 -> 0.12769062 | AF7: ='Gearing Calculator'!$C$17*Braking!AD7 -> 2056.4458 | AG7: =-(AF7/$C$3) -> -7.7251909
A8: 4 | B8: Wheelbase (Wb) | C8: ='Gearing Calculator'!C7 -> 1.38 | E8: M | G8: 5500 | H8: =0.5*'Gearing Calculator'!$C$15*Braking!$C$11*Acceleration!$C$6*(Forces!H8^2) -> 15.33356 | I8: =0.5*'Gearing Calculator'!$C$15*Braking!$C$11*Acceleration!$C$6*(Forces!I8^2) -> 25.582555 | J8: =0.5*'Gearing Calculator'!$C$15*Braking!$C$11*Acceleration!$C$6*(Forces!J8^2) -> 36.838879 | K8: =0.5*'Gearing Calculator'!$C$15*Braking!$C$11*Acceleration!$C$6*(Forces!K8^2) -> 49.045845 | L8: =0.5*'Gearing Calculator'!$C$15*Braking!$C$11*Acceleration!$C$6*(Forces!L8^2) -> 61.903466 | M8: =0.5*'Gearing Calculator'!$C$15*Braking!$C$11*Acceleration!$C$6*(Forces!M8^2) -> 77.376347 | O8: 5500 | P8: =(-(($C$8-$C$9)/$C$10)-H8/($C$3*$C$4))*$C$4 -> -8.8834044 | Q8: =(-(($C$8-$C$9)/$C$10)-I8/($C$3*$C$4))*$C$4 -> -8.9219055 | R8: =(-(($C$8-$C$9)/$C$10)-J8/($C$3*$C$4))*$C$4 -> -8.9641907 | S8: =(-(($C$8-$C$9)/$C$10)-K8/($C$3*$C$4))*$C$4 -> -9.0100471 | T8: =(-(($C$8-$C$9)/$C$10)-L8/($C$3*$C$4))*$C$4 -> -9.0583477 | U8: =(-(($C$8-$C$9)/$C$10)-M8/($C$3*$C$4))*$C$4 -> -9.1164727 | W8: 4 | X8: =$C$16/100*W8 -> 93.977148 | Z8: 4 | AA8: =$D$16/100*Z8 -> 93.977148 | AC8: 4 | AD8: =($C$3*$C$4)*($C$9/$C$8)+(AC8*($C$10/$C$8)) -> 1371.4925 | AE8: =(AC8/$X$104)*100 -> 0.17025416 | AF8: ='Gearing Calculator'!$C$17*Braking!AD8 -> 2057.2388 | AG8: =-(AF8/$C$3) -> -7.7281698
A9: 5 | B9: X-CoG | C9: 0.72364463 | D9: 0.72364463 | E9: M | G9: 5600 | H9: =0.5*'Gearing Calculator'!$C$15*Braking!$C$11*Acceleration!$C$6*(Forces!H9^2) -> 15.886077 | I9: =0.5*'Gearing Calculator'!$C$15*Braking!$C$11*Acceleration!$C$6*(Forces!I9^2) -> 26.504375 | J9: =0.5*'Gearing Calculator'!$C$15*Braking!$C$11*Acceleration!$C$6*(Forces!J9^2) -> 38.1663 | K9: =0.5*'Gearing Calculator'!$C$15*Braking!$C$11*Acceleration!$C$6*(Forces!K9^2) -> 50.813122 | L9: =0.5*'Gearing Calculator'!$C$15*Braking!$C$11*Acceleration!$C$6*(Forces!L9^2) -> 64.134044 | M9: =0.5*'Gearing Calculator'!$C$15*Braking!$C$11*Acceleration!$C$6*(Forces!M9^2) -> 80.164462 | O9: 5600 | P9: =(-(($C$8-$C$9)/$C$10)-H9/($C$3*$C$4))*$C$4 -> -8.88548 | Q9: =(-(($C$8-$C$9)/$C$10)-I9/($C$3*$C$4))*$C$4 -> -8.9253684 | R9: =(-(($C$8-$C$9)/$C$10)-J9/($C$3*$C$4))*$C$4 -> -8.9691773 | S9: =(-(($C$8-$C$9)/$C$10)-K9/($C$3*$C$4))*$C$4 -> -9.016686 | T9: =(-(($C$8-$C$9)/$C$10)-L9/($C$3*$C$4))*$C$4 -> -9.066727 | U9: =(-(($C$8-$C$9)/$C$10)-M9/($C$3*$C$4))*$C$4 -> -9.1269465 | W9: 5 | X9: =$C$16/100*W9 -> 117.47143 | Z9: 5 | AA9: =$D$16/100*Z9 -> 117.47143 | AC9: 5 | AD9: =($C$3*$C$4)*($C$9/$C$8)+(AC9*($C$10/$C$8)) -> 1372.0212 | AE9: =(AC9/$X$104)*100 -> 0.2128177 | AF9: ='Gearing Calculator'!$C$17*Braking!AD9 -> 2058.0318 | AG9: =-(AF9/$C$3) -> -7.7311487
A10: 6 | B10: Y-CoG | C10: 0.72954794 | D10: 0.72954794 | E10: M | G10: 5700 | H10: =0.5*'Gearing Calculator'!$C$15*Braking!$C$11*Acceleration!$C$6*(Forces!H10^2) -> 16.448373 | I10: =0.5*'Gearing Calculator'!$C$15*Braking!$C$11*Acceleration!$C$6*(Forces!I10^2) -> 27.442511 | J10: =0.5*'Gearing Calculator'!$C$15*Braking!$C$11*Acceleration!$C$6*(Forces!J10^2) -> 39.517216 | K10: =0.5*'Gearing Calculator'!$C$15*Braking!$C$11*Acceleration!$C$6*(Forces!K10^2) -> 52.611678 | L10: =0.5*'Gearing Calculator'!$C$15*Braking!$C$11*Acceleration!$C$6*(Forces!L10^2) -> 66.404101 | M10: =0.5*'Gearing Calculator'!$C$15*Braking!$C$11*Acceleration!$C$6*(Forces!M10^2) -> 83.001924 | O10: 5700 | P10: =(-(($C$8-$C$9)/$C$10)-H10/($C$3*$C$4))*$C$4 -> -8.8875923 | Q10: =(-(($C$8-$C$9)/$C$10)-I10/($C$3*$C$4))*$C$4 -> -8.9288926 | R10: =(-(($C$8-$C$9)/$C$10)-J10/($C$3*$C$4))*$C$4 -> -8.9742521 | S10: =(-(($C$8-$C$9)/$C$10)-K10/($C$3*$C$4))*$C$4 -> -9.0234424 | T10: =(-(($C$8-$C$9)/$C$10)-L10/($C$3*$C$4))*$C$4 -> -9.0752547 | U10: =(-(($C$8-$C$9)/$C$10)-M10/($C$3*$C$4))*$C$4 -> -9.1376056 | W10: 6 | X10: =$C$16/100*W10 -> 140.96572 | Z10: 6 | AA10: =$D$16/100*Z10 -> 140.96572 | AC10: 6 | AD10: =($C$3*$C$4)*($C$9/$C$8)+(AC10*($C$10/$C$8)) -> 1372.5498 | AE10: =(AC10/$X$104)*100 -> 0.25538123 | AF10: ='Gearing Calculator'!$C$17*Braking!AD10 -> 2058.8248 | AG10: =-(AF10/$C$3) -> -7.7341276
A11: 7 | B11: Frontal Area (Af) | C11: 0.329 | D11: 0.288 | E11: M² | G11: 5800 | H11: =0.5*'Gearing Calculator'!$C$15*Braking!$C$11*Acceleration!$C$6*(Forces!H11^2) -> 17.020448 | I11: =0.5*'Gearing Calculator'!$C$15*Braking!$C$11*Acceleration!$C$6*(Forces!I11^2) -> 28.396962 | J11: =0.5*'Gearing Calculator'!$C$15*Braking!$C$11*Acceleration!$C$6*(Forces!J11^2) -> 40.891626 | K11: =0.5*'Gearing Calculator'!$C$15*Braking!$C$11*Acceleration!$C$6*(Forces!K11^2) -> 54.441513 | L11: =0.5*'Gearing Calculator'!$C$15*Braking!$C$11*Acceleration!$C$6*(Forces!L11^2) -> 68.713637 | M11: =0.5*'Gearing Calculator'!$C$15*Braking!$C$11*Acceleration!$C$6*(Forces!M11^2) -> 85.888733 | O11: 5800 | P11: =(-(($C$8-$C$9)/$C$10)-H11/($C$3*$C$4))*$C$4 -> -8.8897413 | Q11: =(-(($C$8-$C$9)/$C$10)-I11/($C$3*$C$4))*$C$4 -> -8.9324781 | R11: =(-(($C$8-$C$9)/$C$10)-J11/($C$3*$C$4))*$C$4 -> -8.9794152 | S11: =(-(($C$8-$C$9)/$C$10)-K11/($C$3*$C$4))*$C$4 -> -9.0303163 | T11: =(-(($C$8-$C$9)/$C$10)-L11/($C$3*$C$4))*$C$4 -> -9.0839306 | U11: =(-(($C$8-$C$9)/$C$10)-M11/($C$3*$C$4))*$C$4 -> -9.1484501 | W11: 7 | X11: =$C$16/100*W11 -> 164.46001 | Z11: 7 | AA11: =$D$16/100*Z11 -> 164.46001 | AC11: 7 | AD11: =($C$3*$C$4)*($C$9/$C$8)+(AC11*($C$10/$C$8)) -> 1373.0785 | AE11: =(AC11/$X$104)*100 -> 0.29794477 | AF11: ='Gearing Calculator'!$C$17*Braking!AD11 -> 2059.6178 | AG11: =-(AF11/$C$3) -> -7.7371065
A12: 8 | B12: Front Brake Traction Coefficient (μpf) | C12: 0.9 | D12: 0.6 | G12: 5900 | H12: =0.5*'Gearing Calculator'!$C$15*Braking!$C$11*Acceleration!$C$6*(Forces!H12^2) -> 17.602302 | I12: =0.5*'Gearing Calculator'!$C$15*Braking!$C$11*Acceleration!$C$6*(Forces!I12^2) -> 29.367729 | J12: =0.5*'Gearing Calculator'!$C$15*Braking!$C$11*Acceleration!$C$6*(Forces!J12^2) -> 42.289529 | K12: =0.5*'Gearing Calculator'!$C$15*Braking!$C$11*Acceleration!$C$6*(Forces!K12^2) -> 56.302628 | L12: =0.5*'Gearing Calculator'!$C$15*Braking!$C$11*Acceleration!$C$6*(Forces!L12^2) -> 71.062652 | M12: =0.5*'Gearing Calculator'!$C$15*Braking!$C$11*Acceleration!$C$6*(Forces!M12^2) -> 88.824889 | O12: 5900 | P12: =(-(($C$8-$C$9)/$C$10)-H12/($C$3*$C$4))*$C$4 -> -8.8919271 | Q12: =(-(($C$8-$C$9)/$C$10)-I12/($C$3*$C$4))*$C$4 -> -8.9361248 | R12: =(-(($C$8-$C$9)/$C$10)-J12/($C$3*$C$4))*$C$4 -> -8.9846665 | S12: =(-(($C$8-$C$9)/$C$10)-K12/($C$3*$C$4))*$C$4 -> -9.0373078 | T12: =(-(($C$8-$C$9)/$C$10)-L12/($C$3*$C$4))*$C$4 -> -9.0927549 | U12: =(-(($C$8-$C$9)/$C$10)-M12/($C$3*$C$4))*$C$4 -> -9.15948 | W12: 8 | X12: =$C$16/100*W12 -> 187.9543 | Z12: 8 | AA12: =$D$16/100*Z12 -> 187.9543 | AC12: 8 | AD12: =($C$3*$C$4)*($C$9/$C$8)+(AC12*($C$10/$C$8)) -> 1373.6072 | AE12: =(AC12/$X$104)*100 -> 0.34050831 | AF12: ='Gearing Calculator'!$C$17*Braking!AD12 -> 2060.4107 | AG12: =-(AF12/$C$3) -> -7.7400854
A13: 9 | B13: Rear Braking Traction Coefficient (μpr) | C13: 0.9 | D13: 0.55 | G13: 6000 | H13: =0.5*'Gearing Calculator'!$C$15*Braking!$C$11*Acceleration!$C$6*(Forces!H13^2) -> 18.193934 | I13: =0.5*'Gearing Calculator'!$C$15*Braking!$C$11*Acceleration!$C$6*(Forces!I13^2) -> 30.354811 | J13: =0.5*'Gearing Calculator'!$C$15*Braking!$C$11*Acceleration!$C$6*(Forces!J13^2) -> 43.710928 | K13: =0.5*'Gearing Calculator'!$C$15*Braking!$C$11*Acceleration!$C$6*(Forces!K13^2) -> 58.195022 | L13: =0.5*'Gearing Calculator'!$C$15*Braking!$C$11*Acceleration!$C$6*(Forces!L13^2) -> 73.451147 | M13: =0.5*'Gearing Calculator'!$C$15*Braking!$C$11*Acceleration!$C$6*(Forces!M13^2) -> 91.810392 | O13: 6000 | P13: =(-(($C$8-$C$9)/$C$10)-H13/($C$3*$C$4))*$C$4 -> -8.8941496 | Q13: =(-(($C$8-$C$9)/$C$10)-I13/($C$3*$C$4))*$C$4 -> -8.9398329 | R13: =(-(($C$8-$C$9)/$C$10)-J13/($C$3*$C$4))*$C$4 -> -8.9900061 | S13: =(-(($C$8-$C$9)/$C$10)-K13/($C$3*$C$4))*$C$4 -> -9.0444167 | T13: =(-(($C$8-$C$9)/$C$10)-L13/($C$3*$C$4))*$C$4 -> -9.1017274 | U13: =(-(($C$8-$C$9)/$C$10)-M13/($C$3*$C$4))*$C$4 -> -9.1706953 | W13: 9 | X13: =$C$16/100*W13 -> 211.44858 | Z13: 9 | AA13: =$D$16/100*Z13 -> 211.44858 | AC13: 9 | AD13: =($C$3*$C$4)*($C$9/$C$8)+(AC13*($C$10/$C$8)) -> 1374.1358 | AE13: =(AC13/$X$104)*100 -> 0.38307185 | AF13: ='Gearing Calculator'!$C$17*Braking!AD13 -> 2061.2037 | AG13: =-(AF13/$C$3) -> -7.7430644
A14: 10 | B14: Drag Force (Fd) | C14: =0.5*'Gearing Calculator'!$C$15*Braking!C11*Acceleration!$C$6*(Braking!$C$21^2) -> 553.63799 | D14: =0.5*'Gearing Calculator'!$C$15*Braking!D11*Acceleration!$C$6*(Braking!$C$21^2) -> 484.64359 | E14: N | G14: 6100 | H14: =0.5*'Gearing Calculator'!$C$15*Braking!$C$11*Acceleration!$C$6*(Forces!H14^2) -> 18.795346 | I14: =0.5*'Gearing Calculator'!$C$15*Braking!$C$11*Acceleration!$C$6*(Forces!I14^2) -> 31.358208 | J14: =0.5*'Gearing Calculator'!$C$15*Braking!$C$11*Acceleration!$C$6*(Forces!J14^2) -> 45.15582 | K14: =0.5*'Gearing Calculator'!$C$15*Braking!$C$11*Acceleration!$C$6*(Forces!K14^2) -> 60.118695 | L14: =0.5*'Gearing Calculator'!$C$15*Braking!$C$11*Acceleration!$C$6*(Forces!L14^2) -> 75.879121 | M14: =0.5*'Gearing Calculator'!$C$15*Braking!$C$11*Acceleration!$C$6*(Forces!M14^2) -> 94.845242 | O14: 6100 | P14: =(-(($C$8-$C$9)/$C$10)-H14/($C$3*$C$4))*$C$4 -> -8.8964089 | Q14: =(-(($C$8-$C$9)/$C$10)-I14/($C$3*$C$4))*$C$4 -> -8.9436022 | R14: =(-(($C$8-$C$9)/$C$10)-J14/($C$3*$C$4))*$C$4 -> -8.9954339 | S14: =(-(($C$8-$C$9)/$C$10)-K14/($C$3*$C$4))*$C$4 -> -9.0516431 | T14: =(-(($C$8-$C$9)/$C$10)-L14/($C$3*$C$4))*$C$4 -> -9.1108483 | U14: =(-(($C$8-$C$9)/$C$10)-M14/($C$3*$C$4))*$C$4 -> -9.1820959 | W14: 10 | X14: =$C$16/100*W14 -> 234.94287 | Z14: 10 | AA14: =$D$16/100*Z14 -> 234.94287 | AC14: 10 | AD14: =($C$3*$C$4)*($C$9/$C$8)+(AC14*($C$10/$C$8)) -> 1374.6645 | AE14: =(AC14/$X$104)*100 -> 0.42563539 | AF14: ='Gearing Calculator'!$C$17*Braking!AD14 -> 2061.9967 | AG14: =-(AF14/$C$3) -> -7.7460433
A15: 11 | B15: Front braking force (Ff) | C15: =VLOOKUP(C26,Z4:AA104,2,FALSE) -> 2349.4287 | D15: =VLOOKUP(C26,Z4:AA104,2,FALSE) -> 2349.4287 | E15: N | G15: 6200 | H15: =0.5*'Gearing Calculator'!$C$15*Braking!$C$11*Acceleration!$C$6*(Forces!H15^2) -> 19.406537 | I15: =0.5*'Gearing Calculator'!$C$15*Braking!$C$11*Acceleration!$C$6*(Forces!I15^2) -> 32.377921 | J15: =0.5*'Gearing Calculator'!$C$15*Braking!$C$11*Acceleration!$C$6*(Forces!J15^2) -> 46.624206 | K15: =0.5*'Gearing Calculator'!$C$15*Braking!$C$11*Acceleration!$C$6*(Forces!K15^2) -> 62.073647 | L15: =0.5*'Gearing Calculator'!$C$15*Braking!$C$11*Acceleration!$C$6*(Forces!L15^2) -> 78.346574 | M15: =0.5*'Gearing Calculator'!$C$15*Braking!$C$11*Acceleration!$C$6*(Forces!M15^2) -> 97.92944 | O15: 6200 | P15: =(-(($C$8-$C$9)/$C$10)-H15/($C$3*$C$4))*$C$4 -> -8.8987049 | Q15: =(-(($C$8-$C$9)/$C$10)-I15/($C$3*$C$4))*$C$4 -> -8.9474328 | R15: =(-(($C$8-$C$9)/$C$10)-J15/($C$3*$C$4))*$C$4 -> -9.00095 | S15: =(-(($C$8-$C$9)/$C$10)-K15/($C$3*$C$4))*$C$4 -> -9.058987 | T15: =(-(($C$8-$C$9)/$C$10)-L15/($C$3*$C$4))*$C$4 -> -9.1201175 | U15: =(-(($C$8-$C$9)/$C$10)-M15/($C$3*$C$4))*$C$4 -> -9.193682 | W15: 11 | X15: =$C$16/100*W15 -> 258.43716 | Z15: 11 | AA15: =$D$16/100*Z15 -> 258.43716 | AC15: 11 | AD15: =($C$3*$C$4)*($C$9/$C$8)+(AC15*($C$10/$C$8)) -> 1375.1931 | AE15: =(AC15/$X$104)*100 -> 0.46819893 | AF15: ='Gearing Calculator'!$C$17*Braking!AD15 -> 2062.7897 | AG15: =-(AF15/$C$3) -> -7.7490222
A16: 12 | B16: Max total braking (Ft) | C16: =($C$3*$C$4)*(($C$8-C9)/C10) -> 2349.4287 | D16: =($C$3*$C$4)*(($C$8-D9)/D10) -> 2349.4287 | E16: N | G16: 6300 | H16: =0.5*'Gearing Calculator'!$C$15*Braking!$C$11*Acceleration!$C$6*(Forces!H16^2) -> 20.027508 | I16: =0.5*'Gearing Calculator'!$C$15*Braking!$C$11*Acceleration!$C$6*(Forces!I16^2) -> 33.413949 | J16: =0.5*'Gearing Calculator'!$C$15*Braking!$C$11*Acceleration!$C$6*(Forces!J16^2) -> 48.116087 | K16: =0.5*'Gearing Calculator'!$C$15*Braking!$C$11*Acceleration!$C$6*(Forces!K16^2) -> 64.059879 | L16: =0.5*'Gearing Calculator'!$C$15*Braking!$C$11*Acceleration!$C$6*(Forces!L16^2) -> 80.853507 | M16: =0.5*'Gearing Calculator'!$C$15*Braking!$C$11*Acceleration!$C$6*(Forces!M16^2) -> 101.06298 | O16: 6300 | P16: =(-(($C$8-$C$9)/$C$10)-H16/($C$3*$C$4))*$C$4 -> -8.9010376 | Q16: =(-(($C$8-$C$9)/$C$10)-I16/($C$3*$C$4))*$C$4 -> -8.9513247 | R16: =(-(($C$8-$C$9)/$C$10)-J16/($C$3*$C$4))*$C$4 -> -9.0065544 | S16: =(-(($C$8-$C$9)/$C$10)-K16/($C$3*$C$4))*$C$4 -> -9.0664484 | T16: =(-(($C$8-$C$9)/$C$10)-L16/($C$3*$C$4))*$C$4 -> -9.1295349 | U16: =(-(($C$8-$C$9)/$C$10)-M16/($C$3*$C$4))*$C$4 -> -9.2054533 | W16: 12 | X16: =$C$16/100*W16 -> 281.93144 | Z16: 12 | AA16: =$D$16/100*Z16 -> 281.93144 | AC16: 12 | AD16: =($C$3*$C$4)*($C$9/$C$8)+(AC16*($C$10/$C$8)) -> 1375.7218 | AE16: =(AC16/$X$104)*100 -> 0.51076247 | AF16: ='Gearing Calculator'!$C$17*Braking!AD16 -> 2063.5827 | AG16: =-(AF16/$C$3) -> -7.7520011
A17: 13 | B17: Dynamic Front Load (Nf) | C17: =C5*('Gearing Calculator'!V16/'Gearing Calculator'!$C$7)+Braking!C15*('Gearing Calculator'!V17/'Gearing Calculator'!$C$7) -> 2611.422 | D17: =C17 -> 2611.422 | E17: N | G17: 6400 | H17: =0.5*'Gearing Calculator'!$C$15*Braking!$C$11*Acceleration!$C$6*(Forces!H17^2) -> 20.658257 | I17: =0.5*'Gearing Calculator'!$C$15*Braking!$C$11*Acceleration!$C$6*(Forces!I17^2) -> 34.466293 | J17: =0.5*'Gearing Calculator'!$C$15*Braking!$C$11*Acceleration!$C$6*(Forces!J17^2) -> 49.631462 | K17: =0.5*'Gearing Calculator'!$C$15*Braking!$C$11*Acceleration!$C$6*(Forces!K17^2) -> 66.07739 | L17: =0.5*'Gearing Calculator'!$C$15*Braking!$C$11*Acceleration!$C$6*(Forces!L17^2) -> 83.399918 | M17: =0.5*'Gearing Calculator'!$C$15*Braking!$C$11*Acceleration!$C$6*(Forces!M17^2) -> 104.24588 | O17: 6400 | P17: =(-(($C$8-$C$9)/$C$10)-H17/($C$3*$C$4))*$C$4 -> -8.903407 | Q17: =(-(($C$8-$C$9)/$C$10)-I17/($C$3*$C$4))*$C$4 -> -8.9552779 | R17: =(-(($C$8-$C$9)/$C$10)-J17/($C$3*$C$4))*$C$4 -> -9.012247 | S17: =(-(($C$8-$C$9)/$C$10)-K17/($C$3*$C$4))*$C$4 -> -9.0740274 | T17: =(-(($C$8-$C$9)/$C$10)-L17/($C$3*$C$4))*$C$4 -> -9.1391007 | U17: =(-(($C$8-$C$9)/$C$10)-M17/($C$3*$C$4))*$C$4 -> -9.2174101 | W17: 13 | X17: =$C$16/100*W17 -> 305.42573 | Z17: 13 | AA17: =$D$16/100*Z17 -> 305.42573 | AC17: 13 | AD17: =($C$3*$C$4)*($C$9/$C$8)+(AC17*($C$10/$C$8)) -> 1376.2505 | AE17: =(AC17/$X$104)*100 -> 0.55332601 | AF17: ='Gearing Calculator'!$C$17*Braking!AD17 -> 2064.3757 | AG17: =-(AF17/$C$3) -> -7.75498
A18: 14 | B18: Traction Limited Braking | C18: ='Gearing Calculator'!$C$17*Braking!C17 -> 3917.133 | D18: ='Gearing Calculator'!$C$17*Braking!D17 -> 3917.133 | E18: N | G18: 6500 | H18: =0.5*'Gearing Calculator'!$C$15*Braking!$C$11*Acceleration!$C$6*(Forces!H18^2) -> 21.298785 | I18: =0.5*'Gearing Calculator'!$C$15*Braking!$C$11*Acceleration!$C$6*(Forces!I18^2) -> 35.534952 | J18: =0.5*'Gearing Calculator'!$C$15*Braking!$C$11*Acceleration!$C$6*(Forces!J18^2) -> 51.170331 | K18: =0.5*'Gearing Calculator'!$C$15*Braking!$C$11*Acceleration!$C$6*(Forces!K18^2) -> 68.12618 | L18: =0.5*'Gearing Calculator'!$C$15*Braking!$C$11*Acceleration!$C$6*(Forces!L18^2) -> 85.985809 | M18: =0.5*'Gearing Calculator'!$C$15*Braking!$C$11*Acceleration!$C$6*(Forces!M18^2) -> 107.47812 | O18: 6500 | P18: =(-(($C$8-$C$9)/$C$10)-H18/($C$3*$C$4))*$C$4 -> -8.9058132 | Q18: =(-(($C$8-$C$9)/$C$10)-I18/($C$3*$C$4))*$C$4 -> -8.9592924 | R18: =(-(($C$8-$C$9)/$C$10)-J18/($C$3*$C$4))*$C$4 -> -9.0180279 | S18: =(-(($C$8-$C$9)/$C$10)-K18/($C$3*$C$4))*$C$4 -> -9.0817238 | T18: =(-(($C$8-$C$9)/$C$10)-L18/($C$3*$C$4))*$C$4 -> -9.1488148 | U18: =(-(($C$8-$C$9)/$C$10)-M18/($C$3*$C$4))*$C$4 -> -9.2295523 | W18: 14 | X18: =$C$16/100*W18 -> 328.92002 | Z18: 14 | AA18: =$D$16/100*Z18 -> 328.92002 | AC18: 14 | AD18: =($C$3*$C$4)*($C$9/$C$8)+(AC18*($C$10/$C$8)) -> 1376.7791 | AE18: =(AC18/$X$104)*100 -> 0.59588955 | AF18: ='Gearing Calculator'!$C$17*Braking!AD18 -> 2065.1687 | AG18: =-(AF18/$C$3) -> -7.7579589
A19: 15 | B19: Endo Limited Braking | C19: =(-(($C$8-C9)/C10)-C14/($C$3*$C$4))*C4 -> -10.905585 | D19: =(-(($C$8-D9)/D10)-D14/($C$3*$C$4))*C4 -> -10.646402 | E19: m/s² | G19: 6600 | H19: =0.5*'Gearing Calculator'!$C$15*Braking!$C$11*Acceleration!$C$6*(Forces!H19^2) -> 21.949092 | I19: =0.5*'Gearing Calculator'!$C$15*Braking!$C$11*Acceleration!$C$6*(Forces!I19^2) -> 36.619926 | J19: =0.5*'Gearing Calculator'!$C$15*Braking!$C$11*Acceleration!$C$6*(Forces!J19^2) -> 52.732694 | K19: =0.5*'Gearing Calculator'!$C$15*Braking!$C$11*Acceleration!$C$6*(Forces!K19^2) -> 70.206249 | L19: =0.5*'Gearing Calculator'!$C$15*Braking!$C$11*Acceleration!$C$6*(Forces!L19^2) -> 88.61118 | M19: =0.5*'Gearing Calculator'!$C$15*Braking!$C$11*Acceleration!$C$6*(Forces!M19^2) -> 110.7597 | O19: 6600 | P19: =(-(($C$8-$C$9)/$C$10)-H19/($C$3*$C$4))*$C$4 -> -8.9082562 | Q19: =(-(($C$8-$C$9)/$C$10)-I19/($C$3*$C$4))*$C$4 -> -8.9633682 | R19: =(-(($C$8-$C$9)/$C$10)-J19/($C$3*$C$4))*$C$4 -> -9.023897 | S19: =(-(($C$8-$C$9)/$C$10)-K19/($C$3*$C$4))*$C$4 -> -9.0895377 | T19: =(-(($C$8-$C$9)/$C$10)-L19/($C$3*$C$4))*$C$4 -> -9.1586772 | U19: =(-(($C$8-$C$9)/$C$10)-M19/($C$3*$C$4))*$C$4 -> -9.2418798 | W19: 15 | X19: =$C$16/100*W19 -> 352.4143 | Z19: 15 | AA19: =$D$16/100*Z19 -> 352.4143 | AC19: 15 | AD19: =($C$3*$C$4)*($C$9/$C$8)+(AC19*($C$10/$C$8)) -> 1377.3078 | AE19: =(AC19/$X$104)*100 -> 0.63845309 | AF19: ='Gearing Calculator'!$C$17*Braking!AD19 -> 2065.9617 | AG19: =-(AF19/$C$3) -> -7.7609378
A20: 16 | G20: 6700 | H20: =0.5*'Gearing Calculator'!$C$15*Braking!$C$11*Acceleration!$C$6*(Forces!H20^2) -> 22.609178 | I20: =0.5*'Gearing Calculator'!$C$15*Braking!$C$11*Acceleration!$C$6*(Forces!I20^2) -> 37.721216 | J20: =0.5*'Gearing Calculator'!$C$15*Braking!$C$11*Acceleration!$C$6*(Forces!J20^2) -> 54.318551 | K20: =0.5*'Gearing Calculator'!$C$15*Braking!$C$11*Acceleration!$C$6*(Forces!K20^2) -> 72.317598 | L20: =0.5*'Gearing Calculator'!$C$15*Braking!$C$11*Acceleration!$C$6*(Forces!L20^2) -> 91.276029 | M20: =0.5*'Gearing Calculator'!$C$15*Braking!$C$11*Acceleration!$C$6*(Forces!M20^2) -> 114.09063 | O20: 6700 | P20: =(-(($C$8-$C$9)/$C$10)-H20/($C$3*$C$4))*$C$4 -> -8.9107358 | Q20: =(-(($C$8-$C$9)/$C$10)-I20/($C$3*$C$4))*$C$4 -> -8.9675053 | R20: =(-(($C$8-$C$9)/$C$10)-J20/($C$3*$C$4))*$C$4 -> -9.0298544 | S20: =(-(($C$8-$C$9)/$C$10)-K20/($C$3*$C$4))*$C$4 -> -9.0974692 | T20: =(-(($C$8-$C$9)/$C$10)-L20/($C$3*$C$4))*$C$4 -> -9.1686879 | U20: =(-(($C$8-$C$9)/$C$10)-M20/($C$3*$C$4))*$C$4 -> -9.2543927 | W20: 16 | X20: =$C$16/100*W20 -> 375.90859 | Z20: 16 | AA20: =$D$16/100*Z20 -> 375.90859 | AC20: 16 | AD20: =($C$3*$C$4)*($C$9/$C$8)+(AC20*($C$10/$C$8)) -> 1377.8364 | AE20: =(AC20/$X$104)*100 -> 0.68101662 | AF20: ='Gearing Calculator'!$C$17*Braking!AD20 -> 2066.7546 | AG20: =-(AF20/$C$3) -> -7.7639168
A21: 17 | B21: Entry Speed (m/s) | C21: =VLOOKUP(C24,'Gearing Calculator'!AA6:AL112,B36, FALSE) -> 67.668464 | G21: 6800 | H21: =0.5*'Gearing Calculator'!$C$15*Braking!$C$11*Acceleration!$C$6*(Forces!H21^2) -> 23.279044 | I21: =0.5*'Gearing Calculator'!$C$15*Braking!$C$11*Acceleration!$C$6*(Forces!I21^2) -> 38.838821 | J21: =0.5*'Gearing Calculator'!$C$15*Braking!$C$11*Acceleration!$C$6*(Forces!J21^2) -> 55.927903 | K21: =0.5*'Gearing Calculator'!$C$15*Braking!$C$11*Acceleration!$C$6*(Forces!K21^2) -> 74.460225 | L21: =0.5*'Gearing Calculator'!$C$15*Braking!$C$11*Acceleration!$C$6*(Forces!L21^2) -> 93.980358 | M21: =0.5*'Gearing Calculator'!$C$15*Braking!$C$11*Acceleration!$C$6*(Forces!M21^2) -> 117.47092 | O21: 6800 | P21: =(-(($C$8-$C$9)/$C$10)-H21/($C$3*$C$4))*$C$4 -> -8.9132522 | Q21: =(-(($C$8-$C$9)/$C$10)-I21/($C$3*$C$4))*$C$4 -> -8.9717037 | R21: =(-(($C$8-$C$9)/$C$10)-J21/($C$3*$C$4))*$C$4 -> -9.0359001 | S21: =(-(($C$8-$C$9)/$C$10)-K21/($C$3*$C$4))*$C$4 -> -9.1055181 | T21: =(-(($C$8-$C$9)/$C$10)-L21/($C$3*$C$4))*$C$4 -> -9.1788469 | U21: =(-(($C$8-$C$9)/$C$10)-M21/($C$3*$C$4))*$C$4 -> -9.267091 | W21: 17 | X21: =$C$16/100*W21 -> 399.40288 | Z21: 17 | AA21: =$D$16/100*Z21 -> 399.40288 | AC21: 17 | AD21: =($C$3*$C$4)*($C$9/$C$8)+(AC21*($C$10/$C$8)) -> 1378.3651 | AE21: =(AC21/$X$104)*100 -> 0.72358016 | AF21: ='Gearing Calculator'!$C$17*Braking!AD21 -> 2067.5476 | AG21: =-(AF21/$C$3) -> -7.7668957
A22: 18 | B22: Gear | C22: 6th | G22: 6900 | H22: =0.5*'Gearing Calculator'!$C$15*Braking!$C$11*Acceleration!$C$6*(Forces!H22^2) -> 23.958688 | I22: =0.5*'Gearing Calculator'!$C$15*Braking!$C$11*Acceleration!$C$6*(Forces!I22^2) -> 39.972742 | J22: =0.5*'Gearing Calculator'!$C$15*Braking!$C$11*Acceleration!$C$6*(Forces!J22^2) -> 57.560748 | K22: =0.5*'Gearing Calculator'!$C$15*Braking!$C$11*Acceleration!$C$6*(Forces!K22^2) -> 76.634133 | L22: =0.5*'Gearing Calculator'!$C$15*Braking!$C$11*Acceleration!$C$6*(Forces!L22^2) -> 96.724166 | M22: =0.5*'Gearing Calculator'!$C$15*Braking!$C$11*Acceleration!$C$6*(Forces!M22^2) -> 120.90054 | O22: 6900 | P22: =(-(($C$8-$C$9)/$C$10)-H22/($C$3*$C$4))*$C$4 -> -8.9158054 | Q22: =(-(($C$8-$C$9)/$C$10)-I22/($C$3*$C$4))*$C$4 -> -8.9759633 | R22: =(-(($C$8-$C$9)/$C$10)-J22/($C$3*$C$4))*$C$4 -> -9.042034 | S22: =(-(($C$8-$C$9)/$C$10)-K22/($C$3*$C$4))*$C$4 -> -9.1136846 | T22: =(-(($C$8-$C$9)/$C$10)-L22/($C$3*$C$4))*$C$4 -> -9.1891543 | U22: =(-(($C$8-$C$9)/$C$10)-M22/($C$3*$C$4))*$C$4 -> -9.2799746 | W22: 18 | X22: =$C$16/100*W22 -> 422.89717 | Z22: 18 | AA22: =$D$16/100*Z22 -> 422.89717 | AC22: 18 | AD22: =($C$3*$C$4)*($C$9/$C$8)+(AC22*($C$10/$C$8)) -> 1378.8937 | AE22: =(AC22/$X$104)*100 -> 0.7661437 | AF22: ='Gearing Calculator'!$C$17*Braking!AD22 -> 2068.3406 | AG22: =-(AF22/$C$3) -> -7.7698746
A23: 19 | B23: Internal Ratio | C23: =VLOOKUP(C22,A105:B110,2,FALSE) -> 7.3113821 | G23: 7000 | H23: =0.5*'Gearing Calculator'!$C$15*Braking!$C$11*Acceleration!$C$6*(Forces!H23^2) -> 24.648112 | I23: =0.5*'Gearing Calculator'!$C$15*Braking!$C$11*Acceleration!$C$6*(Forces!I23^2) -> 41.122978 | J23: =0.5*'Gearing Calculator'!$C$15*Braking!$C$11*Acceleration!$C$6*(Forces!J23^2) -> 59.217088 | K23: =0.5*'Gearing Calculator'!$C$15*Braking!$C$11*Acceleration!$C$6*(Forces!K23^2) -> 78.839319 | L23: =0.5*'Gearing Calculator'!$C$15*Braking!$C$11*Acceleration!$C$6*(Forces!L23^2) -> 99.507453 | M23: =0.5*'Gearing Calculator'!$C$15*Braking!$C$11*Acceleration!$C$6*(Forces!M23^2) -> 124.37952 | O23: 7000 | P23: =(-(($C$8-$C$9)/$C$10)-H23/($C$3*$C$4))*$C$4 -> -8.9183952 | Q23: =(-(($C$8-$C$9)/$C$10)-I23/($C$3*$C$4))*$C$4 -> -8.9802843 | R23: =(-(($C$8-$C$9)/$C$10)-J23/($C$3*$C$4))*$C$4 -> -9.0482561 | S23: =(-(($C$8-$C$9)/$C$10)-K23/($C$3*$C$4))*$C$4 -> -9.1219685 | T23: =(-(($C$8-$C$9)/$C$10)-L23/($C$3*$C$4))*$C$4 -> -9.1996099 | U23: =(-(($C$8-$C$9)/$C$10)-M23/($C$3*$C$4))*$C$4 -> -9.2930436 | W23: 19 | X23: =$C$16/100*W23 -> 446.39145 | Z23: 19 | AA23: =$D$16/100*Z23 -> 446.39145 | AC23: 19 | AD23: =($C$3*$C$4)*($C$9/$C$8)+(AC23*($C$10/$C$8)) -> 1379.4224 | AE23: =(AC23/$X$104)*100 -> 0.80870724 | AF23: ='Gearing Calculator'!$C$17*Braking!AD23 -> 2069.1336 | AG23: =-(AF23/$C$3) -> -7.7728535
A24: 20 | B24: RPM | C24: 15000 | G24: 7100 | H24: =0.5*'Gearing Calculator'!$C$15*Braking!$C$11*Acceleration!$C$6*(Forces!H24^2) -> 25.347314 | I24: =0.5*'Gearing Calculator'!$C$15*Braking!$C$11*Acceleration!$C$6*(Forces!I24^2) -> 42.289529 | J24: =0.5*'Gearing Calculator'!$C$15*Braking!$C$11*Acceleration!$C$6*(Forces!J24^2) -> 60.896922 | K24: =0.5*'Gearing Calculator'!$C$15*Braking!$C$11*Acceleration!$C$6*(Forces!K24^2) -> 81.075784 | L24: =0.5*'Gearing Calculator'!$C$15*Braking!$C$11*Acceleration!$C$6*(Forces!L24^2) -> 102.33022 | M24: =0.5*'Gearing Calculator'!$C$15*Braking!$C$11*Acceleration!$C$6*(Forces!M24^2) -> 127.90784 | O24: 7100 | P24: =(-(($C$8-$C$9)/$C$10)-H24/($C$3*$C$4))*$C$4 -> -8.9210218 | Q24: =(-(($C$8-$C$9)/$C$10)-I24/($C$3*$C$4))*$C$4 -> -8.9846665 | R24: =(-(($C$8-$C$9)/$C$10)-J24/($C$3*$C$4))*$C$4 -> -9.0545666 | S24: =(-(($C$8-$C$9)/$C$10)-K24/($C$3*$C$4))*$C$4 -> -9.13037 | T24: =(-(($C$8-$C$9)/$C$10)-L24/($C$3*$C$4))*$C$4 -> -9.2102138 | U24: =(-(($C$8-$C$9)/$C$10)-M24/($C$3*$C$4))*$C$4 -> -9.306298 | W24: 20 | X24: =$C$16/100*W24 -> 469.88574 | Z24: 20 | AA24: =$D$16/100*Z24 -> 469.88574 | AC24: 20 | AD24: =($C$3*$C$4)*($C$9/$C$8)+(AC24*($C$10/$C$8)) -> 1379.9511 | AE24: =(AC24/$X$104)*100 -> 0.85127078 | AF24: ='Gearing Calculator'!$C$17*Braking!AD24 -> 2069.9266 | AG24: =-(AF24/$C$3) -> -7.7758324
A25: 21 | G25: 7200 | H25: =0.5*'Gearing Calculator'!$C$15*Braking!$C$11*Acceleration!$C$6*(Forces!H25^2) -> 26.056296 | I25: =0.5*'Gearing Calculator'!$C$15*Braking!$C$11*Acceleration!$C$6*(Forces!I25^2) -> 43.472396 | J25: =0.5*'Gearing Calculator'!$C$15*Braking!$C$11*Acceleration!$C$6*(Forces!J25^2) -> 62.600251 | K25: =0.5*'Gearing Calculator'!$C$15*Braking!$C$11*Acceleration!$C$6*(Forces!K25^2) -> 83.343529 | L25: =0.5*'Gearing Calculator'!$C$15*Braking!$C$11*Acceleration!$C$6*(Forces!L25^2) -> 105.19247 | M25: =0.5*'Gearing Calculator'!$C$15*Braking!$C$11*Acceleration!$C$6*(Forces!M25^2) -> 131.48551 | O25: 7200 | P25: =(-(($C$8-$C$9)/$C$10)-H25/($C$3*$C$4))*$C$4 -> -8.9236852 | Q25: =(-(($C$8-$C$9)/$C$10)-I25/($C$3*$C$4))*$C$4 -> -8.98911 | R25: =(-(($C$8-$C$9)/$C$10)-J25/($C$3*$C$4))*$C$4 -> -9.0609652 | S25: =(-(($C$8-$C$9)/$C$10)-K25/($C$3*$C$4))*$C$4 -> -9.1388889 | T25: =(-(($C$8-$C$9)/$C$10)-L25/($C$3*$C$4))*$C$4 -> -9.220966 | U25: =(-(($C$8-$C$9)/$C$10)-M25/($C$3*$C$4))*$C$4 -> -9.3197378 | W25: 21 | X25: =$C$16/100*W25 -> 493.38003 | Z25: 21 | AA25: =$D$16/100*Z25 -> 493.38003 | AC25: 21 | AD25: =($C$3*$C$4)*($C$9/$C$8)+(AC25*($C$10/$C$8)) -> 1380.4797 | AE25: =(AC25/$X$104)*100 -> 0.89383432 | AF25: ='Gearing Calculator'!$C$17*Braking!AD25 -> 2070.7196 | AG25: =-(AF25/$C$3) -> -7.7788113
A26: 22 | B26: F Brake % | C26: 100 | G26: 7300 | H26: =0.5*'Gearing Calculator'!$C$15*Braking!$C$11*Acceleration!$C$6*(Forces!H26^2) -> 26.775056 | I26: =0.5*'Gearing Calculator'!$C$15*Braking!$C$11*Acceleration!$C$6*(Forces!I26^2) -> 44.671579 | J26: =0.5*'Gearing Calculator'!$C$15*Braking!$C$11*Acceleration!$C$6*(Forces!J26^2) -> 64.327073 | K26: =0.5*'Gearing Calculator'!$C$15*Braking!$C$11*Acceleration!$C$6*(Forces!K26^2) -> 85.642553 | L26: =0.5*'Gearing Calculator'!$C$15*Braking!$C$11*Acceleration!$C$6*(Forces!L26^2) -> 108.09419 | M26: =0.5*'Gearing Calculator'!$C$15*Braking!$C$11*Acceleration!$C$6*(Forces!M26^2) -> 135.11252 | O26: 7300 | P26: =(-(($C$8-$C$9)/$C$10)-H26/($C$3*$C$4))*$C$4 -> -8.9263852 | Q26: =(-(($C$8-$C$9)/$C$10)-I26/($C$3*$C$4))*$C$4 -> -8.9936149 | R26: =(-(($C$8-$C$9)/$C$10)-J26/($C$3*$C$4))*$C$4 -> -9.0674522 | S26: =(-(($C$8-$C$9)/$C$10)-K26/($C$3*$C$4))*$C$4 -> -9.1475254 | T26: =(-(($C$8-$C$9)/$C$10)-L26/($C$3*$C$4))*$C$4 -> -9.2318666 | U26: =(-(($C$8-$C$9)/$C$10)-M26/($C$3*$C$4))*$C$4 -> -9.333363 | W26: 22 | X26: =$C$16/100*W26 -> 516.87431 | Z26: 22 | AA26: =$D$16/100*Z26 -> 516.87431 | AC26: 22 | AD26: =($C$3*$C$4)*($C$9/$C$8)+(AC26*($C$10/$C$8)) -> 1381.0084 | AE26: =(AC26/$X$104)*100 -> 0.93639786 | AF26: ='Gearing Calculator'!$C$17*Braking!AD26 -> 2071.5126 | AG26: =-(AF26/$C$3) -> -7.7817902
A27: 23 | G27: 7400 | H27: =0.5*'Gearing Calculator'!$C$15*Braking!$C$11*Acceleration!$C$6*(Forces!H27^2) -> 27.503596 | I27: =0.5*'Gearing Calculator'!$C$15*Braking!$C$11*Acceleration!$C$6*(Forces!I27^2) -> 45.887076 | J27: =0.5*'Gearing Calculator'!$C$15*Braking!$C$11*Acceleration!$C$6*(Forces!J27^2) -> 66.07739 | K27: =0.5*'Gearing Calculator'!$C$15*Braking!$C$11*Acceleration!$C$6*(Forces!K27^2) -> 87.972856 | L27: =0.5*'Gearing Calculator'!$C$15*Braking!$C$11*Acceleration!$C$6*(Forces!L27^2) -> 111.03539 | M27: =0.5*'Gearing Calculator'!$C$15*Braking!$C$11*Acceleration!$C$6*(Forces!M27^2) -> 138.78889 | O27: 7400 | P27: =(-(($C$8-$C$9)/$C$10)-H27/($C$3*$C$4))*$C$4 -> -8.9291221 | Q27: =(-(($C$8-$C$9)/$C$10)-I27/($C$3*$C$4))*$C$4 -> -8.998181 | R27: =(-(($C$8-$C$9)/$C$10)-J27/($C$3*$C$4))*$C$4 -> -9.0740274 | S27: =(-(($C$8-$C$9)/$C$10)-K27/($C$3*$C$4))*$C$4 -> -9.1562793 | T27: =(-(($C$8-$C$9)/$C$10)-L27/($C$3*$C$4))*$C$4 -> -9.2429154 | U27: =(-(($C$8-$C$9)/$C$10)-M27/($C$3*$C$4))*$C$4 -> -9.3471735 | W27: 23 | X27: =$C$16/100*W27 -> 540.3686 | Z27: 23 | AA27: =$D$16/100*Z27 -> 540.3686 | AC27: 23 | AD27: =($C$3*$C$4)*($C$9/$C$8)+(AC27*($C$10/$C$8)) -> 1381.537 | AE27: =(AC27/$X$104)*100 -> 0.9789614 | AF27: ='Gearing Calculator'!$C$17*Braking!AD27 -> 2072.3055 | AG27: =-(AF27/$C$3) -> -7.7847692
A28: 24 | G28: 7500 | H28: =0.5*'Gearing Calculator'!$C$15*Braking!$C$11*Acceleration!$C$6*(Forces!H28^2) -> 28.241915 | I28: =0.5*'Gearing Calculator'!$C$15*Braking!$C$11*Acceleration!$C$6*(Forces!I28^2) -> 47.118889 | J28: =0.5*'Gearing Calculator'!$C$15*Braking!$C$11*Acceleration!$C$6*(Forces!J28^2) -> 67.851201 | K28: =0.5*'Gearing Calculator'!$C$15*Braking!$C$11*Acceleration!$C$6*(Forces!K28^2) -> 90.334439 | L28: =0.5*'Gearing Calculator'!$C$15*Braking!$C$11*Acceleration!$C$6*(Forces!L28^2) -> 114.01608 | M28: =0.5*'Gearing Calculator'!$C$15*Braking!$C$11*Acceleration!$C$6*(Forces!M28^2) -> 142.5146 | O28: 7500 | P28: =(-(($C$8-$C$9)/$C$10)-H28/($C$3*$C$4))*$C$4 -> -8.9318956 | Q28: =(-(($C$8-$C$9)/$C$10)-I28/($C$3*$C$4))*$C$4 -> -9.0028084 | R28: =(-(($C$8-$C$9)/$C$10)-J28/($C$3*$C$4))*$C$4 -> -9.0806908 | S28: =(-(($C$8-$C$9)/$C$10)-K28/($C$3*$C$4))*$C$4 -> -9.1651508 | T28: =(-(($C$8-$C$9)/$C$10)-L28/($C$3*$C$4))*$C$4 -> -9.2541126 | U28: =(-(($C$8-$C$9)/$C$10)-M28/($C$3*$C$4))*$C$4 -> -9.3611694 | W28: 24 | X28: =$C$16/100*W28 -> 563.86289 | Z28: 24 | AA28: =$D$16/100*Z28 -> 563.86289 | AC28: 24 | AD28: =($C$3*$C$4)*($C$9/$C$8)+(AC28*($C$10/$C$8)) -> 1382.0657 | AE28: =(AC28/$X$104)*100 -> 1.0215249 | AF28: ='Gearing Calculator'!$C$17*Braking!AD28 -> 2073.0985 | AG28: =-(AF28/$C$3) -> -7.7877481
A29: 25 | G29: 7600 | H29: =0.5*'Gearing Calculator'!$C$15*Braking!$C$11*Acceleration!$C$6*(Forces!H29^2) -> 28.990013 | I29: =0.5*'Gearing Calculator'!$C$15*Braking!$C$11*Acceleration!$C$6*(Forces!I29^2) -> 48.367018 | J29: =0.5*'Gearing Calculator'!$C$15*Braking!$C$11*Acceleration!$C$6*(Forces!J29^2) -> 69.648506 | K29: =0.5*'Gearing Calculator'!$C$15*Braking!$C$11*Acceleration!$C$6*(Forces!K29^2) -> 92.7273 | L29: =0.5*'Gearing Calculator'!$C$15*Braking!$C$11*Acceleration!$C$6*(Forces!L29^2) -> 117.03624 | M29: =0.5*'Gearing Calculator'!$C$15*Braking!$C$11*Acceleration!$C$6*(Forces!M29^2) -> 146.28966 | O29: 7600 | P29: =(-(($C$8-$C$9)/$C$10)-H29/($C$3*$C$4))*$C$4 -> -8.9347059 | Q29: =(-(($C$8-$C$9)/$C$10)-I29/($C$3*$C$4))*$C$4 -> -9.007497 | R29: =(-(($C$8-$C$9)/$C$10)-J29/($C$3*$C$4))*$C$4 -> -9.0874425 | S29: =(-(($C$8-$C$9)/$C$10)-K29/($C$3*$C$4))*$C$4 -> -9.1741397 | T29: =(-(($C$8-$C$9)/$C$10)-L29/($C$3*$C$4))*$C$4 -> -9.2654581 | U29: =(-(($C$8-$C$9)/$C$10)-M29/($C$3*$C$4))*$C$4 -> -9.3753507 | W29: 25 | X29: =$C$16/100*W29 -> 587.35717 | Z29: 25 | AA29: =$D$16/100*Z29 -> 587.35717 | AC29: 25 | AD29: =($C$3*$C$4)*($C$9/$C$8)+(AC29*($C$10/$C$8)) -> 1382.5943 | AE29: =(AC29/$X$104)*100 -> 1.0640885 | AF29: ='Gearing Calculator'!$C$17*Braking!AD29 -> 2073.8915 | AG29: =-(AF29/$C$3) -> -7.790727
A30: 26 | B30: 1st | C30: 7 | G30: 7700 | H30: =0.5*'Gearing Calculator'!$C$15*Braking!$C$11*Acceleration!$C$6*(Forces!H30^2) -> 29.74789 | I30: =0.5*'Gearing Calculator'!$C$15*Braking!$C$11*Acceleration!$C$6*(Forces!I30^2) -> 49.631462 | J30: =0.5*'Gearing Calculator'!$C$15*Braking!$C$11*Acceleration!$C$6*(Forces!J30^2) -> 71.469305 | K30: =0.5*'Gearing Calculator'!$C$15*Braking!$C$11*Acceleration!$C$6*(Forces!K30^2) -> 95.151441 | L30: =0.5*'Gearing Calculator'!$C$15*Braking!$C$11*Acceleration!$C$6*(Forces!L30^2) -> 120.09588 | M30: =0.5*'Gearing Calculator'!$C$15*Braking!$C$11*Acceleration!$C$6*(Forces!M30^2) -> 150.11406 | O30: 7700 | P30: =(-(($C$8-$C$9)/$C$10)-H30/($C$3*$C$4))*$C$4 -> -8.9375529 | Q30: =(-(($C$8-$C$9)/$C$10)-I30/($C$3*$C$4))*$C$4 -> -9.012247 | R30: =(-(($C$8-$C$9)/$C$10)-J30/($C$3*$C$4))*$C$4 -> -9.0942825 | S30: =(-(($C$8-$C$9)/$C$10)-K30/($C$3*$C$4))*$C$4 -> -9.1832462 | T30: =(-(($C$8-$C$9)/$C$10)-L30/($C$3*$C$4))*$C$4 -> -9.2769518 | U30: =(-(($C$8-$C$9)/$C$10)-M30/($C$3*$C$4))*$C$4 -> -9.3897174 | W30: 26 | X30: =$C$16/100*W30 -> 610.85146 | Z30: 26 | AA30: =$D$16/100*Z30 -> 610.85146 | AC30: 26 | AD30: =($C$3*$C$4)*($C$9/$C$8)+(AC30*($C$10/$C$8)) -> 1383.123 | AE30: =(AC30/$X$104)*100 -> 1.106652 | AF30: ='Gearing Calculator'!$C$17*Braking!AD30 -> 2074.6845 | AG30: =-(AF30/$C$3) -> -7.7937059
A31: 27 | B31: 2nd | C31: 8 | G31: 7800 | H31: =0.5*'Gearing Calculator'!$C$15*Braking!$C$11*Acceleration!$C$6*(Forces!H31^2) -> 30.515546 | I31: =0.5*'Gearing Calculator'!$C$15*Braking!$C$11*Acceleration!$C$6*(Forces!I31^2) -> 50.912221 | J31: =0.5*'Gearing Calculator'!$C$15*Braking!$C$11*Acceleration!$C$6*(Forces!J31^2) -> 73.313598 | K31: =0.5*'Gearing Calculator'!$C$15*Braking!$C$11*Acceleration!$C$6*(Forces!K31^2) -> 97.606861 | L31: =0.5*'Gearing Calculator'!$C$15*Braking!$C$11*Acceleration!$C$6*(Forces!L31^2) -> 123.195 | M31: =0.5*'Gearing Calculator'!$C$15*Braking!$C$11*Acceleration!$C$6*(Forces!M31^2) -> 153.98781 | O31: 7800 | P31: =(-(($C$8-$C$9)/$C$10)-H31/($C$3*$C$4))*$C$4 -> -8.9404367 | Q31: =(-(($C$8-$C$9)/$C$10)-I31/($C$3*$C$4))*$C$4 -> -9.0170583 | R31: =(-(($C$8-$C$9)/$C$10)-J31/($C$3*$C$4))*$C$4 -> -9.1012107 | S31: =(-(($C$8-$C$9)/$C$10)-K31/($C$3*$C$4))*$C$4 -> -9.1924702 | T31: =(-(($C$8-$C$9)/$C$10)-L31/($C$3*$C$4))*$C$4 -> -9.2885939 | U31: =(-(($C$8-$C$9)/$C$10)-M31/($C$3*$C$4))*$C$4 -> -9.4042694 | W31: 27 | X31: =$C$16/100*W31 -> 634.34575 | Z31: 27 | AA31: =$D$16/100*Z31 -> 634.34575 | AC31: 27 | AD31: =($C$3*$C$4)*($C$9/$C$8)+(AC31*($C$10/$C$8)) -> 1383.6517 | AE31: =(AC31/$X$104)*100 -> 1.1492156 | AF31: ='Gearing Calculator'!$C$17*Braking!AD31 -> 2075.4775 | AG31: =-(AF31/$C$3) -> -7.7966848
A32: 28 | B32: 3rd | C32: 9 | G32: 7900 | H32: =0.5*'Gearing Calculator'!$C$15*Braking!$C$11*Acceleration!$C$6*(Forces!H32^2) -> 31.292981 | I32: =0.5*'Gearing Calculator'!$C$15*Braking!$C$11*Acceleration!$C$6*(Forces!I32^2) -> 52.209296 | J32: =0.5*'Gearing Calculator'!$C$15*Braking!$C$11*Acceleration!$C$6*(Forces!J32^2) -> 75.181386 | K32: =0.5*'Gearing Calculator'!$C$15*Braking!$C$11*Acceleration!$C$6*(Forces!K32^2) -> 100.09356 | L32: =0.5*'Gearing Calculator'!$C$15*Braking!$C$11*Acceleration!$C$6*(Forces!L32^2) -> 126.3336 | M32: =0.5*'Gearing Calculator'!$C$15*Braking!$C$11*Acceleration!$C$6*(Forces!M32^2) -> 157.91091 | O32: 7900 | P32: =(-(($C$8-$C$9)/$C$10)-H32/($C$3*$C$4))*$C$4 -> -8.9433572 | Q32: =(-(($C$8-$C$9)/$C$10)-I32/($C$3*$C$4))*$C$4 -> -9.0219309 | R32: =(-(($C$8-$C$9)/$C$10)-J32/($C$3*$C$4))*$C$4 -> -9.1082272 | S32: =(-(($C$8-$C$9)/$C$10)-K32/($C$3*$C$4))*$C$4 -> -9.2018116 | T32: =(-(($C$8-$C$9)/$C$10)-L32/($C$3*$C$4))*$C$4 -> -9.3003843 | U32: =(-(($C$8-$C$9)/$C$10)-M32/($C$3*$C$4))*$C$4 -> -9.4190068 | W32: 28 | X32: =$C$16/100*W32 -> 657.84004 | Z32: 28 | AA32: =$D$16/100*Z32 -> 657.84004 | AC32: 28 | AD32: =($C$3*$C$4)*($C$9/$C$8)+(AC32*($C$10/$C$8)) -> 1384.1803 | AE32: =(AC32/$X$104)*100 -> 1.1917791 | AF32: ='Gearing Calculator'!$C$17*Braking!AD32 -> 2076.2705 | AG32: =-(AF32/$C$3) -> -7.7996637
A33: 29 | B33: 4th | C33: 10 | G33: 8000 | H33: =0.5*'Gearing Calculator'!$C$15*Braking!$C$11*Acceleration!$C$6*(Forces!H33^2) -> 32.080195 | I33: =0.5*'Gearing Calculator'!$C$15*Braking!$C$11*Acceleration!$C$6*(Forces!I33^2) -> 53.522686 | J33: =0.5*'Gearing Calculator'!$C$15*Braking!$C$11*Acceleration!$C$6*(Forces!J33^2) -> 77.072667 | K33: =0.5*'Gearing Calculator'!$C$15*Braking!$C$11*Acceleration!$C$6*(Forces!K33^2) -> 102.61154 | L33: =0.5*'Gearing Calculator'!$C$15*Braking!$C$11*Acceleration!$C$6*(Forces!L33^2) -> 129.51168 | M33: =0.5*'Gearing Calculator'!$C$15*Braking!$C$11*Acceleration!$C$6*(Forces!M33^2) -> 161.88336 | O33: 8000 | P33: =(-(($C$8-$C$9)/$C$10)-H33/($C$3*$C$4))*$C$4 -> -8.9463144 | Q33: =(-(($C$8-$C$9)/$C$10)-I33/($C$3*$C$4))*$C$4 -> -9.0268647 | R33: =(-(($C$8-$C$9)/$C$10)-J33/($C$3*$C$4))*$C$4 -> -9.1153319 | S33: =(-(($C$8-$C$9)/$C$10)-K33/($C$3*$C$4))*$C$4 -> -9.2112706 | T33: =(-(($C$8-$C$9)/$C$10)-L33/($C$3*$C$4))*$C$4 -> -9.312323 | U33: =(-(($C$8-$C$9)/$C$10)-M33/($C$3*$C$4))*$C$4 -> -9.4339296 | W33: 29 | X33: =$C$16/100*W33 -> 681.33432 | Z33: 29 | AA33: =$D$16/100*Z33 -> 681.33432 | AC33: 29 | AD33: =($C$3*$C$4)*($C$9/$C$8)+(AC33*($C$10/$C$8)) -> 1384.709 | AE33: =(AC33/$X$104)*100 -> 1.2343426 | AF33: ='Gearing Calculator'!$C$17*Braking!AD33 -> 2077.0635 | AG33: =-(AF33/$C$3) -> -7.8026426
A34: 30 | B34: 5th | C34: 11 | G34: 8100 | H34: =0.5*'Gearing Calculator'!$C$15*Braking!$C$11*Acceleration!$C$6*(Forces!H34^2) -> 32.877188 | I34: =0.5*'Gearing Calculator'!$C$15*Braking!$C$11*Acceleration!$C$6*(Forces!I34^2) -> 54.852391 | J34: =0.5*'Gearing Calculator'!$C$15*Braking!$C$11*Acceleration!$C$6*(Forces!J34^2) -> 78.987443 | K34: =0.5*'Gearing Calculator'!$C$15*Braking!$C$11*Acceleration!$C$6*(Forces!K34^2) -> 105.1608 | L34: =0.5*'Gearing Calculator'!$C$15*Braking!$C$11*Acceleration!$C$6*(Forces!L34^2) -> 132.72924 | M34: =0.5*'Gearing Calculator'!$C$15*Braking!$C$11*Acceleration!$C$6*(Forces!M34^2) -> 165.90515 | O34: 8100 | P34: =(-(($C$8-$C$9)/$C$10)-H34/($C$3*$C$4))*$C$4 -> -8.9493084 | Q34: =(-(($C$8-$C$9)/$C$10)-I34/($C$3*$C$4))*$C$4 -> -9.0318598 | R34: =(-(($C$8-$C$9)/$C$10)-J34/($C$3*$C$4))*$C$4 -> -9.1225249 | S34: =(-(($C$8-$C$9)/$C$10)-K34/($C$3*$C$4))*$C$4 -> -9.2208471 | T34: =(-(($C$8-$C$9)/$C$10)-L34/($C$3*$C$4))*$C$4 -> -9.32441 | U34: =(-(($C$8-$C$9)/$C$10)-M34/($C$3*$C$4))*$C$4 -> -9.4490378 | W34: 30 | X34: =$C$16/100*W34 -> 704.82861 | Z34: 30 | AA34: =$D$16/100*Z34 -> 704.82861 | AC34: 30 | AD34: =($C$3*$C$4)*($C$9/$C$8)+(AC34*($C$10/$C$8)) -> 1385.2376 | AE34: =(AC34/$X$104)*100 -> 1.2769062 | AF34: ='Gearing Calculator'!$C$17*Braking!AD34 -> 2077.8565 | AG34: =-(AF34/$C$3) -> -7.8056216
A35: 31 | B35: 6th | C35: 12 | G35: 8200 | H35: =0.5*'Gearing Calculator'!$C$15*Braking!$C$11*Acceleration!$C$6*(Forces!H35^2) -> 33.68396 | I35: =0.5*'Gearing Calculator'!$C$15*Braking!$C$11*Acceleration!$C$6*(Forces!I35^2) -> 56.198412 | J35: =0.5*'Gearing Calculator'!$C$15*Braking!$C$11*Acceleration!$C$6*(Forces!J35^2) -> 80.925713 | K35: =0.5*'Gearing Calculator'!$C$15*Braking!$C$11*Acceleration!$C$6*(Forces!K35^2) -> 107.74133 | L35: =0.5*'Gearing Calculator'!$C$15*Braking!$C$11*Acceleration!$C$6*(Forces!L35^2) -> 135.98628 | M35: =0.5*'Gearing Calculator'!$C$15*Braking!$C$11*Acceleration!$C$6*(Forces!M35^2) -> 169.97629 | O35: 8200 | P35: =(-(($C$8-$C$9)/$C$10)-H35/($C$3*$C$4))*$C$4 -> -8.9523391 | Q35: =(-(($C$8-$C$9)/$C$10)-I35/($C$3*$C$4))*$C$4 -> -9.0369163 | R35: =(-(($C$8-$C$9)/$C$10)-J35/($C$3*$C$4))*$C$4 -> -9.1298062 | S35: =(-(($C$8-$C$9)/$C$10)-K35/($C$3*$C$4))*$C$4 -> -9.2305411 | T35: =(-(($C$8-$C$9)/$C$10)-L35/($C$3*$C$4))*$C$4 -> -9.3366453 | U35: =(-(($C$8-$C$9)/$C$10)-M35/($C$3*$C$4))*$C$4 -> -9.4643313 | W35: 31 | X35: =$C$16/100*W35 -> 728.3229 | Z35: 31 | AA35: =$D$16/100*Z35 -> 728.3229 | AC35: 31 | AD35: =($C$3*$C$4)*($C$9/$C$8)+(AC35*($C$10/$C$8)) -> 1385.7663 | AE35: =(AC35/$X$104)*100 -> 1.3194697 | AF35: ='Gearing Calculator'!$C$17*Braking!AD35 -> 2078.6494 | AG35: =-(AF35/$C$3) -> -7.8086005
A36: 32 | B36: =VLOOKUP(C22,B30:C35,2,FALSE) -> 12 | G36: 8300 | H36: =0.5*'Gearing Calculator'!$C$15*Braking!$C$11*Acceleration!$C$6*(Forces!H36^2) -> 34.500511 | I36: =0.5*'Gearing Calculator'!$C$15*Braking!$C$11*Acceleration!$C$6*(Forces!I36^2) -> 57.560748 | J36: =0.5*'Gearing Calculator'!$C$15*Braking!$C$11*Acceleration!$C$6*(Forces!J36^2) -> 82.887478 | K36: =0.5*'Gearing Calculator'!$C$15*Braking!$C$11*Acceleration!$C$6*(Forces!K36^2) -> 110.35315 | L36: =0.5*'Gearing Calculator'!$C$15*Braking!$C$11*Acceleration!$C$6*(Forces!L36^2) -> 139.2828 | M36: =0.5*'Gearing Calculator'!$C$15*Braking!$C$11*Acceleration!$C$6*(Forces!M36^2) -> 174.09678 | O36: 8300 | P36: =(-(($C$8-$C$9)/$C$10)-H36/($C$3*$C$4))*$C$4 -> -8.9554065 | Q36: =(-(($C$8-$C$9)/$C$10)-I36/($C$3*$C$4))*$C$4 -> -9.042034 | R36: =(-(($C$8-$C$9)/$C$10)-J36/($C$3*$C$4))*$C$4 -> -9.1371757 | S36: =(-(($C$8-$C$9)/$C$10)-K36/($C$3*$C$4))*$C$4 -> -9.2403525 | T36: =(-(($C$8-$C$9)/$C$10)-L36/($C$3*$C$4))*$C$4 -> -9.3490289 | U36: =(-(($C$8-$C$9)/$C$10)-M36/($C$3*$C$4))*$C$4 -> -9.4798102 | W36: 32 | X36: =$C$16/100*W36 -> 751.81718 | Z36: 32 | AA36: =$D$16/100*Z36 -> 751.81718 | AC36: 32 | AD36: =($C$3*$C$4)*($C$9/$C$8)+(AC36*($C$10/$C$8)) -> 1386.295 | AE36: =(AC36/$X$104)*100 -> 1.3620332 | AF36: ='Gearing Calculator'!$C$17*Braking!AD36 -> 2079.4424 | AG36: =-(AF36/$C$3) -> -7.8115794
A37: 33 | G37: 8400 | H37: =0.5*'Gearing Calculator'!$C$15*Braking!$C$11*Acceleration!$C$6*(Forces!H37^2) -> 35.326841 | I37: =0.5*'Gearing Calculator'!$C$15*Braking!$C$11*Acceleration!$C$6*(Forces!I37^2) -> 58.9394 | J37: =0.5*'Gearing Calculator'!$C$15*Braking!$C$11*Acceleration!$C$6*(Forces!J37^2) -> 84.872736 | K37: =0.5*'Gearing Calculator'!$C$15*Braking!$C$11*Acceleration!$C$6*(Forces!K37^2) -> 112.99625 | L37: =0.5*'Gearing Calculator'!$C$15*Braking!$C$11*Acceleration!$C$6*(Forces!L37^2) -> 142.6188 | M37: =0.5*'Gearing Calculator'!$C$15*Braking!$C$11*Acceleration!$C$6*(Forces!M37^2) -> 178.26662 | O37: 8400 | P37: =(-(($C$8-$C$9)/$C$10)-H37/($C$3*$C$4))*$C$4 -> -8.9585107 | Q37: =(-(($C$8-$C$9)/$C$10)-I37/($C$3*$C$4))*$C$4 -> -9.047213 | R37: =(-(($C$8-$C$9)/$C$10)-J37/($C$3*$C$4))*$C$4 -> -9.1446335 | S37: =(-(($C$8-$C$9)/$C$10)-K37/($C$3*$C$4))*$C$4 -> -9.2502815 | T37: =(-(($C$8-$C$9)/$C$10)-L37/($C$3*$C$4))*$C$4 -> -9.3615608 | U37: =(-(($C$8-$C$9)/$C$10)-M37/($C$3*$C$4))*$C$4 -> -9.4954745 | W37: 33 | X37: =$C$16/100*W37 -> 775.31147 | Z37: 33 | AA37: =$D$16/100*Z37 -> 775.31147 | AC37: 33 | AD37: =($C$3*$C$4)*($C$9/$C$8)+(AC37*($C$10/$C$8)) -> 1386.8236 | AE37: =(AC37/$X$104)*100 -> 1.4045968 | AF37: ='Gearing Calculator'!$C$17*Braking!AD37 -> 2080.2354 | AG37: =-(AF37/$C$3) -> -7.8145583
A38: 34 | G38: 8500 | H38: =0.5*'Gearing Calculator'!$C$15*Braking!$C$11*Acceleration!$C$6*(Forces!H38^2) -> 36.162951 | I38: =0.5*'Gearing Calculator'!$C$15*Braking!$C$11*Acceleration!$C$6*(Forces!I38^2) -> 60.334367 | J38: =0.5*'Gearing Calculator'!$C$15*Braking!$C$11*Acceleration!$C$6*(Forces!J38^2) -> 86.881489 | K38: =0.5*'Gearing Calculator'!$C$15*Braking!$C$11*Acceleration!$C$6*(Forces!K38^2) -> 115.67062 | L38: =0.5*'Gearing Calculator'!$C$15*Braking!$C$11*Acceleration!$C$6*(Forces!L38^2) -> 145.99427 | M38: =0.5*'Gearing Calculator'!$C$15*Braking!$C$11*Acceleration!$C$6*(Forces!M38^2) -> 182.4858 | O38: 8500 | P38: =(-(($C$8-$C$9)/$C$10)-H38/($C$3*$C$4))*$C$4 -> -8.9616516 | Q38: =(-(($C$8-$C$9)/$C$10)-I38/($C$3*$C$4))*$C$4 -> -9.0524533 | R38: =(-(($C$8-$C$9)/$C$10)-J38/($C$3*$C$4))*$C$4 -> -9.1521795 | S38: =(-(($C$8-$C$9)/$C$10)-K38/($C$3*$C$4))*$C$4 -> -9.260328 | T38: =(-(($C$8-$C$9)/$C$10)-L38/($C$3*$C$4))*$C$4 -> -9.3742411 | U38: =(-(($C$8-$C$9)/$C$10)-M38/($C$3*$C$4))*$C$4 -> -9.5113242 | W38: 34 | X38: =$C$16/100*W38 -> 798.80576 | Z38: 34 | AA38: =$D$16/100*Z38 -> 798.80576 | AC38: 34 | AD38: =($C$3*$C$4)*($C$9/$C$8)+(AC38*($C$10/$C$8)) -> 1387.3523 | AE38: =(AC38/$X$104)*100 -> 1.4471603 | AF38: ='Gearing Calculator'!$C$17*Braking!AD38 -> 2081.0284 | AG38: =-(AF38/$C$3) -> -7.8175372
A39: 35 | G39: 8600 | H39: =0.5*'Gearing Calculator'!$C$15*Braking!$C$11*Acceleration!$C$6*(Forces!H39^2) -> 37.008839 | I39: =0.5*'Gearing Calculator'!$C$15*Braking!$C$11*Acceleration!$C$6*(Forces!I39^2) -> 61.74565 | J39: =0.5*'Gearing Calculator'!$C$15*Braking!$C$11*Acceleration!$C$6*(Forces!J39^2) -> 88.913736 | K39: =0.5*'Gearing Calculator'!$C$15*Braking!$C$11*Acceleration!$C$6*(Forces!K39^2) -> 118.37628 | L39: =0.5*'Gearing Calculator'!$C$15*Braking!$C$11*Acceleration!$C$6*(Forces!L39^2) -> 149.40923 | M39: =0.5*'Gearing Calculator'!$C$15*Braking!$C$11*Acceleration!$C$6*(Forces!M39^2) -> 186.75433 | O39: 8600 | P39: =(-(($C$8-$C$9)/$C$10)-H39/($C$3*$C$4))*$C$4 -> -8.9648292 | Q39: =(-(($C$8-$C$9)/$C$10)-I39/($C$3*$C$4))*$C$4 -> -9.0577549 | R39: =(-(($C$8-$C$9)/$C$10)-J39/($C$3*$C$4))*$C$4 -> -9.1598138 | S39: =(-(($C$8-$C$9)/$C$10)-K39/($C$3*$C$4))*$C$4 -> -9.270492 | T39: =(-(($C$8-$C$9)/$C$10)-L39/($C$3*$C$4))*$C$4 -> -9.3870696 | U39: =(-(($C$8-$C$9)/$C$10)-M39/($C$3*$C$4))*$C$4 -> -9.5273592 | W39: 35 | X39: =$C$16/100*W39 -> 822.30004 | Z39: 35 | AA39: =$D$16/100*Z39 -> 822.30004 | AC39: 35 | AD39: =($C$3*$C$4)*($C$9/$C$8)+(AC39*($C$10/$C$8)) -> 1387.8809 | AE39: =(AC39/$X$104)*100 -> 1.4897239 | AF39: ='Gearing Calculator'!$C$17*Braking!AD39 -> 2081.8214 | AG39: =-(AF39/$C$3) -> -7.8205161
A40: 36 | G40: 8700 | H40: =0.5*'Gearing Calculator'!$C$15*Braking!$C$11*Acceleration!$C$6*(Forces!H40^2) -> 37.864506 | I40: =0.5*'Gearing Calculator'!$C$15*Braking!$C$11*Acceleration!$C$6*(Forces!I40^2) -> 63.173248 | J40: =0.5*'Gearing Calculator'!$C$15*Braking!$C$11*Acceleration!$C$6*(Forces!J40^2) -> 90.969477 | K40: =0.5*'Gearing Calculator'!$C$15*Braking!$C$11*Acceleration!$C$6*(Forces!K40^2) -> 121.11321 | L40: =0.5*'Gearing Calculator'!$C$15*Braking!$C$11*Acceleration!$C$6*(Forces!L40^2) -> 152.86366 | M40: =0.5*'Gearing Calculator'!$C$15*Braking!$C$11*Acceleration!$C$6*(Forces!M40^2) -> 191.0722 | O40: 8700 | P40: =(-(($C$8-$C$9)/$C$10)-H40/($C$3*$C$4))*$C$4 -> -8.9680436 | Q40: =(-(($C$8-$C$9)/$C$10)-I40/($C$3*$C$4))*$C$4 -> -9.0631177 | R40: =(-(($C$8-$C$9)/$C$10)-J40/($C$3*$C$4))*$C$4 -> -9.1675363 | S40: =(-(($C$8-$C$9)/$C$10)-K40/($C$3*$C$4))*$C$4 -> -9.2807735 | T40: =(-(($C$8-$C$9)/$C$10)-L40/($C$3*$C$4))*$C$4 -> -9.4000464 | U40: =(-(($C$8-$C$9)/$C$10)-M40/($C$3*$C$4))*$C$4 -> -9.5435796 | W40: 36 | X40: =$C$16/100*W40 -> 845.79433 | Z40: 36 | AA40: =$D$16/100*Z40 -> 845.79433 | AC40: 36 | AD40: =($C$3*$C$4)*($C$9/$C$8)+(AC40*($C$10/$C$8)) -> 1388.4096 | AE40: =(AC40/$X$104)*100 -> 1.5322874 | AF40: ='Gearing Calculator'!$C$17*Braking!AD40 -> 2082.6144 | AG40: =-(AF40/$C$3) -> -7.823495
A41: 37 | G41: 8800 | H41: =0.5*'Gearing Calculator'!$C$15*Braking!$C$11*Acceleration!$C$6*(Forces!H41^2) -> 38.729953 | I41: =0.5*'Gearing Calculator'!$C$15*Braking!$C$11*Acceleration!$C$6*(Forces!I41^2) -> 64.617161 | J41: =0.5*'Gearing Calculator'!$C$15*Braking!$C$11*Acceleration!$C$6*(Forces!J41^2) -> 93.048712 | K41: =0.5*'Gearing Calculator'!$C$15*Braking!$C$11*Acceleration!$C$6*(Forces!K41^2) -> 123.88142 | L41: =0.5*'Gearing Calculator'!$C$15*Braking!$C$11*Acceleration!$C$6*(Forces!L41^2) -> 156.35757 | M41: =0.5*'Gearing Calculator'!$C$15*Braking!$C$11*Acceleration!$C$6*(Forces!M41^2) -> 195.43943 | O41: 8800 | P41: =(-(($C$8-$C$9)/$C$10)-H41/($C$3*$C$4))*$C$4 -> -8.9712947 | Q41: =(-(($C$8-$C$9)/$C$10)-I41/($C$3*$C$4))*$C$4 -> -9.0685419 | R41: =(-(($C$8-$C$9)/$C$10)-J41/($C$3*$C$4))*$C$4 -> -9.1753471 | S41: =(-(($C$8-$C$9)/$C$10)-K41/($C$3*$C$4))*$C$4 -> -9.2911725 | T41: =(-(($C$8-$C$9)/$C$10)-L41/($C$3*$C$4))*$C$4 -> -9.4131716 | U41: =(-(($C$8-$C$9)/$C$10)-M41/($C$3*$C$4))*$C$4 -> -9.5599854 | W41: 37 | X41: =$C$16/100*W41 -> 869.28862 | Z41: 37 | AA41: =$D$16/100*Z41 -> 869.28862 | AC41: 37 | AD41: =($C$3*$C$4)*($C$9/$C$8)+(AC41*($C$10/$C$8)) -> 1388.9382 | AE41: =(AC41/$X$104)*100 -> 1.5748509 | AF41: ='Gearing Calculator'!$C$17*Braking!AD41 -> 2083.4074 | AG41: =-(AF41/$C$3) -> -7.8264739
A42: 38 | G42: 8900 | H42: =0.5*'Gearing Calculator'!$C$15*Braking!$C$11*Acceleration!$C$6*(Forces!H42^2) -> 39.605178 | I42: =0.5*'Gearing Calculator'!$C$15*Braking!$C$11*Acceleration!$C$6*(Forces!I42^2) -> 66.07739 | J42: =0.5*'Gearing Calculator'!$C$15*Braking!$C$11*Acceleration!$C$6*(Forces!J42^2) -> 95.151441 | K42: =0.5*'Gearing Calculator'!$C$15*Braking!$C$11*Acceleration!$C$6*(Forces!K42^2) -> 126.68091 | L42: =0.5*'Gearing Calculator'!$C$15*Braking!$C$11*Acceleration!$C$6*(Forces!L42^2) -> 159.89097 | M42: =0.5*'Gearing Calculator'!$C$15*Braking!$C$11*Acceleration!$C$6*(Forces!M42^2) -> 199.856 | O42: 8900 | P42: =(-(($C$8-$C$9)/$C$10)-H42/($C$3*$C$4))*$C$4 -> -8.9745826 | Q42: =(-(($C$8-$C$9)/$C$10)-I42/($C$3*$C$4))*$C$4 -> -9.0740274 | R42: =(-(($C$8-$C$9)/$C$10)-J42/($C$3*$C$4))*$C$4 -> -9.1832462 | S42: =(-(($C$8-$C$9)/$C$10)-K42/($C$3*$C$4))*$C$4 -> -9.301689 | T42: =(-(($C$8-$C$9)/$C$10)-L42/($C$3*$C$4))*$C$4 -> -9.426445 | U42: =(-(($C$8-$C$9)/$C$10)-M42/($C$3*$C$4))*$C$4 -> -9.5765766 | W42: 38 | X42: =$C$16/100*W42 -> 892.7829 | Z42: 38 | AA42: =$D$16/100*Z42 -> 892.7829 | AC42: 38 | AD42: =($C$3*$C$4)*($C$9/$C$8)+(AC42*($C$10/$C$8)) -> 1389.4669 | AE42: =(AC42/$X$104)*100 -> 1.6174145 | AF42: ='Gearing Calculator'!$C$17*Braking!AD42 -> 2084.2004 | AG42: =-(AF42/$C$3) -> -7.8294529
A43: 39 | G43: 9000 | H43: =0.5*'Gearing Calculator'!$C$15*Braking!$C$11*Acceleration!$C$6*(Forces!H43^2) -> 40.490183 | I43: =0.5*'Gearing Calculator'!$C$15*Braking!$C$11*Acceleration!$C$6*(Forces!I43^2) -> 67.553934 | J43: =0.5*'Gearing Calculator'!$C$15*Braking!$C$11*Acceleration!$C$6*(Forces!J43^2) -> 97.277665 | K43: =0.5*'Gearing Calculator'!$C$15*Braking!$C$11*Acceleration!$C$6*(Forces!K43^2) -> 129.51168 | L43: =0.5*'Gearing Calculator'!$C$15*Braking!$C$11*Acceleration!$C$6*(Forces!L43^2) -> 163.46384 | M43: =0.5*'Gearing Calculator'!$C$15*Braking!$C$11*Acceleration!$C$6*(Forces!M43^2) -> 204.32192 | O43: 9000 | P43: =(-(($C$8-$C$9)/$C$10)-H43/($C$3*$C$4))*$C$4 -> -8.9779071 | Q43: =(-(($C$8-$C$9)/$C$10)-I43/($C$3*$C$4))*$C$4 -> -9.0795741 | R43: =(-(($C$8-$C$9)/$C$10)-J43/($C$3*$C$4))*$C$4 -> -9.1912335 | S43: =(-(($C$8-$C$9)/$C$10)-K43/($C$3*$C$4))*$C$4 -> -9.312323 | T43: =(-(($C$8-$C$9)/$C$10)-L43/($C$3*$C$4))*$C$4 -> -9.4398668 | U43: =(-(($C$8-$C$9)/$C$10)-M43/($C$3*$C$4))*$C$4 -> -9.5933532 | W43: 39 | X43: =$C$16/100*W43 -> 916.27719 | Z43: 39 | AA43: =$D$16/100*Z43 -> 916.27719 | AC43: 39 | AD43: =($C$3*$C$4)*($C$9/$C$8)+(AC43*($C$10/$C$8)) -> 1389.9956 | AE43: =(AC43/$X$104)*100 -> 1.659978 | AF43: ='Gearing Calculator'!$C$17*Braking!AD43 -> 2084.9933 | AG43: =-(AF43/$C$3) -> -7.8324318
A44: 40 | G44: 9100 | H44: =0.5*'Gearing Calculator'!$C$15*Braking!$C$11*Acceleration!$C$6*(Forces!H44^2) -> 41.384967 | I44: =0.5*'Gearing Calculator'!$C$15*Braking!$C$11*Acceleration!$C$6*(Forces!I44^2) -> 69.046793 | J44: =0.5*'Gearing Calculator'!$C$15*Braking!$C$11*Acceleration!$C$6*(Forces!J44^2) -> 99.427383 | K44: =0.5*'Gearing Calculator'!$C$15*Braking!$C$11*Acceleration!$C$6*(Forces!K44^2) -> 132.37373 | L44: =0.5*'Gearing Calculator'!$C$15*Braking!$C$11*Acceleration!$C$6*(Forces!L44^2) -> 167.07619 | M44: =0.5*'Gearing Calculator'!$C$15*Braking!$C$11*Acceleration!$C$6*(Forces!M44^2) -> 208.83718 | O44: 9100 | P44: =(-(($C$8-$C$9)/$C$10)-H44/($C$3*$C$4))*$C$4 -> -8.9812685 | Q44: =(-(($C$8-$C$9)/$C$10)-I44/($C$3*$C$4))*$C$4 -> -9.0851822 | R44: =(-(($C$8-$C$9)/$C$10)-J44/($C$3*$C$4))*$C$4 -> -9.1993091 | S44: =(-(($C$8-$C$9)/$C$10)-K44/($C$3*$C$4))*$C$4 -> -9.3230745 | T44: =(-(($C$8-$C$9)/$C$10)-L44/($C$3*$C$4))*$C$4 -> -9.4534368 | U44: =(-(($C$8-$C$9)/$C$10)-M44/($C$3*$C$4))*$C$4 -> -9.6103151 | W44: 40 | X44: =$C$16/100*W44 -> 939.77148 | Z44: 40 | AA44: =$D$16/100*Z44 -> 939.77148 | AC44: 40 | AD44: =($C$3*$C$4)*($C$9/$C$8)+(AC44*($C$10/$C$8)) -> 1390.5242 | AE44: =(AC44/$X$104)*100 -> 1.7025416 | AF44: ='Gearing Calculator'!$C$17*Braking!AD44 -> 2085.7863 | AG44: =-(AF44/$C$3) -> -7.8354107
A45: 41 | G45: 9200 | H45: =0.5*'Gearing Calculator'!$C$15*Braking!$C$11*Acceleration!$C$6*(Forces!H45^2) -> 42.289529 | I45: =0.5*'Gearing Calculator'!$C$15*Braking!$C$11*Acceleration!$C$6*(Forces!I45^2) -> 70.555968 | J45: =0.5*'Gearing Calculator'!$C$15*Braking!$C$11*Acceleration!$C$6*(Forces!J45^2) -> 101.60059 | K45: =0.5*'Gearing Calculator'!$C$15*Braking!$C$11*Acceleration!$C$6*(Forces!K45^2) -> 135.26706 | L45: =0.5*'Gearing Calculator'!$C$15*Braking!$C$11*Acceleration!$C$6*(Forces!L45^2) -> 170.72802 | M45: =0.5*'Gearing Calculator'!$C$15*Braking!$C$11*Acceleration!$C$6*(Forces!M45^2) -> 213.40179 | O45: 9200 | P45: =(-(($C$8-$C$9)/$C$10)-H45/($C$3*$C$4))*$C$4 -> -8.9846665 | Q45: =(-(($C$8-$C$9)/$C$10)-I45/($C$3*$C$4))*$C$4 -> -9.0908515 | R45: =(-(($C$8-$C$9)/$C$10)-J45/($C$3*$C$4))*$C$4 -> -9.2074729 | S45: =(-(($C$8-$C$9)/$C$10)-K45/($C$3*$C$4))*$C$4 -> -9.3339435 | T45: =(-(($C$8-$C$9)/$C$10)-L45/($C$3*$C$4))*$C$4 -> -9.4671552 | U45: =(-(($C$8-$C$9)/$C$10)-M45/($C$3*$C$4))*$C$4 -> -9.6274624 | W45: 41 | X45: =$C$16/100*W45 -> 963.26577 | Z45: 41 | AA45: =$D$16/100*Z45 -> 963.26577 | AC45: 41 | AD45: =($C$3*$C$4)*($C$9/$C$8)+(AC45*($C$10/$C$8)) -> 1391.0529 | AE45: =(AC45/$X$104)*100 -> 1.7451051 | AF45: ='Gearing Calculator'!$C$17*Braking!AD45 -> 2086.5793 | AG45: =-(AF45/$C$3) -> -7.8383896
A46: 42 | G46: 9300 | H46: =0.5*'Gearing Calculator'!$C$15*Braking!$C$11*Acceleration!$C$6*(Forces!H46^2) -> 43.203871 | I46: =0.5*'Gearing Calculator'!$C$15*Braking!$C$11*Acceleration!$C$6*(Forces!I46^2) -> 72.081459 | J46: =0.5*'Gearing Calculator'!$C$15*Braking!$C$11*Acceleration!$C$6*(Forces!J46^2) -> 103.7973 | K46: =0.5*'Gearing Calculator'!$C$15*Braking!$C$11*Acceleration!$C$6*(Forces!K46^2) -> 138.19167 | L46: =0.5*'Gearing Calculator'!$C$15*Braking!$C$11*Acceleration!$C$6*(Forces!L46^2) -> 174.41933 | M46: =0.5*'Gearing Calculator'!$C$15*Braking!$C$11*Acceleration!$C$6*(Forces!M46^2) -> 218.01575 | O46: 9300 | P46: =(-(($C$8-$C$9)/$C$10)-H46/($C$3*$C$4))*$C$4 -> -8.9881013 | Q46: =(-(($C$8-$C$9)/$C$10)-I46/($C$3*$C$4))*$C$4 -> -9.0965821 | R46: =(-(($C$8-$C$9)/$C$10)-J46/($C$3*$C$4))*$C$4 -> -9.215725 | S46: =(-(($C$8-$C$9)/$C$10)-K46/($C$3*$C$4))*$C$4 -> -9.34493 | T46: =(-(($C$8-$C$9)/$C$10)-L46/($C$3*$C$4))*$C$4 -> -9.4810219 | U46: =(-(($C$8-$C$9)/$C$10)-M46/($C$3*$C$4))*$C$4 -> -9.6447951 | W46: 42 | X46: =$C$16/100*W46 -> 986.76005 | Z46: 42 | AA46: =$D$16/100*Z46 -> 986.76005 | AC46: 42 | AD46: =($C$3*$C$4)*($C$9/$C$8)+(AC46*($C$10/$C$8)) -> 1391.5815 | AE46: =(AC46/$X$104)*100 -> 1.7876686 | AF46: ='Gearing Calculator'!$C$17*Braking!AD46 -> 2087.3723 | AG46: =-(AF46/$C$3) -> -7.8413685
A47: 43 | G47: 9400 | H47: =0.5*'Gearing Calculator'!$C$15*Braking!$C$11*Acceleration!$C$6*(Forces!H47^2) -> 44.127992 | I47: =0.5*'Gearing Calculator'!$C$15*Braking!$C$11*Acceleration!$C$6*(Forces!I47^2) -> 73.623265 | J47: =0.5*'Gearing Calculator'!$C$15*Braking!$C$11*Acceleration!$C$6*(Forces!J47^2) -> 106.0175 | K47: =0.5*'Gearing Calculator'!$C$15*Braking!$C$11*Acceleration!$C$6*(Forces!K47^2) -> 141.14756 | L47: =0.5*'Gearing Calculator'!$C$15*Braking!$C$11*Acceleration!$C$6*(Forces!L47^2) -> 178.15012 | M47: =0.5*'Gearing Calculator'!$C$15*Braking!$C$11*Acceleration!$C$6*(Forces!M47^2) -> 222.67906 | O47: 9400 | P47: =(-(($C$8-$C$9)/$C$10)-H47/($C$3*$C$4))*$C$4 -> -8.9915728 | Q47: =(-(($C$8-$C$9)/$C$10)-I47/($C$3*$C$4))*$C$4 -> -9.102374 | R47: =(-(($C$8-$C$9)/$C$10)-J47/($C$3*$C$4))*$C$4 -> -9.2240654 | S47: =(-(($C$8-$C$9)/$C$10)-K47/($C$3*$C$4))*$C$4 -> -9.356034 | T47: =(-(($C$8-$C$9)/$C$10)-L47/($C$3*$C$4))*$C$4 -> -9.4950369 | U47: =(-(($C$8-$C$9)/$C$10)-M47/($C$3*$C$4))*$C$4 -> -9.6623131 | W47: 43 | X47: =$C$16/100*W47 -> 1010.2543 | Z47: 43 | AA47: =$D$16/100*Z47 -> 1010.2543 | AC47: 43 | AD47: =($C$3*$C$4)*($C$9/$C$8)+(AC47*($C$10/$C$8)) -> 1392.1102 | AE47: =(AC47/$X$104)*100 -> 1.8302322 | AF47: ='Gearing Calculator'!$C$17*Braking!AD47 -> 2088.1653 | AG47: =-(AF47/$C$3) -> -7.8443474
A48: 44 | G48: 9500 | H48: =0.5*'Gearing Calculator'!$C$15*Braking!$C$11*Acceleration!$C$6*(Forces!H48^2) -> 45.061892 | I48: =0.5*'Gearing Calculator'!$C$15*Braking!$C$11*Acceleration!$C$6*(Forces!I48^2) -> 75.181386 | J48: =0.5*'Gearing Calculator'!$C$15*Braking!$C$11*Acceleration!$C$6*(Forces!J48^2) -> 108.2612 | K48: =0.5*'Gearing Calculator'!$C$15*Braking!$C$11*Acceleration!$C$6*(Forces!K48^2) -> 144.13473 | L48: =0.5*'Gearing Calculator'!$C$15*Braking!$C$11*Acceleration!$C$6*(Forces!L48^2) -> 181.92039 | M48: =0.5*'Gearing Calculator'!$C$15*Braking!$C$11*Acceleration!$C$6*(Forces!M48^2) -> 227.39171 | O48: 9500 | P48: =(-(($C$8-$C$9)/$C$10)-H48/($C$3*$C$4))*$C$4 -> -8.9950811 | Q48: =(-(($C$8-$C$9)/$C$10)-I48/($C$3*$C$4))*$C$4 -> -9.1082272 | R48: =(-(($C$8-$C$9)/$C$10)-J48/($C$3*$C$4))*$C$4 -> -9.232494 | S48: =(-(($C$8-$C$9)/$C$10)-K48/($C$3*$C$4))*$C$4 -> -9.3672555 | T48: =(-(($C$8-$C$9)/$C$10)-L48/($C$3*$C$4))*$C$4 -> -9.5092002 | U48: =(-(($C$8-$C$9)/$C$10)-M48/($C$3*$C$4))*$C$4 -> -9.6800166 | W48: 44 | X48: =$C$16/100*W48 -> 1033.7486 | Z48: 44 | AA48: =$D$16/100*Z48 -> 1033.7486 | AC48: 44 | AD48: =($C$3*$C$4)*($C$9/$C$8)+(AC48*($C$10/$C$8)) -> 1392.6388 | AE48: =(AC48/$X$104)*100 -> 1.8727957 | AF48: ='Gearing Calculator'!$C$17*Braking!AD48 -> 2088.9583 | AG48: =-(AF48/$C$3) -> -7.8473263
... A103: 99 | G103: 15000 | H103: =0.5*'Gearing Calculator'!$C$15*Braking!$C$11*Acceleration!$C$6*(Forces!H103^2) -> 111.48613 | I103: =0.5*'Gearing Calculator'!$C$15*Braking!$C$11*Acceleration!$C$6*(Forces!I103^2) -> 186.00377 | J103: =0.5*'Gearing Calculator'!$C$15*Braking!$C$11*Acceleration!$C$6*(Forces!J103^2) -> 267.84543 | K103: =0.5*'Gearing Calculator'!$C$15*Braking!$C$11*Acceleration!$C$6*(Forces!K103^2) -> 356.59895 | L103: =0.5*'Gearing Calculator'!$C$15*Braking!$C$11*Acceleration!$C$6*(Forces!L103^2) -> 450.0832 | M103: =0.5*'Gearing Calculator'!$C$15*Braking!$C$11*Acceleration!$C$6*(Forces!M103^2) -> 562.5823 | O103: 15000 | P103: =(-(($C$8-$C$9)/$C$10)-H103/($C$3*$C$4))*$C$4 -> -9.2446087 | Q103: =(-(($C$8-$C$9)/$C$10)-I103/($C$3*$C$4))*$C$4 -> -9.5245397 | R103: =(-(($C$8-$C$9)/$C$10)-J103/($C$3*$C$4))*$C$4 -> -9.831984 | S103: =(-(($C$8-$C$9)/$C$10)-K103/($C$3*$C$4))*$C$4 -> -10.165393 | T103: =(-(($C$8-$C$9)/$C$10)-L103/($C$3*$C$4))*$C$4 -> -10.516574 | U103: =(-(($C$8-$C$9)/$C$10)-M103/($C$3*$C$4))*$C$4 -> -10.939185 | W103: 99 | X103: =$C$16/100*W103 -> 2325.9344 | Z103: 99 | AA103: =$D$16/100*Z103 -> 2325.9344 | AC103: 99 | AD103: =($C$3*$C$4)*($C$9/$C$8)+(AC103*($C$10/$C$8)) -> 1421.715 | AE103: =(AC103/$X$104)*100 -> 4.2137904 | AF103: ='Gearing Calculator'!$C$17*Braking!AD103 -> 2132.5726 | AG103: =-(AF103/$C$3) -> -8.0111666
A104: 100 | W104: 100 | X104: =$C$16/100*W104 -> 2349.4287 | Z104: 100 | AA104: =$D$16/100*Z104 -> 2349.4287 | AC104: 100 | AD104: =($C$3*$C$4)*($C$9/$C$8)+(AC104*($C$10/$C$8)) -> 1422.2437 | AE104: =(AC104/$X$104)*100 -> 4.2563539 | AF104: ='Gearing Calculator'!$C$17*Braking!AD104 -> 2133.3655 | AG104: =-(AF104/$C$3) -> -8.0141455
A105: 1st | B105: 16.424119 | AC105: 101 | AD105: =($C$3*$C$4)*($C$9/$C$8)+(AC105*($C$10/$C$8)) -> 1422.7724 | AE105: =(AC105/$X$104)*100 -> 4.2989174 | AF105: ='Gearing Calculator'!$C$17*Braking!AD105 -> 2134.1585 | AG105: =-(AF105/$C$3) -> -8.0171244
A106: 2nd | B106: 12.715447 | AC106: 102 | AD106: =($C$3*$C$4)*($C$9/$C$8)+(AC106*($C$10/$C$8)) -> 1423.301 | AE106: =(AC106/$X$104)*100 -> 4.341481 | AF106: ='Gearing Calculator'!$C$17*Braking!AD106 -> 2134.9515 | AG106: =-(AF106/$C$3) -> -8.0201034
A107: 3rd | B107: 10.596206 | AC107: 103 | AD107: =($C$3*$C$4)*($C$9/$C$8)+(AC107*($C$10/$C$8)) -> 1423.8297 | AE107: =(AC107/$X$104)*100 -> 4.3840445 | AF107: ='Gearing Calculator'!$C$17*Braking!AD107 -> 2135.7445 | AG107: =-(AF107/$C$3) -> -8.0230823
A108: 4th | B108: 9.1833785 | AC108: 104 | AD108: =($C$3*$C$4)*($C$9/$C$8)+(AC108*($C$10/$C$8)) -> 1424.3583 | AE108: =(AC108/$X$104)*100 -> 4.4266081 | AF108: ='Gearing Calculator'!$C$17*Braking!AD108 -> 2136.5375 | AG108: =-(AF108/$C$3) -> -8.0260612
A109: 5th | B109: 8.174216 | AC109: 105 | AD109: =($C$3*$C$4)*($C$9/$C$8)+(AC109*($C$10/$C$8)) -> 1424.887 | AE109: =(AC109/$X$104)*100 -> 4.4691716 | AF109: ='Gearing Calculator'!$C$17*Braking!AD109 -> 2137.3305 | AG109: =-(AF109/$C$3) -> -8.0290401
A110: 6th | B110: 7.3113821 | AC110: 106 | AD110: =($C$3*$C$4)*($C$9/$C$8)+(AC110*($C$10/$C$8)) -> 1425.4156 | AE110: =(AC110/$X$104)*100 -> 4.5117351 | AF110: ='Gearing Calculator'!$C$17*Braking!AD110 -> 2138.1235 | AG110: =-(AF110/$C$3) -> -8.032019
AC111: 107 | AD111: =($C$3*$C$4)*($C$9/$C$8)+(AC111*($C$10/$C$8)) -> 1425.9443 | AE111: =(AC111/$X$104)*100 -> 4.5542987 | AF111: ='Gearing Calculator'!$C$17*Braking!AD111 -> 2138.9164 | AG111: =-(AF111/$C$3) -> -8.0349979
AC112: 108 | AD112: =($C$3*$C$4)*($C$9/$C$8)+(AC112*($C$10/$C$8)) -> 1426.473 | AE112: =(AC112/$X$104)*100 -> 4.5968622 | AF112: ='Gearing Calculator'!$C$17*Braking!AD112 -> 2139.7094 | AG112: =-(AF112/$C$3) -> -8.0379768
AC113: 109 | AD113: =($C$3*$C$4)*($C$9/$C$8)+(AC113*($C$10/$C$8)) -> 1427.0016 | AE113: =(AC113/$X$104)*100 -> 4.6394258 | AF113: ='Gearing Calculator'!$C$17*Braking!AD113 -> 2140.5024 | AG113: =-(AF113/$C$3) -> -8.0409558
AC114: 110 | AD114: =($C$3*$C$4)*($C$9/$C$8)+(AC114*($C$10/$C$8)) -> 1427.5303 | AE114: =(AC114/$X$104)*100 -> 4.6819893 | AF114: ='Gearing Calculator'!$C$17*Braking!AD114 -> 2141.2954 | AG114: =-(AF114/$C$3) -> -8.0439347
AC115: 111 | AD115: =($C$3*$C$4)*($C$9/$C$8)+(AC115*($C$10/$C$8)) -> 1428.0589 | AE115: =(AC115/$X$104)*100 -> 4.7245528 | AF115: ='Gearing Calculator'!$C$17*Braking!AD115 -> 2142.0884 | AG115: =-(AF115/$C$3) -> -8.0469136
AC116: 112 | AD116: =($C$3*$C$4)*($C$9/$C$8)+(AC116*($C$10/$C$8)) -> 1428.5876 | AE116: =(AC116/$X$104)*100 -> 4.7671164 | AF116: ='Gearing Calculator'!$C$17*Braking!AD116 -> 2142.8814 | AG116: =-(AF116/$C$3) -> -8.0498925
AC117: 113 | AD117: =($C$3*$C$4)*($C$9/$C$8)+(AC117*($C$10/$C$8)) -> 1429.1162 | AE117: =(AC117/$X$104)*100 -> 4.8096799 | AF117: ='Gearing Calculator'!$C$17*Braking!AD117 -> 2143.6744 | AG117: =-(AF117/$C$3) -> -8.0528714
AC118: 114 | AD118: =($C$3*$C$4)*($C$9/$C$8)+(AC118*($C$10/$C$8)) -> 1429.6449 | AE118: =(AC118/$X$104)*100 -> 4.8522434 | AF118: ='Gearing Calculator'!$C$17*Braking!AD118 -> 2144.4674 | AG118: =-(AF118/$C$3) -> -8.0558503
AC119: 115 | AD119: =($C$3*$C$4)*($C$9/$C$8)+(AC119*($C$10/$C$8)) -> 1430.1736 | AE119: =(AC119/$X$104)*100 -> 4.894807 | AF119: ='Gearing Calculator'!$C$17*Braking!AD119 -> 2145.2603 | AG119: =-(AF119/$C$3) -> -8.0588292
AC120: 116 | AD120: =($C$3*$C$4)*($C$9/$C$8)+(AC120*($C$10/$C$8)) -> 1430.7022 | AE120: =(AC120/$X$104)*100 -> 4.9373705 | AF120: ='Gearing Calculator'!$C$17*Braking!AD120 -> 2146.0533 | AG120: =-(AF120/$C$3) -> -8.0618081
AC121: 117 | AD121: =($C$3*$C$4)*($C$9/$C$8)+(AC121*($C$10/$C$8)) -> 1431.2309 | AE121: =(AC121/$X$104)*100 -> 4.9799341 | AF121: ='Gearing Calculator'!$C$17*Braking!AD121 -> 2146.8463 | AG121: =-(AF121/$C$3) -> -8.0647871
AC122: 118 | AD122: =($C$3*$C$4)*($C$9/$C$8)+(AC122*($C$10/$C$8)) -> 1431.7595 | AE122: =(AC122/$X$104)*100 -> 5.0224976 | AF122: ='Gearing Calculator'!$C$17*Braking!AD122 -> 2147.6393 | AG122: =-(AF122/$C$3) -> -8.067766
... AC2354: 2350 | AD2354: =($C$3*$C$4)*($C$9/$C$8)+(AC2354*($C$10/$C$8)) -> 2611.724 | AE2354: =(AC2354/$X$104)*100 -> 100.02432 | AF2354: ='Gearing Calculator'!$C$17*Braking!AD2354 -> 3917.586 | AG2354: =-(AF2354/$C$3) -> -14.716702

Sheet Dyno Data
B2: RPM | C2: Power (BHP) | D2: Power (KW) | E2: Power (W) | F2: Torque
B3: 5200 | C3: 30 | D3: =0.7457*C3 -> 22.371 | E3: =D3*10^3 -> 22371 | F3: =(C3*5252)/B3 -> 30.3
B4: 5300 | C4: 31 | D4: =0.7457*C4 -> 23.1167 | E4: =D4*10^3 -> 23116.7 | F4: =(C4*5252)/B4 -> 30.719245
B5: 5400 | C5: 32 | D5: =0.7457*C5 -> 23.8624 | E5: =D5*10^3 -> 23862.4 | F5: =(C5*5252)/B5 -> 31.122963
B6: 5500 | C6: 33 | D6: =0.7457*C6 -> 24.6081 | E6: =D6*10^3 -> 24608.1 | F6: =(C6*5252)/B6 -> 31.512
B7: 5600 | C7: 34 | D7: =0.7457*C7 -> 25.3538 | E7: =D7*10^3 -> 25353.8 | F7: =(C7*5252)/B7 -> 31.887143
B8: 5700 | C8: 35 | D8: =0.7457*C8 -> 26.0995 | E8: =D8*10^3 -> 26099.5 | F8: =(C8*5252)/B8 -> 32.249123
B9: 5800 | C9: 36 | D9: =0.7457*C9 -> 26.8452 | E9: =D9*10^3 -> 26845.2 | F9: =(C9*5252)/B9 -> 32.598621
B10: 5900 | C10: 37 | D10: =0.7457*C10 -> 27.5909 | E10: =D10*10^3 -> 27590.9 | F10: =(C10*5252)/B10 -> 32.936271
B11: 6000 | C11: 38 | D11: =0.7457*C11 -> 28.3366 | E11: =D11*10^3 -> 28336.6 | F11: =(C11*5252)/B11 -> 33.262667
B12: 6100 | C12: 38.5 | D12: =0.7457*C12 -> 28.70945 | E12: =D12*10^3 -> 28709.45 | F12: =(C12*5252)/B12 -> 33.147869
B13: 6200 | C13: 39 | D13: =0.7457*C13 -> 29.0823 | E13: =D13*10^3 -> 29082.3 | F13: =(C13*5252)/B13 -> 33.036774
B14: 6300 | C14: 39.5 | D14: =0.7457*C14 -> 29.45515 | E14: =D14*10^3 -> 29455.15 | F14: =(C14*5252)/B14 -> 32.929206
... B109: 15800 | C109: 105 | D109: =0.7457*C109 -> 78.2985 | E109: =D109*10^3 -> 78298.5 | F109: =(C109*5252)/B109 -> 34.902532

Sheet Track Data
B2: Time | C2: Recorded Distance | D2: Actual Distance | E2: V_Rear | F2: V_Front | G2: V_GPS | H2: V_GPS | I2: R_SUS | J2: F_SUS | K2: Banking | M2: Distance | N2: Time | O2: gear | P2: Gear Ratio | Q2: Velocity | R2: M* | S2: RPM | T2: Acceleration | U2: Deceleration | V2: FD | W2: Sn | X2: Nf | Y2: Nr | Z2: SF | AA2: Sr | AB2: F | AC2: Brake | AD2: Lean Angle | AF2: Acceleration by Gears | AJ2: Sim Time | AK2: =SUM(N4:N2403) -> 58.094584
B3: s | C3: m | D3: m | E3: km/h | F3: km/h | G3: km/h | H3: m/s | I3: mm | J3: mm | K3: ° | M3: m | N3: s | Q3: m/s | T3: m/s² | U3: m/s² | V3: N | W3: N | X3: N | Y3: N | Z3: mm | AA3: mm | AB3: N | AC3: % | AD3: Degrees (ᵒ) | AF3: 5th & 6th | AG3: 3rd & 4th | AH3: 1st & 2nd | AJ3: 2D Time | AK3: =B2403-B4 -> 61.807
B4: 195.769 | C4: 7274 | D4: 1 | E4: 207 | F4: 205.3 | G4: 201.8 | H4: =G4/3.6 -> 56.055556 | I4: 4.6 | J4: 15.8 | K4: -5 | L4: Straight 1 | M4: 1 | N4: =1/Q4 -> 0.017839445 | O4: 6 | P4: =VLOOKUP(O4,$AJ$5:$AK$10,2,FALSE) -> 7.3113821 | Q4: =G4/3.6 -> 56.055556 | R4: =VLOOKUP(O4,$AJ$5:$AL$10,3,FALSE) -> 311.957 | S4: =IF(S3=15800,15800,ROUND((((Q4*60)/'Gearing Calculator'!$C$14)*'Track Data'!P4),-2)) -> 12400 | T4: =AH4 -> 3.6342302 | U4: =IF(AC4=100,Braking!$AG$2354,IF(AC4=50,Braking!$AG$1179,IF(AC4=75,Braking!$AG$1767,0))) -> 0 | V4: =0.5*'Gearing Calculator'!$C$15*'Gearing Calculator'!$C$20*'Gearing Calculator'!$W$20*('Track Data'!Q4^2) -> 332.57313 | W4: =('Gearing Calculator'!$U$9*'Track Data'!T4)+'Track Data'!V4 -> 1300.0052 | X4: =('Gearing Calculator'!$U$9*9.81)*('Gearing Calculator'!$U$16/'Gearing Calculator'!$C$7)-(('Track Data'!W4)*('Gearing Calculator'!$U$17/'Gearing Calculator'!$C$7)) -> 692.57067 | Y4: =('Gearing Calculator'!$U$9*9.81)*(('Gearing Calculator'!$C$7-'Gearing Calculator'!$U$16)/'Gearing Calculator'!$C$7)+(('Track Data'!W4)*('Gearing Calculator'!$U$17/'Gearing Calculator'!$C$7)) -> 1918.8513 | Z4: =((X4*COS('Gearing Calculator'!$C$21))/'Gearing Calculator'!$C$22)/2 -> 21.412095 | AA4: =Y4/'Gearing Calculator'!$C$24 -> 26.7936 | AB4: =(T4*O4)+V4 -> 354.37851 | AC4: 0 | AD4: 0 | AE4: 1 | AF4: =IF(AC4=0,IF(O4=6,INDEX(Acceleration!$V$4:$V$110,MATCH('Track Data'!S4,Acceleration!$K$4:$K$110,0)),IF('Track Data'!O4=5,INDEX(Acceleration!$U$4:$U$110,MATCH('Track Data'!S4,Acceleration!$K$4:$K$110,0)),1)),U4) -> 3.6342302 | AG4: =IF(AC4=0,IF(O4=4,INDEX(Acceleration!$T$4:$T$110,MATCH('Track Data'!S4,Acceleration!$K$4:$K$110,0)),IF('Track Data'!O4=3,INDEX(Acceleration!$S$4:$S$110,MATCH('Track Data'!S4,Acceleration!$K$4:$K$110,0)),'Track Data'!AF4)),'Track Data'!U4) -> 3.6342302 | AH4: =IF(AC4=0,IF(O4=2,INDEX(Acceleration!$R$4:$R$110,MATCH('Track Data'!S4,Acceleration!$K$4:$K$110,0)),IF('Track Data'!O4=1,INDEX(Acceleration!$Q$4:$Q$110,MATCH('Track Data'!S4,Acceleration!$K$4:$K$110,0)),'Track Data'!AG4)),'Track Data'!U4) -> 3.6342302
B5: 195.786 | C5: 7275 | D5: 2 | E5: 207 | F5: 205.6 | G5: 202 | H5: =G5/3.6 -> 56.111111 | I5: 4.5 | J5: 15.26 | K5: -5 | M5: 2 | N5: =1/Q5 -> 0.017818848 | O5: 6 | P5: =VLOOKUP(O5,$AJ$5:$AK$10,2,FALSE) -> 7.3113821 | Q5: =IF(AD4=0,SQRT(Q4^2+(2*T4)),Q4) -> 56.120351 | R5: =VLOOKUP(O5,$AJ$5:$AL$10,3,FALSE) -> 311.957 | S5: =IF(S4=15800,15800,ROUND((((Q5*60)/'Gearing Calculator'!$C$14)*'Track Data'!P5),-2)) -> 12400 | T5: =AH5 -> 3.6342302 | U5: =IF(AC5=100,Braking!$AG$2354,IF(AC5=50,Braking!$AG$1179,IF(AC5=75,Braking!$AG$1767,0))) -> 0 | V5: =0.5*'Gearing Calculator'!$C$15*'Gearing Calculator'!$C$20*'Gearing Calculator'!$W$20*('Track Data'!Q5^2) -> 333.34242 | W5: =('Gearing Calculator'!$U$9*'Track Data'!T5)+'Track Data'!V5 -> 1300.7745 | X5: =('Gearing Calculator'!$U$9*9.81)*('Gearing Calculator'!$U$16/'Gearing Calculator'!$C$7)-(('Track Data'!W5)*('Gearing Calculator'!$U$17/'Gearing Calculator'!$C$7)) -> 692.15136 | Y5: =('Gearing Calculator'!$U$9*9.81)*(('Gearing Calculator'!$C$7-'Gearing Calculator'!$U$16)/'Gearing Calculator'!$C$7)+(('Track Data'!W5)*('Gearing Calculator'!$U$17/'Gearing Calculator'!$C$7)) -> 1919.2706 | Z5: =((X5*COS('Gearing Calculator'!$C$21))/'Gearing Calculator'!$C$22)/2 -> 21.399131 | AA5: =Y5/'Gearing Calculator'!$C$24 -> 26.799456 | AB5: =(T5*O5)+V5 -> 355.1478 | AC5: 0 | AD5: 0 | AE5: 2 | AF5: =IF(AC5=0,IF(O5=6,INDEX(Acceleration!$V$4:$V$110,MATCH('Track Data'!S5,Acceleration!$K$4:$K$110,0)),IF('Track Data'!O5=5,INDEX(Acceleration!$U$4:$U$110,MATCH('Track Data'!S5,Acceleration!$K$4:$K$110,0)),1)),U5) -> 3.6342302 | AG5: =IF(AC5=0,IF(O5=4,INDEX(Acceleration!$T$4:$T$110,MATCH('Track Data'!S5,Acceleration!$K$4:$K$110,0)),IF('Track Data'!O5=3,INDEX(Acceleration!$S$4:$S$110,MATCH('Track Data'!S5,Acceleration!$K$4:$K$110,0)),'Track Data'!AF5)),'Track Data'!U5) -> 3.6342302 | AH5: =IF(AC5=0,IF(O5=2,INDEX(Acceleration!$R$4:$R$110,MATCH('Track Data'!S5,Acceleration!$K$4:$K$110,0)),IF('Track Data'!O5=1,INDEX(Acceleration!$Q$4:$Q$110,MATCH('Track Data'!S5,Acceleration!$K$4:$K$110,0)),'Track Data'!AG5)),'Track Data'!U5) -> 3.6342302 | AJ5: 1 | AK5: 16.424119 | AL5: 434.78
B6: 195.804 | C6: 7277 | D6: 3 | E6: 207 | F6: 205.8 | G6: 202.2 | H6: =G6/3.6 -> 56.166667 | I6: 4.3 | J6: 15.74 | K6: -5 | M6: 3 | N6: =1/Q6 -> 0.017798322 | O6: 6 | P6: =VLOOKUP(O6,$AJ$5:$AK$10,2,FALSE) -> 7.3113821 | Q6: =IF(AD5=0,SQRT(Q5^2+(2*T5)),Q5) -> 56.185071 | R6: =VLOOKUP(O6,$AJ$5:$AL$10,3,FALSE) -> 311.957 | S6: =IF(S5=15800,15800,ROUND((((Q6*60)/'Gearing Calculator'!$C$14)*'Track Data'!P6),-2)) -> 12500 | T6: =AH6 -> 3.6270085 | U6: =IF(AC6=100,Braking!$AG$2354,IF(AC6=50,Braking!$AG$1179,IF(AC6=75,Braking!$AG$1767,0))) -> 0 | V6: =0.5*'Gearing Calculator'!$C$15*'Gearing Calculator'!$C$20*'Gearing Calculator'!$W$20*('Track Data'!Q6^2) -> 334.11171 | W6: =('Gearing Calculator'!$U$9*'Track Data'!T6)+'Track Data'!V6 -> 1299.6214 | X6: =('Gearing Calculator'!$U$9*9.81)*('Gearing Calculator'!$U$16/'Gearing Calculator'!$C$7)-(('Track Data'!W6)*('Gearing Calculator'!$U$17/'Gearing Calculator'!$C$7)) -> 692.77989 | Y6: =('Gearing Calculator'!$U$9*9.81)*(('Gearing Calculator'!$C$7-'Gearing Calculator'!$U$16)/'Gearing Calculator'!$C$7)+(('Track Data'!W6)*('Gearing Calculator'!$U$17/'Gearing Calculator'!$C$7)) -> 1918.6421 | Z6: =((X6*COS('Gearing Calculator'!$C$21))/'Gearing Calculator'!$C$22)/2 -> 21.418563 | AA6: =Y6/'Gearing Calculator'!$C$24 -> 26.790679 | AB6: =(T6*O6)+V6 -> 355.87377 | AC6: 0 | AD6: 0 | AE6: 3 | AF6: =IF(AC6=0,IF(O6=6,INDEX(Acceleration!$V$4:$V$110,MATCH('Track Data'!S6,Acceleration!$K$4:$K$110,0)),IF('Track Data'!O6=5,INDEX(Acceleration!$U$4:$U$110,MATCH('Track Data'!S6,Acceleration!$K$4:$K$110,0)),1)),U6) -> 3.6270085 | AG6: =IF(AC6=0,IF(O6=4,INDEX(Acceleration!$T$4:$T$110,MATCH('Track Data'!S6,Acceleration!$K$4:$K$110,0)),IF('Track Data'!O6=3,INDEX(Acceleration!$S$4:$S$110,MATCH('Track Data'!S6,Acceleration!$K$4:$K$110,0)),'Track Data'!AF6)),'Track Data'!U6) -> 3.6270085 | AH6: =IF(AC6=0,IF(O6=2,INDEX(Acceleration!$R$4:$R$110,MATCH('Track Data'!S6,Acceleration!$K$4:$K$110,0)),IF('Track Data'!O6=1,INDEX(Acceleration!$Q$4:$Q$110,MATCH('Track Data'!S6,Acceleration!$K$4:$K$110,0)),'Track Data'!AG6)),'Track Data'!U6) -> 3.6270085 | AJ6: 2 | AK6: 12.715447 | AL6: 373.413
B7: 195.821 | C7: 7278 | D7: 4 | E7: 208 | F7: 205.8 | G7: 202.4 | H7: =G7/3.6 -> 56.222222 | I7: 4.3 | J7: 16.15 | K7: -5 | M7: 4 | N7: =1/Q7 -> 0.017777908 | O7: 6 | P7: =VLOOKUP(O7,$AJ$5:$AK$10,2,FALSE) -> 7.3113821 | Q7: =IF(AD6=0,SQRT(Q6^2+(2*T6)),Q6) -> 56.249589 | R7: =VLOOKUP(O7,$AJ$5:$AL$10,3,FALSE) -> 311.957 | S7: =IF(S6=15800,15800,ROUND((((Q7*60)/'Gearing Calculator'!$C$14)*'Track Data'!P7),-2)) -> 12500 | T7: =AH7 -> 3.6270085 | U7: =IF(AC7=100,Braking!$AG$2354,IF(AC7=50,Braking!$AG$1179,IF(AC7=75,Braking!$AG$1767,0))) -> 0 | V7: =0.5*'Gearing Calculator'!$C$15*'Gearing Calculator'!$C$20*'Gearing Calculator'!$W$20*('Track Data'!Q7^2) -> 334.87948 | W7: =('Gearing Calculator'!$U$9*'Track Data'!T7)+'Track Data'!V7 -> 1300.3892 | X7: =('Gearing Calculator'!$U$9*9.81)*('Gearing Calculator'!$U$16/'Gearing Calculator'!$C$7)-(('Track Data'!W7)*('Gearing Calculator'!$U$17/'Gearing Calculator'!$C$7)) -> 692.3614 | Y7: =('Gearing Calculator'!$U$9*9.81)*(('Gearing Calculator'!$C$7-'Gearing Calculator'!$U$16)/'Gearing Calculator'!$C$7)+(('Track Data'!W7)*('Gearing Calculator'!$U$17/'Gearing Calculator'!$C$7)) -> 1919.0606 | Z7: =((X7*COS('Gearing Calculator'!$C$21))/'Gearing Calculator'!$C$22)/2 -> 21.405625 | AA7: =Y7/'Gearing Calculator'!$C$24 -> 26.796523 | AB7: =(T7*O7)+V7 -> 356.64153 | AC7: 0 | AD7: 0 | AE7: 4 | AF7: =IF(AC7=0,IF(O7=6,INDEX(Acceleration!$V$4:$V$110,MATCH('Track Data'!S7,Acceleration!$K$4:$K$110,0)),IF('Track Data'!O7=5,INDEX(Acceleration!$U$4:$U$110,MATCH('Track Data'!S7,Acceleration!$K$4:$K$110,0)),1)),U7) -> 3.6270085 | AG7: =IF(AC7=0,IF(O7=4,INDEX(Acceleration!$T$4:$T$110,MATCH('Track Data'!S7,Acceleration!$K$4:$K$110,0)),IF('Track Data'!O7=3,INDEX(Acceleration!$S$4:$S$110,MATCH('Track Data'!S7,Acceleration!$K$4:$K$110,0)),'Track Data'!AF7)),'Track Data'!U7) -> 3.6270085 | AH7: =IF(AC7=0,IF(O7=2,INDEX(Acceleration!$R$4:$R$110,MATCH('Track Data'!S7,Acceleration!$K$4:$K$110,0)),IF('Track Data'!O7=1,INDEX(Acceleration!$Q$4:$Q$110,MATCH('Track Data'!S7,Acceleration!$K$4:$K$110,0)),'Track Data'!AG7)),'Track Data'!U7) -> 3.6270085 | AJ7: 3 | AK7: 10.596206 | AL7: 345.36
B8: 195.839 | C8: 7278 | D8: 5 | E8: 208 | F8: 205.9 | G8: 202.5 | H8: =G8/3.6 -> 56.25 | I8: 4.3 | J8: 15.54 | K8: -5 | M8: 5 | N8: =1/Q8 -> 0.017757563 | O8: 6 | P8: =VLOOKUP(O8,$AJ$5:$AK$10,2,FALSE) -> 7.3113821 | Q8: =IF(AD7=0,SQRT(Q7^2+(2*T7)),Q7) -> 56.314033 | R8: =VLOOKUP(O8,$AJ$5:$AL$10,3,FALSE) -> 311.957 | S8: =IF(S7=15800,15800,ROUND((((Q8*60)/'Gearing Calculator'!$C$14)*'Track Data'!P8),-2)) -> 12500 | T8: =AH8 -> 3.6270085 | U8: =IF(AC8=100,Braking!$AG$2354,IF(AC8=50,Braking!$AG$1179,IF(AC8=75,Braking!$AG$1767,0))) -> 0 | V8: =0.5*'Gearing Calculator'!$C$15*'Gearing Calculator'!$C$20*'Gearing Calculator'!$W$20*('Track Data'!Q8^2) -> 335.64724 | W8: =('Gearing Calculator'!$U$9*'Track Data'!T8)+'Track Data'!V8 -> 1301.1569 | X8: =('Gearing Calculator'!$U$9*9.81)*('Gearing Calculator'!$U$16/'Gearing Calculator'!$C$7)-(('Track Data'!W8)*('Gearing Calculator'!$U$17/'Gearing Calculator'!$C$7)) -> 691.94292 | Y8: =('Gearing Calculator'!$U$9*9.81)*(('Gearing Calculator'!$C$7-'Gearing Calculator'!$U$16)/'Gearing Calculator'!$C$7)+(('Track Data'!W8)*('Gearing Calculator'!$U$17/'Gearing Calculator'!$C$7)) -> 1919.4791 | Z8: =((X8*COS('Gearing Calculator'!$C$21))/'Gearing Calculator'!$C$22)/2 -> 21.392687 | AA8: =Y8/'Gearing Calculator'!$C$24 -> 26.802366 | AB8: =(T8*O8)+V8 -> 357.4093 | AC8: 0 | AD8: 0 | AE8: 5 | AF8: =IF(AC8=0,IF(O8=6,INDEX(Acceleration!$V$4:$V$110,MATCH('Track Data'!S8,Acceleration!$K$4:$K$110,0)),IF('Track Data'!O8=5,INDEX(Acceleration!$U$4:$U$110,MATCH('Track Data'!S8,Acceleration!$K$4:$K$110,0)),1)),U8) -> 3.6270085 | AG8: =IF(AC8=0,IF(O8=4,INDEX(Acceleration!$T$4:$T$110,MATCH('Track Data'!S8,Acceleration!$K$4:$K$110,0)),IF('Track Data'!O8=3,INDEX(Acceleration!$S$4:$S$110,MATCH('Track Data'!S8,Acceleration!$K$4:$K$110,0)),'Track Data'!AF8)),'Track Data'!U8) -> 3.6270085 | AH8: =IF(AC8=0,IF(O8=2,INDEX(Acceleration!$R$4:$R$110,MATCH('Track Data'!S8,Acceleration!$K$4:$K$110,0)),IF('Track Data'!O8=1,INDEX(Acceleration!$Q$4:$Q$110,MATCH('Track Data'!S8,Acceleration!$K$4:$K$110,0)),'Track Data'!AG8)),'Track Data'!U8) -> 3.6270085 | AJ8: 4 | AK8: 9.1833785 | AL8: 329.491
B9: 195.856 | C9: 7279 | D9: 6 | E9: 208 | F9: 206.1 | G9: 202.7 | H9: =G9/3.6 -> 56.305556 | I9: 4.7 | J9: 15.06 | K9: -6 | M9: 6 | N9: =1/Q9 -> 0.017737289 | O9: 6 | P9: =VLOOKUP(O9,$AJ$5:$AK$10,2,FALSE) -> 7.3113821 | Q9: =IF(AD8=0,SQRT(Q8^2+(2*T8)),Q8) -> 56.378403 | R9: =VLOOKUP(O9,$AJ$5:$AL$10,3,FALSE) -> 311.957 | S9: =IF(S8=15800,15800,ROUND((((Q9*60)/'Gearing Calculator'!$C$14)*'Track Data'!P9),-2)) -> 12500 | T9: =AH9 -> 3.6270085 | U9: =IF(AC9=100,Braking!$AG$2354,IF(AC9=50,Braking!$AG$1179,IF(AC9=75,Braking!$AG$1767,0))) -> 0 | V9: =0.5*'Gearing Calculator'!$C$15*'Gearing Calculator'!$C$20*'Gearing Calculator'!$W$20*('Track Data'!Q9^2) -> 336.41501 | W9: =('Gearing Calculator'!$U$9*'Track Data'!T9)+'Track Data'!V9 -> 1301.9247 | X9: =('Gearing Calculator'!$U$9*9.81)*('Gearing Calculator'!$U$16/'Gearing Calculator'!$C$7)-(('Track Data'!W9)*('Gearing Calculator'!$U$17/'Gearing Calculator'!$C$7)) -> 691.52443 | Y9: =('Gearing Calculator'!$U$9*9.81)*(('Gearing Calculator'!$C$7-'Gearing Calculator'!$U$16)/'Gearing Calculator'!$C$7)+(('Track Data'!W9)*('Gearing Calculator'!$U$17/'Gearing Calculator'!$C$7)) -> 1919.8976 | Z9: =((X9*COS('Gearing Calculator'!$C$21))/'Gearing Calculator'!$C$22)/2 -> 21.379748 | AA9: =Y9/'Gearing Calculator'!$C$24 -> 26.808209 | AB9: =(T9*O9)+V9 -> 358.17706 | AC9: 0 | AD9: 0 | AE9: 6 | AF9: =IF(AC9=0,IF(O9=6,INDEX(Acceleration!$V$4:$V$110,MATCH('Track Data'!S9,Acceleration!$K$4:$K$110,0)),IF('Track Data'!O9=5,INDEX(Acceleration!$U$4:$U$110,MATCH('Track Data'!S9,Acceleration!$K$4:$K$110,0)),1)),U9) -> 3.6270085 | AG9: =IF(AC9=0,IF(O9=4,INDEX(Acceleration!$T$4:$T$110,MATCH('Track Data'!S9,Acceleration!$K$4:$K$110,0)),IF('Track Data'!O9=3,INDEX(Acceleration!$S$4:$S$110,MATCH('Track Data'!S9,Acceleration!$K$4:$K$110,0)),'Track Data'!AF9)),'Track Data'!U9) -> 3.6270085 | AH9: =IF(AC9=0,IF(O9=2,INDEX(Acceleration!$R$4:$R$110,MATCH('Track Data'!S9,Acceleration!$K$4:$K$110,0)),IF('Track Data'!O9=1,INDEX(Acceleration!$Q$4:$Q$110,MATCH('Track Data'!S9,Acceleration!$K$4:$K$110,0)),'Track Data'!AG9)),'Track Data'!U9) -> 3.6270085 | AJ9: 5 | AK9: 8.174216 | AL9: 319.544
