Workbook

Sheet Gearing Calculator
B2: Yamaha YZF R6 2009 | J2: http://odm.lt/wp-content/uploads/2016/03/yzf_r6_2009_user_manual.pdf
AG4: Road Speed (m/s) | AN4: Road Speed (mph) | AU4: Road Speed (kmh)
B5: Motorcycle Data | F5: Power | I5: Gearing Calculator | O5: RPM Drop Calculator | T5: Mass & CoG | AA5: RPM | AB5: Power (BHP) | AC5: Power (KW) | AD5: Power (W) | AE5: Torque | AG5: 1st | AH5: 2nd | AI5: 3rd | AJ5: 4th | AK5: 5th | AL5: 6th | AN5: 1st | AO5: 2nd | AP5: 3rd | AQ5: 4th | AR5: 5th | AS5: 6th | AU5: 1st | AV5: 2nd | AW5: 3rd | AX5: 4th | AY5: 5th | AZ5: 6th
B6: Parameter | C6: Value | D6: Unit | F6: Max power (BHP) | G6: 114 | I6: Gear | J6: Driving | K6: Driven | L6: Ratio | M6: overall | O6: Gear | P6: Speed (KPH) | Q6: RPM | R6: RPM Fall | T6: Parameter | U6: Tucked | V6: Braking | W6: Leaning | X6: Unit | AA6: 5200 | AB6: 30 | AC6: =0.7457*AB6 -> 22.371 | AD6: =AC6*10^3 -> 22371 | AE6: =(AB6*5252)/AA6 -> 30.3 | AG6: =(((AA6/$M$8)*($C$14))/(60)) -> 10.442772 | AH6: =(((AA6/$M$9)*($C$14))/(60)) -> 13.488581 | AI6: =(((AA6/$M$10)*($C$14))/(60)) -> 16.186297 | AJ6: =(((AA6/$M$11)*($C$14))/(60)) -> 18.676496 | AK6: =(((AA6/$M$12)*($C$14))/(60)) -> 20.982236 | AL6: =(((AA6/$M$13)*($C$14))/(60)) -> 23.458401 | AN6: =AG6*2.237 -> 23.360481 | AO6: =AH6*2.237 -> 30.173955 | AP6: =AI6*2.237 -> 36.208746 | AQ6: =AJ6*2.237 -> 41.779322 | AR6: =AK6*2.237 -> 46.937263 | AS6: =AL6*2.237 -> 52.476443 | AU6: =AG6*3.6 -> 37.593979 | AV6: =AH6*3.6 -> 48.55889 | AW6: =AI6*3.6 -> 58.270668 | AX6: =AJ6*3.6 -> 67.235386 | AY6: =AK6*3.6 -> 75.536051 | AZ6: =AL6*3.6 -> 84.450244
B7: Wb | C7: 1.38 | D7: m | F7: Max Power (RPM) | G7: 14250 | I7: Primary | J7: 85 | K7: 41 | L7: =J7/K7 -> 2.0731707 | O7: 1 | P7: 38 | Q7: 5250 | T7: Weight Front (Wf) | U7: 123.37 | V7: 126.61 | W7: 126.61 | X7: kg | AA7: 5300 | AB7: 31 | AC7: =0.7457*AB7 -> 23.1167 | AD7: =AC7*10^3 -> 23116.7 | AE7: =(AB7*5252)/AA7 -> 30.719245 | AG7: =(((AA7/$M$8)*($C$14))/(60)) -> 10.643595 | AH7: =(((AA7/$M$9)*($C$14))/(60)) -> 13.747976 | AI7: =(((AA7/$M$10)*($C$14))/(60)) -> 16.497572 | AJ7: =(((AA7/$M$11)*($C$14))/(60)) -> 19.03566 | AK7: =(((AA7/$M$12)*($C$14))/(60)) -> 21.385741 | AL7: =(((AA7/$M$13)*($C$14))/(60)) -> 23.909524 | AN7: =AG7*2.237 -> 23.809721 | AO7: =AH7*2.237 -> 30.754223 | AP7: =AI7*2.237 -> 36.905068 | AQ7: =AJ7*2.237 -> 42.58277 | AR7: =AK7*2.237 -> 47.839903 | AS7: =AL7*2.237 -> 53.485605 | AU7: =AG7*3.6 -> 38.316941 | AV7: =AH7*3.6 -> 49.492715 | AW7: =AI7*3.6 -> 59.391258 | AX7: =AJ7*3.6 -> 68.528374 | AY7: =AK7*3.6 -> 76.988668 | AZ7: =AL7*3.6 -> 86.074287
B8: Rr | C8: 0.31496 | D8: m | F8: Max Torque (nm) | G8: 61 | I8: 1 | J8: 31 | K8: 12 | L8: =J8/K8 -> 2.5833333 | M8: =$L$7*L8*$L$14 -> 16.424119 | P8: 100 | Q8: 13750 | T8: Weight Rear (Wr) | U8: 142.83 | V8: 139.59 | W8: 139.59 | X8: kg | AA8: 5400 | AB8: 32 | AC8: =0.7457*AB8 -> 23.8624 | AD8: =AC8*10^3 -> 23862.4 | AE8: =(AB8*5252)/AA8 -> 31.122963 | AG8: =(((AA8/$M$8)*($C$14))/(60)) -> 10.844417 | AH8: =(((AA8/$M$9)*($C$14))/(60)) -> 14.007372 | AI8: =(((AA8/$M$10)*($C$14))/(60)) -> 16.808847 | AJ8: =(((AA8/$M$11)*($C$14))/(60)) -> 19.394823 | AK8: =(((AA8/$M$12)*($C$14))/(60)) -> 21.789246 | AL8: =(((AA8/$M$13)*($C$14))/(60)) -> 24.360647 | AN8: =AG8*2.237 -> 24.258961 | AO8: =AH8*2.237 -> 31.334491 | AP8: =AI8*2.237 -> 37.60139 | AQ8: =AJ8*2.237 -> 43.386219 | AR8: =AK8*2.237 -> 48.742542 | AS8: =AL8*2.237 -> 54.494768 | AU8: =AG8*3.6 -> 39.039902 | AV8: =AH8*3.6 -> 50.42654 | AW8: =AI8*3.6 -> 60.511848 | AX8: =AJ8*3.6 -> 69.821363 | AY8: =AK8*3.6 -> 78.441284 | AZ8: =AL8*3.6 -> 87.69833
B9: Fr | C9: 0.299847 | D9: m | F9: Max torque (RPM) | G9: 10750 | I9: 2 | J9: 32 | K9: 16 | L9: =J9/K9 -> 2 | M9: =$L$7*L9*$L$14 -> 12.715447 | O9: 2 | P9: 100 | Q9: 10750 | R9: =Q8-Q9 -> 3000 | T9: Weight Total (Wt) | U9: 266.2 | V9: 266.2 | W9: 266.2 | X9: kg | AA9: 5500 | AB9: 33 | AC9: =0.7457*AB9 -> 24.6081 | AD9: =AC9*10^3 -> 24608.1 | AE9: =(AB9*5252)/AA9 -> 31.512 | AG9: =(((AA9/$M$8)*($C$14))/(60)) -> 11.04524 | AH9: =(((AA9/$M$9)*($C$14))/(60)) -> 14.266768 | AI9: =(((AA9/$M$10)*($C$14))/(60)) -> 17.120121 | AJ9: =(((AA9/$M$11)*($C$14))/(60)) -> 19.753986 | AK9: =(((AA9/$M$12)*($C$14))/(60)) -> 22.19275 | AL9: =(((AA9/$M$13)*($C$14))/(60)) -> 24.81177 | AN9: =AG9*2.237 -> 24.708201 | AO9: =AH9*2.237 -> 31.91476 | AP9: =AI9*2.237 -> 38.297712 | AQ9: =AJ9*2.237 -> 44.189667 | AR9: =AK9*2.237 -> 49.645182 | AS9: =AL9*2.237 -> 55.50393 | AU9: =AG9*3.6 -> 39.762863 | AV9: =AH9*3.6 -> 51.360364 | AW9: =AI9*3.6 -> 61.632437 | AX9: =AJ9*3.6 -> 71.114351 | AY9: =AK9*3.6 -> 79.8939 | AZ9: =AL9*3.6 -> 89.322373
B10: AV Wheel radius | C10: =(C8+C9)/2 -> 0.3074035 | F10: redline | G10: 15750 | I10: 3 | J10: 30 | K10: 18 | L10: =J10/K10 -> 1.6666667 | M10: =$L$7*L10*$L$14 -> 10.596206 | P10: 129 | Q10: 13750 | T10: Lifted Weight front (WLf) | U10: 135.93 | V10: 138.18 | W10: 138.18 | X10: kg | AA10: 5600 | AB10: 34 | AC10: =0.7457*AB10 -> 25.3538 | AD10: =AC10*10^3 -> 25353.8 | AE10: =(AB10*5252)/AA10 -> 31.887143 | AG10: =(((AA10/$M$8)*($C$14))/(60)) -> 11.246062 | AH10: =(((AA10/$M$9)*($C$14))/(60)) -> 14.526164 | AI10: =(((AA10/$M$10)*($C$14))/(60)) -> 17.431396 | AJ10: =(((AA10/$M$11)*($C$14))/(60)) -> 20.11315 | AK10: =(((AA10/$M$12)*($C$14))/(60)) -> 22.596255 | AL10: =(((AA10/$M$13)*($C$14))/(60)) -> 25.262893 | AN10: =AG10*2.237 -> 25.157441 | AO10: =AH10*2.237 -> 32.495028 | AP10: =AI10*2.237 -> 38.994034 | AQ10: =AJ10*2.237 -> 44.993116 | AR10: =AK10*2.237 -> 50.547822 | AS10: =AL10*2.237 -> 56.513092 | AU10: =AG10*3.6 -> 40.485824 | AV10: =AH10*3.6 -> 52.294189 | AW10: =AI10*3.6 -> 62.753027 | AX10: =AJ10*3.6 -> 72.407339 | AY10: =AK10*3.6 -> 81.346517 | AZ10: =AL10*3.6 -> 90.946416
B11: Front Tyre Width | C11: 0.12 | D11: m | I11: 4 | J11: 26 | K11: 18 | L11: =J11/K11 -> 1.4444444 | M11: =$L$7*L11*$L$14 -> 9.1833785 | O11: 3 | P11: 129 | Q11: 11500 | R11: =Q10-Q11 -> 2250 | T11: Lifted Weight Rear (WLr) | U11: 134.17 | V11: 131.92 | W11: 131.92 | X11: kg | AA11: 5700 | AB11: 35 | AC11: =0.7457*AB11 -> 26.0995 | AD11: =AC11*10^3 -> 26099.5 | AE11: =(AB11*5252)/AA11 -> 32.249123 | AG11: =(((AA11/$M$8)*($C$14))/(60)) -> 11.446885 | AH11: =(((AA11/$M$9)*($C$14))/(60)) -> 14.785559 | AI11: =(((AA11/$M$10)*($C$14))/(60)) -> 17.742671 | AJ11: =(((AA11/$M$11)*($C$14))/(60)) -> 20.472313 | AK11: =(((AA11/$M$12)*($C$14))/(60)) -> 22.999759 | AL11: =(((AA11/$M$13)*($C$14))/(60)) -> 25.714016 | AN11: =AG11*2.237 -> 25.606681 | AO11: =AH11*2.237 -> 33.075297 | AP11: =AI11*2.237 -> 39.690356 | AQ11: =AJ11*2.237 -> 45.796564 | AR11: =AK11*2.237 -> 51.450461 | AS11: =AL11*2.237 -> 57.522255 | AU11: =AG11*3.6 -> 41.208785 | AV11: =AH11*3.6 -> 53.228014 | AW11: =AI11*3.6 -> 63.873617 | AX11: =AJ11*3.6 -> 73.700327 | AY11: =AK11*3.6 -> 82.799133 | AZ11: =AL11*3.6 -> 92.570459
B12: Rear Tyre Width | C12: 0.18 | D12: m | I12: 5 | J12: 27 | K12: 21 | L12: =J12/K12 -> 1.2857143 | M12: =$L$7*L12*$L$14 -> 8.174216 | P12: 154 | Q12: 13750 | T12: Weight Total (WLt) | U12: 270.1 | V12: 270.1 | W12: 270.1 | X12: kg | AA12: 5800 | AB12: 36 | AC12: =0.7457*AB12 -> 26.8452 | AD12: =AC12*10^3 -> 26845.2 | AE12: =(AB12*5252)/AA12 -> 32.598621 | AG12: =(((AA12/$M$8)*($C$14))/(60)) -> 11.647707 | AH12: =(((AA12/$M$9)*($C$14))/(60)) -> 15.044955 | AI12: =(((AA12/$M$10)*($C$14))/(60)) -> 18.053946 | AJ12: =(((AA12/$M$11)*($C$14))/(60)) -> 20.831476 | AK12: =(((AA12/$M$12)*($C$14))/(60)) -> 23.403264 | AL12: =(((AA12/$M$13)*($C$14))/(60)) -> 26.16514 | AN12: =AG12*2.237 -> 26.055921 | AO12: =AH12*2.237 -> 33.655565 | AP12: =AI12*2.237 -> 40.386678 | AQ12: =AJ12*2.237 -> 46.600013 | AR12: =AK12*2.237 -> 52.353101 | AS12: =AL12*2.237 -> 58.531417 | AU12: =AG12*3.6 -> 41.931746 | AV12: =AH12*3.6 -> 54.161839 | AW12: =AI12*3.6 -> 64.994207 | AX12: =AJ12*3.6 -> 74.993315 | AY12: =AK12*3.6 -> 84.251749 | AZ12: =AL12*3.6 -> 94.194502
B13: AV Wheel Width | C13: =AVERAGE(C11:C12) -> 0.15 | D13: m | I13: 6 | J13: 23 | K13: 20 | L13: =J13/K13 -> 1.15 | M13: =$L$7*L13*$L$14 -> 7.3113821 | O13: 4 | P13: 154 | Q13: 11900 | R13: =Q12-Q13 -> 1850 | T13: Stool Weight | U13: 3.9 | X13: kg | AA13: 5900 | AB13: 37 | AC13: =0.7457*AB13 -> 27.5909 | AD13: =AC13*10^3 -> 27590.9 | AE13: =(AB13*5252)/AA13 -> 32.936271 | AG13: =(((AA13/$M$8)*($C$14))/(60)) -> 11.84853 | AH13: =(((AA13/$M$9)*($C$14))/(60)) -> 15.304351 | AI13: =(((AA13/$M$10)*($C$14))/(60)) -> 18.365221 | AJ13: =(((AA13/$M$11)*($C$14))/(60)) -> 21.19064 | AK13: =(((AA13/$M$12)*($C$14))/(60)) -> 23.806768 | AL13: =(((AA13/$M$13)*($C$14))/(60)) -> 26.616263 | AN13: =AG13*2.237 -> 26.505161 | AO13: =AH13*2.237 -> 34.235833 | AP13: =AI13*2.237 -> 41.083 | AQ13: =AJ13*2.237 -> 47.403461 | AR13: =AK13*2.237 -> 53.255741 | AS13: =AL13*2.237 -> 59.54058 | AU13: =AG13*3.6 -> 42.654707 | AV13: =AH13*3.6 -> 55.095664 | AW13: =AI13*3.6 -> 66.114796 | AX13: =AJ13*3.6 -> 76.286304 | AY13: =AK13*3.6 -> 85.704366 | AZ13: =AL13*3.6 -> 95.818546
B14: φ | C14: 1.979 | D14: m | I14: Final | J14: 15 | K14: 46 | L14: =K14/J14 -> 3.0666667 | P14: 178 | Q14: 13750 | T14: Lifted Angle (Ѳ) | U14: 12.769 | X14: ° | AA14: 6000 | AB14: 38 | AC14: =0.7457*AB14 -> 28.3366 | AD14: =AC14*10^3 -> 28336.6 | AE14: =(AB14*5252)/AA14 -> 33.262667 | AG14: =(((AA14/$M$8)*($C$14))/(60)) -> 12.049352 | AH14: =(((AA14/$M$9)*($C$14))/(60)) -> 15.563747 | AI14: =(((AA14/$M$10)*($C$14))/(60)) -> 18.676496 | AJ14: =(((AA14/$M$11)*($C$14))/(60)) -> 21.549803 | AK14: =(((AA14/$M$12)*($C$14))/(60)) -> 24.210273 | AL14: =(((AA14/$M$13)*($C$14))/(60)) -> 27.067386 | AN14: =AG14*2.237 -> 26.954401 | AO14: =AH14*2.237 -> 34.816102 | AP14: =AI14*2.237 -> 41.779322 | AQ14: =AJ14*2.237 -> 48.20691 | AR14: =AK14*2.237 -> 54.15838 | AS14: =AL14*2.237 -> 60.549742 | AU14: =AG14*3.6 -> 43.377669 | AV14: =AH14*3.6 -> 56.029488 | AW14: =AI14*3.6 -> 67.235386 | AX14: =AJ14*3.6 -> 77.579292 | AY14: =AK14*3.6 -> 87.156982 | AZ14: =AL14*3.6 -> 97.442589
B15: ρ | C15: 1.225 | D15: kg/m³ | O15: 5 | P15: 178 | Q15: 12250 | R15: =Q14-Q15 -> 1500 | T15: Height of Lift (h) | U15: 0.305 | X15: m | AA15: 6100 | AB15: 38.5 | AC15: =0.7457*AB15 -> 28.70945 | AD15: =AC15*10^3 -> 28709.45 | AE15: =(AB15*5252)/AA15 -> 33.147869 | AG15: =(((AA15/$M$8)*($C$14))/(60)) -> 12.250175 | AH15: =(((AA15/$M$9)*($C$14))/(60)) -> 15.823143 | AI15: =(((AA15/$M$10)*($C$14))/(60)) -> 18.987771 | AJ15: =(((AA15/$M$11)*($C$14))/(60)) -> 21.908967 | AK15: =(((AA15/$M$12)*($C$14))/(60)) -> 24.613777 | AL15: =(((AA15/$M$13)*($C$14))/(60)) -> 27.518509 | AN15: =AG15*2.237 -> 27.403641 | AO15: =AH15*2.237 -> 35.39637 | AP15: =AI15*2.237 -> 42.475644 | AQ15: =AJ15*2.237 -> 49.010358 | AR15: =AK15*2.237 -> 55.06102 | AS15: =AL15*2.237 -> 61.558904 | AU15: =AG15*3.6 -> 44.10063 | AV15: =AH15*3.6 -> 56.963313 | AW15: =AI15*3.6 -> 68.355976 | AX15: =AJ15*3.6 -> 78.87228 | AY15: =AK15*3.6 -> 88.609598 | AZ15: =AL15*3.6 -> 99.066632
B16: μd | C16: =0.5*C15*C20*((U20+V20+W20)/3)*((P18/3.6)^2) -> 383.52147 | D16: N | P16: 200 | Q16: 13750 | T16: X-CoG | U16: =(U8*$C$7)/U9 -> 0.74044102 | V16: =(V8*$C$7)/V9 -> 0.72364463 | W16: =(W8*$C$7)/W9 -> 0.72364463 | X16: m | AA16: 6200 | AB16: 39 | AC16: =0.7457*AB16 -> 29.0823 | AD16: =AC16*10^3 -> 29082.3 | AE16: =(AB16*5252)/AA16 -> 33.036774 | AG16: =(((AA16/$M$8)*($C$14))/(60)) -> 12.450997 | AH16: =(((AA16/$M$9)*($C$14))/(60)) -> 16.082538 | AI16: =(((AA16/$M$10)*($C$14))/(60)) -> 19.299046 | AJ16: =(((AA16/$M$11)*($C$14))/(60)) -> 22.26813 | AK16: =(((AA16/$M$12)*($C$14))/(60)) -> 25.017282 | AL16: =(((AA16/$M$13)*($C$14))/(60)) -> 27.969632 | AN16: =AG16*2.237 -> 27.852881 | AO16: =AH16*2.237 -> 35.976638 | AP16: =AI16*2.237 -> 43.171966 | AQ16: =AJ16*2.237 -> 49.813807 | AR16: =AK16*2.237 -> 55.96366 | AS16: =AL16*2.237 -> 62.568067 | AU16: =AG16*3.6 -> 44.823591 | AV16: =AH16*3.6 -> 57.897138 | AW16: =AI16*3.6 -> 69.476566 | AX16: =AJ16*3.6 -> 80.165268 | AY16: =AK16*3.6 -> 90.062215 | AZ16: =AL16*3.6 -> 100.69067
B17: μf | C17: 1.5 | O17: 6 | P17: 200 | Q17: 12300 | R17: =Q16-Q17 -> 1450 | T17: Y-CoG | U17: =(($C$7*(U8-(U11-$U$13)))/((U9)*TAN(RADIANS($U$14))))+($C$8+$C$9/2) -> 0.75219425 | V17: =(($C$7*(V8-(V11-$U$13)))/((V9)*TAN(RADIANS($U$14))))+($C$8+$C$9/2) -> 0.72954794 | W17: =(($C$7*(W8-(W11-$U$13)))/((W9)*TAN(RADIANS($U$14))))+($C$8+$C$9/2) -> 0.72954794 | X17: m | AA17: 6300 | AB17: 39.5 | AC17: =0.7457*AB17 -> 29.45515 | AD17: =AC17*10^3 -> 29455.15 | AE17: =(AB17*5252)/AA17 -> 32.929206 | AG17: =(((AA17/$M$8)*($C$14))/(60)) -> 12.65182 | AH17: =(((AA17/$M$9)*($C$14))/(60)) -> 16.341934 | AI17: =(((AA17/$M$10)*($C$14))/(60)) -> 19.610321 | AJ17: =(((AA17/$M$11)*($C$14))/(60)) -> 22.627293 | AK17: =(((AA17/$M$12)*($C$14))/(60)) -> 25.420786 | AL17: =(((AA17/$M$13)*($C$14))/(60)) -> 28.420755 | AN17: =AG17*2.237 -> 28.302121 | AO17: =AH17*2.237 -> 36.556907 | AP17: =AI17*2.237 -> 43.868288 | AQ17: =AJ17*2.237 -> 50.617255 | AR17: =AK17*2.237 -> 56.866299 | AS17: =AL17*2.237 -> 63.577229 | AU17: =AG17*3.6 -> 45.546552 | AV17: =AH17*3.6 -> 58.830963 | AW17: =AI17*3.6 -> 70.597155 | AX17: =AJ17*3.6 -> 81.458256 | AY17: =AK17*3.6 -> 91.514831 | AZ17: =AL17*3.6 -> 102.31472
B18: frontal Area (Af) | C18: =((U20+V20+W20)/3) -> 0.282 | D18: m² | P18: 219 | Q18: 13400 | T18: Front Weight Distribution | U18: =U7/U9 -> 0.46344853 | V18: =V7/V9 -> 0.47561983 | W18: =W7/W9 -> 0.47561983 | AA18: 6400 | AB18: 40 | AC18: =0.7457*AB18 -> 29.828 | AD18: =AC18*10^3 -> 29828 | AE18: =(AB18*5252)/AA18 -> 32.825 | AG18: =(((AA18/$M$8)*($C$14))/(60)) -> 12.852643 | AH18: =(((AA18/$M$9)*($C$14))/(60)) -> 16.60133 | AI18: =(((AA18/$M$10)*($C$14))/(60)) -> 19.921596 | AJ18: =(((AA18/$M$11)*($C$14))/(60)) -> 22.986457 | AK18: =(((AA18/$M$12)*($C$14))/(60)) -> 25.824291 | AL18: =(((AA18/$M$13)*($C$14))/(60)) -> 28.871878 | AN18: =AG18*2.237 -> 28.751361 | AO18: =AH18*2.237 -> 37.137175 | AP18: =AI18*2.237 -> 44.56461 | AQ18: =AJ18*2.237 -> 51.420704 | AR18: =AK18*2.237 -> 57.768939 | AS18: =AL18*2.237 -> 64.586391 | AU18: =AG18*3.6 -> 46.269513 | AV18: =AH18*3.6 -> 59.764788 | AW18: =AI18*3.6 -> 71.717745 | AX18: =AJ18*3.6 -> 82.751245 | AY18: =AK18*3.6 -> 92.967448 | AZ18: =AL18*3.6 -> 103.93876
B19: Rider | C19: 78.2 | D19: kg | T19: Rear Weight Distrubution | U19: =U8/U9 -> 0.53655147 | V19: =V8/V9 -> 0.52438017 | W19: =W8/W9 -> 0.52438017 | AA19: 6500 | AB19: 40 | AC19: =0.7457*AB19 -> 29.828 | AD19: =AC19*10^3 -> 29828 | AE19: =(AB19*5252)/AA19 -> 32.32 | AG19: =(((AA19/$M$8)*($C$14))/(60)) -> 13.053465 | AH19: =(((AA19/$M$9)*($C$14))/(60)) -> 16.860726 | AI19: =(((AA19/$M$10)*($C$14))/(60)) -> 20.232871 | AJ19: =(((AA19/$M$11)*($C$14))/(60)) -> 23.34562 | AK19: =(((AA19/$M$12)*($C$14))/(60)) -> 26.227796 | AL19: =(((AA19/$M$13)*($C$14))/(60)) -> 29.323001 | AN19: =AG19*2.237 -> 29.200601 | AO19: =AH19*2.237 -> 37.717443 | AP19: =AI19*2.237 -> 45.260932 | AQ19: =AJ19*2.237 -> 52.224152 | AR19: =AK19*2.237 -> 58.671579 | AS19: =AL19*2.237 -> 65.595554 | AU19: =AG19*3.6 -> 46.992474 | AV19: =AH19*3.6 -> 60.698613 | AW19: =AI19*3.6 -> 72.838335 | AX19: =AJ19*3.6 -> 84.044233 | AY19: =AK19*3.6 -> 94.420064 | AZ19: =AL19*3.6 -> 105.5628
B20: CD | C20: 0.6 | T20: Frontal Area | U20: 0.229 | V20: 0.329 | W20: 0.288 | X20: m² | AA20: 6600 | AB20: 40.5 | AC20: =0.7457*AB20 -> 30.20085 | AD20: =AC20*10^3 -> 30200.85 | AE20: =(AB20*5252)/AA20 -> 32.228182 | AG20: =(((AA20/$M$8)*($C$14))/(60)) -> 13.254288 | AH20: =(((AA20/$M$9)*($C$14))/(60)) -> 17.120121 | AI20: =(((AA20/$M$10)*($C$14))/(60)) -> 20.544146 | AJ20: =(((AA20/$M$11)*($C$14))/(60)) -> 23.704784 | AK20: =(((AA20/$M$12)*($C$14))/(60)) -> 26.6313 | AL20: =(((AA20/$M$13)*($C$14))/(60)) -> 29.774124 | AN20: =AG20*2.237 -> 29.649841 | AO20: =AH20*2.237 -> 38.297712 | AP20: =AI20*2.237 -> 45.957254 | AQ20: =AJ20*2.237 -> 53.027601 | AR20: =AK20*2.237 -> 59.574218 | AS20: =AL20*2.237 -> 66.604716 | AU20: =AG20*3.6 -> 47.715435 | AV20: =AH20*3.6 -> 61.632437 | AW20: =AI20*3.6 -> 73.958925 | AX20: =AJ20*3.6 -> 85.337221 | AY20: =AK20*3.6 -> 95.87268 | AZ20: =AL20*3.6 -> 107.18685
B21: Rake Angle | C21: 24 | D21: ᵒ | AA21: 6700 | AB21: 41 | AC21: =0.7457*AB21 -> 30.5737 | AD21: =AC21*10^3 -> 30573.7 | AE21: =(AB21*5252)/AA21 -> 32.139104 | AG21: =(((AA21/$M$8)*($C$14))/(60)) -> 13.45511 | AH21: =(((AA21/$M$9)*($C$14))/(60)) -> 17.379517 | AI21: =(((AA21/$M$10)*($C$14))/(60)) -> 20.855421 | AJ21: =(((AA21/$M$11)*($C$14))/(60)) -> 24.063947 | AK21: =(((AA21/$M$12)*($C$14))/(60)) -> 27.034805 | AL21: =(((AA21/$M$13)*($C$14))/(60)) -> 30.225247 | AN21: =AG21*2.237 -> 30.099081 | AO21: =AH21*2.237 -> 38.87798 | AP21: =AI21*2.237 -> 46.653576 | AQ21: =AJ21*2.237 -> 53.831049 | AR21: =AK21*2.237 -> 60.476858 | AS21: =AL21*2.237 -> 67.613878 | AU21: =AG21*3.6 -> 48.438397 | AV21: =AH21*3.6 -> 62.566262 | AW21: =AI21*3.6 -> 75.079515 | AX21: =AJ21*3.6 -> 86.630209 | AY21: =AK21*3.6 -> 97.325297 | AZ21: =AL21*3.6 -> 108.81089
B22: Kf | C22: 6.86 | D22: N/mm | AA22: 6800 | AB22: 42 | AC22: =0.7457*AB22 -> 31.3194 | AD22: =AC22*10^3 -> 31319.4 | AE22: =(AB22*5252)/AA22 -> 32.438824 | AG22: =(((AA22/$M$8)*($C$14))/(60)) -> 13.655933 | AH22: =(((AA22/$M$9)*($C$14))/(60)) -> 17.638913 | AI22: =(((AA22/$M$10)*($C$14))/(60)) -> 21.166696 | AJ22: =(((AA22/$M$11)*($C$14))/(60)) -> 24.42311 | AK22: =(((AA22/$M$12)*($C$14))/(60)) -> 27.438309 | AL22: =(((AA22/$M$13)*($C$14))/(60)) -> 30.676371 | AN22: =AG22*2.237 -> 30.548321 | AO22: =AH22*2.237 -> 39.458248 | AP22: =AI22*2.237 -> 47.349898 | AQ22: =AJ22*2.237 -> 54.634498 | AR22: =AK22*2.237 -> 61.379498 | AS22: =AL22*2.237 -> 68.623041 | AU22: =AG22*3.6 -> 49.161358 | AV22: =AH22*3.6 -> 63.500087 | AW22: =AI22*3.6 -> 76.200104 | AX22: =AJ22*3.6 -> 87.923197 | AY22: =AK22*3.6 -> 98.777913 | AZ22: =AL22*3.6 -> 110.43493
B23: Kw | C23: =((((2*PI()*2.1)^2)*U8)/2000) -> 12.433339 | D23: N/mm | AA23: 6900 | AB23: 43 | AC23: =0.7457*AB23 -> 32.0651 | AD23: =AC23*10^3 -> 32065.1 | AE23: =(AB23*5252)/AA23 -> 32.729855 | AG23: =(((AA23/$M$8)*($C$14))/(60)) -> 13.856755 | AH23: =(((AA23/$M$9)*($C$14))/(60)) -> 17.898309 | AI23: =(((AA23/$M$10)*($C$14))/(60)) -> 21.477971 | AJ23: =(((AA23/$M$11)*($C$14))/(60)) -> 24.782274 | AK23: =(((AA23/$M$12)*($C$14))/(60)) -> 27.841814 | AL23: =(((AA23/$M$13)*($C$14))/(60)) -> 31.127494 | AN23: =AG23*2.237 -> 30.997561 | AO23: =AH23*2.237 -> 40.038517 | AP23: =AI23*2.237 -> 48.04622 | AQ23: =AJ23*2.237 -> 55.437946 | AR23: =AK23*2.237 -> 62.282137 | AS23: =AL23*2.237 -> 69.632203 | AU23: =AG23*3.6 -> 49.884319 | AV23: =AH23*3.6 -> 64.433912 | AW23: =AI23*3.6 -> 77.320694 | AX23: =AJ23*3.6 -> 89.216186 | AY23: =AK23*3.6 -> 100.23053 | AZ23: =AL23*3.6 -> 112.05898
B24: Ks | C24: =(C23*(2.4^2)) -> 71.616031 | D24: N/mm | AA24: 7000 | AB24: 44 | AC24: =0.7457*AB24 -> 32.8108 | AD24: =AC24*10^3 -> 32810.8 | AE24: =(AB24*5252)/AA24 -> 33.012571 | AG24: =(((AA24/$M$8)*($C$14))/(60)) -> 14.057578 | AH24: =(((AA24/$M$9)*($C$14))/(60)) -> 18.157705 | AI24: =(((AA24/$M$10)*($C$14))/(60)) -> 21.789246 | AJ24: =(((AA24/$M$11)*($C$14))/(60)) -> 25.141437 | AK24: =(((AA24/$M$12)*($C$14))/(60)) -> 28.245318 | AL24: =(((AA24/$M$13)*($C$14))/(60)) -> 31.578617 | AN24: =AG24*2.237 -> 31.446801 | AO24: =AH24*2.237 -> 40.618785 | AP24: =AI24*2.237 -> 48.742542 | AQ24: =AJ24*2.237 -> 56.241395 | AR24: =AK24*2.237 -> 63.184777 | AS24: =AL24*2.237 -> 70.641366 | AU24: =AG24*3.6 -> 50.60728 | AV24: =AH24*3.6 -> 65.367737 | AW24: =AI24*3.6 -> 78.441284 | AX24: =AJ24*3.6 -> 90.509174 | AY24: =AK24*3.6 -> 101.68315 | AZ24: =AL24*3.6 -> 113.68302
B25: bike total | C25: 188 | D25: kg | AA25: 7100 | AB25: 44.5 | AC25: =0.7457*AB25 -> 33.18365 | AD25: =AC25*10^3 -> 33183.65 | AE25: =(AB25*5252)/AA25 -> 32.917465 | AG25: =(((AA25/$M$8)*($C$14))/(60)) -> 14.2584 | AH25: =(((AA25/$M$9)*($C$14))/(60)) -> 18.4171 | AI25: =(((AA25/$M$10)*($C$14))/(60)) -> 22.10052 | AJ25: =(((AA25/$M$11)*($C$14))/(60)) -> 25.500601 | AK25: =(((AA25/$M$12)*($C$14))/(60)) -> 28.648823 | AL25: =(((AA25/$M$13)*($C$14))/(60)) -> 32.02974 | AN25: =AG25*2.237 -> 31.896041 | AO25: =AH25*2.237 -> 41.199054 | AP25: =AI25*2.237 -> 49.438864 | AQ25: =AJ25*2.237 -> 57.044843 | AR25: =AK25*2.237 -> 64.087417 | AS25: =AL25*2.237 -> 71.650528 | AU25: =AG25*3.6 -> 51.330241 | AV25: =AH25*3.6 -> 66.301561 | AW25: =AI25*3.6 -> 79.561874 | AX25: =AJ25*3.6 -> 91.802162 | AY25: =AK25*3.6 -> 103.13576 | AZ25: =AL25*3.6 -> 115.30706
AA26: 7200 | AB26: 45 | AC26: =0.7457*AB26 -> 33.5565 | AD26: =AC26*10^3 -> 33556.5 | AE26: =(AB26*5252)/AA26 -> 32.825 | AG26: =(((AA26/$M$8)*($C$14))/(60)) -> 14.459223 | AH26: =(((AA26/$M$9)*($C$14))/(60)) -> 18.676496 | AI26: =(((AA26/$M$10)*($C$14))/(60)) -> 22.411795 | AJ26: =(((AA26/$M$11)*($C$14))/(60)) -> 25.859764 | AK26: =(((AA26/$M$12)*($C$14))/(60)) -> 29.052327 | AL26: =(((AA26/$M$13)*($C$14))/(60)) -> 32.480863 | AN26: =AG26*2.237 -> 32.345281 | AO26: =AH26*2.237 -> 41.779322 | AP26: =AI26*2.237 -> 50.135186 | AQ26: =AJ26*2.237 -> 57.848292 | AR26: =AK26*2.237 -> 64.990056 | AS26: =AL26*2.237 -> 72.65969 | AU26: =AG26*3.6 -> 52.053202 | AV26: =AH26*3.6 -> 67.235386 | AW26: =AI26*3.6 -> 80.682463 | AX26: =AJ26*3.6 -> 93.09515 | AY26: =AK26*3.6 -> 104.58838 | AZ26: =AL26*3.6 -> 116.93111
AA27: 7300 | AB27: 46 | AC27: =0.7457*AB27 -> 34.3022 | AD27: =AC27*10^3 -> 34302.2 | AE27: =(AB27*5252)/AA27 -> 33.094795 | AG27: =(((AA27/$M$8)*($C$14))/(60)) -> 14.660045 | AH27: =(((AA27/$M$9)*($C$14))/(60)) -> 18.935892 | AI27: =(((AA27/$M$10)*($C$14))/(60)) -> 22.72307 | AJ27: =(((AA27/$M$11)*($C$14))/(60)) -> 26.218927 | AK27: =(((AA27/$M$12)*($C$14))/(60)) -> 29.455832 | AL27: =(((AA27/$M$13)*($C$14))/(60)) -> 32.931986 | AN27: =AG27*2.237 -> 32.794522 | AO27: =AH27*2.237 -> 42.35959 | AP27: =AI27*2.237 -> 50.831508 | AQ27: =AJ27*2.237 -> 58.65174 | AR27: =AK27*2.237 -> 65.892696 | AS27: =AL27*2.237 -> 73.668853 | AU27: =AG27*3.6 -> 52.776163 | AV27: =AH27*3.6 -> 68.169211 | AW27: =AI27*3.6 -> 81.803053 | AX27: =AJ27*3.6 -> 94.388138 | AY27: =AK27*3.6 -> 106.04099 | AZ27: =AL27*3.6 -> 118.55515
AA28: 7400 | AB28: 47 | AC28: =0.7457*AB28 -> 35.0479 | AD28: =AC28*10^3 -> 35047.9 | AE28: =(AB28*5252)/AA28 -> 33.357297 | AG28: =(((AA28/$M$8)*($C$14))/(60)) -> 14.860868 | AH28: =(((AA28/$M$9)*($C$14))/(60)) -> 19.195288 | AI28: =(((AA28/$M$10)*($C$14))/(60)) -> 23.034345 | AJ28: =(((AA28/$M$11)*($C$14))/(60)) -> 26.578091 | AK28: =(((AA28/$M$12)*($C$14))/(60)) -> 29.859336 | AL28: =(((AA28/$M$13)*($C$14))/(60)) -> 33.383109 | AN28: =AG28*2.237 -> 33.243762 | AO28: =AH28*2.237 -> 42.939859 | AP28: =AI28*2.237 -> 51.52783 | AQ28: =AJ28*2.237 -> 59.455189 | AR28: =AK28*2.237 -> 66.795336 | AS28: =AL28*2.237 -> 74.678015 | AU28: =AG28*3.6 -> 53.499124 | AV28: =AH28*3.6 -> 69.103036 | AW28: =AI28*3.6 -> 82.923643 | AX28: =AJ28*3.6 -> 95.681127 | AY28: =AK28*3.6 -> 107.49361 | AZ28: =AL28*3.6 -> 120.17919
AA29: 7500 | AB29: 48 | AC29: =0.7457*AB29 -> 35.7936 | AD29: =AC29*10^3 -> 35793.6 | AE29: =(AB29*5252)/AA29 -> 33.6128 | AG29: =(((AA29/$M$8)*($C$14))/(60)) -> 15.06169 | AH29: =(((AA29/$M$9)*($C$14))/(60)) -> 19.454684 | AI29: =(((AA29/$M$10)*($C$14))/(60)) -> 23.34562 | AJ29: =(((AA29/$M$11)*($C$14))/(60)) -> 26.937254 | AK29: =(((AA29/$M$12)*($C$14))/(60)) -> 30.262841 | AL29: =(((AA29/$M$13)*($C$14))/(60)) -> 33.834232 | AN29: =AG29*2.237 -> 33.693002 | AO29: =AH29*2.237 -> 43.520127 | AP29: =AI29*2.237 -> 52.224152 | AQ29: =AJ29*2.237 -> 60.258637 | AR29: =AK29*2.237 -> 67.697975 | AS29: =AL29*2.237 -> 75.687177 | AU29: =AG29*3.6 -> 54.222086 | AV29: =AH29*3.6 -> 70.036861 | AW29: =AI29*3.6 -> 84.044233 | AX29: =AJ29*3.6 -> 96.974115 | AY29: =AK29*3.6 -> 108.94623 | AZ29: =AL29*3.6 -> 121.80324
AA30: 7600 | AB30: 49 | AC30: =0.7457*AB30 -> 36.5393 | AD30: =AC30*10^3 -> 36539.3 | AE30: =(AB30*5252)/AA30 -> 33.861579 | AG30: =(((AA30/$M$8)*($C$14))/(60)) -> 15.262513 | AH30: =(((AA30/$M$9)*($C$14))/(60)) -> 19.714079 | AI30: =(((AA30/$M$10)*($C$14))/(60)) -> 23.656895 | AJ30: =(((AA30/$M$11)*($C$14))/(60)) -> 27.296417 | AK30: =(((AA30/$M$12)*($C$14))/(60)) -> 30.666346 | AL30: =(((AA30/$M$13)*($C$14))/(60)) -> 34.285355 | AN30: =AG30*2.237 -> 34.142242 | AO30: =AH30*2.237 -> 44.100395 | AP30: =AI30*2.237 -> 52.920474 | AQ30: =AJ30*2.237 -> 61.062086 | AR30: =AK30*2.237 -> 68.600615 | AS30: =AL30*2.237 -> 76.69634 | AU30: =AG30*3.6 -> 54.945047 | AV30: =AH30*3.6 -> 70.970685 | AW30: =AI30*3.6 -> 85.164823 | AX30: =AJ30*3.6 -> 98.267103 | AY30: =AK30*3.6 -> 110.39884 | AZ30: =AL30*3.6 -> 123.42728
AA31: 7700 | AB31: 49.5 | AC31: =0.7457*AB31 -> 36.91215 | AD31: =AC31*10^3 -> 36912.15 | AE31: =(AB31*5252)/AA31 -> 33.762857 | AG31: =(((AA31/$M$8)*($C$14))/(60)) -> 15.463336 | AH31: =(((AA31/$M$9)*($C$14))/(60)) -> 19.973475 | AI31: =(((AA31/$M$10)*($C$14))/(60)) -> 23.96817 | AJ31: =(((AA31/$M$11)*($C$14))/(60)) -> 27.655581 | AK31: =(((AA31/$M$12)*($C$14))/(60)) -> 31.06985 | AL31: =(((AA31/$M$13)*($C$14))/(60)) -> 34.736478 | AN31: =AG31*2.237 -> 34.591482 | AO31: =AH31*2.237 -> 44.680664 | AP31: =AI31*2.237 -> 53.616796 | AQ31: =AJ31*2.237 -> 61.865534 | AR31: =AK31*2.237 -> 69.503255 | AS31: =AL31*2.237 -> 77.705502 | AU31: =AG31*3.6 -> 55.668008 | AV31: =AH31*3.6 -> 71.90451 | AW31: =AI31*3.6 -> 86.285412 | AX31: =AJ31*3.6 -> 99.560091 | AY31: =AK31*3.6 -> 111.85146 | AZ31: =AL31*3.6 -> 125.05132
AA32: 7800 | AB32: 50 | AC32: =0.7457*AB32 -> 37.285 | AD32: =AC32*10^3 -> 37285 | AE32: =(AB32*5252)/AA32 -> 33.666667 | AG32: =(((AA32/$M$8)*($C$14))/(60)) -> 15.664158 | AH32: =(((AA32/$M$9)*($C$14))/(60)) -> 20.232871 | AI32: =(((AA32/$M$10)*($C$14))/(60)) -> 24.279445 | AJ32: =(((AA32/$M$11)*($C$14))/(60)) -> 28.014744 | AK32: =(((AA32/$M$12)*($C$14))/(60)) -> 31.473355 | AL32: =(((AA32/$M$13)*($C$14))/(60)) -> 35.187601 | AN32: =AG32*2.237 -> 35.040722 | AO32: =AH32*2.237 -> 45.260932 | AP32: =AI32*2.237 -> 54.313118 | AQ32: =AJ32*2.237 -> 62.668983 | AR32: =AK32*2.237 -> 70.405894 | AS32: =AL32*2.237 -> 78.714664 | AU32: =AG32*3.6 -> 56.390969 | AV32: =AH32*3.6 -> 72.838335 | AW32: =AI32*3.6 -> 87.406002 | AX32: =AJ32*3.6 -> 100.85308 | AY32: =AK32*3.6 -> 113.30408 | AZ32: =AL32*3.6 -> 126.67537
AA33: 7900 | AB33: 51 | AC33: =0.7457*AB33 -> 38.0307 | AD33: =AC33*10^3 -> 38030.7 | AE33: =(AB33*5252)/AA33 -> 33.905316 | AG33: =(((AA33/$M$8)*($C$14))/(60)) -> 15.864981 | AH33: =(((AA33/$M$9)*($C$14))/(60)) -> 20.492267 | AI33: =(((AA33/$M$10)*($C$14))/(60)) -> 24.59072 | AJ33: =(((AA33/$M$11)*($C$14))/(60)) -> 28.373908 | AK33: =(((AA33/$M$12)*($C$14))/(60)) -> 31.876859 | AL33: =(((AA33/$M$13)*($C$14))/(60)) -> 35.638725 | AN33: =AG33*2.237 -> 35.489962 | AO33: =AH33*2.237 -> 45.8412 | AP33: =AI33*2.237 -> 55.009441 | AQ33: =AJ33*2.237 -> 63.472431 | AR33: =AK33*2.237 -> 71.308534 | AS33: =AL33*2.237 -> 79.723827 | AU33: =AG33*3.6 -> 57.11393 | AV33: =AH33*3.6 -> 73.77216 | AW33: =AI33*3.6 -> 88.526592 | AX33: =AJ33*3.6 -> 102.14607 | AY33: =AK33*3.6 -> 114.75669 | AZ33: =AL33*3.6 -> 128.29941
AA34: 8000 | AB34: 52 | AC34: =0.7457*AB34 -> 38.7764 | AD34: =AC34*10^3 -> 38776.4 | AE34: =(AB34*5252)/AA34 -> 34.138 | AG34: =(((AA34/$M$8)*($C$14))/(60)) -> 16.065803 | AH34: =(((AA34/$M$9)*($C$14))/(60)) -> 20.751662 | AI34: =(((AA34/$M$10)*($C$14))/(60)) -> 24.901995 | AJ34: =(((AA34/$M$11)*($C$14))/(60)) -> 28.733071 | AK34: =(((AA34/$M$12)*($C$14))/(60)) -> 32.280364 | AL34: =(((AA34/$M$13)*($C$14))/(60)) -> 36.089848 | AN34: =AG34*2.237 -> 35.939202 | AO34: =AH34*2.237 -> 46.421469 | AP34: =AI34*2.237 -> 55.705763 | AQ34: =AJ34*2.237 -> 64.27588 | AR34: =AK34*2.237 -> 72.211174 | AS34: =AL34*2.237 -> 80.732989 | AU34: =AG34*3.6 -> 57.836891 | AV34: =AH34*3.6 -> 74.705985 | AW34: =AI34*3.6 -> 89.647182 | AX34: =AJ34*3.6 -> 103.43906 | AY34: =AK34*3.6 -> 116.20931 | AZ34: =AL34*3.6 -> 129.92345
AA35: 8100 | AB35: 52.5 | AC35: =0.7457*AB35 -> 39.14925 | AD35: =AC35*10^3 -> 39149.25 | AE35: =(AB35*5252)/AA35 -> 34.040741 | AG35: =(((AA35/$M$8)*($C$14))/(60)) -> 16.266626 | AH35: =(((AA35/$M$9)*($C$14))/(60)) -> 21.011058 | AI35: =(((AA35/$M$10)*($C$14))/(60)) -> 25.21327 | AJ35: =(((AA35/$M$11)*($C$14))/(60)) -> 29.092234 | AK35: =(((AA35/$M$12)*($C$14))/(60)) -> 32.683868 | AL35: =(((AA35/$M$13)*($C$14))/(60)) -> 36.540971 | AN35: =AG35*2.237 -> 36.388442 | AO35: =AH35*2.237 -> 47.001737 | AP35: =AI35*2.237 -> 56.402085 | AQ35: =AJ35*2.237 -> 65.079328 | AR35: =AK35*2.237 -> 73.113813 | AS35: =AL35*2.237 -> 81.742152 | AU35: =AG35*3.6 -> 58.559852 | AV35: =AH35*3.6 -> 75.639809 | AW35: =AI35*3.6 -> 90.767771 | AX35: =AJ35*3.6 -> 104.73204 | AY35: =AK35*3.6 -> 117.66193 | AZ35: =AL35*3.6 -> 131.54749
AA36: 8200 | AB36: 53 | AC36: =0.7457*AB36 -> 39.5221 | AD36: =AC36*10^3 -> 39522.1 | AE36: =(AB36*5252)/AA36 -> 33.945854 | AG36: =(((AA36/$M$8)*($C$14))/(60)) -> 16.467448 | AH36: =(((AA36/$M$9)*($C$14))/(60)) -> 21.270454 | AI36: =(((AA36/$M$10)*($C$14))/(60)) -> 25.524545 | AJ36: =(((AA36/$M$11)*($C$14))/(60)) -> 29.451398 | AK36: =(((AA36/$M$12)*($C$14))/(60)) -> 33.087373 | AL36: =(((AA36/$M$13)*($C$14))/(60)) -> 36.992094 | AN36: =AG36*2.237 -> 36.837682 | AO36: =AH36*2.237 -> 47.582006 | AP36: =AI36*2.237 -> 57.098407 | AQ36: =AJ36*2.237 -> 65.882777 | AR36: =AK36*2.237 -> 74.016453 | AS36: =AL36*2.237 -> 82.751314 | AU36: =AG36*3.6 -> 59.282814 | AV36: =AH36*3.6 -> 76.573634 | AW36: =AI36*3.6 -> 91.888361 | AX36: =AJ36*3.6 -> 106.02503 | AY36: =AK36*3.6 -> 119.11454 | AZ36: =AL36*3.6 -> 133.17154
AA37: 8300 | AB37: 54 | AC37: =0.7457*AB37 -> 40.2678 | AD37: =AC37*10^3 -> 40267.8 | AE37: =(AB37*5252)/AA37 -> 34.169639 | AG37: =(((AA37/$M$8)*($C$14))/(60)) -> 16.668271 | AH37: =(((AA37/$M$9)*($C$14))/(60)) -> 21.52985 | AI37: =(((AA37/$M$10)*($C$14))/(60)) -> 25.83582 | AJ37: =(((AA37/$M$11)*($C$14))/(60)) -> 29.810561 | AK37: =(((AA37/$M$12)*($C$14))/(60)) -> 33.490877 | AL37: =(((AA37/$M$13)*($C$14))/(60)) -> 37.443217 | AN37: =AG37*2.237 -> 37.286922 | AO37: =AH37*2.237 -> 48.162274 | AP37: =AI37*2.237 -> 57.794729 | AQ37: =AJ37*2.237 -> 66.686225 | AR37: =AK37*2.237 -> 74.919093 | AS37: =AL37*2.237 -> 83.760476 | AU37: =AG37*3.6 -> 60.005775 | AV37: =AH37*3.6 -> 77.507459 | AW37: =AI37*3.6 -> 93.008951 | AX37: =AJ37*3.6 -> 107.31802 | AY37: =AK37*3.6 -> 120.56716 | AZ37: =AL37*3.6 -> 134.79558
... AA112: 15800 | AB112: 105 | AC112: =0.7457*AB112 -> 78.2985 | AD112: =AC112*10^3 -> 78298.5 | AE112: =(AB112*5252)/AA112 -> 34.902532 | AG112: =(((AA112/$M$8)*($C$14))/(60)) -> 31.729961 | AH112: =(((AA112/$M$9)*($C$14))/(60)) -> 40.984533 | AI112: =(((AA112/$M$10)*($C$14))/(60)) -> 49.18144 | AJ112: =(((AA112/$M$11)*($C$14))/(60)) -> 56.747815 | AK112: =(((AA112/$M$12)*($C$14))/(60)) -> 63.753718 | AL112: =(((AA112/$M$13)*($C$14))/(60)) -> 71.277449 | AN112: =AG112*2.237 -> 70.979923 | AO112: =AH112*2.237 -> 91.682401 | AP112: =AI112*2.237 -> 110.01888 | AQ112: =AJ112*2.237 -> 126.94486 | AR112: =AK112*2.237 -> 142.61707 | AS112: =AL112*2.237 -> 159.44765 | AU112: =AG112*3.6 -> 114.22786 | AV112: =AH112*3.6 -> 147.54432 | AW112: =AI112*3.6 -> 177.05318 | AX112: =AJ112*3.6 -> 204.29213 | AY112: =AK112*3.6 -> 229.51339 | AZ112: =AL112*3.6 -> 256.59882

Sheet Forces
H2: Road Speed (m/s) | O2: Road Speed (kmh) | V2: Driving Force (N) | AC2: Drag Force Tucked (N) | AJ2: Resultant Force Tucked (N) | AQ2: Drag Force Leaning (N) | AX2: Resultant Force Leaning (N)
B3: RPM | C3: Power (BHP) | D3: Power (KW) | E3: Power (W) | F3: Torque | H3: 1st | I3: 2nd | J3: 3rd | K3: 4th | L3: 5th | M3: 6th | O3: 1st | P3: 2nd | Q3: 3rd | R3: 4th | S3: 5th | T3: 6th | V3: 1st | W3: 2nd | X3: 3rd | Y3: 4th | Z3: 5th | AA3: 6th | AC3: 1st | AD3: 2nd | AE3: 3rd | AF3: 4th | AG3: 5th | AH3: 6th | AJ3: 1st | AK3: 2nd | AL3: 3rd | AM3: 4th | AN3: 5th | AO3: 6th | AQ3: 1st | AR3: 2nd | AS3: 3rd | AT3: 4th | AU3: 5th | AV3: 6th | AX3: 1st | AY3: 2nd | AZ3: 3rd | BA3: 4th | BB3: 5th | BC3: 6th
B4: 5200 | C4: 30 | D4: =0.7457*C4 -> 22.371 | E4: =D4*10^3 -> 22371 | F4: =(C4*5252)/B4 -> 30.3 | H4: 10.457074 | I4: 13.507055 | J4: 16.208465 | K4: 18.702075 | L4: 21.010974 | M4: 23.49053 | O4: =H4*3.6 -> 37.645468 | P4: =I4*3.6 -> 48.625396 | Q4: =J4*3.6 -> 58.350476 | R4: =K4*3.6 -> 67.327472 | S4: =L4*3.6 -> 75.639505 | T4: =M4*3.6 -> 84.565907 | V4: =($D4*1000/H4) -> 2139.3173 | W4: =($D4*1000/I4) -> 1656.2456 | X4: =($D4*1000/J4) -> 1380.2047 | Y4: =($D4*1000/K4) -> 1196.1774 | Z4: =($D4*1000/L4) -> 1064.7293 | AA4: =($D4*1000/M4) -> 952.34124 | AC4: =0.5*'Gearing Calculator'!$C$15*'Gearing Calculator'!$C$20*'Gearing Calculator'!$U$20*(Forces!H4^2) -> 9.2026568 | AD4: =0.5*'Gearing Calculator'!$C$15*'Gearing Calculator'!$C$20*'Gearing Calculator'!$U$20*(Forces!I4^2) -> 15.353738 | AE4: =0.5*'Gearing Calculator'!$C$15*'Gearing Calculator'!$C$20*'Gearing Calculator'!$U$20*(Forces!J4^2) -> 22.109383 | AF4: =0.5*'Gearing Calculator'!$C$15*'Gearing Calculator'!$C$20*'Gearing Calculator'!$U$20*(Forces!K4^2) -> 29.435569 | AG4: =0.5*'Gearing Calculator'!$C$15*'Gearing Calculator'!$C$20*'Gearing Calculator'!$U$20*(Forces!L4^2) -> 37.152255 | AH4: =0.5*'Gearing Calculator'!$C$15*'Gearing Calculator'!$C$20*'Gearing Calculator'!$U$20*(Forces!M4^2) -> 46.438528 | AJ4: =V4-AC4 -> 2130.1146 | AK4: =W4-AD4 -> 1640.8919 | AL4: =X4-AE4 -> 1358.0953 | AM4: =Y4-AF4 -> 1166.7418 | AN4: =Z4-AG4 -> 1027.5771 | AO4: =AA4-AH4 -> 905.90271 | AQ4: =0.5*'Gearing Calculator'!$C$15*'Gearing Calculator'!$C$20*'Gearing Calculator'!$W$20*(Forces!H4^2) -> 11.573647 | AR4: =0.5*'Gearing Calculator'!$C$15*'Gearing Calculator'!$C$20*'Gearing Calculator'!$W$20*(Forces!I4^2) -> 19.309505 | AS4: =0.5*'Gearing Calculator'!$C$15*'Gearing Calculator'!$C$20*'Gearing Calculator'!$W$20*(Forces!J4^2) -> 27.805687 | AT4: =0.5*'Gearing Calculator'!$C$15*'Gearing Calculator'!$C$20*'Gearing Calculator'!$W$20*(Forces!K4^2) -> 37.019406 | AU4: =0.5*'Gearing Calculator'!$C$15*'Gearing Calculator'!$C$20*'Gearing Calculator'!$W$20*(Forces!L4^2) -> 46.724234 | AV4: =0.5*'Gearing Calculator'!$C$15*'Gearing Calculator'!$C$20*'Gearing Calculator'!$W$20*(Forces!M4^2) -> 58.403039 | AX4: =V4-AQ4 -> 2127.7436 | AY4: =W4-AR4 -> 1636.9361 | AZ4: =X4-AS4 -> 1352.399 | BA4: =Y4-AT4 -> 1159.158 | BB4: =Z4-AU4 -> 1018.0051 | BC4: =AA4-AV4 -> 893.9382
B5: 5300 | C5: 31 | D5: =0.7457*C5 -> 23.1167 | E5: =D5*10^3 -> 23116.7 | F5: =(C5*5252)/B5 -> 30.719245 | H5: 10.658172 | I5: 13.766806 | J5: 16.520167 | K5: 19.061731 | L5: 21.415031 | M5: 23.942271 | O5: =H5*3.6 -> 38.369419 | P5: =I5*3.6 -> 49.5605 | Q5: =J5*3.6 -> 59.4726 | R5: =K5*3.6 -> 68.622231 | S5: =L5*3.6 -> 77.094111 | T5: =M5*3.6 -> 86.192174 | V5: =($D5*1000/H5) -> 2168.9179 | W5: =($D5*1000/I5) -> 1679.1622 | X5: =($D5*1000/J5) -> 1399.3019 | Y5: =($D5*1000/K5) -> 1212.7283 | Z5: =($D5*1000/L5) -> 1079.4614 | AA5: =($D5*1000/M5) -> 965.51828 | AC5: =0.5*'Gearing Calculator'!$C$15*'Gearing Calculator'!$C$20*'Gearing Calculator'!$U$20*(Forces!H5^2) -> 9.5600085 | AD5: =0.5*'Gearing Calculator'!$C$15*'Gearing Calculator'!$C$20*'Gearing Calculator'!$U$20*(Forces!I5^2) -> 15.949945 | AE5: =0.5*'Gearing Calculator'!$C$15*'Gearing Calculator'!$C$20*'Gearing Calculator'!$U$20*(Forces!J5^2) -> 22.96792 | AF5: =0.5*'Gearing Calculator'!$C$15*'Gearing Calculator'!$C$20*'Gearing Calculator'!$U$20*(Forces!K5^2) -> 30.578592 | AG5: =0.5*'Gearing Calculator'!$C$15*'Gearing Calculator'!$C$20*'Gearing Calculator'!$U$20*(Forces!L5^2) -> 38.594928 | AH5: =0.5*'Gearing Calculator'!$C$15*'Gearing Calculator'!$C$20*'Gearing Calculator'!$U$20*(Forces!M5^2) -> 48.241799 | AJ5: =V5-AC5 -> 2159.3579 | AK5: =W5-AD5 -> 1663.2123 | AL5: =X5-AE5 -> 1376.3339 | AM5: =Y5-AF5 -> 1182.1497 | AN5: =Z5-AG5 -> 1040.8665 | AO5: =AA5-AH5 -> 917.27649 | AQ5: =0.5*'Gearing Calculator'!$C$15*'Gearing Calculator'!$C$20*'Gearing Calculator'!$W$20*(Forces!H5^2) -> 12.023067 | AR5: =0.5*'Gearing Calculator'!$C$15*'Gearing Calculator'!$C$20*'Gearing Calculator'!$W$20*(Forces!I5^2) -> 20.059319 | AS5: =0.5*'Gearing Calculator'!$C$15*'Gearing Calculator'!$C$20*'Gearing Calculator'!$W$20*(Forces!J5^2) -> 28.88542 | AT5: =0.5*'Gearing Calculator'!$C$15*'Gearing Calculator'!$C$20*'Gearing Calculator'!$W$20*(Forces!K5^2) -> 38.45692 | AU5: =0.5*'Gearing Calculator'!$C$15*'Gearing Calculator'!$C$20*'Gearing Calculator'!$W$20*(Forces!L5^2) -> 48.5386 | AV5: =0.5*'Gearing Calculator'!$C$15*'Gearing Calculator'!$C$20*'Gearing Calculator'!$W$20*(Forces!M5^2) -> 60.670909 | AX5: =V5-AQ5 -> 2156.8948 | AY5: =W5-AR5 -> 1659.1029 | AZ5: =X5-AS5 -> 1370.4164 | BA5: =Y5-AT5 -> 1174.2714 | BB5: =Z5-AU5 -> 1030.9228 | BC5: =AA5-AV5 -> 904.84738
B6: 5400 | C6: 32 | D6: =0.7457*C6 -> 23.8624 | E6: =D6*10^3 -> 23862.4 | F6: =(C6*5252)/B6 -> 31.122963 | H6: 10.85927 | I6: 14.026557 | J6: 16.831868 | K6: 19.421386 | L6: 21.819088 | M6: 24.394012 | O6: =H6*3.6 -> 39.093371 | P6: =I6*3.6 -> 50.495604 | Q6: =J6*3.6 -> 60.594725 | R6: =K6*3.6 -> 69.91699 | S6: =L6*3.6 -> 78.548717 | T6: =M6*3.6 -> 87.818441 | V6: =($D6*1000/H6) -> 2197.4222 | W6: =($D6*1000/I6) -> 1701.2301 | X6: =($D6*1000/J6) -> 1417.6917 | Y6: =($D6*1000/K6) -> 1228.6662 | Z6: =($D6*1000/L6) -> 1093.6479 | AA6: =($D6*1000/M6) -> 978.20729 | AC6: =0.5*'Gearing Calculator'!$C$15*'Gearing Calculator'!$C$20*'Gearing Calculator'!$U$20*(Forces!H6^2) -> 9.9241669 | AD6: =0.5*'Gearing Calculator'!$C$15*'Gearing Calculator'!$C$20*'Gearing Calculator'!$U$20*(Forces!I6^2) -> 16.557508 | AE6: =0.5*'Gearing Calculator'!$C$15*'Gearing Calculator'!$C$20*'Gearing Calculator'!$U$20*(Forces!J6^2) -> 23.842811 | AF6: =0.5*'Gearing Calculator'!$C$15*'Gearing Calculator'!$C$20*'Gearing Calculator'!$U$20*(Forces!K6^2) -> 31.743387 | AG6: =0.5*'Gearing Calculator'!$C$15*'Gearing Calculator'!$C$20*'Gearing Calculator'!$U$20*(Forces!L6^2) -> 40.06508 | AH6: =0.5*'Gearing Calculator'!$C$15*'Gearing Calculator'!$C$20*'Gearing Calculator'!$U$20*(Forces!M6^2) -> 50.079418 | AJ6: =V6-AC6 -> 2187.498 | AK6: =W6-AD6 -> 1684.6726 | AL6: =X6-AE6 -> 1393.8489 | AM6: =Y6-AF6 -> 1196.9228 | AN6: =Z6-AG6 -> 1053.5828 | AO6: =AA6-AH6 -> 928.12788 | AQ6: =0.5*'Gearing Calculator'!$C$15*'Gearing Calculator'!$C$20*'Gearing Calculator'!$W$20*(Forces!H6^2) -> 12.481048 | AR6: =0.5*'Gearing Calculator'!$C$15*'Gearing Calculator'!$C$20*'Gearing Calculator'!$W$20*(Forces!I6^2) -> 20.823416 | AS6: =0.5*'Gearing Calculator'!$C$15*'Gearing Calculator'!$C$20*'Gearing Calculator'!$W$20*(Forces!J6^2) -> 29.985719 | AT6: =0.5*'Gearing Calculator'!$C$15*'Gearing Calculator'!$C$20*'Gearing Calculator'!$W$20*(Forces!K6^2) -> 39.921815 | AU6: =0.5*'Gearing Calculator'!$C$15*'Gearing Calculator'!$C$20*'Gearing Calculator'!$W$20*(Forces!L6^2) -> 50.387524 | AV6: =0.5*'Gearing Calculator'!$C$15*'Gearing Calculator'!$C$20*'Gearing Calculator'!$W$20*(Forces!M6^2) -> 62.981976 | AX6: =V6-AQ6 -> 2184.9411 | AY6: =W6-AR6 -> 1680.4067 | AZ6: =X6-AS6 -> 1387.706 | BA6: =Y6-AT6 -> 1188.7444 | BB6: =Z6-AU6 -> 1043.2604 | BC6: =AA6-AV6 -> 915.22532
B7: 5500 | C7: 33 | D7: =0.7457*C7 -> 24.6081 | E7: =D7*10^3 -> 24608.1 | F7: =(C7*5252)/B7 -> 31.512 | H7: 11.060367 | I7: 14.286308 | J7: 17.143569 | K7: 19.781041 | L7: 22.223145 | M7: 24.845752 | O7: =H7*3.6 -> 39.817322 | P7: =I7*3.6 -> 51.430708 | Q7: =J7*3.6 -> 61.716849 | R7: =K7*3.6 -> 71.211749 | S7: =L7*3.6 -> 80.003323 | T7: =M7*3.6 -> 89.444709 | V7: =($D7*1000/H7) -> 2224.89 | W7: =($D7*1000/I7) -> 1722.4955 | X7: =($D7*1000/J7) -> 1435.4129 | Y7: =($D7*1000/K7) -> 1244.0245 | Z7: =($D7*1000/L7) -> 1107.3185 | AA7: =($D7*1000/M7) -> 990.43489 | AC7: =0.5*'Gearing Calculator'!$C$15*'Gearing Calculator'!$C$20*'Gearing Calculator'!$U$20*(Forces!H7^2) -> 10.295132 | AD7: =0.5*'Gearing Calculator'!$C$15*'Gearing Calculator'!$C$20*'Gearing Calculator'!$U$20*(Forces!I7^2) -> 17.176427 | AE7: =0.5*'Gearing Calculator'!$C$15*'Gearing Calculator'!$C$20*'Gearing Calculator'!$U$20*(Forces!J7^2) -> 24.734055 | AF7: =0.5*'Gearing Calculator'!$C$15*'Gearing Calculator'!$C$20*'Gearing Calculator'!$U$20*(Forces!K7^2) -> 32.929954 | AG7: =0.5*'Gearing Calculator'!$C$15*'Gearing Calculator'!$C$20*'Gearing Calculator'!$U$20*(Forces!L7^2) -> 41.562712 | AH7: =0.5*'Gearing Calculator'!$C$15*'Gearing Calculator'!$C$20*'Gearing Calculator'!$U$20*(Forces!M7^2) -> 51.951385 | AJ7: =V7-AC7 -> 2214.5948 | AK7: =W7-AD7 -> 1705.319 | AL7: =X7-AE7 -> 1410.6788 | AM7: =Y7-AF7 -> 1211.0945 | AN7: =Z7-AG7 -> 1065.7558 | AO7: =AA7-AH7 -> 938.4835 | AQ7: =0.5*'Gearing Calculator'!$C$15*'Gearing Calculator'!$C$20*'Gearing Calculator'!$W$20*(Forces!H7^2) -> 12.94759 | AR7: =0.5*'Gearing Calculator'!$C$15*'Gearing Calculator'!$C$20*'Gearing Calculator'!$W$20*(Forces!I7^2) -> 21.601794 | AS7: =0.5*'Gearing Calculator'!$C$15*'Gearing Calculator'!$C$20*'Gearing Calculator'!$W$20*(Forces!J7^2) -> 31.106584 | AT7: =0.5*'Gearing Calculator'!$C$15*'Gearing Calculator'!$C$20*'Gearing Calculator'!$W$20*(Forces!K7^2) -> 41.414091 | AU7: =0.5*'Gearing Calculator'!$C$15*'Gearing Calculator'!$C$20*'Gearing Calculator'!$W$20*(Forces!L7^2) -> 52.271009 | AV7: =0.5*'Gearing Calculator'!$C$15*'Gearing Calculator'!$C$20*'Gearing Calculator'!$W$20*(Forces!M7^2) -> 65.33624 | AX7: =V7-AQ7 -> 2211.9424 | AY7: =W7-AR7 -> 1700.8937 | AZ7: =X7-AS7 -> 1404.3063 | BA7: =Y7-AT7 -> 1202.6104 | BB7: =Z7-AU7 -> 1055.0475 | BC7: =AA7-AV7 -> 925.09865
B8: 5600 | C8: 34 | D8: =0.7457*C8 -> 25.3538 | E8: =D8*10^3 -> 25353.8 | F8: =(C8*5252)/B8 -> 31.887143 | H8: 11.261465 | I8: 14.546059 | J8: 17.45527 | K8: 20.140697 | L8: 22.627202 | M8: 25.297493 | O8: =H8*3.6 -> 40.541273 | P8: =I8*3.6 -> 52.365811 | Q8: =J8*3.6 -> 62.838974 | R8: =K8*3.6 -> 72.506508 | S8: =L8*3.6 -> 81.457929 | T8: =M8*3.6 -> 91.070976 | V8: =($D8*1000/H8) -> 2251.3767 | W8: =($D8*1000/I8) -> 1743.0014 | X8: =($D8*1000/J8) -> 1452.5011 | Y8: =($D8*1000/K8) -> 1258.8343 | Z8: =($D8*1000/L8) -> 1120.5009 | AA8: =($D8*1000/M8) -> 1002.2258 | AC8: =0.5*'Gearing Calculator'!$C$15*'Gearing Calculator'!$C$20*'Gearing Calculator'!$U$20*(Forces!H8^2) -> 10.672904 | AD8: =0.5*'Gearing Calculator'!$C$15*'Gearing Calculator'!$C$20*'Gearing Calculator'!$U$20*(Forces!I8^2) -> 17.806702 | AE8: =0.5*'Gearing Calculator'!$C$15*'Gearing Calculator'!$C$20*'Gearing Calculator'!$U$20*(Forces!J8^2) -> 25.641651 | AF8: =0.5*'Gearing Calculator'!$C$15*'Gearing Calculator'!$C$20*'Gearing Calculator'!$U$20*(Forces!K8^2) -> 34.138293 | AG8: =0.5*'Gearing Calculator'!$C$15*'Gearing Calculator'!$C$20*'Gearing Calculator'!$U$20*(Forces!L8^2) -> 43.087823 | AH8: =0.5*'Gearing Calculator'!$C$15*'Gearing Calculator'!$C$20*'Gearing Calculator'!$U$20*(Forces!M8^2) -> 53.857701 | AJ8: =V8-AC8 -> 2240.7038 | AK8: =W8-AD8 -> 1725.1946 | AL8: =X8-AE8 -> 1426.8595 | AM8: =Y8-AF8 -> 1224.696 | AN8: =Z8-AG8 -> 1077.413 | AO8: =AA8-AH8 -> 948.36808 | AQ8: =0.5*'Gearing Calculator'!$C$15*'Gearing Calculator'!$C$20*'Gearing Calculator'!$W$20*(Forces!H8^2) -> 13.422691 | AR8: =0.5*'Gearing Calculator'!$C$15*'Gearing Calculator'!$C$20*'Gearing Calculator'!$W$20*(Forces!I8^2) -> 22.394455 | AS8: =0.5*'Gearing Calculator'!$C$15*'Gearing Calculator'!$C$20*'Gearing Calculator'!$W$20*(Forces!J8^2) -> 32.248016 | AT8: =0.5*'Gearing Calculator'!$C$15*'Gearing Calculator'!$C$20*'Gearing Calculator'!$W$20*(Forces!K8^2) -> 42.933749 | AU8: =0.5*'Gearing Calculator'!$C$15*'Gearing Calculator'!$C$20*'Gearing Calculator'!$W$20*(Forces!L8^2) -> 54.189052 | AV8: =0.5*'Gearing Calculator'!$C$15*'Gearing Calculator'!$C$20*'Gearing Calculator'!$W$20*(Forces!M8^2) -> 67.733702 | AX8: =V8-AQ8 -> 2237.9541 | AY8: =W8-AR8 -> 1720.6069 | AZ8: =X8-AS8 -> 1420.2531 | BA8: =Y8-AT8 -> 1215.9006 | BB8: =Z8-AU8 -> 1066.3118 | BC8: =AA8-AV8 -> 934.49207
B9: 5700 | C9: 35 | D9: =0.7457*C9 -> 26.0995 | E9: =D9*10^3 -> 26099.5 | F9: =(C9*5252)/B9 -> 32.249123 | H9: 11.462562 | I9: 14.80581 | J9: 17.766972 | K9: 20.500352 | L9: 23.03126 | M9: 25.749234 | O9: =H9*3.6 -> 41.265225 | P9: =I9*3.6 -> 53.300915 | Q9: =J9*3.6 -> 63.961098 | R9: =K9*3.6 -> 73.801267 | S9: =L9*3.6 -> 82.912535 | T9: =M9*3.6 -> 92.697244 | V9: =($D9*1000/H9) -> 2276.9342 | W9: =($D9*1000/I9) -> 1762.7877 | X9: =($D9*1000/J9) -> 1468.9898 | Y9: =($D9*1000/K9) -> 1273.1245 | Z9: =($D9*1000/L9) -> 1133.2207 | AA9: =($D9*1000/M9) -> 1013.603 | AC9: =0.5*'Gearing Calculator'!$C$15*'Gearing Calculator'!$C$20*'Gearing Calculator'!$U$20*(Forces!H9^2) -> 11.057482 | AD9: =0.5*'Gearing Calculator'!$C$15*'Gearing Calculator'!$C$20*'Gearing Calculator'!$U$20*(Forces!I9^2) -> 18.448334 | AE9: =0.5*'Gearing Calculator'!$C$15*'Gearing Calculator'!$C$20*'Gearing Calculator'!$U$20*(Forces!J9^2) -> 26.565601 | AF9: =0.5*'Gearing Calculator'!$C$15*'Gearing Calculator'!$C$20*'Gearing Calculator'!$U$20*(Forces!K9^2) -> 35.368404 | AG9: =0.5*'Gearing Calculator'!$C$15*'Gearing Calculator'!$C$20*'Gearing Calculator'!$U$20*(Forces!L9^2) -> 44.640413 | AH9: =0.5*'Gearing Calculator'!$C$15*'Gearing Calculator'!$C$20*'Gearing Calculator'!$U$20*(Forces!M9^2) -> 55.798364 | AJ9: =V9-AC9 -> 2265.8767 | AK9: =W9-AD9 -> 1744.3394 | AL9: =X9-AE9 -> 1442.4242 | AM9: =Y9-AF9 -> 1237.7561 | AN9: =Z9-AG9 -> 1088.5803 | AO9: =AA9-AH9 -> 957.80459 | AQ9: =0.5*'Gearing Calculator'!$C$15*'Gearing Calculator'!$C$20*'Gearing Calculator'!$W$20*(Forces!H9^2) -> 13.906353 | AR9: =0.5*'Gearing Calculator'!$C$15*'Gearing Calculator'!$C$20*'Gearing Calculator'!$W$20*(Forces!I9^2) -> 23.201398 | AS9: =0.5*'Gearing Calculator'!$C$15*'Gearing Calculator'!$C$20*'Gearing Calculator'!$W$20*(Forces!J9^2) -> 33.410014 | AT9: =0.5*'Gearing Calculator'!$C$15*'Gearing Calculator'!$C$20*'Gearing Calculator'!$W$20*(Forces!K9^2) -> 44.480787 | AU9: =0.5*'Gearing Calculator'!$C$15*'Gearing Calculator'!$C$20*'Gearing Calculator'!$W$20*(Forces!L9^2) -> 56.141655 | AV9: =0.5*'Gearing Calculator'!$C$15*'Gearing Calculator'!$C$20*'Gearing Calculator'!$W$20*(Forces!M9^2) -> 70.174362 | AX9: =V9-AQ9 -> 2263.0278 | AY9: =W9-AR9 -> 1739.5863 | AZ9: =X9-AS9 -> 1435.5798 | BA9: =Y9-AT9 -> 1228.6437 | BB9: =Z9-AU9 -> 1077.079 | BC9: =AA9-AV9 -> 943.42859
B10: 5800 | C10: 36 | D10: =0.7457*C10 -> 26.8452 | E10: =D10*10^3 -> 26845.2 | F10: =(C10*5252)/B10 -> 32.598621 | H10: 11.66366 | I10: 15.065561 | J10: 18.078673 | K10: 20.860007 | L10: 23.435317 | M10: 26.200975 | O10: =H10*3.6 -> 41.989176 | P10: =I10*3.6 -> 54.236019 | Q10: =J10*3.6 -> 65.083223 | R10: =K10*3.6 -> 75.096026 | S10: =L10*3.6 -> 84.367141 | T10: =M10*3.6 -> 94.323511 | V10: =($D10*1000/H10) -> 2301.6103 | W10: =($D10*1000/I10) -> 1781.8918 | X10: =($D10*1000/J10) -> 1484.9099 | Y10: =($D10*1000/K10) -> 1286.9219 | Z10: =($D10*1000/L10) -> 1145.5019 | AA10: =($D10*1000/M10) -> 1024.5878 | AC10: =0.5*'Gearing Calculator'!$C$15*'Gearing Calculator'!$C$20*'Gearing Calculator'!$U$20*(Forces!H10^2) -> 11.448867 | AD10: =0.5*'Gearing Calculator'!$C$15*'Gearing Calculator'!$C$20*'Gearing Calculator'!$U$20*(Forces!I10^2) -> 19.101322 | AE10: =0.5*'Gearing Calculator'!$C$15*'Gearing Calculator'!$C$20*'Gearing Calculator'!$U$20*(Forces!J10^2) -> 27.505904 | AF10: =0.5*'Gearing Calculator'!$C$15*'Gearing Calculator'!$C$20*'Gearing Calculator'!$U$20*(Forces!K10^2) -> 36.620286 | AG10: =0.5*'Gearing Calculator'!$C$15*'Gearing Calculator'!$C$20*'Gearing Calculator'!$U$20*(Forces!L10^2) -> 46.220483 | AH10: =0.5*'Gearing Calculator'!$C$15*'Gearing Calculator'!$C$20*'Gearing Calculator'!$U$20*(Forces!M10^2) -> 57.773375 | AJ10: =V10-AC10 -> 2290.1614 | AK10: =W10-AD10 -> 1762.7905 | AL10: =X10-AE10 -> 1457.404 | AM10: =Y10-AF10 -> 1250.3016 | AN10: =Z10-AG10 -> 1099.2814 | AO10: =AA10-AH10 -> 966.81444 | AQ10: =0.5*'Gearing Calculator'!$C$15*'Gearing Calculator'!$C$20*'Gearing Calculator'!$W$20*(Forces!H10^2) -> 14.398576 | AR10: =0.5*'Gearing Calculator'!$C$15*'Gearing Calculator'!$C$20*'Gearing Calculator'!$W$20*(Forces!I10^2) -> 24.022624 | AS10: =0.5*'Gearing Calculator'!$C$15*'Gearing Calculator'!$C$20*'Gearing Calculator'!$W$20*(Forces!J10^2) -> 34.592578 | AT10: =0.5*'Gearing Calculator'!$C$15*'Gearing Calculator'!$C$20*'Gearing Calculator'!$W$20*(Forces!K10^2) -> 46.055207 | AU10: =0.5*'Gearing Calculator'!$C$15*'Gearing Calculator'!$C$20*'Gearing Calculator'!$W$20*(Forces!L10^2) -> 58.128818 | AV10: =0.5*'Gearing Calculator'!$C$15*'Gearing Calculator'!$C$20*'Gearing Calculator'!$W$20*(Forces!M10^2) -> 72.658219 | AX10: =V10-AQ10 -> 2287.2117 | AY10: =W10-AR10 -> 1757.8692 | AZ10: =X10-AS10 -> 1450.3173 | BA10: =Y10-AT10 -> 1240.8667 | BB10: =Z10-AU10 -> 1087.3731 | BC10: =AA10-AV10 -> 951.92959
B11: 5900 | C11: 37 | D11: =0.7457*C11 -> 27.5909 | E11: =D11*10^3 -> 27590.9 | F11: =(C11*5252)/B11 -> 32.936271 | H11: 11.864758 | I11: 15.325312 | J11: 18.390374 | K11: 21.219663 | L11: 23.839374 | M11: 26.652716 | O11: =H11*3.6 -> 42.713127 | P11: =I11*3.6 -> 55.171123 | Q11: =J11*3.6 -> 66.205347 | R11: =K11*3.6 -> 76.390785 | S11: =L11*3.6 -> 85.821746 | T11: =M11*3.6 -> 95.949779 | V11: =($D11*1000/H11) -> 2325.45 | W11: =($D11*1000/I11) -> 1800.3484 | X11: =($D11*1000/J11) -> 1500.2903 | Y11: =($D11*1000/K11) -> 1300.2516 | Z11: =($D11*1000/L11) -> 1157.3668 | AA11: =($D11*1000/M11) -> 1035.2003 | AC11: =0.5*'Gearing Calculator'!$C$15*'Gearing Calculator'!$C$20*'Gearing Calculator'!$U$20*(Forces!H11^2) -> 11.847059 | AD11: =0.5*'Gearing Calculator'!$C$15*'Gearing Calculator'!$C$20*'Gearing Calculator'!$U$20*(Forces!I11^2) -> 19.765667 | AE11: =0.5*'Gearing Calculator'!$C$15*'Gearing Calculator'!$C$20*'Gearing Calculator'!$U$20*(Forces!J11^2) -> 28.46256 | AF11: =0.5*'Gearing Calculator'!$C$15*'Gearing Calculator'!$C$20*'Gearing Calculator'!$U$20*(Forces!K11^2) -> 37.893941 | AG11: =0.5*'Gearing Calculator'!$C$15*'Gearing Calculator'!$C$20*'Gearing Calculator'!$U$20*(Forces!L11^2) -> 47.828033 | AH11: =0.5*'Gearing Calculator'!$C$15*'Gearing Calculator'!$C$20*'Gearing Calculator'!$U$20*(Forces!M11^2) -> 59.782735 | AJ11: =V11-AC11 -> 2313.6029 | AK11: =W11-AD11 -> 1780.5827 | AL11: =X11-AE11 -> 1471.8277 | AM11: =Y11-AF11 -> 1262.3576 | AN11: =Z11-AG11 -> 1109.5388 | AO11: =AA11-AH11 -> 975.41757 | AQ11: =0.5*'Gearing Calculator'!$C$15*'Gearing Calculator'!$C$20*'Gearing Calculator'!$W$20*(Forces!H11^2) -> 14.899358 | AR11: =0.5*'Gearing Calculator'!$C$15*'Gearing Calculator'!$C$20*'Gearing Calculator'!$W$20*(Forces!I11^2) -> 24.858131 | AS11: =0.5*'Gearing Calculator'!$C$15*'Gearing Calculator'!$C$20*'Gearing Calculator'!$W$20*(Forces!J11^2) -> 35.795709 | AT11: =0.5*'Gearing Calculator'!$C$15*'Gearing Calculator'!$C$20*'Gearing Calculator'!$W$20*(Forces!K11^2) -> 47.657009 | AU11: =0.5*'Gearing Calculator'!$C$15*'Gearing Calculator'!$C$20*'Gearing Calculator'!$W$20*(Forces!L11^2) -> 60.150539 | AV11: =0.5*'Gearing Calculator'!$C$15*'Gearing Calculator'!$C$20*'Gearing Calculator'!$W$20*(Forces!M11^2) -> 75.185273 | AX11: =V11-AQ11 -> 2310.5506 | AY11: =W11-AR11 -> 1775.4902 | AZ11: =X11-AS11 -> 1464.4946 | BA11: =Y11-AT11 -> 1252.5946 | BB11: =Z11-AU11 -> 1097.2163 | BC11: =AA11-AV11 -> 960.01503
B12: 6000 | C12: 38 | D12: =0.7457*C12 -> 28.3366 | E12: =D12*10^3 -> 28336.6 | F12: =(C12*5252)/B12 -> 33.262667 | H12: 12.065855 | I12: 15.585063 | J12: 18.702075 | K12: 21.579318 | L12: 24.243431 | M12: 27.104457 | O12: =H12*3.6 -> 43.437079 | P12: =I12*3.6 -> 56.106226 | Q12: =J12*3.6 -> 67.327472 | R12: =K12*3.6 -> 77.685544 | S12: =L12*3.6 -> 87.276352 | T12: =M12*3.6 -> 97.576046 | V12: =($D12*1000/H12) -> 2348.495 | W12: =($D12*1000/I12) -> 1818.1896 | X12: =($D12*1000/J12) -> 1515.158 | Y12: =($D12*1000/K12) -> 1313.137 | Z12: =($D12*1000/L12) -> 1168.8362 | AA12: =($D12*1000/M12) -> 1045.459 | AC12: =0.5*'Gearing Calculator'!$C$15*'Gearing Calculator'!$C$20*'Gearing Calculator'!$U$20*(Forces!H12^2) -> 12.252058 | AD12: =0.5*'Gearing Calculator'!$C$15*'Gearing Calculator'!$C$20*'Gearing Calculator'!$U$20*(Forces!I12^2) -> 20.441367 | AE12: =0.5*'Gearing Calculator'!$C$15*'Gearing Calculator'!$C$20*'Gearing Calculator'!$U$20*(Forces!J12^2) -> 29.435569 | AF12: =0.5*'Gearing Calculator'!$C$15*'Gearing Calculator'!$C$20*'Gearing Calculator'!$U$20*(Forces!K12^2) -> 39.189367 | AG12: =0.5*'Gearing Calculator'!$C$15*'Gearing Calculator'!$C$20*'Gearing Calculator'!$U$20*(Forces!L12^2) -> 49.463062 | AH12: =0.5*'Gearing Calculator'!$C$15*'Gearing Calculator'!$C$20*'Gearing Calculator'!$U$20*(Forces!M12^2) -> 61.826442 | AJ12: =V12-AC12 -> 2336.2429 | AK12: =W12-AD12 -> 1797.7483 | AL12: =X12-AE12 -> 1485.7225 | AM12: =Y12-AF12 -> 1273.9476 | AN12: =Z12-AG12 -> 1119.3731 | AO12: =AA12-AH12 -> 983.6326 | AQ12: =0.5*'Gearing Calculator'!$C$15*'Gearing Calculator'!$C$20*'Gearing Calculator'!$W$20*(Forces!H12^2) -> 15.408702 | AR12: =0.5*'Gearing Calculator'!$C$15*'Gearing Calculator'!$C$20*'Gearing Calculator'!$W$20*(Forces!I12^2) -> 25.707921 | AS12: =0.5*'Gearing Calculator'!$C$15*'Gearing Calculator'!$C$20*'Gearing Calculator'!$W$20*(Forces!J12^2) -> 37.019406 | AT12: =0.5*'Gearing Calculator'!$C$15*'Gearing Calculator'!$C$20*'Gearing Calculator'!$W$20*(Forces!K12^2) -> 49.286191 | AU12: =0.5*'Gearing Calculator'!$C$15*'Gearing Calculator'!$C$20*'Gearing Calculator'!$W$20*(Forces!L12^2) -> 62.20682 | AV12: =0.5*'Gearing Calculator'!$C$15*'Gearing Calculator'!$C$20*'Gearing Calculator'!$W$20*(Forces!M12^2) -> 77.755526 | AX12: =V12-AQ12 -> 2333.0863 | AY12: =W12-AR12 -> 1792.4817 | AZ12: =X12-AS12 -> 1478.1386 | BA12: =Y12-AT12 -> 1263.8508 | BB12: =Z12-AU12 -> 1106.6294 | BC12: =AA12-AV12 -> 967.70352
B13: 6100 | C13: 38.5 | D13: =0.7457*C13 -> 28.70945 | E13: =D13*10^3 -> 28709.45 | F13: =(C13*5252)/B13 -> 33.147869 | H13: 12.266953 | I13: 15.844814 | J13: 19.013777 | K13: 21.938973 | L13: 24.647488 | M13: 27.556198 | O13: =H13*3.6 -> 44.16103 | P13: =I13*3.6 -> 57.04133 | Q13: =J13*3.6 -> 68.449596 | R13: =K13*3.6 -> 78.980303 | S13: =L13*3.6 -> 88.730958 | T13: =M13*3.6 -> 99.202313 | V13: =($D13*1000/H13) -> 2340.3897 | W13: =($D13*1000/I13) -> 1811.9146 | X13: =($D13*1000/J13) -> 1509.9288 | Y13: =($D13*1000/K13) -> 1308.605 | Z13: =($D13*1000/L13) -> 1164.8023 | AA13: =($D13*1000/M13) -> 1041.8509 | AC13: =0.5*'Gearing Calculator'!$C$15*'Gearing Calculator'!$C$20*'Gearing Calculator'!$U$20*(Forces!H13^2) -> 12.663863 | AD13: =0.5*'Gearing Calculator'!$C$15*'Gearing Calculator'!$C$20*'Gearing Calculator'!$U$20*(Forces!I13^2) -> 21.128425 | AE13: =0.5*'Gearing Calculator'!$C$15*'Gearing Calculator'!$C$20*'Gearing Calculator'!$U$20*(Forces!J13^2) -> 30.424931 | AF13: =0.5*'Gearing Calculator'!$C$15*'Gearing Calculator'!$C$20*'Gearing Calculator'!$U$20*(Forces!K13^2) -> 40.506565 | AG13: =0.5*'Gearing Calculator'!$C$15*'Gearing Calculator'!$C$20*'Gearing Calculator'!$U$20*(Forces!L13^2) -> 51.12557 | AH13: =0.5*'Gearing Calculator'!$C$15*'Gearing Calculator'!$C$20*'Gearing Calculator'!$U$20*(Forces!M13^2) -> 63.904498 | AJ13: =V13-AC13 -> 2327.7258 | AK13: =W13-AD13 -> 1790.7862 | AL13: =X13-AE13 -> 1479.5039 | AM13: =Y13-AF13 -> 1268.0984 | AN13: =Z13-AG13 -> 1113.6767 | AO13: =AA13-AH13 -> 977.94641 | AQ13: =0.5*'Gearing Calculator'!$C$15*'Gearing Calculator'!$C$20*'Gearing Calculator'!$W$20*(Forces!H13^2) -> 15.926605 | AR13: =0.5*'Gearing Calculator'!$C$15*'Gearing Calculator'!$C$20*'Gearing Calculator'!$W$20*(Forces!I13^2) -> 26.571992 | AS13: =0.5*'Gearing Calculator'!$C$15*'Gearing Calculator'!$C$20*'Gearing Calculator'!$W$20*(Forces!J13^2) -> 38.263669 | AT13: =0.5*'Gearing Calculator'!$C$15*'Gearing Calculator'!$C$20*'Gearing Calculator'!$W$20*(Forces!K13^2) -> 50.942755 | AU13: =0.5*'Gearing Calculator'!$C$15*'Gearing Calculator'!$C$20*'Gearing Calculator'!$W$20*(Forces!L13^2) -> 64.297661 | AV13: =0.5*'Gearing Calculator'!$C$15*'Gearing Calculator'!$C$20*'Gearing Calculator'!$W$20*(Forces!M13^2) -> 80.368975 | AX13: =V13-AQ13 -> 2324.4631 | AY13: =W13-AR13 -> 1785.3426 | AZ13: =X13-AS13 -> 1471.6652 | BA13: =Y13-AT13 -> 1257.6622 | BB13: =Z13-AU13 -> 1100.5046 | BC13: =AA13-AV13 -> 961.48193
B14: 6200 | C14: 39 | D14: =0.7457*C14 -> 29.0823 | E14: =D14*10^3 -> 29082.3 | F14: =(C14*5252)/B14 -> 33.036774 | H14: 12.46805 | I14: 16.104565 | J14: 19.325478 | K14: 22.298628 | L14: 25.051546 | M14: 28.007939 | O14: =H14*3.6 -> 44.884981 | P14: =I14*3.6 -> 57.976434 | Q14: =J14*3.6 -> 69.571721 | R14: =K14*3.6 -> 80.275062 | S14: =L14*3.6 -> 90.185564 | T14: =M14*3.6 -> 100.82858 | V14: =($D14*1000/H14) -> 2332.5459 | W14: =($D14*1000/I14) -> 1805.842 | X14: =($D14*1000/J14) -> 1504.8683 | Y14: =($D14*1000/K14) -> 1304.2192 | Z14: =($D14*1000/L14) -> 1160.8984 | AA14: =($D14*1000/M14) -> 1038.3592 | AC14: =0.5*'Gearing Calculator'!$C$15*'Gearing Calculator'!$C$20*'Gearing Calculator'!$U$20*(Forces!H14^2) -> 13.082475 | AD14: =0.5*'Gearing Calculator'!$C$15*'Gearing Calculator'!$C$20*'Gearing Calculator'!$U$20*(Forces!I14^2) -> 21.826838 | AE14: =0.5*'Gearing Calculator'!$C$15*'Gearing Calculator'!$C$20*'Gearing Calculator'!$U$20*(Forces!J14^2) -> 31.430647 | AF14: =0.5*'Gearing Calculator'!$C$15*'Gearing Calculator'!$C$20*'Gearing Calculator'!$U$20*(Forces!K14^2) -> 41.845535 | AG14: =0.5*'Gearing Calculator'!$C$15*'Gearing Calculator'!$C$20*'Gearing Calculator'!$U$20*(Forces!L14^2) -> 52.815558 | AH14: =0.5*'Gearing Calculator'!$C$15*'Gearing Calculator'!$C$20*'Gearing Calculator'!$U$20*(Forces!M14^2) -> 66.016901 | AJ14: =V14-AC14 -> 2319.4635 | AK14: =W14-AD14 -> 1784.0152 | AL14: =X14-AE14 -> 1473.4377 | AM14: =Y14-AF14 -> 1262.3737 | AN14: =Z14-AG14 -> 1108.0829 | AO14: =AA14-AH14 -> 972.34225 | AQ14: =0.5*'Gearing Calculator'!$C$15*'Gearing Calculator'!$C$20*'Gearing Calculator'!$W$20*(Forces!H14^2) -> 16.453069 | AR14: =0.5*'Gearing Calculator'!$C$15*'Gearing Calculator'!$C$20*'Gearing Calculator'!$W$20*(Forces!I14^2) -> 27.450346 | AS14: =0.5*'Gearing Calculator'!$C$15*'Gearing Calculator'!$C$20*'Gearing Calculator'!$W$20*(Forces!J14^2) -> 39.528499 | AT14: =0.5*'Gearing Calculator'!$C$15*'Gearing Calculator'!$C$20*'Gearing Calculator'!$W$20*(Forces!K14^2) -> 52.6267 | AU14: =0.5*'Gearing Calculator'!$C$15*'Gearing Calculator'!$C$20*'Gearing Calculator'!$W$20*(Forces!L14^2) -> 66.42306 | AV14: =0.5*'Gearing Calculator'!$C$15*'Gearing Calculator'!$C$20*'Gearing Calculator'!$W$20*(Forces!M14^2) -> 83.025622 | AX14: =V14-AQ14 -> 2316.0929 | AY14: =W14-AR14 -> 1778.3917 | AZ14: =X14-AS14 -> 1465.3398 | BA14: =Y14-AT14 -> 1251.5925 | BB14: =Z14-AU14 -> 1094.4754 | BC14: =AA14-AV14 -> 955.33353
