Workbook
Name Acoustic: #REF!
Name Architrave: #REF!
Name Beadfix: #REF!
Name BeadType: #REF!
Name Bill021Page1: #REF!
Name Bill021Page2: #REF!
Name Bill021Page3: #REF!
Name Bill021Page4: #REF!
Name Bill021Page5: #REF!
Name Bill021Page6: #REF!
Name Bill021Page7: #REF!
Name Bill021Page8: #REF!
Name Bill021Page9: #REF!
Name Bolts: [1]Validation!$B$27:$B$30
Name Config: #REF!
Name Core: [1]Validation!$B$52:$B$88
Name Customer: #REF!
Name FaceType: #REF!
Name FConfig: #REF!
Name Finish: #REF!
Name Fire: [1]Validation!$B$91:$B$99
Name Freb: #REF!
Name FSEAL: #REF!
Name Furn: #REF!
Name Glass: #REF!
Name Hand: #REF!
Name Hinge: [1]Validation!$B$38:$B$49
Name LipConfig: #REF!
Name Lock: #REF!
Name Locks: [1]Validation!$B$19:$B$25
Name MS: #REF!
Name Opanel: #REF!
Name SBDLIP: #REF!
Name Slight: #REF!
Name SPORTSLIP: #REF!
Name Timber: #REF!
Name Users: #REF!
Name VP: #REF!

Sheet Taw Construction - GIFA
A17: Module Name: | B17: Integrated Project
A18: Module Code: | B18: ACBA6016
A19: Client: | B19: Ace Capital Projects Limited
B21: Summary Project Costings
B25: Ground Floor | F25: First Floor | J25: Second Floor
B27: Room | C27: Quantity | D27: UOM | F27: Room | G27: Quantity | H27: UOM | J27: Room | K27: Quantity | L27: UOM
B28: Testing Chamber | C28: 2304 | D28: m2 | F28: Stairwell 1 | G28: 29.5 | H28: m2 | J28: Stairwell 1 | K28: 29.5 | L28: m2
B29: Corridor | C29: =181+171.5+211+159+81.6-5.4 -> 798.7 | D29: m2 | F29: Lift | G29: 1.5 | H29: m2 | J29: Lift | K29: 1.5 | L29: m2
B30: Unisex Toilet Block | C30: 5.4 | D30: m2 | F30: Workshop 1 | G30: 50.5 | H30: m2 | J30: Computer Lab | K30: 60.5 | L30: m2
B31: General Stores | C31: 18 | D31: m2 | F31: Lab Space | G31: 53.5 | H31: m2 | J31: Teaching Space 1 | K31: 60.5 | L31: m2
B32: Staff Area | C32: 30 | D32: m2 | F32: Workshop 2 | G32: 50.5 | H32: m2 | J32: Teaching Space 2 | K32: 60.5 | L32: m2
B33: Reception Area | C33: 22.5 | D33: m2 | F33: Wash down Facility | G33: 9 | H33: m2 | J33: Teaching Space 3 | K33: 14 | L33: m2
B34: Plant Room | C34: 14 | D34: m2 | F34: Care Taker Room | G34: 9 | H34: m2 | J34: Unisex Toilet Block | K34: 28 | L34: m2
B35: Control Room | C35: 27.5 | D35: m2 | F35: General Stores | G35: 25.5 | H35: m2 | J35: Stairwell 2 | K35: 29.5 | L35: m2
B36: Cafe Area | C36: 22 | D36: m2 | F36: Stairwell 2 | G36: 29.5 | H36: m2 | J36: Secondary Plant Room | K36: 46 | L36: m2
B37: Learning Studio | C37: 56 | D37: m2 | F37: Server Room | G37: 6 | H37: m2 | J37: Secondary Systems Room | K37: 19 | L37: m2
B38: Unisex Toilet Block 2 | C38: 28 | D38: m2 | F38: Large HVAC Plant Room | G38: 31 | H38: m2 | J38: Second Floor Control Room | K38: 29 | L38: m2
B39: Void Entrance | C39: 20 | D39: m2 | F39: Office Space | G39: 36.5 | H39: m2 | J39: Meeting Room | K39: 46.2 | L39: m2
B40: Seating / Communal Area | C40: 40 | D40: m2 | F40: Primary Systems Room | G40: 24 | H40: m2 | J40: Office Space | K40: 25.5 | L40: m2
B41: Stairwell 1 | C41: 29.5 | D41: m2 | F41: First Floor Control Room | G41: 38.5 | H41: m2 | J41: General Stores | K41: 12.5 | L41: m2
B42: Stairwell 2 | C42: 29.5 | D42: m2 | F42: Primary Plant Room | G42: 58 | H42: m2 | J42: Unisex Toilet Block | K42: 5.4 | L42: m2
B43: Lift | C43: 1.5 | D43: m2 | F43: Unisex Toilet Block | G43: 5.4 | H43: m2 | J43: Corridor | K43: =178+290.5+159+81.6 -> 709.1 | L43: m2
F44: Corridor | G44: =186.3+292+159+81.5 -> 718.8 | H44: m2
C46: =SUM(C28:C45) -> 3446.6 | D46: m2 | G46: =SUM(G28:G45) -> 1176.7 | H46: m2 | K46: =SUM(K28:K45) -> 1176.7 | L46: m2
B49: TOTAL GIFA | C49: Rate | D49: Total
B50: =C46+G46+K46 -> 5800 | C50: 2925 | D50: =B50*C50 -> 16965000 | F50: GIFA Rate taken from Secondary School (Range between £2,325.00 - £2,925.00)
B52: Adjust GIFA for Location
B53: Location - Wales | C53: 0.88
B56: TOTAL GIFA | C56: Rate | D56: Total
B57: =B50 -> 5800 | C57: =C50*C53 -> 2574 | D57: =B57*C57 -> 14929200
B60: Adjust GIFA for Duration / Time
B62: GIFA TPI (May 2023) | C62: 383
B64: Completion (May 2027) | C64: 425
C66: =C64/C62 -> 1.1096606
B68: TOTAL GIFA | C68: Rate | D68: Total
B69: =B57 -> 5800 | C69: =C57*C66 -> 2856.2663 | D69: =B69*C69 -> 16566345

Sheet Tender Cover
A1: Date: | B1: 46149 | D1: rev 001
A3: Company : | B3: Ace Capitals Ltd
A5: Project : | B5: UWTSD Construction Centre of Excellence
A7: Package: | B7: Complete Project
A9: FAO: | B9: Deborah Hughes
B10: d.hughes@uwtsd.ac.uk
A12: We have the pleasure of enclosing our tender submission for the the above Project.
A14: Our tender has been based on information issued and allowances are deemed as notes below.
G15: BoQ | H15: Drawings and spec | I15: Client Brief
A16: We offer our tender for the sum of | D16: ='Taw Construction Cost Breakdown'!C95-'Taw Construction Cost Breakdown'!C90 -> 14889006 | E16: Based on | I16: ü
G18: Per wk | H18: Remeasurable | I18: Lump sum
A19: We offer prelims for the rate of | D19: ='Taw Construction Cost Breakdown'!C90 -> 1235602.2 | E19: Based on | I19: ü
A22: Revised Tender Value | D22: =D16+D19 -> 16124608 | E22: Based on current value and period

Sheet Taw Construction Cost Breakdown
A1: Building function: | B1: UWTSD university building
A2: Type of work: | B2: New build
A3: Project title: | B3: UWTSD Construction Centre of Excellence
A4: Location: | B4: Swansea SA1
A5: District: | B5: South Wales
A6: Postcode: | B6: SA1 8EW
A7: Project details: | B7: 3 Storey university building, comprising of a state of the art testing fascility, teaching space, office space and other accomodating fascilities
A8: Site conditions: | B8: Level surface with no prior developments, no major site restrictions
A9: Client: | B9: ACE Capital
A10: Tender documentation: | B10: Client Brief (No Acitivity Schedule or Drawings)
A11: Contract: | B11: JCT Design & Build 2016 Version
A12: Cost fluctuations: | B12: Fixed Based on anticipated Start Date 2026
A13: Basis of cost: | B13: Schedule of Rates and Provisional Sum items
A14: Contract breakdown
A15: Measured work: | B15: =SUM(C33:C53,C73:C77,C79,C81,C68) -> 8226021.8
A16: Provisional sums: | B16: =SUM(C54:C67,C78,C80,C86:C88) -> 4130000
A17: Prime cost sums:
A18: Preliminaries: | B18: =SUM(C90) -> 1235602.2
A19: Contractor design fees: | B19: =SUM(C93) -> 988481.75
A20: Contractor overhead & profit & Risk allowance | B20: =SUM(C91,C94) -> 1544502.7
A21: Contract sum: | B21: =SUM(B15:B20) -> 16124608
A23: Accommodation and design features: | B23: 3 Storey university building, comprising of a state of the art testing fascility, teaching space, office space and other accomodating fascilities
A25: Ground floor: | B25: ='Taw Construction - GIFA'!C46 -> 3446.6 | C25: m2
A26: First Floor: | B26: ='Taw Construction - GIFA'!G46 -> 1176.7 | C26: m2
A27: Second Floor: | B27: ='Taw Construction - GIFA'!K46 -> 1176.7 | C27: m2
A28: Gross floor area: | B28: =SUM(B25:B27) -> 5800 | C28: m2
A31: Elements
A32: Element | B32: Total cost: 2023 | C32: Total cost: 2027 | D32: Cost per m² (2027) | E32: Element unit quantity | F32: Element Unit | G32: Element unit rate - SPONS | H32: Percentage | J32: Comments | K32: SPONS Architects & Price List 2023
A33: 01 Substructure | B33: =G33*E33 -> 1620384.5 | C33: =B33*'Taw Construction - GIFA'!C53*'Taw Construction - GIFA'!C66 -> 1582307.6 | D33: =C33/'Taw Construction - GIFA'!B50 -> 272.81166 | E33: =B25 -> 3446.6 | F33: m2 | G33: 470.14 | H33: =C33/$C$95 -> 0.098129986 | I33: % | J33: Rate used as building is a large scale commercial building. (Car showroom) Building chosen due to being a steel frame structure, incorperating pile caps to take the columns | K33: Page 92
A34: 02.01 Structural Steel Frame | B34: =E34*G34 -> 1119096 | C34: =B34*'Taw Construction - GIFA'!C53*'Taw Construction - GIFA'!C66 -> 1092798.7 | D34: =C34/'Taw Construction - GIFA'!B50 -> 188.41357 | E34: =240*15 -> 3600 | F34: m2 | G34: 310.86 | H34: =C34/$C$95 -> 0.067772108 | I34: % | K34: Page 92
A35: 02.02 Composite concrete floor on structural metal decking | B35: =E35*G35 -> 164738 | C35: =B35*'Taw Construction - GIFA'!C53*'Taw Construction - GIFA'!C66 -> 160866.87 | D35: =C35/'Taw Construction - GIFA'!B50 -> 27.735668 | E35: =B26+'Taw Construction - GIFA'!K46 -> 2353.4 | F35: m2 | G35: 70 | H35: =C35/$C$95 -> 0.0099764824 | I35: %
A36: 02.03 Proprietary roof covering, insulation, paving slabs; including extra over cost for green roof | B36: =E36*G36 -> 1085679 | C36: =B36*'Taw Construction - GIFA'!C53*'Taw Construction - GIFA'!C66 -> 1060167 | D36: =C36/'Taw Construction - GIFA'!B50 -> 182.78741 | E36: ='Taw Construction - GIFA'!C46 -> 3446.6 | F36: m2 | G36: =210+105 -> 315 | H36: =C36/$C$95 -> 0.065748385 | I36: %
A37: 02.04 Stairs | B37: =E37*G37 -> 104000 | C37: =B37*'Taw Construction - GIFA'!C53*'Taw Construction - GIFA'!C66 -> 101556.14 | D37: =C37/'Taw Construction - GIFA'!B50 -> 17.509679 | E37: 4 | F37: Nr | G37: 26000 | H37: =C37/$C$95 -> 0.0062982079 | I37: % | K37: Page 90
A38: 02.05 External Walls - Brickwork | B38: =E38*G38 -> 663000 | C38: =B38*'Taw Construction - GIFA'!C53*'Taw Construction - GIFA'!C66 -> 647420.37 | D38: =C38/'Taw Construction - GIFA'!B50 -> 111.6242 | E38: =(65*2)*15 -> 1950 | F38: m2 | G38: 340 | H38: =C38/$C$95 -> 0.040151075 | I38: %
A39: 02.05a External Walls - Composite Cladding | B39: =E39*G39 -> 379500 | C39: =B39*'Taw Construction - GIFA'!C53*'Taw Construction - GIFA'!C66 -> 370582.25 | D39: =C39/'Taw Construction - GIFA'!B50 -> 63.893491 | E39: =(55*2)*15 -> 1650 | F39: m2 | G39: 230 | H39: =C39/$C$95 -> 0.022982403 | I39: %
A40: 02.06a External Windows | B40: =E40*G40 -> 352957.5 | C40: =B40*'Taw Construction - GIFA'!C53*'Taw Construction - GIFA'!C66 -> 344663.46 | D40: =C40/'Taw Construction - GIFA'!B50 -> 59.424734 | E40: =(2.1*1.5)*60*3 -> 567 | F40: m2 | G40: =415*150% -> 622.5 | H40: =C40/$C$95 -> 0.021374997 | I40: % | J40: Composite Alumium Allowed for (2100mm x 1500mm Window Size Allowed for) Inflated rate to allow for triple glazed units | K40: Page 159
A41: 02.06b External Doors - Single Fire Doors | B41: =E41*G41 -> 5850 | C41: =B41*'Taw Construction - GIFA'!C53*'Taw Construction - GIFA'!C66 -> 5712.5326 | D41: =C41/'Taw Construction - GIFA'!B50 -> 0.98491942 | E41: 2 | F41: nr | G41: 2925 | H41: =C41/$C$95 -> 0.00035427419 | I41: % | J41: Composite Alumium Allowed for | K41: Page 160
A42: 02.06c External Doors - Double Fire Doors | B42: =E42*G42 -> 4525 | C42: =B42*'Taw Construction - GIFA'!C53*'Taw Construction - GIFA'!C66 -> 4418.6684 | D42: =C42/'Taw Construction - GIFA'!B50 -> 0.76183938 | E42: 1 | F42: nr | G42: 4525 | H42: =C42/$C$95 -> 0.0002740326 | I42: % | J42: Composite Alumium Allowed for | K42: Page 160
A43: 02.06d External Doors - Revolving Door | B43: =E43*G43 -> 56000 | C43: =B43*'Taw Construction - GIFA'!C53*'Taw Construction - GIFA'!C66 -> 54684.073 | D43: =C43/'Taw Construction - GIFA'!B50 -> 9.4282885 | E43: 1 | F43: nr | G43: 56000 | H43: =C43/$C$95 -> 0.0033913427 | I43: % | J43: Composite Alumium Allowed for | K43: Page 160
A44: 02.06e External Doors - Roller Shutter | B44: =E44*G44 -> 60300 | C44: =B44*'Taw Construction - GIFA'!C53*'Taw Construction - GIFA'!C66 -> 58883.029 | D44: =C44/'Taw Construction - GIFA'!B50 -> 10.152246 | E44: =18*5 -> 90 | F44: m2 | G44: 670 | H44: =C44/$C$95 -> 0.0036517494 | I44: % | J44: Power Operated Fire Shutter (18m Wide x 5m High) | K44: Page 160
...
