Workbook

Sheet Gearing and Output
B2: Gearbox A | C2: Potential Road Speed From Gear Ratios
B3: Selected Gear | C3: Gear Teeth 1 | D3: Gear Teeth 2 | E3: Gear Ratio | F3: Overall Ratio | G3: Top Speed (km/h) | H3: Top Speed (m/s)
B4: Primary Drive Gear | C4: 64 | D4: 19 | E4: =C4/D4 -> 3.3684211 | F4: N/A | G4: N/A | H4: N/A
B5: 1st | C5: 29 | D5: 14 | E5: =C5/D5 -> 2.0714286 | F5: =(($E$4)*(E5)*($J$39))/$J$38 -> 23.922664 | G5: =(($C$8)*($J$35))/((2652.6)*(F5)) -> 34.523238 | H5: =G5*(1000/3600) -> 9.5897882
B6: 2nd | C6: 27 | D6: 16 | E6: =C6/D6 -> 1.6875 | F6: =(($E$4)*(E6)*($J$39))/$J$38 -> 19.488722 | G6: =(($C$8)*($J$35))/((2652.6)*(F6)) -> 42.377731 | H6: =G6*(1000/3600) -> 11.771592
B7: 3rd | C7: 26 | D7: 18 | E7: =C7/D7 -> 1.4444444 | F7: =(($E$4)*(E7)*($J$39))/$J$38 -> 16.681704 | G7: =(($C$8)*($J$35))/((2652.6)*(F7)) -> 49.508599 | H7: =G7*(1000/3600) -> 13.752389
B8: Engine RPM | C8: 7500
B11: Speed @6500 RPM in 1st | C11: =((6500)*($J$35))/((2652.6)*(F5))*(1000/3600) -> 8.3111498 | D11: m/s | I11: Vehicle Specifications
B12: Shaft Torque | C12: =J29*F5*0.98 -> 515.77263 | D12: NM | F12: Values for Resistance Equations | I12: Density of Gasoline (KG/L) | J12: 0.75
B13: Torque at wheels | C13: =(C12)*0.94*J40 -> 141.40766 | D13: NM | F13: Gravity (m/s^2) | G13: 9.81 | I13: Engine cc | J13: 278
B14: force | C14: =C13/(J35/1000) -> 484.10703 | D14: N | F14: Air Density (kg/m^3) | G14: 1.2 | I14: Power (hp) | J14: 18
B15: acceleration | C15: =C14/J27 -> 0.85418091 | D15: m/s^2 | F15: Coefficient of Drag | G15: 0.7 | I15: Torque (Nm) | J15: 22
F16: Frontal Area | G16: 1.4 | I16: Top Speed (mph) | J16: 30
B17: Resistance Due To Gradient | F17: Slope Angle (Degrees) | G17: 0 | I17: Length (mm) | J17: 2620
B18: Downhill | C18: 14.04 | D18: =RADIANS(C18) -> 0.24504423 | F18: Slope Angle (Radians) | G18: =RADIANS(G17) -> 0 | I18: Width (mm) | J18: 1650
B19: Uphill | C19: 7.125 | D19: =RADIANS(C19) -> 0.12435471 | I19: Height (mm) | J19: 1620
B20: Rolling Resistance UP | C20: =$J$27*$G$13*SIN(D18) -> 1348.8074 | I20: Wheelbase (mm) | J20: 1440
B21: Rolling Resistance DOWN | C21: =$J$27*$G$13*SIN(D19) -> 689.60891 | F21: Rolling Resistance | I21: Ground Clearance (mm) | J21: 300
F22: Grassy Field | G22: 0.025 | I22: Weight (Car) (kg) | J22: 365
B23: Total Fuel Usage (L) | C23: =Forces!V1436 -> 0.24534221 | F23: Sand | G23: 0.04 | I23: Weight Driver and Passenger | J23: 180
B24: Laps Per Tank | C24: =J25/C23 -> 118.20224 | I24: Weight Combined (kg) | J24: =J22+J23 -> 545
F25: Rolling Resistance (N) | I25: Fuel Tank (l) | J25: 29
F26: Soft Dirt | G26: =G22*$J$24*$G$13 -> 133.66125 | I26: Fuel Weight | J26: =J12*J25 -> 21.75
F27: Sand | G27: =G23*$J$24*$G$13 -> 213.858 | I27: Weight Combined With Fuel (kg) | J27: =J22+J23+J26 -> 566.75
I28: Power HP @ 6500 rpm | J28: 18
F29: K | I29: Torque Nm @ 5500 rpm | J29: 22
F30: Front | G30: =0.9*(J34/1000) -> 0.27432 | I30: Front Tyres | J30: 24x8x12
F31: Rear | G31: =0.9*(J35/1000) -> 0.26289 | I31: Rear Tyres | J31: 23x10.5x12
I32: Rear Tire mass (kg) | J32: 9
F33: I | I33: Front Tire mass (kg) | J33: 8
F34: Front | G34: =(J33+J36)*(G30^2) -> 1.1287719 | I34: Front Rolling Radius (m) | J34: =304.8 -> 304.8
F35: Rear | G35: =(J32+J37)*(G31^2) -> 1.0366673 | I35: Rear Rolling Radius (m) | J35: =584.2/2 -> 292.1
I36: Front Rim mass (kg) | J36: 7
F37: Equivalent Mass | I37: Rear Rim mass (kg) | J37: 6
F38: 1st Gear | G38: =$J$27+(4*($G$35/($J$35/1000)^2))+0.2*(F5/($J$35/1000)) -> 631.72978 | I38: Front Sprocket | J38: 14
F39: 2nd Gear | G39: =$J$27+(4*($G$35/($J$35/1000)^2))+0.17*(F6/($J$35/1000)) -> 626.69229 | I39: Rear Sprocket | J39: 48
F40: 3rd Gear | G40: =$J$27+(4*($G$35/($J$35/1000)^2))+0.17*(F7/($J$35/1000)) -> 625.05863 | I40: Final Drive | J40: =J38/J39 -> 0.29166667

Sheet Drive Cycle
A1: Distance (M) | B1: Throttle | C1: elevation | D1: Brakes | E1: Surface
A2: 0 | B2: 1 | C2: 10 | D2: 0 | E2: 0
A3: =A2+1 -> 1 | B3: 1 | C3: 10 | D3: 0 | E3: 0
A4: =A3+1 -> 2 | B4: 1 | C4: 10 | D4: 0 | E4: 0
A5: =A4+1 -> 3 | B5: 1 | C5: 10 | D5: 0 | E5: 0
A6: =A5+1 -> 4 | B6: 1 | C6: 10 | D6: 0 | E6: 0
A7: =A6+1 -> 5 | B7: 1 | C7: 10 | D7: 0 | E7: 0
A8: =A7+1 -> 6 | B8: 1 | C8: 10 | D8: 0 | E8: 0
A9: =A8+1 -> 7 | B9: 1 | C9: 10 | D9: 0 | E9: 0
A10: =A9+1 -> 8 | B10: 1 | C10: 10 | D10: 0 | E10: 0
A11: =A10+1 -> 9 | B11: 1 | C11: 10 | D11: 0 | E11: 0
A12: =A11+1 -> 10 | B12: 1 | C12: 10 | D12: 0 | E12: 0
A13: =A12+1 -> 11 | B13: 1 | C13: 10 | D13: 0 | E13: 0
A14: =A13+1 -> 12 | B14: 1 | C14: 10 | D14: 0 | E14: 0
... A102: =A101+1 -> 100 | B102: 1 | C102: 10 | D102: 0 | E102: 0
A103: =A102+1 -> 101 | B103: 1 | C103: =C102-0.25 -> 9.75 | D103: 0 | E103: 0
A104: =A103+1 -> 102 | B104: 1 | C104: =C103-0.25 -> 9.5 | D104: 0 | E104: 0
A105: =A104+1 -> 103 | B105: 1 | C105: =C104-0.25 -> 9.25 | D105: 0 | E105: 0
A106: =A105+1 -> 104 | B106: 1 | C106: =C105-0.25 -> 9 | D106: 0 | E106: 0
A107: =A106+1 -> 105 | B107: 1 | C107: =C106-0.25 -> 8.75 | D107: 0 | E107: 0
A108: =A107+1 -> 106 | B108: 1 | C108: =C107-0.25 -> 8.5 | D108: 0 | E108: 0
A109: =A108+1 -> 107 | B109: 1 | C109: =C108-0.25 -> 8.25 | D109: 0 | E109: 0
A110: =A109+1 -> 108 | B110: 1 | C110: =C109-0.25 -> 8 | D110: 0 | E110: 0
A111: =A110+1 -> 109 | B111: 1 | C111: =C110-0.25 -> 7.75 | D111: 0 | E111: 0
A112: =A111+1 -> 110 | B112: 1 | C112: =C111-0.25 -> 7.5 | D112: 0 | E112: 0
A113: =A112+1 -> 111 | B113: 1 | C113: =C112-0.25 -> 7.25 | D113: 0 | E113: 0
A114: =A113+1 -> 112 | B114: 1 | C114: =C113-0.25 -> 7 | D114: 0 | E114: 0
... A142: =A141+1 -> 140 | B142: 1 | C142: =C141-0.25 -> 0 | D142: 0 | E142: 0
A143: =A142+1 -> 141 | B143: 1 | C143: 0 | D143: 0 | E143: 0
A144: =A143+1 -> 142 | B144: 1 | C144: 0 | D144: 0 | E144: 0
A145: =A144+1 -> 143 | B145: 1 | C145: 0 | D145: 0 | E145: 0
A146: =A145+1 -> 144 | B146: 1 | C146: 0 | D146: 0 | E146: 0
A147: =A146+1 -> 145 | B147: 1 | C147: 0 | D147: 0 | E147: 0
A148: =A147+1 -> 146 | B148: 1 | C148: 0 | D148: 0 | E148: 0
A149: =A148+1 -> 147 | B149: 1 | C149: 0 | D149: 0 | E149: 0
A150: =A149+1 -> 148 | B150: 1 | C150: 0 | D150: 0 | E150: 0
A151: =A150+1 -> 149 | B151: 1 | C151: 0 | D151: 0 | E151: 0
A152: =A151+1 -> 150 | B152: 1 | C152: 0 | D152: 0 | E152: 0
A153: =A152+1 -> 151 | B153: 1 | C153: 0 | D153: 0 | E153: 0
A154: =A153+1 -> 152 | B154: 1 | C154: 0 | D154: 0 | E154: 0
... A809: =A808+1 -> 807 | B809: 1 | C809: 0 | D809: 0 | E809: 0
A810: =A809+1 -> 808 | B810: 1 | C810: =C809+0.125 -> 0.125 | D810: 0 | E810: 0
A811: =A810+1 -> 809 | B811: 1 | C811: =C810+0.125 -> 0.25 | D811: 0 | E811: 0
A812: =A811+1 -> 810 | B812: 1 | C812: =C811+0.125 -> 0.375 | D812: 0 | E812: 0
A813: =A812+1 -> 811 | B813: 1 | C813: =C812+0.125 -> 0.5 | D813: 0 | E813: 0
A814: =A813+1 -> 812 | B814: 1 | C814: =C813+0.125 -> 0.625 | D814: 0 | E814: 0
A815: =A814+1 -> 813 | B815: 1 | C815: =C814+0.125 -> 0.75 | D815: 0 | E815: 0
A816: =A815+1 -> 814 | B816: 1 | C816: =C815+0.125 -> 0.875 | D816: 0 | E816: 0
A817: =A816+1 -> 815 | B817: 1 | C817: =C816+0.125 -> 1 | D817: 0 | E817: 0
A818: =A817+1 -> 816 | B818: 1 | C818: =C817+0.125 -> 1.125 | D818: 0 | E818: 0
A819: =A818+1 -> 817 | B819: 1 | C819: =C818+0.125 -> 1.25 | D819: 0 | E819: 0
A820: =A819+1 -> 818 | B820: 1 | C820: =C819+0.125 -> 1.375 | D820: 0 | E820: 0
A821: =A820+1 -> 819 | B821: 1 | C821: =C820+0.125 -> 1.5 | D821: 0 | E821: 0
... A889: =A888+1 -> 887 | B889: 1 | C889: =C888+0.125 -> 10 | D889: 0 | E889: 0
A890: =A889+1 -> 888 | B890: 1 | C890: 10 | D890: 0 | E890: 0
A891: =A890+1 -> 889 | B891: 1 | C891: =C890 -> 10 | D891: 0 | E891: 0
A892: =A891+1 -> 890 | B892: 1 | C892: =C891 -> 10 | D892: 0 | E892: 0
A893: =A892+1 -> 891 | B893: 1 | C893: =C892 -> 10 | D893: 0 | E893: 0
A894: =A893+1 -> 892 | B894: 1 | C894: =C893 -> 10 | D894: 0 | E894: 0
A895: =A894+1 -> 893 | B895: 1 | C895: =C894 -> 10 | D895: 0 | E895: 0
A896: =A895+1 -> 894 | B896: 1 | C896: =C895 -> 10 | D896: 0 | E896: 0
A897: =A896+1 -> 895 | B897: 1 | C897: =C896 -> 10 | D897: 0 | E897: 0
A898: =A897+1 -> 896 | B898: 1 | C898: =C897 -> 10 | D898: 0 | E898: 0
A899: =A898+1 -> 897 | B899: 1 | C899: =C898 -> 10 | D899: 0 | E899: 0
A900: =A899+1 -> 898 | B900: 1 | C900: =C899 -> 10 | D900: 0 | E900: 0
A901: =A900+1 -> 899 | B901: 1 | C901: =C900 -> 10 | D901: 0 | E901: 0
A902: =A901+1 -> 900 | B902: 1 | C902: =C901 -> 10 | D902: 0 | E902: 0
... A1001: =A1000+1 -> 999 | B1001: 1 | C1001: =C1000 -> 10 | D1001: 0 | E1001: 0
A1002: =A1001+1 -> 1000 | B1002: 1 | C1002: 10 | D1002: 0 | E1002: 0
A1003: =A1002+1 -> 1001 | B1003: 1 | C1003: 10 | D1003: 0 | E1003: 0
A1004: =A1003+1 -> 1002 | B1004: 1 | C1004: =C1003-0.25 -> 9.75 | D1004: 0 | E1004: 0
A1005: =A1004+1 -> 1003 | B1005: 1 | C1005: =C1004-0.25 -> 9.5 | D1005: 0 | E1005: 0
A1006: =A1005+1 -> 1004 | B1006: 1 | C1006: =C1005-0.25 -> 9.25 | D1006: 0 | E1006: 0
A1007: =A1006+1 -> 1005 | B1007: 1 | C1007: =C1006-0.25 -> 9 | D1007: 0 | E1007: 0
A1008: =A1007+1 -> 1006 | B1008: 1 | C1008: =C1007-0.25 -> 8.75 | D1008: 0 | E1008: 0
A1009: =A1008+1 -> 1007 | B1009: 1 | C1009: =C1008-0.25 -> 8.5 | D1009: 0 | E1009: 0
A1010: =A1009+1 -> 1008 | B1010: 1 | C1010: =C1009-0.25 -> 8.25 | D1010: 0 | E1010: 0
A1011: =A1010+1 -> 1009 | B1011: 1 | C1011: =C1010-0.25 -> 8 | D1011: 0 | E1011: 0
A1012: =A1011+1 -> 1010 | B1012: 1 | C1012: =C1011-0.25 -> 7.75 | D1012: 0 | E1012: 0
A1013: =A1012+1 -> 1011 | B1013: 1 | C1013: =C1012-0.25 -> 7.5 | D1013: 0 | E1013: 0
A1014: =A1013+1 -> 1012 | B1014: 1 | C1014: =C1013-0.25 -> 7.25 | D1014: 0 | E1014: 0
A1015: =A1014+1 -> 1013 | B1015: 1 | C1015: =C1014-0.25 -> 7 | D1015: 0 | E1015: 0
... A1043: =A1042+1 -> 1041 | B1043: 1 | C1043: =C1042-0.25 -> 0 | D1043: 1 | E1043: 0
A1044: =A1043+1 -> 1042 | B1044: 1 | C1044: 0 | D1044: 0 | E1044: 0
A1045: =A1044+1 -> 1043 | B1045: 1 | C1045: 0 | D1045: 0 | E1045: 0
A1046: =A1045+1 -> 1044 | B1046: 1 | C1046: 0 | D1046: 0 | E1046: 0
A1047: =A1046+1 -> 1045 | B1047: 1 | C1047: 0 | D1047: 0 | E1047: 0
A1048: =A1047+1 -> 1046 | B1048: 1 | C1048: 0 | D1048: 0 | E1048: 0
A1049: =A1048+1 -> 1047 | B1049: 1 | C1049: 0 | D1049: 0 | E1049: 0
A1050: =A1049+1 -> 1048 | B1050: 1 | C1050: 0 | D1050: 0 | E1050: 0
A1051: =A1050+1 -> 1049 | B1051: 1 | C1051: 0 | D1051: 0 | E1051: 0
A1052: =A1051+1 -> 1050 | B1052: 1 | C1052: 0 | D1052: 0 | E1052: 0
A1053: =A1052+1 -> 1051 | B1053: 1 | C1053: 0 | D1053: 0 | E1053: 0
A1054: =A1053+1 -> 1052 | B1054: 1 | C1054: 0 | D1054: 0 | E1054: 0
A1055: =A1054+1 -> 1053 | B1055: 1 | C1055: 0 | D1055: 0 | E1055: 0
... A1111: =A1110+1 -> 1109 | B1111: 1 | C1111: 0 | D1111: 0 | E1111: 0
A1112: =A1111+1 -> 1110 | B1112: 1 | C1112: =C1111 -> 0 | D1112: 0 | E1112: 0
A1113: =A1112+1 -> 1111 | B1113: 1 | C1113: =C1112 -> 0 | D1113: 0 | E1113: 0
A1114: =A1113+1 -> 1112 | B1114: 1 | C1114: =C1113 -> 0 | D1114: 0 | E1114: 0
A1115: =A1114+1 -> 1113 | B1115: 1 | C1115: =C1114 -> 0 | D1115: 0 | E1115: 0
...

Sheet Forces
A1: Velocity (m/s) | B1: Time | C1: Aerodynamic Resistance | D1: Rolling Resistance | E1: Driving Force | F1: Linear Inertia | G1: Angular Velocity | H1: Kinetic Energy | I1: Equivalent Mass | J1: Maximum Acceleration | K1: Acceleration | L1: Gear | M1: RPM | N1: Torque | O1: Kw | P1: BSFC | Q1: Fuel Flow Rate | R1: KWH | S1: Fuel Usage | T1: Total | U1: Fuel Usage Liters | V1: Total liters
A2: 0 | B2: 0 | C2: 0 | D2: ='Gearing and Output'!$G$26 -> 133.66125 | E2: ='Gearing and Output'!$C$14-C2-D2 -> 350.44578 | F2: =0.5*'Gearing and Output'!$J$27*A2^2 -> 0 | G2: =A2/('Gearing and Output'!$J$35/1000) -> 0 | H2: =(0.5*I2*A2^2)/1000 -> 0 | I2: ='Gearing and Output'!$G$38 -> 631.72978 | J2: =E2/I2 -> 0.55474 | K2: =I2/E2 -> 1.8026463 | L2: =IF(A2<'Gearing and Output'!$H$5,1,IF(A2<'Gearing and Output'!$H$6,2,IF(A2>'Gearing and Output'!$H$7,3))) -> 1 | M2: =IF(L2=1,_xlfn.XLOOKUP(A2,'Dyno Graph'!$E$2:$E$77,'Dyno Graph'!$A$2:$A$77,,1),IF(L2=2,_xlfn.XLOOKUP(A2,'Dyno Graph'!$F$2:$F$77,'Dyno Graph'!$A$2:$A$77,,1),IF(L2=3,_xlfn.XLOOKUP(A2,'Dyno Graph'!$G$2:$G$77,'Dyno Graph'!$A$2:$A$77,,1)))) -> 500 | N2: 0 | O2: 0 | P2: 0 | Q2: 0 | R2: 0 | S2: =R2*P2 -> 0 | T2: 0 | U2: =((R2*P2)/1000)/0.75 -> 0 | V2: 0
A3: =MIN('Gearing and Output'!$H$7,(SQRT((A2^2)+2*K2*1))) -> 1.8987608 | B3: =1/A3 -> 0.52665928 | C3: =0.5*'Gearing and Output'!$G$15*'Gearing and Output'!$G$16*'Gearing and Output'!$G$14*(A3)^2 -> 2.119912 | D3: ='Gearing and Output'!$G$26 -> 133.66125 | E3: ='Gearing and Output'!$C$14-C3-D3 -> 348.32587 | F3: =0.5*'Gearing and Output'!$J$27*A3^2 -> 1021.6498 | G3: =A3/('Gearing and Output'!$J$35/1000) -> 6.5003793 | H3: =(0.5*I3*A3^2)/1000 -> 1.1387853 | I3: ='Gearing and Output'!$G$38 -> 631.72978 | J3: =E3/I3 -> 0.55138428 | K3: =I3/E3 -> 1.8136172 | L3: =IF(A3<'Gearing and Output'!$H$5,1,IF(A3<'Gearing and Output'!$H$6,2,IF(A3>'Gearing and Output'!$H$7,3))) -> 1 | M3: =IF(L3=1,_xlfn.XLOOKUP(A3,'Dyno Graph'!$E$2:$E$77,'Dyno Graph'!$A$2:$A$77,,1),IF(L3=2,_xlfn.XLOOKUP(A3,'Dyno Graph'!$F$2:$F$77,'Dyno Graph'!$A$2:$A$77,,1),IF(L3=3,_xlfn.XLOOKUP(A3,'Dyno Graph'!$G$2:$G$77,'Dyno Graph'!$A$2:$A$77,,1)))) -> 1500 | N3: =IF(L3=1,_xlfn.XLOOKUP(A3,'Dyno Graph'!$E$2:$E$77,'Dyno Graph'!$D$2:$D$77,,-1),IF(L3=2,_xlfn.XLOOKUP(A3,'Dyno Graph'!$F$2:$F$77,'Dyno Graph'!$D$2:$D$77,,-1),IF(L3=3,_xlfn.XLOOKUP(A3,'Dyno Graph'!$G$2:$G$77,'Dyno Graph'!$D$2:$D$77,,-1)))) -> 14.17678 | O3: =IF(L3=1,_xlfn.XLOOKUP(A3,'Dyno Graph'!$E$2:$E$77,'Dyno Graph'!$H$2:$H$77,,-1),IF(Forces!L3=2,_xlfn.XLOOKUP(Forces!A3,'Dyno Graph'!$F$2:$F$77,'Dyno Graph'!$H$2:$H$77,,-1),IF(Forces!L3=3,_xlfn.XLOOKUP(Forces!A3,'Dyno Graph'!$G$2:$G$77,'Dyno Graph'!$H$2:$H$77,,-1)))) -> 2.0766486 | P3: {=_xlfn.XLOOKUP(N3,BSFC!$B$3:$B$25,_xlfn.XLOOKUP(M3,BSFC!$C$2:$P$2,BSFC!$C$3:$P$25,,-1),,-1)} -> 575.73 | Q3: =(O3*P3)/(60*60) -> 0.33210802 | R3: =((B4-B3)/3600)*O3 -> 0.00021449416 | S3: =R3*P3 -> 0.12349072 | T3: =S3+S2 -> 0.12349072 | U3: =((R3*P3)/1000)/0.75 -> 0.0001646543 | V3: =U3+U2 -> 0.0001646543
A4: =MIN('Gearing and Output'!$H$7,(SQRT((A3^2)+2*K3*1))) -> 2.6893358 | B4: =(1/A4)+B3 -> 0.89849831 | C4: =0.5*'Gearing and Output'!$G$15*'Gearing and Output'!$G$16*'Gearing and Output'!$G$14*(A4)^2 -> 4.2527258 | D4: ='Gearing and Output'!$G$26 -> 133.66125 | E4: ='Gearing and Output'!$C$14-C4-D4 -> 346.19305 | F4: =0.5*'Gearing and Output'!$J$27*A4^2 -> 2049.5173 | G4: =A4/('Gearing and Output'!$J$35/1000) -> 9.206901 | H4: =(0.5*I4*A4^2)/1000 -> 2.2845013 | I4: ='Gearing and Output'!$G$38 -> 631.72978 | J4: =E4/I4 -> 0.54800813 | K4: =I4/E4 -> 1.8247904 | L4: =IF(A4<'Gearing and Output'!$H$5,1,IF(A4<'Gearing and Output'!$H$6,2,IF(A4>'Gearing and Output'!$H$7,3))) -> 1 | M4: =IF(L4=1,_xlfn.XLOOKUP(A4,'Dyno Graph'!$E$2:$E$77,'Dyno Graph'!$A$2:$A$77,,1),IF(L4=2,_xlfn.XLOOKUP(A4,'Dyno Graph'!$F$2:$F$77,'Dyno Graph'!$A$2:$A$77,,1),IF(L4=3,_xlfn.XLOOKUP(A4,'Dyno Graph'!$G$2:$G$77,'Dyno Graph'!$A$2:$A$77,,1)))) -> 2200 | N4: =IF(L4=1,_xlfn.XLOOKUP(A4,'Dyno Graph'!$E$2:$E$77,'Dyno Graph'!$D$2:$D$77,,-1),IF(L4=2,_xlfn.XLOOKUP(A4,'Dyno Graph'!$F$2:$F$77,'Dyno Graph'!$D$2:$D$77,,-1),IF(L4=3,_xlfn.XLOOKUP(A4,'Dyno Graph'!$G$2:$G$77,'Dyno Graph'!$D$2:$D$77,,-1)))) -> 13.931543 | O4: =IF(L4=1,_xlfn.XLOOKUP(A4,'Dyno Graph'!$E$2:$E$77,'Dyno Graph'!$H$2:$H$77,,-1),IF(Forces!L4=2,_xlfn.XLOOKUP(Forces!A4,'Dyno Graph'!$F$2:$F$77,'Dyno Graph'!$H$2:$H$77,,-1),IF(Forces!L4=3,_xlfn.XLOOKUP(Forces!A4,'Dyno Graph'!$G$2:$G$77,'Dyno Graph'!$H$2:$H$77,,-1)))) -> 3.0610886 | P4: {=_xlfn.XLOOKUP(N4,BSFC!$B$3:$B$25,_xlfn.XLOOKUP(M4,BSFC!$C$2:$P$2,BSFC!$C$3:$P$25,,-1),,-1)} -> 575.53874 | Q4: =(O4*P4)/(60*60) -> 0.48938196 | R4: =((B5-B4)/3600)*O4 -> 0.00025776081 | S4: =R4*P4 -> 0.14835133 | T4: =S4+T3 -> 0.27184205 | U4: =((R4*P4)/1000)/0.75 -> 0.00019780177 | V4: =U4+V3 -> 0.00036245607
A5: =MIN('Gearing and Output'!$H$7,(SQRT((A4^2)+2*K4*1))) -> 3.298804 | B5: =(1/A5)+B4 -> 1.2016385 | C5: =0.5*'Gearing and Output'!$G$15*'Gearing and Output'!$G$16*'Gearing and Output'!$G$14*(A5)^2 -> 6.3986794 | D5: ='Gearing and Output'!$G$26 -> 133.66125 | E5: ='Gearing and Output'!$C$14-C5-D5 -> 344.0471 | F5: =0.5*'Gearing and Output'!$J$27*A5^2 -> 3083.7173 | G5: =A5/('Gearing and Output'!$J$35/1000) -> 11.293406 | H5: =(0.5*I5*A5^2)/1000 -> 3.4372758 | I5: ='Gearing and Output'!$G$38 -> 631.72978 | J5: =E5/I5 -> 0.54461118 | K5: =I5/E5 -> 1.8361724 | L5: =IF(A5<'Gearing and Output'!$H$5,1,IF(A5<'Gearing and Output'!$H$6,2,IF(A5>'Gearing and Output'!$H$7,3))) -> 1 | M5: =IF(L5=1,_xlfn.XLOOKUP(A5,'Dyno Graph'!$E$2:$E$77,'Dyno Graph'!$A$2:$A$77,,1),IF(L5=2,_xlfn.XLOOKUP(A5,'Dyno Graph'!$F$2:$F$77,'Dyno Graph'!$A$2:$A$77,,1),IF(L5=3,_xlfn.XLOOKUP(A5,'Dyno Graph'!$G$2:$G$77,'Dyno Graph'!$A$2:$A$77,,1)))) -> 2600 | N5: =IF(L5=1,_xlfn.XLOOKUP(A5,'Dyno Graph'!$E$2:$E$77,'Dyno Graph'!$D$2:$D$77,,-1),IF(L5=2,_xlfn.XLOOKUP(A5,'Dyno Graph'!$F$2:$F$77,'Dyno Graph'!$D$2:$D$77,,-1),IF(L5=3,_xlfn.XLOOKUP(A5,'Dyno Graph'!$G$2:$G$77,'Dyno Graph'!$D$2:$D$77,,-1)))) -> 12.8286 | O5: =IF(L5=1,_xlfn.XLOOKUP(A5,'Dyno Graph'!$E$2:$E$77,'Dyno Graph'!$H$2:$H$77,,-1),IF(Forces!L5=2,_xlfn.XLOOKUP(Forces!A5,'Dyno Graph'!$F$2:$F$77,'Dyno Graph'!$H$2:$H$77,,-1),IF(Forces!L5=3,_xlfn.XLOOKUP(Forces!A5,'Dyno Graph'!$G$2:$G$77,'Dyno Graph'!$H$2:$H$77,,-1)))) -> 3.35565 | P5: {=_xlfn.XLOOKUP(N5,BSFC!$B$3:$B$25,_xlfn.XLOOKUP(M5,BSFC!$C$2:$P$2,BSFC!$C$3:$P$25,,-1),,-1)} -> 555.72979 | Q5: =(O5*P5)/(60*60) -> 0.51800963 | R5: =((B6-B5)/3600)*O5 -> 0.00024432968 | S5: =R5*P5 -> 0.13578128 | T5: =S5+T4 -> 0.40762333 | U5: =((R5*P5)/1000)/0.75 -> 0.00018104171 | V5: =U5+V4 -> 0.00054349778
A6: =MIN('Gearing and Output'!$H$7,(SQRT((A5^2)+2*K5*1))) -> 3.8150298 | B6: =(1/A6)+B5 -> 1.4637596 | C6: =0.5*'Gearing and Output'!$G$15*'Gearing and Output'!$G$16*'Gearing and Output'!$G$14*(A6)^2 -> 8.5580181 | D6: ='Gearing and Output'!$G$26 -> 133.66125 | E6: ='Gearing and Output'!$C$14-C6-D6 -> 341.88776 | F6: =0.5*'Gearing and Output'!$J$27*A6^2 -> 4124.368 | G6: =A6/('Gearing and Output'!$J$35/1000) -> 13.060698 | H6: =(0.5*I6*A6^2)/1000 -> 4.5972405 | I6: ='Gearing and Output'!$G$38 -> 631.72978 | J6: =E6/I6 -> 0.54119304 | K6: =I6/E6 -> 1.8477695 | L6: =IF(A6<'Gearing and Output'!$H$5,1,IF(A6<'Gearing and Output'!$H$6,2,IF(A6>'Gearing and Output'!$H$7,3))) -> 1 | M6: =IF(L6=1,_xlfn.XLOOKUP(A6,'Dyno Graph'!$E$2:$E$77,'Dyno Graph'!$A$2:$A$77,,1),IF(L6=2,_xlfn.XLOOKUP(A6,'Dyno Graph'!$F$2:$F$77,'Dyno Graph'!$A$2:$A$77,,1),IF(L6=3,_xlfn.XLOOKUP(A6,'Dyno Graph'!$G$2:$G$77,'Dyno Graph'!$A$2:$A$77,,1)))) -> 3000 | N6: =IF(L6=1,_xlfn.XLOOKUP(A6,'Dyno Graph'!$E$2:$E$77,'Dyno Graph'!$D$2:$D$77,,-1),IF(L6=2,_xlfn.XLOOKUP(A6,'Dyno Graph'!$F$2:$F$77,'Dyno Graph'!$D$2:$D$77,,-1),IF(L6=3,_xlfn.XLOOKUP(A6,'Dyno Graph'!$G$2:$G$77,'Dyno Graph'!$D$2:$D$77,,-1)))) -> 13.835641 | O6: =IF(L6=1,_xlfn.XLOOKUP(A6,'Dyno Graph'!$E$2:$E$77,'Dyno Graph'!$H$2:$H$77,,-1),IF(Forces!L6=2,_xlfn.XLOOKUP(Forces!A6,'Dyno Graph'!$F$2:$F$77,'Dyno Graph'!$H$2:$H$77,,-1),IF(Forces!L6=3,_xlfn.XLOOKUP(Forces!A6,'Dyno Graph'!$G$2:$G$77,'Dyno Graph'!$H$2:$H$77,,-1)))) -> 4.1981184 | P6: {=_xlfn.XLOOKUP(N6,BSFC!$B$3:$B$25,_xlfn.XLOOKUP(M6,BSFC!$C$2:$P$2,BSFC!$C$3:$P$25,,-1),,-1)} -> 514.14375 | Q6: =(O6*P6)/(60*60) -> 0.59956565 | R6: =((B7-B6)/3600)*O6 -> 0.00027297372 | S6: =R6*P6 -> 0.14034774 | T6: =S6+T5 -> 0.54797107 | U6: =((R6*P6)/1000)/0.75 -> 0.00018713031 | V6: =U6+V5 -> 0.00073062809
A7: =MIN('Gearing and Output'!$H$7,(SQRT((A6^2)+2*K6*1))) -> 4.2720009 | B7: =(1/A7)+B6 -> 1.697842 | C7: =0.5*'Gearing and Output'!$G$15*'Gearing and Output'!$G$16*'Gearing and Output'!$G$14*(A7)^2 -> 10.730995 | D7: ='Gearing and Output'!$G$26 -> 133.66125 | E7: ='Gearing and Output'!$C$14-C7-D7 -> 339.71478 | F7: =0.5*'Gearing and Output'!$J$27*A7^2 -> 5171.5913 | G7: =A7/('Gearing and Output'!$J$35/1000) -> 14.625131 | H7: =(0.5*I7*A7^2)/1000 -> 5.7645315 | I7: ='Gearing and Output'!$G$38 -> 631.72978 | J7: =E7/I7 -> 0.53775332 | K7: =I7/E7 -> 1.8595887 | L7: =IF(A7<'Gearing and Output'!$H$5,1,IF(A7<'Gearing and Output'!$H$6,2,IF(A7>'Gearing and Output'!$H$7,3))) -> 1 | M7: =IF(L7=1,_xlfn.XLOOKUP(A7,'Dyno Graph'!$E$2:$E$77,'Dyno Graph'!$A$2:$A$77,,1),IF(L7=2,_xlfn.XLOOKUP(A7,'Dyno Graph'!$F$2:$F$77,'Dyno Graph'!$A$2:$A$77,,1),IF(L7=3,_xlfn.XLOOKUP(A7,'Dyno Graph'!$G$2:$G$77,'Dyno Graph'!$A$2:$A$77,,1)))) -> 3400 | N7: =IF(L7=1,_xlfn.XLOOKUP(A7,'Dyno Graph'!$E$2:$E$77,'Dyno Graph'!$D$2:$D$77,,-1),IF(L7=2,_xlfn.XLOOKUP(A7,'Dyno Graph'!$F$2:$F$77,'Dyno Graph'!$D$2:$D$77,,-1),IF(L7=3,_xlfn.XLOOKUP(A7,'Dyno Graph'!$G$2:$G$77,'Dyno Graph'!$D$2:$D$77,,-1)))) -> 15.506564 | O7: =IF(L7=1,_xlfn.XLOOKUP(A7,'Dyno Graph'!$E$2:$E$77,'Dyno Graph'!$H$2:$H$77,,-1),IF(Forces!L7=2,_xlfn.XLOOKUP(Forces!A7,'Dyno Graph'!$F$2:$F$77,'Dyno Graph'!$H$2:$H$77,,-1),IF(Forces!L7=3,_xlfn.XLOOKUP(Forces!A7,'Dyno Graph'!$G$2:$G$77,'Dyno Graph'!$H$2:$H$77,,-1)))) -> 5.3541052 | P7: {=_xlfn.XLOOKUP(N7,BSFC!$B$3:$B$25,_xlfn.XLOOKUP(M7,BSFC!$C$2:$P$2,BSFC!$C$3:$P$25,,-1),,-1)} -> 502.667 | Q7: =(O7*P7)/(60*60) -> 0.74759223 | R7: =((B8-B7)/3600)*O7 -> 0.00031730549 | S7: =R7*P7 -> 0.159499 | T7: =S7+T6 -> 0.70747007 | U7: =((R7*P7)/1000)/0.75 -> 0.00021266533 | V7: =U7+V6 -> 0.00094329342
A8: =MIN('Gearing and Output'!$H$7,(SQRT((A7^2)+2*K7*1))) -> 4.687128 | B8: =(1/A8)+B7 -> 1.9111922 | C8: =0.5*'Gearing and Output'!$G$15*'Gearing and Output'!$G$16*'Gearing and Output'!$G$14*(A8)^2 -> 12.917871 | D8: ='Gearing and Output'!$G$26 -> 133.66125 | E8: ='Gearing and Output'!$C$14-C8-D8 -> 337.52791 | F8: =0.5*'Gearing and Output'!$J$27*A8^2 -> 6225.5133 | G8: =A8/('Gearing and Output'!$J$35/1000) -> 16.046313 | H8: =(0.5*I8*A8^2)/1000 -> 6.9392891 | I8: ='Gearing and Output'!$G$38 -> 631.72978 | J8: =E8/I8 -> 0.53429159 | K8: =I8/E8 -> 1.8716372 | L8: =IF(A8<'Gearing and Output'!$H$5,1,IF(A8<'Gearing and Output'!$H$6,2,IF(A8>'Gearing and Output'!$H$7,3))) -> 1 | M8: =IF(L8=1,_xlfn.XLOOKUP(A8,'Dyno Graph'!$E$2:$E$77,'Dyno Graph'!$A$2:$A$77,,1),IF(L8=2,_xlfn.XLOOKUP(A8,'Dyno Graph'!$F$2:$F$77,'Dyno Graph'!$A$2:$A$77,,1),IF(L8=3,_xlfn.XLOOKUP(A8,'Dyno Graph'!$G$2:$G$77,'Dyno Graph'!$A$2:$A$77,,1)))) -> 3700 | N8: =IF(L8=1,_xlfn.XLOOKUP(A8,'Dyno Graph'!$E$2:$E$77,'Dyno Graph'!$D$2:$D$77,,-1),IF(L8=2,_xlfn.XLOOKUP(A8,'Dyno Graph'!$F$2:$F$77,'Dyno Graph'!$D$2:$D$77,,-1),IF(L8=3,_xlfn.XLOOKUP(A8,'Dyno Graph'!$G$2:$G$77,'Dyno Graph'!$D$2:$D$77,,-1)))) -> 16.656436 | O8: =IF(L8=1,_xlfn.XLOOKUP(A8,'Dyno Graph'!$E$2:$E$77,'Dyno Graph'!$H$2:$H$77,,-1),IF(Forces!L8=2,_xlfn.XLOOKUP(Forces!A8,'Dyno Graph'!$F$2:$F$77,'Dyno Graph'!$H$2:$H$77,,-1),IF(Forces!L8=3,_xlfn.XLOOKUP(Forces!A8,'Dyno Graph'!$G$2:$G$77,'Dyno Graph'!$H$2:$H$77,,-1)))) -> 6.2739632 | P8: {=_xlfn.XLOOKUP(N8,BSFC!$B$3:$B$25,_xlfn.XLOOKUP(M8,BSFC!$C$2:$P$2,BSFC!$C$3:$P$25,,-1),,-1)} -> 497.78608 | Q8: =(O8*P8)/(60*60) -> 0.86752544 | R8: =((B9-B8)/3600)*O8 -> 0.00034369071 | S8: =R8*P8 -> 0.17108445 | T8: =S8+T7 -> 0.87855452 | U8: =((R8*P8)/1000)/0.75 -> 0.00022811261 | V8: =U8+V7 -> 0.001171406
A9: =MIN('Gearing and Output'!$H$7,(SQRT((A8^2)+2*K8*1))) -> 5.0707439 | B9: =(1/A9)+B8 -> 2.108402 | C9: =0.5*'Gearing and Output'!$G$15*'Gearing and Output'!$G$16*'Gearing and Output'!$G$14*(A9)^2 -> 15.118917 | D9: ='Gearing and Output'!$G$26 -> 133.66125 | E9: ='Gearing and Output'!$C$14-C9-D9 -> 335.32686 | F9: =0.5*'Gearing and Output'!$J$27*A9^2 -> 7286.2636 | G9: =A9/('Gearing and Output'!$J$35/1000) -> 17.359616 | H9: =(0.5*I9*A9^2)/1000 -> 8.121658 | I9: ='Gearing and Output'!$G$38 -> 631.72978 | J9: =E9/I9 -> 0.53080743 | K9: =I9/E9 -> 1.8839224 | L9: =IF(A9<'Gearing and Output'!$H$5,1,IF(A9<'Gearing and Output'!$H$6,2,IF(A9>'Gearing and Output'!$H$7,3))) -> 1 | M9: =IF(L9=1,_xlfn.XLOOKUP(A9,'Dyno Graph'!$E$2:$E$77,'Dyno Graph'!$A$2:$A$77,,1),IF(L9=2,_xlfn.XLOOKUP(A9,'Dyno Graph'!$F$2:$F$77,'Dyno Graph'!$A$2:$A$77,,1),IF(L9=3,_xlfn.XLOOKUP(A9,'Dyno Graph'!$G$2:$G$77,'Dyno Graph'!$A$2:$A$77,,1)))) -> 4000 | N9: =IF(L9=1,_xlfn.XLOOKUP(A9,'Dyno Graph'!$E$2:$E$77,'Dyno Graph'!$D$2:$D$77,,-1),IF(L9=2,_xlfn.XLOOKUP(A9,'Dyno Graph'!$F$2:$F$77,'Dyno Graph'!$D$2:$D$77,,-1),IF(L9=3,_xlfn.XLOOKUP(A9,'Dyno Graph'!$G$2:$G$77,'Dyno Graph'!$D$2:$D$77,,-1)))) -> 17.583947 | O9: =IF(L9=1,_xlfn.XLOOKUP(A9,'Dyno Graph'!$E$2:$E$77,'Dyno Graph'!$H$2:$H$77,,-1),IF(Forces!L9=2,_xlfn.XLOOKUP(Forces!A9,'Dyno Graph'!$F$2:$F$77,'Dyno Graph'!$H$2:$H$77,,-1),IF(Forces!L9=3,_xlfn.XLOOKUP(Forces!A9,'Dyno Graph'!$G$2:$G$77,'Dyno Graph'!$H$2:$H$77,,-1)))) -> 7.1752717 | P9: {=_xlfn.XLOOKUP(N9,BSFC!$B$3:$B$25,_xlfn.XLOOKUP(M9,BSFC!$C$2:$P$2,BSFC!$C$3:$P$25,,-1),,-1)} -> 484.36708 | Q9: =(O9*P9)/(60*60) -> 0.96540705 | R9: =((B10-B9)/3600)*O9 -> 0.00036708783 | S9: =R9*P9 -> 0.17780526 | T9: =S9+T8 -> 1.0563598 | U9: =((R9*P9)/1000)/0.75 -> 0.00023707368 | V9: =U9+V8 -> 0.0014084797
A10: =MIN('Gearing and Output'!$H$7,(SQRT((A9^2)+2*K9*1))) -> 5.4295753 | B10: =(1/A10)+B9 -> 2.2925784 | C10: =0.5*'Gearing and Output'!$G$15*'Gearing and Output'!$G$16*'Gearing and Output'!$G$14*(A10)^2 -> 17.334409 | D10: ='Gearing and Output'!$G$26 -> 133.66125 | E10: ='Gearing and Output'!$C$14-C10-D10 -> 333.11137 | F10: =0.5*'Gearing and Output'!$J$27*A10^2 -> 8353.9766 | G10: =A10/('Gearing and Output'!$J$35/1000) -> 18.58807 | H10: =(0.5*I10*A10^2)/1000 -> 9.3117879 | I10: ='Gearing and Output'!$G$38 -> 631.72978 | J10: =E10/I10 -> 0.52730041 | K10: =I10/E10 -> 1.8964522 | L10: =IF(A10<'Gearing and Output'!$H$5,1,IF(A10<'Gearing and Output'!$H$6,2,IF(A10>'Gearing and Output'!$H$7,3))) -> 1 | M10: =IF(L10=1,_xlfn.XLOOKUP(A10,'Dyno Graph'!$E$2:$E$77,'Dyno Graph'!$A$2:$A$77,,1),IF(L10=2,_xlfn.XLOOKUP(A10,'Dyno Graph'!$F$2:$F$77,'Dyno Graph'!$A$2:$A$77,,1),IF(L10=3,_xlfn.XLOOKUP(A10,'Dyno Graph'!$G$2:$G$77,'Dyno Graph'!$A$2:$A$77,,1)))) -> 4300 | N10: =IF(L10=1,_xlfn.XLOOKUP(A10,'Dyno Graph'!$E$2:$E$77,'Dyno Graph'!$D$2:$D$77,,-1),IF(L10=2,_xlfn.XLOOKUP(A10,'Dyno Graph'!$F$2:$F$77,'Dyno Graph'!$D$2:$D$77,,-1),IF(L10=3,_xlfn.XLOOKUP(A10,'Dyno Graph'!$G$2:$G$77,'Dyno Graph'!$D$2:$D$77,,-1)))) -> 18.19691 | O10: =IF(L10=1,_xlfn.XLOOKUP(A10,'Dyno Graph'!$E$2:$E$77,'Dyno Graph'!$H$2:$H$77,,-1),IF(Forces!L10=2,_xlfn.XLOOKUP(Forces!A10,'Dyno Graph'!$F$2:$F$77,'Dyno Graph'!$H$2:$H$77,,-1),IF(Forces!L10=3,_xlfn.XLOOKUP(Forces!A10,'Dyno Graph'!$G$2:$G$77,'Dyno Graph'!$H$2:$H$77,,-1)))) -> 7.9965805 | P10: {=_xlfn.XLOOKUP(N10,BSFC!$B$3:$B$25,_xlfn.XLOOKUP(M10,BSFC!$C$2:$P$2,BSFC!$C$3:$P$25,,-1),,-1)} -> 481.62212 | Q10: =(O10*P10)/(60*60) -> 1.0698139 | R10: =((B11-B10)/3600)*O10 -> 0.00038508321 | S10: =R10*P10 -> 0.18546459 | T10: =S10+T9 -> 1.2418244 | U10: =((R10*P10)/1000)/0.75 -> 0.00024728612 | V10: =U10+V9 -> 0.0016557658
A11: =MIN('Gearing and Output'!$H$7,(SQRT((A10^2)+2*K10*1))) -> 5.768292 | B11: =(1/A11)+B10 -> 2.46594 | C11: =0.5*'Gearing and Output'!$G$15*'Gearing and Output'!$G$16*'Gearing and Output'!$G$14*(A11)^2 -> 19.564637 | D11: ='Gearing and Output'!$G$26 -> 133.66125 | E11: ='Gearing and Output'!$C$14-C11-D11 -> 330.88114 | F11: =0.5*'Gearing and Output'!$J$27*A11^2 -> 9428.7909 | G11: =A11/('Gearing and Output'!$J$35/1000) -> 19.747662 | H11: =(0.5*I11*A11^2)/1000 -> 10.509833 | I11: ='Gearing and Output'!$G$38 -> 631.72978 | J11: =E11/I11 -> 0.52377006 | K11: =I11/E11 -> 1.9092348 | L11: =IF(A11<'Gearing and Output'!$H$5,1,IF(A11<'Gearing and Output'!$H$6,2,IF(A11>'Gearing and Output'!$H$7,3))) -> 1 | M11: =IF(L11=1,_xlfn.XLOOKUP(A11,'Dyno Graph'!$E$2:$E$77,'Dyno Graph'!$A$2:$A$77,,1),IF(L11=2,_xlfn.XLOOKUP(A11,'Dyno Graph'!$F$2:$F$77,'Dyno Graph'!$A$2:$A$77,,1),IF(L11=3,_xlfn.XLOOKUP(A11,'Dyno Graph'!$G$2:$G$77,'Dyno Graph'!$A$2:$A$77,,1)))) -> 4600 | N11: =IF(L11=1,_xlfn.XLOOKUP(A11,'Dyno Graph'!$E$2:$E$77,'Dyno Graph'!$D$2:$D$77,,-1),IF(L11=2,_xlfn.XLOOKUP(A11,'Dyno Graph'!$F$2:$F$77,'Dyno Graph'!$D$2:$D$77,,-1),IF(L11=3,_xlfn.XLOOKUP(A11,'Dyno Graph'!$G$2:$G$77,'Dyno Graph'!$D$2:$D$77,,-1)))) -> 19.005333 | O11: =IF(L11=1,_xlfn.XLOOKUP(A11,'Dyno Graph'!$E$2:$E$77,'Dyno Graph'!$H$2:$H$77,,-1),IF(Forces!L11=2,_xlfn.XLOOKUP(Forces!A11,'Dyno Graph'!$F$2:$F$77,'Dyno Graph'!$H$2:$H$77,,-1),IF(Forces!L11=3,_xlfn.XLOOKUP(Forces!A11,'Dyno Graph'!$G$2:$G$77,'Dyno Graph'!$H$2:$H$77,,-1)))) -> 8.9484 | P11: {=_xlfn.XLOOKUP(N11,BSFC!$B$3:$B$25,_xlfn.XLOOKUP(M11,BSFC!$C$2:$P$2,BSFC!$C$3:$P$25,,-1),,-1)} -> 474.51549 | Q11: =(O11*P11)/(60*60) -> 1.1794873 | R11: =((B12-B11)/3600)*O11 -> 0.00040813585 | S11: =R11*P11 -> 0.19366678 | T11: =S11+T10 -> 1.4354912 | U11: =((R11*P11)/1000)/0.75 -> 0.00025822238 | V11: =U11+V10 -> 0.0019139882
A12: =MIN('Gearing and Output'!$H$7,(SQRT((A11^2)+2*K11*1))) -> 6.0902924 | B12: =(1/A12)+B11 -> 2.6301357 | C12: =0.5*'Gearing and Output'!$G$15*'Gearing and Output'!$G$16*'Gearing and Output'!$G$14*(A12)^2 -> 21.809897 | D12: ='Gearing and Output'!$G$26 -> 133.66125 | E12: ='Gearing and Output'!$C$14-C12-D12 -> 328.63588 | F12: =0.5*'Gearing and Output'!$J$27*A12^2 -> 10510.85 | G12: =A12/('Gearing and Output'!$J$35/1000) -> 20.850025 | H12: =(0.5*I12*A12^2)/1000 -> 11.715954 | I12: ='Gearing and Output'!$G$38 -> 631.72978 | J12: =E12/I12 -> 0.52021591 | K12: =I12/E12 -> 1.9222788 | L12: =IF(A12<'Gearing and Output'!$H$5,1,IF(A12<'Gearing and Output'!$H$6,2,IF(A12>'Gearing and Output'!$H$7,3))) -> 1 | M12: =IF(L12=1,_xlfn.XLOOKUP(A12,'Dyno Graph'!$E$2:$E$77,'Dyno Graph'!$A$2:$A$77,,1),IF(L12=2,_xlfn.XLOOKUP(A12,'Dyno Graph'!$F$2:$F$77,'Dyno Graph'!$A$2:$A$77,,1),IF(L12=3,_xlfn.XLOOKUP(A12,'Dyno Graph'!$G$2:$G$77,'Dyno Graph'!$A$2:$A$77,,1)))) -> 4800 | N12: =IF(L12=1,_xlfn.XLOOKUP(A12,'Dyno Graph'!$E$2:$E$77,'Dyno Graph'!$D$2:$D$77,,-1),IF(L12=2,_xlfn.XLOOKUP(A12,'Dyno Graph'!$F$2:$F$77,'Dyno Graph'!$D$2:$D$77,,-1),IF(L12=3,_xlfn.XLOOKUP(A12,'Dyno Graph'!$G$2:$G$77,'Dyno Graph'!$D$2:$D$77,,-1)))) -> 19.932889 | O12: =IF(L12=1,_xlfn.XLOOKUP(A12,'Dyno Graph'!$E$2:$E$77,'Dyno Graph'!$H$2:$H$77,,-1),IF(Forces!L12=2,_xlfn.XLOOKUP(Forces!A12,'Dyno Graph'!$F$2:$F$77,'Dyno Graph'!$H$2:$H$77,,-1),IF(Forces!L12=3,_xlfn.XLOOKUP(Forces!A12,'Dyno Graph'!$G$2:$G$77,'Dyno Graph'!$H$2:$H$77,,-1)))) -> 9.8022436 | P12: {=_xlfn.XLOOKUP(N12,BSFC!$B$3:$B$25,_xlfn.XLOOKUP(M12,BSFC!$C$2:$P$2,BSFC!$C$3:$P$25,,-1),,-1)} -> 474.51549 | Q12: =(O12*P12)/(60*60) -> 1.2920324 | R12: =((B13-B12)/3600)*O12 -> 0.00042556816 | S12: =R12*P12 -> 0.20193868 | T12: =S12+T11 -> 1.6374298 | U12: =((R12*P12)/1000)/0.75 -> 0.00026925158 | V12: =U12+V11 -> 0.0021832398
A13: =MIN('Gearing and Output'!$H$7,(SQRT((A12^2)+2*K12*1))) -> 6.3981419 | B13: =(1/A13)+B12 -> 2.7864311 | C13: =0.5*'Gearing and Output'!$G$15*'Gearing and Output'!$G$16*'Gearing and Output'!$G$14*(A13)^2 -> 24.070497 | D13: ='Gearing and Output'!$G$26 -> 133.66125 | E13: ='Gearing and Output'!$C$14-C13-D13 -> 326.37528 | F13: =0.5*'Gearing and Output'!$J$27*A13^2 -> 11600.301 | G13: =A13/('Gearing and Output'!$J$35/1000) -> 21.903943 | H13: =(0.5*I13*A13^2)/1000 -> 12.930314 | I13: ='Gearing and Output'!$G$38 -> 631.72978 | J13: =E13/I13 -> 0.51663748 | K13: =I13/E13 -> 1.9355932 | L13: =IF(A13<'Gearing and Output'!$H$5,1,IF(A13<'Gearing and Output'!$H$6,2,IF(A13>'Gearing and Output'!$H$7,3))) -> 1 | M13: =IF(L13=1,_xlfn.XLOOKUP(A13,'Dyno Graph'!$E$2:$E$77,'Dyno Graph'!$A$2:$A$77,,1),IF(L13=2,_xlfn.XLOOKUP(A13,'Dyno Graph'!$F$2:$F$77,'Dyno Graph'!$A$2:$A$77,,1),IF(L13=3,_xlfn.XLOOKUP(A13,'Dyno Graph'!$G$2:$G$77,'Dyno Graph'!$A$2:$A$77,,1)))) -> 5100 | N13: =IF(L13=1,_xlfn.XLOOKUP(A13,'Dyno Graph'!$E$2:$E$77,'Dyno Graph'!$D$2:$D$77,,-1),IF(L13=2,_xlfn.XLOOKUP(A13,'Dyno Graph'!$F$2:$F$77,'Dyno Graph'!$D$2:$D$77,,-1),IF(L13=3,_xlfn.XLOOKUP(A13,'Dyno Graph'!$G$2:$G$77,'Dyno Graph'!$D$2:$D$77,,-1)))) -> 21.381 | O13: =IF(L13=1,_xlfn.XLOOKUP(A13,'Dyno Graph'!$E$2:$E$77,'Dyno Graph'!$H$2:$H$77,,-1),IF(Forces!L13=2,_xlfn.XLOOKUP(Forces!A13,'Dyno Graph'!$F$2:$F$77,'Dyno Graph'!$H$2:$H$77,,-1),IF(Forces!L13=3,_xlfn.XLOOKUP(Forces!A13,'Dyno Graph'!$G$2:$G$77,'Dyno Graph'!$H$2:$H$77,,-1)))) -> 11.1855 | P13: {=_xlfn.XLOOKUP(N13,BSFC!$B$3:$B$25,_xlfn.XLOOKUP(M13,BSFC!$C$2:$P$2,BSFC!$C$3:$P$25,,-1),,-1)} -> 470.50444 | Q13: =(O13*P13)/(60*60) -> 1.4618965 | R13: =((B14-B13)/3600)*O13 -> 0.000464171 | S13: =R13*P13 -> 0.21839452 | T13: =S13+T12 -> 1.8558244 | U13: =((R13*P13)/1000)/0.75 -> 0.00029119269 | V13: =U13+V12 -> 0.0024744325
A14: =MIN('Gearing and Output'!$H$7,(SQRT((A13^2)+2*K13*1))) -> 6.6938334 | B14: =(1/A14)+B13 -> 2.9358223 | C14: =0.5*'Gearing and Output'!$G$15*'Gearing and Output'!$G$16*'Gearing and Output'!$G$14*(A14)^2 -> 26.346755 | D14: ='Gearing and Output'!$G$26 -> 133.66125 | E14: ='Gearing and Output'!$C$14-C14-D14 -> 324.09902 | F14: =0.5*'Gearing and Output'!$J$27*A14^2 -> 12697.299 | G14: =A14/('Gearing and Output'!$J$35/1000) -> 22.916239 | H14: =(0.5*I14*A14^2)/1000 -> 14.153086 | I14: ='Gearing and Output'!$G$38 -> 631.72978 | J14: =E14/I14 -> 0.51303427 | K14: =I14/E14 -> 1.9491875 | L14: =IF(A14<'Gearing and Output'!$H$5,1,IF(A14<'Gearing and Output'!$H$6,2,IF(A14>'Gearing and Output'!$H$7,3))) -> 1 | M14: =IF(L14=1,_xlfn.XLOOKUP(A14,'Dyno Graph'!$E$2:$E$77,'Dyno Graph'!$A$2:$A$77,,1),IF(L14=2,_xlfn.XLOOKUP(A14,'Dyno Graph'!$F$2:$F$77,'Dyno Graph'!$A$2:$A$77,,1),IF(L14=3,_xlfn.XLOOKUP(A14,'Dyno Graph'!$G$2:$G$77,'Dyno Graph'!$A$2:$A$77,,1)))) -> 5300 | N14: =IF(L14=1,_xlfn.XLOOKUP(A14,'Dyno Graph'!$E$2:$E$77,'Dyno Graph'!$D$2:$D$77,,-1),IF(L14=2,_xlfn.XLOOKUP(A14,'Dyno Graph'!$F$2:$F$77,'Dyno Graph'!$D$2:$D$77,,-1),IF(L14=3,_xlfn.XLOOKUP(A14,'Dyno Graph'!$G$2:$G$77,'Dyno Graph'!$D$2:$D$77,,-1)))) -> 21.993499 | O14: =IF(L14=1,_xlfn.XLOOKUP(A14,'Dyno Graph'!$E$2:$E$77,'Dyno Graph'!$H$2:$H$77,,-1),IF(Forces!L14=2,_xlfn.XLOOKUP(Forces!A14,'Dyno Graph'!$F$2:$F$77,'Dyno Graph'!$H$2:$H$77,,-1),IF(Forces!L14=3,_xlfn.XLOOKUP(Forces!A14,'Dyno Graph'!$G$2:$G$77,'Dyno Graph'!$H$2:$H$77,,-1)))) -> 11.966167 | P14: {=_xlfn.XLOOKUP(N14,BSFC!$B$3:$B$25,_xlfn.XLOOKUP(M14,BSFC!$C$2:$P$2,BSFC!$C$3:$P$25,,-1),,-1)} -> 470.50444 | Q14: =(O14*P14)/(60*60) -> 1.5639263 | R14: =((B15-B14)/3600)*O14 -> 0.00047627994 | S14: =R14*P14 -> 0.22409183 | T14: =S14+T13 -> 2.0799162 | U14: =((R14*P14)/1000)/0.75 -> 0.00029878911 | V14: =U14+V13 -> 0.0027732216
A15: =MIN('Gearing and Output'!$H$7,(SQRT((A14^2)+2*K14*1))) -> 6.9789527 | B15: =(1/A15)+B14 -> 3.0791103 | C15: =0.5*'Gearing and Output'!$G$15*'Gearing and Output'!$G$16*'Gearing and Output'!$G$14*(A15)^2 -> 28.638999 | D15: ='Gearing and Output'!$G$26 -> 133.66125 | E15: ='Gearing and Output'!$C$14-C15-D15 -> 321.80678 | F15: =0.5*'Gearing and Output'!$J$27*A15^2 -> 13802.001 | G15: =A15/('Gearing and Output'!$J$35/1000) -> 23.892341 | H15: =(0.5*I15*A15^2)/1000 -> 15.384446 | I15: ='Gearing and Output'!$G$38 -> 631.72978 | J15: =E15/I15 -> 0.50940575 | K15: =I15/E15 -> 1.9630717 | L15: =IF(A15<'Gearing and Output'!$H$5,1,IF(A15<'Gearing and Output'!$H$6,2,IF(A15>'Gearing and Output'!$H$7,3))) -> 1 | M15: =IF(L15=1,_xlfn.XLOOKUP(A15,'Dyno Graph'!$E$2:$E$77,'Dyno Graph'!$A$2:$A$77,,1),IF(L15=2,_xlfn.XLOOKUP(A15,'Dyno Graph'!$F$2:$F$77,'Dyno Graph'!$A$2:$A$77,,1),IF(L15=3,_xlfn.XLOOKUP(A15,'Dyno Graph'!$G$2:$G$77,'Dyno Graph'!$A$2:$A$77,,1)))) -> 5500 | N15: =IF(L15=1,_xlfn.XLOOKUP(A15,'Dyno Graph'!$E$2:$E$77,'Dyno Graph'!$D$2:$D$77,,-1),IF(L15=2,_xlfn.XLOOKUP(A15,'Dyno Graph'!$F$2:$F$77,'Dyno Graph'!$D$2:$D$77,,-1),IF(L15=3,_xlfn.XLOOKUP(A15,'Dyno Graph'!$G$2:$G$77,'Dyno Graph'!$D$2:$D$77,,-1)))) -> 22.137863 | O15: =IF(L15=1,_xlfn.XLOOKUP(A15,'Dyno Graph'!$E$2:$E$77,'Dyno Graph'!$H$2:$H$77,,-1),IF(Forces!L15=2,_xlfn.XLOOKUP(Forces!A15,'Dyno Graph'!$F$2:$F$77,'Dyno Graph'!$H$2:$H$77,,-1),IF(Forces!L15=3,_xlfn.XLOOKUP(Forces!A15,'Dyno Graph'!$G$2:$G$77,'Dyno Graph'!$H$2:$H$77,,-1)))) -> 12.50797 | P15: {=_xlfn.XLOOKUP(N15,BSFC!$B$3:$B$25,_xlfn.XLOOKUP(M15,BSFC!$C$2:$P$2,BSFC!$C$3:$P$25,,-1),,-1)} -> 452.21 | Q15: =(O15*P15)/(60*60) -> 1.5711748 | R15: =((B16-B15)/3600)*O15 -> 0.0004789164 | S15: =R15*P15 -> 0.21657078 | T15: =S15+T14 -> 2.296487 | U15: =((R15*P15)/1000)/0.75 -> 0.00028876105 | V15: =U15+V14 -> 0.0030619826
... A27: =MIN('Gearing and Output'!$H$7,(SQRT((A26^2)+2*K26*1))) -> 9.8914731 | B27: =(1/A27)+B26 -> 4.484735 | C27: =0.5*'Gearing and Output'!$G$15*'Gearing and Output'!$G$16*'Gearing and Output'!$G$14*(A27)^2 -> 57.530649 | D27: ='Gearing and Output'!$G$26 -> 133.66125 | E27: ='Gearing and Output'!$C$14-C27-D27 -> 292.91513 | F27: =0.5*'Gearing and Output'!$J$27*A27^2 -> 27725.762 | G27: =A27/('Gearing and Output'!$J$35/1000) -> 33.863311 | H27: =(0.5*I27*A27^2)/1000 -> 30.904613 | I27: ='Gearing and Output'!$G$38 -> 631.72978 | J27: =E27/I27 -> 0.46367156 | K27: =I27/E27 -> 2.156699 | L27: =IF(A27<'Gearing and Output'!$H$5,1,IF(A27<'Gearing and Output'!$H$6,2,IF(A27>'Gearing and Output'!$H$7,3))) -> 2 | M27: =IF(L27=1,_xlfn.XLOOKUP(A27,'Dyno Graph'!$E$2:$E$77,'Dyno Graph'!$A$2:$A$77,,1),IF(L27=2,_xlfn.XLOOKUP(A27,'Dyno Graph'!$F$2:$F$77,'Dyno Graph'!$A$2:$A$77,,1),IF(L27=3,_xlfn.XLOOKUP(A27,'Dyno Graph'!$G$2:$G$77,'Dyno Graph'!$A$2:$A$77,,1)))) -> 6400 | N27: =IF(L27=1,_xlfn.XLOOKUP(A27,'Dyno Graph'!$E$2:$E$77,'Dyno Graph'!$D$2:$D$77,,-1),IF(L27=2,_xlfn.XLOOKUP(A27,'Dyno Graph'!$F$2:$F$77,'Dyno Graph'!$D$2:$D$77,,-1),IF(L27=3,_xlfn.XLOOKUP(A27,'Dyno Graph'!$G$2:$G$77,'Dyno Graph'!$D$2:$D$77,,-1)))) -> 19.797222 | O27: =IF(L27=1,_xlfn.XLOOKUP(A27,'Dyno Graph'!$E$2:$E$77,'Dyno Graph'!$H$2:$H$77,,-1),IF(Forces!L27=2,_xlfn.XLOOKUP(Forces!A27,'Dyno Graph'!$F$2:$F$77,'Dyno Graph'!$H$2:$H$77,,-1),IF(Forces!L27=3,_xlfn.XLOOKUP(Forces!A27,'Dyno Graph'!$G$2:$G$77,'Dyno Graph'!$H$2:$H$77,,-1)))) -> 13.04975 | P27: {=_xlfn.XLOOKUP(N27,BSFC!$B$3:$B$25,_xlfn.XLOOKUP(M27,BSFC!$C$2:$P$2,BSFC!$C$3:$P$25,,-1),,-1)} -> 457.16662 | Q27: =(O27*P27)/(60*60) -> 1.6571972 | R27: =((B28-B27)/3600)*O27 -> 0.00035864984 | S27: =R27*P27 -> 0.16396274 | T27: =S27+T26 -> 4.5987442 | U27: =((R27*P27)/1000)/0.75 -> 0.00021861698 | V27: =U27+V26 -> 0.006131659
A28: =MIN('Gearing and Output'!$H$7,(SQRT((A27^2)+2*K27*1))) -> 10.107158 | B28: =(1/A28)+B27 -> 4.5836748 | C28: =0.5*'Gearing and Output'!$G$15*'Gearing and Output'!$G$16*'Gearing and Output'!$G$14*(A28)^2 -> 60.066928 | D28: ='Gearing and Output'!$G$26 -> 133.66125 | E28: ='Gearing and Output'!$C$14-C28-D28 -> 290.37885 | F28: =0.5*'Gearing and Output'!$J$27*A28^2 -> 28948.071 | G28: =A28/('Gearing and Output'!$J$35/1000) -> 34.601704 | H28: =(0.5*I28*A28^2)/1000 -> 32.267064 | I28: ='Gearing and Output'!$G$38 -> 631.72978 | J28: =E28/I28 -> 0.45965674 | K28: =I28/E28 -> 2.1755365 | L28: =IF(A28<'Gearing and Output'!$H$5,1,IF(A28<'Gearing and Output'!$H$6,2,IF(A28>'Gearing and Output'!$H$6,3))) -> 2 | M28: =IF(L28=1,_xlfn.XLOOKUP(A28,'Dyno Graph'!$E$2:$E$77,'Dyno Graph'!$A$2:$A$77,,1),IF(L28=2,_xlfn.XLOOKUP(A28,'Dyno Graph'!$F$2:$F$77,'Dyno Graph'!$A$2:$A$77,,1),IF(L28=3,_xlfn.XLOOKUP(A28,'Dyno Graph'!$G$2:$G$77,'Dyno Graph'!$A$2:$A$77,,1)))) -> 6500 | N28: =IF(L28=1,_xlfn.XLOOKUP(A28,'Dyno Graph'!$E$2:$E$77,'Dyno Graph'!$D$2:$D$77,,-1),IF(L28=2,_xlfn.XLOOKUP(A28,'Dyno Graph'!$F$2:$F$77,'Dyno Graph'!$D$2:$D$77,,-1),IF(L28=3,_xlfn.XLOOKUP(A28,'Dyno Graph'!$G$2:$G$77,'Dyno Graph'!$D$2:$D$77,,-1)))) -> 19.933328 | O28: =IF(L28=1,_xlfn.XLOOKUP(A28,'Dyno Graph'!$E$2:$E$77,'Dyno Graph'!$H$2:$H$77,,-1),IF(Forces!L28=2,_xlfn.XLOOKUP(Forces!A28,'Dyno Graph'!$F$2:$F$77,'Dyno Graph'!$H$2:$H$77,,-1),IF(Forces!L28=3,_xlfn.XLOOKUP(Forces!A28,'Dyno Graph'!$G$2:$G$77,'Dyno Graph'!$H$2:$H$77,,-1)))) -> 13.34803 | P28: {=_xlfn.XLOOKUP(N28,BSFC!$B$3:$B$25,_xlfn.XLOOKUP(M28,BSFC!$C$2:$P$2,BSFC!$C$3:$P$25,,-1),,-1)} -> 504.47247 | Q28: =(O28*P28)/(60*60) -> 1.870476 | R28: =((B29-B28)/3600)*O28 -> 0.00035927601 | S28: =R28*P28 -> 0.18124486 | T28: =S28+T27 -> 4.7799891 | U28: =((R28*P28)/1000)/0.75 -> 0.00024165981 | V28: =U28+V27 -> 0.0063733188
A29: =MIN('Gearing and Output'!$H$7,(SQRT((A28^2)+2*K28*1))) -> 10.32016 | B29: =(1/A29)+B28 -> 4.6805725 | C29: =0.5*'Gearing and Output'!$G$15*'Gearing and Output'!$G$16*'Gearing and Output'!$G$14*(A29)^2 -> 62.625358 | D29: ='Gearing and Output'!$G$26 -> 133.66125 | E29: ='Gearing and Output'!$C$14-C29-D29 -> 287.82042 | F29: =0.5*'Gearing and Output'!$J$27*A29^2 -> 30181.056 | G29: =A29/('Gearing and Output'!$J$35/1000) -> 35.330916 | H29: =(0.5*I29*A29^2)/1000 -> 33.641415 | I29: ='Gearing and Output'!$G$38 -> 631.72978 | J29: =E29/I29 -> 0.45560686 | K29: =I29/E29 -> 2.1948748 | L29: =IF(A29<'Gearing and Output'!$H$5,1,IF(A29<'Gearing and Output'!$H$6,2,IF(A29>'Gearing and Output'!$H$6,3))) -> 2 | M29: =IF(L29=1,_xlfn.XLOOKUP(A29,'Dyno Graph'!$E$2:$E$77,'Dyno Graph'!$A$2:$A$77,,1),IF(L29=2,_xlfn.XLOOKUP(A29,'Dyno Graph'!$F$2:$F$77,'Dyno Graph'!$A$2:$A$77,,1),IF(L29=3,_xlfn.XLOOKUP(A29,'Dyno Graph'!$G$2:$G$77,'Dyno Graph'!$A$2:$A$77,,1)))) -> 6600 | N29: =IF(L29=1,_xlfn.XLOOKUP(A29,'Dyno Graph'!$E$2:$E$77,'Dyno Graph'!$D$2:$D$77,,-1),IF(L29=2,_xlfn.XLOOKUP(A29,'Dyno Graph'!$F$2:$F$77,'Dyno Graph'!$D$2:$D$77,,-1),IF(L29=3,_xlfn.XLOOKUP(A29,'Dyno Graph'!$G$2:$G$77,'Dyno Graph'!$D$2:$D$77,,-1)))) -> 19.736308 | O29: =IF(L29=1,_xlfn.XLOOKUP(A29,'Dyno Graph'!$E$2:$E$77,'Dyno Graph'!$H$2:$H$77,,-1),IF(Forces!L29=2,_xlfn.XLOOKUP(Forces!A29,'Dyno Graph'!$F$2:$F$77,'Dyno Graph'!$H$2:$H$77,,-1),IF(Forces!L29=3,_xlfn.XLOOKUP(Forces!A29,'Dyno Graph'!$G$2:$G$77,'Dyno Graph'!$H$2:$H$77,,-1)))) -> 13.4226 | P29: {=_xlfn.XLOOKUP(N29,BSFC!$B$3:$B$25,_xlfn.XLOOKUP(M29,BSFC!$C$2:$P$2,BSFC!$C$3:$P$25,,-1),,-1)} -> 504.47247 | Q29: =(O29*P29)/(60*60) -> 1.8809256 | R29: =((B30-B29)/3600)*O29 -> 0.00035406032 | S29: =R29*P29 -> 0.17861369 | T29: =S29+T28 -> 4.9586028 | U29: =((R29*P29)/1000)/0.75 -> 0.00023815158 | V29: =U29+V28 -> 0.0066114704
A30: =MIN('Gearing and Output'!$H$7,(SQRT((A29^2)+2*K29*1))) -> 10.530691 | B30: =(1/A30)+B29 -> 4.775533 | C30: =0.5*'Gearing and Output'!$G$15*'Gearing and Output'!$G$16*'Gearing and Output'!$G$14*(A30)^2 -> 65.206531 | D30: ='Gearing and Output'!$G$26 -> 133.66125 | E30: ='Gearing and Output'!$C$14-C30-D30 -> 285.23925 | F30: =0.5*'Gearing and Output'!$J$27*A30^2 -> 31425.001 | G30: =A30/('Gearing and Output'!$J$35/1000) -> 36.051665 | H30: =(0.5*I30*A30^2)/1000 -> 35.027982 | I30: ='Gearing and Output'!$G$38 -> 631.72978 | J30: =E30/I30 -> 0.45152098 | K30: =I30/E30 -> 2.2147365 | L30: =IF(A30<'Gearing and Output'!$H$5,1,IF(A30<'Gearing and Output'!$H$6,2,IF(A30>'Gearing and Output'!$H$6,3))) -> 2 | M30: =IF(L30=1,_xlfn.XLOOKUP(A30,'Dyno Graph'!$E$2:$E$77,'Dyno Graph'!$A$2:$A$77,,1),IF(L30=2,_xlfn.XLOOKUP(A30,'Dyno Graph'!$F$2:$F$77,'Dyno Graph'!$A$2:$A$77,,1),IF(L30=3,_xlfn.XLOOKUP(A30,'Dyno Graph'!$G$2:$G$77,'Dyno Graph'!$A$2:$A$77,,1)))) -> 6800 | N30: =IF(L30=1,_xlfn.XLOOKUP(A30,'Dyno Graph'!$E$2:$E$77,'Dyno Graph'!$D$2:$D$77,,-1),IF(L30=2,_xlfn.XLOOKUP(A30,'Dyno Graph'!$F$2:$F$77,'Dyno Graph'!$D$2:$D$77,,-1),IF(L30=3,_xlfn.XLOOKUP(A30,'Dyno Graph'!$G$2:$G$77,'Dyno Graph'!$D$2:$D$77,,-1)))) -> 19.67903 | O30: =IF(L30=1,_xlfn.XLOOKUP(A30,'Dyno Graph'!$E$2:$E$77,'Dyno Graph'!$H$2:$H$77,,-1),IF(Forces!L30=2,_xlfn.XLOOKUP(Forces!A30,'Dyno Graph'!$F$2:$F$77,'Dyno Graph'!$H$2:$H$77,,-1),IF(Forces!L30=3,_xlfn.XLOOKUP(Forces!A30,'Dyno Graph'!$G$2:$G$77,'Dyno Graph'!$H$2:$H$77,,-1)))) -> 13.79545 | P30: {=_xlfn.XLOOKUP(N30,BSFC!$B$3:$B$25,_xlfn.XLOOKUP(M30,BSFC!$C$2:$P$2,BSFC!$C$3:$P$25,,-1),,-1)} -> 504.47247 | Q30: =(O30*P30)/(60*60) -> 1.9331735 | R30: =((B31-B30)/3600)*O30 -> 0.00035683855 | S30: =R30*P30 -> 0.18001522 | T30: =S30+T29 -> 5.138618 | U30: =((R30*P30)/1000)/0.75 -> 0.0002400203 | V30: =U30+V29 -> 0.0068514907
A31: =MIN('Gearing and Output'!$H$7,(SQRT((A30^2)+2*K30*1))) -> 10.738945 | B31: =(1/A31)+B30 -> 4.8686521 | C31: =0.5*'Gearing and Output'!$G$15*'Gearing and Output'!$G$16*'Gearing and Output'!$G$14*(A31)^2 -> 67.811061 | D31: ='Gearing and Output'!$G$26 -> 133.66125 | E31: ='Gearing and Output'!$C$14-C31-D31 -> 282.63472 | F31: =0.5*'Gearing and Output'!$J$27*A31^2 -> 32680.203 | G31: =A31/('Gearing and Output'!$J$35/1000) -> 36.764617 | H31: =(0.5*I31*A31^2)/1000 -> 36.427097 | I31: ='Gearing and Output'!$G$38 -> 631.72978 | J31: =E31/I31 -> 0.44739813 | K31: =I31/E31 -> 2.2351457 | L31: =IF(A31<'Gearing and Output'!$H$5,1,IF(A31<'Gearing and Output'!$H$6,2,IF(A31>'Gearing and Output'!$H$6,3))) -> 2 | M31: =IF(L31=1,_xlfn.XLOOKUP(A31,'Dyno Graph'!$E$2:$E$77,'Dyno Graph'!$A$2:$A$77,,1),IF(L31=2,_xlfn.XLOOKUP(A31,'Dyno Graph'!$F$2:$F$77,'Dyno Graph'!$A$2:$A$77,,1),IF(L31=3,_xlfn.XLOOKUP(A31,'Dyno Graph'!$G$2:$G$77,'Dyno Graph'!$A$2:$A$77,,1)))) -> 6900 | N31: =IF(L31=1,_xlfn.XLOOKUP(A31,'Dyno Graph'!$E$2:$E$77,'Dyno Graph'!$D$2:$D$77,,-1),IF(L31=2,_xlfn.XLOOKUP(A31,'Dyno Graph'!$F$2:$F$77,'Dyno Graph'!$D$2:$D$77,,-1),IF(L31=3,_xlfn.XLOOKUP(A31,'Dyno Graph'!$G$2:$G$77,'Dyno Graph'!$D$2:$D$77,,-1)))) -> 19.259479 | O31: =IF(L31=1,_xlfn.XLOOKUP(A31,'Dyno Graph'!$E$2:$E$77,'Dyno Graph'!$H$2:$H$77,,-1),IF(Forces!L31=2,_xlfn.XLOOKUP(Forces!A31,'Dyno Graph'!$F$2:$F$77,'Dyno Graph'!$H$2:$H$77,,-1),IF(Forces!L31=3,_xlfn.XLOOKUP(Forces!A31,'Dyno Graph'!$G$2:$G$77,'Dyno Graph'!$H$2:$H$77,,-1)))) -> 13.702848 | P31: {=_xlfn.XLOOKUP(N31,BSFC!$B$3:$B$25,_xlfn.XLOOKUP(M31,BSFC!$C$2:$P$2,BSFC!$C$3:$P$25,,-1),,-1)} -> 504.47247 | Q31: =(O31*P31)/(60*60) -> 1.9201971 | R31: =((B32-B31)/3600)*O31 -> 0.00034776717 | S31: =R31*P31 -> 0.17543897 | T31: =S31+T30 -> 5.314057 | U31: =((R31*P31)/1000)/0.75 -> 0.00023391862 | V31: =U31+V30 -> 0.0070854093
A32: =MIN('Gearing and Output'!$H$7,(SQRT((A31^2)+2*K31*1))) -> 10.945101 | B32: =(1/A32)+B31 -> 4.9600171 | C32: =0.5*'Gearing and Output'!$G$15*'Gearing and Output'!$G$16*'Gearing and Output'!$G$14*(A32)^2 -> 70.439593 | D32: ='Gearing and Output'!$G$26 -> 133.66125 | E32: ='Gearing and Output'!$C$14-C32-D32 -> 280.00619 | F32: =0.5*'Gearing and Output'!$J$27*A32^2 -> 33946.972 | G32: =A32/('Gearing and Output'!$J$35/1000) -> 37.470389 | H32: =(0.5*I32*A32^2)/1000 -> 37.839106 | I32: ='Gearing and Output'!$G$38 -> 631.72978 | J32: =E32/I32 -> 0.44323728 | K32: =I32/E32 -> 2.2561279 | L32: =IF(A32<'Gearing and Output'!$H$5,1,IF(A32<'Gearing and Output'!$H$6,2,IF(A32>'Gearing and Output'!$H$6,3))) -> 2 | M32: =IF(L32=1,_xlfn.XLOOKUP(A32,'Dyno Graph'!$E$2:$E$77,'Dyno Graph'!$A$2:$A$77,,1),IF(L32=2,_xlfn.XLOOKUP(A32,'Dyno Graph'!$F$2:$F$77,'Dyno Graph'!$A$2:$A$77,,1),IF(L32=3,_xlfn.XLOOKUP(A32,'Dyno Graph'!$G$2:$G$77,'Dyno Graph'!$A$2:$A$77,,1)))) -> 7000 | N32: =IF(L32=1,_xlfn.XLOOKUP(A32,'Dyno Graph'!$E$2:$E$77,'Dyno Graph'!$D$2:$D$77,,-1),IF(L32=2,_xlfn.XLOOKUP(A32,'Dyno Graph'!$F$2:$F$77,'Dyno Graph'!$D$2:$D$77,,-1),IF(L32=3,_xlfn.XLOOKUP(A32,'Dyno Graph'!$G$2:$G$77,'Dyno Graph'!$D$2:$D$77,,-1)))) -> 18.346331 | O32: =IF(L32=1,_xlfn.XLOOKUP(A32,'Dyno Graph'!$E$2:$E$77,'Dyno Graph'!$H$2:$H$77,,-1),IF(Forces!L32=2,_xlfn.XLOOKUP(Forces!A32,'Dyno Graph'!$F$2:$F$77,'Dyno Graph'!$H$2:$H$77,,-1),IF(Forces!L32=3,_xlfn.XLOOKUP(Forces!A32,'Dyno Graph'!$G$2:$G$77,'Dyno Graph'!$H$2:$H$77,,-1)))) -> 13.245114 | P32: {=_xlfn.XLOOKUP(N32,BSFC!$B$3:$B$25,_xlfn.XLOOKUP(M32,BSFC!$C$2:$P$2,BSFC!$C$3:$P$25,,-1),,-1)} -> 510.466 | Q32: =(O32*P32)/(60*60) -> 1.8781056 | R32: =((B33-B32)/3600)*O32 -> 0.00032999287 | S32: =R32*P32 -> 0.16845014 | T32: =S32+T31 -> 5.4825071 | U32: =((R32*P32)/1000)/0.75 -> 0.00022460019 | V32: =U32+V31 -> 0.0073100095
A33: =MIN('Gearing and Output'!$H$7,(SQRT((A32^2)+2*K32*1))) -> 11.149326 | B33: =(1/A33)+B32 -> 5.0497087 | C33: =0.5*'Gearing and Output'!$G$15*'Gearing and Output'!$G$16*'Gearing and Output'!$G$14*(A33)^2 -> 73.092799 | D33: ='Gearing and Output'!$G$26 -> 133.66125 | E33: ='Gearing and Output'!$C$14-C33-D33 -> 277.35298 | F33: =0.5*'Gearing and Output'!$J$27*A33^2 -> 35225.633 | G33: =A33/('Gearing and Output'!$J$35/1000) -> 38.169553 | H33: =(0.5*I33*A33^2)/1000 -> 39.264369 | I33: ='Gearing and Output'!$G$38 -> 631.72978 | J33: =E33/I33 -> 0.43903737 | K33: =I33/E33 -> 2.2777104 | L33: =IF(A33<'Gearing and Output'!$H$5,1,IF(A33<'Gearing and Output'!$H$6,2,IF(A33>'Gearing and Output'!$H$6,3))) -> 2 | M33: =IF(L33=1,_xlfn.XLOOKUP(A33,'Dyno Graph'!$E$2:$E$77,'Dyno Graph'!$A$2:$A$77,,1),IF(L33=2,_xlfn.XLOOKUP(A33,'Dyno Graph'!$F$2:$F$77,'Dyno Graph'!$A$2:$A$77,,1),IF(L33=3,_xlfn.XLOOKUP(A33,'Dyno Graph'!$G$2:$G$77,'Dyno Graph'!$A$2:$A$77,,1)))) -> 7200 | N33: =IF(L33=1,_xlfn.XLOOKUP(A33,'Dyno Graph'!$E$2:$E$77,'Dyno Graph'!$D$2:$D$77,,-1),IF(L33=2,_xlfn.XLOOKUP(A33,'Dyno Graph'!$F$2:$F$77,'Dyno Graph'!$D$2:$D$77,,-1),IF(L33=3,_xlfn.XLOOKUP(A33,'Dyno Graph'!$G$2:$G$77,'Dyno Graph'!$D$2:$D$77,,-1)))) -> 16.430237 | O33: =IF(L33=1,_xlfn.XLOOKUP(A33,'Dyno Graph'!$E$2:$E$77,'Dyno Graph'!$H$2:$H$77,,-1),IF(Forces!L33=2,_xlfn.XLOOKUP(Forces!A33,'Dyno Graph'!$F$2:$F$77,'Dyno Graph'!$H$2:$H$77,,-1),IF(Forces!L33=3,_xlfn.XLOOKUP(Forces!A33,'Dyno Graph'!$G$2:$G$77,'Dyno Graph'!$H$2:$H$77,,-1)))) -> 12.205612 | P33: {=_xlfn.XLOOKUP(N33,BSFC!$B$3:$B$25,_xlfn.XLOOKUP(M33,BSFC!$C$2:$P$2,BSFC!$C$3:$P$25,,-1),,-1)} -> 530.48452 | Q33: =(O33*P33)/(60*60) -> 1.79858 | R33: =((B34-B33)/3600)*O33 -> 0.00029867103 | S33: =R33*P33 -> 0.15844036 | T33: =S33+T32 -> 5.6409475 | U33: =((R33*P33)/1000)/0.75 -> 0.00021125381 | V33: =U33+V32 -> 0.0075212633
A34: =MIN('Gearing and Output'!$H$7,(SQRT((A33^2)+2*K33*1))) -> 11.35178 | B34: =(1/A34)+B33 -> 5.1378006 | C34: =0.5*'Gearing and Output'!$G$15*'Gearing and Output'!$G$16*'Gearing and Output'!$G$14*(A34)^2 -> 75.771387 | D34: ='Gearing and Output'!$G$26 -> 133.66125 | E34: ='Gearing and Output'!$C$14-C34-D34 -> 274.67439 | F34: =0.5*'Gearing and Output'!$J$27*A34^2 -> 36516.525 | G34: =A34/('Gearing and Output'!$J$35/1000) -> 38.862649 | H34: =(0.5*I34*A34^2)/1000 -> 40.703266 | I34: ='Gearing and Output'!$G$38 -> 631.72978 | J34: =E34/I34 -> 0.43479729 | K34: =I34/E34 -> 2.2999224 | L34: =IF(A34<'Gearing and Output'!$H$5,1,IF(A34<'Gearing and Output'!$H$6,2,IF(A34>'Gearing and Output'!$H$6,3))) -> 2 | M34: =IF(L34=1,_xlfn.XLOOKUP(A34,'Dyno Graph'!$E$2:$E$77,'Dyno Graph'!$A$2:$A$77,,1),IF(L34=2,_xlfn.XLOOKUP(A34,'Dyno Graph'!$F$2:$F$77,'Dyno Graph'!$A$2:$A$77,,1),IF(L34=3,_xlfn.XLOOKUP(A34,'Dyno Graph'!$G$2:$G$77,'Dyno Graph'!$A$2:$A$77,,1)))) -> 7300 | N34: =IF(L34=1,_xlfn.XLOOKUP(A34,'Dyno Graph'!$E$2:$E$77,'Dyno Graph'!$D$2:$D$77,,-1),IF(L34=2,_xlfn.XLOOKUP(A34,'Dyno Graph'!$F$2:$F$77,'Dyno Graph'!$D$2:$D$77,,-1),IF(L34=3,_xlfn.XLOOKUP(A34,'Dyno Graph'!$G$2:$G$77,'Dyno Graph'!$D$2:$D$77,,-1)))) -> 15.729543 | O34: =IF(L34=1,_xlfn.XLOOKUP(A34,'Dyno Graph'!$E$2:$E$77,'Dyno Graph'!$H$2:$H$77,,-1),IF(Forces!L34=2,_xlfn.XLOOKUP(Forces!A34,'Dyno Graph'!$F$2:$F$77,'Dyno Graph'!$H$2:$H$77,,-1),IF(Forces!L34=3,_xlfn.XLOOKUP(Forces!A34,'Dyno Graph'!$G$2:$G$77,'Dyno Graph'!$H$2:$H$77,,-1)))) -> 11.849662 | P34: {=_xlfn.XLOOKUP(N34,BSFC!$B$3:$B$25,_xlfn.XLOOKUP(M34,BSFC!$C$2:$P$2,BSFC!$C$3:$P$25,,-1),,-1)} -> 482.49828 | Q34: =(O34*P34)/(60*60) -> 1.5881783 | R34: =((B35-B34)/3600)*O34 -> 0.00028492034 | S34: =R34*P34 -> 0.13747357 | T34: =S34+T33 -> 5.778421 | U34: =((R34*P34)/1000)/0.75 -> 0.0001832981 | V34: =U34+V33 -> 0.0077045614
A35: =MIN('Gearing and Output'!$H$7,(SQRT((A34^2)+2*K34*1))) -> 11.552608 | B35: =(1/A35)+B34 -> 5.2243611 | C35: =0.5*'Gearing and Output'!$G$15*'Gearing and Output'!$G$16*'Gearing and Output'!$G$14*(A35)^2 -> 78.476095 | D35: ='Gearing and Output'!$G$26 -> 133.66125 | E35: ='Gearing and Output'!$C$14-C35-D35 -> 271.96968 | F35: =0.5*'Gearing and Output'!$J$27*A35^2 -> 37820.006 | G35: =A35/('Gearing and Output'!$J$35/1000) -> 39.550181 | H35: =(0.5*I35*A35^2)/1000 -> 42.156196 | I35: ='Gearing and Output'!$G$38 -> 631.72978 | J35: =E35/I35 -> 0.43051585 | K35: =I35/E35 -> 2.3227948 | L35: =IF(A35<'Gearing and Output'!$H$5,1,IF(A35<'Gearing and Output'!$H$6,2,IF(A35>'Gearing and Output'!$H$6,3))) -> 2 | M35: =IF(L35=1,_xlfn.XLOOKUP(A35,'Dyno Graph'!$E$2:$E$77,'Dyno Graph'!$A$2:$A$77,,1),IF(L35=2,_xlfn.XLOOKUP(A35,'Dyno Graph'!$F$2:$F$77,'Dyno Graph'!$A$2:$A$77,,1),IF(L35=3,_xlfn.XLOOKUP(A35,'Dyno Graph'!$G$2:$G$77,'Dyno Graph'!$A$2:$A$77,,1)))) -> 7400 | N35: =IF(L35=1,_xlfn.XLOOKUP(A35,'Dyno Graph'!$E$2:$E$77,'Dyno Graph'!$D$2:$D$77,,-1),IF(L35=2,_xlfn.XLOOKUP(A35,'Dyno Graph'!$F$2:$F$77,'Dyno Graph'!$D$2:$D$77,,-1),IF(L35=3,_xlfn.XLOOKUP(A35,'Dyno Graph'!$G$2:$G$77,'Dyno Graph'!$D$2:$D$77,,-1)))) -> 15.161301 | O35: =IF(L35=1,_xlfn.XLOOKUP(A35,'Dyno Graph'!$E$2:$E$77,'Dyno Graph'!$H$2:$H$77,,-1),IF(Forces!L35=2,_xlfn.XLOOKUP(Forces!A35,'Dyno Graph'!$F$2:$F$77,'Dyno Graph'!$H$2:$H$77,,-1),IF(Forces!L35=3,_xlfn.XLOOKUP(Forces!A35,'Dyno Graph'!$G$2:$G$77,'Dyno Graph'!$H$2:$H$77,,-1)))) -> 11.580217 | P35: {=_xlfn.XLOOKUP(N35,BSFC!$B$3:$B$25,_xlfn.XLOOKUP(M35,BSFC!$C$2:$P$2,BSFC!$C$3:$P$25,,-1),,-1)} -> 482.49828 | Q35: =(O35*P35)/(60*60) -> 1.5520652 | R35: =((B36-B35)/3600)*O35 -> 0.00027371856 | S35: =R35*P35 -> 0.13206874 | T35: =S35+T34 -> 5.9104898 | U35: =((R35*P35)/1000)/0.75 -> 0.00017609165 | V35: =U35+V34 -> 0.007880653
A36: =MIN('Gearing and Output'!$H$7,(SQRT((A35^2)+2*K35*1))) -> 11.75195 | B36: =(1/A36)+B35 -> 5.3094534 | C36: =0.5*'Gearing and Output'!$G$15*'Gearing and Output'!$G$16*'Gearing and Output'!$G$14*(A36)^2 -> 81.207702 | D36: ='Gearing and Output'!$G$26 -> 133.66125 | E36: ='Gearing and Output'!$C$14-C36-D36 -> 269.23808 | F36: =0.5*'Gearing and Output'!$J$27*A36^2 -> 39136.45 | G36: =A36/('Gearing and Output'!$J$35/1000) -> 40.232627 | H36: =(0.5*I36*A36^2)/1000 -> 43.623574 | I36: ='Gearing and Output'!$G$38 -> 631.72978 | J36: =E36/I36 -> 0.42619184 | K36: =I36/E36 -> 2.3463612 | L36: =IF(A36<'Gearing and Output'!$H$5,1,IF(A36<'Gearing and Output'!$H$6,2,IF(A36>'Gearing and Output'!$H$6,3))) -> 2 | M36: =IF(L36=1,_xlfn.XLOOKUP(A36,'Dyno Graph'!$E$2:$E$77,'Dyno Graph'!$A$2:$A$77,,1),IF(L36=2,_xlfn.XLOOKUP(A36,'Dyno Graph'!$F$2:$F$77,'Dyno Graph'!$A$2:$A$77,,1),IF(L36=3,_xlfn.XLOOKUP(A36,'Dyno Graph'!$G$2:$G$77,'Dyno Graph'!$A$2:$A$77,,1)))) -> 7500 | N36: =IF(L36=1,_xlfn.XLOOKUP(A36,'Dyno Graph'!$E$2:$E$77,'Dyno Graph'!$D$2:$D$77,,-1),IF(L36=2,_xlfn.XLOOKUP(A36,'Dyno Graph'!$F$2:$F$77,'Dyno Graph'!$D$2:$D$77,,-1),IF(L36=3,_xlfn.XLOOKUP(A36,'Dyno Graph'!$G$2:$G$77,'Dyno Graph'!$D$2:$D$77,,-1)))) -> 14.682899 | O36: =IF(L36=1,_xlfn.XLOOKUP(A36,'Dyno Graph'!$E$2:$E$77,'Dyno Graph'!$H$2:$H$77,,-1),IF(Forces!L36=2,_xlfn.XLOOKUP(Forces!A36,'Dyno Graph'!$F$2:$F$77,'Dyno Graph'!$H$2:$H$77,,-1),IF(Forces!L36=3,_xlfn.XLOOKUP(Forces!A36,'Dyno Graph'!$G$2:$G$77,'Dyno Graph'!$H$2:$H$77,,-1)))) -> 11.368441 | P36: {=_xlfn.XLOOKUP(N36,BSFC!$B$3:$B$25,_xlfn.XLOOKUP(M36,BSFC!$C$2:$P$2,BSFC!$C$3:$P$25,,-1),,-1)} -> 475.44295 | Q36: =(O36*P36)/(60*60) -> 1.5014014 | R36: =((B37-B36)/3600)*O36 -> 0.00026426078 | S36: =R36*P36 -> 0.12564092 | T36: =S36+T35 -> 6.0361307 | U36: =((R36*P36)/1000)/0.75 -> 0.00016752123 | V36: =U36+V35 -> 0.0080481743
A37: =MIN('Gearing and Output'!$H$7,(SQRT((A36^2)+2*K36*1))) -> 11.94994 | B37: =(1/A37)+B36 -> 5.3931358 | C37: =0.5*'Gearing and Output'!$G$15*'Gearing and Output'!$G$16*'Gearing and Output'!$G$14*(A37)^2 -> 83.967023 | D37: ='Gearing and Output'!$G$26 -> 133.66125 | E37: ='Gearing and Output'!$C$14-C37-D37 -> 266.47876 | F37: =0.5*'Gearing and Output'!$J$27*A37^2 -> 40466.25 | G37: =A37/('Gearing and Output'!$J$35/1000) -> 40.910441 | H37: =(0.5*I37*A37^2)/1000 -> 45.105841 | I37: ='Gearing and Output'!$G$38 -> 631.72978 | J37: =E37/I37 -> 0.42182396 | K37: =I37/E37 -> 2.3706572 | L37: =IF(A37<'Gearing and Output'!$H$5,1,IF(A37<'Gearing and Output'!$H$6,2,IF(A37>'Gearing and Output'!$H$6,3))) -> 3 | M37: =IF(L37=1,_xlfn.XLOOKUP(A37,'Dyno Graph'!$E$2:$E$77,'Dyno Graph'!$A$2:$A$77,,1),IF(L37=2,_xlfn.XLOOKUP(A37,'Dyno Graph'!$F$2:$F$77,'Dyno Graph'!$A$2:$A$77,,1),IF(L37=3,_xlfn.XLOOKUP(A37,'Dyno Graph'!$G$2:$G$77,'Dyno Graph'!$A$2:$A$77,,1)))) -> 6600 | N37: =IF(L37=1,_xlfn.XLOOKUP(A37,'Dyno Graph'!$E$2:$E$77,'Dyno Graph'!$D$2:$D$77,,-1),IF(L37=2,_xlfn.XLOOKUP(A37,'Dyno Graph'!$F$2:$F$77,'Dyno Graph'!$D$2:$D$77,,-1),IF(L37=3,_xlfn.XLOOKUP(A37,'Dyno Graph'!$G$2:$G$77,'Dyno Graph'!$D$2:$D$77,,-1)))) -> 19.736308 | O37: =IF(L37=1,_xlfn.XLOOKUP(A37,'Dyno Graph'!$E$2:$E$77,'Dyno Graph'!$H$2:$H$77,,-1),IF(Forces!L37=2,_xlfn.XLOOKUP(Forces!A37,'Dyno Graph'!$F$2:$F$77,'Dyno Graph'!$H$2:$H$77,,-1),IF(Forces!L37=3,_xlfn.XLOOKUP(Forces!A37,'Dyno Graph'!$G$2:$G$77,'Dyno Graph'!$H$2:$H$77,,-1)))) -> 13.4226 | P37: {=_xlfn.XLOOKUP(N37,BSFC!$B$3:$B$25,_xlfn.XLOOKUP(M37,BSFC!$C$2:$P$2,BSFC!$C$3:$P$25,,-1),,-1)} -> 504.47247 | Q37: =(O37*P37)/(60*60) -> 1.8809256 | R37: =((B38-B37)/3600)*O37 -> 0.00030695574 | S37: =R37*P37 -> 0.15485072 | T37: =S37+T36 -> 6.1909814 | U37: =((R37*P37)/1000)/0.75 -> 0.00020646763 | V37: =U37+V36 -> 0.0082546419
A38: =MIN('Gearing and Output'!$H$7,(SQRT((A37^2)+2*K37*1))) -> 12.146702 | B38: =(1/A38)+B37 -> 5.4754627 | C38: =0.5*'Gearing and Output'!$G$15*'Gearing and Output'!$G$16*'Gearing and Output'!$G$14*(A38)^2 -> 86.754916 | D38: ='Gearing and Output'!$G$26 -> 133.66125 | E38: ='Gearing and Output'!$C$14-C38-D38 -> 263.69086 | F38: =0.5*'Gearing and Output'!$J$27*A38^2 -> 41809.82 | G38: =A38/('Gearing and Output'!$J$35/1000) -> 41.584054 | H38: =(0.5*I38*A38^2)/1000 -> 46.603455 | I38: ='Gearing and Output'!$G$38 -> 631.72978 | J38: =E38/I38 -> 0.41741085 | K38: =I38/E38 -> 2.3957211 | L38: =IF(A38<'Gearing and Output'!$H$5,1,IF(A38<'Gearing and Output'!$H$6,2,IF(A38>'Gearing and Output'!$H$6,3))) -> 3 | M38: =IF(L38=1,_xlfn.XLOOKUP(A38,'Dyno Graph'!$E$2:$E$77,'Dyno Graph'!$A$2:$A$77,,1),IF(L38=2,_xlfn.XLOOKUP(A38,'Dyno Graph'!$F$2:$F$77,'Dyno Graph'!$A$2:$A$77,,1),IF(L38=3,_xlfn.XLOOKUP(A38,'Dyno Graph'!$G$2:$G$77,'Dyno Graph'!$A$2:$A$77,,1)))) -> 6700 | N38: =IF(L38=1,_xlfn.XLOOKUP(A38,'Dyno Graph'!$E$2:$E$77,'Dyno Graph'!$D$2:$D$77,,-1),IF(L38=2,_xlfn.XLOOKUP(A38,'Dyno Graph'!$F$2:$F$77,'Dyno Graph'!$D$2:$D$77,,-1),IF(L38=3,_xlfn.XLOOKUP(A38,'Dyno Graph'!$G$2:$G$77,'Dyno Graph'!$D$2:$D$77,,-1)))) -> 19.545258 | O38: =IF(L38=1,_xlfn.XLOOKUP(A38,'Dyno Graph'!$E$2:$E$77,'Dyno Graph'!$H$2:$H$77,,-1),IF(Forces!L38=2,_xlfn.XLOOKUP(Forces!A38,'Dyno Graph'!$F$2:$F$77,'Dyno Graph'!$H$2:$H$77,,-1),IF(Forces!L38=3,_xlfn.XLOOKUP(Forces!A38,'Dyno Graph'!$G$2:$G$77,'Dyno Graph'!$H$2:$H$77,,-1)))) -> 13.49717 | P38: {=_xlfn.XLOOKUP(N38,BSFC!$B$3:$B$25,_xlfn.XLOOKUP(M38,BSFC!$C$2:$P$2,BSFC!$C$3:$P$25,,-1),,-1)} -> 504.47247 | Q38: =(O38*P38)/(60*60) -> 1.8913752 | R38: =((B39-B38)/3600)*O38 -> 0.00030376802 | S38: =R38*P38 -> 0.15324261 | T38: =S38+T37 -> 6.344224 | U38: =((R38*P38)/1000)/0.75 -> 0.00020432347 | V38: =U38+V37 -> 0.0084589654
A39: =MIN('Gearing and Output'!$H$7,(SQRT((A38^2)+2*K38*1))) -> 12.342359 | B39: =(1/A39)+B38 -> 5.5564845 | C39: =0.5*'Gearing and Output'!$G$15*'Gearing and Output'!$G$16*'Gearing and Output'!$G$14*(A39)^2 -> 89.572284 | D39: ='Gearing and Output'!$G$26 -> 133.66125 | E39: ='Gearing and Output'!$C$14-C39-D39 -> 260.8735 | F39: =0.5*'Gearing and Output'!$J$27*A39^2 -> 43167.595 | G39: =A39/('Gearing and Output'!$J$35/1000) -> 42.253881 | H39: =(0.5*I39*A39^2)/1000 -> 48.116904 | I39: ='Gearing and Output'!$G$38 -> 631.72978 | J39: =E39/I39 -> 0.41295108 | K39: =I39/E39 -> 2.4215943 | L39: =IF(A39<'Gearing and Output'!$H$5,1,IF(A39<'Gearing and Output'!$H$6,2,IF(A39>'Gearing and Output'!$H$6,3))) -> 3 | M39: =IF(L39=1,_xlfn.XLOOKUP(A39,'Dyno Graph'!$E$2:$E$77,'Dyno Graph'!$A$2:$A$77,,1),IF(L39=2,_xlfn.XLOOKUP(A39,'Dyno Graph'!$F$2:$F$77,'Dyno Graph'!$A$2:$A$77,,1),IF(L39=3,_xlfn.XLOOKUP(A39,'Dyno Graph'!$G$2:$G$77,'Dyno Graph'!$A$2:$A$77,,1)))) -> 6800 | N39: =IF(L39=1,_xlfn.XLOOKUP(A39,'Dyno Graph'!$E$2:$E$77,'Dyno Graph'!$D$2:$D$77,,-1),IF(L39=2,_xlfn.XLOOKUP(A39,'Dyno Graph'!$F$2:$F$77,'Dyno Graph'!$D$2:$D$77,,-1),IF(L39=3,_xlfn.XLOOKUP(A39,'Dyno Graph'!$G$2:$G$77,'Dyno Graph'!$D$2:$D$77,,-1)))) -> 19.67903 | O39: =IF(L39=1,_xlfn.XLOOKUP(A39,'Dyno Graph'!$E$2:$E$77,'Dyno Graph'!$H$2:$H$77,,-1),IF(Forces!L39=2,_xlfn.XLOOKUP(Forces!A39,'Dyno Graph'!$F$2:$F$77,'Dyno Graph'!$H$2:$H$77,,-1),IF(Forces!L39=3,_xlfn.XLOOKUP(Forces!A39,'Dyno Graph'!$G$2:$G$77,'Dyno Graph'!$H$2:$H$77,,-1)))) -> 13.79545 | P39: {=_xlfn.XLOOKUP(N39,BSFC!$B$3:$B$25,_xlfn.XLOOKUP(M39,BSFC!$C$2:$P$2,BSFC!$C$3:$P$25,,-1),,-1)} -> 504.47247 | Q39: =(O39*P39)/(60*60) -> 1.9331735 | R39: =((B40-B39)/3600)*O39 -> 0.00030566018 | S39: =R39*P39 -> 0.15419715 | T39: =S39+T38 -> 6.4984212 | U39: =((R39*P39)/1000)/0.75 -> 0.0002055962 | V39: =U39+V38 -> 0.0086645615
... A101: =MIN('Gearing and Output'!$H$7,(SQRT((A100^2)+2*K100*1))) -> 13.752389 | B101: =(1/A101)+B100 -> 10.089986 | C101: =0.5*'Gearing and Output'!$G$15*'Gearing and Output'!$G$16*'Gearing and Output'!$G$14*(A101)^2 -> 111.20738 | D101: ='Gearing and Output'!$G$26 -> 133.66125 | E101: ='Gearing and Output'!$C$14-C101-D101 -> 239.2384 | F101: =0.5*'Gearing and Output'!$J$27*A101^2 -> 53594.202 | G101: =A101/('Gearing and Output'!$J$35/1000) -> 47.081098 | H101: =(0.5*I101*A101^2)/1000 -> 59.738956 | I101: ='Gearing and Output'!$G$38 -> 631.72978 | J101: =E101/I101 -> 0.3787037 | K101: =I101/E101 -> 2.6405868 | L101: =IF(A101<'Gearing and Output'!$H$5,1,IF(A101<'Gearing and Output'!$H$6,2,IF(A101>'Gearing and Output'!$H$6,3))) -> 3 | M101: =IF(L101=1,_xlfn.XLOOKUP(A101,'Dyno Graph'!$E$2:$E$77,'Dyno Graph'!$A$2:$A$77,,1),IF(L101=2,_xlfn.XLOOKUP(A101,'Dyno Graph'!$F$2:$F$77,'Dyno Graph'!$A$2:$A$77,,1),IF(L101=3,_xlfn.XLOOKUP(A101,'Dyno Graph'!$G$2:$G$77,'Dyno Graph'!$A$2:$A$77,,1)))) -> 7500 | N101: =IF(L101=1,_xlfn.XLOOKUP(A101,'Dyno Graph'!$E$2:$E$77,'Dyno Graph'!$D$2:$D$77,,-1),IF(L101=2,_xlfn.XLOOKUP(A101,'Dyno Graph'!$F$2:$F$77,'Dyno Graph'!$D$2:$D$77,,-1),IF(L101=3,_xlfn.XLOOKUP(A101,'Dyno Graph'!$G$2:$G$77,'Dyno Graph'!$D$2:$D$77,,-1)))) -> 14.254 | O101: =IF(L101=1,_xlfn.XLOOKUP(A101,'Dyno Graph'!$E$2:$E$77,'Dyno Graph'!$H$2:$H$77,,-1),IF(Forces!L101=2,_xlfn.XLOOKUP(Forces!A101,'Dyno Graph'!$F$2:$F$77,'Dyno Graph'!$H$2:$H$77,,-1),IF(Forces!L101=3,_xlfn.XLOOKUP(Forces!A101,'Dyno Graph'!$G$2:$G$77,'Dyno Graph'!$H$2:$H$77,,-1)))) -> 11.1855 | P101: {=_xlfn.XLOOKUP(N101,BSFC!$B$3:$B$25,_xlfn.XLOOKUP(M101,BSFC!$C$2:$P$2,BSFC!$C$3:$P$25,,-1),,-1)} -> 475.44295 | Q101: =(O101*P101)/(60*60) -> 1.4772409 | R101: =((B102-B101)/3600)*O101 -> 0.00022593045 | S101: =R101*P101 -> 0.10741704 | T101: =S101+T100 -> 13.323156 | U101: =((R101*P101)/1000)/0.75 -> 0.00014322272 | V101: =U101+V100 -> 0.017764208
A102: =MIN('Gearing and Output'!$H$7,(SQRT((A101^2)+2*K101*1))) -> 13.752389 | B102: =(1/A102)+B101 -> 10.1627 | C102: =0.5*'Gearing and Output'!$G$15*'Gearing and Output'!$G$16*'Gearing and Output'!$G$14*(A102)^2 -> 111.20738 | D102: ='Gearing and Output'!$G$26 -> 133.66125 | E102: ='Gearing and Output'!$C$14-C102-D102-'Gearing and Output'!$C$21 -> -450.37051 | F102: =0.5*'Gearing and Output'!$J$27*A102^2 -> 53594.202 | G102: =A102/('Gearing and Output'!$J$35/1000) -> 47.081098 | H102: =(0.5*I102*A102^2)/1000 -> 59.738956 | I102: ='Gearing and Output'!$G$38 -> 631.72978 | J102: =E102/I102 -> -0.71291639 | K102: =(I102/E102) -> -1.402689 | L102: =IF(A102<'Gearing and Output'!$H$5,1,IF(A102<'Gearing and Output'!$H$6,2,IF(A102>'Gearing and Output'!$H$6,3))) -> 3 | M102: =IF(L102=1,_xlfn.XLOOKUP(A102,'Dyno Graph'!$E$2:$E$77,'Dyno Graph'!$A$2:$A$77,,1),IF(L102=2,_xlfn.XLOOKUP(A102,'Dyno Graph'!$F$2:$F$77,'Dyno Graph'!$A$2:$A$77,,1),IF(L102=3,_xlfn.XLOOKUP(A102,'Dyno Graph'!$G$2:$G$77,'Dyno Graph'!$A$2:$A$77,,1)))) -> 7500 | N102: =IF(L102=1,_xlfn.XLOOKUP(A102,'Dyno Graph'!$E$2:$E$77,'Dyno Graph'!$D$2:$D$77,,-1),IF(L102=2,_xlfn.XLOOKUP(A102,'Dyno Graph'!$F$2:$F$77,'Dyno Graph'!$D$2:$D$77,,-1),IF(L102=3,_xlfn.XLOOKUP(A102,'Dyno Graph'!$G$2:$G$77,'Dyno Graph'!$D$2:$D$77,,-1)))) -> 14.254 | O102: =IF(L102=1,_xlfn.XLOOKUP(A102,'Dyno Graph'!$E$2:$E$77,'Dyno Graph'!$H$2:$H$77,,-1),IF(Forces!L102=2,_xlfn.XLOOKUP(Forces!A102,'Dyno Graph'!$F$2:$F$77,'Dyno Graph'!$H$2:$H$77,,-1),IF(Forces!L102=3,_xlfn.XLOOKUP(Forces!A102,'Dyno Graph'!$G$2:$G$77,'Dyno Graph'!$H$2:$H$77,,-1)))) -> 11.1855 | P102: {=_xlfn.XLOOKUP(N102,BSFC!$B$3:$B$25,_xlfn.XLOOKUP(M102,BSFC!$C$2:$P$2,BSFC!$C$3:$P$25,,-1),,-1)} -> 475.44295 | Q102: =(O102*P102)/(60*60) -> 1.4772409 | R102: =((B103-B102)/3600)*O102 -> 0.00022762496 | S102: =R102*P102 -> 0.10822268 | T102: =S102+T101 -> 13.431379 | U102: =((R102*P102)/1000)/0.75 -> 0.00014429691 | V102: =U102+V101 -> 0.017908505
A103: =MIN('Gearing and Output'!$H$7,(SQRT((A102^2)+2*K102*1))) -> 13.650012 | B103: =(1/A103)+B102 -> 10.23596 | C103: =0.5*'Gearing and Output'!$G$15*'Gearing and Output'!$G$16*'Gearing and Output'!$G$14*(A103)^2 -> 109.55782 | D103: ='Gearing and Output'!$G$26 -> 133.66125 | E103: ='Gearing and Output'!$C$14-C103-D103-'Gearing and Output'!$C$21 -> -448.72095 | F103: =0.5*'Gearing and Output'!$J$27*A103^2 -> 52799.228 | G103: =A103/('Gearing and Output'!$J$35/1000) -> 46.730611 | H103: =(0.5*I103*A103^2)/1000 -> 58.852835 | I103: ='Gearing and Output'!$G$38 -> 631.72978 | J103: =E103/I103 -> -0.71030521 | K103: =(I103/E103) -> -1.4078455 | L103: =IF(A103<'Gearing and Output'!$H$5,1,IF(A103<'Gearing and Output'!$H$6,2,IF(A103>'Gearing and Output'!$H$6,3))) -> 3 | M103: =IF(L103=1,_xlfn.XLOOKUP(A103,'Dyno Graph'!$E$2:$E$77,'Dyno Graph'!$A$2:$A$77,,1),IF(L103=2,_xlfn.XLOOKUP(A103,'Dyno Graph'!$F$2:$F$77,'Dyno Graph'!$A$2:$A$77,,1),IF(L103=3,_xlfn.XLOOKUP(A103,'Dyno Graph'!$G$2:$G$77,'Dyno Graph'!$A$2:$A$77,,1)))) -> 7500 | N103: =IF(L103=1,_xlfn.XLOOKUP(A103,'Dyno Graph'!$E$2:$E$77,'Dyno Graph'!$D$2:$D$77,,-1),IF(L103=2,_xlfn.XLOOKUP(A103,'Dyno Graph'!$F$2:$F$77,'Dyno Graph'!$D$2:$D$77,,-1),IF(L103=3,_xlfn.XLOOKUP(A103,'Dyno Graph'!$G$2:$G$77,'Dyno Graph'!$D$2:$D$77,,-1)))) -> 14.682899 | O103: =IF(L103=1,_xlfn.XLOOKUP(A103,'Dyno Graph'!$E$2:$E$77,'Dyno Graph'!$H$2:$H$77,,-1),IF(Forces!L103=2,_xlfn.XLOOKUP(Forces!A103,'Dyno Graph'!$F$2:$F$77,'Dyno Graph'!$H$2:$H$77,,-1),IF(Forces!L103=3,_xlfn.XLOOKUP(Forces!A103,'Dyno Graph'!$G$2:$G$77,'Dyno Graph'!$H$2:$H$77,,-1)))) -> 11.368441 | P103: {=_xlfn.XLOOKUP(N103,BSFC!$B$3:$B$25,_xlfn.XLOOKUP(M103,BSFC!$C$2:$P$2,BSFC!$C$3:$P$25,,-1),,-1)} -> 475.44295 | Q103: =(O103*P103)/(60*60) -> 1.5014014 | R103: =((B104-B103)/3600)*O103 -> 0.00023311593 | S103: =R103*P103 -> 0.11083332 | T103: =S103+T102 -> 13.542212 | U103: =((R103*P103)/1000)/0.75 -> 0.00014777777 | V103: =U103+V102 -> 0.018056283
A104: =MIN('Gearing and Output'!$H$7,(SQRT((A103^2)+2*K103*1))) -> 13.54648 | B104: =(1/A104)+B103 -> 10.30978 | C104: =0.5*'Gearing and Output'!$G$15*'Gearing and Output'!$G$16*'Gearing and Output'!$G$14*(A104)^2 -> 107.90219 | D104: ='Gearing and Output'!$G$26 -> 133.66125 | E104: ='Gearing and Output'!$C$14-C104-D104-'Gearing and Output'!$C$21 -> -447.06532 | F104: =0.5*'Gearing and Output'!$J$27*A104^2 -> 52001.331 | G104: =A104/('Gearing and Output'!$J$35/1000) -> 46.376173 | H104: =(0.5*I104*A104^2)/1000 -> 57.963457 | I104: ='Gearing and Output'!$G$38 -> 631.72978 | J104: =E104/I104 -> -0.70768443 | K104: =(I104/E104) -> -1.4130592 | L104: =IF(A104<'Gearing and Output'!$H$5,1,IF(A104<'Gearing and Output'!$H$6,2,IF(A104>'Gearing and Output'!$H$6,3))) -> 3 | M104: =IF(L104=1,_xlfn.XLOOKUP(A104,'Dyno Graph'!$E$2:$E$77,'Dyno Graph'!$A$2:$A$77,,1),IF(L104=2,_xlfn.XLOOKUP(A104,'Dyno Graph'!$F$2:$F$77,'Dyno Graph'!$A$2:$A$77,,1),IF(L104=3,_xlfn.XLOOKUP(A104,'Dyno Graph'!$G$2:$G$77,'Dyno Graph'!$A$2:$A$77,,1)))) -> 7400 | N104: =IF(L104=1,_xlfn.XLOOKUP(A104,'Dyno Graph'!$E$2:$E$77,'Dyno Graph'!$D$2:$D$77,,-1),IF(L104=2,_xlfn.XLOOKUP(A104,'Dyno Graph'!$F$2:$F$77,'Dyno Graph'!$D$2:$D$77,,-1),IF(L104=3,_xlfn.XLOOKUP(A104,'Dyno Graph'!$G$2:$G$77,'Dyno Graph'!$D$2:$D$77,,-1)))) -> 15.161301 | O104: =IF(L104=1,_xlfn.XLOOKUP(A104,'Dyno Graph'!$E$2:$E$77,'Dyno Graph'!$H$2:$H$77,,-1),IF(Forces!L104=2,_xlfn.XLOOKUP(Forces!A104,'Dyno Graph'!$F$2:$F$77,'Dyno Graph'!$H$2:$H$77,,-1),IF(Forces!L104=3,_xlfn.XLOOKUP(Forces!A104,'Dyno Graph'!$G$2:$G$77,'Dyno Graph'!$H$2:$H$77,,-1)))) -> 11.580217 | P104: {=_xlfn.XLOOKUP(N104,BSFC!$B$3:$B$25,_xlfn.XLOOKUP(M104,BSFC!$C$2:$P$2,BSFC!$C$3:$P$25,,-1),,-1)} -> 482.49828 | Q104: =(O104*P104)/(60*60) -> 1.5520652 | R104: =((B105-B104)/3600)*O104 -> 0.0002393084 | S104: =R104*P104 -> 0.11546589 | T104: =S104+T103 -> 13.657678 | U104: =((R104*P104)/1000)/0.75 -> 0.00015395452 | V104: =U104+V103 -> 0.018210237
A105: =MIN('Gearing and Output'!$H$7,(SQRT((A104^2)+2*K104*1))) -> 13.441763 | B105: =(1/A105)+B104 -> 10.384175 | C105: =0.5*'Gearing and Output'!$G$15*'Gearing and Output'!$G$16*'Gearing and Output'!$G$14*(A105)^2 -> 106.24043 | D105: ='Gearing and Output'!$G$26 -> 133.66125 | E105: ='Gearing and Output'!$C$14-C105-D105-'Gearing and Output'!$C$21 -> -445.40357 | F105: =0.5*'Gearing and Output'!$J$27*A105^2 -> 51200.48 | G105: =A105/('Gearing and Output'!$J$35/1000) -> 46.017677 | H105: =(0.5*I105*A105^2)/1000 -> 57.070786 | I105: ='Gearing and Output'!$G$38 -> 631.72978 | J105: =E105/I105 -> -0.70505394 | K105: =(I105/E105) -> -1.4183312 | L105: =IF(A105<'Gearing and Output'!$H$5,1,IF(A105<'Gearing and Output'!$H$6,2,IF(A105>'Gearing and Output'!$H$6,3))) -> 3 | M105: =IF(L105=1,_xlfn.XLOOKUP(A105,'Dyno Graph'!$E$2:$E$77,'Dyno Graph'!$A$2:$A$77,,1),IF(L105=2,_xlfn.XLOOKUP(A105,'Dyno Graph'!$F$2:$F$77,'Dyno Graph'!$A$2:$A$77,,1),IF(L105=3,_xlfn.XLOOKUP(A105,'Dyno Graph'!$G$2:$G$77,'Dyno Graph'!$A$2:$A$77,,1)))) -> 7400 | N105: =IF(L105=1,_xlfn.XLOOKUP(A105,'Dyno Graph'!$E$2:$E$77,'Dyno Graph'!$D$2:$D$77,,-1),IF(L105=2,_xlfn.XLOOKUP(A105,'Dyno Graph'!$F$2:$F$77,'Dyno Graph'!$D$2:$D$77,,-1),IF(L105=3,_xlfn.XLOOKUP(A105,'Dyno Graph'!$G$2:$G$77,'Dyno Graph'!$D$2:$D$77,,-1)))) -> 15.161301 | O105: =IF(L105=1,_xlfn.XLOOKUP(A105,'Dyno Graph'!$E$2:$E$77,'Dyno Graph'!$H$2:$H$77,,-1),IF(Forces!L105=2,_xlfn.XLOOKUP(Forces!A105,'Dyno Graph'!$F$2:$F$77,'Dyno Graph'!$H$2:$H$77,,-1),IF(Forces!L105=3,_xlfn.XLOOKUP(Forces!A105,'Dyno Graph'!$G$2:$G$77,'Dyno Graph'!$H$2:$H$77,,-1)))) -> 11.580217 | P105: {=_xlfn.XLOOKUP(N105,BSFC!$B$3:$B$25,_xlfn.XLOOKUP(M105,BSFC!$C$2:$P$2,BSFC!$C$3:$P$25,,-1),,-1)} -> 482.49828 | Q105: =(O105*P105)/(60*60) -> 1.5520652 | R105: =((B106-B105)/3600)*O105 -> 0.00024120937 | S105: =R105*P105 -> 0.11638311 | T105: =S105+T104 -> 13.774061 | U105: =((R105*P105)/1000)/0.75 -> 0.00015517747 | V105: =U105+V104 -> 0.018365415
A106: =MIN('Gearing and Output'!$H$7,(SQRT((A105^2)+2*K105*1))) -> 13.335829 | B106: =(1/A106)+B105 -> 10.459161 | C106: =0.5*'Gearing and Output'!$G$15*'Gearing and Output'!$G$16*'Gearing and Output'!$G$14*(A106)^2 -> 104.57247 | D106: ='Gearing and Output'!$G$26 -> 133.66125 | E106: ='Gearing and Output'!$C$14-C106-D106-'Gearing and Output'!$C$21 -> -443.73561 | F106: =0.5*'Gearing and Output'!$J$27*A106^2 -> 50396.641 | G106: =A106/('Gearing and Output'!$J$35/1000) -> 45.655013 | H106: =(0.5*I106*A106^2)/1000 -> 56.174784 | I106: ='Gearing and Output'!$G$38 -> 631.72978 | J106: =E106/I106 -> -0.70241363 | K106: =(I106/E106) -> -1.4236626 | L106: =IF(A106<'Gearing and Output'!$H$5,1,IF(A106<'Gearing and Output'!$H$6,2,IF(A106>'Gearing and Output'!$H$6,3))) -> 3 | M106: =IF(L106=1,_xlfn.XLOOKUP(A106,'Dyno Graph'!$E$2:$E$77,'Dyno Graph'!$A$2:$A$77,,1),IF(L106=2,_xlfn.XLOOKUP(A106,'Dyno Graph'!$F$2:$F$77,'Dyno Graph'!$A$2:$A$77,,1),IF(L106=3,_xlfn.XLOOKUP(A106,'Dyno Graph'!$G$2:$G$77,'Dyno Graph'!$A$2:$A$77,,1)))) -> 7300 | N106: =IF(L106=1,_xlfn.XLOOKUP(A106,'Dyno Graph'!$E$2:$E$77,'Dyno Graph'!$D$2:$D$77,,-1),IF(L106=2,_xlfn.XLOOKUP(A106,'Dyno Graph'!$F$2:$F$77,'Dyno Graph'!$D$2:$D$77,,-1),IF(L106=3,_xlfn.XLOOKUP(A106,'Dyno Graph'!$G$2:$G$77,'Dyno Graph'!$D$2:$D$77,,-1)))) -> 15.729543 | O106: =IF(L106=1,_xlfn.XLOOKUP(A106,'Dyno Graph'!$E$2:$E$77,'Dyno Graph'!$H$2:$H$77,,-1),IF(Forces!L106=2,_xlfn.XLOOKUP(Forces!A106,'Dyno Graph'!$F$2:$F$77,'Dyno Graph'!$H$2:$H$77,,-1),IF(Forces!L106=3,_xlfn.XLOOKUP(Forces!A106,'Dyno Graph'!$G$2:$G$77,'Dyno Graph'!$H$2:$H$77,,-1)))) -> 11.849662 | P106: {=_xlfn.XLOOKUP(N106,BSFC!$B$3:$B$25,_xlfn.XLOOKUP(M106,BSFC!$C$2:$P$2,BSFC!$C$3:$P$25,,-1),,-1)} -> 482.49828 | Q106: =(O106*P106)/(60*60) -> 1.5881783 | R106: =((B107-B106)/3600)*O106 -> 0.00024882164 | S106: =R106*P106 -> 0.12005601 | T106: =S106+T105 -> 13.894117 | U106: =((R106*P106)/1000)/0.75 -> 0.00016007469 | V106: =U106+V105 -> 0.018525489
A107: =MIN('Gearing and Output'!$H$7,(SQRT((A106^2)+2*K106*1))) -> 13.228644 | B107: =(1/A107)+B106 -> 10.534755 | C107: =0.5*'Gearing and Output'!$G$15*'Gearing and Output'!$G$16*'Gearing and Output'!$G$14*(A107)^2 -> 102.89825 | D107: ='Gearing and Output'!$G$26 -> 133.66125 | E107: ='Gearing and Output'!$C$14-C107-D107-'Gearing and Output'!$C$21 -> -442.06138 | F107: =0.5*'Gearing and Output'!$J$27*A107^2 -> 49589.78 | G107: =A107/('Gearing and Output'!$J$35/1000) -> 45.288065 | H107: =(0.5*I107*A107^2)/1000 -> 55.275414 | I107: ='Gearing and Output'!$G$38 -> 631.72978 | J107: =E107/I107 -> -0.69976341 | K107: =(I107/E107) -> -1.4290544 | L107: =IF(A107<'Gearing and Output'!$H$5,1,IF(A107<'Gearing and Output'!$H$6,2,IF(A107>'Gearing and Output'!$H$6,3))) -> 3 | M107: =IF(L107=1,_xlfn.XLOOKUP(A107,'Dyno Graph'!$E$2:$E$77,'Dyno Graph'!$A$2:$A$77,,1),IF(L107=2,_xlfn.XLOOKUP(A107,'Dyno Graph'!$F$2:$F$77,'Dyno Graph'!$A$2:$A$77,,1),IF(L107=3,_xlfn.XLOOKUP(A107,'Dyno Graph'!$G$2:$G$77,'Dyno Graph'!$A$2:$A$77,,1)))) -> 7300 | N107: =IF(L107=1,_xlfn.XLOOKUP(A107,'Dyno Graph'!$E$2:$E$77,'Dyno Graph'!$D$2:$D$77,,-1),IF(L107=2,_xlfn.XLOOKUP(A107,'Dyno Graph'!$F$2:$F$77,'Dyno Graph'!$D$2:$D$77,,-1),IF(L107=3,_xlfn.XLOOKUP(A107,'Dyno Graph'!$G$2:$G$77,'Dyno Graph'!$D$2:$D$77,,-1)))) -> 15.729543 | O107: =IF(L107=1,_xlfn.XLOOKUP(A107,'Dyno Graph'!$E$2:$E$77,'Dyno Graph'!$H$2:$H$77,,-1),IF(Forces!L107=2,_xlfn.XLOOKUP(Forces!A107,'Dyno Graph'!$F$2:$F$77,'Dyno Graph'!$H$2:$H$77,,-1),IF(Forces!L107=3,_xlfn.XLOOKUP(Forces!A107,'Dyno Graph'!$G$2:$G$77,'Dyno Graph'!$H$2:$H$77,,-1)))) -> 11.849662 | P107: {=_xlfn.XLOOKUP(N107,BSFC!$B$3:$B$25,_xlfn.XLOOKUP(M107,BSFC!$C$2:$P$2,BSFC!$C$3:$P$25,,-1),,-1)} -> 482.49828 | Q107: =(O107*P107)/(60*60) -> 1.5881783 | R107: =((B108-B107)/3600)*O107 -> 0.00025087879 | S107: =R107*P107 -> 0.12104859 | T107: =S107+T106 -> 14.015166 | U107: =((R107*P107)/1000)/0.75 -> 0.00016139812 | V107: =U107+V106 -> 0.018686888
A108: =MIN('Gearing and Output'!$H$7,(SQRT((A107^2)+2*K107*1))) -> 13.120172 | B108: =(1/A108)+B107 -> 10.610973 | C108: =0.5*'Gearing and Output'!$G$15*'Gearing and Output'!$G$16*'Gearing and Output'!$G$14*(A108)^2 -> 101.21768 | D108: ='Gearing and Output'!$G$26 -> 133.66125 | E108: ='Gearing and Output'!$C$14-C108-D108-'Gearing and Output'!$C$21 -> -440.38081 | F108: =0.5*'Gearing and Output'!$J$27*A108^2 -> 48779.863 | G108: =A108/('Gearing and Output'!$J$35/1000) -> 44.916713 | H108: =(0.5*I108*A108^2)/1000 -> 54.372637 | I108: ='Gearing and Output'!$G$38 -> 631.72978 | J108: =E108/I108 -> -0.69710314 | K108: =(I108/E108) -> -1.4345079 | L108: =IF(A108<'Gearing and Output'!$H$5,1,IF(A108<'Gearing and Output'!$H$6,2,IF(A108>'Gearing and Output'!$H$6,3))) -> 3 | M108: =IF(L108=1,_xlfn.XLOOKUP(A108,'Dyno Graph'!$E$2:$E$77,'Dyno Graph'!$A$2:$A$77,,1),IF(L108=2,_xlfn.XLOOKUP(A108,'Dyno Graph'!$F$2:$F$77,'Dyno Graph'!$A$2:$A$77,,1),IF(L108=3,_xlfn.XLOOKUP(A108,'Dyno Graph'!$G$2:$G$77,'Dyno Graph'!$A$2:$A$77,,1)))) -> 7200 | N108: =IF(L108=1,_xlfn.XLOOKUP(A108,'Dyno Graph'!$E$2:$E$77,'Dyno Graph'!$D$2:$D$77,,-1),IF(L108=2,_xlfn.XLOOKUP(A108,'Dyno Graph'!$F$2:$F$77,'Dyno Graph'!$D$2:$D$77,,-1),IF(L108=3,_xlfn.XLOOKUP(A108,'Dyno Graph'!$G$2:$G$77,'Dyno Graph'!$D$2:$D$77,,-1)))) -> 16.430237 | O108: =IF(L108=1,_xlfn.XLOOKUP(A108,'Dyno Graph'!$E$2:$E$77,'Dyno Graph'!$H$2:$H$77,,-1),IF(Forces!L108=2,_xlfn.XLOOKUP(Forces!A108,'Dyno Graph'!$F$2:$F$77,'Dyno Graph'!$H$2:$H$77,,-1),IF(Forces!L108=3,_xlfn.XLOOKUP(Forces!A108,'Dyno Graph'!$G$2:$G$77,'Dyno Graph'!$H$2:$H$77,,-1)))) -> 12.205612 | P108: {=_xlfn.XLOOKUP(N108,BSFC!$B$3:$B$25,_xlfn.XLOOKUP(M108,BSFC!$C$2:$P$2,BSFC!$C$3:$P$25,,-1),,-1)} -> 530.48452 | Q108: =(O108*P108)/(60*60) -> 1.79858 | R108: =((B109-B108)/3600)*O108 -> 0.00026059567 | S108: =R108*P108 -> 0.13824197 | T108: =S108+T107 -> 14.153408 | U108: =((R108*P108)/1000)/0.75 -> 0.00018432262 | V108: =U108+V107 -> 0.01887121
A109: =MIN('Gearing and Output'!$H$7,(SQRT((A108^2)+2*K108*1))) -> 13.010376 | B109: =(1/A109)+B108 -> 10.687835 | C109: =0.5*'Gearing and Output'!$G$15*'Gearing and Output'!$G$16*'Gearing and Output'!$G$14*(A109)^2 -> 99.530697 | D109: ='Gearing and Output'!$G$26 -> 133.66125 | E109: ='Gearing and Output'!$C$14-C109-D109-'Gearing and Output'!$C$21 -> -438.69383 | F109: =0.5*'Gearing and Output'!$J$27*A109^2 -> 47966.856 | G109: =A109/('Gearing and Output'!$J$35/1000) -> 44.54083 | H109: =(0.5*I109*A109^2)/1000 -> 53.466416 | I109: ='Gearing and Output'!$G$38 -> 631.72978 | J109: =E109/I109 -> -0.69443273 | K109: =(I109/E109) -> -1.4400243 | L109: =IF(A109<'Gearing and Output'!$H$5,1,IF(A109<'Gearing and Output'!$H$6,2,IF(A109>'Gearing and Output'!$H$6,3))) -> 3 | M109: =IF(L109=1,_xlfn.XLOOKUP(A109,'Dyno Graph'!$E$2:$E$77,'Dyno Graph'!$A$2:$A$77,,1),IF(L109=2,_xlfn.XLOOKUP(A109,'Dyno Graph'!$F$2:$F$77,'Dyno Graph'!$A$2:$A$77,,1),IF(L109=3,_xlfn.XLOOKUP(A109,'Dyno Graph'!$G$2:$G$77,'Dyno Graph'!$A$2:$A$77,,1)))) -> 7100 | N109: =IF(L109=1,_xlfn.XLOOKUP(A109,'Dyno Graph'!$E$2:$E$77,'Dyno Graph'!$D$2:$D$77,,-1),IF(L109=2,_xlfn.XLOOKUP(A109,'Dyno Graph'!$F$2:$F$77,'Dyno Graph'!$D$2:$D$77,,-1),IF(L109=3,_xlfn.XLOOKUP(A109,'Dyno Graph'!$G$2:$G$77,'Dyno Graph'!$D$2:$D$77,,-1)))) -> 17.308429 | O109: =IF(L109=1,_xlfn.XLOOKUP(A109,'Dyno Graph'!$E$2:$E$77,'Dyno Graph'!$H$2:$H$77,,-1),IF(Forces!L109=2,_xlfn.XLOOKUP(Forces!A109,'Dyno Graph'!$F$2:$F$77,'Dyno Graph'!$H$2:$H$77,,-1),IF(Forces!L109=3,_xlfn.XLOOKUP(Forces!A109,'Dyno Graph'!$G$2:$G$77,'Dyno Graph'!$H$2:$H$77,,-1)))) -> 12.6769 | P109: {=_xlfn.XLOOKUP(N109,BSFC!$B$3:$B$25,_xlfn.XLOOKUP(M109,BSFC!$C$2:$P$2,BSFC!$C$3:$P$25,,-1),,-1)} -> 541.22172 | Q109: =(O109*P109)/(60*60) -> 1.9058371 | R109: =((B110-B109)/3600)*O109 -> 0.00027299026 | S109: =R109*P109 -> 0.14774826 | T109: =S109+T108 -> 14.301156 | U109: =((R109*P109)/1000)/0.75 -> 0.00019699768 | V109: =U109+V108 -> 0.019068208
A110: =MIN('Gearing and Output'!$H$7,(SQRT((A109^2)+2*K109*1))) -> 12.899219 | B110: =(1/A110)+B109 -> 10.765359 | C110: =0.5*'Gearing and Output'!$G$15*'Gearing and Output'!$G$16*'Gearing and Output'!$G$14*(A110)^2 -> 97.837229 | D110: ='Gearing and Output'!$G$26 -> 133.66125 | E110: ='Gearing and Output'!$C$14-C110-D110-'Gearing and Output'!$C$21 -> -437.00036 | F110: =0.5*'Gearing and Output'!$J$27*A110^2 -> 47150.722 | G110: =A110/('Gearing and Output'!$J$35/1000) -> 44.160283 | H110: =(0.5*I110*A110^2)/1000 -> 52.55671 | I110: ='Gearing and Output'!$G$38 -> 631.72978 | J110: =E110/I110 -> -0.69175204 | K110: =(I110/E110) -> -1.4456047 | L110: =IF(A110<'Gearing and Output'!$H$5,1,IF(A110<'Gearing and Output'!$H$6,2,IF(A110>'Gearing and Output'!$H$6,3))) -> 3 | M110: =IF(L110=1,_xlfn.XLOOKUP(A110,'Dyno Graph'!$E$2:$E$77,'Dyno Graph'!$A$2:$A$77,,1),IF(L110=2,_xlfn.XLOOKUP(A110,'Dyno Graph'!$F$2:$F$77,'Dyno Graph'!$A$2:$A$77,,1),IF(L110=3,_xlfn.XLOOKUP(A110,'Dyno Graph'!$G$2:$G$77,'Dyno Graph'!$A$2:$A$77,,1)))) -> 7100 | N110: =IF(L110=1,_xlfn.XLOOKUP(A110,'Dyno Graph'!$E$2:$E$77,'Dyno Graph'!$D$2:$D$77,,-1),IF(L110=2,_xlfn.XLOOKUP(A110,'Dyno Graph'!$F$2:$F$77,'Dyno Graph'!$D$2:$D$77,,-1),IF(L110=3,_xlfn.XLOOKUP(A110,'Dyno Graph'!$G$2:$G$77,'Dyno Graph'!$D$2:$D$77,,-1)))) -> 17.308429 | O110: =IF(L110=1,_xlfn.XLOOKUP(A110,'Dyno Graph'!$E$2:$E$77,'Dyno Graph'!$H$2:$H$77,,-1),IF(Forces!L110=2,_xlfn.XLOOKUP(Forces!A110,'Dyno Graph'!$F$2:$F$77,'Dyno Graph'!$H$2:$H$77,,-1),IF(Forces!L110=3,_xlfn.XLOOKUP(Forces!A110,'Dyno Graph'!$G$2:$G$77,'Dyno Graph'!$H$2:$H$77,,-1)))) -> 12.6769 | P110: {=_xlfn.XLOOKUP(N110,BSFC!$B$3:$B$25,_xlfn.XLOOKUP(M110,BSFC!$C$2:$P$2,BSFC!$C$3:$P$25,,-1),,-1)} -> 541.22172 | Q110: =(O110*P110)/(60*60) -> 1.9058371 | R110: =((B111-B110)/3600)*O110 -> 0.00027539338 | S110: =R110*P110 -> 0.14904888 | T110: =S110+T109 -> 14.450205 | U110: =((R110*P110)/1000)/0.75 -> 0.00019873184 | V110: =U110+V109 -> 0.01926694
A111: =MIN('Gearing and Output'!$H$7,(SQRT((A110^2)+2*K110*1))) -> 12.786658 | B111: =(1/A111)+B110 -> 10.843566 | C111: =0.5*'Gearing and Output'!$G$15*'Gearing and Output'!$G$16*'Gearing and Output'!$G$14*(A111)^2 -> 96.137198 | D111: ='Gearing and Output'!$G$26 -> 133.66125 | E111: ='Gearing and Output'!$C$14-C111-D111-'Gearing and Output'!$C$21 -> -435.30033 | F111: =0.5*'Gearing and Output'!$J$27*A111^2 -> 46331.426 | G111: =A111/('Gearing and Output'!$J$35/1000) -> 43.774935 | H111: =(0.5*I111*A111^2)/1000 -> 51.643478 | I111: ='Gearing and Output'!$G$38 -> 631.72978 | J111: =E111/I111 -> -0.68906097 | K111: =(I111/E111) -> -1.4512504 | L111: =IF(A111<'Gearing and Output'!$H$5,1,IF(A111<'Gearing and Output'!$H$6,2,IF(A111>'Gearing and Output'!$H$6,3))) -> 3 | M111: =IF(L111=1,_xlfn.XLOOKUP(A111,'Dyno Graph'!$E$2:$E$77,'Dyno Graph'!$A$2:$A$77,,1),IF(L111=2,_xlfn.XLOOKUP(A111,'Dyno Graph'!$F$2:$F$77,'Dyno Graph'!$A$2:$A$77,,1),IF(L111=3,_xlfn.XLOOKUP(A111,'Dyno Graph'!$G$2:$G$77,'Dyno Graph'!$A$2:$A$77,,1)))) -> 7000 | N111: =IF(L111=1,_xlfn.XLOOKUP(A111,'Dyno Graph'!$E$2:$E$77,'Dyno Graph'!$D$2:$D$77,,-1),IF(L111=2,_xlfn.XLOOKUP(A111,'Dyno Graph'!$F$2:$F$77,'Dyno Graph'!$D$2:$D$77,,-1),IF(L111=3,_xlfn.XLOOKUP(A111,'Dyno Graph'!$G$2:$G$77,'Dyno Graph'!$D$2:$D$77,,-1)))) -> 18.346331 | O111: =IF(L111=1,_xlfn.XLOOKUP(A111,'Dyno Graph'!$E$2:$E$77,'Dyno Graph'!$H$2:$H$77,,-1),IF(Forces!L111=2,_xlfn.XLOOKUP(Forces!A111,'Dyno Graph'!$F$2:$F$77,'Dyno Graph'!$H$2:$H$77,,-1),IF(Forces!L111=3,_xlfn.XLOOKUP(Forces!A111,'Dyno Graph'!$G$2:$G$77,'Dyno Graph'!$H$2:$H$77,,-1)))) -> 13.245114 | P111: {=_xlfn.XLOOKUP(N111,BSFC!$B$3:$B$25,_xlfn.XLOOKUP(M111,BSFC!$C$2:$P$2,BSFC!$C$3:$P$25,,-1),,-1)} -> 510.466 | Q111: =(O111*P111)/(60*60) -> 1.8781056 | R111: =((B112-B111)/3600)*O111 -> 0.00029032581 | S111: =R111*P111 -> 0.14820146 | T111: =S111+T110 -> 14.598406 | U111: =((R111*P111)/1000)/0.75 -> 0.00019760194 | V111: =U111+V110 -> 0.019464542
A112: =MIN('Gearing and Output'!$H$7,(SQRT((A111^2)+2*K111*1))) -> 12.672653 | B112: =(1/A112)+B111 -> 10.922476 | C112: =0.5*'Gearing and Output'!$G$15*'Gearing and Output'!$G$16*'Gearing and Output'!$G$14*(A112)^2 -> 94.430527 | D112: ='Gearing and Output'!$G$26 -> 133.66125 | E112: ='Gearing and Output'!$C$14-C112-D112-'Gearing and Output'!$C$21 -> -433.59366 | F112: =0.5*'Gearing and Output'!$J$27*A112^2 -> 45508.93 | G112: =A112/('Gearing and Output'!$J$35/1000) -> 43.384639 | H112: =(0.5*I112*A112^2)/1000 -> 50.72668 | I112: ='Gearing and Output'!$G$38 -> 631.72978 | J112: =E112/I112 -> -0.68635939 | K112: =(I112/E112) -> -1.4569627 | L112: =IF(A112<'Gearing and Output'!$H$5,1,IF(A112<'Gearing and Output'!$H$6,2,IF(A112>'Gearing and Output'!$H$6,3))) -> 3 | M112: =IF(L112=1,_xlfn.XLOOKUP(A112,'Dyno Graph'!$E$2:$E$77,'Dyno Graph'!$A$2:$A$77,,1),IF(L112=2,_xlfn.XLOOKUP(A112,'Dyno Graph'!$F$2:$F$77,'Dyno Graph'!$A$2:$A$77,,1),IF(L112=3,_xlfn.XLOOKUP(A112,'Dyno Graph'!$G$2:$G$77,'Dyno Graph'!$A$2:$A$77,,1)))) -> 7000 | N112: =IF(L112=1,_xlfn.XLOOKUP(A112,'Dyno Graph'!$E$2:$E$77,'Dyno Graph'!$D$2:$D$77,,-1),IF(L112=2,_xlfn.XLOOKUP(A112,'Dyno Graph'!$F$2:$F$77,'Dyno Graph'!$D$2:$D$77,,-1),IF(L112=3,_xlfn.XLOOKUP(A112,'Dyno Graph'!$G$2:$G$77,'Dyno Graph'!$D$2:$D$77,,-1)))) -> 18.346331 | O112: =IF(L112=1,_xlfn.XLOOKUP(A112,'Dyno Graph'!$E$2:$E$77,'Dyno Graph'!$H$2:$H$77,,-1),IF(Forces!L112=2,_xlfn.XLOOKUP(Forces!A112,'Dyno Graph'!$F$2:$F$77,'Dyno Graph'!$H$2:$H$77,,-1),IF(Forces!L112=3,_xlfn.XLOOKUP(Forces!A112,'Dyno Graph'!$G$2:$G$77,'Dyno Graph'!$H$2:$H$77,,-1)))) -> 13.245114 | P112: {=_xlfn.XLOOKUP(N112,BSFC!$B$3:$B$25,_xlfn.XLOOKUP(M112,BSFC!$C$2:$P$2,BSFC!$C$3:$P$25,,-1),,-1)} -> 510.466 | Q112: =(O112*P112)/(60*60) -> 1.8781056 | R112: =((B113-B112)/3600)*O112 -> 0.0002929961 | S112: =R112*P112 -> 0.14956455 | T112: =S112+T111 -> 14.747971 | U112: =((R112*P112)/1000)/0.75 -> 0.0001994194 | V112: =U112+V111 -> 0.019663961
A113: =MIN('Gearing and Output'!$H$7,(SQRT((A112^2)+2*K112*1))) -> 12.557158 | B113: =(1/A113)+B112 -> 11.002111 | C113: =0.5*'Gearing and Output'!$G$15*'Gearing and Output'!$G$16*'Gearing and Output'!$G$14*(A113)^2 -> 92.717139 | D113: ='Gearing and Output'!$G$26 -> 133.66125 | E113: ='Gearing and Output'!$C$14-C113-D113-'Gearing and Output'!$C$21 -> -431.88027 | F113: =0.5*'Gearing and Output'!$J$27*A113^2 -> 44683.196 | G113: =A113/('Gearing and Output'!$J$35/1000) -> 42.989242 | H113: =(0.5*I113*A113^2)/1000 -> 49.806273 | I113: ='Gearing and Output'!$G$38 -> 631.72978 | J113: =E113/I113 -> -0.68364717 | K113: =(I113/E113) -> -1.4627428 | L113: =IF(A113<'Gearing and Output'!$H$5,1,IF(A113<'Gearing and Output'!$H$6,2,IF(A113>'Gearing and Output'!$H$6,3))) -> 3 | M113: =IF(L113=1,_xlfn.XLOOKUP(A113,'Dyno Graph'!$E$2:$E$77,'Dyno Graph'!$A$2:$A$77,,1),IF(L113=2,_xlfn.XLOOKUP(A113,'Dyno Graph'!$F$2:$F$77,'Dyno Graph'!$A$2:$A$77,,1),IF(L113=3,_xlfn.XLOOKUP(A113,'Dyno Graph'!$G$2:$G$77,'Dyno Graph'!$A$2:$A$77,,1)))) -> 6900 | N113: =IF(L113=1,_xlfn.XLOOKUP(A113,'Dyno Graph'!$E$2:$E$77,'Dyno Graph'!$D$2:$D$77,,-1),IF(L113=2,_xlfn.XLOOKUP(A113,'Dyno Graph'!$F$2:$F$77,'Dyno Graph'!$D$2:$D$77,,-1),IF(L113=3,_xlfn.XLOOKUP(A113,'Dyno Graph'!$G$2:$G$77,'Dyno Graph'!$D$2:$D$77,,-1)))) -> 19.259479 | O113: =IF(L113=1,_xlfn.XLOOKUP(A113,'Dyno Graph'!$E$2:$E$77,'Dyno Graph'!$H$2:$H$77,,-1),IF(Forces!L113=2,_xlfn.XLOOKUP(Forces!A113,'Dyno Graph'!$F$2:$F$77,'Dyno Graph'!$H$2:$H$77,,-1),IF(Forces!L113=3,_xlfn.XLOOKUP(Forces!A113,'Dyno Graph'!$G$2:$G$77,'Dyno Graph'!$H$2:$H$77,,-1)))) -> 13.702848 | P113: {=_xlfn.XLOOKUP(N113,BSFC!$B$3:$B$25,_xlfn.XLOOKUP(M113,BSFC!$C$2:$P$2,BSFC!$C$3:$P$25,,-1),,-1)} -> 504.47247 | Q113: =(O113*P113)/(60*60) -> 1.9201971 | R113: =((B114-B113)/3600)*O113 -> 0.00030597333 | S113: =R113*P113 -> 0.15435512 | T113: =S113+T112 -> 14.902326 | U113: =((R113*P113)/1000)/0.75 -> 0.00020580683 | V113: =U113+V112 -> 0.019869768
... A142: =MIN('Gearing and Output'!$H$7,(SQRT((A141^2)+2*K141*1))) -> 8.2156952 | B142: =(1/A142)+B141 -> 13.802781 | C142: =0.5*'Gearing and Output'!$G$15*'Gearing and Output'!$G$16*'Gearing and Output'!$G$14*(A142)^2 -> 39.688617 | D142: ='Gearing and Output'!$G$26 -> 133.66125 | E142: ='Gearing and Output'!$C$14-C142-D142-'Gearing and Output'!$C$21 -> -378.85175 | F142: =0.5*'Gearing and Output'!$J$27*A142^2 -> 19127.146 | G142: =A142/('Gearing and Output'!$J$35/1000) -> 28.12631 | H142: =(0.5*I142*A142^2)/1000 -> 21.320137 | I142: ='Gearing and Output'!$G$38 -> 631.72978 | J142: =E142/I142 -> -0.59970539 | K142: =(I142/E142) -> -1.6674854 | L142: =IF(A142<'Gearing and Output'!$H$5,1,IF(A142<'Gearing and Output'!$H$6,2,IF(A142>'Gearing and Output'!$H$6,3))) -> 1 | M142: =IF(L142=1,_xlfn.XLOOKUP(A142,'Dyno Graph'!$E$2:$E$77,'Dyno Graph'!$A$2:$A$77,,1),IF(L142=2,_xlfn.XLOOKUP(A142,'Dyno Graph'!$F$2:$F$77,'Dyno Graph'!$A$2:$A$77,,1),IF(L142=3,_xlfn.XLOOKUP(A142,'Dyno Graph'!$G$2:$G$77,'Dyno Graph'!$A$2:$A$77,,1)))) -> 6500 | N142: =IF(L142=1,_xlfn.XLOOKUP(A142,'Dyno Graph'!$E$2:$E$77,'Dyno Graph'!$D$2:$D$77,,-1),IF(L142=2,_xlfn.XLOOKUP(A142,'Dyno Graph'!$F$2:$F$77,'Dyno Graph'!$D$2:$D$77,,-1),IF(L142=3,_xlfn.XLOOKUP(A142,'Dyno Graph'!$G$2:$G$77,'Dyno Graph'!$D$2:$D$77,,-1)))) -> 19.933328 | O142: =IF(L142=1,_xlfn.XLOOKUP(A142,'Dyno Graph'!$E$2:$E$77,'Dyno Graph'!$H$2:$H$77,,-1),IF(Forces!L142=2,_xlfn.XLOOKUP(Forces!A142,'Dyno Graph'!$F$2:$F$77,'Dyno Graph'!$H$2:$H$77,,-1),IF(Forces!L142=3,_xlfn.XLOOKUP(Forces!A142,'Dyno Graph'!$G$2:$G$77,'Dyno Graph'!$H$2:$H$77,,-1)))) -> 13.34803 | P142: {=_xlfn.XLOOKUP(N142,BSFC!$B$3:$B$25,_xlfn.XLOOKUP(M142,BSFC!$C$2:$P$2,BSFC!$C$3:$P$25,,-1),,-1)} -> 504.47247 | Q142: =(O142*P142)/(60*60) -> 1.870476 | R142: =((B143-B142)/3600)*O142 -> 0.00046288535 | S142: =R142*P142 -> 0.23351291 | T142: =S142+T141 -> 20.000945 | U142: =((R142*P142)/1000)/0.75 -> 0.00031135055 | V142: =U142+V141 -> 0.026667926
A143: =MIN('Gearing and Output'!$H$7,(SQRT((A142^2)+2*K142*1))) -> 8.0101609 | B143: =(1/A143)+B142 -> 13.927623 | C143: =0.5*'Gearing and Output'!$G$15*'Gearing and Output'!$G$16*'Gearing and Output'!$G$14*(A143)^2 -> 37.727654 | D143: ='Gearing and Output'!$G$26 -> 133.66125 | E143: ='Gearing and Output'!$C$14-C143-D143 -> 312.71812 | F143: =0.5*'Gearing and Output'!$J$27*A143^2 -> 18182.099 | G143: =A143/('Gearing and Output'!$J$35/1000) -> 27.422666 | H143: =(0.5*I143*A143^2)/1000 -> 20.266737 | I143: ='Gearing and Output'!$G$38 -> 631.72978 | J143: =E143/I143 -> 0.49501881 | K143: =I143/E143 -> 2.0201252 | L143: =IF(A143<'Gearing and Output'!$H$5,1,IF(A143<'Gearing and Output'!$H$6,2,IF(A143>'Gearing and Output'!$H$6,3))) -> 1 | M143: =IF(L143=1,_xlfn.XLOOKUP(A143,'Dyno Graph'!$E$2:$E$77,'Dyno Graph'!$A$2:$A$77,,1),IF(L143=2,_xlfn.XLOOKUP(A143,'Dyno Graph'!$F$2:$F$77,'Dyno Graph'!$A$2:$A$77,,1),IF(L143=3,_xlfn.XLOOKUP(A143,'Dyno Graph'!$G$2:$G$77,'Dyno Graph'!$A$2:$A$77,,1)))) -> 6300 | N143: =IF(L143=1,_xlfn.XLOOKUP(A143,'Dyno Graph'!$E$2:$E$77,'Dyno Graph'!$D$2:$D$77,,-1),IF(L143=2,_xlfn.XLOOKUP(A143,'Dyno Graph'!$F$2:$F$77,'Dyno Graph'!$D$2:$D$77,,-1),IF(L143=3,_xlfn.XLOOKUP(A143,'Dyno Graph'!$G$2:$G$77,'Dyno Graph'!$D$2:$D$77,,-1)))) -> 19.742442 | O143: =IF(L143=1,_xlfn.XLOOKUP(A143,'Dyno Graph'!$E$2:$E$77,'Dyno Graph'!$H$2:$H$77,,-1),IF(Forces!L143=2,_xlfn.XLOOKUP(Forces!A143,'Dyno Graph'!$F$2:$F$77,'Dyno Graph'!$H$2:$H$77,,-1),IF(Forces!L143=3,_xlfn.XLOOKUP(Forces!A143,'Dyno Graph'!$G$2:$G$77,'Dyno Graph'!$H$2:$H$77,,-1)))) -> 12.807075 | P143: {=_xlfn.XLOOKUP(N143,BSFC!$B$3:$B$25,_xlfn.XLOOKUP(M143,BSFC!$C$2:$P$2,BSFC!$C$3:$P$25,,-1),,-1)} -> 457.16662 | Q143: =(O143*P143)/(60*60) -> 1.6263798 | R143: =((B144-B143)/3600)*O143 -> 0.00043077049 | S143: =R143*P143 -> 0.19693389 | T143: =S143+T142 -> 20.197878 | U143: =((R143*P143)/1000)/0.75 -> 0.00026257852 | V143: =U143+V142 -> 0.026930505
A144: =MIN('Gearing and Output'!$H$7,(SQRT((A143^2)+2*K143*1))) -> 8.2585064 | B144: =(1/A144)+B143 -> 14.04871 | C144: =0.5*'Gearing and Output'!$G$15*'Gearing and Output'!$G$16*'Gearing and Output'!$G$14*(A144)^2 -> 40.103321 | D144: ='Gearing and Output'!$G$26 -> 133.66125 | E144: ='Gearing and Output'!$C$14-C144-D144 -> 310.34246 | F144: =0.5*'Gearing and Output'!$J$27*A144^2 -> 19327.005 | G144: =A144/('Gearing and Output'!$J$35/1000) -> 28.272874 | H144: =(0.5*I144*A144^2)/1000 -> 21.54291 | I144: ='Gearing and Output'!$G$38 -> 631.72978 | J144: =E144/I144 -> 0.49125824 | K144: =I144/E144 -> 2.0355893 | L144: =IF(A144<'Gearing and Output'!$H$5,1,IF(A144<'Gearing and Output'!$H$6,2,IF(A144>'Gearing and Output'!$H$6,3))) -> 1 | M144: =IF(L144=1,_xlfn.XLOOKUP(A144,'Dyno Graph'!$E$2:$E$77,'Dyno Graph'!$A$2:$A$77,,1),IF(L144=2,_xlfn.XLOOKUP(A144,'Dyno Graph'!$F$2:$F$77,'Dyno Graph'!$A$2:$A$77,,1),IF(L144=3,_xlfn.XLOOKUP(A144,'Dyno Graph'!$G$2:$G$77,'Dyno Graph'!$A$2:$A$77,,1)))) -> 6500 | N144: =IF(L144=1,_xlfn.XLOOKUP(A144,'Dyno Graph'!$E$2:$E$77,'Dyno Graph'!$D$2:$D$77,,-1),IF(L144=2,_xlfn.XLOOKUP(A144,'Dyno Graph'!$F$2:$F$77,'Dyno Graph'!$D$2:$D$77,,-1),IF(L144=3,_xlfn.XLOOKUP(A144,'Dyno Graph'!$G$2:$G$77,'Dyno Graph'!$D$2:$D$77,,-1)))) -> 19.933328 | O144: =IF(L144=1,_xlfn.XLOOKUP(A144,'Dyno Graph'!$E$2:$E$77,'Dyno Graph'!$H$2:$H$77,,-1),IF(Forces!L144=2,_xlfn.XLOOKUP(Forces!A144,'Dyno Graph'!$F$2:$F$77,'Dyno Graph'!$H$2:$H$77,,-1),IF(Forces!L144=3,_xlfn.XLOOKUP(Forces!A144,'Dyno Graph'!$G$2:$G$77,'Dyno Graph'!$H$2:$H$77,,-1)))) -> 13.34803 | P144: {=_xlfn.XLOOKUP(N144,BSFC!$B$3:$B$25,_xlfn.XLOOKUP(M144,BSFC!$C$2:$P$2,BSFC!$C$3:$P$25,,-1),,-1)} -> 504.47247 | Q144: =(O144*P144)/(60*60) -> 1.870476 | R144: =((B145-B144)/3600)*O144 -> 0.00043613738 | S144: =R144*P144 -> 0.2200193 | T144: =S144+T143 -> 20.417898 | U144: =((R144*P144)/1000)/0.75 -> 0.00029335907 | V144: =U144+V143 -> 0.027223864
A145: =MIN('Gearing and Output'!$H$7,(SQRT((A144^2)+2*K144*1))) -> 8.5014179 | B145: =(1/A145)+B144 -> 14.166338 | C145: =0.5*'Gearing and Output'!$G$15*'Gearing and Output'!$G$16*'Gearing and Output'!$G$14*(A145)^2 -> 42.497174 | D145: ='Gearing and Output'!$G$26 -> 133.66125 | E145: ='Gearing and Output'!$C$14-C145-D145 -> 307.9486 | F145: =0.5*'Gearing and Output'!$J$27*A145^2 -> 20480.675 | G145: =A145/('Gearing and Output'!$J$35/1000) -> 29.104478 | H145: =(0.5*I145*A145^2)/1000 -> 22.828852 | I145: ='Gearing and Output'!$G$38 -> 631.72978 | J145: =E145/I145 -> 0.48746888 | K145: =I145/E145 -> 2.051413 | L145: =IF(A145<'Gearing and Output'!$H$5,1,IF(A145<'Gearing and Output'!$H$6,2,IF(A145>'Gearing and Output'!$H$6,3))) -> 1 | M145: =IF(L145=1,_xlfn.XLOOKUP(A145,'Dyno Graph'!$E$2:$E$77,'Dyno Graph'!$A$2:$A$77,,1),IF(L145=2,_xlfn.XLOOKUP(A145,'Dyno Graph'!$F$2:$F$77,'Dyno Graph'!$A$2:$A$77,,1),IF(L145=3,_xlfn.XLOOKUP(A145,'Dyno Graph'!$G$2:$G$77,'Dyno Graph'!$A$2:$A$77,,1)))) -> 6700 | N145: =IF(L145=1,_xlfn.XLOOKUP(A145,'Dyno Graph'!$E$2:$E$77,'Dyno Graph'!$D$2:$D$77,,-1),IF(L145=2,_xlfn.XLOOKUP(A145,'Dyno Graph'!$F$2:$F$77,'Dyno Graph'!$D$2:$D$77,,-1),IF(L145=3,_xlfn.XLOOKUP(A145,'Dyno Graph'!$G$2:$G$77,'Dyno Graph'!$D$2:$D$77,,-1)))) -> 19.545258 | O145: =IF(L145=1,_xlfn.XLOOKUP(A145,'Dyno Graph'!$E$2:$E$77,'Dyno Graph'!$H$2:$H$77,,-1),IF(Forces!L145=2,_xlfn.XLOOKUP(Forces!A145,'Dyno Graph'!$F$2:$F$77,'Dyno Graph'!$H$2:$H$77,,-1),IF(Forces!L145=3,_xlfn.XLOOKUP(Forces!A145,'Dyno Graph'!$G$2:$G$77,'Dyno Graph'!$H$2:$H$77,,-1)))) -> 13.49717 | P145: {=_xlfn.XLOOKUP(N145,BSFC!$B$3:$B$25,_xlfn.XLOOKUP(M145,BSFC!$C$2:$P$2,BSFC!$C$3:$P$25,,-1),,-1)} -> 504.47247 | Q145: =(O145*P145)/(60*60) -> 1.8913752 | R145: =((B146-B145)/3600)*O145 -> 0.0004290018 | S145: =R145*P145 -> 0.2164196 | T145: =S145+T144 -> 20.634317 | U145: =((R145*P145)/1000)/0.75 -> 0.00028855946 | V145: =U145+V144 -> 0.027512423
A146: =MIN('Gearing and Output'!$H$7,(SQRT((A145^2)+2*K145*1))) -> 8.7393897 | B146: =(1/A146)+B145 -> 14.280762 | C146: =0.5*'Gearing and Output'!$G$15*'Gearing and Output'!$G$16*'Gearing and Output'!$G$14*(A146)^2 -> 44.909636 | D146: ='Gearing and Output'!$G$26 -> 133.66125 | E146: ='Gearing and Output'!$C$14-C146-D146 -> 305.53614 | F146: =0.5*'Gearing and Output'!$J$27*A146^2 -> 21643.313 | G146: =A146/('Gearing and Output'!$J$35/1000) -> 29.91917 | H146: =(0.5*I146*A146^2)/1000 -> 24.124791 | I146: ='Gearing and Output'!$G$38 -> 631.72978 | J146: =E146/I146 -> 0.48365006 | K146: =I146/E146 -> 2.0676106 | L146: =IF(A146<'Gearing and Output'!$H$5,1,IF(A146<'Gearing and Output'!$H$6,2,IF(A146>'Gearing and Output'!$H$6,3))) -> 1 | M146: =IF(L146=1,_xlfn.XLOOKUP(A146,'Dyno Graph'!$E$2:$E$77,'Dyno Graph'!$A$2:$A$77,,1),IF(L146=2,_xlfn.XLOOKUP(A146,'Dyno Graph'!$F$2:$F$77,'Dyno Graph'!$A$2:$A$77,,1),IF(L146=3,_xlfn.XLOOKUP(A146,'Dyno Graph'!$G$2:$G$77,'Dyno Graph'!$A$2:$A$77,,1)))) -> 6900 | N146: =IF(L146=1,_xlfn.XLOOKUP(A146,'Dyno Graph'!$E$2:$E$77,'Dyno Graph'!$D$2:$D$77,,-1),IF(L146=2,_xlfn.XLOOKUP(A146,'Dyno Graph'!$F$2:$F$77,'Dyno Graph'!$D$2:$D$77,,-1),IF(L146=3,_xlfn.XLOOKUP(A146,'Dyno Graph'!$G$2:$G$77,'Dyno Graph'!$D$2:$D$77,,-1)))) -> 19.259479 | O146: =IF(L146=1,_xlfn.XLOOKUP(A146,'Dyno Graph'!$E$2:$E$77,'Dyno Graph'!$H$2:$H$77,,-1),IF(Forces!L146=2,_xlfn.XLOOKUP(Forces!A146,'Dyno Graph'!$F$2:$F$77,'Dyno Graph'!$H$2:$H$77,,-1),IF(Forces!L146=3,_xlfn.XLOOKUP(Forces!A146,'Dyno Graph'!$G$2:$G$77,'Dyno Graph'!$H$2:$H$77,,-1)))) -> 13.702848 | P146: {=_xlfn.XLOOKUP(N146,BSFC!$B$3:$B$25,_xlfn.XLOOKUP(M146,BSFC!$C$2:$P$2,BSFC!$C$3:$P$25,,-1),,-1)} -> 504.47247 | Q146: =(O146*P146)/(60*60) -> 1.9201971 | R146: =((B147-B146)/3600)*O146 -> 0.00042420679 | S146: =R146*P146 -> 0.21400065 | T146: =S146+T145 -> 20.848318 | U146: =((R146*P146)/1000)/0.75 -> 0.0002853342 | V146: =U146+V145 -> 0.027797757
A147: =MIN('Gearing and Output'!$H$7,(SQRT((A146^2)+2*K146*1))) -> 8.9728565 | B147: =(1/A147)+B146 -> 14.392209 | C147: =0.5*'Gearing and Output'!$G$15*'Gearing and Output'!$G$16*'Gearing and Output'!$G$14*(A147)^2 -> 47.341146 | D147: ='Gearing and Output'!$G$26 -> 133.66125 | E147: ='Gearing and Output'!$C$14-C147-D147 -> 303.10463 | F147: =0.5*'Gearing and Output'!$J$27*A147^2 -> 22815.131 | G147: =A147/('Gearing and Output'!$J$35/1000) -> 30.718441 | H147: =(0.5*I147*A147^2)/1000 -> 25.430962 | I147: ='Gearing and Output'!$G$38 -> 631.72978 | J147: =E147/I147 -> 0.47980109 | K147: =I147/E147 -> 2.084197 | L147: =IF(A147<'Gearing and Output'!$H$5,1,IF(A147<'Gearing and Output'!$H$6,2,IF(A147>'Gearing and Output'!$H$6,3))) -> 1 | M147: =IF(L147=1,_xlfn.XLOOKUP(A147,'Dyno Graph'!$E$2:$E$77,'Dyno Graph'!$A$2:$A$77,,1),IF(L147=2,_xlfn.XLOOKUP(A147,'Dyno Graph'!$F$2:$F$77,'Dyno Graph'!$A$2:$A$77,,1),IF(L147=3,_xlfn.XLOOKUP(A147,'Dyno Graph'!$G$2:$G$77,'Dyno Graph'!$A$2:$A$77,,1)))) -> 7100 | N147: =IF(L147=1,_xlfn.XLOOKUP(A147,'Dyno Graph'!$E$2:$E$77,'Dyno Graph'!$D$2:$D$77,,-1),IF(L147=2,_xlfn.XLOOKUP(A147,'Dyno Graph'!$F$2:$F$77,'Dyno Graph'!$D$2:$D$77,,-1),IF(L147=3,_xlfn.XLOOKUP(A147,'Dyno Graph'!$G$2:$G$77,'Dyno Graph'!$D$2:$D$77,,-1)))) -> 17.308429 | O147: =IF(L147=1,_xlfn.XLOOKUP(A147,'Dyno Graph'!$E$2:$E$77,'Dyno Graph'!$H$2:$H$77,,-1),IF(Forces!L147=2,_xlfn.XLOOKUP(Forces!A147,'Dyno Graph'!$F$2:$F$77,'Dyno Graph'!$H$2:$H$77,,-1),IF(Forces!L147=3,_xlfn.XLOOKUP(Forces!A147,'Dyno Graph'!$G$2:$G$77,'Dyno Graph'!$H$2:$H$77,,-1)))) -> 12.6769 | P147: {=_xlfn.XLOOKUP(N147,BSFC!$B$3:$B$25,_xlfn.XLOOKUP(M147,BSFC!$C$2:$P$2,BSFC!$C$3:$P$25,,-1),,-1)} -> 541.22172 | Q147: =(O147*P147)/(60*60) -> 1.9058371 | R147: =((B148-B147)/3600)*O147 -> 0.00038266499 | S147: =R147*P147 -> 0.2071066 | T147: =S147+T146 -> 21.055425 | U147: =((R147*P147)/1000)/0.75 -> 0.00027614214 | V147: =U147+V146 -> 0.028073899
A148: =MIN('Gearing and Output'!$H$7,(SQRT((A147^2)+2*K147*1))) -> 9.2022034 | B148: =(1/A148)+B147 -> 14.500879 | C148: =0.5*'Gearing and Output'!$G$15*'Gearing and Output'!$G$16*'Gearing and Output'!$G$14*(A148)^2 -> 49.792162 | D148: ='Gearing and Output'!$G$26 -> 133.66125 | E148: ='Gearing and Output'!$C$14-C148-D148 -> 300.65362 | F148: =0.5*'Gearing and Output'!$J$27*A148^2 -> 23996.35 | G148: =A148/('Gearing and Output'!$J$35/1000) -> 31.503606 | H148: =(0.5*I148*A148^2)/1000 -> 26.747612 | I148: ='Gearing and Output'!$G$38 -> 631.72978 | J148: =E148/I148 -> 0.47592124 | K148: =I148/E148 -> 2.101188 | L148: =IF(A148<'Gearing and Output'!$H$5,1,IF(A148<'Gearing and Output'!$H$6,2,IF(A148>'Gearing and Output'!$H$6,3))) -> 1 | M148: =IF(L148=1,_xlfn.XLOOKUP(A148,'Dyno Graph'!$E$2:$E$77,'Dyno Graph'!$A$2:$A$77,,1),IF(L148=2,_xlfn.XLOOKUP(A148,'Dyno Graph'!$F$2:$F$77,'Dyno Graph'!$A$2:$A$77,,1),IF(L148=3,_xlfn.XLOOKUP(A148,'Dyno Graph'!$G$2:$G$77,'Dyno Graph'!$A$2:$A$77,,1)))) -> 7200 | N148: =IF(L148=1,_xlfn.XLOOKUP(A148,'Dyno Graph'!$E$2:$E$77,'Dyno Graph'!$D$2:$D$77,,-1),IF(L148=2,_xlfn.XLOOKUP(A148,'Dyno Graph'!$F$2:$F$77,'Dyno Graph'!$D$2:$D$77,,-1),IF(L148=3,_xlfn.XLOOKUP(A148,'Dyno Graph'!$G$2:$G$77,'Dyno Graph'!$D$2:$D$77,,-1)))) -> 16.430237 | O148: =IF(L148=1,_xlfn.XLOOKUP(A148,'Dyno Graph'!$E$2:$E$77,'Dyno Graph'!$H$2:$H$77,,-1),IF(Forces!L148=2,_xlfn.XLOOKUP(Forces!A148,'Dyno Graph'!$F$2:$F$77,'Dyno Graph'!$H$2:$H$77,,-1),IF(Forces!L148=3,_xlfn.XLOOKUP(Forces!A148,'Dyno Graph'!$G$2:$G$77,'Dyno Graph'!$H$2:$H$77,,-1)))) -> 12.205612 | P148: {=_xlfn.XLOOKUP(N148,BSFC!$B$3:$B$25,_xlfn.XLOOKUP(M148,BSFC!$C$2:$P$2,BSFC!$C$3:$P$25,,-1),,-1)} -> 530.48452 | Q148: =(O148*P148)/(60*60) -> 1.79858 | R148: =((B149-B148)/3600)*O148 -> 0.00035962335 | S148: =R148*P148 -> 0.19077462 | T148: =S148+T147 -> 21.246199 | U148: =((R148*P148)/1000)/0.75 -> 0.00025436616 | V148: =U148+V147 -> 0.028328266
A149: =MIN('Gearing and Output'!$H$7,(SQRT((A148^2)+2*K148*1))) -> 9.4277741 | B149: =(1/A149)+B148 -> 14.606948 | C149: =0.5*'Gearing and Output'!$G$15*'Gearing and Output'!$G$16*'Gearing and Output'!$G$14*(A149)^2 -> 52.263159 | D149: ='Gearing and Output'!$G$26 -> 133.66125 | E149: ='Gearing and Output'!$C$14-C149-D149 -> 298.18262 | F149: =0.5*'Gearing and Output'!$J$27*A149^2 -> 25187.198 | G149: =A149/('Gearing and Output'!$J$35/1000) -> 32.275844 | H149: =(0.5*I149*A149^2)/1000 -> 28.074995 | I149: ='Gearing and Output'!$G$38 -> 631.72978 | J149: =E149/I149 -> 0.47200976 | K149: =I149/E149 -> 2.1186003 | L149: =IF(A149<'Gearing and Output'!$H$5,1,IF(A149<'Gearing and Output'!$H$6,2,IF(A149>'Gearing and Output'!$H$6,3))) -> 1 | M149: =IF(L149=1,_xlfn.XLOOKUP(A149,'Dyno Graph'!$E$2:$E$77,'Dyno Graph'!$A$2:$A$77,,1),IF(L149=2,_xlfn.XLOOKUP(A149,'Dyno Graph'!$F$2:$F$77,'Dyno Graph'!$A$2:$A$77,,1),IF(L149=3,_xlfn.XLOOKUP(A149,'Dyno Graph'!$G$2:$G$77,'Dyno Graph'!$A$2:$A$77,,1)))) -> 7400 | N149: =IF(L149=1,_xlfn.XLOOKUP(A149,'Dyno Graph'!$E$2:$E$77,'Dyno Graph'!$D$2:$D$77,,-1),IF(L149=2,_xlfn.XLOOKUP(A149,'Dyno Graph'!$F$2:$F$77,'Dyno Graph'!$D$2:$D$77,,-1),IF(L149=3,_xlfn.XLOOKUP(A149,'Dyno Graph'!$G$2:$G$77,'Dyno Graph'!$D$2:$D$77,,-1)))) -> 15.161301 | O149: =IF(L149=1,_xlfn.XLOOKUP(A149,'Dyno Graph'!$E$2:$E$77,'Dyno Graph'!$H$2:$H$77,,-1),IF(Forces!L149=2,_xlfn.XLOOKUP(Forces!A149,'Dyno Graph'!$F$2:$F$77,'Dyno Graph'!$H$2:$H$77,,-1),IF(Forces!L149=3,_xlfn.XLOOKUP(Forces!A149,'Dyno Graph'!$G$2:$G$77,'Dyno Graph'!$H$2:$H$77,,-1)))) -> 11.580217 | P149: {=_xlfn.XLOOKUP(N149,BSFC!$B$3:$B$25,_xlfn.XLOOKUP(M149,BSFC!$C$2:$P$2,BSFC!$C$3:$P$25,,-1),,-1)} -> 482.49828 | Q149: =(O149*P149)/(60*60) -> 1.5520652 | R149: =((B150-B149)/3600)*O149 -> 0.00033334383 | S149: =R149*P149 -> 0.16083783 | T149: =S149+T148 -> 21.407037 | U149: =((R149*P149)/1000)/0.75 -> 0.00021445044 | V149: =U149+V148 -> 0.028542716
A150: =MIN('Gearing and Output'!$H$7,(SQRT((A149^2)+2*K149*1))) -> 9.6498769 | B150: =(1/A150)+B149 -> 14.710577 | C150: =0.5*'Gearing and Output'!$G$15*'Gearing and Output'!$G$16*'Gearing and Output'!$G$14*(A150)^2 -> 54.754633 | D150: ='Gearing and Output'!$G$26 -> 133.66125 | E150: ='Gearing and Output'!$C$14-C150-D150 -> 295.69115 | F150: =0.5*'Gearing and Output'!$J$27*A150^2 -> 26387.915 | G150: =A150/('Gearing and Output'!$J$35/1000) -> 33.03621 | H150: =(0.5*I150*A150^2)/1000 -> 29.413378 | I150: ='Gearing and Output'!$G$38 -> 631.72978 | J150: =E150/I150 -> 0.46806587 | K150: =I150/E150 -> 2.1364514 | L150: =IF(A150<'Gearing and Output'!$H$5,1,IF(A150<'Gearing and Output'!$H$6,2,IF(A150>'Gearing and Output'!$H$6,3))) -> 2 | M150: =IF(L150=1,_xlfn.XLOOKUP(A150,'Dyno Graph'!$E$2:$E$77,'Dyno Graph'!$A$2:$A$77,,1),IF(L150=2,_xlfn.XLOOKUP(A150,'Dyno Graph'!$F$2:$F$77,'Dyno Graph'!$A$2:$A$77,,1),IF(L150=3,_xlfn.XLOOKUP(A150,'Dyno Graph'!$G$2:$G$77,'Dyno Graph'!$A$2:$A$77,,1)))) -> 6200 | N150: =IF(L150=1,_xlfn.XLOOKUP(A150,'Dyno Graph'!$E$2:$E$77,'Dyno Graph'!$D$2:$D$77,,-1),IF(L150=2,_xlfn.XLOOKUP(A150,'Dyno Graph'!$F$2:$F$77,'Dyno Graph'!$D$2:$D$77,,-1),IF(L150=3,_xlfn.XLOOKUP(A150,'Dyno Graph'!$G$2:$G$77,'Dyno Graph'!$D$2:$D$77,,-1)))) -> 19.866704 | O150: =IF(L150=1,_xlfn.XLOOKUP(A150,'Dyno Graph'!$E$2:$E$77,'Dyno Graph'!$H$2:$H$77,,-1),IF(Forces!L150=2,_xlfn.XLOOKUP(Forces!A150,'Dyno Graph'!$F$2:$F$77,'Dyno Graph'!$H$2:$H$77,,-1),IF(Forces!L150=3,_xlfn.XLOOKUP(Forces!A150,'Dyno Graph'!$G$2:$G$77,'Dyno Graph'!$H$2:$H$77,,-1)))) -> 12.679818 | P150: {=_xlfn.XLOOKUP(N150,BSFC!$B$3:$B$25,_xlfn.XLOOKUP(M150,BSFC!$C$2:$P$2,BSFC!$C$3:$P$25,,-1),,-1)} -> 457.16662 | Q150: =(O150*P150)/(60*60) -> 1.6102194 | R150: =((B151-B150)/3600)*O150 -> 0.00035690005 | S150: =R150*P150 -> 0.16316279 | T150: =S150+T149 -> 21.5702 | U150: =((R150*P150)/1000)/0.75 -> 0.00021755038 | V150: =U150+V149 -> 0.028760266
A151: =MIN('Gearing and Output'!$H$7,(SQRT((A150^2)+2*K150*1))) -> 9.8687906 | B151: =(1/A151)+B150 -> 14.811906 | C151: =0.5*'Gearing and Output'!$G$15*'Gearing and Output'!$G$16*'Gearing and Output'!$G$14*(A151)^2 -> 57.2671 | D151: ='Gearing and Output'!$G$26 -> 133.66125 | E151: ='Gearing and Output'!$C$14-C151-D151 -> 293.17868 | F151: =0.5*'Gearing and Output'!$J$27*A151^2 -> 27598.749 | G151: =A151/('Gearing and Output'!$J$35/1000) -> 33.785657 | H151: =(0.5*I151*A151^2)/1000 -> 30.763038 | I151: ='Gearing and Output'!$G$38 -> 631.72978 | J151: =E151/I151 -> 0.46408874 | K151: =I151/E151 -> 2.1547603 | L151: =IF(A151<'Gearing and Output'!$H$5,1,IF(A151<'Gearing and Output'!$H$6,2,IF(A151>'Gearing and Output'!$H$6,3))) -> 2 | M151: =IF(L151=1,_xlfn.XLOOKUP(A151,'Dyno Graph'!$E$2:$E$77,'Dyno Graph'!$A$2:$A$77,,1),IF(L151=2,_xlfn.XLOOKUP(A151,'Dyno Graph'!$F$2:$F$77,'Dyno Graph'!$A$2:$A$77,,1),IF(L151=3,_xlfn.XLOOKUP(A151,'Dyno Graph'!$G$2:$G$77,'Dyno Graph'!$A$2:$A$77,,1)))) -> 6300 | N151: =IF(L151=1,_xlfn.XLOOKUP(A151,'Dyno Graph'!$E$2:$E$77,'Dyno Graph'!$D$2:$D$77,,-1),IF(L151=2,_xlfn.XLOOKUP(A151,'Dyno Graph'!$F$2:$F$77,'Dyno Graph'!$D$2:$D$77,,-1),IF(L151=3,_xlfn.XLOOKUP(A151,'Dyno Graph'!$G$2:$G$77,'Dyno Graph'!$D$2:$D$77,,-1)))) -> 19.742442 | O151: =IF(L151=1,_xlfn.XLOOKUP(A151,'Dyno Graph'!$E$2:$E$77,'Dyno Graph'!$H$2:$H$77,,-1),IF(Forces!L151=2,_xlfn.XLOOKUP(Forces!A151,'Dyno Graph'!$F$2:$F$77,'Dyno Graph'!$H$2:$H$77,,-1),IF(Forces!L151=3,_xlfn.XLOOKUP(Forces!A151,'Dyno Graph'!$G$2:$G$77,'Dyno Graph'!$H$2:$H$77,,-1)))) -> 12.807075 | P151: {=_xlfn.XLOOKUP(N151,BSFC!$B$3:$B$25,_xlfn.XLOOKUP(M151,BSFC!$C$2:$P$2,BSFC!$C$3:$P$25,,-1),,-1)} -> 457.16662 | Q151: =(O151*P151)/(60*60) -> 1.6263798 | R151: =((B152-B151)/3600)*O151 -> 0.00035276179 | S151: =R151*P151 -> 0.16127091 | T151: =S151+T150 -> 21.731471 | U151: =((R151*P151)/1000)/0.75 -> 0.00021502789 | V151: =U151+V150 -> 0.028975294
A152: =MIN('Gearing and Output'!$H$7,(SQRT((A151^2)+2*K151*1))) -> 10.084768 | B152: =(1/A152)+B151 -> 14.911066 | C152: =0.5*'Gearing and Output'!$G$15*'Gearing and Output'!$G$16*'Gearing and Output'!$G$14*(A152)^2 -> 59.801098 | D152: ='Gearing and Output'!$G$26 -> 133.66125 | E152: ='Gearing and Output'!$C$14-C152-D152 -> 290.64468 | F152: =0.5*'Gearing and Output'!$J$27*A152^2 -> 28819.959 | G152: =A152/('Gearing and Output'!$J$35/1000) -> 34.525053 | H152: =(0.5*I152*A152^2)/1000 -> 32.124264 | I152: ='Gearing and Output'!$G$38 -> 631.72978 | J152: =E152/I152 -> 0.46007754 | K152: =I152/E152 -> 2.1735467 | L152: =IF(A152<'Gearing and Output'!$H$5,1,IF(A152<'Gearing and Output'!$H$6,2,IF(A152>'Gearing and Output'!$H$6,3))) -> 2 | M152: =IF(L152=1,_xlfn.XLOOKUP(A152,'Dyno Graph'!$E$2:$E$77,'Dyno Graph'!$A$2:$A$77,,1),IF(L152=2,_xlfn.XLOOKUP(A152,'Dyno Graph'!$F$2:$F$77,'Dyno Graph'!$A$2:$A$77,,1),IF(L152=3,_xlfn.XLOOKUP(A152,'Dyno Graph'!$G$2:$G$77,'Dyno Graph'!$A$2:$A$77,,1)))) -> 6500 | N152: =IF(L152=1,_xlfn.XLOOKUP(A152,'Dyno Graph'!$E$2:$E$77,'Dyno Graph'!$D$2:$D$77,,-1),IF(L152=2,_xlfn.XLOOKUP(A152,'Dyno Graph'!$F$2:$F$77,'Dyno Graph'!$D$2:$D$77,,-1),IF(L152=3,_xlfn.XLOOKUP(A152,'Dyno Graph'!$G$2:$G$77,'Dyno Graph'!$D$2:$D$77,,-1)))) -> 19.933328 | O152: =IF(L152=1,_xlfn.XLOOKUP(A152,'Dyno Graph'!$E$2:$E$77,'Dyno Graph'!$H$2:$H$77,,-1),IF(Forces!L152=2,_xlfn.XLOOKUP(Forces!A152,'Dyno Graph'!$F$2:$F$77,'Dyno Graph'!$H$2:$H$77,,-1),IF(Forces!L152=3,_xlfn.XLOOKUP(Forces!A152,'Dyno Graph'!$G$2:$G$77,'Dyno Graph'!$H$2:$H$77,,-1)))) -> 13.34803 | P152: {=_xlfn.XLOOKUP(N152,BSFC!$B$3:$B$25,_xlfn.XLOOKUP(M152,BSFC!$C$2:$P$2,BSFC!$C$3:$P$25,,-1),,-1)} -> 504.47247 | Q152: =(O152*P152)/(60*60) -> 1.870476 | R152: =((B153-B152)/3600)*O152 -> 0.00036004773 | S152: =R152*P152 -> 0.18163417 | T152: =S152+T151 -> 21.913105 | U152: =((R152*P152)/1000)/0.75 -> 0.00024217889 | V152: =U152+V151 -> 0.029217473
A153: =MIN('Gearing and Output'!$H$7,(SQRT((A152^2)+2*K152*1))) -> 10.298041 | B153: =(1/A153)+B152 -> 15.008172 | C153: =0.5*'Gearing and Output'!$G$15*'Gearing and Output'!$G$16*'Gearing and Output'!$G$14*(A153)^2 -> 62.357189 | D153: ='Gearing and Output'!$G$26 -> 133.66125 | E153: ='Gearing and Output'!$C$14-C153-D153 -> 288.08859 | F153: =0.5*'Gearing and Output'!$J$27*A153^2 -> 30051.817 | G153: =A153/('Gearing and Output'!$J$35/1000) -> 35.255189 | H153: =(0.5*I153*A153^2)/1000 -> 33.497358 | I153: ='Gearing and Output'!$G$38 -> 631.72978 | J153: =E153/I153 -> 0.45603136 | K153: =I153/E153 -> 2.1928316 | L153: =IF(A153<'Gearing and Output'!$H$5,1,IF(A153<'Gearing and Output'!$H$6,2,IF(A153>'Gearing and Output'!$H$6,3))) -> 2 | M153: =IF(L153=1,_xlfn.XLOOKUP(A153,'Dyno Graph'!$E$2:$E$77,'Dyno Graph'!$A$2:$A$77,,1),IF(L153=2,_xlfn.XLOOKUP(A153,'Dyno Graph'!$F$2:$F$77,'Dyno Graph'!$A$2:$A$77,,1),IF(L153=3,_xlfn.XLOOKUP(A153,'Dyno Graph'!$G$2:$G$77,'Dyno Graph'!$A$2:$A$77,,1)))) -> 6600 | N153: =IF(L153=1,_xlfn.XLOOKUP(A153,'Dyno Graph'!$E$2:$E$77,'Dyno Graph'!$D$2:$D$77,,-1),IF(L153=2,_xlfn.XLOOKUP(A153,'Dyno Graph'!$F$2:$F$77,'Dyno Graph'!$D$2:$D$77,,-1),IF(L153=3,_xlfn.XLOOKUP(A153,'Dyno Graph'!$G$2:$G$77,'Dyno Graph'!$D$2:$D$77,,-1)))) -> 19.736308 | O153: =IF(L153=1,_xlfn.XLOOKUP(A153,'Dyno Graph'!$E$2:$E$77,'Dyno Graph'!$H$2:$H$77,,-1),IF(Forces!L153=2,_xlfn.XLOOKUP(Forces!A153,'Dyno Graph'!$F$2:$F$77,'Dyno Graph'!$H$2:$H$77,,-1),IF(Forces!L153=3,_xlfn.XLOOKUP(Forces!A153,'Dyno Graph'!$G$2:$G$77,'Dyno Graph'!$H$2:$H$77,,-1)))) -> 13.4226 | P153: {=_xlfn.XLOOKUP(N153,BSFC!$B$3:$B$25,_xlfn.XLOOKUP(M153,BSFC!$C$2:$P$2,BSFC!$C$3:$P$25,,-1),,-1)} -> 504.47247 | Q153: =(O153*P153)/(60*60) -> 1.8809256 | R153: =((B154-B153)/3600)*O153 -> 0.0003547972 | S153: =R153*P153 -> 0.17898542 | T153: =S153+T152 -> 22.09209 | U153: =((R153*P153)/1000)/0.75 -> 0.00023864722 | V153: =U153+V152 -> 0.02945612
A154: =MIN('Gearing and Output'!$H$7,(SQRT((A153^2)+2*K153*1))) -> 10.50882 | B154: =(1/A154)+B153 -> 15.10333 | C154: =0.5*'Gearing and Output'!$G$15*'Gearing and Output'!$G$16*'Gearing and Output'!$G$14*(A154)^2 -> 64.935959 | D154: ='Gearing and Output'!$G$26 -> 133.66125 | E154: ='Gearing and Output'!$C$14-C154-D154 -> 285.50982 | F154: =0.5*'Gearing and Output'!$J$27*A154^2 -> 31294.604 | G154: =A154/('Gearing and Output'!$J$35/1000) -> 35.97679 | H154: =(0.5*I154*A154^2)/1000 -> 34.882635 | I154: ='Gearing and Output'!$G$38 -> 631.72978 | J154: =E154/I154 -> 0.45194928 | K154: =I154/E154 -> 2.2126376 | L154: =IF(A154<'Gearing and Output'!$H$5,1,IF(A154<'Gearing and Output'!$H$6,2,IF(A154>'Gearing and Output'!$H$6,3))) -> 2 | M154: =IF(L154=1,_xlfn.XLOOKUP(A154,'Dyno Graph'!$E$2:$E$77,'Dyno Graph'!$A$2:$A$77,,1),IF(L154=2,_xlfn.XLOOKUP(A154,'Dyno Graph'!$F$2:$F$77,'Dyno Graph'!$A$2:$A$77,,1),IF(L154=3,_xlfn.XLOOKUP(A154,'Dyno Graph'!$G$2:$G$77,'Dyno Graph'!$A$2:$A$77,,1)))) -> 6700 | N154: =IF(L154=1,_xlfn.XLOOKUP(A154,'Dyno Graph'!$E$2:$E$77,'Dyno Graph'!$D$2:$D$77,,-1),IF(L154=2,_xlfn.XLOOKUP(A154,'Dyno Graph'!$F$2:$F$77,'Dyno Graph'!$D$2:$D$77,,-1),IF(L154=3,_xlfn.XLOOKUP(A154,'Dyno Graph'!$G$2:$G$77,'Dyno Graph'!$D$2:$D$77,,-1)))) -> 19.545258 | O154: =IF(L154=1,_xlfn.XLOOKUP(A154,'Dyno Graph'!$E$2:$E$77,'Dyno Graph'!$H$2:$H$77,,-1),IF(Forces!L154=2,_xlfn.XLOOKUP(Forces!A154,'Dyno Graph'!$F$2:$F$77,'Dyno Graph'!$H$2:$H$77,,-1),IF(Forces!L154=3,_xlfn.XLOOKUP(Forces!A154,'Dyno Graph'!$G$2:$G$77,'Dyno Graph'!$H$2:$H$77,,-1)))) -> 13.49717 | P154: {=_xlfn.XLOOKUP(N154,BSFC!$B$3:$B$25,_xlfn.XLOOKUP(M154,BSFC!$C$2:$P$2,BSFC!$C$3:$P$25,,-1),,-1)} -> 504.47247 | Q154: =(O154*P154)/(60*60) -> 1.8913752 | R154: =((B155-B154)/3600)*O154 -> 0.00034982812 | S154: =R154*P154 -> 0.17647866 | T154: =S154+T153 -> 22.268569 | U154: =((R154*P154)/1000)/0.75 -> 0.00023530487 | V154: =U154+V153 -> 0.029691425
... A401: =MIN('Gearing and Output'!$H$7,(SQRT((A400^2)+2*K400*1))) -> 13.752389 | B401: =(1/A401)+B400 -> 33.217807 | C401: =0.5*'Gearing and Output'!$G$15*'Gearing and Output'!$G$16*'Gearing and Output'!$G$14*(A401)^2 -> 111.20738 | D401: ='Gearing and Output'!$G$26 -> 133.66125 | E401: ='Gearing and Output'!$C$14-C401-D401 -> 239.2384 | F401: =0.5*'Gearing and Output'!$J$27*A401^2 -> 53594.202 | G401: =A401/('Gearing and Output'!$J$35/1000) -> 47.081098 | H401: =(0.5*I401*A401^2)/1000 -> 59.738956 | I401: ='Gearing and Output'!$G$38 -> 631.72978 | J401: =E401/I401 -> 0.3787037 | K401: =I401/E401 -> 2.6405868 | L401: =IF(A401<'Gearing and Output'!$H$5,1,IF(A401<'Gearing and Output'!$H$6,2,IF(A401>'Gearing and Output'!$H$6,3))) -> 3 | M401: =IF(L401=1,_xlfn.XLOOKUP(A401,'Dyno Graph'!$E$2:$E$77,'Dyno Graph'!$A$2:$A$77,,1),IF(L401=2,_xlfn.XLOOKUP(A401,'Dyno Graph'!$F$2:$F$77,'Dyno Graph'!$A$2:$A$77,,1),IF(L401=3,_xlfn.XLOOKUP(A401,'Dyno Graph'!$G$2:$G$77,'Dyno Graph'!$A$2:$A$77,,1)))) -> 7500 | N401: =IF(L401=1,_xlfn.XLOOKUP(A401,'Dyno Graph'!$E$2:$E$77,'Dyno Graph'!$D$2:$D$77,,-1),IF(L401=2,_xlfn.XLOOKUP(A401,'Dyno Graph'!$F$2:$F$77,'Dyno Graph'!$D$2:$D$77,,-1),IF(L401=3,_xlfn.XLOOKUP(A401,'Dyno Graph'!$G$2:$G$77,'Dyno Graph'!$D$2:$D$77,,-1)))) -> 14.254 | O401: =IF(L401=1,_xlfn.XLOOKUP(A401,'Dyno Graph'!$E$2:$E$77,'Dyno Graph'!$H$2:$H$77,,-1),IF(Forces!L401=2,_xlfn.XLOOKUP(Forces!A401,'Dyno Graph'!$F$2:$F$77,'Dyno Graph'!$H$2:$H$77,,-1),IF(Forces!L401=3,_xlfn.XLOOKUP(Forces!A401,'Dyno Graph'!$G$2:$G$77,'Dyno Graph'!$H$2:$H$77,,-1)))) -> 11.1855 | P401: {=_xlfn.XLOOKUP(N401,BSFC!$B$3:$B$25,_xlfn.XLOOKUP(M401,BSFC!$C$2:$P$2,BSFC!$C$3:$P$25,,-1),,-1)} -> 475.44295 | Q401: =(O401*P401)/(60*60) -> 1.4772409 | R401: =((B402-B401)/3600)*O401 -> 0.00022593045 | S401: =R401*P401 -> 0.10741704 | T401: =S401+T400 -> 49.371628 | U401: =((R401*P401)/1000)/0.75 -> 0.00014322272 | V401: =U401+V400 -> 0.065828838
A402: =MIN('Gearing and Output'!$H$7,(SQRT((A401^2)+2*K401*1))) -> 13.752389 | B402: =(1/A402)+B401 -> 33.290522 | C402: =0.5*'Gearing and Output'!$G$15*'Gearing and Output'!$G$16*'Gearing and Output'!$G$14*(A402)^2 -> 111.20738 | D402: ='Gearing and Output'!$G$27 -> 213.858 | E402: ='Gearing and Output'!$C$14-C402-D402 -> 159.04165 | F402: =0.5*'Gearing and Output'!$J$27*A402^2 -> 53594.202 | G402: =A402/('Gearing and Output'!$J$35/1000) -> 47.081098 | H402: =(0.5*I402*A402^2)/1000 -> 59.738956 | I402: ='Gearing and Output'!$G$38 -> 631.72978 | J402: =E402/I402 -> 0.25175583 | K402: =I402/E402 -> 3.9721027 | L402: =IF(A402<'Gearing and Output'!$H$5,1,IF(A402<'Gearing and Output'!$H$6,2,IF(A402>'Gearing and Output'!$H$6,3))) -> 3 | M402: =IF(L402=1,_xlfn.XLOOKUP(A402,'Dyno Graph'!$E$2:$E$77,'Dyno Graph'!$A$2:$A$77,,1),IF(L402=2,_xlfn.XLOOKUP(A402,'Dyno Graph'!$F$2:$F$77,'Dyno Graph'!$A$2:$A$77,,1),IF(L402=3,_xlfn.XLOOKUP(A402,'Dyno Graph'!$G$2:$G$77,'Dyno Graph'!$A$2:$A$77,,1)))) -> 7500 | N402: =IF(L402=1,_xlfn.XLOOKUP(A402,'Dyno Graph'!$E$2:$E$77,'Dyno Graph'!$D$2:$D$77,,-1),IF(L402=2,_xlfn.XLOOKUP(A402,'Dyno Graph'!$F$2:$F$77,'Dyno Graph'!$D$2:$D$77,,-1),IF(L402=3,_xlfn.XLOOKUP(A402,'Dyno Graph'!$G$2:$G$77,'Dyno Graph'!$D$2:$D$77,,-1)))) -> 14.254 | O402: =IF(L402=1,_xlfn.XLOOKUP(A402,'Dyno Graph'!$E$2:$E$77,'Dyno Graph'!$H$2:$H$77,,-1),IF(Forces!L402=2,_xlfn.XLOOKUP(Forces!A402,'Dyno Graph'!$F$2:$F$77,'Dyno Graph'!$H$2:$H$77,,-1),IF(Forces!L402=3,_xlfn.XLOOKUP(Forces!A402,'Dyno Graph'!$G$2:$G$77,'Dyno Graph'!$H$2:$H$77,,-1)))) -> 11.1855 | P402: {=_xlfn.XLOOKUP(N402,BSFC!$B$3:$B$25,_xlfn.XLOOKUP(M402,BSFC!$C$2:$P$2,BSFC!$C$3:$P$25,,-1),,-1)} -> 475.44295 | Q402: =(O402*P402)/(60*60) -> 1.4772409 | R402: =((B403-B402)/3600)*O402 -> 0.00022593045 | S402: =R402*P402 -> 0.10741704 | T402: =S402+T401 -> 49.479045 | U402: =((R402*P402)/1000)/0.75 -> 0.00014322272 | V402: =U402+V401 -> 0.06597206
A403: =MIN('Gearing and Output'!$H$7,(SQRT((A402^2)+2*K402*1))) -> 13.752389 | B403: =(1/A403)+B402 -> 33.363236 | C403: =0.5*'Gearing and Output'!$G$15*'Gearing and Output'!$G$16*'Gearing and Output'!$G$14*(A403)^2 -> 111.20738 | D403: ='Gearing and Output'!$G$27 -> 213.858 | E403: ='Gearing and Output'!$C$14-C403-D403 -> 159.04165 | F403: =0.5*'Gearing and Output'!$J$27*A403^2 -> 53594.202 | G403: =A403/('Gearing and Output'!$J$35/1000) -> 47.081098 | H403: =(0.5*I403*A403^2)/1000 -> 59.738956 | I403: ='Gearing and Output'!$G$38 -> 631.72978 | J403: =E403/I403 -> 0.25175583 | K403: =I403/E403 -> 3.9721027 | L403: =IF(A403<'Gearing and Output'!$H$5,1,IF(A403<'Gearing and Output'!$H$6,2,IF(A403>'Gearing and Output'!$H$6,3))) -> 3 | M403: =IF(L403=1,_xlfn.XLOOKUP(A403,'Dyno Graph'!$E$2:$E$77,'Dyno Graph'!$A$2:$A$77,,1),IF(L403=2,_xlfn.XLOOKUP(A403,'Dyno Graph'!$F$2:$F$77,'Dyno Graph'!$A$2:$A$77,,1),IF(L403=3,_xlfn.XLOOKUP(A403,'Dyno Graph'!$G$2:$G$77,'Dyno Graph'!$A$2:$A$77,,1)))) -> 7500 | N403: =IF(L403=1,_xlfn.XLOOKUP(A403,'Dyno Graph'!$E$2:$E$77,'Dyno Graph'!$D$2:$D$77,,-1),IF(L403=2,_xlfn.XLOOKUP(A403,'Dyno Graph'!$F$2:$F$77,'Dyno Graph'!$D$2:$D$77,,-1),IF(L403=3,_xlfn.XLOOKUP(A403,'Dyno Graph'!$G$2:$G$77,'Dyno Graph'!$D$2:$D$77,,-1)))) -> 14.254 | O403: =IF(L403=1,_xlfn.XLOOKUP(A403,'Dyno Graph'!$E$2:$E$77,'Dyno Graph'!$H$2:$H$77,,-1),IF(Forces!L403=2,_xlfn.XLOOKUP(Forces!A403,'Dyno Graph'!$F$2:$F$77,'Dyno Graph'!$H$2:$H$77,,-1),IF(Forces!L403=3,_xlfn.XLOOKUP(Forces!A403,'Dyno Graph'!$G$2:$G$77,'Dyno Graph'!$H$2:$H$77,,-1)))) -> 11.1855 | P403: {=_xlfn.XLOOKUP(N403,BSFC!$B$3:$B$25,_xlfn.XLOOKUP(M403,BSFC!$C$2:$P$2,BSFC!$C$3:$P$25,,-1),,-1)} -> 475.44295 | Q403: =(O403*P403)/(60*60) -> 1.4772409 | R403: =((B404-B403)/3600)*O403 -> 0.00022593045 | S403: =R403*P403 -> 0.10741704 | T403: =S403+T402 -> 49.586462 | U403: =((R403*P403)/1000)/0.75 -> 0.00014322272 | V403: =U403+V402 -> 0.066115283
A404: =MIN('Gearing and Output'!$H$7,(SQRT((A403^2)+2*K403*1))) -> 13.752389 | B404: =(1/A404)+B403 -> 33.435951 | C404: =0.5*'Gearing and Output'!$G$15*'Gearing and Output'!$G$16*'Gearing and Output'!$G$14*(A404)^2 -> 111.20738 | D404: ='Gearing and Output'!$G$27 -> 213.858 | E404: ='Gearing and Output'!$C$14-C404-D404 -> 159.04165 | F404: =0.5*'Gearing and Output'!$J$27*A404^2 -> 53594.202 | G404: =A404/('Gearing and Output'!$J$35/1000) -> 47.081098 | H404: =(0.5*I404*A404^2)/1000 -> 59.738956 | I404: ='Gearing and Output'!$G$38 -> 631.72978 | J404: =E404/I404 -> 0.25175583 | K404: =I404/E404 -> 3.9721027 | L404: =IF(A404<'Gearing and Output'!$H$5,1,IF(A404<'Gearing and Output'!$H$6,2,IF(A404>'Gearing and Output'!$H$6,3))) -> 3 | M404: =IF(L404=1,_xlfn.XLOOKUP(A404,'Dyno Graph'!$E$2:$E$77,'Dyno Graph'!$A$2:$A$77,,1),IF(L404=2,_xlfn.XLOOKUP(A404,'Dyno Graph'!$F$2:$F$77,'Dyno Graph'!$A$2:$A$77,,1),IF(L404=3,_xlfn.XLOOKUP(A404,'Dyno Graph'!$G$2:$G$77,'Dyno Graph'!$A$2:$A$77,,1)))) -> 7500 | N404: =IF(L404=1,_xlfn.XLOOKUP(A404,'Dyno Graph'!$E$2:$E$77,'Dyno Graph'!$D$2:$D$77,,-1),IF(L404=2,_xlfn.XLOOKUP(A404,'Dyno Graph'!$F$2:$F$77,'Dyno Graph'!$D$2:$D$77,,-1),IF(L404=3,_xlfn.XLOOKUP(A404,'Dyno Graph'!$G$2:$G$77,'Dyno Graph'!$D$2:$D$77,,-1)))) -> 14.254 | O404: =IF(L404=1,_xlfn.XLOOKUP(A404,'Dyno Graph'!$E$2:$E$77,'Dyno Graph'!$H$2:$H$77,,-1),IF(Forces!L404=2,_xlfn.XLOOKUP(Forces!A404,'Dyno Graph'!$F$2:$F$77,'Dyno Graph'!$H$2:$H$77,,-1),IF(Forces!L404=3,_xlfn.XLOOKUP(Forces!A404,'Dyno Graph'!$G$2:$G$77,'Dyno Graph'!$H$2:$H$77,,-1)))) -> 11.1855 | P404: {=_xlfn.XLOOKUP(N404,BSFC!$B$3:$B$25,_xlfn.XLOOKUP(M404,BSFC!$C$2:$P$2,BSFC!$C$3:$P$25,,-1),,-1)} -> 475.44295 | Q404: =(O404*P404)/(60*60) -> 1.4772409 | R404: =((B405-B404)/3600)*O404 -> 0.00022593045 | S404: =R404*P404 -> 0.10741704 | T404: =S404+T403 -> 49.693879 | U404: =((R404*P404)/1000)/0.75 -> 0.00014322272 | V404: =U404+V403 -> 0.066258506
A405: =MIN('Gearing and Output'!$H$7,(SQRT((A404^2)+2*K404*1))) -> 13.752389 | B405: =(1/A405)+B404 -> 33.508666 | C405: =0.5*'Gearing and Output'!$G$15*'Gearing and Output'!$G$16*'Gearing and Output'!$G$14*(A405)^2 -> 111.20738 | D405: ='Gearing and Output'!$G$27 -> 213.858 | E405: ='Gearing and Output'!$C$14-C405-D405 -> 159.04165 | F405: =0.5*'Gearing and Output'!$J$27*A405^2 -> 53594.202 | G405: =A405/('Gearing and Output'!$J$35/1000) -> 47.081098 | H405: =(0.5*I405*A405^2)/1000 -> 59.738956 | I405: ='Gearing and Output'!$G$38 -> 631.72978 | J405: =E405/I405 -> 0.25175583 | K405: =I405/E405 -> 3.9721027 | L405: =IF(A405<'Gearing and Output'!$H$5,1,IF(A405<'Gearing and Output'!$H$6,2,IF(A405>'Gearing and Output'!$H$6,3))) -> 3 | M405: =IF(L405=1,_xlfn.XLOOKUP(A405,'Dyno Graph'!$E$2:$E$77,'Dyno Graph'!$A$2:$A$77,,1),IF(L405=2,_xlfn.XLOOKUP(A405,'Dyno Graph'!$F$2:$F$77,'Dyno Graph'!$A$2:$A$77,,1),IF(L405=3,_xlfn.XLOOKUP(A405,'Dyno Graph'!$G$2:$G$77,'Dyno Graph'!$A$2:$A$77,,1)))) -> 7500 | N405: =IF(L405=1,_xlfn.XLOOKUP(A405,'Dyno Graph'!$E$2:$E$77,'Dyno Graph'!$D$2:$D$77,,-1),IF(L405=2,_xlfn.XLOOKUP(A405,'Dyno Graph'!$F$2:$F$77,'Dyno Graph'!$D$2:$D$77,,-1),IF(L405=3,_xlfn.XLOOKUP(A405,'Dyno Graph'!$G$2:$G$77,'Dyno Graph'!$D$2:$D$77,,-1)))) -> 14.254 | O405: =IF(L405=1,_xlfn.XLOOKUP(A405,'Dyno Graph'!$E$2:$E$77,'Dyno Graph'!$H$2:$H$77,,-1),IF(Forces!L405=2,_xlfn.XLOOKUP(Forces!A405,'Dyno Graph'!$F$2:$F$77,'Dyno Graph'!$H$2:$H$77,,-1),IF(Forces!L405=3,_xlfn.XLOOKUP(Forces!A405,'Dyno Graph'!$G$2:$G$77,'Dyno Graph'!$H$2:$H$77,,-1)))) -> 11.1855 | P405: {=_xlfn.XLOOKUP(N405,BSFC!$B$3:$B$25,_xlfn.XLOOKUP(M405,BSFC!$C$2:$P$2,BSFC!$C$3:$P$25,,-1),,-1)} -> 475.44295 | Q405: =(O405*P405)/(60*60) -> 1.4772409 | R405: =((B406-B405)/3600)*O405 -> 0.00022593045 | S405: =R405*P405 -> 0.10741704 | T405: =S405+T404 -> 49.801296 | U405: =((R405*P405)/1000)/0.75 -> 0.00014322272 | V405: =U405+V404 -> 0.066401729
A406: =MIN('Gearing and Output'!$H$7,(SQRT((A405^2)+2*K405*1))) -> 13.752389 | B406: =(1/A406)+B405 -> 33.58138 | C406: =0.5*'Gearing and Output'!$G$15*'Gearing and Output'!$G$16*'Gearing and Output'!$G$14*(A406)^2 -> 111.20738 | D406: ='Gearing and Output'!$G$27 -> 213.858 | E406: ='Gearing and Output'!$C$14-C406-D406 -> 159.04165 | F406: =0.5*'Gearing and Output'!$J$27*A406^2 -> 53594.202 | G406: =A406/('Gearing and Output'!$J$35/1000) -> 47.081098 | H406: =(0.5*I406*A406^2)/1000 -> 59.738956 | I406: ='Gearing and Output'!$G$38 -> 631.72978 | J406: =E406/I406 -> 0.25175583 | K406: =I406/E406 -> 3.9721027 | L406: =IF(A406<'Gearing and Output'!$H$5,1,IF(A406<'Gearing and Output'!$H$6,2,IF(A406>'Gearing and Output'!$H$6,3))) -> 3 | M406: =IF(L406=1,_xlfn.XLOOKUP(A406,'Dyno Graph'!$E$2:$E$77,'Dyno Graph'!$A$2:$A$77,,1),IF(L406=2,_xlfn.XLOOKUP(A406,'Dyno Graph'!$F$2:$F$77,'Dyno Graph'!$A$2:$A$77,,1),IF(L406=3,_xlfn.XLOOKUP(A406,'Dyno Graph'!$G$2:$G$77,'Dyno Graph'!$A$2:$A$77,,1)))) -> 7500 | N406: =IF(L406=1,_xlfn.XLOOKUP(A406,'Dyno Graph'!$E$2:$E$77,'Dyno Graph'!$D$2:$D$77,,-1),IF(L406=2,_xlfn.XLOOKUP(A406,'Dyno Graph'!$F$2:$F$77,'Dyno Graph'!$D$2:$D$77,,-1),IF(L406=3,_xlfn.XLOOKUP(A406,'Dyno Graph'!$G$2:$G$77,'Dyno Graph'!$D$2:$D$77,,-1)))) -> 14.254 | O406: =IF(L406=1,_xlfn.XLOOKUP(A406,'Dyno Graph'!$E$2:$E$77,'Dyno Graph'!$H$2:$H$77,,-1),IF(Forces!L406=2,_xlfn.XLOOKUP(Forces!A406,'Dyno Graph'!$F$2:$F$77,'Dyno Graph'!$H$2:$H$77,,-1),IF(Forces!L406=3,_xlfn.XLOOKUP(Forces!A406,'Dyno Graph'!$G$2:$G$77,'Dyno Graph'!$H$2:$H$77,,-1)))) -> 11.1855 | P406: {=_xlfn.XLOOKUP(N406,BSFC!$B$3:$B$25,_xlfn.XLOOKUP(M406,BSFC!$C$2:$P$2,BSFC!$C$3:$P$25,,-1),,-1)} -> 475.44295 | Q406: =(O406*P406)/(60*60) -> 1.4772409 | R406: =((B407-B406)/3600)*O406 -> 0.00022593045 | S406: =R406*P406 -> 0.10741704 | T406: =S406+T405 -> 49.908713 | U406: =((R406*P406)/1000)/0.75 -> 0.00014322272 | V406: =U406+V405 -> 0.066544951
A407: =MIN('Gearing and Output'!$H$7,(SQRT((A406^2)+2*K406*1))) -> 13.752389 | B407: =(1/A407)+B406 -> 33.654095 | C407: =0.5*'Gearing and Output'!$G$15*'Gearing and Output'!$G$16*'Gearing and Output'!$G$14*(A407)^2 -> 111.20738 | D407: ='Gearing and Output'!$G$27 -> 213.858 | E407: ='Gearing and Output'!$C$14-C407-D407 -> 159.04165 | F407: =0.5*'Gearing and Output'!$J$27*A407^2 -> 53594.202 | G407: =A407/('Gearing and Output'!$J$35/1000) -> 47.081098 | H407: =(0.5*I407*A407^2)/1000 -> 59.738956 | I407: ='Gearing and Output'!$G$38 -> 631.72978 | J407: =E407/I407 -> 0.25175583 | K407: =I407/E407 -> 3.9721027 | L407: =IF(A407<'Gearing and Output'!$H$5,1,IF(A407<'Gearing and Output'!$H$6,2,IF(A407>'Gearing and Output'!$H$6,3))) -> 3 | M407: =IF(L407=1,_xlfn.XLOOKUP(A407,'Dyno Graph'!$E$2:$E$77,'Dyno Graph'!$A$2:$A$77,,1),IF(L407=2,_xlfn.XLOOKUP(A407,'Dyno Graph'!$F$2:$F$77,'Dyno Graph'!$A$2:$A$77,,1),IF(L407=3,_xlfn.XLOOKUP(A407,'Dyno Graph'!$G$2:$G$77,'Dyno Graph'!$A$2:$A$77,,1)))) -> 7500 | N407: =IF(L407=1,_xlfn.XLOOKUP(A407,'Dyno Graph'!$E$2:$E$77,'Dyno Graph'!$D$2:$D$77,,-1),IF(L407=2,_xlfn.XLOOKUP(A407,'Dyno Graph'!$F$2:$F$77,'Dyno Graph'!$D$2:$D$77,,-1),IF(L407=3,_xlfn.XLOOKUP(A407,'Dyno Graph'!$G$2:$G$77,'Dyno Graph'!$D$2:$D$77,,-1)))) -> 14.254 | O407: =IF(L407=1,_xlfn.XLOOKUP(A407,'Dyno Graph'!$E$2:$E$77,'Dyno Graph'!$H$2:$H$77,,-1),IF(Forces!L407=2,_xlfn.XLOOKUP(Forces!A407,'Dyno Graph'!$F$2:$F$77,'Dyno Graph'!$H$2:$H$77,,-1),IF(Forces!L407=3,_xlfn.XLOOKUP(Forces!A407,'Dyno Graph'!$G$2:$G$77,'Dyno Graph'!$H$2:$H$77,,-1)))) -> 11.1855 | P407: {=_xlfn.XLOOKUP(N407,BSFC!$B$3:$B$25,_xlfn.XLOOKUP(M407,BSFC!$C$2:$P$2,BSFC!$C$3:$P$25,,-1),,-1)} -> 475.44295 | Q407: =(O407*P407)/(60*60) -> 1.4772409 | R407: =((B408-B407)/3600)*O407 -> 0.00022593045 | S407: =R407*P407 -> 0.10741704 | T407: =S407+T406 -> 50.016131 | U407: =((R407*P407)/1000)/0.75 -> 0.00014322272 | V407: =U407+V406 -> 0.066688174
A408: =MIN('Gearing and Output'!$H$7,(SQRT((A407^2)+2*K407*1))) -> 13.752389 | B408: =(1/A408)+B407 -> 33.726809 | C408: =0.5*'Gearing and Output'!$G$15*'Gearing and Output'!$G$16*'Gearing and Output'!$G$14*(A408)^2 -> 111.20738 | D408: ='Gearing and Output'!$G$27 -> 213.858 | E408: ='Gearing and Output'!$C$14-C408-D408 -> 159.04165 | F408: =0.5*'Gearing and Output'!$J$27*A408^2 -> 53594.202 | G408: =A408/('Gearing and Output'!$J$35/1000) -> 47.081098 | H408: =(0.5*I408*A408^2)/1000 -> 59.738956 | I408: ='Gearing and Output'!$G$38 -> 631.72978 | J408: =E408/I408 -> 0.25175583 | K408: =I408/E408 -> 3.9721027 | L408: =IF(A408<'Gearing and Output'!$H$5,1,IF(A408<'Gearing and Output'!$H$6,2,IF(A408>'Gearing and Output'!$H$6,3))) -> 3 | M408: =IF(L408=1,_xlfn.XLOOKUP(A408,'Dyno Graph'!$E$2:$E$77,'Dyno Graph'!$A$2:$A$77,,1),IF(L408=2,_xlfn.XLOOKUP(A408,'Dyno Graph'!$F$2:$F$77,'Dyno Graph'!$A$2:$A$77,,1),IF(L408=3,_xlfn.XLOOKUP(A408,'Dyno Graph'!$G$2:$G$77,'Dyno Graph'!$A$2:$A$77,,1)))) -> 7500 | N408: =IF(L408=1,_xlfn.XLOOKUP(A408,'Dyno Graph'!$E$2:$E$77,'Dyno Graph'!$D$2:$D$77,,-1),IF(L408=2,_xlfn.XLOOKUP(A408,'Dyno Graph'!$F$2:$F$77,'Dyno Graph'!$D$2:$D$77,,-1),IF(L408=3,_xlfn.XLOOKUP(A408,'Dyno Graph'!$G$2:$G$77,'Dyno Graph'!$D$2:$D$77,,-1)))) -> 14.254 | O408: =IF(L408=1,_xlfn.XLOOKUP(A408,'Dyno Graph'!$E$2:$E$77,'Dyno Graph'!$H$2:$H$77,,-1),IF(Forces!L408=2,_xlfn.XLOOKUP(Forces!A408,'Dyno Graph'!$F$2:$F$77,'Dyno Graph'!$H$2:$H$77,,-1),IF(Forces!L408=3,_xlfn.XLOOKUP(Forces!A408,'Dyno Graph'!$G$2:$G$77,'Dyno Graph'!$H$2:$H$77,,-1)))) -> 11.1855 | P408: {=_xlfn.XLOOKUP(N408,BSFC!$B$3:$B$25,_xlfn.XLOOKUP(M408,BSFC!$C$2:$P$2,BSFC!$C$3:$P$25,,-1),,-1)} -> 475.44295 | Q408: =(O408*P408)/(60*60) -> 1.4772409 | R408: =((B409-B408)/3600)*O408 -> 0.00022593045 | S408: =R408*P408 -> 0.10741704 | T408: =S408+T407 -> 50.123548 | U408: =((R408*P408)/1000)/0.75 -> 0.00014322272 | V408: =U408+V407 -> 0.066831397
A409: =MIN('Gearing and Output'!$H$7,(SQRT((A408^2)+2*K408*1))) -> 13.752389 | B409: =(1/A409)+B408 -> 33.799524 | C409: =0.5*'Gearing and Output'!$G$15*'Gearing and Output'!$G$16*'Gearing and Output'!$G$14*(A409)^2 -> 111.20738 | D409: ='Gearing and Output'!$G$27 -> 213.858 | E409: ='Gearing and Output'!$C$14-C409-D409 -> 159.04165 | F409: =0.5*'Gearing and Output'!$J$27*A409^2 -> 53594.202 | G409: =A409/('Gearing and Output'!$J$35/1000) -> 47.081098 | H409: =(0.5*I409*A409^2)/1000 -> 59.738956 | I409: ='Gearing and Output'!$G$38 -> 631.72978 | J409: =E409/I409 -> 0.25175583 | K409: =I409/E409 -> 3.9721027 | L409: =IF(A409<'Gearing and Output'!$H$5,1,IF(A409<'Gearing and Output'!$H$6,2,IF(A409>'Gearing and Output'!$H$6,3))) -> 3 | M409: =IF(L409=1,_xlfn.XLOOKUP(A409,'Dyno Graph'!$E$2:$E$77,'Dyno Graph'!$A$2:$A$77,,1),IF(L409=2,_xlfn.XLOOKUP(A409,'Dyno Graph'!$F$2:$F$77,'Dyno Graph'!$A$2:$A$77,,1),IF(L409=3,_xlfn.XLOOKUP(A409,'Dyno Graph'!$G$2:$G$77,'Dyno Graph'!$A$2:$A$77,,1)))) -> 7500 | N409: =IF(L409=1,_xlfn.XLOOKUP(A409,'Dyno Graph'!$E$2:$E$77,'Dyno Graph'!$D$2:$D$77,,-1),IF(L409=2,_xlfn.XLOOKUP(A409,'Dyno Graph'!$F$2:$F$77,'Dyno Graph'!$D$2:$D$77,,-1),IF(L409=3,_xlfn.XLOOKUP(A409,'Dyno Graph'!$G$2:$G$77,'Dyno Graph'!$D$2:$D$77,,-1)))) -> 14.254 | O409: =IF(L409=1,_xlfn.XLOOKUP(A409,'Dyno Graph'!$E$2:$E$77,'Dyno Graph'!$H$2:$H$77,,-1),IF(Forces!L409=2,_xlfn.XLOOKUP(Forces!A409,'Dyno Graph'!$F$2:$F$77,'Dyno Graph'!$H$2:$H$77,,-1),IF(Forces!L409=3,_xlfn.XLOOKUP(Forces!A409,'Dyno Graph'!$G$2:$G$77,'Dyno Graph'!$H$2:$H$77,,-1)))) -> 11.1855 | P409: {=_xlfn.XLOOKUP(N409,BSFC!$B$3:$B$25,_xlfn.XLOOKUP(M409,BSFC!$C$2:$P$2,BSFC!$C$3:$P$25,,-1),,-1)} -> 475.44295 | Q409: =(O409*P409)/(60*60) -> 1.4772409 | R409: =((B410-B409)/3600)*O409 -> 0.00022593045 | S409: =R409*P409 -> 0.10741704 | T409: =S409+T408 -> 50.230965 | U409: =((R409*P409)/1000)/0.75 -> 0.00014322272 | V409: =U409+V408 -> 0.066974619
A410: =MIN('Gearing and Output'!$H$7,(SQRT((A409^2)+2*K409*1))) -> 13.752389 | B410: =(1/A410)+B409 -> 33.872239 | C410: =0.5*'Gearing and Output'!$G$15*'Gearing and Output'!$G$16*'Gearing and Output'!$G$14*(A410)^2 -> 111.20738 | D410: ='Gearing and Output'!$G$27 -> 213.858 | E410: ='Gearing and Output'!$C$14-C410-D410 -> 159.04165 | F410: =0.5*'Gearing and Output'!$J$27*A410^2 -> 53594.202 | G410: =A410/('Gearing and Output'!$J$35/1000) -> 47.081098 | H410: =(0.5*I410*A410^2)/1000 -> 59.738956 | I410: ='Gearing and Output'!$G$38 -> 631.72978 | J410: =E410/I410 -> 0.25175583 | K410: =I410/E410 -> 3.9721027 | L410: =IF(A410<'Gearing and Output'!$H$5,1,IF(A410<'Gearing and Output'!$H$6,2,IF(A410>'Gearing and Output'!$H$6,3))) -> 3 | M410: =IF(L410=1,_xlfn.XLOOKUP(A410,'Dyno Graph'!$E$2:$E$77,'Dyno Graph'!$A$2:$A$77,,1),IF(L410=2,_xlfn.XLOOKUP(A410,'Dyno Graph'!$F$2:$F$77,'Dyno Graph'!$A$2:$A$77,,1),IF(L410=3,_xlfn.XLOOKUP(A410,'Dyno Graph'!$G$2:$G$77,'Dyno Graph'!$A$2:$A$77,,1)))) -> 7500 | N410: =IF(L410=1,_xlfn.XLOOKUP(A410,'Dyno Graph'!$E$2:$E$77,'Dyno Graph'!$D$2:$D$77,,-1),IF(L410=2,_xlfn.XLOOKUP(A410,'Dyno Graph'!$F$2:$F$77,'Dyno Graph'!$D$2:$D$77,,-1),IF(L410=3,_xlfn.XLOOKUP(A410,'Dyno Graph'!$G$2:$G$77,'Dyno Graph'!$D$2:$D$77,,-1)))) -> 14.254 | O410: =IF(L410=1,_xlfn.XLOOKUP(A410,'Dyno Graph'!$E$2:$E$77,'Dyno Graph'!$H$2:$H$77,,-1),IF(Forces!L410=2,_xlfn.XLOOKUP(Forces!A410,'Dyno Graph'!$F$2:$F$77,'Dyno Graph'!$H$2:$H$77,,-1),IF(Forces!L410=3,_xlfn.XLOOKUP(Forces!A410,'Dyno Graph'!$G$2:$G$77,'Dyno Graph'!$H$2:$H$77,,-1)))) -> 11.1855 | P410: {=_xlfn.XLOOKUP(N410,BSFC!$B$3:$B$25,_xlfn.XLOOKUP(M410,BSFC!$C$2:$P$2,BSFC!$C$3:$P$25,,-1),,-1)} -> 475.44295 | Q410: =(O410*P410)/(60*60) -> 1.4772409 | R410: =((B411-B410)/3600)*O410 -> 0.00022593045 | S410: =R410*P410 -> 0.10741704 | T410: =S410+T409 -> 50.338382 | U410: =((R410*P410)/1000)/0.75 -> 0.00014322272 | V410: =U410+V409 -> 0.067117842
A411: =MIN('Gearing and Output'!$H$7,(SQRT((A410^2)+2*K410*1))) -> 13.752389 | B411: =(1/A411)+B410 -> 33.944953 | C411: =0.5*'Gearing and Output'!$G$15*'Gearing and Output'!$G$16*'Gearing and Output'!$G$14*(A411)^2 -> 111.20738 | D411: ='Gearing and Output'!$G$27 -> 213.858 | E411: ='Gearing and Output'!$C$14-C411-D411 -> 159.04165 | F411: =0.5*'Gearing and Output'!$J$27*A411^2 -> 53594.202 | G411: =A411/('Gearing and Output'!$J$35/1000) -> 47.081098 | H411: =(0.5*I411*A411^2)/1000 -> 59.738956 | I411: ='Gearing and Output'!$G$38 -> 631.72978 | J411: =E411/I411 -> 0.25175583 | K411: =I411/E411 -> 3.9721027 | L411: =IF(A411<'Gearing and Output'!$H$5,1,IF(A411<'Gearing and Output'!$H$6,2,IF(A411>'Gearing and Output'!$H$6,3))) -> 3 | M411: =IF(L411=1,_xlfn.XLOOKUP(A411,'Dyno Graph'!$E$2:$E$77,'Dyno Graph'!$A$2:$A$77,,1),IF(L411=2,_xlfn.XLOOKUP(A411,'Dyno Graph'!$F$2:$F$77,'Dyno Graph'!$A$2:$A$77,,1),IF(L411=3,_xlfn.XLOOKUP(A411,'Dyno Graph'!$G$2:$G$77,'Dyno Graph'!$A$2:$A$77,,1)))) -> 7500 | N411: =IF(L411=1,_xlfn.XLOOKUP(A411,'Dyno Graph'!$E$2:$E$77,'Dyno Graph'!$D$2:$D$77,,-1),IF(L411=2,_xlfn.XLOOKUP(A411,'Dyno Graph'!$F$2:$F$77,'Dyno Graph'!$D$2:$D$77,,-1),IF(L411=3,_xlfn.XLOOKUP(A411,'Dyno Graph'!$G$2:$G$77,'Dyno Graph'!$D$2:$D$77,,-1)))) -> 14.254 | O411: =IF(L411=1,_xlfn.XLOOKUP(A411,'Dyno Graph'!$E$2:$E$77,'Dyno Graph'!$H$2:$H$77,,-1),IF(Forces!L411=2,_xlfn.XLOOKUP(Forces!A411,'Dyno Graph'!$F$2:$F$77,'Dyno Graph'!$H$2:$H$77,,-1),IF(Forces!L411=3,_xlfn.XLOOKUP(Forces!A411,'Dyno Graph'!$G$2:$G$77,'Dyno Graph'!$H$2:$H$77,,-1)))) -> 11.1855 | P411: {=_xlfn.XLOOKUP(N411,BSFC!$B$3:$B$25,_xlfn.XLOOKUP(M411,BSFC!$C$2:$P$2,BSFC!$C$3:$P$25,,-1),,-1)} -> 475.44295 | Q411: =(O411*P411)/(60*60) -> 1.4772409 | R411: =((B412-B411)/3600)*O411 -> 0.00022593045 | S411: =R411*P411 -> 0.10741704 | T411: =S411+T410 -> 50.445799 | U411: =((R411*P411)/1000)/0.75 -> 0.00014322272 | V411: =U411+V410 -> 0.067261065
A412: =MIN('Gearing and Output'!$H$7,(SQRT((A411^2)+2*K411*1))) -> 13.752389 | B412: =(1/A412)+B411 -> 34.017668 | C412: =0.5*'Gearing and Output'!$G$15*'Gearing and Output'!$G$16*'Gearing and Output'!$G$14*(A412)^2 -> 111.20738 | D412: ='Gearing and Output'!$G$27 -> 213.858 | E412: ='Gearing and Output'!$C$14-C412-D412 -> 159.04165 | F412: =0.5*'Gearing and Output'!$J$27*A412^2 -> 53594.202 | G412: =A412/('Gearing and Output'!$J$35/1000) -> 47.081098 | H412: =(0.5*I412*A412^2)/1000 -> 59.738956 | I412: ='Gearing and Output'!$G$38 -> 631.72978 | J412: =E412/I412 -> 0.25175583 | K412: =I412/E412 -> 3.9721027 | L412: =IF(A412<'Gearing and Output'!$H$5,1,IF(A412<'Gearing and Output'!$H$6,2,IF(A412>'Gearing and Output'!$H$6,3))) -> 3 | M412: =IF(L412=1,_xlfn.XLOOKUP(A412,'Dyno Graph'!$E$2:$E$77,'Dyno Graph'!$A$2:$A$77,,1),IF(L412=2,_xlfn.XLOOKUP(A412,'Dyno Graph'!$F$2:$F$77,'Dyno Graph'!$A$2:$A$77,,1),IF(L412=3,_xlfn.XLOOKUP(A412,'Dyno Graph'!$G$2:$G$77,'Dyno Graph'!$A$2:$A$77,,1)))) -> 7500 | N412: =IF(L412=1,_xlfn.XLOOKUP(A412,'Dyno Graph'!$E$2:$E$77,'Dyno Graph'!$D$2:$D$77,,-1),IF(L412=2,_xlfn.XLOOKUP(A412,'Dyno Graph'!$F$2:$F$77,'Dyno Graph'!$D$2:$D$77,,-1),IF(L412=3,_xlfn.XLOOKUP(A412,'Dyno Graph'!$G$2:$G$77,'Dyno Graph'!$D$2:$D$77,,-1)))) -> 14.254 | O412: =IF(L412=1,_xlfn.XLOOKUP(A412,'Dyno Graph'!$E$2:$E$77,'Dyno Graph'!$H$2:$H$77,,-1),IF(Forces!L412=2,_xlfn.XLOOKUP(Forces!A412,'Dyno Graph'!$F$2:$F$77,'Dyno Graph'!$H$2:$H$77,,-1),IF(Forces!L412=3,_xlfn.XLOOKUP(Forces!A412,'Dyno Graph'!$G$2:$G$77,'Dyno Graph'!$H$2:$H$77,,-1)))) -> 11.1855 | P412: {=_xlfn.XLOOKUP(N412,BSFC!$B$3:$B$25,_xlfn.XLOOKUP(M412,BSFC!$C$2:$P$2,BSFC!$C$3:$P$25,,-1),,-1)} -> 475.44295 | Q412: =(O412*P412)/(60*60) -> 1.4772409 | R412: =((B413-B412)/3600)*O412 -> 0.00022593045 | S412: =R412*P412 -> 0.10741704 | T412: =S412+T411 -> 50.553216 | U412: =((R412*P412)/1000)/0.75 -> 0.00014322272 | V412: =U412+V411 -> 0.067404288
A413: =MIN('Gearing and Output'!$H$7,(SQRT((A412^2)+2*K412*1))) -> 13.752389 | B413: =(1/A413)+B412 -> 34.090383 | C413: =0.5*'Gearing and Output'!$G$15*'Gearing and Output'!$G$16*'Gearing and Output'!$G$14*(A413)^2 -> 111.20738 | D413: ='Gearing and Output'!$G$27 -> 213.858 | E413: ='Gearing and Output'!$C$14-C413-D413 -> 159.04165 | F413: =0.5*'Gearing and Output'!$J$27*A413^2 -> 53594.202 | G413: =A413/('Gearing and Output'!$J$35/1000) -> 47.081098 | H413: =(0.5*I413*A413^2)/1000 -> 59.738956 | I413: ='Gearing and Output'!$G$38 -> 631.72978 | J413: =E413/I413 -> 0.25175583 | K413: =I413/E413 -> 3.9721027 | L413: =IF(A413<'Gearing and Output'!$H$5,1,IF(A413<'Gearing and Output'!$H$6,2,IF(A413>'Gearing and Output'!$H$6,3))) -> 3 | M413: =IF(L413=1,_xlfn.XLOOKUP(A413,'Dyno Graph'!$E$2:$E$77,'Dyno Graph'!$A$2:$A$77,,1),IF(L413=2,_xlfn.XLOOKUP(A413,'Dyno Graph'!$F$2:$F$77,'Dyno Graph'!$A$2:$A$77,,1),IF(L413=3,_xlfn.XLOOKUP(A413,'Dyno Graph'!$G$2:$G$77,'Dyno Graph'!$A$2:$A$77,,1)))) -> 7500 | N413: =IF(L413=1,_xlfn.XLOOKUP(A413,'Dyno Graph'!$E$2:$E$77,'Dyno Graph'!$D$2:$D$77,,-1),IF(L413=2,_xlfn.XLOOKUP(A413,'Dyno Graph'!$F$2:$F$77,'Dyno Graph'!$D$2:$D$77,,-1),IF(L413=3,_xlfn.XLOOKUP(A413,'Dyno Graph'!$G$2:$G$77,'Dyno Graph'!$D$2:$D$77,,-1)))) -> 14.254 | O413: =IF(L413=1,_xlfn.XLOOKUP(A413,'Dyno Graph'!$E$2:$E$77,'Dyno Graph'!$H$2:$H$77,,-1),IF(Forces!L413=2,_xlfn.XLOOKUP(Forces!A413,'Dyno Graph'!$F$2:$F$77,'Dyno Graph'!$H$2:$H$77,,-1),IF(Forces!L413=3,_xlfn.XLOOKUP(Forces!A413,'Dyno Graph'!$G$2:$G$77,'Dyno Graph'!$H$2:$H$77,,-1)))) -> 11.1855 | P413: {=_xlfn.XLOOKUP(N413,BSFC!$B$3:$B$25,_xlfn.XLOOKUP(M413,BSFC!$C$2:$P$2,BSFC!$C$3:$P$25,,-1),,-1)} -> 475.44295 | Q413: =(O413*P413)/(60*60) -> 1.4772409 | R413: =((B414-B413)/3600)*O413 -> 0.00022593045 | S413: =R413*P413 -> 0.10741704 | T413: =S413+T412 -> 50.660633 | U413: =((R413*P413)/1000)/0.75 -> 0.00014322272 | V413: =U413+V412 -> 0.06754751
... A442: =MIN('Gearing and Output'!$H$7,(SQRT((A441^2)+2*K441*1))) -> 13.752389 | B442: =(1/A442)+B441 -> 36.199107 | C442: =0.5*'Gearing and Output'!$G$15*'Gearing and Output'!$G$16*'Gearing and Output'!$G$14*(A442)^2 -> 111.20738 | D442: ='Gearing and Output'!$G$27 -> 213.858 | E442: ='Gearing and Output'!$C$14-C442-D442 -> 159.04165 | F442: =0.5*'Gearing and Output'!$J$27*A442^2 -> 53594.202 | G442: =A442/('Gearing and Output'!$J$35/1000) -> 47.081098 | H442: =(0.5*I442*A442^2)/1000 -> 59.738956 | I442: ='Gearing and Output'!$G$38 -> 631.72978 | J442: =E442/I442 -> 0.25175583 | K442: =I442/E442 -> 3.9721027 | L442: =IF(A442<'Gearing and Output'!$H$5,1,IF(A442<'Gearing and Output'!$H$6,2,IF(A442>'Gearing and Output'!$H$6,3))) -> 3 | M442: =IF(L442=1,_xlfn.XLOOKUP(A442,'Dyno Graph'!$E$2:$E$77,'Dyno Graph'!$A$2:$A$77,,1),IF(L442=2,_xlfn.XLOOKUP(A442,'Dyno Graph'!$F$2:$F$77,'Dyno Graph'!$A$2:$A$77,,1),IF(L442=3,_xlfn.XLOOKUP(A442,'Dyno Graph'!$G$2:$G$77,'Dyno Graph'!$A$2:$A$77,,1)))) -> 7500 | N442: =IF(L442=1,_xlfn.XLOOKUP(A442,'Dyno Graph'!$E$2:$E$77,'Dyno Graph'!$D$2:$D$77,,-1),IF(L442=2,_xlfn.XLOOKUP(A442,'Dyno Graph'!$F$2:$F$77,'Dyno Graph'!$D$2:$D$77,,-1),IF(L442=3,_xlfn.XLOOKUP(A442,'Dyno Graph'!$G$2:$G$77,'Dyno Graph'!$D$2:$D$77,,-1)))) -> 14.254 | O442: =IF(L442=1,_xlfn.XLOOKUP(A442,'Dyno Graph'!$E$2:$E$77,'Dyno Graph'!$H$2:$H$77,,-1),IF(Forces!L442=2,_xlfn.XLOOKUP(Forces!A442,'Dyno Graph'!$F$2:$F$77,'Dyno Graph'!$H$2:$H$77,,-1),IF(Forces!L442=3,_xlfn.XLOOKUP(Forces!A442,'Dyno Graph'!$G$2:$G$77,'Dyno Graph'!$H$2:$H$77,,-1)))) -> 11.1855 | P442: {=_xlfn.XLOOKUP(N442,BSFC!$B$3:$B$25,_xlfn.XLOOKUP(M442,BSFC!$C$2:$P$2,BSFC!$C$3:$P$25,,-1),,-1)} -> 475.44295 | Q442: =(O442*P442)/(60*60) -> 1.4772409 | R442: =((B443-B442)/3600)*O442 -> 0.00022593045 | S442: =R442*P442 -> 0.10741704 | T442: =S442+T441 -> 53.775727 | U442: =((R442*P442)/1000)/0.75 -> 0.00014322272 | V442: =U442+V441 -> 0.071700969
A443: =MIN('Gearing and Output'!$H$7,(SQRT((A442^2)+2*K442*1))) -> 13.752389 | B443: =(1/A443)+B442 -> 36.271822 | C443: =0.5*'Gearing and Output'!$G$15*'Gearing and Output'!$G$16*'Gearing and Output'!$G$14*(A443)^2 -> 111.20738 | D443: ='Gearing and Output'!$G$27 -> 213.858 | E443: ='Gearing and Output'!$C$14-C443-D443 -> 159.04165 | F443: =0.5*'Gearing and Output'!$J$27*A443^2 -> 53594.202 | G443: =A443/('Gearing and Output'!$J$35/1000) -> 47.081098 | H443: =(0.5*I443*A443^2)/1000 -> 59.738956 | I443: ='Gearing and Output'!$G$38 -> 631.72978 | J443: =E443/I443 -> 0.25175583 | K443: =1.5*(-I443/E443) -> -5.9581541 | L443: =IF(A443<'Gearing and Output'!$H$5,1,IF(A443<'Gearing and Output'!$H$6,2,IF(A443>'Gearing and Output'!$H$6,3))) -> 3 | M443: =IF(L443=1,_xlfn.XLOOKUP(A443,'Dyno Graph'!$E$2:$E$77,'Dyno Graph'!$A$2:$A$77,,1),IF(L443=2,_xlfn.XLOOKUP(A443,'Dyno Graph'!$F$2:$F$77,'Dyno Graph'!$A$2:$A$77,,1),IF(L443=3,_xlfn.XLOOKUP(A443,'Dyno Graph'!$G$2:$G$77,'Dyno Graph'!$A$2:$A$77,,1)))) -> 7500 | N443: =IF(L443=1,_xlfn.XLOOKUP(A443,'Dyno Graph'!$E$2:$E$77,'Dyno Graph'!$D$2:$D$77,,-1),IF(L443=2,_xlfn.XLOOKUP(A443,'Dyno Graph'!$F$2:$F$77,'Dyno Graph'!$D$2:$D$77,,-1),IF(L443=3,_xlfn.XLOOKUP(A443,'Dyno Graph'!$G$2:$G$77,'Dyno Graph'!$D$2:$D$77,,-1)))) -> 14.254 | O443: =IF(L443=1,_xlfn.XLOOKUP(A443,'Dyno Graph'!$E$2:$E$77,'Dyno Graph'!$H$2:$H$77,,-1),IF(Forces!L443=2,_xlfn.XLOOKUP(Forces!A443,'Dyno Graph'!$F$2:$F$77,'Dyno Graph'!$H$2:$H$77,,-1),IF(Forces!L443=3,_xlfn.XLOOKUP(Forces!A443,'Dyno Graph'!$G$2:$G$77,'Dyno Graph'!$H$2:$H$77,,-1)))) -> 11.1855 | P443: {=_xlfn.XLOOKUP(N443,BSFC!$B$3:$B$25,_xlfn.XLOOKUP(M443,BSFC!$C$2:$P$2,BSFC!$C$3:$P$25,,-1),,-1)} -> 475.44295 | Q443: =(O443*P443)/(60*60) -> 1.4772409 | R443: =((B444-B443)/3600)*O443 -> 0.00023340302 | S443: =R443*P443 -> 0.11096982 | T443: =S443+T442 -> 53.886697 | U443: =((R443*P443)/1000)/0.75 -> 0.00014795976 | V443: =U443+V442 -> 0.071848929
A444: =MIN('Gearing and Output'!$H$7,(SQRT((A443^2)+2*K443*1))) -> 13.312095 | B444: =(1/A444)+B443 -> 36.346942 | C444: =0.5*'Gearing and Output'!$G$15*'Gearing and Output'!$G$16*'Gearing and Output'!$G$14*(A444)^2 -> 104.20059 | D444: ='Gearing and Output'!$G$27 -> 213.858 | E444: ='Gearing and Output'!$C$14-C444-D444 -> 166.04844 | F444: =0.5*'Gearing and Output'!$J$27*A444^2 -> 50217.418 | G444: =A444/('Gearing and Output'!$J$35/1000) -> 45.57376 | H444: =(0.5*I444*A444^2)/1000 -> 55.975012 | I444: ='Gearing and Output'!$G$38 -> 631.72978 | J444: =E444/I444 -> 0.26284726 | K444: =1.5*(-I444/E444) -> -5.7067363 | L444: =IF(A444<'Gearing and Output'!$H$5,1,IF(A444<'Gearing and Output'!$H$6,2,IF(A444>'Gearing and Output'!$H$6,3))) -> 3 | M444: =IF(L444=1,_xlfn.XLOOKUP(A444,'Dyno Graph'!$E$2:$E$77,'Dyno Graph'!$A$2:$A$77,,1),IF(L444=2,_xlfn.XLOOKUP(A444,'Dyno Graph'!$F$2:$F$77,'Dyno Graph'!$A$2:$A$77,,1),IF(L444=3,_xlfn.XLOOKUP(A444,'Dyno Graph'!$G$2:$G$77,'Dyno Graph'!$A$2:$A$77,,1)))) -> 7300 | N444: =IF(L444=1,_xlfn.XLOOKUP(A444,'Dyno Graph'!$E$2:$E$77,'Dyno Graph'!$D$2:$D$77,,-1),IF(L444=2,_xlfn.XLOOKUP(A444,'Dyno Graph'!$F$2:$F$77,'Dyno Graph'!$D$2:$D$77,,-1),IF(L444=3,_xlfn.XLOOKUP(A444,'Dyno Graph'!$G$2:$G$77,'Dyno Graph'!$D$2:$D$77,,-1)))) -> 15.729543 | O444: =IF(L444=1,_xlfn.XLOOKUP(A444,'Dyno Graph'!$E$2:$E$77,'Dyno Graph'!$H$2:$H$77,,-1),IF(Forces!L444=2,_xlfn.XLOOKUP(Forces!A444,'Dyno Graph'!$F$2:$F$77,'Dyno Graph'!$H$2:$H$77,,-1),IF(Forces!L444=3,_xlfn.XLOOKUP(Forces!A444,'Dyno Graph'!$G$2:$G$77,'Dyno Graph'!$H$2:$H$77,,-1)))) -> 11.849662 | P444: {=_xlfn.XLOOKUP(N444,BSFC!$B$3:$B$25,_xlfn.XLOOKUP(M444,BSFC!$C$2:$P$2,BSFC!$C$3:$P$25,,-1),,-1)} -> 482.49828 | Q444: =(O444*P444)/(60*60) -> 1.5881783 | R444: =((B445-B444)/3600)*O444 -> 0.00025563087 | S444: =R444*P444 -> 0.12334145 | T444: =S444+T443 -> 54.010038 | U444: =((R444*P444)/1000)/0.75 -> 0.00016445527 | V444: =U444+V443 -> 0.072013384
A445: =MIN('Gearing and Output'!$H$7,(SQRT((A444^2)+2*K444*1))) -> 12.876273 | B445: =(1/A445)+B444 -> 36.424604 | C445: =0.5*'Gearing and Output'!$G$15*'Gearing and Output'!$G$16*'Gearing and Output'!$G$14*(A445)^2 -> 97.489466 | D445: ='Gearing and Output'!$G$27 -> 213.858 | E445: ='Gearing and Output'!$C$14-C445-D445 -> 172.75956 | F445: =0.5*'Gearing and Output'!$J$27*A445^2 -> 46983.125 | G445: =A445/('Gearing and Output'!$J$35/1000) -> 44.08173 | H445: =(0.5*I445*A445^2)/1000 -> 52.369897 | I445: ='Gearing and Output'!$G$38 -> 631.72978 | J445: =E445/I445 -> 0.27347067 | K445: =1.5*(-I445/E445) -> -5.485049 | L445: =IF(A445<'Gearing and Output'!$H$5,1,IF(A445<'Gearing and Output'!$H$6,2,IF(A445>'Gearing and Output'!$H$6,3))) -> 3 | M445: =IF(L445=1,_xlfn.XLOOKUP(A445,'Dyno Graph'!$E$2:$E$77,'Dyno Graph'!$A$2:$A$77,,1),IF(L445=2,_xlfn.XLOOKUP(A445,'Dyno Graph'!$F$2:$F$77,'Dyno Graph'!$A$2:$A$77,,1),IF(L445=3,_xlfn.XLOOKUP(A445,'Dyno Graph'!$G$2:$G$77,'Dyno Graph'!$A$2:$A$77,,1)))) -> 7100 | N445: =IF(L445=1,_xlfn.XLOOKUP(A445,'Dyno Graph'!$E$2:$E$77,'Dyno Graph'!$D$2:$D$77,,-1),IF(L445=2,_xlfn.XLOOKUP(A445,'Dyno Graph'!$F$2:$F$77,'Dyno Graph'!$D$2:$D$77,,-1),IF(L445=3,_xlfn.XLOOKUP(A445,'Dyno Graph'!$G$2:$G$77,'Dyno Graph'!$D$2:$D$77,,-1)))) -> 17.308429 | O445: =IF(L445=1,_xlfn.XLOOKUP(A445,'Dyno Graph'!$E$2:$E$77,'Dyno Graph'!$H$2:$H$77,,-1),IF(Forces!L445=2,_xlfn.XLOOKUP(Forces!A445,'Dyno Graph'!$F$2:$F$77,'Dyno Graph'!$H$2:$H$77,,-1),IF(Forces!L445=3,_xlfn.XLOOKUP(Forces!A445,'Dyno Graph'!$G$2:$G$77,'Dyno Graph'!$H$2:$H$77,,-1)))) -> 12.6769 | P445: {=_xlfn.XLOOKUP(N445,BSFC!$B$3:$B$25,_xlfn.XLOOKUP(M445,BSFC!$C$2:$P$2,BSFC!$C$3:$P$25,,-1),,-1)} -> 541.22172 | Q445: =(O445*P445)/(60*60) -> 1.9058371 | R445: =((B446-B445)/3600)*O445 -> 0.00028299931 | S445: =R445*P445 -> 0.15316537 | T445: =S445+T444 -> 54.163203 | U445: =((R445*P445)/1000)/0.75 -> 0.00020422049 | V445: =U445+V444 -> 0.072217605
A446: =MIN('Gearing and Output'!$H$7,(SQRT((A445^2)+2*K445*1))) -> 12.443003 | B446: =(1/A446)+B445 -> 36.50497 | C446: =0.5*'Gearing and Output'!$G$15*'Gearing and Output'!$G$16*'Gearing and Output'!$G$14*(A446)^2 -> 91.039049 | D446: ='Gearing and Output'!$G$27 -> 213.858 | E446: ='Gearing and Output'!$C$14-C446-D446 -> 179.20998 | F446: =0.5*'Gearing and Output'!$J$27*A446^2 -> 43874.474 | G446: =A446/('Gearing and Output'!$J$35/1000) -> 42.598434 | H446: =(0.5*I446*A446^2)/1000 -> 48.904828 | I446: ='Gearing and Output'!$G$38 -> 631.72978 | J446: =E446/I446 -> 0.28368139 | K446: =1.5*(-I446/E446) -> -5.2876222 | L446: =IF(A446<'Gearing and Output'!$H$5,1,IF(A446<'Gearing and Output'!$H$6,2,IF(A446>'Gearing and Output'!$H$6,3))) -> 3 | M446: =IF(L446=1,_xlfn.XLOOKUP(A446,'Dyno Graph'!$E$2:$E$77,'Dyno Graph'!$A$2:$A$77,,1),IF(L446=2,_xlfn.XLOOKUP(A446,'Dyno Graph'!$F$2:$F$77,'Dyno Graph'!$A$2:$A$77,,1),IF(L446=3,_xlfn.XLOOKUP(A446,'Dyno Graph'!$G$2:$G$77,'Dyno Graph'!$A$2:$A$77,,1)))) -> 6800 | N446: =IF(L446=1,_xlfn.XLOOKUP(A446,'Dyno Graph'!$E$2:$E$77,'Dyno Graph'!$D$2:$D$77,,-1),IF(L446=2,_xlfn.XLOOKUP(A446,'Dyno Graph'!$F$2:$F$77,'Dyno Graph'!$D$2:$D$77,,-1),IF(L446=3,_xlfn.XLOOKUP(A446,'Dyno Graph'!$G$2:$G$77,'Dyno Graph'!$D$2:$D$77,,-1)))) -> 19.67903 | O446: =IF(L446=1,_xlfn.XLOOKUP(A446,'Dyno Graph'!$E$2:$E$77,'Dyno Graph'!$H$2:$H$77,,-1),IF(Forces!L446=2,_xlfn.XLOOKUP(Forces!A446,'Dyno Graph'!$F$2:$F$77,'Dyno Graph'!$H$2:$H$77,,-1),IF(Forces!L446=3,_xlfn.XLOOKUP(Forces!A446,'Dyno Graph'!$G$2:$G$77,'Dyno Graph'!$H$2:$H$77,,-1)))) -> 13.79545 | P446: {=_xlfn.XLOOKUP(N446,BSFC!$B$3:$B$25,_xlfn.XLOOKUP(M446,BSFC!$C$2:$P$2,BSFC!$C$3:$P$25,,-1),,-1)} -> 504.47247 | Q446: =(O446*P446)/(60*60) -> 1.9331735 | R446: =((B447-B446)/3600)*O446 -> 0.00031905888 | S446: =R446*P446 -> 0.16095642 | T446: =S446+T445 -> 54.32416 | U446: =((R446*P446)/1000)/0.75 -> 0.00021460856 | V446: =U446+V445 -> 0.072432213
A447: =MIN('Gearing and Output'!$H$7,(SQRT((A446^2)+2*K446*1))) -> 12.01054 | B447: =(1/A447)+B446 -> 36.58823 | C447: =0.5*'Gearing and Output'!$G$15*'Gearing and Output'!$G$16*'Gearing and Output'!$G$14*(A447)^2 -> 84.820805 | D447: ='Gearing and Output'!$G$27 -> 213.858 | E447: ='Gearing and Output'!$C$14-C447-D447 -> 185.42822 | F447: =0.5*'Gearing and Output'!$J$27*A447^2 -> 40877.714 | G447: =A447/('Gearing and Output'!$J$35/1000) -> 41.117905 | H447: =(0.5*I447*A447^2)/1000 -> 45.56448 | I447: ='Gearing and Output'!$G$38 -> 631.72978 | J447: =E447/I447 -> 0.29352459 | K447: =1.5*(-I447/E447) -> -5.1103044 | L447: =IF(A447<'Gearing and Output'!$H$5,1,IF(A447<'Gearing and Output'!$H$6,2,IF(A447>'Gearing and Output'!$H$6,3))) -> 3 | M447: =IF(L447=1,_xlfn.XLOOKUP(A447,'Dyno Graph'!$E$2:$E$77,'Dyno Graph'!$A$2:$A$77,,1),IF(L447=2,_xlfn.XLOOKUP(A447,'Dyno Graph'!$F$2:$F$77,'Dyno Graph'!$A$2:$A$77,,1),IF(L447=3,_xlfn.XLOOKUP(A447,'Dyno Graph'!$G$2:$G$77,'Dyno Graph'!$A$2:$A$77,,1)))) -> 6600 | N447: =IF(L447=1,_xlfn.XLOOKUP(A447,'Dyno Graph'!$E$2:$E$77,'Dyno Graph'!$D$2:$D$77,,-1),IF(L447=2,_xlfn.XLOOKUP(A447,'Dyno Graph'!$F$2:$F$77,'Dyno Graph'!$D$2:$D$77,,-1),IF(L447=3,_xlfn.XLOOKUP(A447,'Dyno Graph'!$G$2:$G$77,'Dyno Graph'!$D$2:$D$77,,-1)))) -> 19.736308 | O447: =IF(L447=1,_xlfn.XLOOKUP(A447,'Dyno Graph'!$E$2:$E$77,'Dyno Graph'!$H$2:$H$77,,-1),IF(Forces!L447=2,_xlfn.XLOOKUP(Forces!A447,'Dyno Graph'!$F$2:$F$77,'Dyno Graph'!$H$2:$H$77,,-1),IF(Forces!L447=3,_xlfn.XLOOKUP(Forces!A447,'Dyno Graph'!$G$2:$G$77,'Dyno Graph'!$H$2:$H$77,,-1)))) -> 13.4226 | P447: {=_xlfn.XLOOKUP(N447,BSFC!$B$3:$B$25,_xlfn.XLOOKUP(M447,BSFC!$C$2:$P$2,BSFC!$C$3:$P$25,,-1),,-1)} -> 504.47247 | Q447: =(O447*P447)/(60*60) -> 1.8809256 | R447: =((B448-B447)/3600)*O447 -> 0.00032205434 | S447: =R447*P447 -> 0.16246755 | T447: =S447+T446 -> 54.486627 | U447: =((R447*P447)/1000)/0.75 -> 0.00021662339 | V447: =U447+V446 -> 0.072648837
A448: =MIN('Gearing and Output'!$H$7,(SQRT((A447^2)+2*K447*1))) -> 11.577239 | B448: =(1/A448)+B447 -> 36.674607 | C448: =0.5*'Gearing and Output'!$G$15*'Gearing and Output'!$G$16*'Gearing and Output'!$G$14*(A448)^2 -> 78.811087 | D448: ='Gearing and Output'!$G$27 -> 213.858 | E448: ='Gearing and Output'!$C$14-C448-D448 -> 191.43794 | F448: =0.5*'Gearing and Output'!$J$27*A448^2 -> 37981.449 | G448: =A448/('Gearing and Output'!$J$35/1000) -> 39.634505 | H448: =(0.5*I448*A448^2)/1000 -> 42.336148 | I448: ='Gearing and Output'!$G$38 -> 631.72978 | J448: =E448/I448 -> 0.30303771 | K448: =1.5*(-I448/E448) -> -4.9498791 | L448: =IF(A448<'Gearing and Output'!$H$5,1,IF(A448<'Gearing and Output'!$H$6,2,IF(A448>'Gearing and Output'!$H$6,3))) -> 2 | M448: =IF(L448=1,_xlfn.XLOOKUP(A448,'Dyno Graph'!$E$2:$E$77,'Dyno Graph'!$A$2:$A$77,,1),IF(L448=2,_xlfn.XLOOKUP(A448,'Dyno Graph'!$F$2:$F$77,'Dyno Graph'!$A$2:$A$77,,1),IF(L448=3,_xlfn.XLOOKUP(A448,'Dyno Graph'!$G$2:$G$77,'Dyno Graph'!$A$2:$A$77,,1)))) -> 7400 | N448: =IF(L448=1,_xlfn.XLOOKUP(A448,'Dyno Graph'!$E$2:$E$77,'Dyno Graph'!$D$2:$D$77,,-1),IF(L448=2,_xlfn.XLOOKUP(A448,'Dyno Graph'!$F$2:$F$77,'Dyno Graph'!$D$2:$D$77,,-1),IF(L448=3,_xlfn.XLOOKUP(A448,'Dyno Graph'!$G$2:$G$77,'Dyno Graph'!$D$2:$D$77,,-1)))) -> 15.161301 | O448: =IF(L448=1,_xlfn.XLOOKUP(A448,'Dyno Graph'!$E$2:$E$77,'Dyno Graph'!$H$2:$H$77,,-1),IF(Forces!L448=2,_xlfn.XLOOKUP(Forces!A448,'Dyno Graph'!$F$2:$F$77,'Dyno Graph'!$H$2:$H$77,,-1),IF(Forces!L448=3,_xlfn.XLOOKUP(Forces!A448,'Dyno Graph'!$G$2:$G$77,'Dyno Graph'!$H$2:$H$77,,-1)))) -> 11.580217 | P448: {=_xlfn.XLOOKUP(N448,BSFC!$B$3:$B$25,_xlfn.XLOOKUP(M448,BSFC!$C$2:$P$2,BSFC!$C$3:$P$25,,-1),,-1)} -> 482.49828 | Q448: =(O448*P448)/(60*60) -> 1.5520652 | R448: =((B449-B448)/3600)*O448 -> 0.00028871616 | S448: =R448*P448 -> 0.13930505 | T448: =S448+T447 -> 54.625933 | U448: =((R448*P448)/1000)/0.75 -> 0.00018574007 | V448: =U448+V447 -> 0.072834577
A449: =MIN('Gearing and Output'!$H$7,(SQRT((A448^2)+2*K448*1))) -> 11.141486 | B449: =(1/A449)+B448 -> 36.764361 | C449: =0.5*'Gearing and Output'!$G$15*'Gearing and Output'!$G$16*'Gearing and Output'!$G$14*(A449)^2 -> 72.990029 | D449: ='Gearing and Output'!$G$27 -> 213.858 | E449: ='Gearing and Output'!$C$14-C449-D449 -> 197.259 | F449: =0.5*'Gearing and Output'!$J$27*A449^2 -> 35176.105 | G449: =A449/('Gearing and Output'!$J$35/1000) -> 38.14271 | H449: =(0.5*I449*A449^2)/1000 -> 39.209162 | I449: ='Gearing and Output'!$G$38 -> 631.72978 | J449: =E449/I449 -> 0.31225218 | K449: =1.5*(-I449/E449) -> -4.8038095 | L449: =IF(A449<'Gearing and Output'!$H$5,1,IF(A449<'Gearing and Output'!$H$6,2,IF(A449>'Gearing and Output'!$H$6,3))) -> 2 | M449: =IF(L449=1,_xlfn.XLOOKUP(A449,'Dyno Graph'!$E$2:$E$77,'Dyno Graph'!$A$2:$A$77,,1),IF(L449=2,_xlfn.XLOOKUP(A449,'Dyno Graph'!$F$2:$F$77,'Dyno Graph'!$A$2:$A$77,,1),IF(L449=3,_xlfn.XLOOKUP(A449,'Dyno Graph'!$G$2:$G$77,'Dyno Graph'!$A$2:$A$77,,1)))) -> 7100 | N449: =IF(L449=1,_xlfn.XLOOKUP(A449,'Dyno Graph'!$E$2:$E$77,'Dyno Graph'!$D$2:$D$77,,-1),IF(L449=2,_xlfn.XLOOKUP(A449,'Dyno Graph'!$F$2:$F$77,'Dyno Graph'!$D$2:$D$77,,-1),IF(L449=3,_xlfn.XLOOKUP(A449,'Dyno Graph'!$G$2:$G$77,'Dyno Graph'!$D$2:$D$77,,-1)))) -> 17.308429 | O449: =IF(L449=1,_xlfn.XLOOKUP(A449,'Dyno Graph'!$E$2:$E$77,'Dyno Graph'!$H$2:$H$77,,-1),IF(Forces!L449=2,_xlfn.XLOOKUP(Forces!A449,'Dyno Graph'!$F$2:$F$77,'Dyno Graph'!$H$2:$H$77,,-1),IF(Forces!L449=3,_xlfn.XLOOKUP(Forces!A449,'Dyno Graph'!$G$2:$G$77,'Dyno Graph'!$H$2:$H$77,,-1)))) -> 12.6769 | P449: {=_xlfn.XLOOKUP(N449,BSFC!$B$3:$B$25,_xlfn.XLOOKUP(M449,BSFC!$C$2:$P$2,BSFC!$C$3:$P$25,,-1),,-1)} -> 541.22172 | Q449: =(O449*P449)/(60*60) -> 1.9058371 | R449: =((B450-B449)/3600)*O449 -> 0.00032904876 | S449: =R449*P449 -> 0.17808833 | T449: =S449+T448 -> 54.804021 | U449: =((R449*P449)/1000)/0.75 -> 0.00023745111 | V449: =U449+V448 -> 0.073072028
A450: =MIN('Gearing and Output'!$H$7,(SQRT((A449^2)+2*K449*1))) -> 10.701639 | B450: =(1/A450)+B449 -> 36.857805 | C450: =0.5*'Gearing and Output'!$G$15*'Gearing and Output'!$G$16*'Gearing and Output'!$G$14*(A450)^2 -> 67.340749 | D450: ='Gearing and Output'!$G$27 -> 213.858 | E450: ='Gearing and Output'!$C$14-C450-D450 -> 202.90828 | F450: =0.5*'Gearing and Output'!$J$27*A450^2 -> 32453.546 | G450: =A450/('Gearing and Output'!$J$35/1000) -> 36.636903 | H450: =(0.5*I450*A450^2)/1000 -> 36.174453 | I450: ='Gearing and Output'!$G$38 -> 631.72978 | J450: =E450/I450 -> 0.32119474 | K450: =1.5*(-I450/E450) -> -4.6700641 | L450: =IF(A450<'Gearing and Output'!$H$5,1,IF(A450<'Gearing and Output'!$H$6,2,IF(A450>'Gearing and Output'!$H$6,3))) -> 2 | M450: =IF(L450=1,_xlfn.XLOOKUP(A450,'Dyno Graph'!$E$2:$E$77,'Dyno Graph'!$A$2:$A$77,,1),IF(L450=2,_xlfn.XLOOKUP(A450,'Dyno Graph'!$F$2:$F$77,'Dyno Graph'!$A$2:$A$77,,1),IF(L450=3,_xlfn.XLOOKUP(A450,'Dyno Graph'!$G$2:$G$77,'Dyno Graph'!$A$2:$A$77,,1)))) -> 6900 | N450: =IF(L450=1,_xlfn.XLOOKUP(A450,'Dyno Graph'!$E$2:$E$77,'Dyno Graph'!$D$2:$D$77,,-1),IF(L450=2,_xlfn.XLOOKUP(A450,'Dyno Graph'!$F$2:$F$77,'Dyno Graph'!$D$2:$D$77,,-1),IF(L450=3,_xlfn.XLOOKUP(A450,'Dyno Graph'!$G$2:$G$77,'Dyno Graph'!$D$2:$D$77,,-1)))) -> 19.259479 | O450: =IF(L450=1,_xlfn.XLOOKUP(A450,'Dyno Graph'!$E$2:$E$77,'Dyno Graph'!$H$2:$H$77,,-1),IF(Forces!L450=2,_xlfn.XLOOKUP(Forces!A450,'Dyno Graph'!$F$2:$F$77,'Dyno Graph'!$H$2:$H$77,,-1),IF(Forces!L450=3,_xlfn.XLOOKUP(Forces!A450,'Dyno Graph'!$G$2:$G$77,'Dyno Graph'!$H$2:$H$77,,-1)))) -> 13.702848 | P450: {=_xlfn.XLOOKUP(N450,BSFC!$B$3:$B$25,_xlfn.XLOOKUP(M450,BSFC!$C$2:$P$2,BSFC!$C$3:$P$25,,-1),,-1)} -> 504.47247 | Q450: =(O450*P450)/(60*60) -> 1.9201971 | R450: =((B451-B450)/3600)*O450 -> 0.00037113467 | S450: =R450*P450 -> 0.18722722 | T450: =S450+T449 -> 54.991248 | U450: =((R450*P450)/1000)/0.75 -> 0.0002496363 | V450: =U450+V449 -> 0.073321664
A451: =MIN('Gearing and Output'!$H$7,(SQRT((A450^2)+2*K450*1))) -> 10.255972 | B451: =(1/A451)+B450 -> 36.955309 | C451: =0.5*'Gearing and Output'!$G$15*'Gearing and Output'!$G$16*'Gearing and Output'!$G$14*(A451)^2 -> 61.848754 | D451: ='Gearing and Output'!$G$27 -> 213.858 | E451: ='Gearing and Output'!$C$14-C451-D451 -> 208.40027 | F451: =0.5*'Gearing and Output'!$J$27*A451^2 -> 29806.787 | G451: =A451/('Gearing and Output'!$J$35/1000) -> 35.111166 | H451: =(0.5*I451*A451^2)/1000 -> 33.224234 | I451: ='Gearing and Output'!$G$38 -> 631.72978 | J451: =E451/I451 -> 0.32988832 | K451: =1.5*(-I451/E451) -> -4.5469934 | L451: =IF(A451<'Gearing and Output'!$H$5,1,IF(A451<'Gearing and Output'!$H$6,2,IF(A451>'Gearing and Output'!$H$6,3))) -> 2 | M451: =IF(L451=1,_xlfn.XLOOKUP(A451,'Dyno Graph'!$E$2:$E$77,'Dyno Graph'!$A$2:$A$77,,1),IF(L451=2,_xlfn.XLOOKUP(A451,'Dyno Graph'!$F$2:$F$77,'Dyno Graph'!$A$2:$A$77,,1),IF(L451=3,_xlfn.XLOOKUP(A451,'Dyno Graph'!$G$2:$G$77,'Dyno Graph'!$A$2:$A$77,,1)))) -> 6600 | N451: =IF(L451=1,_xlfn.XLOOKUP(A451,'Dyno Graph'!$E$2:$E$77,'Dyno Graph'!$D$2:$D$77,,-1),IF(L451=2,_xlfn.XLOOKUP(A451,'Dyno Graph'!$F$2:$F$77,'Dyno Graph'!$D$2:$D$77,,-1),IF(L451=3,_xlfn.XLOOKUP(A451,'Dyno Graph'!$G$2:$G$77,'Dyno Graph'!$D$2:$D$77,,-1)))) -> 19.736308 | O451: =IF(L451=1,_xlfn.XLOOKUP(A451,'Dyno Graph'!$E$2:$E$77,'Dyno Graph'!$H$2:$H$77,,-1),IF(Forces!L451=2,_xlfn.XLOOKUP(Forces!A451,'Dyno Graph'!$F$2:$F$77,'Dyno Graph'!$H$2:$H$77,,-1),IF(Forces!L451=3,_xlfn.XLOOKUP(Forces!A451,'Dyno Graph'!$G$2:$G$77,'Dyno Graph'!$H$2:$H$77,,-1)))) -> 13.4226 | P451: {=_xlfn.XLOOKUP(N451,BSFC!$B$3:$B$25,_xlfn.XLOOKUP(M451,BSFC!$C$2:$P$2,BSFC!$C$3:$P$25,,-1),,-1)} -> 504.47247 | Q451: =(O451*P451)/(60*60) -> 1.8809256 | R451: =((B452-B451)/3600)*O451 -> 0.00038035827 | S451: =R451*P451 -> 0.19188027 | T451: =S451+T450 -> 55.183128 | U451: =((R451*P451)/1000)/0.75 -> 0.00025584037 | V451: =U451+V450 -> 0.073577504
A452: =MIN('Gearing and Output'!$H$7,(SQRT((A451^2)+2*K451*1))) -> 9.8026001 | B452: =(1/A452)+B451 -> 37.057323 | C452: =0.5*'Gearing and Output'!$G$15*'Gearing and Output'!$G$16*'Gearing and Output'!$G$14*(A452)^2 -> 56.50149 | D452: ='Gearing and Output'!$G$27 -> 213.858 | E452: ='Gearing and Output'!$C$14-C452-D452 -> 213.74754 | F452: =0.5*'Gearing and Output'!$J$27*A452^2 -> 27229.778 | G452: =A452/('Gearing and Output'!$J$35/1000) -> 33.559056 | H452: =(0.5*I452*A452^2)/1000 -> 30.351763 | I452: ='Gearing and Output'!$G$38 -> 631.72978 | J452: =E452/I452 -> 0.3383528 | K452: =1.5*(-I452/E452) -> -4.4332425 | L452: =IF(A452<'Gearing and Output'!$H$5,1,IF(A452<'Gearing and Output'!$H$6,2,IF(A452>'Gearing and Output'!$H$6,3))) -> 2 | M452: =IF(L452=1,_xlfn.XLOOKUP(A452,'Dyno Graph'!$E$2:$E$77,'Dyno Graph'!$A$2:$A$77,,1),IF(L452=2,_xlfn.XLOOKUP(A452,'Dyno Graph'!$F$2:$F$77,'Dyno Graph'!$A$2:$A$77,,1),IF(L452=3,_xlfn.XLOOKUP(A452,'Dyno Graph'!$G$2:$G$77,'Dyno Graph'!$A$2:$A$77,,1)))) -> 6300 | N452: =IF(L452=1,_xlfn.XLOOKUP(A452,'Dyno Graph'!$E$2:$E$77,'Dyno Graph'!$D$2:$D$77,,-1),IF(L452=2,_xlfn.XLOOKUP(A452,'Dyno Graph'!$F$2:$F$77,'Dyno Graph'!$D$2:$D$77,,-1),IF(L452=3,_xlfn.XLOOKUP(A452,'Dyno Graph'!$G$2:$G$77,'Dyno Graph'!$D$2:$D$77,,-1)))) -> 19.742442 | O452: =IF(L452=1,_xlfn.XLOOKUP(A452,'Dyno Graph'!$E$2:$E$77,'Dyno Graph'!$H$2:$H$77,,-1),IF(Forces!L452=2,_xlfn.XLOOKUP(Forces!A452,'Dyno Graph'!$F$2:$F$77,'Dyno Graph'!$H$2:$H$77,,-1),IF(Forces!L452=3,_xlfn.XLOOKUP(Forces!A452,'Dyno Graph'!$G$2:$G$77,'Dyno Graph'!$H$2:$H$77,,-1)))) -> 12.807075 | P452: {=_xlfn.XLOOKUP(N452,BSFC!$B$3:$B$25,_xlfn.XLOOKUP(M452,BSFC!$C$2:$P$2,BSFC!$C$3:$P$25,,-1),,-1)} -> 457.16662 | Q452: =(O452*P452)/(60*60) -> 1.6263798 | R452: =((B453-B452)/3600)*O452 -> 0.00038091515 | S452: =R452*P452 -> 0.17414169 | T452: =S452+T451 -> 55.35727 | U452: =((R452*P452)/1000)/0.75 -> 0.00023218892 | V452: =U452+V451 -> 0.073809693
A453: =MIN('Gearing and Output'!$H$7,(SQRT((A452^2)+2*K452*1))) -> 9.3394049 | B453: =(1/A453)+B452 -> 37.164396 | C453: =0.5*'Gearing and Output'!$G$15*'Gearing and Output'!$G$16*'Gearing and Output'!$G$14*(A453)^2 -> 51.287997 | D453: ='Gearing and Output'!$G$27 -> 213.858 | E453: ='Gearing and Output'!$C$14-C453-D453 -> 218.96103 | F453: =0.5*'Gearing and Output'!$J$27*A453^2 -> 24717.238 | G453: =A453/('Gearing and Output'!$J$35/1000) -> 31.973314 | H453: =(0.5*I453*A453^2)/1000 -> 27.551152 | I453: ='Gearing and Output'!$G$38 -> 631.72978 | J453: =E453/I453 -> 0.34660553 | K453: =1.5*(-I453/E453) -> -4.3276863 | L453: =IF(A453<'Gearing and Output'!$H$5,1,IF(A453<'Gearing and Output'!$H$6,2,IF(A453>'Gearing and Output'!$H$6,3))) -> 1 | M453: =IF(L453=1,_xlfn.XLOOKUP(A453,'Dyno Graph'!$E$2:$E$77,'Dyno Graph'!$A$2:$A$77,,1),IF(L453=2,_xlfn.XLOOKUP(A453,'Dyno Graph'!$F$2:$F$77,'Dyno Graph'!$A$2:$A$77,,1),IF(L453=3,_xlfn.XLOOKUP(A453,'Dyno Graph'!$G$2:$G$77,'Dyno Graph'!$A$2:$A$77,,1)))) -> 7400 | N453: =IF(L453=1,_xlfn.XLOOKUP(A453,'Dyno Graph'!$E$2:$E$77,'Dyno Graph'!$D$2:$D$77,,-1),IF(L453=2,_xlfn.XLOOKUP(A453,'Dyno Graph'!$F$2:$F$77,'Dyno Graph'!$D$2:$D$77,,-1),IF(L453=3,_xlfn.XLOOKUP(A453,'Dyno Graph'!$G$2:$G$77,'Dyno Graph'!$D$2:$D$77,,-1)))) -> 15.161301 | O453: =IF(L453=1,_xlfn.XLOOKUP(A453,'Dyno Graph'!$E$2:$E$77,'Dyno Graph'!$H$2:$H$77,,-1),IF(Forces!L453=2,_xlfn.XLOOKUP(Forces!A453,'Dyno Graph'!$F$2:$F$77,'Dyno Graph'!$H$2:$H$77,,-1),IF(Forces!L453=3,_xlfn.XLOOKUP(Forces!A453,'Dyno Graph'!$G$2:$G$77,'Dyno Graph'!$H$2:$H$77,,-1)))) -> 11.580217 | P453: {=_xlfn.XLOOKUP(N453,BSFC!$B$3:$B$25,_xlfn.XLOOKUP(M453,BSFC!$C$2:$P$2,BSFC!$C$3:$P$25,,-1),,-1)} -> 482.49828 | Q453: =(O453*P453)/(60*60) -> 1.5520652 | R453: =((B454-B453)/3600)*O453 -> 0.0003629011 | S453: =R453*P453 -> 0.17509915 | T453: =S453+T452 -> 55.532369 | U453: =((R453*P453)/1000)/0.75 -> 0.00023346554 | V453: =U453+V452 -> 0.074043159
A454: =MIN('Gearing and Output'!$H$7,(SQRT((A453^2)+2*K453*1))) -> 8.8639219 | B454: =(1/A454)+B453 -> 37.277213 | C454: =0.5*'Gearing and Output'!$G$15*'Gearing and Output'!$G$16*'Gearing and Output'!$G$14*(A454)^2 -> 46.198638 | D454: ='Gearing and Output'!$G$27 -> 213.858 | E454: ='Gearing and Output'!$C$14-C454-D454 -> 224.05039 | F454: =0.5*'Gearing and Output'!$J$27*A454^2 -> 22264.522 | G454: =A454/('Gearing and Output'!$J$35/1000) -> 30.345505 | H454: =(0.5*I454*A454^2)/1000 -> 24.817224 | I454: ='Gearing and Output'!$G$38 -> 631.72978 | J454: =E454/I454 -> 0.35466176 | K454: =1.5*(-I454/E454) -> -4.2293819 | L454: =IF(A454<'Gearing and Output'!$H$5,1,IF(A454<'Gearing and Output'!$H$6,2,IF(A454>'Gearing and Output'!$H$6,3))) -> 1 | M454: =IF(L454=1,_xlfn.XLOOKUP(A454,'Dyno Graph'!$E$2:$E$77,'Dyno Graph'!$A$2:$A$77,,1),IF(L454=2,_xlfn.XLOOKUP(A454,'Dyno Graph'!$F$2:$F$77,'Dyno Graph'!$A$2:$A$77,,1),IF(L454=3,_xlfn.XLOOKUP(A454,'Dyno Graph'!$G$2:$G$77,'Dyno Graph'!$A$2:$A$77,,1)))) -> 7000 | N454: =IF(L454=1,_xlfn.XLOOKUP(A454,'Dyno Graph'!$E$2:$E$77,'Dyno Graph'!$D$2:$D$77,,-1),IF(L454=2,_xlfn.XLOOKUP(A454,'Dyno Graph'!$F$2:$F$77,'Dyno Graph'!$D$2:$D$77,,-1),IF(L454=3,_xlfn.XLOOKUP(A454,'Dyno Graph'!$G$2:$G$77,'Dyno Graph'!$D$2:$D$77,,-1)))) -> 18.346331 | O454: =IF(L454=1,_xlfn.XLOOKUP(A454,'Dyno Graph'!$E$2:$E$77,'Dyno Graph'!$H$2:$H$77,,-1),IF(Forces!L454=2,_xlfn.XLOOKUP(Forces!A454,'Dyno Graph'!$F$2:$F$77,'Dyno Graph'!$H$2:$H$77,,-1),IF(Forces!L454=3,_xlfn.XLOOKUP(Forces!A454,'Dyno Graph'!$G$2:$G$77,'Dyno Graph'!$H$2:$H$77,,-1)))) -> 13.245114 | P454: {=_xlfn.XLOOKUP(N454,BSFC!$B$3:$B$25,_xlfn.XLOOKUP(M454,BSFC!$C$2:$P$2,BSFC!$C$3:$P$25,,-1),,-1)} -> 510.466 | Q454: =(O454*P454)/(60*60) -> 1.8781056 | R454: =((B455-B454)/3600)*O454 -> 0.0004394021 | S454: =R454*P454 -> 0.22429983 | T454: =S454+T453 -> 55.756669 | U454: =((R454*P454)/1000)/0.75 -> 0.00029906645 | V454: =U454+V453 -> 0.074342225
... A462: =MIN('Gearing and Output'!$H$7,(SQRT((A461^2)+2*K461*1))) -> 3.9330997 | B462: =(1/A462)+B461 -> 38.615177 | C462: =0.5*'Gearing and Output'!$G$15*'Gearing and Output'!$G$16*'Gearing and Output'!$G$14*(A462)^2 -> 9.0959326 | D462: ='Gearing and Output'!$G$27 -> 213.858 | E462: ='Gearing and Output'!$C$14-C462-D462 -> 261.1531 | F462: =0.5*'Gearing and Output'!$J$27*A462^2 -> 4383.6053 | G462: =A462/('Gearing and Output'!$J$35/1000) -> 13.464908 | H462: =(0.5*I462*A462^2)/1000 -> 4.8862002 | I462: ='Gearing and Output'!$G$38 -> 631.72978 | J462: =E462/I462 -> 0.41339368 | K462: =1.5*(-I462/E462) -> -3.6285025 | L462: =IF(A462<'Gearing and Output'!$H$5,1,IF(A462<'Gearing and Output'!$H$6,2,IF(A462>'Gearing and Output'!$H$6,3))) -> 1 | M462: =IF(L462=1,_xlfn.XLOOKUP(A462,'Dyno Graph'!$E$2:$E$77,'Dyno Graph'!$A$2:$A$77,,1),IF(L462=2,_xlfn.XLOOKUP(A462,'Dyno Graph'!$F$2:$F$77,'Dyno Graph'!$A$2:$A$77,,1),IF(L462=3,_xlfn.XLOOKUP(A462,'Dyno Graph'!$G$2:$G$77,'Dyno Graph'!$A$2:$A$77,,1)))) -> 3100 | N462: =IF(L462=1,_xlfn.XLOOKUP(A462,'Dyno Graph'!$E$2:$E$77,'Dyno Graph'!$D$2:$D$77,,-1),IF(L462=2,_xlfn.XLOOKUP(A462,'Dyno Graph'!$F$2:$F$77,'Dyno Graph'!$D$2:$D$77,,-1),IF(L462=3,_xlfn.XLOOKUP(A462,'Dyno Graph'!$G$2:$G$77,'Dyno Graph'!$D$2:$D$77,,-1)))) -> 14.254 | O462: =IF(L462=1,_xlfn.XLOOKUP(A462,'Dyno Graph'!$E$2:$E$77,'Dyno Graph'!$H$2:$H$77,,-1),IF(Forces!L462=2,_xlfn.XLOOKUP(Forces!A462,'Dyno Graph'!$F$2:$F$77,'Dyno Graph'!$H$2:$H$77,,-1),IF(Forces!L462=3,_xlfn.XLOOKUP(Forces!A462,'Dyno Graph'!$G$2:$G$77,'Dyno Graph'!$H$2:$H$77,,-1)))) -> 4.4742 | P462: {=_xlfn.XLOOKUP(N462,BSFC!$B$3:$B$25,_xlfn.XLOOKUP(M462,BSFC!$C$2:$P$2,BSFC!$C$3:$P$25,,-1),,-1)} -> 510.27942 | Q462: =(O462*P462)/(60*60) -> 0.63419228 | R462: =((B463-B462)/3600)*O462 -> 0.00043369192 | S462: =R462*P462 -> 0.22130406 | T462: =S462+T461 -> 57.624718 | U462: =((R462*P462)/1000)/0.75 -> 0.00029507209 | V462: =U462+V461 -> 0.076832957
A463: =MIN('Gearing and Output'!$H$7,(SQRT((A462^2)+2*K462*1))) -> 2.8657055 | B463: =(1/A463)+B462 -> 38.964131 | C463: =0.5*'Gearing and Output'!$G$15*'Gearing and Output'!$G$16*'Gearing and Output'!$G$14*(A463)^2 -> 4.8288136 | D463: ='Gearing and Output'!$G$27 -> 213.858 | E463: ='Gearing and Output'!$C$14-C463-D463 -> 265.42022 | F463: =0.5*'Gearing and Output'!$J$27*A463^2 -> 2327.1515 | G463: =A463/('Gearing and Output'!$J$35/1000) -> 9.8107001 | H463: =(0.5*I463*A463^2)/1000 -> 2.5939671 | I463: ='Gearing and Output'!$G$38 -> 631.72978 | J463: =E463/I463 -> 0.42014834 | K463: =I463/E463 -> 2.3801118 | L463: =IF(A463<'Gearing and Output'!$H$5,1,IF(A463<'Gearing and Output'!$H$6,2,IF(A463>'Gearing and Output'!$H$6,3))) -> 1 | M463: =IF(L463=1,_xlfn.XLOOKUP(A463,'Dyno Graph'!$E$2:$E$77,'Dyno Graph'!$A$2:$A$77,,1),IF(L463=2,_xlfn.XLOOKUP(A463,'Dyno Graph'!$F$2:$F$77,'Dyno Graph'!$A$2:$A$77,,1),IF(L463=3,_xlfn.XLOOKUP(A463,'Dyno Graph'!$G$2:$G$77,'Dyno Graph'!$A$2:$A$77,,1)))) -> 2300 | N463: =IF(L463=1,_xlfn.XLOOKUP(A463,'Dyno Graph'!$E$2:$E$77,'Dyno Graph'!$D$2:$D$77,,-1),IF(L463=2,_xlfn.XLOOKUP(A463,'Dyno Graph'!$F$2:$F$77,'Dyno Graph'!$D$2:$D$77,,-1),IF(L463=3,_xlfn.XLOOKUP(A463,'Dyno Graph'!$G$2:$G$77,'Dyno Graph'!$D$2:$D$77,,-1)))) -> 13.552461 | O463: =IF(L463=1,_xlfn.XLOOKUP(A463,'Dyno Graph'!$E$2:$E$77,'Dyno Graph'!$H$2:$H$77,,-1),IF(Forces!L463=2,_xlfn.XLOOKUP(Forces!A463,'Dyno Graph'!$F$2:$F$77,'Dyno Graph'!$H$2:$H$77,,-1),IF(Forces!L463=3,_xlfn.XLOOKUP(Forces!A463,'Dyno Graph'!$G$2:$G$77,'Dyno Graph'!$H$2:$H$77,,-1)))) -> 3.1195952 | P463: {=_xlfn.XLOOKUP(N463,BSFC!$B$3:$B$25,_xlfn.XLOOKUP(M463,BSFC!$C$2:$P$2,BSFC!$C$3:$P$25,,-1),,-1)} -> 575.53874 | Q463: =(O463*P463)/(60*60) -> 0.49873551 | R463: =((B464-B463)/3600)*O463 -> 0.00024059358 | S463: =R463*P463 -> 0.13847093 | T463: =S463+T462 -> 57.763189 | U463: =((R463*P463)/1000)/0.75 -> 0.0001846279 | V463: =U463+V462 -> 0.077017585
A464: =MIN('Gearing and Output'!$H$7,(SQRT((A463^2)+2*K463*1))) -> 3.6017345 | B464: =(1/A464)+B463 -> 39.241775 | C464: =0.5*'Gearing and Output'!$G$15*'Gearing and Output'!$G$16*'Gearing and Output'!$G$14*(A464)^2 -> 7.6278251 | D464: ='Gearing and Output'!$G$27 -> 213.858 | E464: ='Gearing and Output'!$C$14-C464-D464 -> 262.6212 | F464: =0.5*'Gearing and Output'!$J$27*A464^2 -> 3676.0798 | G464: =A464/('Gearing and Output'!$J$35/1000) -> 12.330485 | H464: =(0.5*I464*A464^2)/1000 -> 4.0975546 | I464: ='Gearing and Output'!$G$38 -> 631.72978 | J464: =E464/I464 -> 0.41571763 | K464: =I464/E464 -> 2.4054789 | L464: =IF(A464<'Gearing and Output'!$H$5,1,IF(A464<'Gearing and Output'!$H$6,2,IF(A464>'Gearing and Output'!$H$6,3))) -> 1 | M464: =IF(L464=1,_xlfn.XLOOKUP(A464,'Dyno Graph'!$E$2:$E$77,'Dyno Graph'!$A$2:$A$77,,1),IF(L464=2,_xlfn.XLOOKUP(A464,'Dyno Graph'!$F$2:$F$77,'Dyno Graph'!$A$2:$A$77,,1),IF(L464=3,_xlfn.XLOOKUP(A464,'Dyno Graph'!$G$2:$G$77,'Dyno Graph'!$A$2:$A$77,,1)))) -> 2900 | N464: =IF(L464=1,_xlfn.XLOOKUP(A464,'Dyno Graph'!$E$2:$E$77,'Dyno Graph'!$D$2:$D$77,,-1),IF(L464=2,_xlfn.XLOOKUP(A464,'Dyno Graph'!$F$2:$F$77,'Dyno Graph'!$D$2:$D$77,,-1),IF(L464=3,_xlfn.XLOOKUP(A464,'Dyno Graph'!$G$2:$G$77,'Dyno Graph'!$D$2:$D$77,,-1)))) -> 13.447515 | O464: =IF(L464=1,_xlfn.XLOOKUP(A464,'Dyno Graph'!$E$2:$E$77,'Dyno Graph'!$H$2:$H$77,,-1),IF(Forces!L464=2,_xlfn.XLOOKUP(Forces!A464,'Dyno Graph'!$F$2:$F$77,'Dyno Graph'!$H$2:$H$77,,-1),IF(Forces!L464=3,_xlfn.XLOOKUP(Forces!A464,'Dyno Graph'!$G$2:$G$77,'Dyno Graph'!$H$2:$H$77,,-1)))) -> 3.9396482 | P464: {=_xlfn.XLOOKUP(N464,BSFC!$B$3:$B$25,_xlfn.XLOOKUP(M464,BSFC!$C$2:$P$2,BSFC!$C$3:$P$25,,-1),,-1)} -> 538.566 | Q464: =(O464*P464)/(60*60) -> 0.58937794 | R464: =((B465-B464)/3600)*O464 -> 0.00025950572 | S464: =R464*P464 -> 0.13976096 | T464: =S464+T463 -> 57.90295 | U464: =((R464*P464)/1000)/0.75 -> 0.00018634794 | V464: =U464+V463 -> 0.077203933
A465: =MIN('Gearing and Output'!$H$7,(SQRT((A464^2)+2*K464*1))) -> 4.2170427 | B465: =(1/A465)+B464 -> 39.478908 | C465: =0.5*'Gearing and Output'!$G$15*'Gearing and Output'!$G$16*'Gearing and Output'!$G$14*(A465)^2 -> 10.456668 | D465: ='Gearing and Output'!$G$27 -> 213.858 | E465: ='Gearing and Output'!$C$14-C465-D465 -> 259.79236 | F465: =0.5*'Gearing and Output'!$J$27*A465^2 -> 5039.385 | G465: =A465/('Gearing and Output'!$J$35/1000) -> 14.436983 | H465: =(0.5*I465*A465^2)/1000 -> 5.6171673 | I465: ='Gearing and Output'!$G$38 -> 631.72978 | J465: =E465/I465 -> 0.41123969 | K465: =I465/E465 -> 2.4316719 | L465: =IF(A465<'Gearing and Output'!$H$5,1,IF(A465<'Gearing and Output'!$H$6,2,IF(A465>'Gearing and Output'!$H$6,3))) -> 1 | M465: =IF(L465=1,_xlfn.XLOOKUP(A465,'Dyno Graph'!$E$2:$E$77,'Dyno Graph'!$A$2:$A$77,,1),IF(L465=2,_xlfn.XLOOKUP(A465,'Dyno Graph'!$F$2:$F$77,'Dyno Graph'!$A$2:$A$77,,1),IF(L465=3,_xlfn.XLOOKUP(A465,'Dyno Graph'!$G$2:$G$77,'Dyno Graph'!$A$2:$A$77,,1)))) -> 3300 | N465: =IF(L465=1,_xlfn.XLOOKUP(A465,'Dyno Graph'!$E$2:$E$77,'Dyno Graph'!$D$2:$D$77,,-1),IF(L465=2,_xlfn.XLOOKUP(A465,'Dyno Graph'!$F$2:$F$77,'Dyno Graph'!$D$2:$D$77,,-1),IF(L465=3,_xlfn.XLOOKUP(A465,'Dyno Graph'!$G$2:$G$77,'Dyno Graph'!$D$2:$D$77,,-1)))) -> 15.095723 | O465: =IF(L465=1,_xlfn.XLOOKUP(A465,'Dyno Graph'!$E$2:$E$77,'Dyno Graph'!$H$2:$H$77,,-1),IF(Forces!L465=2,_xlfn.XLOOKUP(Forces!A465,'Dyno Graph'!$F$2:$F$77,'Dyno Graph'!$H$2:$H$77,,-1),IF(Forces!L465=3,_xlfn.XLOOKUP(Forces!A465,'Dyno Graph'!$G$2:$G$77,'Dyno Graph'!$H$2:$H$77,,-1)))) -> 5.0543032 | P465: {=_xlfn.XLOOKUP(N465,BSFC!$B$3:$B$25,_xlfn.XLOOKUP(M465,BSFC!$C$2:$P$2,BSFC!$C$3:$P$25,,-1),,-1)} -> 502.667 | Q465: =(O465*P465)/(60*60) -> 0.70573095 | R465: =((B466-B465)/3600)*O465 -> 0.0002950227 | S465: =R465*P465 -> 0.14829817 | T465: =S465+T464 -> 58.051248 | U465: =((R465*P465)/1000)/0.75 -> 0.0001977309 | V465: =U465+V464 -> 0.077401664
A466: =MIN('Gearing and Output'!$H$7,(SQRT((A465^2)+2*K465*1))) -> 4.7588647 | B466: =(1/A466)+B465 -> 39.689042 | C466: =0.5*'Gearing and Output'!$G$15*'Gearing and Output'!$G$16*'Gearing and Output'!$G$14*(A466)^2 -> 13.316314 | D466: ='Gearing and Output'!$G$27 -> 213.858 | E466: ='Gearing and Output'!$C$14-C466-D466 -> 256.93271 | F466: =0.5*'Gearing and Output'!$J$27*A466^2 -> 6417.535 | G466: =A466/('Gearing and Output'!$J$35/1000) -> 16.291902 | H466: =(0.5*I466*A466^2)/1000 -> 7.1533268 | I466: ='Gearing and Output'!$G$38 -> 631.72978 | J466: =E466/I466 -> 0.406713 | K466: =I466/E466 -> 2.4587362 | L466: =IF(A466<'Gearing and Output'!$H$5,1,IF(A466<'Gearing and Output'!$H$6,2,IF(A466>'Gearing and Output'!$H$6,3))) -> 1 | M466: =IF(L466=1,_xlfn.XLOOKUP(A466,'Dyno Graph'!$E$2:$E$77,'Dyno Graph'!$A$2:$A$77,,1),IF(L466=2,_xlfn.XLOOKUP(A466,'Dyno Graph'!$F$2:$F$77,'Dyno Graph'!$A$2:$A$77,,1),IF(L466=3,_xlfn.XLOOKUP(A466,'Dyno Graph'!$G$2:$G$77,'Dyno Graph'!$A$2:$A$77,,1)))) -> 3800 | N466: =IF(L466=1,_xlfn.XLOOKUP(A466,'Dyno Graph'!$E$2:$E$77,'Dyno Graph'!$D$2:$D$77,,-1),IF(L466=2,_xlfn.XLOOKUP(A466,'Dyno Graph'!$F$2:$F$77,'Dyno Graph'!$D$2:$D$77,,-1),IF(L466=3,_xlfn.XLOOKUP(A466,'Dyno Graph'!$G$2:$G$77,'Dyno Graph'!$D$2:$D$77,,-1)))) -> 16.998126 | O466: =IF(L466=1,_xlfn.XLOOKUP(A466,'Dyno Graph'!$E$2:$E$77,'Dyno Graph'!$H$2:$H$77,,-1),IF(Forces!L466=2,_xlfn.XLOOKUP(Forces!A466,'Dyno Graph'!$F$2:$F$77,'Dyno Graph'!$H$2:$H$77,,-1),IF(Forces!L466=3,_xlfn.XLOOKUP(Forces!A466,'Dyno Graph'!$G$2:$G$77,'Dyno Graph'!$H$2:$H$77,,-1)))) -> 6.5805191 | P466: {=_xlfn.XLOOKUP(N466,BSFC!$B$3:$B$25,_xlfn.XLOOKUP(M466,BSFC!$C$2:$P$2,BSFC!$C$3:$P$25,,-1),,-1)} -> 497.78608 | Q466: =(O466*P466)/(60*60) -> 0.90991412 | R466: =((B467-B466)/3600)*O466 -> 0.00034816446 | S466: =R466*P466 -> 0.17331142 | T466: =S466+T465 -> 58.224559 | U466: =((R466*P466)/1000)/0.75 -> 0.0002310819 | V466: =U466+V465 -> 0.077632746
A467: =MIN('Gearing and Output'!$H$7,(SQRT((A466^2)+2*K466*1))) -> 5.2501682 | B467: =(1/A467)+B466 -> 39.879512 | C467: =0.5*'Gearing and Output'!$G$15*'Gearing and Output'!$G$16*'Gearing and Output'!$G$14*(A467)^2 -> 16.207788 | D467: ='Gearing and Output'!$G$27 -> 213.858 | E467: ='Gearing and Output'!$C$14-C467-D467 -> 254.04124 | F467: =0.5*'Gearing and Output'!$J$27*A467^2 -> 7811.0238 | G467: =A467/('Gearing and Output'!$J$35/1000) -> 17.973873 | H467: =(0.5*I467*A467^2)/1000 -> 8.7065837 | I467: ='Gearing and Output'!$G$38 -> 631.72978 | J467: =E467/I467 -> 0.40213593 | K467: =I467/E467 -> 2.4867213 | L467: =IF(A467<'Gearing and Output'!$H$5,1,IF(A467<'Gearing and Output'!$H$6,2,IF(A467>'Gearing and Output'!$H$6,3))) -> 1 | M467: =IF(L467=1,_xlfn.XLOOKUP(A467,'Dyno Graph'!$E$2:$E$77,'Dyno Graph'!$A$2:$A$77,,1),IF(L467=2,_xlfn.XLOOKUP(A467,'Dyno Graph'!$F$2:$F$77,'Dyno Graph'!$A$2:$A$77,,1),IF(L467=3,_xlfn.XLOOKUP(A467,'Dyno Graph'!$G$2:$G$77,'Dyno Graph'!$A$2:$A$77,,1)))) -> 4200 | N467: =IF(L467=1,_xlfn.XLOOKUP(A467,'Dyno Graph'!$E$2:$E$77,'Dyno Graph'!$D$2:$D$77,,-1),IF(L467=2,_xlfn.XLOOKUP(A467,'Dyno Graph'!$F$2:$F$77,'Dyno Graph'!$D$2:$D$77,,-1),IF(L467=3,_xlfn.XLOOKUP(A467,'Dyno Graph'!$G$2:$G$77,'Dyno Graph'!$D$2:$D$77,,-1)))) -> 18.012164 | O467: =IF(L467=1,_xlfn.XLOOKUP(A467,'Dyno Graph'!$E$2:$E$77,'Dyno Graph'!$H$2:$H$77,,-1),IF(Forces!L467=2,_xlfn.XLOOKUP(Forces!A467,'Dyno Graph'!$F$2:$F$77,'Dyno Graph'!$H$2:$H$77,,-1),IF(Forces!L467=3,_xlfn.XLOOKUP(Forces!A467,'Dyno Graph'!$G$2:$G$77,'Dyno Graph'!$H$2:$H$77,,-1)))) -> 7.7269329 | P467: {=_xlfn.XLOOKUP(N467,BSFC!$B$3:$B$25,_xlfn.XLOOKUP(M467,BSFC!$C$2:$P$2,BSFC!$C$3:$P$25,,-1),,-1)} -> 481.62212 | Q467: =(O467*P467)/(60*60) -> 1.0337394 | R467: =((B468-B467)/3600)*O467 -> 0.00037628002 | S467: =R467*P467 -> 0.18122478 | T467: =S467+T466 -> 58.405784 | U467: =((R467*P467)/1000)/0.75 -> 0.00024163304 | V467: =U467+V466 -> 0.077874379
A468: =MIN('Gearing and Output'!$H$7,(SQRT((A467^2)+2*K467*1))) -> 5.7041834 | B468: =(1/A468)+B467 -> 40.054822 | C468: =0.5*'Gearing and Output'!$G$15*'Gearing and Output'!$G$16*'Gearing and Output'!$G$14*(A468)^2 -> 19.132173 | D468: ='Gearing and Output'!$G$27 -> 213.858 | E468: ='Gearing and Output'!$C$14-C468-D468 -> 251.11686 | F468: =0.5*'Gearing and Output'!$J$27*A468^2 -> 9220.3731 | G468: =A468/('Gearing and Output'!$J$35/1000) -> 19.528187 | H468: =(0.5*I468*A468^2)/1000 -> 10.27752 | I468: ='Gearing and Output'!$G$38 -> 631.72978 | J468: =E468/I468 -> 0.39750676 | K468: =I468/E468 -> 2.5156805 | L468: =IF(A468<'Gearing and Output'!$H$5,1,IF(A468<'Gearing and Output'!$H$6,2,IF(A468>'Gearing and Output'!$H$6,3))) -> 1 | M468: =IF(L468=1,_xlfn.XLOOKUP(A468,'Dyno Graph'!$E$2:$E$77,'Dyno Graph'!$A$2:$A$77,,1),IF(L468=2,_xlfn.XLOOKUP(A468,'Dyno Graph'!$F$2:$F$77,'Dyno Graph'!$A$2:$A$77,,1),IF(L468=3,_xlfn.XLOOKUP(A468,'Dyno Graph'!$G$2:$G$77,'Dyno Graph'!$A$2:$A$77,,1)))) -> 4500 | N468: =IF(L468=1,_xlfn.XLOOKUP(A468,'Dyno Graph'!$E$2:$E$77,'Dyno Graph'!$D$2:$D$77,,-1),IF(L468=2,_xlfn.XLOOKUP(A468,'Dyno Graph'!$F$2:$F$77,'Dyno Graph'!$D$2:$D$77,,-1),IF(L468=3,_xlfn.XLOOKUP(A468,'Dyno Graph'!$G$2:$G$77,'Dyno Graph'!$D$2:$D$77,,-1)))) -> 18.664976 | O468: =IF(L468=1,_xlfn.XLOOKUP(A468,'Dyno Graph'!$E$2:$E$77,'Dyno Graph'!$H$2:$H$77,,-1),IF(Forces!L468=2,_xlfn.XLOOKUP(Forces!A468,'Dyno Graph'!$F$2:$F$77,'Dyno Graph'!$H$2:$H$77,,-1),IF(Forces!L468=3,_xlfn.XLOOKUP(Forces!A468,'Dyno Graph'!$G$2:$G$77,'Dyno Graph'!$H$2:$H$77,,-1)))) -> 8.5928552 | P468: {=_xlfn.XLOOKUP(N468,BSFC!$B$3:$B$25,_xlfn.XLOOKUP(M468,BSFC!$C$2:$P$2,BSFC!$C$3:$P$25,,-1),,-1)} -> 465.51182 | Q468: =(O468*P468)/(60*60) -> 1.1111321 | R468: =((B469-B468)/3600)*O468 -> 0.00038942136 | S468: =R468*P468 -> 0.18128025 | T468: =S468+T467 -> 58.587064 | U468: =((R468*P468)/1000)/0.75 -> 0.000241707 | V468: =U468+V467 -> 0.078116086
A469: =MIN('Gearing and Output'!$H$7,(SQRT((A468^2)+2*K468*1))) -> 6.1293613 | B469: =(1/A469)+B468 -> 40.217971 | C469: =0.5*'Gearing and Output'!$G$15*'Gearing and Output'!$G$16*'Gearing and Output'!$G$14*(A469)^2 -> 22.090613 | D469: ='Gearing and Output'!$G$27 -> 213.858 | E469: ='Gearing and Output'!$C$14-C469-D469 -> 248.15842 | F469: =0.5*'Gearing and Output'!$J$27*A469^2 -> 10646.135 | G469: =A469/('Gearing and Output'!$J$35/1000) -> 20.983777 | H469: =(0.5*I469*A469^2)/1000 -> 11.86675 | I469: ='Gearing and Output'!$G$38 -> 631.72978 | J469: =E469/I469 -> 0.39282368 | K469: =I469/E469 -> 2.5456714 | L469: =IF(A469<'Gearing and Output'!$H$5,1,IF(A469<'Gearing and Output'!$H$6,2,IF(A469>'Gearing and Output'!$H$6,3))) -> 1 | M469: =IF(L469=1,_xlfn.XLOOKUP(A469,'Dyno Graph'!$E$2:$E$77,'Dyno Graph'!$A$2:$A$77,,1),IF(L469=2,_xlfn.XLOOKUP(A469,'Dyno Graph'!$F$2:$F$77,'Dyno Graph'!$A$2:$A$77,,1),IF(L469=3,_xlfn.XLOOKUP(A469,'Dyno Graph'!$G$2:$G$77,'Dyno Graph'!$A$2:$A$77,,1)))) -> 4800 | N469: =IF(L469=1,_xlfn.XLOOKUP(A469,'Dyno Graph'!$E$2:$E$77,'Dyno Graph'!$D$2:$D$77,,-1),IF(L469=2,_xlfn.XLOOKUP(A469,'Dyno Graph'!$F$2:$F$77,'Dyno Graph'!$D$2:$D$77,,-1),IF(L469=3,_xlfn.XLOOKUP(A469,'Dyno Graph'!$G$2:$G$77,'Dyno Graph'!$D$2:$D$77,,-1)))) -> 19.932889 | O469: =IF(L469=1,_xlfn.XLOOKUP(A469,'Dyno Graph'!$E$2:$E$77,'Dyno Graph'!$H$2:$H$77,,-1),IF(Forces!L469=2,_xlfn.XLOOKUP(Forces!A469,'Dyno Graph'!$F$2:$F$77,'Dyno Graph'!$H$2:$H$77,,-1),IF(Forces!L469=3,_xlfn.XLOOKUP(Forces!A469,'Dyno Graph'!$G$2:$G$77,'Dyno Graph'!$H$2:$H$77,,-1)))) -> 9.8022436 | P469: {=_xlfn.XLOOKUP(N469,BSFC!$B$3:$B$25,_xlfn.XLOOKUP(M469,BSFC!$C$2:$P$2,BSFC!$C$3:$P$25,,-1),,-1)} -> 474.51549 | Q469: =(O469*P469)/(60*60) -> 1.2920324 | R469: =((B470-B469)/3600)*O469 -> 0.00041687943 | S469: =R469*P469 -> 0.19781575 | T469: =S469+T468 -> 58.78488 | U469: =((R469*P469)/1000)/0.75 -> 0.00026375433 | V469: =U469+V468 -> 0.07837984
A470: =MIN('Gearing and Output'!$H$7,(SQRT((A469^2)+2*K469*1))) -> 6.5314939 | B470: =(1/A470)+B469 -> 40.371076 | C470: =0.5*'Gearing and Output'!$G$15*'Gearing and Output'!$G$16*'Gearing and Output'!$G$14*(A470)^2 -> 25.084322 | D470: ='Gearing and Output'!$G$27 -> 213.858 | E470: ='Gearing and Output'!$C$14-C470-D470 -> 245.16471 | F470: =0.5*'Gearing and Output'!$J$27*A470^2 -> 12088.894 | G470: =A470/('Gearing and Output'!$J$35/1000) -> 22.360472 | H470: =(0.5*I470*A470^2)/1000 -> 13.474926 | I470: ='Gearing and Output'!$G$38 -> 631.72978 | J470: =E470/I470 -> 0.38808477 | K470: =I470/E470 -> 2.5767566 | L470: =IF(A470<'Gearing and Output'!$H$5,1,IF(A470<'Gearing and Output'!$H$6,2,IF(A470>'Gearing and Output'!$H$6,3))) -> 1 | M470: =IF(L470=1,_xlfn.XLOOKUP(A470,'Dyno Graph'!$E$2:$E$77,'Dyno Graph'!$A$2:$A$77,,1),IF(L470=2,_xlfn.XLOOKUP(A470,'Dyno Graph'!$F$2:$F$77,'Dyno Graph'!$A$2:$A$77,,1),IF(L470=3,_xlfn.XLOOKUP(A470,'Dyno Graph'!$G$2:$G$77,'Dyno Graph'!$A$2:$A$77,,1)))) -> 5200 | N470: =IF(L470=1,_xlfn.XLOOKUP(A470,'Dyno Graph'!$E$2:$E$77,'Dyno Graph'!$D$2:$D$77,,-1),IF(L470=2,_xlfn.XLOOKUP(A470,'Dyno Graph'!$F$2:$F$77,'Dyno Graph'!$D$2:$D$77,,-1),IF(L470=3,_xlfn.XLOOKUP(A470,'Dyno Graph'!$G$2:$G$77,'Dyno Graph'!$D$2:$D$77,,-1)))) -> 21.738326 | O470: =IF(L470=1,_xlfn.XLOOKUP(A470,'Dyno Graph'!$E$2:$E$77,'Dyno Graph'!$H$2:$H$77,,-1),IF(Forces!L470=2,_xlfn.XLOOKUP(Forces!A470,'Dyno Graph'!$F$2:$F$77,'Dyno Graph'!$H$2:$H$77,,-1),IF(Forces!L470=3,_xlfn.XLOOKUP(Forces!A470,'Dyno Graph'!$G$2:$G$77,'Dyno Graph'!$H$2:$H$77,,-1)))) -> 11.599884 | P470: {=_xlfn.XLOOKUP(N470,BSFC!$B$3:$B$25,_xlfn.XLOOKUP(M470,BSFC!$C$2:$P$2,BSFC!$C$3:$P$25,,-1),,-1)} -> 470.50444 | Q470: =(O470*P470)/(60*60) -> 1.5160548 | R470: =((B471-B470)/3600)*O470 -> 0.00046598717 | S470: =R470*P470 -> 0.21924904 | T470: =S470+T469 -> 59.004129 | U470: =((R470*P470)/1000)/0.75 -> 0.00029233205 | V470: =U470+V469 -> 0.078672172
A471: =MIN('Gearing and Output'!$H$7,(SQRT((A470^2)+2*K470*1))) -> 6.9147614 | B471: =(1/A471)+B470 -> 40.515694 | C471: =0.5*'Gearing and Output'!$G$15*'Gearing and Output'!$G$16*'Gearing and Output'!$G$14*(A471)^2 -> 28.114588 | D471: ='Gearing and Output'!$G$27 -> 213.858 | E471: ='Gearing and Output'!$C$14-C471-D471 -> 242.13444 | F471: =0.5*'Gearing and Output'!$J$27*A471^2 -> 13549.271 | G471: =A471/('Gearing and Output'!$J$35/1000) -> 23.672583 | H471: =(0.5*I471*A471^2)/1000 -> 15.10274 | I471: ='Gearing and Output'!$G$38 -> 631.72978 | J471: =E471/I471 -> 0.383288 | K471: =I471/E471 -> 2.6090042 | L471: =IF(A471<'Gearing and Output'!$H$5,1,IF(A471<'Gearing and Output'!$H$6,2,IF(A471>'Gearing and Output'!$H$6,3))) -> 1 | M471: =IF(L471=1,_xlfn.XLOOKUP(A471,'Dyno Graph'!$E$2:$E$77,'Dyno Graph'!$A$2:$A$77,,1),IF(L471=2,_xlfn.XLOOKUP(A471,'Dyno Graph'!$F$2:$F$77,'Dyno Graph'!$A$2:$A$77,,1),IF(L471=3,_xlfn.XLOOKUP(A471,'Dyno Graph'!$G$2:$G$77,'Dyno Graph'!$A$2:$A$77,,1)))) -> 5500 | N471: =IF(L471=1,_xlfn.XLOOKUP(A471,'Dyno Graph'!$E$2:$E$77,'Dyno Graph'!$D$2:$D$77,,-1),IF(L471=2,_xlfn.XLOOKUP(A471,'Dyno Graph'!$F$2:$F$77,'Dyno Graph'!$D$2:$D$77,,-1),IF(L471=3,_xlfn.XLOOKUP(A471,'Dyno Graph'!$G$2:$G$77,'Dyno Graph'!$D$2:$D$77,,-1)))) -> 22.137863 | O471: =IF(L471=1,_xlfn.XLOOKUP(A471,'Dyno Graph'!$E$2:$E$77,'Dyno Graph'!$H$2:$H$77,,-1),IF(Forces!L471=2,_xlfn.XLOOKUP(Forces!A471,'Dyno Graph'!$F$2:$F$77,'Dyno Graph'!$H$2:$H$77,,-1),IF(Forces!L471=3,_xlfn.XLOOKUP(Forces!A471,'Dyno Graph'!$G$2:$G$77,'Dyno Graph'!$H$2:$H$77,,-1)))) -> 12.50797 | P471: {=_xlfn.XLOOKUP(N471,BSFC!$B$3:$B$25,_xlfn.XLOOKUP(M471,BSFC!$C$2:$P$2,BSFC!$C$3:$P$25,,-1),,-1)} -> 452.21 | Q471: =(O471*P471)/(60*60) -> 1.5711748 | R471: =((B472-B471)/3600)*O471 -> 0.00047710679 | S471: =R471*P471 -> 0.21575246 | T471: =S471+T470 -> 59.219882 | U471: =((R471*P471)/1000)/0.75 -> 0.00028766995 | V471: =U471+V470 -> 0.078959842
A472: =MIN('Gearing and Output'!$H$7,(SQRT((A471^2)+2*K471*1))) -> 7.2823028 | B472: =(1/A472)+B471 -> 40.653013 | C472: =0.5*'Gearing and Output'!$G$15*'Gearing and Output'!$G$16*'Gearing and Output'!$G$14*(A472)^2 -> 31.182777 | D472: ='Gearing and Output'!$G$27 -> 213.858 | E472: ='Gearing and Output'!$C$14-C472-D472 -> 239.06625 | F472: =0.5*'Gearing and Output'!$J$27*A472^2 -> 15027.924 | G472: =A472/('Gearing and Output'!$J$35/1000) -> 24.930855 | H472: =(0.5*I472*A472^2)/1000 -> 16.750926 | I472: ='Gearing and Output'!$G$38 -> 631.72978 | J472: =E472/I472 -> 0.37843119 | K472: =I472/E472 -> 2.6424883 | L472: =IF(A472<'Gearing and Output'!$H$5,1,IF(A472<'Gearing and Output'!$H$6,2,IF(A472>'Gearing and Output'!$H$6,3))) -> 1 | M472: =IF(L472=1,_xlfn.XLOOKUP(A472,'Dyno Graph'!$E$2:$E$77,'Dyno Graph'!$A$2:$A$77,,1),IF(L472=2,_xlfn.XLOOKUP(A472,'Dyno Graph'!$F$2:$F$77,'Dyno Graph'!$A$2:$A$77,,1),IF(L472=3,_xlfn.XLOOKUP(A472,'Dyno Graph'!$G$2:$G$77,'Dyno Graph'!$A$2:$A$77,,1)))) -> 5700 | N472: =IF(L472=1,_xlfn.XLOOKUP(A472,'Dyno Graph'!$E$2:$E$77,'Dyno Graph'!$D$2:$D$77,,-1),IF(L472=2,_xlfn.XLOOKUP(A472,'Dyno Graph'!$F$2:$F$77,'Dyno Graph'!$D$2:$D$77,,-1),IF(L472=3,_xlfn.XLOOKUP(A472,'Dyno Graph'!$G$2:$G$77,'Dyno Graph'!$D$2:$D$77,,-1)))) -> 21.717518 | O472: =IF(L472=1,_xlfn.XLOOKUP(A472,'Dyno Graph'!$E$2:$E$77,'Dyno Graph'!$H$2:$H$77,,-1),IF(Forces!L472=2,_xlfn.XLOOKUP(Forces!A472,'Dyno Graph'!$F$2:$F$77,'Dyno Graph'!$H$2:$H$77,,-1),IF(Forces!L472=3,_xlfn.XLOOKUP(Forces!A472,'Dyno Graph'!$G$2:$G$77,'Dyno Graph'!$H$2:$H$77,,-1)))) -> 12.724936 | P472: {=_xlfn.XLOOKUP(N472,BSFC!$B$3:$B$25,_xlfn.XLOOKUP(M472,BSFC!$C$2:$P$2,BSFC!$C$3:$P$25,,-1),,-1)} -> 433.88 | Q472: =(O472*P472)/(60*60) -> 1.5336375 | R472: =((B473-B472)/3600)*O472 -> 0.0004628666 | S472: =R472*P472 -> 0.20082856 | T472: =S472+T471 -> 59.42071 | U472: =((R472*P472)/1000)/0.75 -> 0.00026777141 | V472: =U472+V471 -> 0.079227613
A473: =MIN('Gearing and Output'!$H$7,(SQRT((A472^2)+2*K472*1))) -> 7.636551 | B473: =(1/A473)+B472 -> 40.783962 | C473: =0.5*'Gearing and Output'!$G$15*'Gearing and Output'!$G$16*'Gearing and Output'!$G$14*(A473)^2 -> 34.290343 | D473: ='Gearing and Output'!$G$27 -> 213.858 | E473: ='Gearing and Output'!$C$14-C473-D473 -> 235.95869 | F473: =0.5*'Gearing and Output'!$J$27*A473^2 -> 16525.554 | G473: =A473/('Gearing and Output'!$J$35/1000) -> 26.143618 | H473: =(0.5*I473*A473^2)/1000 -> 18.420264 | I473: ='Gearing and Output'!$G$38 -> 631.72978 | J473: =E473/I473 -> 0.37351205 | K473: =I473/E473 -> 2.6772898 | L473: =IF(A473<'Gearing and Output'!$H$5,1,IF(A473<'Gearing and Output'!$H$6,2,IF(A473>'Gearing and Output'!$H$6,3))) -> 1 | M473: =IF(L473=1,_xlfn.XLOOKUP(A473,'Dyno Graph'!$E$2:$E$77,'Dyno Graph'!$A$2:$A$77,,1),IF(L473=2,_xlfn.XLOOKUP(A473,'Dyno Graph'!$F$2:$F$77,'Dyno Graph'!$A$2:$A$77,,1),IF(L473=3,_xlfn.XLOOKUP(A473,'Dyno Graph'!$G$2:$G$77,'Dyno Graph'!$A$2:$A$77,,1)))) -> 6000 | N473: =IF(L473=1,_xlfn.XLOOKUP(A473,'Dyno Graph'!$E$2:$E$77,'Dyno Graph'!$D$2:$D$77,,-1),IF(L473=2,_xlfn.XLOOKUP(A473,'Dyno Graph'!$F$2:$F$77,'Dyno Graph'!$D$2:$D$77,,-1),IF(L473=3,_xlfn.XLOOKUP(A473,'Dyno Graph'!$G$2:$G$77,'Dyno Graph'!$D$2:$D$77,,-1)))) -> 20.494399 | O473: =IF(L473=1,_xlfn.XLOOKUP(A473,'Dyno Graph'!$E$2:$E$77,'Dyno Graph'!$H$2:$H$77,,-1),IF(Forces!L473=2,_xlfn.XLOOKUP(Forces!A473,'Dyno Graph'!$F$2:$F$77,'Dyno Graph'!$H$2:$H$77,,-1),IF(Forces!L473=3,_xlfn.XLOOKUP(Forces!A473,'Dyno Graph'!$G$2:$G$77,'Dyno Graph'!$H$2:$H$77,,-1)))) -> 12.651575 | P473: {=_xlfn.XLOOKUP(N473,BSFC!$B$3:$B$25,_xlfn.XLOOKUP(M473,BSFC!$C$2:$P$2,BSFC!$C$3:$P$25,,-1),,-1)} -> 469.19732 | Q473: =(O473*P473)/(60*60) -> 1.6489125 | R473: =((B474-B473)/3600)*O473 -> 0.00044042258 | S473: =R473*P473 -> 0.2066451 | T473: =S473+T472 -> 59.627355 | U473: =((R473*P473)/1000)/0.75 -> 0.00027552679 | V473: =U473+V472 -> 0.07950314
A474: =MIN('Gearing and Output'!$H$7,(SQRT((A473^2)+2*K473*1))) -> 7.9794417 | B474: =(1/A474)+B473 -> 40.909284 | C474: =0.5*'Gearing and Output'!$G$15*'Gearing and Output'!$G$16*'Gearing and Output'!$G$14*(A474)^2 -> 37.438836 | D474: ='Gearing and Output'!$G$27 -> 213.858 | E474: ='Gearing and Output'!$C$14-C474-D474 -> 232.81019 | F474: =0.5*'Gearing and Output'!$J$27*A474^2 -> 18042.908 | G474: =A474/('Gearing and Output'!$J$35/1000) -> 27.3175 | H474: =(0.5*I474*A474^2)/1000 -> 20.111588 | I474: ='Gearing and Output'!$G$38 -> 631.72978 | J474: =E474/I474 -> 0.36852813 | K474: =I474/E474 -> 2.7134971 | L474: =IF(A474<'Gearing and Output'!$H$5,1,IF(A474<'Gearing and Output'!$H$6,2,IF(A474>'Gearing and Output'!$H$6,3))) -> 1 | M474: =IF(L474=1,_xlfn.XLOOKUP(A474,'Dyno Graph'!$E$2:$E$77,'Dyno Graph'!$A$2:$A$77,,1),IF(L474=2,_xlfn.XLOOKUP(A474,'Dyno Graph'!$F$2:$F$77,'Dyno Graph'!$A$2:$A$77,,1),IF(L474=3,_xlfn.XLOOKUP(A474,'Dyno Graph'!$G$2:$G$77,'Dyno Graph'!$A$2:$A$77,,1)))) -> 6300 | N474: =IF(L474=1,_xlfn.XLOOKUP(A474,'Dyno Graph'!$E$2:$E$77,'Dyno Graph'!$D$2:$D$77,,-1),IF(L474=2,_xlfn.XLOOKUP(A474,'Dyno Graph'!$F$2:$F$77,'Dyno Graph'!$D$2:$D$77,,-1),IF(L474=3,_xlfn.XLOOKUP(A474,'Dyno Graph'!$G$2:$G$77,'Dyno Graph'!$D$2:$D$77,,-1)))) -> 19.742442 | O474: =IF(L474=1,_xlfn.XLOOKUP(A474,'Dyno Graph'!$E$2:$E$77,'Dyno Graph'!$H$2:$H$77,,-1),IF(Forces!L474=2,_xlfn.XLOOKUP(Forces!A474,'Dyno Graph'!$F$2:$F$77,'Dyno Graph'!$H$2:$H$77,,-1),IF(Forces!L474=3,_xlfn.XLOOKUP(Forces!A474,'Dyno Graph'!$G$2:$G$77,'Dyno Graph'!$H$2:$H$77,,-1)))) -> 12.807075 | P474: {=_xlfn.XLOOKUP(N474,BSFC!$B$3:$B$25,_xlfn.XLOOKUP(M474,BSFC!$C$2:$P$2,BSFC!$C$3:$P$25,,-1),,-1)} -> 457.16662 | Q474: =(O474*P474)/(60*60) -> 1.6263798 | R474: =((B475-B474)/3600)*O474 -> 0.00042796987 | S474: =R474*P474 -> 0.19565354 | T474: =S474+T473 -> 59.823009 | U474: =((R474*P474)/1000)/0.75 -> 0.00026087138 | V474: =U474+V473 -> 0.079764012
... A519: =MIN('Gearing and Output'!$H$7,(SQRT((A518^2)+2*K518*1))) -> 13.752389 | B519: =(1/A519)+B518 -> 44.564629 | C519: =0.5*'Gearing and Output'!$G$15*'Gearing and Output'!$G$16*'Gearing and Output'!$G$14*(A519)^2 -> 111.20738 | D519: ='Gearing and Output'!$G$27 -> 213.858 | E519: ='Gearing and Output'!$C$14-C519-D519 -> 159.04165 | F519: =0.5*'Gearing and Output'!$J$27*A519^2 -> 53594.202 | G519: =A519/('Gearing and Output'!$J$35/1000) -> 47.081098 | H519: =(0.5*I519*A519^2)/1000 -> 59.738956 | I519: ='Gearing and Output'!$G$38 -> 631.72978 | J519: =E519/I519 -> 0.25175583 | K519: =I519/E519 -> 3.9721027 | L519: =IF(A519<'Gearing and Output'!$H$5,1,IF(A519<'Gearing and Output'!$H$6,2,IF(A519>'Gearing and Output'!$H$6,3))) -> 3 | M519: =IF(L519=1,_xlfn.XLOOKUP(A519,'Dyno Graph'!$E$2:$E$77,'Dyno Graph'!$A$2:$A$77,,1),IF(L519=2,_xlfn.XLOOKUP(A519,'Dyno Graph'!$F$2:$F$77,'Dyno Graph'!$A$2:$A$77,,1),IF(L519=3,_xlfn.XLOOKUP(A519,'Dyno Graph'!$G$2:$G$77,'Dyno Graph'!$A$2:$A$77,,1)))) -> 7500 | N519: =IF(L519=1,_xlfn.XLOOKUP(A519,'Dyno Graph'!$E$2:$E$77,'Dyno Graph'!$D$2:$D$77,,-1),IF(L519=2,_xlfn.XLOOKUP(A519,'Dyno Graph'!$F$2:$F$77,'Dyno Graph'!$D$2:$D$77,,-1),IF(L519=3,_xlfn.XLOOKUP(A519,'Dyno Graph'!$G$2:$G$77,'Dyno Graph'!$D$2:$D$77,,-1)))) -> 14.254 | O519: =IF(L519=1,_xlfn.XLOOKUP(A519,'Dyno Graph'!$E$2:$E$77,'Dyno Graph'!$H$2:$H$77,,-1),IF(Forces!L519=2,_xlfn.XLOOKUP(Forces!A519,'Dyno Graph'!$F$2:$F$77,'Dyno Graph'!$H$2:$H$77,,-1),IF(Forces!L519=3,_xlfn.XLOOKUP(Forces!A519,'Dyno Graph'!$G$2:$G$77,'Dyno Graph'!$H$2:$H$77,,-1)))) -> 11.1855 | P519: {=_xlfn.XLOOKUP(N519,BSFC!$B$3:$B$25,_xlfn.XLOOKUP(M519,BSFC!$C$2:$P$2,BSFC!$C$3:$P$25,,-1),,-1)} -> 475.44295 | Q519: =(O519*P519)/(60*60) -> 1.4772409 | R519: =((B520-B519)/3600)*O519 -> 0.00022593045 | S519: =R519*P519 -> 0.10741704 | T519: =S519+T518 -> 65.66959 | U519: =((R519*P519)/1000)/0.75 -> 0.00014322272 | V519: =U519+V518 -> 0.087559453
A520: =MIN('Gearing and Output'!$H$7,(SQRT((A519^2)+2*K519*1))) -> 13.752389 | B520: =(1/A520)+B519 -> 44.637344 | C520: =0.5*'Gearing and Output'!$G$15*'Gearing and Output'!$G$16*'Gearing and Output'!$G$14*(A520)^2 -> 111.20738 | D520: ='Gearing and Output'!$G$27 -> 213.858 | E520: ='Gearing and Output'!$C$14-C520-D520 -> 159.04165 | F520: =0.5*'Gearing and Output'!$J$27*A520^2 -> 53594.202 | G520: =A520/('Gearing and Output'!$J$35/1000) -> 47.081098 | H520: =(0.5*I520*A520^2)/1000 -> 59.738956 | I520: ='Gearing and Output'!$G$38 -> 631.72978 | J520: =E520/I520 -> 0.25175583 | K520: =1.5*(-I520/E520) -> -5.9581541 | L520: =IF(A520<'Gearing and Output'!$H$5,1,IF(A520<'Gearing and Output'!$H$6,2,IF(A520>'Gearing and Output'!$H$6,3))) -> 3 | M520: =IF(L520=1,_xlfn.XLOOKUP(A520,'Dyno Graph'!$E$2:$E$77,'Dyno Graph'!$A$2:$A$77,,1),IF(L520=2,_xlfn.XLOOKUP(A520,'Dyno Graph'!$F$2:$F$77,'Dyno Graph'!$A$2:$A$77,,1),IF(L520=3,_xlfn.XLOOKUP(A520,'Dyno Graph'!$G$2:$G$77,'Dyno Graph'!$A$2:$A$77,,1)))) -> 7500 | N520: =IF(L520=1,_xlfn.XLOOKUP(A520,'Dyno Graph'!$E$2:$E$77,'Dyno Graph'!$D$2:$D$77,,-1),IF(L520=2,_xlfn.XLOOKUP(A520,'Dyno Graph'!$F$2:$F$77,'Dyno Graph'!$D$2:$D$77,,-1),IF(L520=3,_xlfn.XLOOKUP(A520,'Dyno Graph'!$G$2:$G$77,'Dyno Graph'!$D$2:$D$77,,-1)))) -> 14.254 | O520: =IF(L520=1,_xlfn.XLOOKUP(A520,'Dyno Graph'!$E$2:$E$77,'Dyno Graph'!$H$2:$H$77,,-1),IF(Forces!L520=2,_xlfn.XLOOKUP(Forces!A520,'Dyno Graph'!$F$2:$F$77,'Dyno Graph'!$H$2:$H$77,,-1),IF(Forces!L520=3,_xlfn.XLOOKUP(Forces!A520,'Dyno Graph'!$G$2:$G$77,'Dyno Graph'!$H$2:$H$77,,-1)))) -> 11.1855 | P520: {=_xlfn.XLOOKUP(N520,BSFC!$B$3:$B$25,_xlfn.XLOOKUP(M520,BSFC!$C$2:$P$2,BSFC!$C$3:$P$25,,-1),,-1)} -> 475.44295 | Q520: =(O520*P520)/(60*60) -> 1.4772409 | R520: =((B521-B520)/3600)*O520 -> 0.00023340302 | S520: =R520*P520 -> 0.11096982 | T520: =S520+T519 -> 65.78056 | U520: =((R520*P520)/1000)/0.75 -> 0.00014795976 | V520: =U520+V519 -> 0.087707413
A521: =MIN('Gearing and Output'!$H$7,(SQRT((A520^2)+2*K520*1))) -> 13.312095 | B521: =(1/A521)+B520 -> 44.712464 | C521: =0.5*'Gearing and Output'!$G$15*'Gearing and Output'!$G$16*'Gearing and Output'!$G$14*(A521)^2 -> 104.20059 | D521: ='Gearing and Output'!$G$27 -> 213.858 | E521: ='Gearing and Output'!$C$14-C521-D521 -> 166.04844 | F521: =0.5*'Gearing and Output'!$J$27*A521^2 -> 50217.418 | G521: =A521/('Gearing and Output'!$J$35/1000) -> 45.57376 | H521: =(0.5*I521*A521^2)/1000 -> 55.975012 | I521: ='Gearing and Output'!$G$38 -> 631.72978 | J521: =E521/I521 -> 0.26284726 | K521: =1.5*(-I521/E521) -> -5.7067363 | L521: =IF(A521<'Gearing and Output'!$H$5,1,IF(A521<'Gearing and Output'!$H$6,2,IF(A521>'Gearing and Output'!$H$6,3))) -> 3 | M521: =IF(L521=1,_xlfn.XLOOKUP(A521,'Dyno Graph'!$E$2:$E$77,'Dyno Graph'!$A$2:$A$77,,1),IF(L521=2,_xlfn.XLOOKUP(A521,'Dyno Graph'!$F$2:$F$77,'Dyno Graph'!$A$2:$A$77,,1),IF(L521=3,_xlfn.XLOOKUP(A521,'Dyno Graph'!$G$2:$G$77,'Dyno Graph'!$A$2:$A$77,,1)))) -> 7300 | N521: =IF(L521=1,_xlfn.XLOOKUP(A521,'Dyno Graph'!$E$2:$E$77,'Dyno Graph'!$D$2:$D$77,,-1),IF(L521=2,_xlfn.XLOOKUP(A521,'Dyno Graph'!$F$2:$F$77,'Dyno Graph'!$D$2:$D$77,,-1),IF(L521=3,_xlfn.XLOOKUP(A521,'Dyno Graph'!$G$2:$G$77,'Dyno Graph'!$D$2:$D$77,,-1)))) -> 15.729543 | O521: =IF(L521=1,_xlfn.XLOOKUP(A521,'Dyno Graph'!$E$2:$E$77,'Dyno Graph'!$H$2:$H$77,,-1),IF(Forces!L521=2,_xlfn.XLOOKUP(Forces!A521,'Dyno Graph'!$F$2:$F$77,'Dyno Graph'!$H$2:$H$77,,-1),IF(Forces!L521=3,_xlfn.XLOOKUP(Forces!A521,'Dyno Graph'!$G$2:$G$77,'Dyno Graph'!$H$2:$H$77,,-1)))) -> 11.849662 | P521: {=_xlfn.XLOOKUP(N521,BSFC!$B$3:$B$25,_xlfn.XLOOKUP(M521,BSFC!$C$2:$P$2,BSFC!$C$3:$P$25,,-1),,-1)} -> 482.49828 | Q521: =(O521*P521)/(60*60) -> 1.5881783 | R521: =((B522-B521)/3600)*O521 -> 0.00025563087 | S521: =R521*P521 -> 0.12334145 | T521: =S521+T520 -> 65.903901 | U521: =((R521*P521)/1000)/0.75 -> 0.00016445527 | V521: =U521+V520 -> 0.087871868
A522: =MIN('Gearing and Output'!$H$7,(SQRT((A521^2)+2*K521*1))) -> 12.876273 | B522: =(1/A522)+B521 -> 44.790126 | C522: =0.5*'Gearing and Output'!$G$15*'Gearing and Output'!$G$16*'Gearing and Output'!$G$14*(A522)^2 -> 97.489466 | D522: ='Gearing and Output'!$G$27 -> 213.858 | E522: ='Gearing and Output'!$C$14-C522-D522 -> 172.75956 | F522: =0.5*'Gearing and Output'!$J$27*A522^2 -> 46983.125 | G522: =A522/('Gearing and Output'!$J$35/1000) -> 44.08173 | H522: =(0.5*I522*A522^2)/1000 -> 52.369897 | I522: ='Gearing and Output'!$G$38 -> 631.72978 | J522: =E522/I522 -> 0.27347067 | K522: =1.5*(-I522/E522) -> -5.485049 | L522: =IF(A522<'Gearing and Output'!$H$5,1,IF(A522<'Gearing and Output'!$H$6,2,IF(A522>'Gearing and Output'!$H$6,3))) -> 3 | M522: =IF(L522=1,_xlfn.XLOOKUP(A522,'Dyno Graph'!$E$2:$E$77,'Dyno Graph'!$A$2:$A$77,,1),IF(L522=2,_xlfn.XLOOKUP(A522,'Dyno Graph'!$F$2:$F$77,'Dyno Graph'!$A$2:$A$77,,1),IF(L522=3,_xlfn.XLOOKUP(A522,'Dyno Graph'!$G$2:$G$77,'Dyno Graph'!$A$2:$A$77,,1)))) -> 7100 | N522: =IF(L522=1,_xlfn.XLOOKUP(A522,'Dyno Graph'!$E$2:$E$77,'Dyno Graph'!$D$2:$D$77,,-1),IF(L522=2,_xlfn.XLOOKUP(A522,'Dyno Graph'!$F$2:$F$77,'Dyno Graph'!$D$2:$D$77,,-1),IF(L522=3,_xlfn.XLOOKUP(A522,'Dyno Graph'!$G$2:$G$77,'Dyno Graph'!$D$2:$D$77,,-1)))) -> 17.308429 | O522: =IF(L522=1,_xlfn.XLOOKUP(A522,'Dyno Graph'!$E$2:$E$77,'Dyno Graph'!$H$2:$H$77,,-1),IF(Forces!L522=2,_xlfn.XLOOKUP(Forces!A522,'Dyno Graph'!$F$2:$F$77,'Dyno Graph'!$H$2:$H$77,,-1),IF(Forces!L522=3,_xlfn.XLOOKUP(Forces!A522,'Dyno Graph'!$G$2:$G$77,'Dyno Graph'!$H$2:$H$77,,-1)))) -> 12.6769 | P522: {=_xlfn.XLOOKUP(N522,BSFC!$B$3:$B$25,_xlfn.XLOOKUP(M522,BSFC!$C$2:$P$2,BSFC!$C$3:$P$25,,-1),,-1)} -> 541.22172 | Q522: =(O522*P522)/(60*60) -> 1.9058371 | R522: =((B523-B522)/3600)*O522 -> 0.00028299931 | S522: =R522*P522 -> 0.15316537 | T522: =S522+T521 -> 66.057066 | U522: =((R522*P522)/1000)/0.75 -> 0.00020422049 | V522: =U522+V521 -> 0.088076088
A523: =MIN('Gearing and Output'!$H$7,(SQRT((A522^2)+2*K522*1))) -> 12.443003 | B523: =(1/A523)+B522 -> 44.870492 | C523: =0.5*'Gearing and Output'!$G$15*'Gearing and Output'!$G$16*'Gearing and Output'!$G$14*(A523)^2 -> 91.039049 | D523: ='Gearing and Output'!$G$27 -> 213.858 | E523: ='Gearing and Output'!$C$14-C523-D523 -> 179.20998 | F523: =0.5*'Gearing and Output'!$J$27*A523^2 -> 43874.474 | G523: =A523/('Gearing and Output'!$J$35/1000) -> 42.598434 | H523: =(0.5*I523*A523^2)/1000 -> 48.904828 | I523: ='Gearing and Output'!$G$38 -> 631.72978 | J523: =E523/I523 -> 0.28368139 | K523: =1.5*(-I523/E523) -> -5.2876222 | L523: =IF(A523<'Gearing and Output'!$H$5,1,IF(A523<'Gearing and Output'!$H$6,2,IF(A523>'Gearing and Output'!$H$6,3))) -> 3 | M523: =IF(L523=1,_xlfn.XLOOKUP(A523,'Dyno Graph'!$E$2:$E$77,'Dyno Graph'!$A$2:$A$77,,1),IF(L523=2,_xlfn.XLOOKUP(A523,'Dyno Graph'!$F$2:$F$77,'Dyno Graph'!$A$2:$A$77,,1),IF(L523=3,_xlfn.XLOOKUP(A523,'Dyno Graph'!$G$2:$G$77,'Dyno Graph'!$A$2:$A$77,,1)))) -> 6800 | N523: =IF(L523=1,_xlfn.XLOOKUP(A523,'Dyno Graph'!$E$2:$E$77,'Dyno Graph'!$D$2:$D$77,,-1),IF(L523=2,_xlfn.XLOOKUP(A523,'Dyno Graph'!$F$2:$F$77,'Dyno Graph'!$D$2:$D$77,,-1),IF(L523=3,_xlfn.XLOOKUP(A523,'Dyno Graph'!$G$2:$G$77,'Dyno Graph'!$D$2:$D$77,,-1)))) -> 19.67903 | O523: =IF(L523=1,_xlfn.XLOOKUP(A523,'Dyno Graph'!$E$2:$E$77,'Dyno Graph'!$H$2:$H$77,,-1),IF(Forces!L523=2,_xlfn.XLOOKUP(Forces!A523,'Dyno Graph'!$F$2:$F$77,'Dyno Graph'!$H$2:$H$77,,-1),IF(Forces!L523=3,_xlfn.XLOOKUP(Forces!A523,'Dyno Graph'!$G$2:$G$77,'Dyno Graph'!$H$2:$H$77,,-1)))) -> 13.79545 | P523: {=_xlfn.XLOOKUP(N523,BSFC!$B$3:$B$25,_xlfn.XLOOKUP(M523,BSFC!$C$2:$P$2,BSFC!$C$3:$P$25,,-1),,-1)} -> 504.47247 | Q523: =(O523*P523)/(60*60) -> 1.9331735 | R523: =((B524-B523)/3600)*O523 -> 0.00031905888 | S523: =R523*P523 -> 0.16095642 | T523: =S523+T522 -> 66.218023 | U523: =((R523*P523)/1000)/0.75 -> 0.00021460856 | V523: =U523+V522 -> 0.088290697
A524: =MIN('Gearing and Output'!$H$7,(SQRT((A523^2)+2*K523*1))) -> 12.01054 | B524: =(1/A524)+B523 -> 44.953752 | C524: =0.5*'Gearing and Output'!$G$15*'Gearing and Output'!$G$16*'Gearing and Output'!$G$14*(A524)^2 -> 84.820805 | D524: ='Gearing and Output'!$G$27 -> 213.858 | E524: ='Gearing and Output'!$C$14-C524-D524 -> 185.42822 | F524: =0.5*'Gearing and Output'!$J$27*A524^2 -> 40877.714 | G524: =A524/('Gearing and Output'!$J$35/1000) -> 41.117905 | H524: =(0.5*I524*A524^2)/1000 -> 45.56448 | I524: ='Gearing and Output'!$G$38 -> 631.72978 | J524: =E524/I524 -> 0.29352459 | K524: =1.5*(-I524/E524) -> -5.1103044 | L524: =IF(A524<'Gearing and Output'!$H$5,1,IF(A524<'Gearing and Output'!$H$6,2,IF(A524>'Gearing and Output'!$H$6,3))) -> 3 | M524: =IF(L524=1,_xlfn.XLOOKUP(A524,'Dyno Graph'!$E$2:$E$77,'Dyno Graph'!$A$2:$A$77,,1),IF(L524=2,_xlfn.XLOOKUP(A524,'Dyno Graph'!$F$2:$F$77,'Dyno Graph'!$A$2:$A$77,,1),IF(L524=3,_xlfn.XLOOKUP(A524,'Dyno Graph'!$G$2:$G$77,'Dyno Graph'!$A$2:$A$77,,1)))) -> 6600 | N524: =IF(L524=1,_xlfn.XLOOKUP(A524,'Dyno Graph'!$E$2:$E$77,'Dyno Graph'!$D$2:$D$77,,-1),IF(L524=2,_xlfn.XLOOKUP(A524,'Dyno Graph'!$F$2:$F$77,'Dyno Graph'!$D$2:$D$77,,-1),IF(L524=3,_xlfn.XLOOKUP(A524,'Dyno Graph'!$G$2:$G$77,'Dyno Graph'!$D$2:$D$77,,-1)))) -> 19.736308 | O524: =IF(L524=1,_xlfn.XLOOKUP(A524,'Dyno Graph'!$E$2:$E$77,'Dyno Graph'!$H$2:$H$77,,-1),IF(Forces!L524=2,_xlfn.XLOOKUP(Forces!A524,'Dyno Graph'!$F$2:$F$77,'Dyno Graph'!$H$2:$H$77,,-1),IF(Forces!L524=3,_xlfn.XLOOKUP(Forces!A524,'Dyno Graph'!$G$2:$G$77,'Dyno Graph'!$H$2:$H$77,,-1)))) -> 13.4226 | P524: {=_xlfn.XLOOKUP(N524,BSFC!$B$3:$B$25,_xlfn.XLOOKUP(M524,BSFC!$C$2:$P$2,BSFC!$C$3:$P$25,,-1),,-1)} -> 504.47247 | Q524: =(O524*P524)/(60*60) -> 1.8809256 | R524: =((B525-B524)/3600)*O524 -> 0.00032205434 | S524: =R524*P524 -> 0.16246755 | T524: =S524+T523 -> 66.38049 | U524: =((R524*P524)/1000)/0.75 -> 0.00021662339 | V524: =U524+V523 -> 0.08850732
A525: =MIN('Gearing and Output'!$H$7,(SQRT((A524^2)+2*K524*1))) -> 11.577239 | B525: =(1/A525)+B524 -> 45.040129 | C525: =0.5*'Gearing and Output'!$G$15*'Gearing and Output'!$G$16*'Gearing and Output'!$G$14*(A525)^2 -> 78.811087 | D525: ='Gearing and Output'!$G$27 -> 213.858 | E525: ='Gearing and Output'!$C$14-C525-D525 -> 191.43794 | F525: =0.5*'Gearing and Output'!$J$27*A525^2 -> 37981.449 | G525: =A525/('Gearing and Output'!$J$35/1000) -> 39.634505 | H525: =(0.5*I525*A525^2)/1000 -> 42.336148 | I525: ='Gearing and Output'!$G$38 -> 631.72978 | J525: =E525/I525 -> 0.30303771 | K525: =1.5*(-I525/E525) -> -4.9498791 | L525: =IF(A525<'Gearing and Output'!$H$5,1,IF(A525<'Gearing and Output'!$H$6,2,IF(A525>'Gearing and Output'!$H$6,3))) -> 2 | M525: =IF(L525=1,_xlfn.XLOOKUP(A525,'Dyno Graph'!$E$2:$E$77,'Dyno Graph'!$A$2:$A$77,,1),IF(L525=2,_xlfn.XLOOKUP(A525,'Dyno Graph'!$F$2:$F$77,'Dyno Graph'!$A$2:$A$77,,1),IF(L525=3,_xlfn.XLOOKUP(A525,'Dyno Graph'!$G$2:$G$77,'Dyno Graph'!$A$2:$A$77,,1)))) -> 7400 | N525: =IF(L525=1,_xlfn.XLOOKUP(A525,'Dyno Graph'!$E$2:$E$77,'Dyno Graph'!$D$2:$D$77,,-1),IF(L525=2,_xlfn.XLOOKUP(A525,'Dyno Graph'!$F$2:$F$77,'Dyno Graph'!$D$2:$D$77,,-1),IF(L525=3,_xlfn.XLOOKUP(A525,'Dyno Graph'!$G$2:$G$77,'Dyno Graph'!$D$2:$D$77,,-1)))) -> 15.161301 | O525: =IF(L525=1,_xlfn.XLOOKUP(A525,'Dyno Graph'!$E$2:$E$77,'Dyno Graph'!$H$2:$H$77,,-1),IF(Forces!L525=2,_xlfn.XLOOKUP(Forces!A525,'Dyno Graph'!$F$2:$F$77,'Dyno Graph'!$H$2:$H$77,,-1),IF(Forces!L525=3,_xlfn.XLOOKUP(Forces!A525,'Dyno Graph'!$G$2:$G$77,'Dyno Graph'!$H$2:$H$77,,-1)))) -> 11.580217 | P525: {=_xlfn.XLOOKUP(N525,BSFC!$B$3:$B$25,_xlfn.XLOOKUP(M525,BSFC!$C$2:$P$2,BSFC!$C$3:$P$25,,-1),,-1)} -> 482.49828 | Q525: =(O525*P525)/(60*60) -> 1.5520652 | R525: =((B526-B525)/3600)*O525 -> 0.00028871616 | S525: =R525*P525 -> 0.13930505 | T525: =S525+T524 -> 66.519795 | U525: =((R525*P525)/1000)/0.75 -> 0.00018574007 | V525: =U525+V524 -> 0.088693061
...

Sheet Dyno Graph
A1: RPM | B1: HP | C1: HP Interpolated | D1: Torque Calculated | E1: M/S 1st | F1: M/S 2nd | G1: M/S 3rd | H1: KW
