Workbook

Sheet Gearing and Output
B2: Gearbox A | C2: Potential Road Speed From Gear Ratios
B3: Selected Gear | C3: Gear Teeth 1 | D3: Gear Teeth 2 | E3: Gear Ratio | F3: Overall Ratio | G3: Top Speed (km/h) | H3: Top Speed (m/s)
B4: Primary Drive Gear | C4: 64 | D4: 19 | E4: =C4/D4 -> 3.3684211 | F4: N/A | G4: N/A | H4: N/A
B5: 1st | C5: 29 | D5: 14 | E5: =C5/D5 -> 2.0714286 | F5: =(($E$4)*(E5)*($J$39))/$J$38 -> 23.922664 | G5: =(($C$8)*($J$35))/((2652.6)*(F5)) -> 34.523238 | H5: =G5*(1000/3600) -> 9.5897882
B6: 2nd | C6: 27 | D6: 16 | E6: =C6/D6 -> 1.6875 | F6: =(($E$4)*(E6)*($J$39))/$J$38 -> 19.488722 | G6: =(($C$8)*($J$35))/((2652.6)*(F6)) -> 42.377731 | H6: =G6*(1000/3600) -> 11.771592
B7: 3rd | C7: 26 | D7: 18 | E7: =C7/D7 -> 1.4444444 | F7: =(($E$4)*(E7)*($J$39))/$J$38 -> 16.681704 | G7: =(($C$8)*($J$35))/((2652.6)*(F7)) -> 49.508599 | H7: =G7*(1000/3600) -> 13.752389
B8: Engine RPM | C8: 7500
B11: Speed @6500 RPM in 1st | C11: =((6500)*($J$35))/((2652.6)*(F5))*(1000/3600) -> 8.3111498 | D11: m/s | I11: Vehicle Specifications
B12: Shaft Torque | C12: =J29*F5*0.98 -> 515.77263 | D12: NM | F12: Values for Resistance Equations | I12: Density of Gasoline (KG/L) | J12: 0.75
B13: Torque at wheels | C13: =(C12)*0.94*J40 -> 141.40766 | D13: NM | F13: Gravity (m/s^2) | G13: 9.81 | I13: Engine cc | J13: 278
B14: force | C14: =C13/(J35/1000) -> 484.10703 | D14: N | F14: Air Density (kg/m^3) | G14: 1.2 | I14: Power (hp) | J14: 18
B15: acceleration | C15: =C14/J27 -> 0.85418091 | D15: m/s^2 | F15: Coefficient of Drag | G15: 0.7 | I15: Torque (Nm) | J15: 22
F16: Frontal Area | G16: 1.4 | I16: Top Speed (mph) | J16: 30
B17: Resistance Due To Gradient | F17: Slope Angle (Degrees) | G17: 0 | I17: Length (mm) | J17: 2620
B18: Downhill | C18: 14.04 | D18: =RADIANS(C18) -> 0.24504423 | F18: Slope Angle (Radians) | G18: =RADIANS(G17) -> 0 | I18: Width (mm) | J18: 1650
B19: Uphill | C19: 7.125 | D19: =RADIANS(C19) -> 0.12435471 | I19: Height (mm) | J19: 1620
B20: Rolling Resistance UP | C20: =$J$27*$G$13*SIN(D18) -> 1348.8074 | I20: Wheelbase (mm) | J20: 1440
B21: Rolling Resistance DOWN | C21: =$J$27*$G$13*SIN(D19) -> 689.60891 | F21: Rolling Resistance | I21: Ground Clearance (mm) | J21: 300
F22: Grassy Field | G22: 0.025 | I22: Weight (Car) (kg) | J22: 365
B23: Total Fuel Usage (L) | C23: =Forces!V1436 -> 0.24534221 | F23: Sand | G23: 0.04 | I23: Weight Driver and Passenger | J23: 180
B24: Laps Per Tank | C24: =J25/C23 -> 118.20224 | I24: Weight Combined (kg) | J24: =J22+J23 -> 545
F25: Rolling Resistance (N) | I25: Fuel Tank (l) | J25: 29
F26: Soft Dirt | G26: =G22*$J$24*$G$13 -> 133.66125 | I26: Fuel Weight | J26: =J12*J25 -> 21.75
F27: Sand | G27: =G23*$J$24*$G$13 -> 213.858 | I27: Weight Combined With Fuel (kg) | J27: =J22+J23+J26 -> 566.75
I28: Power HP @ 6500 rpm | J28: 18
F29: K | I29: Torque Nm @ 5500 rpm | J29: 22
F30: Front | G30: =0.9*(J34/1000) -> 0.27432 | I30: Front Tyres | J30: 24x8x12
F31: Rear | G31: =0.9*(J35/1000) -> 0.26289 | I31: Rear Tyres | J31: 23x10.5x12
I32: Rear Tire mass (kg) | J32: 9
F33: I | I33: Front Tire mass (kg) | J33: 8
F34: Front | G34: =(J33+J36)*(G30^2) -> 1.1287719 | I34: Front Rolling Radius (m) | J34: =304.8 -> 304.8
F35: Rear | G35: =(J32+J37)*(G31^2) -> 1.0366673 | I35: Rear Rolling Radius (m) | J35: =584.2/2 -> 292.1
I36: Front Rim mass (kg) | J36: 7
F37: Equivalent Mass | I37: Rear Rim mass (kg) | J37: 6
F38: 1st Gear | G38: =$J$27+(4*($G$35/($J$35/1000)^2))+0.2*(F5/($J$35/1000)) -> 631.72978 | I38: Front Sprocket | J38: 14
F39: 2nd Gear | G39: =$J$27+(4*($G$35/($J$35/1000)^2))+0.17*(F6/($J$35/1000)) -> 626.69229 | I39: Rear Sprocket | J39: 48
F40: 3rd Gear | G40: =$J$27+(4*($G$35/($J$35/1000)^2))+0.17*(F7/($J$35/1000)) -> 625.05863 | I40: Final Drive | J40: =J38/J39 -> 0.29166667

Sheet Drive Cycle
A1: Distance (M) | B1: Throttle | C1: elevation | D1: Brakes | E1: Surface
A2: 0 | B2: 1 | C2: 10 | D2: 0 | E2: 0
A3: =A2+1 -> 1 | B3: 1 | C3: 10 | D3: 0 | E3: 0
A4: =A3+1 -> 2 | B4: 1 | C4: 10 | D4: 0 | E4: 0
A5: =A4+1 -> 3 | B5: 1 | C5: 10 | D5: 0 | E5: 0
A6: =A5+1 -> 4 | B6: 1 | C6: 10 | D6: 0 | E6: 0
A7: =A6+1 -> 5 | B7: 1 | C7: 10 | D7: 0 | E7: 0
A8: =A7+1 -> 6 | B8: 1 | C8: 10 | D8: 0 | E8: 0
A9: =A8+1 -> 7 | B9: 1 | C9: 10 | D9: 0 | E9: 0
A10: =A9+1 -> 8 | B10: 1 | C10: 10 | D10: 0 | E10: 0
A11: =A10+1 -> 9 | B11: 1 | C11: 10 | D11: 0 | E11: 0
A12: =A11+1 -> 10 | B12: 1 | C12: 10 | D12: 0 | E12: 0
A13: =A12+1 -> 11 | B13: 1 | C13: 10 | D13: 0 | E13: 0
A14: =A13+1 -> 12 | B14: 1 | C14: 10 | D14: 0 | E14: 0
... A102: =A101+1 -> 100 | B102: 1 | C102: 10 | D102: 0 | E102: 0
A103: =A102+1 -> 101 | B103: 1 | C103: =C102-0.25 -> 9.75 | D103: 0 | E103: 0
A104: =A103+1 -> 102 | B104: 1 | C104: =C103-0.25 -> 9.5 | D104: 0 | E104: 0
A105: =A104+1 -> 103 | B105: 1 | C105: =C104-0.25 -> 9.25 | D105: 0 | E105: 0
A106: =A105+1 -> 104 | B106: 1 | C106: =C105-0.25 -> 9 | D106: 0 | E106: 0
A107: =A106+1 -> 105 | B107: 1 | C107: =C106-0.25 -> 8.75 | D107: 0 | E107: 0
A108: =A107+1 -> 106 | B108: 1 | C108: =C107-0.25 -> 8.5 | D108: 0 | E108: 0
A109: =A108+1 -> 107 | B109: 1 | C109: =C108-0.25 -> 8.25 | D109: 0 | E109: 0
A110: =A109+1 -> 108 | B110: 1 | C110: =C109-0.25 -> 8 | D110: 0 | E110: 0
A111: =A110+1 -> 109 | B111: 1 | C111: =C110-0.25 -> 7.75 | D111: 0 | E111: 0
A112: =A111+1 -> 110 | B112: 1 | C112: =C111-0.25 -> 7.5 | D112: 0 | E112: 0
A113: =A112+1 -> 111 | B113: 1 | C113: =C112-0.25 -> 7.25 | D113: 0 | E113: 0
A114: =A113+1 -> 112 | B114: 1 | C114: =C113-0.25 -> 7 | D114: 0 | E114: 0
... A142: =A141+1 -> 140 | B142: 1 | C142: =C141-0.25 -> 0 | D142: 0 | E142: 0
A143: =A142+1 -> 141 | B143: 1 | C143: 0 | D143: 0 | E143: 0
A144: =A143+1 -> 142 | B144: 1 | C144: 0 | D144: 0 | E144: 0
A145: =A144+1 -> 143 | B145: 1 | C145: 0 | D145: 0 | E145: 0
A146: =A145+1 -> 144 | B146: 1 | C146: 0 | D146: 0 | E146: 0
A147: =A146+1 -> 145 | B147: 1 | C147: 0 | D147: 0 | E147: 0
A148: =A147+1 -> 146 | B148: 1 | C148: 0 | D148: 0 | E148: 0
A149: =A148+1 -> 147 | B149: 1 | C149: 0 | D149: 0 | E149: 0
A150: =A149+1 -> 148 | B150: 1 | C150: 0 | D150: 0 | E150: 0
A151: =A150+1 -> 149 | B151: 1 | C151: 0 | D151: 0 | E151: 0
A152: =A151+1 -> 150 | B152: 1 | C152: 0 | D152: 0 | E152: 0
A153: =A152+1 -> 151 | B153: 1 | C153: 0 | D153: 0 | E153: 0
A154: =A153+1 -> 152 | B154: 1 | C154: 0 | D154: 0 | E154: 0
...

Sheet Forces
A1: Velocity (m/s) | B1: Time | C1: Aerodynamic Resistance | D1: Rolling Resistance | E1: Driving Force | F1: Linear Inertia | G1: Angular Velocity | H1: Kinetic Energy | I1: Equivalent Mass | J1: Maximum Acceleration | K1: Acceleration | L1: Gear | M1: RPM | N1: Torque | O1: Kw | P1: BSFC | Q1: Fuel Flow Rate | R1: KWH | S1: Fuel Usage | T1: Total | U1: Fuel Usage Liters | V1: Total liters
A2: 0 | B2: 0 | C2: 0 | D2: ='Gearing and Output'!$G$26 -> 133.66125 | E2: ='Gearing and Output'!$C$14-C2-D2 -> 350.44578 | F2: =0.5*'Gearing and Output'!$J$27*A2^2 -> 0 | G2: =A2/('Gearing and Output'!$J$35/1000) -> 0 | H2: =(0.5*I2*A2^2)/1000 -> 0 | I2: ='Gearing and Output'!$G$38 -> 631.72978 | J2: =E2/I2 -> 0.55474 | K2: =I2/E2 -> 1.8026463 | L2: =IF(A2<'Gearing and Output'!$H$5,1,IF(A2<'Gearing and Output'!$H$6,2,IF(A2>'Gearing and Output'!$H$7,3))) -> 1 | M2: =IF(L2=1,_xlfn.XLOOKUP(A2,'Dyno Graph'!$E$2:$E$77,'Dyno Graph'!$A$2:$A$77,,1),IF(L2=2,_xlfn.XLOOKUP(A2,'Dyno Graph'!$F$2:$F$77,'Dyno Graph'!$A$2:$A$77,,1),IF(L2=3,_xlfn.XLOOKUP(A2,'Dyno Graph'!$G$2:$G$77,'Dyno Graph'!$A$2:$A$77,,1)))) -> 500 | N2: 0 | O2: 0 | P2: 0 | Q2: 0 | R2: 0 | S2: =R2*P2 -> 0 | T2: 0 | U2: =((R2*P2)/1000)/0.75 -> 0 | V2: 0
A3: =MIN('Gearing and Output'!$H$7,(SQRT((A2^2)+2*K2*1))) -> 1.8987608 | B3: =1/A3 -> 0.52665928 | C3: =0.5*'Gearing and Output'!$G$15*'Gearing and Output'!$G$16*'Gearing and Output'!$G$14*(A3)^2 -> 2.119912 | D3: ='Gearing and Output'!$G$26 -> 133.66125 | E3: ='Gearing and Output'!$C$14-C3-D3 -> 348.32587 | F3: =0.5*'Gearing and Output'!$J$27*A3^2 -> 1021.6498 | G3: =A3/('Gearing and Output'!$J$35/1000) -> 6.5003793 | H3: =(0.5*I3*A3^2)/1000 -> 1.1387853 | I3: ='Gearing and Output'!$G$38 -> 631.72978 | J3: =E3/I3 -> 0.55138428 | K3: =I3/E3 -> 1.8136172 | L3: =IF(A3<'Gearing and Output'!$H$5,1,IF(A3<'Gearing and Output'!$H$6,2,IF(A3>'Gearing and Output'!$H$7,3))) -> 1 | M3: =IF(L3=1,_xlfn.XLOOKUP(A3,'Dyno Graph'!$E$2:$E$77,'Dyno Graph'!$A$2:$A$77,,1),IF(L3=2,_xlfn.XLOOKUP(A3,'Dyno Graph'!$F$2:$F$77,'Dyno Graph'!$A$2:$A$77,,1),IF(L3=3,_xlfn.XLOOKUP(A3,'Dyno Graph'!$G$2:$G$77,'Dyno Graph'!$A$2:$A$77,,1)))) -> 1500 | N3: =IF(L3=1,_xlfn.XLOOKUP(A3,'Dyno Graph'!$E$2:$E$77,'Dyno Graph'!$D$2:$D$77,,-1),IF(L3=2,_xlfn.XLOOKUP(A3,'Dyno Graph'!$F$2:$F$77,'Dyno Graph'!$D$2:$D$77,,-1),IF(L3=3,_xlfn.XLOOKUP(A3,'Dyno Graph'!$G$2:$G$77,'Dyno Graph'!$D$2:$D$77,,-1)))) -> 14.17678 | O3: =IF(L3=1,_xlfn.XLOOKUP(A3,'Dyno Graph'!$E$2:$E$77,'Dyno Graph'!$H$2:$H$77,,-1),IF(Forces!L3=2,_xlfn.XLOOKUP(Forces!A3,'Dyno Graph'!$F$2:$F$77,'Dyno Graph'!$H$2:$H$77,,-1),IF(Forces!L3=3,_xlfn.XLOOKUP(Forces!A3,'Dyno Graph'!$G$2:$G$77,'Dyno Graph'!$H$2:$H$77,,-1)))) -> 2.0766486 | P3: {=_xlfn.XLOOKUP(N3,BSFC!$B$3:$B$25,_xlfn.XLOOKUP(M3,BSFC!$C$2:$P$2,BSFC!$C$3:$P$25,,-1),,-1)} -> 575.73 | Q3: =(O3*P3)/(60*60) -> 0.33210802 | R3: =((B4-B3)/3600)*O3 -> 0.00021449416 | S3: =R3*P3 -> 0.12349072 | T3: =S3+S2 -> 0.12349072 | U3: =((R3*P3)/1000)/0.75 -> 0.0001646543 | V3: =U3+U2 -> 0.0001646543
A4: =MIN('Gearing and Output'!$H$7,(SQRT((A3^2)+2*K3*1))) -> 2.6893358 | B4: =(1/A4)+B3 -> 0.89849831 | C4: =0.5*'Gearing and Output'!$G$15*'Gearing and Output'!$G$16*'Gearing and Output'!$G$14*(A4)^2 -> 4.2527258 | D4: ='Gearing and Output'!$G$26 -> 133.66125 | E4: ='Gearing and Output'!$C$14-C4-D4 -> 346.19305 | F4: =0.5*'Gearing and Output'!$J$27*A4^2 -> 2049.5173 | G4: =A4/('Gearing and Output'!$J$35/1000) -> 9.206901 | H4: =(0.5*I4*A4^2)/1000 -> 2.2845013 | I4: ='Gearing and Output'!$G$38 -> 631.72978 | J4: =E4/I4 -> 0.54800813 | K4: =I4/E4 -> 1.8247904 | L4: =IF(A4<'Gearing and Output'!$H$5,1,IF(A4<'Gearing and Output'!$H$6,2,IF(A4>'Gearing and Output'!$H$7,3))) -> 1 | M4: =IF(L4=1,_xlfn.XLOOKUP(A4,'Dyno Graph'!$E$2:$E$77,'Dyno Graph'!$A$2:$A$77,,1),IF(L4=2,_xlfn.XLOOKUP(A4,'Dyno Graph'!$F$2:$F$77,'Dyno Graph'!$A$2:$A$77,,1),IF(L4=3,_xlfn.XLOOKUP(A4,'Dyno Graph'!$G$2:$G$77,'Dyno Graph'!$A$2:$A$77,,1)))) -> 2200 | N4: =IF(L4=1,_xlfn.XLOOKUP(A4,'Dyno Graph'!$E$2:$E$77,'Dyno Graph'!$D$2:$D$77,,-1),IF(L4=2,_xlfn.XLOOKUP(A4,'Dyno Graph'!$F$2:$F$77,'Dyno Graph'!$D$2:$D$77,,-1),IF(L4=3,_xlfn.XLOOKUP(A4,'Dyno Graph'!$G$2:$G$77,'Dyno Graph'!$D$2:$D$77,,-1)))) -> 13.931543 | O4: =IF(L4=1,_xlfn.XLOOKUP(A4,'Dyno Graph'!$E$2:$E$77,'Dyno Graph'!$H$2:$H$77,,-1),IF(Forces!L4=2,_xlfn.XLOOKUP(Forces!A4,'Dyno Graph'!$F$2:$F$77,'Dyno Graph'!$H$2:$H$77,,-1),IF(Forces!L4=3,_xlfn.XLOOKUP(Forces!A4,'Dyno Graph'!$G$2:$G$77,'Dyno Graph'!$H$2:$H$77,,-1)))) -> 3.0610886 | P4: {=_xlfn.XLOOKUP(N4,BSFC!$B$3:$B$25,_xlfn.XLOOKUP(M4,BSFC!$C$2:$P$2,BSFC!$C$3:$P$25,,-1),,-1)} -> 575.53874 | Q4: =(O4*P4)/(60*60) -> 0.48938196 | R4: =((B5-B4)/3600)*O4 -> 0.00025776081 | S4: =R4*P4 -> 0.14835133 | T4: =S4+T3 -> 0.27184205 | U4: =((R4*P4)/1000)/0.75 -> 0.00019780177 | V4: =U4+V3 -> 0.00036245607
A5: =MIN('Gearing and Output'!$H$7,(SQRT((A4^2)+2*K4*1))) -> 3.298804 | B5: =(1/A5)+B4 -> 1.2016385 | C5: =0.5*'Gearing and Output'!$G$15*'Gearing and Output'!$G$16*'Gearing and Output'!$G$14*(A5)^2 -> 6.3986794 | D5: ='Gearing and Output'!$G$26 -> 133.66125 | E5: ='Gearing and Output'!$C$14-C5-D5 -> 344.0471 | F5: =0.5*'Gearing and Output'!$J$27*A5^2 -> 3083.7173 | G5: =A5/('Gearing and Output'!$J$35/1000) -> 11.293406 | H5: =(0.5*I5*A5^2)/1000 -> 3.4372758 | I5: ='Gearing and Output'!$G$38 -> 631.72978 | J5: =E5/I5 -> 0.54461118 | K5: =I5/E5 -> 1.8361724 | L5: =IF(A5<'Gearing and Output'!$H$5,1,IF(A5<'Gearing and Output'!$H$6,2,IF(A5>'Gearing and Output'!$H$7,3))) -> 1 | M5: =IF(L5=1,_xlfn.XLOOKUP(A5,'Dyno Graph'!$E$2:$E$77,'Dyno Graph'!$A$2:$A$77,,1),IF(L5=2,_xlfn.XLOOKUP(A5,'Dyno Graph'!$F$2:$F$77,'Dyno Graph'!$A$2:$A$77,,1),IF(L5=3,_xlfn.XLOOKUP(A5,'Dyno Graph'!$G$2:$G$77,'Dyno Graph'!$A$2:$A$77,,1)))) -> 2600 | N5: =IF(L5=1,_xlfn.XLOOKUP(A5,'Dyno Graph'!$E$2:$E$77,'Dyno Graph'!$D$2:$D$77,,-1),IF(L5=2,_xlfn.XLOOKUP(A5,'Dyno Graph'!$F$2:$F$77,'Dyno Graph'!$D$2:$D$77,,-1),IF(L5=3,_xlfn.XLOOKUP(A5,'Dyno Graph'!$G$2:$G$77,'Dyno Graph'!$D$2:$D$77,,-1)))) -> 12.8286 | O5: =IF(L5=1,_xlfn.XLOOKUP(A5,'Dyno Graph'!$E$2:$E$77,'Dyno Graph'!$H$2:$H$77,,-1),IF(Forces!L5=2,_xlfn.XLOOKUP(Forces!A5,'Dyno Graph'!$F$2:$F$77,'Dyno Graph'!$H$2:$H$77,,-1),IF(Forces!L5=3,_xlfn.XLOOKUP(Forces!A5,'Dyno Graph'!$G$2:$G$77,'Dyno Graph'!$H$2:$H$77,,-1)))) -> 3.35565 | P5: {=_xlfn.XLOOKUP(N5,BSFC!$B$3:$B$25,_xlfn.XLOOKUP(M5,BSFC!$C$2:$P$2,BSFC!$C$3:$P$25,,-1),,-1)} -> 555.72979 | Q5: =(O5*P5)/(60*60) -> 0.51800963 | R5: =((B6-B5)/3600)*O5 -> 0.00024432968 | S5: =R5*P5 -> 0.13578128 | T5: =S5+T4 -> 0.40762333 | U5: =((R5*P5)/1000)/0.75 -> 0.00018104171 | V5: =U5+V4 -> 0.00054349778
A6: =MIN('Gearing and Output'!$H$7,(SQRT((A5^2)+2*K5*1))) -> 3.8150298 | B6: =(1/A6)+B5 -> 1.4637596 | C6: =0.5*'Gearing and Output'!$G$15*'Gearing and Output'!$G$16*'Gearing and Output'!$G$14*(A6)^2 -> 8.5580181 | D6: ='Gearing and Output'!$G$26 -> 133.66125 | E6: ='Gearing and Output'!$C$14-C6-D6 -> 341.88776 | F6: =0.5*'Gearing and Output'!$J$27*A6^2 -> 4124.368 | G6: =A6/('Gearing and Output'!$J$35/1000) -> 13.060698 | H6: =(0.5*I6*A6^2)/1000 -> 4.5972405 | I6: ='Gearing and Output'!$G$38 -> 631.72978 | J6: =E6/I6 -> 0.54119304 | K6: =I6/E6 -> 1.8477695 | L6: =IF(A6<'Gearing and Output'!$H$5,1,IF(A6<'Gearing and Output'!$H$6,2,IF(A6>'Gearing and Output'!$H$7,3))) -> 1 | M6: =IF(L6=1,_xlfn.XLOOKUP(A6,'Dyno Graph'!$E$2:$E$77,'Dyno Graph'!$A$2:$A$77,,1),IF(L6=2,_xlfn.XLOOKUP(A6,'Dyno Graph'!$F$2:$F$77,'Dyno Graph'!$A$2:$A$77,,1),IF(L6=3,_xlfn.XLOOKUP(A6,'Dyno Graph'!$G$2:$G$77,'Dyno Graph'!$A$2:$A$77,,1)))) -> 3000 | N6: =IF(L6=1,_xlfn.XLOOKUP(A6,'Dyno Graph'!$E$2:$E$77,'Dyno Graph'!$D$2:$D$77,,-1),IF(L6=2,_xlfn.XLOOKUP(A6,'Dyno Graph'!$F$2:$F$77,'Dyno Graph'!$D$2:$D$77,,-1),IF(L6=3,_xlfn.XLOOKUP(A6,'Dyno Graph'!$G$2:$G$77,'Dyno Graph'!$D$2:$D$77,,-1)))) -> 13.835641 | O6: =IF(L6=1,_xlfn.XLOOKUP(A6,'Dyno Graph'!$E$2:$E$77,'Dyno Graph'!$H$2:$H$77,,-1),IF(Forces!L6=2,_xlfn.XLOOKUP(Forces!A6,'Dyno Graph'!$F$2:$F$77,'Dyno Graph'!$H$2:$H$77,,-1),IF(Forces!L6=3,_xlfn.XLOOKUP(Forces!A6,'Dyno Graph'!$G$2:$G$77,'Dyno Graph'!$H$2:$H$77,,-1)))) -> 4.1981184 | P6: {=_xlfn.XLOOKUP(N6,BSFC!$B$3:$B$25,_xlfn.XLOOKUP(M6,BSFC!$C$2:$P$2,BSFC!$C$3:$P$25,,-1),,-1)} -> 514.14375 | Q6: =(O6*P6)/(60*60) -> 0.59956565 | R6: =((B7-B6)/3600)*O6 -> 0.00027297372 | S6: =R6*P6 -> 0.14034774 | T6: =S6+T5 -> 0.54797107 | U6: =((R6*P6)/1000)/0.75 -> 0.00018713031 | V6: =U6+V5 -> 0.00073062809
A7: =MIN('Gearing and Output'!$H$7,(SQRT((A6^2)+2*K6*1))) -> 4.2720009 | B7: =(1/A7)+B6 -> 1.697842 | C7: =0.5*'Gearing and Output'!$G$15*'Gearing and Output'!$G$16*'Gearing and Output'!$G$14*(A7)^2 -> 10.730995 | D7: ='Gearing and Output'!$G$26 -> 133.66125 | E7: ='Gearing and Output'!$C$14-C7-D7 -> 339.71478 | F7: =0.5*'Gearing and Output'!$J$27*A7^2 -> 5171.5913 | G7: =A7/('Gearing and Output'!$J$35/1000) -> 14.625131 | H7: =(0.5*I7*A7^2)/1000 -> 5.7645315 | I7: ='Gearing and Output'!$G$38 -> 631.72978 | J7: =E7/I7 -> 0.53775332 | K7: =I7/E7 -> 1.8595887 | L7: =IF(A7<'Gearing and Output'!$H$5,1,IF(A7<'Gearing and Output'!$H$6,2,IF(A7>'Gearing and Output'!$H$7,3))) -> 1 | M7: =IF(L7=1,_xlfn.XLOOKUP(A7,'Dyno Graph'!$E$2:$E$77,'Dyno Graph'!$A$2:$A$77,,1),IF(L7=2,_xlfn.XLOOKUP(A7,'Dyno Graph'!$F$2:$F$77,'Dyno Graph'!$A$2:$A$77,,1),IF(L7=3,_xlfn.XLOOKUP(A7,'Dyno Graph'!$G$2:$G$77,'Dyno Graph'!$A$2:$A$77,,1)))) -> 3400 | N7: =IF(L7=1,_xlfn.XLOOKUP(A7,'Dyno Graph'!$E$2:$E$77,'Dyno Graph'!$D$2:$D$77,,-1),IF(L7=2,_xlfn.XLOOKUP(A7,'Dyno Graph'!$F$2:$F$77,'Dyno Graph'!$D$2:$D$77,,-1),IF(L7=3,_xlfn.XLOOKUP(A7,'Dyno Graph'!$G$2:$G$77,'Dyno Graph'!$D$2:$D$77,,-1)))) -> 15.506564 | O7: =IF(L7=1,_xlfn.XLOOKUP(A7,'Dyno Graph'!$E$2:$E$77,'Dyno Graph'!$H$2:$H$77,,-1),IF(Forces!L7=2,_xlfn.XLOOKUP(Forces!A7,'Dyno Graph'!$F$2:$F$77,'Dyno Graph'!$H$2:$H$77,,-1),IF(Forces!L7=3,_xlfn.XLOOKUP(Forces!A7,'Dyno Graph'!$G$2:$G$77,'Dyno Graph'!$H$2:$H$77,,-1)))) -> 5.3541052 | P7: {=_xlfn.XLOOKUP(N7,BSFC!$B$3:$B$25,_xlfn.XLOOKUP(M7,BSFC!$C$2:$P$2,BSFC!$C$3:$P$25,,-1),,-1)} -> 502.667 | Q7: =(O7*P7)/(60*60) -> 0.74759223 | R7: =((B8-B7)/3600)*O7 -> 0.00031730549 | S7: =R7*P7 -> 0.159499 | T7: =S7+T6 -> 0.70747007 | U7: =((R7*P7)/1000)/0.75 -> 0.00021266533 | V7: =U7+V6 -> 0.00094329342
A8: =MIN('Gearing and Output'!$H$7,(SQRT((A7^2)+2*K7*1))) -> 4.687128 | B8: =(1/A8)+B7 -> 1.9111922 | C8: =0.5*'Gearing and Output'!$G$15*'Gearing and Output'!$G$16*'Gearing and Output'!$G$14*(A8)^2 -> 12.917871 | D8: ='Gearing and Output'!$G$26 -> 133.66125 | E8: ='Gearing and Output'!$C$14-C8-D8 -> 337.52791 | F8: =0.5*'Gearing and Output'!$J$27*A8^2 -> 6225.5133 | G8: =A8/('Gearing and Output'!$J$35/1000) -> 16.046313 | H8: =(0.5*I8*A8^2)/1000 -> 6.9392891 | I8: ='Gearing and Output'!$G$38 -> 631.72978 | J8: =E8/I8 -> 0.53429159 | K8: =I8/E8 -> 1.8716372 | L8: =IF(A8<'Gearing and Output'!$H$5,1,IF(A8<'Gearing and Output'!$H$6,2,IF(A8>'Gearing and Output'!$H$7,3))) -> 1 | M8: =IF(L8=1,_xlfn.XLOOKUP(A8,'Dyno Graph'!$E$2:$E$77,'Dyno Graph'!$A$2:$A$77,,1),IF(L8=2,_xlfn.XLOOKUP(A8,'Dyno Graph'!$F$2:$F$77,'Dyno Graph'!$A$2:$A$77,,1),IF(L8=3,_xlfn.XLOOKUP(A8,'Dyno Graph'!$G$2:$G$77,'Dyno Graph'!$A$2:$A$77,,1)))) -> 3700 | N8: =IF(L8=1,_xlfn.XLOOKUP(A8,'Dyno Graph'!$E$2:$E$77,'Dyno Graph'!$D$2:$D$77,,-1),IF(L8=2,_xlfn.XLOOKUP(A8,'Dyno Graph'!$F$2:$F$77,'Dyno Graph'!$D$2:$D$77,,-1),IF(L8=3,_xlfn.XLOOKUP(A8,'Dyno Graph'!$G$2:$G$77,'Dyno Graph'!$D$2:$D$77,,-1)))) -> 16.656436 | O8: =IF(L8=1,_xlfn.XLOOKUP(A8,'Dyno Graph'!$E$2:$E$77,'Dyno Graph'!$H$2:$H$77,,-1),IF(Forces!L8=2,_xlfn.XLOOKUP(Forces!A8,'Dyno Graph'!$F$2:$F$77,'Dyno Graph'!$H$2:$H$77,,-1),IF(Forces!L8=3,_xlfn.XLOOKUP(Forces!A8,'Dyno Graph'!$G$2:$G$77,'Dyno Graph'!$H$2:$H$77,,-1)))) -> 6.2739632 | P8: {=_xlfn.XLOOKUP(N8,BSFC!$B$3:$B$25,_xlfn.XLOOKUP(M8,BSFC!$C$2:$P$2,BSFC!$C$3:$P$25,,-1),,-1)} -> 497.78608 | Q8: =(O8*P8)/(60*60) -> 0.86752544 | R8: =((B9-B8)/3600)*O8 -> 0.00034369071 | S8: =R8*P8 -> 0.17108445 | T8: =S8+T7 -> 0.87855452 | U8: =((R8*P8)/1000)/0.75 -> 0.00022811261 | V8: =U8+V7 -> 0.001171406
A9: =MIN('Gearing and Output'!$H$7,(SQRT((A8^2)+2*K8*1))) -> 5.0707439 | B9: =(1/A9)+B8 -> 2.108402 | C9: =0.5*'Gearing and Output'!$G$15*'Gearing and Output'!$G$16*'Gearing and Output'!$G$14*(A9)^2 -> 15.118917 | D9: ='Gearing and Output'!$G$26 -> 133.66125 | E9: ='Gearing and Output'!$C$14-C9-D9 -> 335.32686 | F9: =0.5*'Gearing and Output'!$J$27*A9^2 -> 7286.2636 | G9: =A9/('Gearing and Output'!$J$35/1000) -> 17.359616 | H9: =(0.5*I9*A9^2)/1000 -> 8.121658 | I9: ='Gearing and Output'!$G$38 -> 631.72978 | J9: =E9/I9 -> 0.53080743 | K9: =I9/E9 -> 1.8839224 | L9: =IF(A9<'Gearing and Output'!$H$5,1,IF(A9<'Gearing and Output'!$H$6,2,IF(A9>'Gearing and Output'!$H$7,3))) -> 1 | M9: =IF(L9=1,_xlfn.XLOOKUP(A9,'Dyno Graph'!$E$2:$E$77,'Dyno Graph'!$A$2:$A$77,,1),IF(L9=2,_xlfn.XLOOKUP(A9,'Dyno Graph'!$F$2:$F$77,'Dyno Graph'!$A$2:$A$77,,1),IF(L9=3,_xlfn.XLOOKUP(A9,'Dyno Graph'!$G$2:$G$77,'Dyno Graph'!$A$2:$A$77,,1)))) -> 4000 | N9: =IF(L9=1,_xlfn.XLOOKUP(A9,'Dyno Graph'!$E$2:$E$77,'Dyno Graph'!$D$2:$D$77,,-1),IF(L9=2,_xlfn.XLOOKUP(A9,'Dyno Graph'!$F$2:$F$77,'Dyno Graph'!$D$2:$D$77,,-1),IF(L9=3,_xlfn.XLOOKUP(A9,'Dyno Graph'!$G$2:$G$77,'Dyno Graph'!$D$2:$D$77,,-1)))) -> 17.583947 | O9: =IF(L9=1,_xlfn.XLOOKUP(A9,'Dyno Graph'!$E$2:$E$77,'Dyno Graph'!$H$2:$H$77,,-1),IF(Forces!L9=2,_xlfn.XLOOKUP(Forces!A9,'Dyno Graph'!$F$2:$F$77,'Dyno Graph'!$H$2:$H$77,,-1),IF(Forces!L9=3,_xlfn.XLOOKUP(Forces!A9,'Dyno Graph'!$G$2:$G$77,'Dyno Graph'!$H$2:$H$77,,-1)))) -> 7.1752717 | P9: {=_xlfn.XLOOKUP(N9,BSFC!$B$3:$B$25,_xlfn.XLOOKUP(M9,BSFC!$C$2:$P$2,BSFC!$C$3:$P$25,,-1),,-1)} -> 484.36708 | Q9: =(O9*P9)/(60*60) -> 0.96540705 | R9: =((B10-B9)/3600)*O9 -> 0.00036708783 | S9: =R9*P9 -> 0.17780526 | T9: =S9+T8 -> 1.0563598 | U9: =((R9*P9)/1000)/0.75 -> 0.00023707368 | V9: =U9+V8 -> 0.0014084797
A10: =MIN('Gearing and Output'!$H$7,(SQRT((A9^2)+2*K9*1))) -> 5.4295753 | B10: =(1/A10)+B9 -> 2.2925784 | C10: =0.5*'Gearing and Output'!$G$15*'Gearing and Output'!$G$16*'Gearing and Output'!$G$14*(A10)^2 -> 17.334409 | D10: ='Gearing and Output'!$G$26 -> 133.66125 | E10: ='Gearing and Output'!$C$14-C10-D10 -> 333.11137 | F10: =0.5*'Gearing and Output'!$J$27*A10^2 -> 8353.9766 | G10: =A10/('Gearing and Output'!$J$35/1000) -> 18.58807 | H10: =(0.5*I10*A10^2)/1000 -> 9.3117879 | I10: ='Gearing and Output'!$G$38 -> 631.72978 | J10: =E10/I10 -> 0.52730041 | K10: =I10/E10 -> 1.8964522 | L10: =IF(A10<'Gearing and Output'!$H$5,1,IF(A10<'Gearing and Output'!$H$6,2,IF(A10>'Gearing and Output'!$H$7,3))) -> 1 | M10: =IF(L10=1,_xlfn.XLOOKUP(A10,'Dyno Graph'!$E$2:$E$77,'Dyno Graph'!$A$2:$A$77,,1),IF(L10=2,_xlfn.XLOOKUP(A10,'Dyno Graph'!$F$2:$F$77,'Dyno Graph'!$A$2:$A$77,,1),IF(L10=3,_xlfn.XLOOKUP(A10,'Dyno Graph'!$G$2:$G$77,'Dyno Graph'!$A$2:$A$77,,1)))) -> 4300 | N10: =IF(L10=1,_xlfn.XLOOKUP(A10,'Dyno Graph'!$E$2:$E$77,'Dyno Graph'!$D$2:$D$77,,-1),IF(L10=2,_xlfn.XLOOKUP(A10,'Dyno Graph'!$F$2:$F$77,'Dyno Graph'!$D$2:$D$77,,-1),IF(L10=3,_xlfn.XLOOKUP(A10,'Dyno Graph'!$G$2:$G$77,'Dyno Graph'!$D$2:$D$77,,-1)))) -> 18.19691 | O10: =IF(L10=1,_xlfn.XLOOKUP(A10,'Dyno Graph'!$E$2:$E$77,'Dyno Graph'!$H$2:$H$77,,-1),IF(Forces!L10=2,_xlfn.XLOOKUP(Forces!A10,'Dyno Graph'!$F$2:$F$77,'Dyno Graph'!$H$2:$H$77,,-1),IF(Forces!L10=3,_xlfn.XLOOKUP(Forces!A10,'Dyno Graph'!$G$2:$G$77,'Dyno Graph'!$H$2:$H$77,,-1)))) -> 7.9965805 | P10: {=_xlfn.XLOOKUP(N10,BSFC!$B$3:$B$25,_xlfn.XLOOKUP(M10,BSFC!$C$2:$P$2,BSFC!$C$3:$P$25,,-1),,-1)} -> 481.62212 | Q10: =(O10*P10)/(60*60) -> 1.0698139 | R10: =((B11-B10)/3600)*O10 -> 0.00038508321 | S10: =R10*P10 -> 0.18546459 | T10: =S10+T9 -> 1.2418244 | U10: =((R10*P10)/1000)/0.75 -> 0.00024728612 | V10: =U10+V9 -> 0.0016557658
A11: =MIN('Gearing and Output'!$H$7,(SQRT((A10^2)+2*K10*1))) -> 5.768292 | B11: =(1/A11)+B10 -> 2.46594 | C11: =0.5*'Gearing and Output'!$G$15*'Gearing and Output'!$G$16*'Gearing and Output'!$G$14*(A11)^2 -> 19.564637 | D11: ='Gearing and Output'!$G$26 -> 133.66125 | E11: ='Gearing and Output'!$C$14-C11-D11 -> 330.88114 | F11: =0.5*'Gearing and Output'!$J$27*A11^2 -> 9428.7909 | G11: =A11/('Gearing and Output'!$J$35/1000) -> 19.747662 | H11: =(0.5*I11*A11^2)/1000 -> 10.509833 | I11: ='Gearing and Output'!$G$38 -> 631.72978 | J11: =E11/I11 -> 0.52377006 | K11: =I11/E11 -> 1.9092348 | L11: =IF(A11<'Gearing and Output'!$H$5,1,IF(A11<'Gearing and Output'!$H$6,2,IF(A11>'Gearing and Output'!$H$7,3))) -> 1 | M11: =IF(L11=1,_xlfn.XLOOKUP(A11,'Dyno Graph'!$E$2:$E$77,'Dyno Graph'!$A$2:$A$77,,1),IF(L11=2,_xlfn.XLOOKUP(A11,'Dyno Graph'!$F$2:$F$77,'Dyno Graph'!$A$2:$A$77,,1),IF(L11=3,_xlfn.XLOOKUP(A11,'Dyno Graph'!$G$2:$G$77,'Dyno Graph'!$A$2:$A$77,,1)))) -> 4600 | N11: =IF(L11=1,_xlfn.XLOOKUP(A11,'Dyno Graph'!$E$2:$E$77,'Dyno Graph'!$D$2:$D$77,,-1),IF(L11=2,_xlfn.XLOOKUP(A11,'Dyno Graph'!$F$2:$F$77,'Dyno Graph'!$D$2:$D$77,,-1),IF(L11=3,_xlfn.XLOOKUP(A11,'Dyno Graph'!$G$2:$G$77,'Dyno Graph'!$D$2:$D$77,,-1)))) -> 19.005333 | O11: =IF(L11=1,_xlfn.XLOOKUP(A11,'Dyno Graph'!$E$2:$E$77,'Dyno Graph'!$H$2:$H$77,,-1),IF(Forces!L11=2,_xlfn.XLOOKUP(Forces!A11,'Dyno Graph'!$F$2:$F$77,'Dyno Graph'!$H$2:$H$77,,-1),IF(Forces!L11=3,_xlfn.XLOOKUP(Forces!A11,'Dyno Graph'!$G$2:$G$77,'Dyno Graph'!$H$2:$H$77,,-1)))) -> 8.9484 | P11: {=_xlfn.XLOOKUP(N11,BSFC!$B$3:$B$25,_xlfn.XLOOKUP(M11,BSFC!$C$2:$P$2,BSFC!$C$3:$P$25,,-1),,-1)} -> 474.51549 | Q11: =(O11*P11)/(60*60) -> 1.1794873 | R11: =((B12-B11)/3600)*O11 -> 0.00040813585 | S11: =R11*P11 -> 0.19366678 | T11: =S11+T10 -> 1.4354912 | U11: =((R11*P11)/1000)/0.75 -> 0.00025822238 | V11: =U11+V10 -> 0.0019139882
A12: =MIN('Gearing and Output'!$H$7,(SQRT((A11^2)+2*K11*1))) -> 6.0902924 | B12: =(1/A12)+B11 -> 2.6301357 | C12: =0.5*'Gearing and Output'!$G$15*'Gearing and Output'!$G$16*'Gearing and Output'!$G$14*(A12)^2 -> 21.809897 | D12: ='Gearing and Output'!$G$26 -> 133.66125 | E12: ='Gearing and Output'!$C$14-C12-D12 -> 328.63588 | F12: =0.5*'Gearing and Output'!$J$27*A12^2 -> 10510.85 | G12: =A12/('Gearing and Output'!$J$35/1000) -> 20.850025 | H12: =(0.5*I12*A12^2)/1000 -> 11.715954 | I12: ='Gearing and Output'!$G$38 -> 631.72978 | J12: =E12/I12 -> 0.52021591 | K12: =I12/E12 -> 1.9222788 | L12: =IF(A12<'Gearing and Output'!$H$5,1,IF(A12<'Gearing and Output'!$H$6,2,IF(A12>'Gearing and Output'!$H$7,3))) -> 1 | M12: =IF(L12=1,_xlfn.XLOOKUP(A12,'Dyno Graph'!$E$2:$E$77,'Dyno Graph'!$A$2:$A$77,,1),IF(L12=2,_xlfn.XLOOKUP(A12,'Dyno Graph'!$F$2:$F$77,'Dyno Graph'!$A$2:$A$77,,1),IF(L12=3,_xlfn.XLOOKUP(A12,'Dyno Graph'!$G$2:$G$77,'Dyno Graph'!$A$2:$A$77,,1)))) -> 4800 | N12: =IF(L12=1,_xlfn.XLOOKUP(A12,'Dyno Graph'!$E$2:$E$77,'Dyno Graph'!$D$2:$D$77,,-1),IF(L12=2,_xlfn.XLOOKUP(A12,'Dyno Graph'!$F$2:$F$77,'Dyno Graph'!$D$2:$D$77,,-1),IF(L12=3,_xlfn.XLOOKUP(A12,'Dyno Graph'!$G$2:$G$77,'Dyno Graph'!$D$2:$D$77,,-1)))) -> 19.932889 | O12: =IF(L12=1,_xlfn.XLOOKUP(A12,'Dyno Graph'!$E$2:$E$77,'Dyno Graph'!$H$2:$H$77,,-1),IF(Forces!L12=2,_xlfn.XLOOKUP(Forces!A12,'Dyno Graph'!$F$2:$F$77,'Dyno Graph'!$H$2:$H$77,,-1),IF(Forces!L12=3,_xlfn.XLOOKUP(Forces!A12,'Dyno Graph'!$G$2:$G$77,'Dyno Graph'!$H$2:$H$77,,-1)))) -> 9.8022436 | P12: {=_xlfn.XLOOKUP(N12,BSFC!$B$3:$B$25,_xlfn.XLOOKUP(M12,BSFC!$C$2:$P$2,BSFC!$C$3:$P$25,,-1),,-1)} -> 474.51549 | Q12: =(O12*P12)/(60*60) -> 1.2920324 | R12: =((B13-B12)/3600)*O12 -> 0.00042556816 | S12: =R12*P12 -> 0.20193868 | T12: =S12+T11 -> 1.6374298 | U12: =((R12*P12)/1000)/0.75 -> 0.00026925158 | V12: =U12+V11 -> 0.0021832398
A13: =MIN('Gearing and Output'!$H$7,(SQRT((A12^2)+2*K12*1))) -> 6.3981419 | B13: =(1/A13)+B12 -> 2.7864311 | C13: =0.5*'Gearing and Output'!$G$15*'Gearing and Output'!$G$16*'Gearing and Output'!$G$14*(A13)^2 -> 24.070497 | D13: ='Gearing and Output'!$G$26 -> 133.66125 | E13: ='Gearing and Output'!$C$14-C13-D13 -> 326.37528 | F13: =0.5*'Gearing and Output'!$J$27*A13^2 -> 11600.301 | G13: =A13/('Gearing and Output'!$J$35/1000) -> 21.903943 | H13: =(0.5*I13*A13^2)/1000 -> 12.930314 | I13: ='Gearing and Output'!$G$38 -> 631.72978 | J13: =E13/I13 -> 0.51663748 | K13: =I13/E13 -> 1.9355932 | L13: =IF(A13<'Gearing and Output'!$H$5,1,IF(A13<'Gearing and Output'!$H$6,2,IF(A13>'Gearing and Output'!$H$7,3))) -> 1 | M13: =IF(L13=1,_xlfn.XLOOKUP(A13,'Dyno Graph'!$E$2:$E$77,'Dyno Graph'!$A$2:$A$77,,1),IF(L13=2,_xlfn.XLOOKUP(A13,'Dyno Graph'!$F$2:$F$77,'Dyno Graph'!$A$2:$A$77,,1),IF(L13=3,_xlfn.XLOOKUP(A13,'Dyno Graph'!$G$2:$G$77,'Dyno Graph'!$A$2:$A$77,,1)))) -> 5100 | N13: =IF(L13=1,_xlfn.XLOOKUP(A13,'Dyno Graph'!$E$2:$E$77,'Dyno Graph'!$D$2:$D$77,,-1),IF(L13=2,_xlfn.XLOOKUP(A13,'Dyno Graph'!$F$2:$F$77,'Dyno Graph'!$D$2:$D$77,,-1),IF(L13=3,_xlfn.XLOOKUP(A13,'Dyno Graph'!$G$2:$G$77,'Dyno Graph'!$D$2:$D$77,,-1)))) -> 21.381 | O13: =IF(L13=1,_xlfn.XLOOKUP(A13,'Dyno Graph'!$E$2:$E$77,'Dyno Graph'!$H$2:$H$77,,-1),IF(Forces!L13=2,_xlfn.XLOOKUP(Forces!A13,'Dyno Graph'!$F$2:$F$77,'Dyno Graph'!$H$2:$H$77,,-1),IF(Forces!L13=3,_xlfn.XLOOKUP(Forces!A13,'Dyno Graph'!$G$2:$G$77,'Dyno Graph'!$H$2:$H$77,,-1)))) -> 11.1855 | P13: {=_xlfn.XLOOKUP(N13,BSFC!$B$3:$B$25,_xlfn.XLOOKUP(M13,BSFC!$C$2:$P$2,BSFC!$C$3:$P$25,,-1),,-1)} -> 470.50444 | Q13: =(O13*P13)/(60*60) -> 1.4618965 | R13: =((B14-B13)/3600)*O13 -> 0.000464171 | S13: =R13*P13 -> 0.21839452 | T13: =S13+T12 -> 1.8558244 | U13: =((R13*P13)/1000)/0.75 -> 0.00029119269 | V13: =U13+V12 -> 0.0024744325
A14: =MIN('Gearing and Output'!$H$7,(SQRT((A13^2)+2*K13*1))) -> 6.6938334 | B14: =(1/A14)+B13 -> 2.9358223 | C14: =0.5*'Gearing and Output'!$G$15*'Gearing and Output'!$G$16*'Gearing and Output'!$G$14*(A14)^2 -> 26.346755 | D14: ='Gearing and Output'!$G$26 -> 133.66125 | E14: ='Gearing and Output'!$C$14-C14-D14 -> 324.09902 | F14: =0.5*'Gearing and Output'!$J$27*A14^2 -> 12697.299 | G14: =A14/('Gearing and Output'!$J$35/1000) -> 22.916239 | H14: =(0.5*I14*A14^2)/1000 -> 14.153086 | I14: ='Gearing and Output'!$G$38 -> 631.72978 | J14: =E14/I14 -> 0.51303427 | K14: =I14/E14 -> 1.9491875 | L14: =IF(A14<'Gearing and Output'!$H$5,1,IF(A14<'Gearing and Output'!$H$6,2,IF(A14>'Gearing and Output'!$H$7,3))) -> 1 | M14: =IF(L14=1,_xlfn.XLOOKUP(A14,'Dyno Graph'!$E$2:$E$77,'Dyno Graph'!$A$2:$A$77,,1),IF(L14=2,_xlfn.XLOOKUP(A14,'Dyno Graph'!$F$2:$F$77,'Dyno Graph'!$A$2:$A$77,,1),IF(L14=3,_xlfn.XLOOKUP(A14,'Dyno Graph'!$G$2:$G$77,'Dyno Graph'!$A$2:$A$77,,1)))) -> 5300 | N14: =IF(L14=1,_xlfn.XLOOKUP(A14,'Dyno Graph'!$E$2:$E$77,'Dyno Graph'!$D$2:$D$77,,-1),IF(L14=2,_xlfn.XLOOKUP(A14,'Dyno Graph'!$F$2:$F$77,'Dyno Graph'!$D$2:$D$77,,-1),IF(L14=3,_xlfn.XLOOKUP(A14,'Dyno Graph'!$G$2:$G$77,'Dyno Graph'!$D$2:$D$77,,-1)))) -> 21.993499 | O14: =IF(L14=1,_xlfn.XLOOKUP(A14,'Dyno Graph'!$E$2:$E$77,'Dyno Graph'!$H$2:$H$77,,-1),IF(Forces!L14=2,_xlfn.XLOOKUP(Forces!A14,'Dyno Graph'!$F$2:$F$77,'Dyno Graph'!$H$2:$H$77,,-1),IF(Forces!L14=3,_xlfn.XLOOKUP(Forces!A14,'Dyno Graph'!$G$2:$G$77,'Dyno Graph'!$H$2:$H$77,,-1)))) -> 11.966167 | P14: {=_xlfn.XLOOKUP(N14,BSFC!$B$3:$B$25,_xlfn.XLOOKUP(M14,BSFC!$C$2:$P$2,BSFC!$C$3:$P$25,,-1),,-1)} -> 470.50444 | Q14: =(O14*P14)/(60*60) -> 1.5639263 | R14: =((B15-B14)/3600)*O14 -> 0.00047627994 | S14: =R14*P14 -> 0.22409183 | T14: =S14+T13 -> 2.0799162 | U14: =((R14*P14)/1000)/0.75 -> 0.00029878911 | V14: =U14+V13 -> 0.0027732216
A15: =MIN('Gearing and Output'!$H$7,(SQRT((A14^2)+2*K14*1))) -> 6.9789527 | B15: =(1/A15)+B14 -> 3.0791103 | C15: =0.5*'Gearing and Output'!$G$15*'Gearing and Output'!$G$16*'Gearing and Output'!$G$14*(A15)^2 -> 28.638999 | D15: ='Gearing and Output'!$G$26 -> 133.66125 | E15: ='Gearing and Output'!$C$14-C15-D15 -> 321.80678 | F15: =0.5*'Gearing and Output'!$J$27*A15^2 -> 13802.001 | G15: =A15/('Gearing and Output'!$J$35/1000) -> 23.892341 | H15: =(0.5*I15*A15^2)/1000 -> 15.384446 | I15: ='Gearing and Output'!$G$38 -> 631.72978 | J15: =E15/I15 -> 0.50940575 | K15: =I15/E15 -> 1.9630717 | L15: =IF(A15<'Gearing and Output'!$H$5,1,IF(A15<'Gearing and Output'!$H$6,2,IF(A15>'Gearing and Output'!$H$7,3))) -> 1 | M15: =IF(L15=1,_xlfn.XLOOKUP(A15,'Dyno Graph'!$E$2:$E$77,'Dyno Graph'!$A$2:$A$77,,1),IF(L15=2,_xlfn.XLOOKUP(A15,'Dyno Graph'!$F$2:$F$77,'Dyno Graph'!$A$2:$A$77,,1),IF(L15=3,_xlfn.XLOOKUP(A15,'Dyno Graph'!$G$2:$G$77,'Dyno Graph'!$A$2:$A$77,,1)))) -> 5500 | N15: =IF(L15=1,_xlfn.XLOOKUP(A15,'Dyno Graph'!$E$2:$E$77,'Dyno Graph'!$D$2:$D$77,,-1),IF(L15=2,_xlfn.XLOOKUP(A15,'Dyno Graph'!$F$2:$F$77,'Dyno Graph'!$D$2:$D$77,,-1),IF(L15=3,_xlfn.XLOOKUP(A15,'Dyno Graph'!$G$2:$G$77,'Dyno Graph'!$D$2:$D$77,,-1)))) -> 22.137863 | O15: =IF(L15=1,_xlfn.XLOOKUP(A15,'Dyno Graph'!$E$2:$E$77,'Dyno Graph'!$H$2:$H$77,,-1),IF(Forces!L15=2,_xlfn.XLOOKUP(Forces!A15,'Dyno Graph'!$F$2:$F$77,'Dyno Graph'!$H$2:$H$77,,-1),IF(Forces!L15=3,_xlfn.XLOOKUP(Forces!A15,'Dyno Graph'!$G$2:$G$77,'Dyno Graph'!$H$2:$H$77,,-1)))) -> 12.50797 | P15: {=_xlfn.XLOOKUP(N15,BSFC!$B$3:$B$25,_xlfn.XLOOKUP(M15,BSFC!$C$2:$P$2,BSFC!$C$3:$P$25,,-1),,-1)} -> 452.21 | Q15: =(O15*P15)/(60*60) -> 1.5711748 | R15: =((B16-B15)/3600)*O15 -> 0.0004789164 | S15: =R15*P15 -> 0.21657078 | T15: =S15+T14 -> 2.296487 | U15: =((R15*P15)/1000)/0.75 -> 0.00028876105 | V15: =U15+V14 -> 0.0030619826
... A27: =MIN('Gearing and Output'!$H$7,(SQRT((A26^2)+2*K26*1))) -> 9.8914731 | B27: =(1/A27)+B26 -> 4.484735 | C27: =0.5*'Gearing and Output'!$G$15*'Gearing and Output'!$G$16*'Gearing and Output'!$G$14*(A27)^2 -> 57.530649 | D27: ='Gearing and Output'!$G$26 -> 133.66125 | E27: ='Gearing and Output'!$C$14-C27-D27 -> 292.91513 | F27: =0.5*'Gearing and Output'!$J$27*A27^2 -> 27725.762 | G27: =A27/('Gearing and Output'!$J$35/1000) -> 33.863311 | H27: =(0.5*I27*A27^2)/1000 -> 30.904613 | I27: ='Gearing and Output'!$G$38 -> 631.72978 | J27: =E27/I27 -> 0.46367156 | K27: =I27/E27 -> 2.156699 | L27: =IF(A27<'Gearing and Output'!$H$5,1,IF(A27<'Gearing and Output'!$H$6,2,IF(A27>'Gearing and Output'!$H$7,3))) -> 2 | M27: =IF(L27=1,_xlfn.XLOOKUP(A27,'Dyno Graph'!$E$2:$E$77,'Dyno Graph'!$A$2:$A$77,,1),IF(L27=2,_xlfn.XLOOKUP(A27,'Dyno Graph'!$F$2:$F$77,'Dyno Graph'!$A$2:$A$77,,1),IF(L27=3,_xlfn.XLOOKUP(A27,'Dyno Graph'!$G$2:$G$77,'Dyno Graph'!$A$2:$A$77,,1)))) -> 6400 | N27: =IF(L27=1,_xlfn.XLOOKUP(A27,'Dyno Graph'!$E$2:$E$77,'Dyno Graph'!$D$2:$D$77,,-1),IF(L27=2,_xlfn.XLOOKUP(A27,'Dyno Graph'!$F$2:$F$77,'Dyno Graph'!$D$2:$D$77,,-1),IF(L27=3,_xlfn.XLOOKUP(A27,'Dyno Graph'!$G$2:$G$77,'Dyno Graph'!$D$2:$D$77,,-1)))) -> 19.797222 | O27: =IF(L27=1,_xlfn.XLOOKUP(A27,'Dyno Graph'!$E$2:$E$77,'Dyno Graph'!$H$2:$H$77,,-1),IF(Forces!L27=2,_xlfn.XLOOKUP(Forces!A27,'Dyno Graph'!$F$2:$F$77,'Dyno Graph'!$H$2:$H$77,,-1),IF(Forces!L27=3,_xlfn.XLOOKUP(Forces!A27,'Dyno Graph'!$G$2:$G$77,'Dyno Graph'!$H$2:$H$77,,-1)))) -> 13.04975 | P27: {=_xlfn.XLOOKUP(N27,BSFC!$B$3:$B$25,_xlfn.XLOOKUP(M27,BSFC!$C$2:$P$2,BSFC!$C$3:$P$25,,-1),,-1)} -> 457.16662 | Q27: =(O27*P27)/(60*60) -> 1.6571972 | R27: =((B28-B27)/3600)*O27 -> 0.00035864984 | S27: =R27*P27 -> 0.16396274 | T27: =S27+T26 -> 4.5987442 | U27: =((R27*P27)/1000)/0.75 -> 0.00021861698 | V27: =U27+V26 -> 0.006131659
A28: =MIN('Gearing and Output'!$H$7,(SQRT((A27^2)+2*K27*1))) -> 10.107158 | B28: =(1/A28)+B27 -> 4.5836748 | C28: =0.5*'Gearing and Output'!$G$15*'Gearing and Output'!$G$16*'Gearing and Output'!$G$14*(A28)^2 -> 60.066928 | D28: ='Gearing and Output'!$G$26 -> 133.66125 | E28: ='Gearing and Output'!$C$14-C28-D28 -> 290.37885 | F28: =0.5*'Gearing and Output'!$J$27*A28^2 -> 28948.071 | G28: =A28/('Gearing and Output'!$J$35/1000) -> 34.601704 | H28: =(0.5*I28*A28^2)/1000 -> 32.267064 | I28: ='Gearing and Output'!$G$38 -> 631.72978 | J28: =E28/I28 -> 0.45965674 | K28: =I28/E28 -> 2.1755365 | L28: =IF(A28<'Gearing and Output'!$H$5,1,IF(A28<'Gearing and Output'!$H$6,2,IF(A28>'Gearing and Output'!$H$6,3))) -> 2 | M28: =IF(L28=1,_xlfn.XLOOKUP(A28,'Dyno Graph'!$E$2:$E$77,'Dyno Graph'!$A$2:$A$77,,1),IF(L28=2,_xlfn.XLOOKUP(A28,'Dyno Graph'!$F$2:$F$77,'Dyno Graph'!$A$2:$A$77,,1),IF(L28=3,_xlfn.XLOOKUP(A28,'Dyno Graph'!$G$2:$G$77,'Dyno Graph'!$A$2:$A$77,,1)))) -> 6500 | N28: =IF(L28=1,_xlfn.XLOOKUP(A28,'Dyno Graph'!$E$2:$E$77,'Dyno Graph'!$D$2:$D$77,,-1),IF(L28=2,_xlfn.XLOOKUP(A28,'Dyno Graph'!$F$2:$F$77,'Dyno Graph'!$D$2:$D$77,,-1),IF(L28=3,_xlfn.XLOOKUP(A28,'Dyno Graph'!$G$2:$G$77,'Dyno Graph'!$D$2:$D$77,,-1)))) -> 19.933328 | O28: =IF(L28=1,_xlfn.XLOOKUP(A28,'Dyno Graph'!$E$2:$E$77,'Dyno Graph'!$H$2:$H$77,,-1),IF(Forces!L28=2,_xlfn.XLOOKUP(Forces!A28,'Dyno Graph'!$F$2:$F$77,'Dyno Graph'!$H$2:$H$77,,-1),IF(Forces!L28=3,_xlfn.XLOOKUP(Forces!A28,'Dyno Graph'!$G$2:$G$77,'Dyno Graph'!$H$2:$H$77,,-1)))) -> 13.34803 | P28: {=_xlfn.XLOOKUP(N28,BSFC!$B$3:$B$25,_xlfn.XLOOKUP(M28,BSFC!$C$2:$P$2,BSFC!$C$3:$P$25,,-1),,-1)} -> 504.47247 | Q28: =(O28*P28)/(60*60) -> 1.870476 | R28: =((B29-B28)/3600)*O28 -> 0.00035927601 | S28: =R28*P28 -> 0.18124486 | T28: =S28+T27 -> 4.7799891 | U28: =((R28*P28)/1000)/0.75 -> 0.00024165981 | V28: =U28+V27 -> 0.0063733188
A29: =MIN('Gearing and Output'!$H$7,(SQRT((A28^2)+2*K28*1))) -> 10.32016 | B29: =(1/A29)+B28 -> 4.6805725 | C29: =0.5*'Gearing and Output'!$G$15*'Gearing and Output'!$G$16*'Gearing and Output'!$G$14*(A29)^2 -> 62.625358 | D29: ='Gearing and Output'!$G$26 -> 133.66125 | E29: ='Gearing and Output'!$C$14-C29-D29 -> 287.82042 | F29: =0.5*'Gearing and Output'!$J$27*A29^2 -> 30181.056 | G29: =A29/('Gearing and Output'!$J$35/1000) -> 35.330916 | H29: =(0.5*I29*A29^2)/1000 -> 33.641415 | I29: ='Gearing and Output'!$G$38 -> 631.72978 | J29: =E29/I29 -> 0.45560686 | K29: =I29/E29 -> 2.1948748 | L29: =IF(A29<'Gearing and Output'!$H$5,1,IF(A29<'Gearing and Output'!$H$6,2,IF(A29>'Gearing and Output'!$H$6,3))) -> 2 | M29: =IF(L29=1,_xlfn.XLOOKUP(A29,'Dyno Graph'!$E$2:$E$77,'Dyno Graph'!$A$2:$A$77,,1),IF(L29=2,_xlfn.XLOOKUP(A29,'Dyno Graph'!$F$2:$F$77,'Dyno Graph'!$A$2:$A$77,,1),IF(L29=3,_xlfn.XLOOKUP(A29,'Dyno Graph'!$G$2:$G$77,'Dyno Graph'!$A$2:$A$77,,1)))) -> 6600 | N29: =IF(L29=1,_xlfn.XLOOKUP(A29,'Dyno Graph'!$E$2:$E$77,'Dyno Graph'!$D$2:$D$77,,-1),IF(L29=2,_xlfn.XLOOKUP(A29,'Dyno Graph'!$F$2:$F$77,'Dyno Graph'!$D$2:$D$77,,-1),IF(L29=3,_xlfn.XLOOKUP(A29,'Dyno Graph'!$G$2:$G$77,'Dyno Graph'!$D$2:$D$77,,-1)))) -> 19.736308 | O29: =IF(L29=1,_xlfn.XLOOKUP(A29,'Dyno Graph'!$E$2:$E$77,'Dyno Graph'!$H$2:$H$77,,-1),IF(Forces!L29=2,_xlfn.XLOOKUP(Forces!A29,'Dyno Graph'!$F$2:$F$77,'Dyno Graph'!$H$2:$H$77,,-1),IF(Forces!L29=3,_xlfn.XLOOKUP(Forces!A29,'Dyno Graph'!$G$2:$G$77,'Dyno Graph'!$H$2:$H$77,,-1)))) -> 13.4226 | P29: {=_xlfn.XLOOKUP(N29,BSFC!$B$3:$B$25,_xlfn.XLOOKUP(M29,BSFC!$C$2:$P$2,BSFC!$C$3:$P$25,,-1),,-1)} -> 504.47247 | Q29: =(O29*P29)/(60*60) -> 1.8809256 | R29: =((B30-B29)/3600)*O29 -> 0.00035406032 | S29: =R29*P29 -> 0.17861369 | T29: =S29+T28 -> 4.9586028 | U29: =((R29*P29)/1000)/0.75 -> 0.00023815158 | V29: =U29+V28 -> 0.0066114704
A30: =MIN('Gearing and Output'!$H$7,(SQRT((A29^2)+2*K29*1))) -> 10.530691 | B30: =(1/A30)+B29 -> 4.775533 | C30: =0.5*'Gearing and Output'!$G$15*'Gearing and Output'!$G$16*'Gearing and Output'!$G$14*(A30)^2 -> 65.206531 | D30: ='Gearing and Output'!$G$26 -> 133.66125 | E30: ='Gearing and Output'!$C$14-C30-D30 -> 285.23925 | F30: =0.5*'Gearing and Output'!$J$27*A30^2 -> 31425.001 | G30: =A30/('Gearing and Output'!$J$35/1000) -> 36.051665 | H30: =(0.5*I30*A30^2)/1000 -> 35.027982 | I30: ='Gearing and Output'!$G$38 -> 631.72978 | J30: =E30/I30 -> 0.45152098 | K30: =I30/E30 -> 2.2147365 | L30: =IF(A30<'Gearing and Output'!$H$5,1,IF(A30<'Gearing and Output'!$H$6,2,IF(A30>'Gearing and Output'!$H$6,3))) -> 2 | M30: =IF(L30=1,_xlfn.XLOOKUP(A30,'Dyno Graph'!$E$2:$E$77,'Dyno Graph'!$A$2:$A$77,,1),IF(L30=2,_xlfn.XLOOKUP(A30,'Dyno Graph'!$F$2:$F$77,'Dyno Graph'!$A$2:$A$77,,1),IF(L30=3,_xlfn.XLOOKUP(A30,'Dyno Graph'!$G$2:$G$77,'Dyno Graph'!$A$2:$A$77,,1)))) -> 6800 | N30: =IF(L30=1,_xlfn.XLOOKUP(A30,'Dyno Graph'!$E$2:$E$77,'Dyno Graph'!$D$2:$D$77,,-1),IF(L30=2,_xlfn.XLOOKUP(A30,'Dyno Graph'!$F$2:$F$77,'Dyno Graph'!$D$2:$D$77,,-1),IF(L30=3,_xlfn.XLOOKUP(A30,'Dyno Graph'!$G$2:$G$77,'Dyno Graph'!$D$2:$D$77,,-1)))) -> 19.67903 | O30: =IF(L30=1,_xlfn.XLOOKUP(A30,'Dyno Graph'!$E$2:$E$77,'Dyno Graph'!$H$2:$H$77,,-1),IF(Forces!L30=2,_xlfn.XLOOKUP(Forces!A30,'Dyno Graph'!$F$2:$F$77,'Dyno Graph'!$H$2:$H$77,,-1),IF(Forces!L30=3,_xlfn.XLOOKUP(Forces!A30,'Dyno Graph'!$G$2:$G$77,'Dyno Graph'!$H$2:$H$77,,-1)))) -> 13.79545 | P30: {=_xlfn.XLOOKUP(N30,BSFC!$B$3:$B$25,_xlfn.XLOOKUP(M30,BSFC!$C$2:$P$2,BSFC!$C$3:$P$25,,-1),,-1)} -> 504.47247 | Q30: =(O30*P30)/(60*60) -> 1.9331735 | R30: =((B31-B30)/3600)*O30 -> 0.00035683855 | S30: =R30*P30 -> 0.18001522 | T30: =S30+T29 -> 5.138618 | U30: =((R30*P30)/1000)/0.75 -> 0.0002400203 | V30: =U30+V29 -> 0.0068514907
A31: =MIN('Gearing and Output'!$H$7,(SQRT((A30^2)+2*K30*1))) -> 10.738945 | B31: =(1/A31)+B30 -> 4.8686521 | C31: =0.5*'Gearing and Output'!$G$15*'Gearing and Output'!$G$16*'Gearing and Output'!$G$14*(A31)^2 -> 67.811061 | D31: ='Gearing and Output'!$G$26 -> 133.66125 | E31: ='Gearing and Output'!$C$14-C31-D31 -> 282.63472 | F31: =0.5*'Gearing and Output'!$J$27*A31^2 -> 32680.203 | G31: =A31/('Gearing and Output'!$J$35/1000) -> 36.764617 | H31: =(0.5*I31*A31^2)/1000 -> 36.427097 | I31: ='Gearing and Output'!$G$38 -> 631.72978 | J31: =E31/I31 -> 0.44739813 | K31: =I31/E31 -> 2.2351457 | L31: =IF(A31<'Gearing and Output'!$H$5,1,IF(A31<'Gearing and Output'!$H$6,2,IF(A31>'Gearing and Output'!$H$6,3))) -> 2 | M31: =IF(L31=1,_xlfn.XLOOKUP(A31,'Dyno Graph'!$E$2:$E$77,'Dyno Graph'!$A$2:$A$77,,1),IF(L31=2,_xlfn.XLOOKUP(A31,'Dyno Graph'!$F$2:$F$77,'Dyno Graph'!$A$2:$A$77,,1),IF(L31=3,_xlfn.XLOOKUP(A31,'Dyno Graph'!$G$2:$G$77,'Dyno Graph'!$A$2:$A$77,,1)))) -> 6900 | N31: =IF(L31=1,_xlfn.XLOOKUP(A31,'Dyno Graph'!$E$2:$E$77,'Dyno Graph'!$D$2:$D$77,,-1),IF(L31=2,_xlfn.XLOOKUP(A31,'Dyno Graph'!$F$2:$F$77,'Dyno Graph'!$D$2:$D$77,,-1),IF(L31=3,_xlfn.XLOOKUP(A31,'Dyno Graph'!$G$2:$G$77,'Dyno Graph'!$D$2:$D$77,,-1)))) -> 19.259479 | O31: =IF(L31=1,_xlfn.XLOOKUP(A31,'Dyno Graph'!$E$2:$E$77,'Dyno Graph'!$H$2:$H$77,,-1),IF(Forces!L31=2,_xlfn.XLOOKUP(Forces!A31,'Dyno Graph'!$F$2:$F$77,'Dyno Graph'!$H$2:$H$77,,-1),IF(Forces!L31=3,_xlfn.XLOOKUP(Forces!A31,'Dyno Graph'!$G$2:$G$77,'Dyno Graph'!$H$2:$H$77,,-1)))) -> 13.702848 | P31: {=_xlfn.XLOOKUP(N31,BSFC!$B$3:$B$25,_xlfn.XLOOKUP(M31,BSFC!$C$2:$P$2,BSFC!$C$3:$P$25,,-1),,-1)} -> 504.47247 | Q31: =(O31*P31)/(60*60) -> 1.9201971 | R31: =((B32-B31)/3600)*O31 -> 0.00034776717 | S31: =R31*P31 -> 0.17543897 | T31: =S31+T30 -> 5.314057 | U31: =((R31*P31)/1000)/0.75 -> 0.00023391862 | V31: =U31+V30 -> 0.0070854093
A32: =MIN('Gearing and Output'!$H$7,(SQRT((A31^2)+2*K31*1))) -> 10.945101 | B32: =(1/A32)+B31 -> 4.9600171 | C32: =0.5*'Gearing and Output'!$G$15*'Gearing and Output'!$G$16*'Gearing and Output'!$G$14*(A32)^2 -> 70.439593 | D32: ='Gearing and Output'!$G$26 -> 133.66125 | E32: ='Gearing and Output'!$C$14-C32-D32 -> 280.00619 | F32: =0.5*'Gearing and Output'!$J$27*A32^2 -> 33946.972 | G32: =A32/('Gearing and Output'!$J$35/1000) -> 37.470389 | H32: =(0.5*I32*A32^2)/1000 -> 37.839106 | I32: ='Gearing and Output'!$G$38 -> 631.72978 | J32: =E32/I32 -> 0.44323728 | K32: =I32/E32 -> 2.2561279 | L32: =IF(A32<'Gearing and Output'!$H$5,1,IF(A32<'Gearing and Output'!$H$6,2,IF(A32>'Gearing and Output'!$H$6,3))) -> 2 | M32: =IF(L32=1,_xlfn.XLOOKUP(A32,'Dyno Graph'!$E$2:$E$77,'Dyno Graph'!$A$2:$A$77,,1),IF(L32=2,_xlfn.XLOOKUP(A32,'Dyno Graph'!$F$2:$F$77,'Dyno Graph'!$A$2:$A$77,,1),IF(L32=3,_xlfn.XLOOKUP(A32,'Dyno Graph'!$G$2:$G$77,'Dyno Graph'!$A$2:$A$77,,1)))) -> 7000 | N32: =IF(L32=1,_xlfn.XLOOKUP(A32,'Dyno Graph'!$E$2:$E$77,'Dyno Graph'!$D$2:$D$77,,-1),IF(L32=2,_xlfn.XLOOKUP(A32,'Dyno Graph'!$F$2:$F$77,'Dyno Graph'!$D$2:$D$77,,-1),IF(L32=3,_xlfn.XLOOKUP(A32,'Dyno Graph'!$G$2:$G$77,'Dyno Graph'!$D$2:$D$77,,-1)))) -> 18.346331 | O32: =IF(L32=1,_xlfn.XLOOKUP(A32,'Dyno Graph'!$E$2:$E$77,'Dyno Graph'!$H$2:$H$77,,-1),IF(Forces!L32=2,_xlfn.XLOOKUP(Forces!A32,'Dyno Graph'!$F$2:$F$77,'Dyno Graph'!$H$2:$H$77,,-1),IF(Forces!L32=3,_xlfn.XLOOKUP(Forces!A32,'Dyno Graph'!$G$2:$G$77,'Dyno Graph'!$H$2:$H$77,,-1)))) -> 13.245114 | P32: {=_xlfn.XLOOKUP(N32,BSFC!$B$3:$B$25,_xlfn.XLOOKUP(M32,BSFC!$C$2:$P$2,BSFC!$C$3:$P$25,,-1),,-1)} -> 510.466 | Q32: =(O32*P32)/(60*60) -> 1.8781056 | R32: =((B33-B32)/3600)*O32 -> 0.00032999287 | S32: =R32*P32 -> 0.16845014 | T32: =S32+T31 -> 5.4825071 | U32: =((R32*P32)/1000)/0.75 -> 0.00022460019 | V32: =U32+V31 -> 0.0073100095
A33: =MIN('Gearing and Output'!$H$7,(SQRT((A32^2)+2*K32*1))) -> 11.149326 | B33: =(1/A33)+B32 -> 5.0497087 | C33: =0.5*'Gearing and Output'!$G$15*'Gearing and Output'!$G$16*'Gearing and Output'!$G$14*(A33)^2 -> 73.092799 | D33: ='Gearing and Output'!$G$26 -> 133.66125 | E33: ='Gearing and Output'!$C$14-C33-D33 -> 277.35298 | F33: =0.5*'Gearing and Output'!$J$27*A33^2 -> 35225.633 | G33: =A33/('Gearing and Output'!$J$35/1000) -> 38.169553 | H33: =(0.5*I33*A33^2)/1000 -> 39.264369 | I33: ='Gearing and Output'!$G$38 -> 631.72978 | J33: =E33/I33 -> 0.43903737 | K33: =I33/E33 -> 2.2777104 | L33: =IF(A33<'Gearing and Output'!$H$5,1,IF(A33<'Gearing and Output'!$H$6,2,IF(A33>'Gearing and Output'!$H$6,3))) -> 2 | M33: =IF(L33=1,_xlfn.XLOOKUP(A33,'Dyno Graph'!$E$2:$E$77,'Dyno Graph'!$A$2:$A$77,,1),IF(L33=2,_xlfn.XLOOKUP(A33,'Dyno Graph'!$F$2:$F$77,'Dyno Graph'!$A$2:$A$77,,1),IF(L33=3,_xlfn.XLOOKUP(A33,'Dyno Graph'!$G$2:$G$77,'Dyno Graph'!$A$2:$A$77,,1)))) -> 7200 | N33: =IF(L33=1,_xlfn.XLOOKUP(A33,'Dyno Graph'!$E$2:$E$77,'Dyno Graph'!$D$2:$D$77,,-1),IF(L33=2,_xlfn.XLOOKUP(A33,'Dyno Graph'!$F$2:$F$77,'Dyno Graph'!$D$2:$D$77,,-1),IF(L33=3,_xlfn.XLOOKUP(A33,'Dyno Graph'!$G$2:$G$77,'Dyno Graph'!$D$2:$D$77,,-1)))) -> 16.430237 | O33: =IF(L33=1,_xlfn.XLOOKUP(A33,'Dyno Graph'!$E$2:$E$77,'Dyno Graph'!$H$2:$H$77,,-1),IF(Forces!L33=2,_xlfn.XLOOKUP(Forces!A33,'Dyno Graph'!$F$2:$F$77,'Dyno Graph'!$H$2:$H$77,,-1),IF(Forces!L33=3,_xlfn.XLOOKUP(Forces!A33,'Dyno Graph'!$G$2:$G$77,'Dyno Graph'!$H$2:$H$77,,-1)))) -> 12.205612 | P33: {=_xlfn.XLOOKUP(N33,BSFC!$B$3:$B$25,_xlfn.XLOOKUP(M33,BSFC!$C$2:$P$2,BSFC!$C$3:$P$25,,-1),,-1)} -> 530.48452 | Q33: =(O33*P33)/(60*60) -> 1.79858 | R33: =((B34-B33)/3600)*O33 -> 0.00029867103 | S33: =R33*P33 -> 0.15844036 | T33: =S33+T32 -> 5.6409475 | U33: =((R33*P33)/1000)/0.75 -> 0.00021125381 | V33: =U33+V32 -> 0.0075212633
A34: =MIN('Gearing and Output'!$H$7,(SQRT((A33^2)+2*K33*1))) -> 11.35178 | B34: =(1/A34)+B33 -> 5.1378006 | C34: =0.5*'Gearing and Output'!$G$15*'Gearing and Output'!$G$16*'Gearing and Output'!$G$14*(A34)^2 -> 75.771387 | D34: ='Gearing and Output'!$G$26 -> 133.66125 | E34: ='Gearing and Output'!$C$14-C34-D34 -> 274.67439 | F34: =0.5*'Gearing and Output'!$J$27*A34^2 -> 36516.525 | G34: =A34/('Gearing and Output'!$J$35/1000) -> 38.862649 | H34: =(0.5*I34*A34^2)/1000 -> 40.703266 | I34: ='Gearing and Output'!$G$38 -> 631.72978 | J34: =E34/I34 -> 0.43479729 | K34: =I34/E34 -> 2.2999224 | L34: =IF(A34<'Gearing and Output'!$H$5,1,IF(A34<'Gearing and Output'!$H$6,2,IF(A34>'Gearing and Output'!$H$6,3))) -> 2 | M34: =IF(L34=1,_xlfn.XLOOKUP(A34,'Dyno Graph'!$E$2:$E$77,'Dyno Graph'!$A$2:$A$77,,1),IF(L34=2,_xlfn.XLOOKUP(A34,'Dyno Graph'!$F$2:$F$77,'Dyno Graph'!$A$2:$A$77,,1),IF(L34=3,_xlfn.XLOOKUP(A34,'Dyno Graph'!$G$2:$G$77,'Dyno Graph'!$A$2:$A$77,,1)))) -> 7300 | N34: =IF(L34=1,_xlfn.XLOOKUP(A34,'Dyno Graph'!$E$2:$E$77,'Dyno Graph'!$D$2:$D$77,,-1),IF(L34=2,_xlfn.XLOOKUP(A34,'Dyno Graph'!$F$2:$F$77,'Dyno Graph'!$D$2:$D$77,,-1),IF(L34=3,_xlfn.XLOOKUP(A34,'Dyno Graph'!$G$2:$G$77,'Dyno Graph'!$D$2:$D$77,,-1)))) -> 15.729543 | O34: =IF(L34=1,_xlfn.XLOOKUP(A34,'Dyno Graph'!$E$2:$E$77,'Dyno Graph'!$H$2:$H$77,,-1),IF(Forces!L34=2,_xlfn.XLOOKUP(Forces!A34,'Dyno Graph'!$F$2:$F$77,'Dyno Graph'!$H$2:$H$77,,-1),IF(Forces!L34=3,_xlfn.XLOOKUP(Forces!A34,'Dyno Graph'!$G$2:$G$77,'Dyno Graph'!$H$2:$H$77,,-1)))) -> 11.849662 | P34: {=_xlfn.XLOOKUP(N34,BSFC!$B$3:$B$25,_xlfn.XLOOKUP(M34,BSFC!$C$2:$P$2,BSFC!$C$3:$P$25,,-1),,-1)} -> 482.49828 | Q34: =(O34*P34)/(60*60) -> 1.5881783 | R34: =((B35-B34)/3600)*O34 -> 0.00028492034 | S34: =R34*P34 -> 0.13747357 | T34: =S34+T33 -> 5.778421 | U34: =((R34*P34)/1000)/0.75 -> 0.0001832981 | V34: =U34+V33 -> 0.0077045614
A35: =MIN('Gearing and Output'!$H$7,(SQRT((A34^2)+2*K34*1))) -> 11.552608 | B35: =(1/A35)+B34 -> 5.2243611 | C35: =0.5*'Gearing and Output'!$G$15*'Gearing and Output'!$G$16*'Gearing and Output'!$G$14*(A35)^2 -> 78.476095 | D35: ='Gearing and Output'!$G$26 -> 133.66125 | E35: ='Gearing and Output'!$C$14-C35-D35 -> 271.96968 | F35: =0.5*'Gearing and Output'!$J$27*A35^2 -> 37820.006 | G35: =A35/('Gearing and Output'!$J$35/1000) -> 39.550181 | H35: =(0.5*I35*A35^2)/1000 -> 42.156196 | I35: ='Gearing and Output'!$G$38 -> 631.72978 | J35: =E35/I35 -> 0.43051585 | K35: =I35/E35 -> 2.3227948 | L35: =IF(A35<'Gearing and Output'!$H$5,1,IF(A35<'Gearing and Output'!$H$6,2,IF(A35>'Gearing and Output'!$H$6,3))) -> 2 | M35: =IF(L35=1,_xlfn.XLOOKUP(A35,'Dyno Graph'!$E$2:$E$77,'Dyno Graph'!$A$2:$A$77,,1),IF(L35=2,_xlfn.XLOOKUP(A35,'Dyno Graph'!$F$2:$F$77,'Dyno Graph'!$A$2:$A$77,,1),IF(L35=3,_xlfn.XLOOKUP(A35,'Dyno Graph'!$G$2:$G$77,'Dyno Graph'!$A$2:$A$77,,1)))) -> 7400 | N35: =IF(L35=1,_xlfn.XLOOKUP(A35,'Dyno Graph'!$E$2:$E$77,'Dyno Graph'!$D$2:$D$77,,-1),IF(L35=2,_xlfn.XLOOKUP(A35,'Dyno Graph'!$F$2:$F$77,'Dyno Graph'!$D$2:$D$77,,-1),IF(L35=3,_xlfn.XLOOKUP(A35,'Dyno Graph'!$G$2:$G$77,'Dyno Graph'!$D$2:$D$77,,-1)))) -> 15.161301 | O35: =IF(L35=1,_xlfn.XLOOKUP(A35,'Dyno Graph'!$E$2:$E$77,'Dyno Graph'!$H$2:$H$77,,-1),IF(Forces!L35=2,_xlfn.XLOOKUP(Forces!A35,'Dyno Graph'!$F$2:$F$77,'Dyno Graph'!$H$2:$H$77,,-1),IF(Forces!L35=3,_xlfn.XLOOKUP(Forces!A35,'Dyno Graph'!$G$2:$G$77,'Dyno Graph'!$H$2:$H$77,,-1)))) -> 11.580217 | P35: {=_xlfn.XLOOKUP(N35,BSFC!$B$3:$B$25,_xlfn.XLOOKUP(M35,BSFC!$C$2:$P$2,BSFC!$C$3:$P$25,,-1),,-1)} -> 482.49828 | Q35: =(O35*P35)/(60*60) -> 1.5520652 | R35: =((B36-B35)/3600)*O35 -> 0.00027371856 | S35: =R35*P35 -> 0.13206874 | T35: =S35+T34 -> 5.9104898 | U35: =((R35*P35)/1000)/0.75 -> 0.00017609165 | V35: =U35+V34 -> 0.007880653
A36: =MIN('Gearing and Output'!$H$7,(SQRT((A35^2)+2*K35*1))) -> 11.75195 | B36: =(1/A36)+B35 -> 5.3094534 | C36: =0.5*'Gearing and Output'!$G$15*'Gearing and Output'!$G$16*'Gearing and Output'!$G$14*(A36)^2 -> 81.207702 | D36: ='Gearing and Output'!$G$26 -> 133.66125 | E36: ='Gearing and Output'!$C$14-C36-D36 -> 269.23808 | F36: =0.5*'Gearing and Output'!$J$27*A36^2 -> 39136.45 | G36: =A36/('Gearing and Output'!$J$35/1000) -> 40.232627 | H36: =(0.5*I36*A36^2)/1000 -> 43.623574 | I36: ='Gearing and Output'!$G$38 -> 631.72978 | J36: =E36/I36 -> 0.42619184 | K36: =I36/E36 -> 2.3463612 | L36: =IF(A36<'Gearing and Output'!$H$5,1,IF(A36<'Gearing and Output'!$H$6,2,IF(A36>'Gearing and Output'!$H$6,3))) -> 2 | M36: =IF(L36=1,_xlfn.XLOOKUP(A36,'Dyno Graph'!$E$2:$E$77,'Dyno Graph'!$A$2:$A$77,,1),IF(L36=2,_xlfn.XLOOKUP(A36,'Dyno Graph'!$F$2:$F$77,'Dyno Graph'!$A$2:$A$77,,1),IF(L36=3,_xlfn.XLOOKUP(A36,'Dyno Graph'!$G$2:$G$77,'Dyno Graph'!$A$2:$A$77,,1)))) -> 7500 | N36: =IF(L36=1,_xlfn.XLOOKUP(A36,'Dyno Graph'!$E$2:$E$77,'Dyno Graph'!$D$2:$D$77,,-1),IF(L36=2,_xlfn.XLOOKUP(A36,'Dyno Graph'!$F$2:$F$77,'Dyno Graph'!$D$2:$D$77,,-1),IF(L36=3,_xlfn.XLOOKUP(A36,'Dyno Graph'!$G$2:$G$77,'Dyno Graph'!$D$2:$D$77,,-1)))) -> 14.682899 | O36: =IF(L36=1,_xlfn.XLOOKUP(A36,'Dyno Graph'!$E$2:$E$77,'Dyno Graph'!$H$2:$H$77,,-1),IF(Forces!L36=2,_xlfn.XLOOKUP(Forces!A36,'Dyno Graph'!$F$2:$F$77,'Dyno Graph'!$H$2:$H$77,,-1),IF(Forces!L36=3,_xlfn.XLOOKUP(Forces!A36,'Dyno Graph'!$G$2:$G$77,'Dyno Graph'!$H$2:$H$77,,-1)))) -> 11.368441 | P36: {=_xlfn.XLOOKUP(N36,BSFC!$B$3:$B$25,_xlfn.XLOOKUP(M36,BSFC!$C$2:$P$2,BSFC!$C$3:$P$25,,-1),,-1)} -> 475.44295 | Q36: =(O36*P36)/(60*60) -> 1.5014014 | R36: =((B37-B36)/3600)*O36 -> 0.00026426078 | S36: =R36*P36 -> 0.12564092 | T36: =S36+T35 -> 6.0361307 | U36: =((R36*P36)/1000)/0.75 -> 0.00016752123 | V36: =U36+V35 -> 0.0080481743
A37: =MIN('Gearing and Output'!$H$7,(SQRT((A36^2)+2*K36*1))) -> 11.94994 | B37: =(1/A37)+B36 -> 5.3931358 | C37: =0.5*'Gearing and Output'!$G$15*'Gearing and Output'!$G$16*'Gearing and Output'!$G$14*(A37)^2 -> 83.967023 | D37: ='Gearing and Output'!$G$26 -> 133.66125 | E37: ='Gearing and Output'!$C$14-C37-D37 -> 266.47876 | F37: =0.5*'Gearing and Output'!$J$27*A37^2 -> 40466.25 | G37: =A37/('Gearing and Output'!$J$35/1000) -> 40.910441 | H37: =(0.5*I37*A37^2)/1000 -> 45.105841 | I37: ='Gearing and Output'!$G$38 -> 631.72978 | J37: =E37/I37 -> 0.42182396 | K37: =I37/E37 -> 2.3706572 | L37: =IF(A37<'Gearing and Output'!$H$5,1,IF(A37<'Gearing and Output'!$H$6,2,IF(A37>'Gearing and Output'!$H$6,3))) -> 3 | M37: =IF(L37=1,_xlfn.XLOOKUP(A37,'Dyno Graph'!$E$2:$E$77,'Dyno Graph'!$A$2:$A$77,,1),IF(L37=2,_xlfn.XLOOKUP(A37,'Dyno Graph'!$F$2:$F$77,'Dyno Graph'!$A$2:$A$77,,1),IF(L37=3,_xlfn.XLOOKUP(A37,'Dyno Graph'!$G$2:$G$77,'Dyno Graph'!$A$2:$A$77,,1)))) -> 6600 | N37: =IF(L37=1,_xlfn.XLOOKUP(A37,'Dyno Graph'!$E$2:$E$77,'Dyno Graph'!$D$2:$D$77,,-1),IF(L37=2,_xlfn.XLOOKUP(A37,'Dyno Graph'!$F$2:$F$77,'Dyno Graph'!$D$2:$D$77,,-1),IF(L37=3,_xlfn.XLOOKUP(A37,'Dyno Graph'!$G$2:$G$77,'Dyno Graph'!$D$2:$D$77,,-1)))) -> 19.736308 | O37: =IF(L37=1,_xlfn.XLOOKUP(A37,'Dyno Graph'!$E$2:$E$77,'Dyno Graph'!$H$2:$H$77,,-1),IF(Forces!L37=2,_xlfn.XLOOKUP(Forces!A37,'Dyno Graph'!$F$2:$F$77,'Dyno Graph'!$H$2:$H$77,,-1),IF(Forces!L37=3,_xlfn.XLOOKUP(Forces!A37,'Dyno Graph'!$G$2:$G$77,'Dyno Graph'!$H$2:$H$77,,-1)))) -> 13.4226 | P37: {=_xlfn.XLOOKUP(N37,BSFC!$B$3:$B$25,_xlfn.XLOOKUP(M37,BSFC!$C$2:$P$2,BSFC!$C$3:$P$25,,-1),,-1)} -> 504.47247 | Q37: =(O37*P37)/(60*60) -> 1.8809256 | R37: =((B38-B37)/3600)*O37 -> 0.00030695574 | S37: =R37*P37 -> 0.15485072 | T37: =S37+T36 -> 6.1909814 | U37: =((R37*P37)/1000)/0.75 -> 0.00020646763 | V37: =U37+V36 -> 0.0082546419
A38: =MIN('Gearing and Output'!$H$7,(SQRT((A37^2)+2*K37*1))) -> 12.146702 | B38: =(1/A38)+B37 -> 5.4754627 | C38: =0.5*'Gearing and Output'!$G$15*'Gearing and Output'!$G$16*'Gearing and Output'!$G$14*(A38)^2 -> 86.754916 | D38: ='Gearing and Output'!$G$26 -> 133.66125 | E38: ='Gearing and Output'!$C$14-C38-D38 -> 263.69086 | F38: =0.5*'Gearing and Output'!$J$27*A38^2 -> 41809.82 | G38: =A38/('Gearing and Output'!$J$35/1000) -> 41.584054 | H38: =(0.5*I38*A38^2)/1000 -> 46.603455 | I38: ='Gearing and Output'!$G$38 -> 631.72978 | J38: =E38/I38 -> 0.41741085 | K38: =I38/E38 -> 2.3957211 | L38: =IF(A38<'Gearing and Output'!$H$5,1,IF(A38<'Gearing and Output'!$H$6,2,IF(A38>'Gearing and Output'!$H$6,3))) -> 3 | M38: =IF(L38=1,_xlfn.XLOOKUP(A38,'Dyno Graph'!$E$2:$E$77,'Dyno Graph'!$A$2:$A$77,,1),IF(L38=2,_xlfn.XLOOKUP(A38,'Dyno Graph'!$F$2:$F$77,'Dyno Graph'!$A$2:$A$77,,1),IF(L38=3,_xlfn.XLOOKUP(A38,'Dyno Graph'!$G$2:$G$77,'Dyno Graph'!$A$2:$A$77,,1)))) -> 6700 | N38: =IF(L38=1,_xlfn.XLOOKUP(A38,'Dyno Graph'!$E$2:$E$77,'Dyno Graph'!$D$2:$D$77,,-1),IF(L38=2,_xlfn.XLOOKUP(A38,'Dyno Graph'!$F$2:$F$77,'Dyno Graph'!$D$2:$D$77,,-1),IF(L38=3,_xlfn.XLOOKUP(A38,'Dyno Graph'!$G$2:$G$77,'Dyno Graph'!$D$2:$D$77,,-1)))) -> 19.545258 | O38: =IF(L38=1,_xlfn.XLOOKUP(A38,'Dyno Graph'!$E$2:$E$77,'Dyno Graph'!$H$2:$H$77,,-1),IF(Forces!L38=2,_xlfn.XLOOKUP(Forces!A38,'Dyno Graph'!$F$2:$F$77,'Dyno Graph'!$H$2:$H$77,,-1),IF(Forces!L38=3,_xlfn.XLOOKUP(Forces!A38,'Dyno Graph'!$G$2:$G$77,'Dyno Graph'!$H$2:$H$77,,-1)))) -> 13.49717 | P38: {=_xlfn.XLOOKUP(N38,BSFC!$B$3:$B$25,_xlfn.XLOOKUP(M38,BSFC!$C$2:$P$2,BSFC!$C$3:$P$25,,-1),,-1)} -> 504.47247 | Q38: =(O38*P38)/(60*60) -> 1.8913752 | R38: =((B39-B38)/3600)*O38 -> 0.00030376802 | S38: =R38*P38 -> 0.15324261 | T38: =S38+T37 -> 6.344224 | U38: =((R38*P38)/1000)/0.75 -> 0.00020432347 | V38: =U38+V37 -> 0.0084589654
A39: =MIN('Gearing and Output'!$H$7,(SQRT((A38^2)+2*K38*1))) -> 12.342359 | B39: =(1/A39)+B38 -> 5.5564845 | C39: =0.5*'Gearing and Output'!$G$15*'Gearing and Output'!$G$16*'Gearing and Output'!$G$14*(A39)^2 -> 89.572284 | D39: ='Gearing and Output'!$G$26 -> 133.66125 | E39: ='Gearing and Output'!$C$14-C39-D39 -> 260.8735 | F39: =0.5*'Gearing and Output'!$J$27*A39^2 -> 43167.595 | G39: =A39/('Gearing and Output'!$J$35/1000) -> 42.253881 | H39: =(0.5*I39*A39^2)/1000 -> 48.116904 | I39: ='Gearing and Output'!$G$38 -> 631.72978 | J39: =E39/I39 -> 0.41295108 | K39: =I39/E39 -> 2.4215943 | L39: =IF(A39<'Gearing and Output'!$H$5,1,IF(A39<'Gearing and Output'!$H$6,2,IF(A39>'Gearing and Output'!$H$6,3))) -> 3 | M39: =IF(L39=1,_xlfn.XLOOKUP(A39,'Dyno Graph'!$E$2:$E$77,'Dyno Graph'!$A$2:$A$77,,1),IF(L39=2,_xlfn.XLOOKUP(A39,'Dyno Graph'!$F$2:$F$77,'Dyno Graph'!$A$2:$A$77,,1),IF(L39=3,_xlfn.XLOOKUP(A39,'Dyno Graph'!$G$2:$G$77,'Dyno Graph'!$A$2:$A$77,,1)))) -> 6800 | N39: =IF(L39=1,_xlfn.XLOOKUP(A39,'Dyno Graph'!$E$2:$E$77,'Dyno Graph'!$D$2:$D$77,,-1),IF(L39=2,_xlfn.XLOOKUP(A39,'Dyno Graph'!$F$2:$F$77,'Dyno Graph'!$D$2:$D$77,,-1),IF(L39=3,_xlfn.XLOOKUP(A39,'Dyno Graph'!$G$2:$G$77,'Dyno Graph'!$D$2:$D$77,,-1)))) -> 19.67903 | O39: =IF(L39=1,_xlfn.XLOOKUP(A39,'Dyno Graph'!$E$2:$E$77,'Dyno Graph'!$H$2:$H$77,,-1),IF(Forces!L39=2,_xlfn.XLOOKUP(Forces!A39,'Dyno Graph'!$F$2:$F$77,'Dyno Graph'!$H$2:$H$77,,-1),IF(Forces!L39=3,_xlfn.XLOOKUP(Forces!A39,'Dyno Graph'!$G$2:$G$77,'Dyno Graph'!$H$2:$H$77,,-1)))) -> 13.79545 | P39: {=_xlfn.XLOOKUP(N39,BSFC!$B$3:$B$25,_xlfn.XLOOKUP(M39,BSFC!$C$2:$P$2,BSFC!$C$3:$P$25,,-1),,-1)} -> 504.47247 | Q39: =(O39*P39)/(60*60) -> 1.9331735 | R39: =((B40-B39)/3600)*O39 -> 0.00030566018 | S39: =R39*P39 -> 0.15419715 | T39: =S39+T38 -> 6.4984212 | U39: =((R39*P39)/1000)/0.75 -> 0.0002055962 | V39: =U39+V38 -> 0.0086645615
... A101: =MIN('Gearing and Output'!$H$7,(SQRT((A100^2)+2*K100*1))) -> 13.752389 | B101: =(1/A101)+B100 -> 10.089986 | C101: =0.5*'Gearing and Output'!$G$15*'Gearing and Output'!$G$16*'Gearing and Output'!$G$14*(A101)^2 -> 111.20738 | D101: ='Gearing and Output'!$G$26 -> 133.66125 | E101: ='Gearing and Output'!$C$14-C101-D101 -> 239.2384 | F101: =0.5*'Gearing and Output'!$J$27*A101^2 -> 53594.202 | G101: =A101/('Gearing and Output'!$J$35/1000) -> 47.081098 | H101: =(0.5*I101*A101^2)/1000 -> 59.738956 | I101: ='Gearing and Output'!$G$38 -> 631.72978 | J101: =E101/I101 -> 0.3787037 | K101: =I101/E101 -> 2.6405868 | L101: =IF(A101<'Gearing and Output'!$H$5,1,IF(A101<'Gearing and Output'!$H$6,2,IF(A101>'Gearing and Output'!$H$6,3))) -> 3 | M101: =IF(L101=1,_xlfn.XLOOKUP(A101,'Dyno Graph'!$E$2:$E$77,'Dyno Graph'!$A$2:$A$77,,1),IF(L101=2,_xlfn.XLOOKUP(A101,'Dyno Graph'!$F$2:$F$77,'Dyno Graph'!$A$2:$A$77,,1),IF(L101=3,_xlfn.XLOOKUP(A101,'Dyno Graph'!$G$2:$G$77,'Dyno Graph'!$A$2:$A$77,,1)))) -> 7500 | N101: =IF(L101=1,_xlfn.XLOOKUP(A101,'Dyno Graph'!$E$2:$E$77,'Dyno Graph'!$D$2:$D$77,,-1),IF(L101=2,_xlfn.XLOOKUP(A101,'Dyno Graph'!$F$2:$F$77,'Dyno Graph'!$D$2:$D$77,,-1),IF(L101=3,_xlfn.XLOOKUP(A101,'Dyno Graph'!$G$2:$G$77,'Dyno Graph'!$D$2:$D$77,,-1)))) -> 14.254 | O101: =IF(L101=1,_xlfn.XLOOKUP(A101,'Dyno Graph'!$E$2:$E$77,'Dyno Graph'!$H$2:$H$77,,-1),IF(Forces!L101=2,_xlfn.XLOOKUP(Forces!A101,'Dyno Graph'!$F$2:$F$77,'Dyno Graph'!$H$2:$H$77,,-1),IF(Forces!L101=3,_xlfn.XLOOKUP(Forces!A101,'Dyno Graph'!$G$2:$G$77,'Dyno Graph'!$H$2:$H$77,,-1)))) -> 11.1855 | P101: {=_xlfn.XLOOKUP(N101,BSFC!$B$3:$B$25,_xlfn.XLOOKUP(M101,BSFC!$C$2:$P$2,BSFC!$C$3:$P$25,,-1),,-1)} -> 475.44295 | Q101: =(O101*P101)/(60*60) -> 1.4772409 | R101: =((B102-B101)/3600)*O101 -> 0.00022593045 | S101: =R101*P101 -> 0.10741704 | T101: =S101+T100 -> 13.323156 | U101: =((R101*P101)/1000)/0.75 -> 0.00014322272 | V101: =U101+V100 -> 0.017764208
A102: =MIN('Gearing and Output'!$H$7,(SQRT((A101^2)+2*K101*1))) -> 13.752389 | B102: =(1/A102)+B101 -> 10.1627 | C102: =0.5*'Gearing and Output'!$G$15*'Gearing and Output'!$G$16*'Gearing and Output'!$G$14*(A102)^2 -> 111.20738 | D102: ='Gearing and Output'!$G$26 -> 133.66125 | E102: ='Gearing and Output'!$C$14-C102-D102-'Gearing and Output'!$C$21 -> -450.37051 | F102: =0.5*'Gearing and Output'!$J$27*A102^2 -> 53594.202 | G102: =A102/('Gearing and Output'!$J$35/1000) -> 47.081098 | H102: =(0.5*I102*A102^2)/1000 -> 59.738956 | I102: ='Gearing and Output'!$G$38 -> 631.72978 | J102: =E102/I102 -> -0.71291639 | K102: =(I102/E102) -> -1.402689 | L102: =IF(A102<'Gearing and Output'!$H$5,1,IF(A102<'Gearing and Output'!$H$6,2,IF(A102>'Gearing and Output'!$H$6,3))) -> 3 | M102: =IF(L102=1,_xlfn.XLOOKUP(A102,'Dyno Graph'!$E$2:$E$77,'Dyno Graph'!$A$2:$A$77,,1),IF(L102=2,_xlfn.XLOOKUP(A102,'Dyno Graph'!$F$2:$F$77,'Dyno Graph'!$A$2:$A$77,,1),IF(L102=3,_xlfn.XLOOKUP(A102,'Dyno Graph'!$G$2:$G$77,'Dyno Graph'!$A$2:$A$77,,1)))) -> 7500 | N102: =IF(L102=1,_xlfn.XLOOKUP(A102,'Dyno Graph'!$E$2:$E$77,'Dyno Graph'!$D$2:$D$77,,-1),IF(L102=2,_xlfn.XLOOKUP(A102,'Dyno Graph'!$F$2:$F$77,'Dyno Graph'!$D$2:$D$77,,-1),IF(L102=3,_xlfn.XLOOKUP(A102,'Dyno Graph'!$G$2:$G$77,'Dyno Graph'!$D$2:$D$77,,-1)))) -> 14.254 | O102: =IF(L102=1,_xlfn.XLOOKUP(A102,'Dyno Graph'!$E$2:$E$77,'Dyno Graph'!$H$2:$H$77,,-1),IF(Forces!L102=2,_xlfn.XLOOKUP(Forces!A102,'Dyno Graph'!$F$2:$F$77,'Dyno Graph'!$H$2:$H$77,,-1),IF(Forces!L102=3,_xlfn.XLOOKUP(Forces!A102,'Dyno Graph'!$G$2:$G$77,'Dyno Graph'!$H$2:$H$77,,-1)))) -> 11.1855 | P102: {=_xlfn.XLOOKUP(N102,BSFC!$B$3:$B$25,_xlfn.XLOOKUP(M102,BSFC!$C$2:$P$2,BSFC!$C$3:$P$25,,-1),,-1)} -> 475.44295 | Q102: =(O102*P102)/(60*60) -> 1.4772409 | R102: =((B103-B102)/3600)*O102 -> 0.00022762496 | S102: =R102*P102 -> 0.10822268 | T102: =S102+T101 -> 13.431379 | U102: =((R102*P102)/1000)/0.75 -> 0.00014429691 | V102: =U102+V101 -> 0.017908505
