Workbook

Sheet Vehicle 
B2: Renegade DX10-C (Auto) Corporate 300cc
A4: Y | B4: Engine Specifications
A5: N
B6: Engine | F6: 278cc Petrol Single Cylinder 4-Stroke ICE
B8: Power (BHP) (@6500) | F8: 18
B9: Power (KW) | F9: =F8/1.341 -> 13.422819
B10: Torque (Nm) (@5500) | F10: 22
B11: Top Speed (mph) | F11: 30
B12: Top Speed (m/s) | F12: =F11/2.237 -> 13.410818
B13: Vehicle Specifications
B15: Transmission | F15: Auto CVT with F/N/R
B16: Drive | F16: CVT Clutch
B17: Diff Lock | F17: Locked Rear Axle
B18: Tank Capacity (L) | F18: 29
B19: Vehicle Dimensions
B21: Length (m) | F21: 2.62
B22: Width (m) | F22: 1.65
B23: Height (m) | F23: 1.62
B24: Ground Clearance (m) | F24: 0.3
B25: Frontal Area (m²) | F25: =0.7*F22*F23 -> 1.8711
B26: Frontal Aero Area (m²) | F26: =(F23-F24)*F22 -> 2.178
B27: Centre of Gravity | F27: Very Low
B28: Vehicle Mass
B30: Curb Weight (Kg) | F30: 365
B31: Driver (Kg) | F31: 75
B32: Driver Kit (Kg) | F32: 10
B33: Passenger (Y/N) | F33: Y
B34: Passenger (Kg) | F34: =IF(F33=A4, 75, 0) -> 75
B35: Passenger Kit (Kg) | F35: =IF(F33=A4, 10, 0) -> 10
B36: Fuel (L) | F36: 29
B37: Fuel (Kg) | F37: =F36*0.7 -> 20.3
B38: Total (Kg) | F38: =SUM(F30:I37) -> 584.3
B39: Wheel Dimensions
B41: Front Wheel Size (In) | F41: 12
B42: Front Wheel Size (m) | F42: =F41/39.37 -> 0.30480061
B43: Front Tyre Side Wall (m) | F43: 0.1524
B44: Rear Wheel Size (In) | F44: 10
B45: Rear Wheel Size (m) | F45: =F44/39.37 -> 0.25400051
B46: Rear Tyre Side Wall (m) | F46: 0.1397
B47: Rolling Radius (m) | F47: =F45/2+F46 -> 0.26670025
...

Sheet Gearing 
B2: Gearing | H2: Power(BHP) | J2: Power (w) | K2: Torque (Nm) | L2: RPM | M2: Velocity (m/s) 1st Gear | N2: Velocity (m/s) 2st Gear | O2: Velocity (m/s) 3st Gear | P2: Velocity (mph) 1st Gear | Q2: Velocity (mph) 2st Gear | R2: Velocity (mph) 3st Gear | S2: Force (N) 1st | T2: Force (N) 2nd | U2: Force (N) 3rd
H3: 0.75 | J3: =H3*0.7457*1000 -> 559.275 | K3: =(J3)/((2*PI()*L3)/60) -> 7.1209105 | L3: 750 | M3: =(((L3/($D$5*$D$7*$D$13)*$B$32)) /(60))*2.24*0.44704 -> 0.80373645 | N3: =(((L3/($D$5*$D$9*$D$13)*$B$32)) /(60))*2.24*0.44704 -> 1.1776756 | O3: =(((L3/($D$5*$D$11*$D$13)*$B$32)) /(60))*2.24*0.44704 -> 1.5360986 | P3: =M3*2.237 -> 1.7979584 | Q3: =N3*2.237 -> 2.6344603 | R3: =O3*2.237 -> 3.4362526 | S3: =(($H3*0.746)*1000)/M3 -> 696.12371 | T3: =(($H3*0.746)*1000)/N3 -> 475.08838 | U3: =(($H3*0.746)*1000)/O3 -> 364.23443
B4: Primary | D4: Ratio | H4: =H3+0.75 -> 1.5 | J4: =H4*0.7457*1000 -> 1118.55 | K4: =(J4)/((2*PI()*L4)/60) -> 10.681366 | L4: =L3+250 -> 1000 | M4: =(((L4/($D$5*$D$7*$D$13)*$B$32)) /(60))*2.24*0.44704 -> 1.0716486 | N4: =(((L4/($D$5*$D$9*$D$13)*$B$32)) /(60))*2.24*0.44704 -> 1.5702342 | O4: =(((L4/($D$5*$D$11*$D$13)*$B$32)) /(60))*2.24*0.44704 -> 2.0481315 | P4: =M4*2.237 -> 2.3972779 | Q4: =N4*2.237 -> 3.5126138 | R4: =O4*2.237 -> 4.5816702 | S4: =(($H4*0.746)*1000)/M4 -> 1044.1856 | T4: =(($H4*0.746)*1000)/N4 -> 712.63257 | U4: =(($H4*0.746)*1000)/O4 -> 546.35164
B5: 28 | C5: 94 | D5: =C5/B5 -> 3.3571429 | H5: =H4+0.75 -> 2.25 | J5: =H5*0.7457*1000 -> 1677.825 | K5: =(J5)/((2*PI()*L5)/60) -> 12.817639 | L5: =L4+250 -> 1250 | M5: =(((L5/($D$5*$D$7*$D$13)*$B$32)) /(60))*2.24*0.44704 -> 1.3395608 | N5: =(((L5/($D$5*$D$9*$D$13)*$B$32)) /(60))*2.24*0.44704 -> 1.9627927 | O5: =(((L5/($D$5*$D$11*$D$13)*$B$32)) /(60))*2.24*0.44704 -> 2.5601644 | P5: =M5*2.237 -> 2.9965974 | Q5: =N5*2.237 -> 4.3907672 | R5: =O5*2.237 -> 5.7270877 | S5: =(($H5*0.746)*1000)/M5 -> 1253.0227 | T5: =(($H5*0.746)*1000)/N5 -> 855.15909 | U5: =(($H5*0.746)*1000)/O5 -> 655.62197
B6: First | H6: =H5+0.75 -> 3 | J6: =H6*0.7457*1000 -> 2237.1 | K6: =(J6)/((2*PI()*L6)/60) -> 14.241821 | L6: =L5+250 -> 1500 | M6: =(((L6/($D$5*$D$7*$D$13)*$B$32)) /(60))*2.24*0.44704 -> 1.6074729 | N6: =(((L6/($D$5*$D$9*$D$13)*$B$32)) /(60))*2.24*0.44704 -> 2.3553512 | O6: =(((L6/($D$5*$D$11*$D$13)*$B$32)) /(60))*2.24*0.44704 -> 3.0721973 | P6: =M6*2.237 -> 3.5959169 | Q6: =N6*2.237 -> 5.2689207 | R6: =O6*2.237 -> 6.8725053 | S6: =(($H6*0.746)*1000)/M6 -> 1392.2474 | T6: =(($H6*0.746)*1000)/N6 -> 950.17676 | U6: =(($H6*0.746)*1000)/O6 -> 728.46885
B7: 33 | C7: 14 | D7: =B7/C7 -> 2.3571429 | H7: =H6+0.75 -> 3.75 | J7: =H7*0.7457*1000 -> 2796.375 | K7: =(J7)/((2*PI()*L7)/60) -> 15.259094 | L7: =L6+250 -> 1750 | M7: =(((L7/($D$5*$D$7*$D$13)*$B$32)) /(60))*2.24*0.44704 -> 1.8753851 | N7: =(((L7/($D$5*$D$9*$D$13)*$B$32)) /(60))*2.24*0.44704 -> 2.7479098 | O7: =(((L7/($D$5*$D$11*$D$13)*$B$32)) /(60))*2.24*0.44704 -> 3.5842301 | P7: =M7*2.237 -> 4.1952364 | Q7: =N7*2.237 -> 6.1470741 | R7: =O7*2.237 -> 8.0179228 | S7: =(($H7*0.746)*1000)/M7 -> 1491.6937 | T7: =(($H7*0.746)*1000)/N7 -> 1018.0465 | U7: =(($H7*0.746)*1000)/O7 -> 780.50234
B8: Second | H8: =H7+0.75 -> 4.5 | J8: =H8*0.7457*1000 -> 3355.65 | K8: =(J8)/((2*PI()*L8)/60) -> 16.022049 | L8: =L7+250 -> 2000 | M8: =(((L8/($D$5*$D$7*$D$13)*$B$32)) /(60))*2.24*0.44704 -> 2.1432972 | N8: =(((L8/($D$5*$D$9*$D$13)*$B$32)) /(60))*2.24*0.44704 -> 3.1404683 | O8: =(((L8/($D$5*$D$11*$D$13)*$B$32)) /(60))*2.24*0.44704 -> 4.096263 | P8: =M8*2.237 -> 4.7945559 | Q8: =N8*2.237 -> 7.0252276 | R8: =O8*2.237 -> 9.1633403 | S8: =(($H8*0.746)*1000)/M8 -> 1566.2783 | T8: =(($H8*0.746)*1000)/N8 -> 1068.9489 | U8: =(($H8*0.746)*1000)/O8 -> 819.52746
B9: 37 | C9: 23 | D9: =B9/C9 -> 1.6086957 | H9: =H8+0.75 -> 5.25 | J9: =H9*0.7457*1000 -> 3914.925 | K9: =(J9)/((2*PI()*L9)/60) -> 16.615458 | L9: =L8+250 -> 2250 | M9: =(((L9/($D$5*$D$7*$D$13)*$B$32)) /(60))*2.24*0.44704 -> 2.4112094 | N9: =(((L9/($D$5*$D$9*$D$13)*$B$32)) /(60))*2.24*0.44704 -> 3.5330268 | O9: =(((L9/($D$5*$D$11*$D$13)*$B$32)) /(60))*2.24*0.44704 -> 4.6082959 | P9: =M9*2.237 -> 5.3938753 | Q9: =N9*2.237 -> 7.903381 | R9: =O9*2.237 -> 10.308758 | S9: =(($H9*0.746)*1000)/M9 -> 1624.2887 | T9: =(($H9*0.746)*1000)/N9 -> 1108.5396 | U9: =(($H9*0.746)*1000)/O9 -> 849.88033
B10: Third | H10: =H9+0.75 -> 6 | J10: =H10*0.7457*1000 -> 4474.2 | K10: =(J10)/((2*PI()*L10)/60) -> 17.090185 | L10: =L9+250 -> 2500 | M10: =(((L10/($D$5*$D$7*$D$13)*$B$32)) /(60))*2.24*0.44704 -> 2.6791215 | N10: =(((L10/($D$5*$D$9*$D$13)*$B$32)) /(60))*2.24*0.44704 -> 3.9255854 | O10: =(((L10/($D$5*$D$11*$D$13)*$B$32)) /(60))*2.24*0.44704 -> 5.1203288 | P10: =M10*2.237 -> 5.9931948 | Q10: =N10*2.237 -> 8.7815345 | R10: =O10*2.237 -> 11.454175 | S10: =(($H10*0.746)*1000)/M10 -> 1670.6969 | T10: =(($H10*0.746)*1000)/N10 -> 1140.2121 | U10: =(($H10*0.746)*1000)/O10 -> 874.16262
B11: 37 | C11: 30 | D11: =B11/C11 -> 1.2333333 | H11: =H10+0.75 -> 6.75 | J11: =H11*0.7457*1000 -> 5033.475 | K11: =(($K$22-K10)/10)+K10 -> 17.581167 | L11: =L10+250 -> 2750 | M11: =(((L11/($D$5*$D$7*$D$13)*$B$32)) /(60))*2.24*0.44704 -> 2.9470337 | N11: =(((L11/($D$5*$D$9*$D$13)*$B$32)) /(60))*2.24*0.44704 -> 4.3181439 | O11: =(((L11/($D$5*$D$11*$D$13)*$B$32)) /(60))*2.24*0.44704 -> 5.6323616 | P11: =M11*2.237 -> 6.5925143 | Q11: =N11*2.237 -> 9.6596879 | R11: =O11*2.237 -> 12.599593 | S11: =(($H11*0.746)*1000)/M11 -> 1708.6673 | T11: =(($H11*0.746)*1000)/N11 -> 1166.126 | U11: =(($H11*0.746)*1000)/O11 -> 894.02995
B12: Final | H12: =H11+0.75 -> 7.5 | J12: =H12*0.7457*1000 -> 5592.75 | K12: =(($K$22-$K$11)/10)+K11 -> 18.02305 | L12: =L11+250 -> 3000 | M12: =(((L12/($D$5*$D$7*$D$13)*$B$32)) /(60))*2.24*0.44704 -> 3.2149458 | N12: =(((L12/($D$5*$D$9*$D$13)*$B$32)) /(60))*2.24*0.44704 -> 4.7107025 | O12: =(((L12/($D$5*$D$11*$D$13)*$B$32)) /(60))*2.24*0.44704 -> 6.1443945 | P12: =M12*2.237 -> 7.1918338 | Q12: =N12*2.237 -> 10.537841 | R12: =O12*2.237 -> 13.745011 | S12: =(($H12*0.746)*1000)/M12 -> 1740.3093 | T12: =(($H12*0.746)*1000)/N12 -> 1187.721 | U12: =(($H12*0.746)*1000)/O12 -> 910.58606
B13: 12 | C13: 46 | D13: =C13/B13 -> 3.8333333 | H13: =H12+0.75 -> 8.25 | J13: =H13*0.7457*1000 -> 6152.025 | K13: =(($K$22-$K$12)/10)+K12 -> 18.420745 | L13: =L12+250 -> 3250 | M13: =(((L13/($D$5*$D$7*$D$13)*$B$32)) /(60))*2.24*0.44704 -> 3.482858 | N13: =(((L13/($D$5*$D$9*$D$13)*$B$32)) /(60))*2.24*0.44704 -> 5.103261 | O13: =(((L13/($D$5*$D$11*$D$13)*$B$32)) /(60))*2.24*0.44704 -> 6.6564274 | P13: =M13*2.237 -> 7.7911533 | Q13: =N13*2.237 -> 11.415995 | R13: =O13*2.237 -> 14.890428 | S13: =(($H13*0.746)*1000)/M13 -> 1767.0833 | T13: =(($H13*0.746)*1000)/N13 -> 1205.9936 | U13: =(($H13*0.746)*1000)/O13 -> 924.59508
B14: Reduced Masses | H14: =H13+0.75 -> 9 | J14: =H14*0.7457*1000 -> 6711.3 | K14: =(($K$22-$K$12)/10)+K13 -> 18.81844 | L14: =L13+250 -> 3500 | M14: =(((L14/($D$5*$D$7*$D$13)*$B$32)) /(60))*2.24*0.44704 -> 3.7507701 | N14: =(((L14/($D$5*$D$9*$D$13)*$B$32)) /(60))*2.24*0.44704 -> 5.4958195 | O14: =(((L14/($D$5*$D$11*$D$13)*$B$32)) /(60))*2.24*0.44704 -> 7.1684603 | P14: =M14*2.237 -> 8.3904727 | Q14: =N14*2.237 -> 12.294148 | R14: =O14*2.237 -> 16.035846 | S14: =(($H14*0.746)*1000)/M14 -> 1790.0324 | T14: =(($H14*0.746)*1000)/N14 -> 1221.6558 | U14: =(($H14*0.746)*1000)/O14 -> 936.60281
H15: =H14+0.75 -> 9.75 | J15: =H15*0.7457*1000 -> 7270.575 | K15: =(($K$22-$K$12)/10)+K14 -> 19.216135 | L15: =L14+250 -> 3750 | M15: =(((L15/($D$5*$D$7*$D$13)*$B$32)) /(60))*2.24*0.44704 -> 4.0186823 | N15: =(((L15/($D$5*$D$9*$D$13)*$B$32)) /(60))*2.24*0.44704 -> 5.8883781 | O15: =(((L15/($D$5*$D$11*$D$13)*$B$32)) /(60))*2.24*0.44704 -> 7.6804931 | P15: =M15*2.237 -> 8.9897922 | Q15: =N15*2.237 -> 13.172302 | R15: =O15*2.237 -> 17.181263 | S15: =(($H15*0.746)*1000)/M15 -> 1809.9216 | T15: =(($H15*0.746)*1000)/N15 -> 1235.2298 | U15: =(($H15*0.746)*1000)/O15 -> 947.00951
B16: Gear | C16: Reduced Mass | H16: =H15+0.75 -> 10.5 | J16: =H16*0.7457*1000 -> 7829.85 | K16: =(($K$22-$K$12)/10)+K15 -> 19.61383 | L16: =L15+250 -> 4000 | M16: =(((L16/($D$5*$D$7*$D$13)*$B$32)) /(60))*2.24*0.44704 -> 4.2865944 | N16: =(((L16/($D$5*$D$9*$D$13)*$B$32)) /(60))*2.24*0.44704 -> 6.2809366 | O16: =(((L16/($D$5*$D$11*$D$13)*$B$32)) /(60))*2.24*0.44704 -> 8.192526 | P16: =M16*2.237 -> 9.5891117 | Q16: =N16*2.237 -> 14.050455 | R16: =O16*2.237 -> 18.326681 | S16: =(($H16*0.746)*1000)/M16 -> 1827.3247 | T16: =(($H16*0.746)*1000)/N16 -> 1247.107 | U16: =(($H16*0.746)*1000)/O16 -> 956.11537
B17: 1 | C17: ='Vehicle '!$F$38+4*('Vehicle '!$F$52/'Vehicle '!$F$47)+'Vehicle '!$F$53*('Gearing '!$D$7^2/'Vehicle '!$F$47^2) -> 611.82747 | H17: =H16+0.75 -> 11.25 | J17: =H17*0.7457*1000 -> 8389.125 | K17: =(($K$22-$K$12)/10)+K16 -> 20.011525 | L17: =L16+250 -> 4250 | M17: =(((L17/($D$5*$D$7*$D$13)*$B$32)) /(60))*2.24*0.44704 -> 4.5545066 | N17: =(((L17/($D$5*$D$9*$D$13)*$B$32)) /(60))*2.24*0.44704 -> 6.6734951 | O17: =(((L17/($D$5*$D$11*$D$13)*$B$32)) /(60))*2.24*0.44704 -> 8.7045589 | P17: =M17*2.237 -> 10.188431 | Q17: =N17*2.237 -> 14.928609 | R17: =O17*2.237 -> 19.472098 | S17: =(($H17*0.746)*1000)/M17 -> 1842.6804 | T17: =(($H17*0.746)*1000)/N17 -> 1257.5869 | U17: =(($H17*0.746)*1000)/O17 -> 964.14995
B18: 2 | C18: ='Vehicle '!$F$38+4*('Vehicle '!$F$52/'Vehicle '!$F$47)+'Vehicle '!$F$53*('Gearing '!$D$9^2/'Vehicle '!$F$47^2) -> 604.73335 | H18: =H17+0.75 -> 12 | J18: =H18*0.7457*1000 -> 8948.4 | K18: =(($K$22-$K$12)/10)+K17 -> 20.40922 | L18: =L17+250 -> 4500 | M18: =(((L18/($D$5*$D$7*$D$13)*$B$32)) /(60))*2.24*0.44704 -> 4.8224187 | N18: =(((L18/($D$5*$D$9*$D$13)*$B$32)) /(60))*2.24*0.44704 -> 7.0660537 | O18: =(((L18/($D$5*$D$11*$D$13)*$B$32)) /(60))*2.24*0.44704 -> 9.2165918 | P18: =M18*2.237 -> 10.787751 | Q18: =N18*2.237 -> 15.806762 | R18: =O18*2.237 -> 20.617516 | S18: =(($H18*0.746)*1000)/M18 -> 1856.3299 | T18: =(($H18*0.746)*1000)/N18 -> 1266.9023 | U18: =(($H18*0.746)*1000)/O18 -> 971.2918
B19: 3 | C19: ='Vehicle '!$F$38+4*('Vehicle '!$F$52/'Vehicle '!$F$47)+'Vehicle '!$F$53*('Gearing '!$D$11^2/'Vehicle '!$F$47^2) -> 602.1837 | H19: =H18+0.75 -> 12.75 | J19: =H19*0.7457*1000 -> 9507.675 | K19: =(($K$22-$K$12)/10)+K18 -> 20.806915 | L19: =L18+250 -> 4750 | M19: =(((L19/($D$5*$D$7*$D$13)*$B$32)) /(60))*2.24*0.44704 -> 5.0903309 | N19: =(((L19/($D$5*$D$9*$D$13)*$B$32)) /(60))*2.24*0.44704 -> 7.4586122 | O19: =(((L19/($D$5*$D$11*$D$13)*$B$32)) /(60))*2.24*0.44704 -> 9.7286246 | P19: =M19*2.237 -> 11.38707 | Q19: =N19*2.237 -> 16.684916 | R19: =O19*2.237 -> 21.762933 | S19: =(($H19*0.746)*1000)/M19 -> 1868.5426 | T19: =(($H19*0.746)*1000)/N19 -> 1275.2372 | U19: =(($H19*0.746)*1000)/O19 -> 977.68188
B20: Rear Wheel Travel (m) | H20: =H19+0.75 -> 13.5 | J20: =H20*0.7457*1000 -> 10066.95 | K20: =(($K$22-$K$12)/10)+K19 -> 21.20461 | L20: =L19+250 -> 5000 | M20: =(((L20/($D$5*$D$7*$D$13)*$B$32)) /(60))*2.24*0.44704 -> 5.358243 | N20: =(((L20/($D$5*$D$9*$D$13)*$B$32)) /(60))*2.24*0.44704 -> 7.8511708 | O20: =(((L20/($D$5*$D$11*$D$13)*$B$32)) /(60))*2.24*0.44704 -> 10.240658 | P20: =M20*2.237 -> 11.98639 | Q20: =N20*2.237 -> 17.563069 | R20: =O20*2.237 -> 22.908351 | S20: =(($H20*0.746)*1000)/M20 -> 1879.534 | T20: =(($H20*0.746)*1000)/N20 -> 1282.7386 | U20: =(($H20*0.746)*1000)/O20 -> 983.43295
H21: =H20+0.75 -> 14.25 | J21: =H21*0.7457*1000 -> 10626.225 | K21: =(($K$22-$K$12)/10)+K20 -> 21.602305 | L21: =L20+250 -> 5250 | M21: =(((L21/($D$5*$D$7*$D$13)*$B$32)) /(60))*2.24*0.44704 -> 5.6261552 | N21: =(((L21/($D$5*$D$9*$D$13)*$B$32)) /(60))*2.24*0.44704 -> 8.2437293 | O21: =(((L21/($D$5*$D$11*$D$13)*$B$32)) /(60))*2.24*0.44704 -> 10.75269 | P21: =M21*2.237 -> 12.585709 | Q21: =N21*2.237 -> 18.441222 | R21: =O21*2.237 -> 24.053768 | S21: =(($H21*0.746)*1000)/M21 -> 1889.4786 | T21: =(($H21*0.746)*1000)/N21 -> 1289.5256 | U21: =(($H21*0.746)*1000)/O21 -> 988.6363
B22: =B13/C13*0.607*PI() -> 0.49746437 | H22: =H21+0.75 -> 15 | J22: =H22*0.7457*1000 -> 11185.5 | K22: 22 | L22: =L21+250 -> 5500 | M22: =(((L22/($D$5*$D$7*$D$13)*$B$32)) /(60))*2.24*0.44704 -> 5.8940673 | N22: =(((L22/($D$5*$D$9*$D$13)*$B$32)) /(60))*2.24*0.44704 -> 8.6362878 | O22: =(((L22/($D$5*$D$11*$D$13)*$B$32)) /(60))*2.24*0.44704 -> 11.264723 | P22: =M22*2.237 -> 13.185029 | Q22: =N22*2.237 -> 19.319376 | R22: =O22*2.237 -> 25.199186 | S22: =(($H22*0.746)*1000)/M22 -> 1898.5192 | T22: =(($H22*0.746)*1000)/N22 -> 1295.6956 | U22: =(($H22*0.746)*1000)/O22 -> 993.36661
B23: Distance Travelled @ Wheel (m) | H23: =H22+0.75 -> 15.75 | J23: =H23*0.7457*1000 -> 11744.775 | K23: =K22-(($K$22-$K$18)/7) -> 21.772746 | L23: =L22+250 -> 5750 | M23: =(((L23/($D$5*$D$7*$D$13)*$B$32)) /(60))*2.24*0.44704 -> 6.1619795 | N23: =(((L23/($D$5*$D$9*$D$13)*$B$32)) /(60))*2.24*0.44704 -> 9.0288464 | O23: =(((L23/($D$5*$D$11*$D$13)*$B$32)) /(60))*2.24*0.44704 -> 11.776756 | P23: =M23*2.237 -> 13.784348 | Q23: =N23*2.237 -> 20.197529 | R23: =O23*2.237 -> 26.344603 | S23: =(($H23*0.746)*1000)/M23 -> 1906.7736 | T23: =(($H23*0.746)*1000)/N23 -> 1301.329 | U23: =(($H23*0.746)*1000)/O23 -> 997.6856
H24: =H23+0.75 -> 16.5 | J24: =H24*0.7457*1000 -> 12304.05 | K24: =K23-(($K$22-$K$18)/7) -> 21.545491 | L24: =L23+250 -> 6000 | M24: =(((L24/($D$5*$D$7*$D$13)*$B$32)) /(60))*2.24*0.44704 -> 6.4298916 | N24: =(((L24/($D$5*$D$9*$D$13)*$B$32)) /(60))*2.24*0.44704 -> 9.4214049 | O24: =(((L24/($D$5*$D$11*$D$13)*$B$32)) /(60))*2.24*0.44704 -> 12.288789 | P24: =M24*2.237 -> 14.383668 | Q24: =N24*2.237 -> 21.075683 | R24: =O24*2.237 -> 27.490021 | S24: =(($H24*0.746)*1000)/M24 -> 1914.3402 | T24: =(($H24*0.746)*1000)/N24 -> 1306.493 | U24: =(($H24*0.746)*1000)/O24 -> 1001.6447
B25: Gear | C25: Sprocket Rotation | D25: Distance (m) | H25: =H24+0.75 -> 17.25 | J25: =H25*0.7457*1000 -> 12863.325 | K25: =K24-(($K$22-$K$18)/7) -> 21.318237 | L25: =L24+250 -> 6250 | M25: =(((L25/($D$5*$D$7*$D$13)*$B$32)) /(60))*2.24*0.44704 -> 6.6978038 | N25: =(((L25/($D$5*$D$9*$D$13)*$B$32)) /(60))*2.24*0.44704 -> 9.8139634 | O25: =(((L25/($D$5*$D$11*$D$13)*$B$32)) /(60))*2.24*0.44704 -> 12.800822 | P25: =M25*2.237 -> 14.982987 | Q25: =N25*2.237 -> 21.953836 | R25: =O25*2.237 -> 28.635439 | S25: =(($H25*0.746)*1000)/M25 -> 1921.3014 | T25: =(($H25*0.746)*1000)/N25 -> 1311.2439 | U25: =(($H25*0.746)*1000)/O25 -> 1005.287
H26: =H25+0.75 -> 18 | J26: =H26*0.7457*1000 -> 13422.6 | K26: =K25-(($K$22-$K$18)/7) -> 21.090983 | L26: =L25+250 -> 6500 | M26: =(((L26/($D$5*$D$7*$D$13)*$B$32)) /(60))*2.24*0.44704 -> 6.9657159 | N26: =(((L26/($D$5*$D$9*$D$13)*$B$32)) /(60))*2.24*0.44704 -> 10.206522 | O26: =(((L26/($D$5*$D$11*$D$13)*$B$32)) /(60))*2.24*0.44704 -> 13.312855 | P26: =M26*2.237 -> 15.582307 | Q26: =N26*2.237 -> 22.83199 | R26: =O26*2.237 -> 29.780856 | S26: =(($H26*0.746)*1000)/M26 -> 1927.7272 | T26: =(($H26*0.746)*1000)/N26 -> 1315.6294 | U26: =(($H26*0.746)*1000)/O26 -> 1008.6492
B27: 1 | C27: 1 | D27: =B22/D7 -> 0.21104549 | H27: =H26-0.25 -> 17.75 | J27: =H27*0.7457*1000 -> 13236.175 | K27: =K26-(($K$22-$K$18)/7) -> 20.863729 | L27: =L26+250 -> 6750 | M27: =(((L27/($D$5*$D$7*$D$13)*$B$32)) /(60))*2.24*0.44704 -> 7.2336281 | N27: =(((L27/($D$5*$D$9*$D$13)*$B$32)) /(60))*2.24*0.44704 -> 10.599081 | O27: =(((L27/($D$5*$D$11*$D$13)*$B$32)) /(60))*2.24*0.44704 -> 13.824888 | P27: =M27*2.237 -> 16.181626 | Q27: =N27*2.237 -> 23.710143 | R27: =O27*2.237 -> 30.926274 | S27: =(($H27*0.746)*1000)/M27 -> 1830.5475 | T27: =(($H27*0.746)*1000)/N27 -> 1249.3065 | U27: =(($H27*0.746)*1000)/O27 -> 957.80164
B28: 2 | C28: 1 | D28: =B22/D9 -> 0.30923461 | H28: =H27-0.25 -> 17.5 | J28: =H28*0.7457*1000 -> 13049.75 | K28: =K27-(($K$22-$K$18)/7) -> 20.636474 | L28: =L27+250 -> 7000 | M28: =(((L28/($D$5*$D$7*$D$13)*$B$32)) /(60))*2.24*0.44704 -> 7.5015402 | N28: =(((L28/($D$5*$D$9*$D$13)*$B$32)) /(60))*2.24*0.44704 -> 10.991639 | O28: =(((L28/($D$5*$D$11*$D$13)*$B$32)) /(60))*2.24*0.44704 -> 14.336921 | P28: =M28*2.237 -> 16.780945 | Q28: =N28*2.237 -> 24.588297 | R28: =O28*2.237 -> 32.071691 | S28: =(($H28*0.746)*1000)/M28 -> 1740.3093 | T28: =(($H28*0.746)*1000)/N28 -> 1187.721 | U28: =(($H28*0.746)*1000)/O28 -> 910.58606
B29: 3 | C29: 1 | D29: =B22/D11 -> 0.40334949
B30: φ
B32: =2*PI()*0.31 -> 1.9477874

Sheet BSFC 
B2: Brake Specific Fuel Consumption (g/Kwh)
B4: Torque (Nm)
B5: 22 | X5: 496.03879
B6: 21 | V6: 509.99897 | W6: 502.51705 | X6: 472.37705 | Y6: 498.27743
B7: 20 | T7: 522.08097 | U7: 514.46309 | V7: 500.44924 | W7: 492.96732 | X7: 448.7153 | Y7: 474.61568 | Z7: 508.57866
B8: 19 | S8: 529.92054 | T8: 516.53054 | U8: 508.91266 | V8: 480.16307 | W8: 472.68115 | X8: 425.05355 | Y8: 450.95393 | Z8: 495.50618 | AA8: 525.75213 | AB8: 546.9084
B9: 18 | P9: 534.16371 | Q9: 533.79035 | R9: 532.62719 | S9: 520.1372 | T9: 506.7472 | U9: 499.12932 | V9: 463.08194 | W9: 455.60002 | X9: 401.3918 | Y9: 427.29218 | Z9: 477.05146 | AA9: 507.29741 | AB9: 533.40609 | AC9: 552.97609
B10: 17 | O10: 547.86457 | P10: 537.98996 | Q10: 536.77301 | R10: 527.23521 | S10: 504.39229 | T10: 491.00229 | U10: 483.38441 | V10: 429.55354 | W10: 422.07162 | X10: 389.56092 | Y10: 415.4613 | Z10: 437.82468 | AA10: 468.07063 | AB10: 525.45421 | AC10: 545.02421 | AD10: 586.83989
B11: 16 | M11: 549.63108 | N11: 549.78649 | O11: 551.69082 | P11: 541.81621 | Q11: 539.75566 | R11: 530.21786 | S11: 494.76703 | T11: 481.37703 | U11: 473.75915 | V11: 399.62575 | W11: 392.14383 | X11: 377.73005 | Y11: 403.63043 | Z11: 398.59789 | AA11: 428.84384 | AB11: 520.59525 | AC11: 540.16525 | AD11: 575.17293
B12: 15 | L12: 559.46562 | M12: 553.87066 | N12: 549.01925 | O12: 542.00391 | P12: 532.1293 | Q12: 542.73832 | R12: 533.20052 | S12: 489.64074 | T12: 476.25074 | U12: 468.63286 | V12: 378.56401 | W12: 371.08209 | X12: 352.04529 | Y12: 377.94567 | Z12: 363.14746 | AA12: 393.39341 | AB12: 477.50932 | AC12: 497.07932 | AD12: 523.03139
B13: 14 | K13: 586.92964 | L13: 563.7052 | M13: 558.11024 | N13: 553.2182 | O13: 532.31701 | P13: 522.4424 | Q13: 523.48964 | R13: 513.95184 | S13: 453.32763 | T13: 439.93763 | U13: 432.31975 | V13: 357.50228 | W13: 350.02036 | X13: 330.40655 | Y13: 356.30693 | Z13: 356.11311 | AA13: 386.35906 | AB13: 462.69883 | AC13: 482.26883 | AD13: 515.36511
B14: 13 | J14: 624.12854 | K14: 606.37917 | L14: 583.15473 | M14: 577.55977 | N14: 557.41716 | O14: 522.63011 | P14: 512.7555 | Q14: 504.24096 | R14: 494.70316 | S14: 428.81673 | T14: 415.42673 | U14: 407.80885 | V14: 336.44054 | W14: 328.95862 | X14: 306.7448 | Y14: 332.64518 | Z14: 350.80252 | AA14: 381.04847 | AB14: 488.57748 | AC14: 508.14748 | AD14: 563.87428
B15: 12 | I15: 625.161 | J15: 640.92 | K15: 625.82871 | L15: 602.60427 | M15: 597.00931 | N15: 564.28854 | O15: 541.29974 | P15: 531.42513 | Q15: 507.5996 | R15: 498.0618 | S15: 478.08848 | T15: 464.69848 | U15: 457.0806 | V15: 317.08879 | W15: 309.60687 | X15: 331.29035 | Y15: 357.19073 | Z15: 345.49192 | AA15: 375.73787 | AB15: 514.45613 | AC15: 534.02613 | AD15: 580.24525
B16: 11 | I16: 636.49359 | J16: 652.25259 | K16: 646.56496 | L16: 623.34052 | M16: 617.74556 | N16: 594.28174 | O16: 561.39903 | P16: 551.52442 | Q16: 520.89518 | R16: 511.35738 | S16: 484.58034 | T16: 471.19034 | U16: 463.57246 | V16: 380.75522 | W16: 373.2733 | X16: 372.15392 | Y16: 398.0543 | Z16: 340.18132 | AA16: 370.42727 | AB16: 540.33478 | AC16: 559.90478 | AD16: 585.73754
B17: 10 | H17: 650.46973 | I17: 645.44717 | J17: 661.20617 | K17: 667.3012 | L17: 644.07676 | M17: 638.4818 | N17: 626.94736 | O17: 575.3592 | P17: 565.48459 | Q17: 547.17679 | R17: 537.63899 | S17: 523.1834 | T17: 509.7934 | U17: 502.17552 | V17: 404.28537 | W17: 396.80345 | X17: 389.64619 | Y17: 415.54657 | Z17: 334.87072 | AA17: 365.11667 | AB17: 546.94344 | AC17: 566.51344 | AD17: 581.11737
B18: 9 | H18: 664.66662 | I18: 656.34246 | J18: 672.10146 | K18: 679.28752 | L18: 656.06308 | M18: 650.46812 | N18: 640.02471 | O18: 633.86094 | P18: 623.98633 | Q18: 587.94434 | R18: 578.40654 | S18: 546.21675 | T18: 532.82675 | U18: 525.20887 | V18: 427.81552 | W18: 420.3336 | X18: 434.85323 | Y18: 460.75361 | Z18: 454.36384 | AA18: 484.60979 | AB18: 553.5521 | AC18: 573.1221 | AD18: 599.62192
B19: 8 | G19: 703.27451 | H19: 678.86351 | I19: 687.63605 | J19: 703.39505 | K19: 703.23467 | L19: 680.01023 | M19: 674.41527 | N19: 656.62541 | O19: 643.1152 | P19: 633.24059 | Q19: 591.45846 | R19: 581.92066 | S19: 543.99073 | T19: 530.60073 | U19: 522.98285 | V19: 451.34568 | W19: 443.86376 | X19: 466.20289 | Y19: 492.10327 | Z19: 535.68139 | AA19: 565.92734 | AB19: 610.54213 | AC19: 630.11213 | AD19: 681.81471
B20: 7 | G20: 717.47141 | H20: 693.06041 | I20: 730.10526 | J20: 745.86426 | K20: 740.94876 | L20: 717.72432 | M20: 712.12936 | N20: 679.85711 | O20: 677.49863 | P20: 667.62402 | Q20: 641.9852 | R20: 632.4474 | S20: 582.72566 | T20: 569.33566 | U20: 561.71778 | V20: 497.72074 | W20: 490.23882 | X20: 503.79912 | Y20: 529.6995 | Z20: 584.57471 | AA20: 614.82066 | AB20: 646.12469 | AC20: 665.69469 | AD20: 720.49175
B21: 6 | F21: 664.33646 | G21: 723.20955 | H21: 735.65109 | I21: 773.42478 | J21: 789.18378 | K21: 765.17349 | L21: 741.94905 | M21: 736.35409 | N21: 689.65923 | O21: 711.88205 | P21: 702.00744 | Q21: 664.57682 | R21: 655.03902 | S21: 621.4606 | T21: 608.0706 | U21: 600.45272 | V21: 544.09581 | W21: 536.61389 | X21: 529.73384 | Y21: 555.63422 | Z21: 637.48134 | AA21: 667.72729 | AB21: 656.24442 | AC21: 675.81442 | AD21: 734.33045
B22: 5 | E22: 751.52792 | F22: 737.51992 | G22: 773.46161 | H22: 749.05061 | I22: 792.87932 | J22: 808.63832 | K22: 811.37725 | L22: 788.15281 | M22: 782.55785 | N22: 767.6673 | O22: 757.05639 | P22: 747.18178 | Q22: 716.35904 | R22: 706.82124 | S22: 686.13932 | T22: 672.74932 | U22: 665.13144 | V22: 638.6774 | W22: 631.19548 | X22: 619.87227 | Y22: 645.77265 | Z22: 679.12827 | AA22: 709.37422 | AB22: 736.32698 | AC22: 755.89698 | AD22: 794.89722
B23: 4 | D23: 726.48135 | E23: 786.31156 | F23: 772.30356 | G23: 794.69155 | H23: 770.28055 | I23: 824.26636 | J23: 840.02536 | K23: 865.85024 | L23: 842.6258 | M23: 837.03084 | N23: 821.12039 | O23: 788.04163 | P23: 778.16702 | Q23: 768.14126 | R23: 758.60346 | S23: 750.81804 | T23: 737.42804 | U23: 729.81016 | V23: 716.25261 | W23: 708.77069 | X23: 710.01071 | Y23: 735.91109 | Z23: 753.64327 | AA23: 783.88922 | AB23: 799.26302 | AC23: 818.83302 | AD23: 843.55797
B24: 3 | D24: 942.16883 | E24: 940.39208 | F24: 926.38408 | G24: 935.27443 | H24: 910.86343 | I24: 854.67848 | J24: 870.43748 | K24: 920.32323 | L24: 897.09879 | M24: 891.50383 | N24: 874.57348 | O24: 828.53922 | P24: 818.66461 | Q24: 819.92348 | R24: 810.38568 | S24: 815.49676 | T24: 802.10676 | U24: 794.48888 | V24: 793.82783 | W24: 786.34591 | X24: 785.5489 | Y24: 811.44928 | Z24: 828.15827 | AA24: 858.40422 | AB24: 846.27984 | AC24: 865.84984 | AD24: 880.72661
B25: 2 | D25: 1177.5763 | E25: 1094.4726 | F25: 1080.4646 | G25: 1015.764 | H25: 991.35299 | I25: 959.35799 | J25: 975.11699 | K25: 974.79623 | L25: 951.57179 | M25: 945.97683 | N25: 928.02658 | O25: 914.35598 | P25: 904.48137 | Q25: 927.16952 | R25: 917.63172 | S25: 912.17351 | T25: 898.78351 | U25: 891.16563 | V25: 879.9353 | W25: 872.45338 | X25: 861.08709 | Y25: 886.98747 | Z25: 880.40511 | AA25: 910.65106 | AB25: 893.29667 | AC25: 912.86667 | AD25: 910.47254
B26: 1 | D26: 1315.8203 | E26: 1248.5531 | F26: 1234.5451 | G26: 1182.6964 | H26: 1158.2854 | I26: 1064.0375 | J26: 1079.7965 | K26: 1087.4097 | L26: 1064.1853 | M26: 1058.5903 | N26: 1048.5741 | O26: 1042.8375 | P26: 1032.9629 | Q26: 1034.4156 | R26: 1024.8778 | S26: 1008.8503 | T26: 995.46027 | U26: 987.84239 | V26: 966.04277 | W26: 958.56085 | X26: 936.62528 | Y26: 962.52566 | Z26: 932.65194 | AA26: 962.89789 | AB26: 924.3943 | AC26: 943.9643 | AD26: 918.99285
B27: 0.5 | D27: 1607.8371 | E27: 1533.605 | F27: 1519.597 | G27: 1455.768 | H27: 1431.357 | I27: 1327.358 | J27: 1343.117 | K27: 1278.1014 | L27: 1254.877 | M27: 1249.282 | N27: 1207.1283 | O27: 1169.2543 | P27: 1159.3797 | Q27: 1121.1688 | R27: 1111.631 | S27: 1084.7622 | T27: 1071.3722 | U27: 1063.7543 | V27: 1031.3854 | W27: 1023.9035 | X27: 991.39867 | Y27: 1017.2991 | Z27: 984.89877 | AA27: 1015.1447 | AB27: 955.49192 | AC27: 975.06192 | AD27: 941.35637
D28: 500 | E28: 750 | F28: 1000 | G28: 1250 | H28: 1500 | I28: 1750 | J28: 2000 | K28: 2250 | L28: 2500 | M28: 2750 | N28: 3000 | O28: 3250 | P28: 3500 | Q28: 3750 | R28: 4000 | S28: 4250 | T28: 4500 | U28: 4750 | V28: 5000 | W28: 5250 | X28: 5500 | Y28: 5750 | Z28: 6000 | AA28: 6250 | AB28: 6500 | AC28: 6750 | AD28: 7000 | AE28: Engine RPM
B30: 0.5
B31: 1
B32: =B31+1 -> 2
B33: =B32+1 -> 3
B34: =B33+1 -> 4
B35: =B34+1 -> 5
B36: =B35+1 -> 6
B37: =B36+1 -> 7
B38: =B37+1 -> 8
B39: =B38+1 -> 9
B40: =B39+1 -> 10
B41: =B40+1 -> 11
B42: =B41+1 -> 12
B43: =B42+1 -> 13
...

Sheet Track 
B2: Circuit Details
B4: Track | E4: Willow Springs
B5: Location | E5: U.S.A
B6: Track Length (m) | E6: =ROUND(SUM(F11:G33),0) -> 1633
B7: Sectors
B9: Sector | D9: Surface Type | F9: Distance m
B11: S1 | D11: Tarmac | F11: 129.47
B12: T1 | D12: Tarmac | F12: 71.34
B13: S2 | D13: Tarmac | F13: 66.5 | H13: =F11 -> 129.47
B14: T2 | D14: Tarmac | F14: 115.84 | H14: =F12+H13 -> 200.81
B15: S3 | D15: Gravel | F15: 60.89 | H15: =F13+H14 -> 267.31
B16: T3 | D16: Gravel | F16: 96.26 | H16: =F14+H15 -> 383.15
B17: S4 | D17: Gravel | F17: 96.12 | H17: =F15+H16 -> 444.04
B18: T4 | D18: Gravel | F18: 80.11 | H18: =F16+H17 -> 540.3
B19: S5 | D19: Mud | F19: 77.4 | H19: =F17+H18 -> 636.42
B20: T5 | D20: Mud | F20: 89.47 | H20: =F18+H19 -> 716.53
B21: S6 | D21: Mud | F21: 37.41 | H21: =F19+H20 -> 793.93
B22: T6 | D22: Mud | F22: 56.86 | H22: =F20+H21 -> 883.4
B23: S7 | D23: Tarmac | F23: 73.52 | H23: =F21+H22 -> 920.81
B24: T7 | D24: Tarmac | F24: 77.14 | H24: =F22+H23 -> 977.67
B25: S8 | D25: Tarmac | F25: 61.27 | H25: =F23+H24 -> 1051.19
... B33: T10C | D33: Mud | F33: 42.77 | H33: =F31+H32 -> 1532.14
B34: Corners | H34: =F32+H33 -> 1590.48
H35: =F33+H34 -> 1633.25
B36: Corner | D36: Radius | F36: Max Velocity (m/s)
B38: T1 | D38: 22.94 | F38: =SQRT(D38*0.7*9.81) -> 12.551055
B39: T2 | D39: 158.5 | F39: =SQRT(D39*0.7*9.81) -> 32.991203
B40: T3 | D40: 31.72 | F40: =SQRT(D40*0.7*9.81) -> 14.758768
B41: T4 | D41: 24.41 | F41: =SQRT(D41*0.7*9.81) -> 12.946948
B42: T5 | D42: 23.88 | F42: =SQRT(D42*0.7*9.81) -> 12.805622
B43: T6 | D43: 18.89 | F43: =SQRT(D43*0.7*9.81) -> 11.389365
B44: T7 | D44: 53.94 | F44: =SQRT(D44*0.7*9.81) -> 19.245934
B45: T8A | D45: 37.54 | F45: =SQRT(D45*0.7*9.81) -> 16.055752
B46: T8B | D46: 78.11 | F46: =SQRT(D46*0.7*9.81) -> 23.159909
B47: T9 | D47: 103.95 | F47: =SQRT(D47*0.7*9.81) -> 26.717497
B48: T10A | D48: 34.14 | F48: =SQRT(D48*0.7*9.81) -> 15.311413
B49: T10B | D49: 34.45 | F49: =SQRT(D49*0.7*9.81) -> 15.380772
B50: T10C | D50: 47.65 | F50: =SQRT(D50*0.7*9.81) -> 18.089017
B51: Additional Information
B53: RR Coeficient Tarmac | F53: 0.02
...

Sheet Duty Cycle 
A2: Fuel / Lap (g) | B2: Time (s) | C2: Sector | D2: Total Distance (m) | E2: Δ Distance (m) | F2: Surface Type | G2: Elavation (m) | H2: Δ Elevation (m) | I2: Gradient (°) | J2: Gear | K2: RPM | L2: Velocity (m/s) | M2: Velocity (mph) | N2: Acceleration (m/s²) | O2: Acceleration Force (N) | P2: RR Coeficient | Q2: Rolling Drag (N) | R2: Aero Drag (N) | S2: Forces due to Incline (N) | T2: Total Resistive Forces (N) | U2: Resistive Power (KW) | V2: Remaining Power Available (KW) | W2: Power Required per Second (KW) | X2: Torque (Nm) | Y2: Torque (Nm) | Z2: Workdone (J) | AA2: Total Work Done (J) | AB2: Fuel Consumption (g/KWh) | AC2: Fuel Consumption (g/s) | AD2: Total Fuel Consumption (g) | AE2: CO2 Production (g/s) | AF2: Kinetic Energy (KJ) | AG2: Total Energy (KJ)
B3: 0 | C3: S1 | D3: 0 | E3: 0 | F3: Tarmac | G3: 10 | H3: 0 | I3: 0 | J3: 1 | K3: 750 | L3: 0 | M3: =L3*2.237 -> 0 | N3: 0 | O3: =IF(J3=1,'Gearing '!$C$17*'Duty Cycle '!N3,IF(J3=2,'Gearing '!$C$18*'Duty Cycle '!N3,IF(J3=3,'Gearing '!$C$19*'Duty Cycle '!N3))) -> 0 | P3: 0 | Q3: 0 | R3: 0 | S3: 0 | T3: =SUM(Q3:S3)+O3 -> 0 | U3: =T3*L3/1000 -> 0 | V3: ='Vehicle '!$F$9-'Duty Cycle '!U3 -> 13.422819 | W3: =U3 -> 0 | X3: =ABS((W3*1000)/((2*PI()*K3)/60)) -> 0 | Y3: =ROUNDUP(X3,0) -> 0 | Z3: =T3*D3 -> 0 | AA3: 0 | AB3: 0 | AC3: =U3*AB3/3600 -> 0 | AD3: 0 | AE3: 0 | AF3: =0.5*'Vehicle '!$F$38*'Duty Cycle '!L3^2/1000 -> 0 | AG3: =Z3+AF3 -> 0 | AN3: 1
A4: =SUM(AC3:AC153) -> 104.32647 | B4: =B3+1 -> 1 | C4: S1 | D4: =SUM($L$3:L4) -> 0.80373645 | E4: =D4-D3 -> 0.80373645 | F4: Tarmac | G4: 10.02 | H4: =G4-G3 -> 0.02 | I4: =DEGREES(ATAN(H4/E4)) -> 1.4254413 | J4: 1 | K4: 750 | L4: =IF(J4=1,VLOOKUP('Duty Cycle '!K4,'Gearing '!$L$3:$O$28,2),IF(J4=2,VLOOKUP('Duty Cycle '!K4,'Gearing '!$L$2:$O$28,3),IF(J4=3,VLOOKUP('Duty Cycle '!K4,'Gearing '!$L$2:$O$28,4)))) -> 0.80373645 | M4: =L4*2.237 -> 1.7979584 | N4: =L4-L3 -> 0.80373645 | O4: =IF(J4=1,'Gearing '!$C$17*'Duty Cycle '!N4,IF(J4=2,'Gearing '!$C$18*'Duty Cycle '!N4,IF(J4=3,'Gearing '!$C$19*'Duty Cycle '!N4))) -> 491.74804 | P4: =IF(F4='Track '!$B$60,'Track '!$F$53,IF(F4='Track '!$B$61,'Track '!$F$54,IF(F4='Track '!$B$62,'Track '!$F$55))) -> 0.02 | Q4: =P4*'Vehicle '!$F$38*9.81 -> 114.63966 | R4: =0.5*'Vehicle '!$F$51*'Vehicle '!$F$25*'Track '!$F$57*'Duty Cycle '!L4^2 -> 0.24685006 | S4: ='Vehicle '!$F$38*9.81*SIN(RADIANS('Duty Cycle '!I4)) -> 142.58926 | T4: =SUM(Q4:S4)+O4 -> 749.2238 | U4: =ABS(((+T4)*(+L4)/1000)) -> 0.60217848 | V4: ='Vehicle '!$F$9-'Duty Cycle '!U4 -> 12.82064 | W4: =U4 -> 0.60217848 | X4: =ABS((W4*1000)/((2*PI()*K4)/60)) -> 7.6671746 | Y4: =MIN(22,ROUNDUP(X4,0)) -> 8 | Z4: =T4*D4 -> 602.17848 | AA4: =SUM(AA3,Z4) -> 602.17848 | AB4: =INDEX('BSFC '!$D$5:$AD$27,MATCH('Duty Cycle '!Y4,'BSFC '!$B$5:$B$27,0),MATCH('Duty Cycle '!K4,'BSFC '!$D$28:$AD$28,0)) -> 0 | AC4: =U4*AB4/3600 -> 0 | AD4: =AD3+AC4 -> 0 | AE4: =AC4*3.09*1000 -> 0 | AF4: =0.5*'Vehicle '!$F$38*'Duty Cycle '!L4^2/1000 -> 0.18872665 | AG4: =Z4+AF4 -> 602.36721 | AN4: 2
B5: =B4+1 -> 2 | C5: S1 | D5: =SUM($L$3:L5) -> 2.1432972 | E5: =D5-D4 -> 1.3395608 | F5: Tarmac | G5: 10.04 | H5: =G5-G4 -> 0.02 | I5: =DEGREES(ATAN(H5/E5)) -> 0.85537774 | J5: 1 | K5: 1250 | L5: =IF(J5=1,VLOOKUP('Duty Cycle '!K5,'Gearing '!$L$3:$O$28,2),IF(J5=2,VLOOKUP('Duty Cycle '!K5,'Gearing '!$L$2:$O$28,3),IF(J5=3,VLOOKUP('Duty Cycle '!K5,'Gearing '!$L$2:$O$28,4)))) -> 1.3395608 | M5: =L5*2.237 -> 2.9965974 | N5: =L5-L4 -> 0.5358243 | O5: =IF(J5=1,'Gearing '!$C$17*'Duty Cycle '!N5,IF(J5=2,'Gearing '!$C$18*'Duty Cycle '!N5,IF(J5=3,'Gearing '!$C$19*'Duty Cycle '!N5))) -> 327.83202 | P5: =IF(F5='Track '!$B$60,'Track '!$F$53,IF(F5='Track '!$B$61,'Track '!$F$54,IF(F5='Track '!$B$62,'Track '!$F$55))) -> 0.02 | Q5: =P5*'Vehicle '!$F$38*9.81 -> 114.63966 | R5: =0.5*'Vehicle '!$F$51*'Vehicle '!$F$25*'Track '!$F$57*'Duty Cycle '!L5^2 -> 0.68569461 | S5: ='Vehicle '!$F$38*9.81*SIN(RADIANS('Duty Cycle '!I5)) -> 85.570501 | T5: =SUM(Q5:S5)+O5 -> 528.72788 | U5: =ABS(((+T5)*(+L5)/1000)) -> 0.70826312 | V5: ='Vehicle '!$F$9-'Duty Cycle '!U5 -> 12.714556 | W5: =U5 -> 0.70826312 | X5: =ABS((W5*1000)/((2*PI()*K5)/60)) -> 5.4107317 | Y5: =MIN(22,ROUNDUP(X5,0)) -> 6 | Z5: =T5*D5 -> 1133.221 | AA5: =SUM(AA4,Z5) -> 1735.3995 | AB5: =INDEX('BSFC '!$D$5:$AD$27,MATCH('Duty Cycle '!Y5,'BSFC '!$B$5:$B$27,0),MATCH('Duty Cycle '!K5,'BSFC '!$D$28:$AD$28,0)) -> 723.20955 | AC5: =U5*AB5/3600 -> 0.14228407 | AD5: =AD4+AC5 -> 0.14228407 | AE5: =AC5*3.09 -> 0.43965778 | AF5: =0.5*'Vehicle '!$F$38*'Duty Cycle '!L5^2/1000 -> 0.52424068 | AG5: =Z5+AF5 -> 1133.7452 | AN5: 3
A6: Fuel / Lap (Kg) | B6: =B5+1 -> 3 | C6: S1 | D6: =SUM($L$3:L6) -> 4.0186823 | E6: =D6-D5 -> 1.8753851 | F6: Tarmac | G6: 10.08 | H6: =G6-G5 -> 0.04 | I6: =DEGREES(ATAN(H6/E6)) -> 1.2218737 | J6: 1 | K6: 1750 | L6: =IF(J6=1,VLOOKUP('Duty Cycle '!K6,'Gearing '!$L$3:$O$28,2),IF(J6=2,VLOOKUP('Duty Cycle '!K6,'Gearing '!$L$2:$O$28,3),IF(J6=3,VLOOKUP('Duty Cycle '!K6,'Gearing '!$L$2:$O$28,4)))) -> 1.8753851 | M6: =L6*2.237 -> 4.1952364 | N6: =L6-L5 -> 0.5358243 | O6: =IF(J6=1,'Gearing '!$C$17*'Duty Cycle '!N6,IF(J6=2,'Gearing '!$C$18*'Duty Cycle '!N6,IF(J6=3,'Gearing '!$C$19*'Duty Cycle '!N6))) -> 327.83202 | P6: =IF(F6='Track '!$B$60,'Track '!$F$53,IF(F6='Track '!$B$61,'Track '!$F$54,IF(F6='Track '!$B$62,'Track '!$F$55))) -> 0.02 | Q6: =P6*'Vehicle '!$F$38*9.81 -> 114.63966 | R6: =0.5*'Vehicle '!$F$51*'Vehicle '!$F$25*'Track '!$F$57*'Duty Cycle '!L6^2 -> 1.3439614 | S6: ='Vehicle '!$F$38*9.81*SIN(RADIANS('Duty Cycle '!I6)) -> 122.2294 | T6: =SUM(Q6:S6)+O6 -> 566.04504 | U6: =ABS(((+T6)*(+L6)/1000)) -> 1.0615524 | V6: ='Vehicle '!$F$9-'Duty Cycle '!U6 -> 12.361266 | W6: =U6 -> 1.0615524 | X6: =ABS((W6*1000)/((2*PI()*K6)/60)) -> 5.7926165 | Y6: =MIN(22,ROUNDUP(X6,0)) -> 6 | Z6: =T6*D6 -> 2274.7552 | AA6: =SUM(AA5,Z6) -> 4010.1546 | AB6: =INDEX('BSFC '!$D$5:$AD$27,MATCH('Duty Cycle '!Y6,'BSFC '!$B$5:$B$27,0),MATCH('Duty Cycle '!K6,'BSFC '!$D$28:$AD$28,0)) -> 773.42478 | AC6: =U6*AB6/3600 -> 0.22806415 | AD6: =AD5+AC6 -> 0.37034822 | AE6: =AC6*3.09 -> 0.70471823 | AF6: =0.5*'Vehicle '!$F$38*'Duty Cycle '!L6^2/1000 -> 1.0275117 | AG6: =Z6+AF6 -> 2275.7827
B7: =B6+1 -> 4 | C7: S1 | D7: =SUM($L$3:L7) -> 6.6978038 | E7: =D7-D6 -> 2.6791215 | F7: Tarmac | G7: 10.15 | H7: =G7-G6 -> 0.07 | I7: =DEGREES(ATAN(H7/E7)) -> 1.4966818 | J7: 1 | K7: 2500 | L7: =IF(J7=1,VLOOKUP('Duty Cycle '!K7,'Gearing '!$L$3:$O$28,2),IF(J7=2,VLOOKUP('Duty Cycle '!K7,'Gearing '!$L$2:$O$28,3),IF(J7=3,VLOOKUP('Duty Cycle '!K7,'Gearing '!$L$2:$O$28,4)))) -> 2.6791215 | M7: =L7*2.237 -> 5.9931948 | N7: =L7-L6 -> 0.80373645 | O7: =IF(J7=1,'Gearing '!$C$17*'Duty Cycle '!N7,IF(J7=2,'Gearing '!$C$18*'Duty Cycle '!N7,IF(J7=3,'Gearing '!$C$19*'Duty Cycle '!N7))) -> 491.74804 | P7: =IF(F7='Track '!$B$60,'Track '!$F$53,IF(F7='Track '!$B$61,'Track '!$F$54,IF(F7='Track '!$B$62,'Track '!$F$55))) -> 0.02 | Q7: =P7*'Vehicle '!$F$38*9.81 -> 114.63966 | R7: =0.5*'Vehicle '!$F$51*'Vehicle '!$F$25*'Track '!$F$57*'Duty Cycle '!L7^2 -> 2.7427784 | S7: ='Vehicle '!$F$38*9.81*SIN(RADIANS('Duty Cycle '!I7)) -> 149.71397 | T7: =SUM(Q7:S7)+O7 -> 758.84445 | U7: =ABS(((+T7)*(+L7)/1000)) -> 2.0330365 | V7: ='Vehicle '!$F$9-'Duty Cycle '!U7 -> 11.389782 | W7: =U7 -> 2.0330365 | X7: =ABS((W7*1000)/((2*PI()*K7)/60)) -> 7.7656273 | Y7: =MIN(22,ROUNDUP(X7,0)) -> 8 | Z7: =T7*D7 -> 5082.5912 | AA7: =SUM(AA6,Z7) -> 9092.7459 | AB7: =INDEX('BSFC '!$D$5:$AD$27,MATCH('Duty Cycle '!Y7,'BSFC '!$B$5:$B$27,0),MATCH('Duty Cycle '!K7,'BSFC '!$D$28:$AD$28,0)) -> 680.01023 | AC7: =U7*AB7/3600 -> 0.38402378 | AD7: =AD6+AC7 -> 0.754372 | AE7: =AC7*3.09 -> 1.1866335 | AF7: =0.5*'Vehicle '!$F$38*'Duty Cycle '!L7^2/1000 -> 2.0969627 | AG7: =Z7+AF7 -> 5084.6882
A8: =A4/1000 -> 0.10432647 | B8: =B7+1 -> 5 | C8: S1 | D8: =SUM($L$3:L8) -> 10.180662 | E8: =D8-D7 -> 3.482858 | F8: Tarmac | G8: 10.4 | H8: =G8-G7 -> 0.25 | I8: =DEGREES(ATAN(H8/E8)) -> 4.1056569 | J8: 1 | K8: 3250 | L8: =IF(J8=1,VLOOKUP('Duty Cycle '!K8,'Gearing '!$L$3:$O$28,2),IF(J8=2,VLOOKUP('Duty Cycle '!K8,'Gearing '!$L$2:$O$28,3),IF(J8=3,VLOOKUP('Duty Cycle '!K8,'Gearing '!$L$2:$O$28,4)))) -> 3.482858 | M8: =L8*2.237 -> 7.7911533 | N8: =L8-L7 -> 0.80373645 | O8: =IF(J8=1,'Gearing '!$C$17*'Duty Cycle '!N8,IF(J8=2,'Gearing '!$C$18*'Duty Cycle '!N8,IF(J8=3,'Gearing '!$C$19*'Duty Cycle '!N8))) -> 491.74804 | P8: =IF(F8='Track '!$B$60,'Track '!$F$53,IF(F8='Track '!$B$61,'Track '!$F$54,IF(F8='Track '!$B$62,'Track '!$F$55))) -> 0.02 | Q8: =P8*'Vehicle '!$F$38*9.81 -> 114.63966 | R8: =0.5*'Vehicle '!$F$51*'Vehicle '!$F$25*'Track '!$F$57*'Duty Cycle '!L8^2 -> 4.6352956 | S8: ='Vehicle '!$F$38*9.81*SIN(RADIANS('Duty Cycle '!I8)) -> 410.38661 | T8: =SUM(Q8:S8)+O8 -> 1021.4096 | U8: =ABS(((+T8)*(+L8)/1000)) -> 3.5574246 | V8: ='Vehicle '!$F$9-'Duty Cycle '!U8 -> 9.8653942 | W8: =U8 -> 3.5574246 | X8: =ABS((W8*1000)/((2*PI()*K8)/60)) -> 10.452585 | Y8: =MIN(22,ROUNDUP(X8,0)) -> 11 | Z8: =T8*D8 -> 10398.626 | AA8: =SUM(AA7,Z8) -> 19491.372 | AB8: =INDEX('BSFC '!$D$5:$AD$27,MATCH('Duty Cycle '!Y8,'BSFC '!$B$5:$B$27,0),MATCH('Duty Cycle '!K8,'BSFC '!$D$28:$AD$28,0)) -> 561.39903 | AC8: =U8*AB8/3600 -> 0.55475964 | AD8: =AD7+AC8 -> 1.3091316 | AE8: =AC8*3.09 -> 1.7142073 | AF8: =0.5*'Vehicle '!$F$38*'Duty Cycle '!L8^2/1000 -> 3.543867 | AG8: =Z8+AF8 -> 10402.17
B9: =B8+1 -> 6 | C9: S1 | D9: =SUM($L$3:L9) -> 14.735168 | E9: =D9-D8 -> 4.5545066 | F9: Tarmac | G9: 10.8 | H9: =G9-G8 -> 0.4 | I9: =DEGREES(ATAN(H9/E9)) -> 5.0191295 | J9: 1 | K9: 4250 | L9: =IF(J9=1,VLOOKUP('Duty Cycle '!K9,'Gearing '!$L$3:$O$28,2),IF(J9=2,VLOOKUP('Duty Cycle '!K9,'Gearing '!$L$2:$O$28,3),IF(J9=3,VLOOKUP('Duty Cycle '!K9,'Gearing '!$L$2:$O$28,4)))) -> 4.5545066 | M9: =L9*2.237 -> 10.188431 | N9: =L9-L8 -> 1.0716486 | O9: =IF(J9=1,'Gearing '!$C$17*'Duty Cycle '!N9,IF(J9=2,'Gearing '!$C$18*'Duty Cycle '!N9,IF(J9=3,'Gearing '!$C$19*'Duty Cycle '!N9))) -> 655.66405 | P9: =IF(F9='Track '!$B$60,'Track '!$F$53,IF(F9='Track '!$B$61,'Track '!$F$54,IF(F9='Track '!$B$62,'Track '!$F$55))) -> 0.02 | Q9: =P9*'Vehicle '!$F$38*9.81 -> 114.63966 | R9: =0.5*'Vehicle '!$F$51*'Vehicle '!$F$25*'Track '!$F$57*'Duty Cycle '!L9^2 -> 7.9266297 | S9: ='Vehicle '!$F$38*9.81*SIN(RADIANS('Duty Cycle '!I9)) -> 501.48168 | T9: =SUM(Q9:S9)+O9 -> 1279.712 | U9: =ABS(((+T9)*(+L9)/1000)) -> 5.8284568 | V9: ='Vehicle '!$F$9-'Duty Cycle '!U9 -> 7.594362 | W9: =U9 -> 5.8284568 | X9: =ABS((W9*1000)/((2*PI()*K9)/60)) -> 13.095921 | Y9: =MIN(22,ROUNDUP(X9,0)) -> 14 | Z9: =T9*D9 -> 18856.772 | AA9: =SUM(AA8,Z9) -> 38348.143 | AB9: =INDEX('BSFC '!$D$5:$AD$27,MATCH('Duty Cycle '!Y9,'BSFC '!$B$5:$B$27,0),MATCH('Duty Cycle '!K9,'BSFC '!$D$28:$AD$28,0)) -> 453.32763 | AC9: =U9*AB9/3600 -> 0.73394457 | AD9: =AD8+AC9 -> 2.0430762 | AE9: =AC9*3.09 -> 2.2678887 | AF9: =0.5*'Vehicle '!$F$38*'Duty Cycle '!L9^2/1000 -> 6.0602223 | AG9: =Z9+AF9 -> 18862.832
A10: Fuel / Lap (L) | B10: =B9+1 -> 7 | C10: S1 | D10: =SUM($L$3:L10) -> 20.093411 | E10: =D10-D9 -> 5.358243 | F10: Tarmac | G10: 11.3 | H10: =G10-G9 -> 0.5 | I10: =DEGREES(ATAN(H10/E10)) -> 5.3310704 | J10: 1 | K10: 5000 | L10: =IF(J10=1,VLOOKUP('Duty Cycle '!K10,'Gearing '!$L$3:$O$28,2),IF(J10=2,VLOOKUP('Duty Cycle '!K10,'Gearing '!$L$2:$O$28,3),IF(J10=3,VLOOKUP('Duty Cycle '!K10,'Gearing '!$L$2:$O$28,4)))) -> 5.358243 | M10: =L10*2.237 -> 11.98639 | N10: =L10-L9 -> 0.80373645 | O10: =IF(J10=1,'Gearing '!$C$17*'Duty Cycle '!N10,IF(J10=2,'Gearing '!$C$18*'Duty Cycle '!N10,IF(J10=3,'Gearing '!$C$19*'Duty Cycle '!N10))) -> 491.74804 | P10: =IF(F10='Track '!$B$60,'Track '!$F$53,IF(F10='Track '!$B$61,'Track '!$F$54,IF(F10='Track '!$B$62,'Track '!$F$55))) -> 0.02 | Q10: =P10*'Vehicle '!$F$38*9.81 -> 114.63966 | R10: =0.5*'Vehicle '!$F$51*'Vehicle '!$F$25*'Track '!$F$57*'Duty Cycle '!L10^2 -> 10.971114 | S10: ='Vehicle '!$F$38*9.81*SIN(RADIANS('Duty Cycle '!I10)) -> 532.56161 | T10: =SUM(Q10:S10)+O10 -> 1149.9204 | U10: =ABS(((+T10)*(+L10)/1000)) -> 6.1615531 | V10: ='Vehicle '!$F$9-'Duty Cycle '!U10 -> 7.2612657 | W10: =U10 -> 6.1615531 | X10: =ABS((W10*1000)/((2*PI()*K10)/60)) -> 11.7677 | Y10: =MIN(22,ROUNDUP(X10,0)) -> 12 | Z10: =T10*D10 -> 23105.824 | AA10: =SUM(AA9,Z10) -> 61453.967 | AB10: =INDEX('BSFC '!$D$5:$AD$27,MATCH('Duty Cycle '!Y10,'BSFC '!$B$5:$B$27,0),MATCH('Duty Cycle '!K10,'BSFC '!$D$28:$AD$28,0)) -> 317.08879 | AC10: =U10*AB10/3600 -> 0.54271094 | AD10: =AD9+AC10 -> 2.5857872 | AE10: =AC10*3.09 -> 1.6769768 | AF10: =0.5*'Vehicle '!$F$38*'Duty Cycle '!L10^2/1000 -> 8.3878509 | AG10: =Z10+AF10 -> 23114.212
B11: =B10+1 -> 8 | C11: S1 | D11: =SUM($L$3:L11) -> 26.523303 | E11: =D11-D10 -> 6.4298916 | F11: Tarmac | G11: 11.9 | H11: =G11-G10 -> 0.6 | I11: =DEGREES(ATAN(H11/E11)) -> 5.3310704 | J11: 1 | K11: 6000 | L11: =IF(J11=1,VLOOKUP('Duty Cycle '!K11,'Gearing '!$L$3:$O$28,2),IF(J11=2,VLOOKUP('Duty Cycle '!K11,'Gearing '!$L$2:$O$28,3),IF(J11=3,VLOOKUP('Duty Cycle '!K11,'Gearing '!$L$2:$O$28,4)))) -> 6.4298916 | M11: =L11*2.237 -> 14.383668 | N11: =L11-L10 -> 1.0716486 | O11: =IF(J11=1,'Gearing '!$C$17*'Duty Cycle '!N11,IF(J11=2,'Gearing '!$C$18*'Duty Cycle '!N11,IF(J11=3,'Gearing '!$C$19*'Duty Cycle '!N11))) -> 655.66405 | P11: =IF(F11='Track '!$B$60,'Track '!$F$53,IF(F11='Track '!$B$61,'Track '!$F$54,IF(F11='Track '!$B$62,'Track '!$F$55))) -> 0.02 | Q11: =P11*'Vehicle '!$F$38*9.81 -> 114.63966 | R11: =0.5*'Vehicle '!$F$51*'Vehicle '!$F$25*'Track '!$F$57*'Duty Cycle '!L11^2 -> 15.798404 | S11: ='Vehicle '!$F$38*9.81*SIN(RADIANS('Duty Cycle '!I11)) -> 532.56161 | T11: =SUM(Q11:S11)+O11 -> 1318.6637 | U11: =ABS(((+T11)*(+L11)/1000)) -> 8.4788648 | V11: ='Vehicle '!$F$9-'Duty Cycle '!U11 -> 4.943954 | W11: =U11 -> 8.4788648 | X11: =ABS((W11*1000)/((2*PI()*K11)/60)) -> 13.494533 | Y11: =MIN(22,ROUNDUP(X11,0)) -> 14 | Z11: =T11*D11 -> 34975.317 | AA11: =SUM(AA10,Z11) -> 96429.285 | AB11: =INDEX('BSFC '!$D$5:$AD$27,MATCH('Duty Cycle '!Y11,'BSFC '!$B$5:$B$27,0),MATCH('Duty Cycle '!K11,'BSFC '!$D$28:$AD$28,0)) -> 356.11311 | AC11: =U11*AB11/3600 -> 0.83873193 | AD11: =AD10+AC11 -> 3.4245191 | AE11: =AC11*3.09 -> 2.5916817 | AF11: =0.5*'Vehicle '!$F$38*'Duty Cycle '!L11^2/1000 -> 12.078505 | AG11: =Z11+AF11 -> 34987.396
A12: =A8/0.755 -> 0.13818075 | B12: =B11+1 -> 9 | C12: S1 | D12: =SUM($L$3:L12) -> 33.589357 | E12: =D12-D11 -> 7.0660537 | F12: Tarmac | G12: 12.65 | H12: =G12-G11 -> 0.75 | I12: =DEGREES(ATAN(H12/E12)) -> 6.0587629 | J12: 2 | K12: 4500 | L12: =IF(J12=1,VLOOKUP('Duty Cycle '!K12,'Gearing '!$L$3:$O$28,2),IF(J12=2,VLOOKUP('Duty Cycle '!K12,'Gearing '!$L$2:$O$28,3),IF(J12=3,VLOOKUP('Duty Cycle '!K12,'Gearing '!$L$2:$O$28,4)))) -> 7.0660537 | M12: =L12*2.237 -> 15.806762 | N12: =L12-L11 -> 0.63616206 | O12: =IF(J12=1,'Gearing '!$C$17*'Duty Cycle '!N12,IF(J12=2,'Gearing '!$C$18*'Duty Cycle '!N12,IF(J12=3,'Gearing '!$C$19*'Duty Cycle '!N12))) -> 384.70841 | P12: =IF(F12='Track '!$B$60,'Track '!$F$53,IF(F12='Track '!$B$61,'Track '!$F$54,IF(F12='Track '!$B$62,'Track '!$F$55))) -> 0.02 | Q12: =P12*'Vehicle '!$F$38*9.81 -> 114.63966 | R12: =0.5*'Vehicle '!$F$51*'Vehicle '!$F$25*'Track '!$F$57*'Duty Cycle '!L12^2 -> 19.079183 | S12: ='Vehicle '!$F$38*9.81*SIN(RADIANS('Duty Cycle '!I12)) -> 605.00161 | T12: =SUM(Q12:S12)+O12 -> 1123.4289 | U12: =ABS(((+T12)*(+L12)/1000)) -> 7.9382086 | V12: ='Vehicle '!$F$9-'Duty Cycle '!U12 -> 5.4846102 | W12: =U12 -> 7.9382086 | X12: =ABS((W12*1000)/((2*PI()*K12)/60)) -> 16.845402 | Y12: =MIN(22,ROUNDUP(X12,0)) -> 17 | Z12: =T12*D12 -> 37735.253 | AA12: =SUM(AA11,Z12) -> 134164.54 | AB12: =INDEX('BSFC '!$D$5:$AD$27,MATCH('Duty Cycle '!Y12,'BSFC '!$B$5:$B$27,0),MATCH('Duty Cycle '!K12,'BSFC '!$D$28:$AD$28,0)) -> 491.00229 | AC12: =U12*AB12/3600 -> 1.0826885 | AD12: =AD11+AC12 -> 4.5072076 | AE12: =AC12*3.09 -> 3.3455075 | AF12: =0.5*'Vehicle '!$F$38*'Duty Cycle '!L12^2/1000 -> 14.586791 | AG12: =Z12+AF12 -> 37749.839
B13: =B12+1 -> 10 | C13: S1 | D13: =SUM($L$3:L13) -> 41.440527 | E13: =D13-D12 -> 7.8511708 | F13: Tarmac | G13: 13.52 | H13: =G13-G12 -> 0.87 | I13: =DEGREES(ATAN(H13/E13)) -> 6.323234 | J13: 2 | K13: 5000 | L13: =IF(J13=1,VLOOKUP('Duty Cycle '!K13,'Gearing '!$L$3:$O$28,2),IF(J13=2,VLOOKUP('Duty Cycle '!K13,'Gearing '!$L$2:$O$28,3),IF(J13=3,VLOOKUP('Duty Cycle '!K13,'Gearing '!$L$2:$O$28,4)))) -> 7.8511708 | M13: =L13*2.237 -> 17.563069 | N13: =L13-L12 -> 0.78511708 | O13: =IF(J13=1,'Gearing '!$C$17*'Duty Cycle '!N13,IF(J13=2,'Gearing '!$C$18*'Duty Cycle '!N13,IF(J13=3,'Gearing '!$C$19*'Duty Cycle '!N13))) -> 474.78648 | P13: =IF(F13='Track '!$B$60,'Track '!$F$53,IF(F13='Track '!$B$61,'Track '!$F$54,IF(F13='Track '!$B$62,'Track '!$F$55))) -> 0.02 | Q13: =P13*'Vehicle '!$F$38*9.81 -> 114.63966 | R13: =0.5*'Vehicle '!$F$51*'Vehicle '!$F$25*'Track '!$F$57*'Duty Cycle '!L13^2 -> 23.554547 | S13: ='Vehicle '!$F$38*9.81*SIN(RADIANS('Duty Cycle '!I13)) -> 631.30549 | T13: =SUM(Q13:S13)+O13 -> 1244.2862 | U13: =ABS(((+T13)*(+L13)/1000)) -> 9.7691033 | V13: ='Vehicle '!$F$9-'Duty Cycle '!U13 -> 3.6537155 | W13: =U13 -> 9.7691033 | X13: =ABS((W13*1000)/((2*PI()*K13)/60)) -> 18.657613 | Y13: =MIN(22,ROUNDUP(X13,0)) -> 19 | Z13: =T13*D13 -> 51563.876 | AA13: =SUM(AA12,Z13) -> 185728.41 | AB13: =INDEX('BSFC '!$D$5:$AD$27,MATCH('Duty Cycle '!Y13,'BSFC '!$B$5:$B$27,0),MATCH('Duty Cycle '!K13,'BSFC '!$D$28:$AD$28,0)) -> 480.16307 | AC13: =U13*AB13/3600 -> 1.3029896 | AD13: =AD12+AC13 -> 5.8101972 | AE13: =AC13*3.09 -> 4.0262379 | AF13: =0.5*'Vehicle '!$F$38*'Duty Cycle '!L13^2/1000 -> 18.008384 | AG13: =Z13+AF13 -> 51581.884
A14: Laps / Tank | B14: =B13+1 -> 11 | C14: S1 | D14: =SUM($L$3:L14) -> 50.469374 | E14: =D14-D13 -> 9.0288464 | F14: Tarmac | G14: 14.3 | H14: =G14-G13 -> 0.78 | I14: =DEGREES(ATAN(H14/E14)) -> 4.9375106 | J14: 2 | K14: 5750 | L14: =IF(J14=1,VLOOKUP('Duty Cycle '!K14,'Gearing '!$L$3:$O$28,2),IF(J14=2,VLOOKUP('Duty Cycle '!K14,'Gearing '!$L$2:$O$28,3),IF(J14=3,VLOOKUP('Duty Cycle '!K14,'Gearing '!$L$2:$O$28,4)))) -> 9.0288464 | M14: =L14*2.237 -> 20.197529 | N14: =L14-L13 -> 1.1776756 | O14: =IF(J14=1,'Gearing '!$C$17*'Duty Cycle '!N14,IF(J14=2,'Gearing '!$C$18*'Duty Cycle '!N14,IF(J14=3,'Gearing '!$C$19*'Duty Cycle '!N14))) -> 712.17972 | P14: =IF(F14='Track '!$B$60,'Track '!$F$53,IF(F14='Track '!$B$61,'Track '!$F$54,IF(F14='Track '!$B$62,'Track '!$F$55))) -> 0.02 | Q14: =P14*'Vehicle '!$F$38*9.81 -> 114.63966 | R14: =0.5*'Vehicle '!$F$51*'Vehicle '!$F$25*'Track '!$F$57*'Duty Cycle '!L14^2 -> 31.150888 | S14: ='Vehicle '!$F$38*9.81*SIN(RADIANS('Duty Cycle '!I14)) -> 493.34717 | T14: =SUM(Q14:S14)+O14 -> 1351.3174 | U14: =ABS(((+T14)*(+L14)/1000)) -> 12.200838 | V14: ='Vehicle '!$F$9-'Duty Cycle '!U14 -> 1.2219813 | W14: =U14 -> 12.200838 | X14: =ABS((W14*1000)/((2*PI()*K14)/60)) -> 20.262507 | Y14: =MIN(22,ROUNDUP(X14,0)) -> 21 | Z14: =T14*D14 -> 68200.145 | AA14: =SUM(AA13,Z14) -> 253928.56 | AB14: =INDEX('BSFC '!$D$5:$AD$27,MATCH('Duty Cycle '!Y14,'BSFC '!$B$5:$B$27,0),MATCH('Duty Cycle '!K14,'BSFC '!$D$28:$AD$28,0)) -> 498.27743 | AC14: =U14*AB14/3600 -> 1.6887227 | AD14: =AD13+AC14 -> 7.4989199 | AE14: =AC14*3.09 -> 5.2181533 | AF14: =0.5*'Vehicle '!$F$38*'Duty Cycle '!L14^2/1000 -> 23.816088 | AG14: =Z14+AF14 -> 68223.961
B15: =B14+1 -> 12 | C15: S1 | D15: =SUM($L$3:L15) -> 60.675896 | E15: =D15-D14 -> 10.206522 | F15: Tarmac | G15: 14.8 | H15: =G15-G14 -> 0.5 | I15: =DEGREES(ATAN(H15/E15)) -> 2.8045798 | J15: 2 | K15: 6500 | L15: =IF(J15=1,VLOOKUP('Duty Cycle '!K15,'Gearing '!$L$3:$O$28,2),IF(J15=2,VLOOKUP('Duty Cycle '!K15,'Gearing '!$L$2:$O$28,3),IF(J15=3,VLOOKUP('Duty Cycle '!K15,'Gearing '!$L$2:$O$28,4)))) -> 10.206522 | M15: =L15*2.237 -> 22.83199 | N15: =L15-L14 -> 1.1776756 | O15: =IF(J15=1,'Gearing '!$C$17*'Duty Cycle '!N15,IF(J15=2,'Gearing '!$C$18*'Duty Cycle '!N15,IF(J15=3,'Gearing '!$C$19*'Duty Cycle '!N15))) -> 712.17972 | P15: =IF(F15='Track '!$B$60,'Track '!$F$53,IF(F15='Track '!$B$61,'Track '!$F$54,IF(F15='Track '!$B$62,'Track '!$F$55))) -> 0.02 | Q15: =P15*'Vehicle '!$F$38*9.81 -> 114.63966 | R15: =0.5*'Vehicle '!$F$51*'Vehicle '!$F$25*'Track '!$F$57*'Duty Cycle '!L15^2 -> 39.807184 | S15: ='Vehicle '!$F$38*9.81*SIN(RADIANS('Duty Cycle '!I15)) -> 280.46368 | T15: =SUM(Q15:S15)+O15 -> 1147.0902 | U15: =ABS(((+T15)*(+L15)/1000)) -> 11.707802 | V15: ='Vehicle '!$F$9-'Duty Cycle '!U15 -> 1.715017 | W15: =U15 -> 11.707802 | X15: =ABS((W15*1000)/((2*PI()*K15)/60)) -> 17.200196 | Y15: =MIN(22,ROUNDUP(X15,0)) -> 18 | Z15: =T15*D15 -> 69600.728 | AA15: =SUM(AA14,Z15) -> 323529.29 | AB15: =INDEX('BSFC '!$D$5:$AD$27,MATCH('Duty Cycle '!Y15,'BSFC '!$B$5:$B$27,0),MATCH('Duty Cycle '!K15,'BSFC '!$D$28:$AD$28,0)) -> 533.40609 | AC15: =U15*AB15/3600 -> 1.7347258 | AD15: =AD14+AC15 -> 9.2336457 | AE15: =AC15*3.09 -> 5.3603026 | AF15: =0.5*'Vehicle '!$F$38*'Duty Cycle '!L15^2/1000 -> 30.434169 | AG15: =Z15+AF15 -> 69631.162
A16: ='Vehicle '!F18/'Duty Cycle '!A12 -> 209.87004 | B16: =B15+1 -> 13 | C16: S1 | D16: =SUM($L$3:L16) -> 70.916553 | E16: =D16-D15 -> 10.240658 | F16: Tarmac | G16: 15.5 | H16: =G16-G15 -> 0.7 | I16: =DEGREES(ATAN(H16/E16)) -> 3.9103695 | J16: 3 | K16: 5000 | L16: =IF(J16=1,VLOOKUP('Duty Cycle '!K16,'Gearing '!$L$3:$O$28,2),IF(J16=2,VLOOKUP('Duty Cycle '!K16,'Gearing '!$L$2:$O$28,3),IF(J16=3,VLOOKUP('Duty Cycle '!K16,'Gearing '!$L$2:$O$28,4)))) -> 10.240658 | M16: =L16*2.237 -> 22.908351 | N16: =L16-L15 -> 0.034135525 | O16: =IF(J16=1,'Gearing '!$C$17*'Duty Cycle '!N16,IF(J16=2,'Gearing '!$C$18*'Duty Cycle '!N16,IF(J16=3,'Gearing '!$C$19*'Duty Cycle '!N16))) -> 20.555857 | P16: =IF(F16='Track '!$B$60,'Track '!$F$53,IF(F16='Track '!$B$61,'Track '!$F$54,IF(F16='Track '!$B$62,'Track '!$F$55))) -> 0.02 | Q16: =P16*'Vehicle '!$F$38*9.81 -> 114.63966 | R16: =0.5*'Vehicle '!$F$51*'Vehicle '!$F$25*'Track '!$F$57*'Duty Cycle '!L16^2 -> 40.073898 | S16: ='Vehicle '!$F$38*9.81*SIN(RADIANS('Duty Cycle '!I16)) -> 390.89747 | T16: =SUM(Q16:S16)+O16 -> 566.16688 | U16: =ABS(((+T16)*(+L16)/1000)) -> 5.7979211 | V16: ='Vehicle '!$F$9-'Duty Cycle '!U16 -> 7.6248977 | W16: =U16 -> 5.7979211 | X16: =ABS((W16*1000)/((2*PI()*K16)/60)) -> 11.073214 | Y16: =MIN(22,ROUNDUP(X16,0)) -> 12 | Z16: =T16*D16 -> 40150.604 | AA16: =SUM(AA15,Z16) -> 363679.89 | AB16: =INDEX('BSFC '!$D$5:$AD$27,MATCH('Duty Cycle '!Y16,'BSFC '!$B$5:$B$27,0),MATCH('Duty Cycle '!K16,'BSFC '!$D$28:$AD$28,0)) -> 317.08879 | AC16: =U16*AB16/3600 -> 0.51068216 | AD16: =AD15+AC16 -> 9.7443279 | AE16: =AC16*3.09 -> 1.5780079 | AF16: =0.5*'Vehicle '!$F$38*'Duty Cycle '!L16^2/1000 -> 30.638082 | AG16: =Z16+AF16 -> 40181.242
B17: =B16+1 -> 14 | C17: S1 | D17: =SUM($L$3:L17) -> 82.181276 | E17: =D17-D16 -> 11.264723 | F17: Tarmac | G17: 16 | H17: =G17-G16 -> 0.5 | I17: =DEGREES(ATAN(H17/E17)) -> 2.5414826 | J17: 3 | K17: 5500 | L17: =IF(J17=1,VLOOKUP('Duty Cycle '!K17,'Gearing '!$L$3:$O$28,2),IF(J17=2,VLOOKUP('Duty Cycle '!K17,'Gearing '!$L$2:$O$28,3),IF(J17=3,VLOOKUP('Duty Cycle '!K17,'Gearing '!$L$2:$O$28,4)))) -> 11.264723 | M17: =L17*2.237 -> 25.199186 | N17: =L17-L16 -> 1.0240658 | O17: =IF(J17=1,'Gearing '!$C$17*'Duty Cycle '!N17,IF(J17=2,'Gearing '!$C$18*'Duty Cycle '!N17,IF(J17=3,'Gearing '!$C$19*'Duty Cycle '!N17))) -> 616.6757 | P17: =IF(F17='Track '!$B$60,'Track '!$F$53,IF(F17='Track '!$B$61,'Track '!$F$54,IF(F17='Track '!$B$62,'Track '!$F$55))) -> 0.02 | Q17: =P17*'Vehicle '!$F$38*9.81 -> 114.63966 | R17: =0.5*'Vehicle '!$F$51*'Vehicle '!$F$25*'Track '!$F$57*'Duty Cycle '!L17^2 -> 48.489416 | S17: ='Vehicle '!$F$38*9.81*SIN(RADIANS('Duty Cycle '!I17)) -> 254.17157 | T17: =SUM(Q17:S17)+O17 -> 1033.9763 | U17: =ABS(((+T17)*(+L17)/1000)) -> 11.647457 | V17: ='Vehicle '!$F$9-'Duty Cycle '!U17 -> 1.7753614 | W17: =U17 -> 11.647457 | X17: =ABS((W17*1000)/((2*PI()*K17)/60)) -> 20.222732 | Y17: =MIN(22,ROUNDUP(X17,0)) -> 21 | Z17: =T17*D17 -> 84973.496 | AA17: =SUM(AA16,Z17) -> 448653.39 | AB17: =INDEX('BSFC '!$D$5:$AD$27,MATCH('Duty Cycle '!Y17,'BSFC '!$B$5:$B$27,0),MATCH('Duty Cycle '!K17,'BSFC '!$D$28:$AD$28,0)) -> 472.37705 | AC17: =U17*AB17/3600 -> 1.528331 | AD17: =AD16+AC17 -> 11.272659 | AE17: =AC17*3.09 -> 4.7225427 | AF17: =0.5*'Vehicle '!$F$38*'Duty Cycle '!L17^2/1000 -> 37.072079 | AG17: =Z17+AF17 -> 85010.568
A18: Fuel Price (£/L) | B18: =B17+1 -> 15 | C18: S1 | D18: =SUM($L$3:L18) -> 94.470066 | E18: =D18-D17 -> 12.288789 | F18: Tarmac | G18: 16.3 | H18: =G18-G17 -> 0.3 | I18: =DEGREES(ATAN(H18/E18)) -> 1.3984552 | J18: 3 | K18: 6000 | L18: =IF(J18=1,VLOOKUP('Duty Cycle '!K18,'Gearing '!$L$3:$O$28,2),IF(J18=2,VLOOKUP('Duty Cycle '!K18,'Gearing '!$L$2:$O$28,3),IF(J18=3,VLOOKUP('Duty Cycle '!K18,'Gearing '!$L$2:$O$28,4)))) -> 12.288789 | M18: =L18*2.237 -> 27.490021 | N18: =L18-L17 -> 1.0240658 | O18: =IF(J18=1,'Gearing '!$C$17*'Duty Cycle '!N18,IF(J18=2,'Gearing '!$C$18*'Duty Cycle '!N18,IF(J18=3,'Gearing '!$C$19*'Duty Cycle '!N18))) -> 616.6757 | P18: =IF(F18='Track '!$B$60,'Track '!$F$53,IF(F18='Track '!$B$61,'Track '!$F$54,IF(F18='Track '!$B$62,'Track '!$F$55))) -> 0.02 | Q18: =P18*'Vehicle '!$F$38*9.81 -> 114.63966 | R18: =0.5*'Vehicle '!$F$51*'Vehicle '!$F$25*'Track '!$F$57*'Duty Cycle '!L18^2 -> 57.706413 | S18: ='Vehicle '!$F$38*9.81*SIN(RADIANS('Duty Cycle '!I18)) -> 139.89033 | T18: =SUM(Q18:S18)+O18 -> 928.9121 | U18: =ABS(((+T18)*(+L18)/1000)) -> 11.415205 | V18: ='Vehicle '!$F$9-'Duty Cycle '!U18 -> 2.007614 | W18: =U18 -> 11.415205 | X18: =ABS((W18*1000)/((2*PI()*K18)/60)) -> 18.167863 | Y18: =MIN(22,ROUNDUP(X18,0)) -> 19 | Z18: =T18*D18 -> 87754.387 | AA18: =SUM(AA17,Z18) -> 536407.77 | AB18: =INDEX('BSFC '!$D$5:$AD$27,MATCH('Duty Cycle '!Y18,'BSFC '!$B$5:$B$27,0),MATCH('Duty Cycle '!K18,'BSFC '!$D$28:$AD$28,0)) -> 495.50618 | AC18: =U18*AB18/3600 -> 1.5711957 | AD18: =AD17+AC18 -> 12.843855 | AE18: =AC18*3.09 -> 4.8549947 | AF18: =0.5*'Vehicle '!$F$38*'Duty Cycle '!L18^2/1000 -> 44.118838 | AG18: =Z18+AF18 -> 87798.506
B19: =B18+1 -> 16 | C19: T1 | D19: =SUM($L$3:L19) -> 107.78292 | E19: =D19-D18 -> 13.312855 | F19: Tarmac | G19: 16.5 | H19: =G19-G18 -> 0.2 | I19: =DEGREES(ATAN(H19/E19)) -> 0.86069398 | J19: 3 | K19: 6500 | L19: =IF(J19=1,VLOOKUP('Duty Cycle '!K19,'Gearing '!$L$3:$O$28,2),IF(J19=2,VLOOKUP('Duty Cycle '!K19,'Gearing '!$L$2:$O$28,3),IF(J19=3,VLOOKUP('Duty Cycle '!K19,'Gearing '!$L$2:$O$28,4)))) -> 13.312855 | M19: =L19*2.237 -> 29.780856 | N19: =L19-L18 -> 1.0240658 | O19: =IF(J19=1,'Gearing '!$C$17*'Duty Cycle '!N19,IF(J19=2,'Gearing '!$C$18*'Duty Cycle '!N19,IF(J19=3,'Gearing '!$C$19*'Duty Cycle '!N19))) -> 616.6757 | P19: =IF(F19='Track '!$B$60,'Track '!$F$53,IF(F19='Track '!$B$61,'Track '!$F$54,IF(F19='Track '!$B$62,'Track '!$F$55))) -> 0.02 | Q19: =P19*'Vehicle '!$F$38*9.81 -> 114.63966 | R19: =0.5*'Vehicle '!$F$51*'Vehicle '!$F$25*'Track '!$F$57*'Duty Cycle '!L19^2 -> 67.724887 | S19: ='Vehicle '!$F$38*9.81*SIN(RADIANS('Duty Cycle '!I19)) -> 86.102288 | T19: =SUM(Q19:S19)+O19 -> 885.14253 | U19: =ABS(((+T19)*(+L19)/1000)) -> 11.783774 | V19: ='Vehicle '!$F$9-'Duty Cycle '!U19 -> 1.6390448 | W19: =U19 -> 11.783774 | X19: =ABS((W19*1000)/((2*PI()*K19)/60)) -> 17.311808 | Y19: =MIN(22,ROUNDUP(X19,0)) -> 18 | Z19: =T19*D19 -> 95403.247 | AA19: =SUM(AA18,Z19) -> 631811.02 | AB19: =INDEX('BSFC '!$D$5:$AD$27,MATCH('Duty Cycle '!Y19,'BSFC '!$B$5:$B$27,0),MATCH('Duty Cycle '!K19,'BSFC '!$D$28:$AD$28,0)) -> 533.40609 | AC19: =U19*AB19/3600 -> 1.7459824 | AD19: =AD18+AC19 -> 14.589837 | AE19: =AC19*3.09 -> 5.3950858 | AF19: =0.5*'Vehicle '!$F$38*'Duty Cycle '!L19^2/1000 -> 51.778359 | AG19: =Z19+AF19 -> 95455.026
A20: 1.47 | B20: =B19+1 -> 17 | C20: T1 | D20: =SUM($L$3:L20) -> 120.07171 | E20: =D20-D19 -> 12.288789 | F20: Tarmac | G20: 17 | H20: =G20-G19 -> 0.5 | I20: =DEGREES(ATAN(H20/E20)) -> 2.3299364 | J20: 3 | K20: 6000 | L20: =IF(J20=1,VLOOKUP('Duty Cycle '!K20,'Gearing '!$L$3:$O$28,2),IF(J20=2,VLOOKUP('Duty Cycle '!K20,'Gearing '!$L$2:$O$28,3),IF(J20=3,VLOOKUP('Duty Cycle '!K20,'Gearing '!$L$2:$O$28,4)))) -> 12.288789 | M20: =L20*2.237 -> 27.490021 | N20: =L20-L19 -> -1.0240658 | O20: =IF(J20=1,'Gearing '!$C$17*'Duty Cycle '!N20,IF(J20=2,'Gearing '!$C$18*'Duty Cycle '!N20,IF(J20=3,'Gearing '!$C$19*'Duty Cycle '!N20))) -> -616.6757 | P20: =IF(F20='Track '!$B$60,'Track '!$F$53,IF(F20='Track '!$B$61,'Track '!$F$54,IF(F20='Track '!$B$62,'Track '!$F$55))) -> 0.02 | Q20: =P20*'Vehicle '!$F$38*9.81 -> 114.63966 | R20: =0.5*'Vehicle '!$F$51*'Vehicle '!$F$25*'Track '!$F$57*'Duty Cycle '!L20^2 -> 57.706413 | S20: ='Vehicle '!$F$38*9.81*SIN(RADIANS('Duty Cycle '!I20)) -> 233.02721 | T20: =SUM(Q20:S20)+O20 -> -211.30242 | U20: =ABS(((+T20)*(+L20)/1000)) -> 2.5966509 | V20: ='Vehicle '!$F$9-'Duty Cycle '!U20 -> 10.826168 | W20: =U20 -> 2.5966509 | X20: =ABS((W20*1000)/((2*PI()*K20)/60)) -> 4.1326982 | Y20: =MIN(22,ROUNDUP(X20,0)) -> 5 | Z20: =T20*D20 -> -25371.443 | AA20: =SUM(AA19,Z20) -> 606439.58 | AB20: =INDEX('BSFC '!$D$5:$AD$27,MATCH('Duty Cycle '!Y20,'BSFC '!$B$5:$B$27,0),MATCH('Duty Cycle '!K20,'BSFC '!$D$28:$AD$28,0)) -> 679.12827 | AC20: =U20*AB20/3600 -> 0.48984972 | AD20: =AD19+AC20 -> 15.079687 | AE20: =AC20*3.09 -> 1.5136356 | AF20: =0.5*'Vehicle '!$F$38*'Duty Cycle '!L20^2/1000 -> 44.118838 | AG20: =Z20+AF20 -> -25327.324
B21: =B20+1 -> 18 | C21: T1 | D21: =SUM($L$3:L21) -> 131.84847 | E21: =D21-D20 -> 11.776756 | F21: Tarmac | G21: 17.4 | H21: =G21-G20 -> 0.4 | I21: =DEGREES(ATAN(H21/E21)) -> 1.9453154 | J21: 3 | K21: 5750 | L21: =IF(J21=1,VLOOKUP('Duty Cycle '!K21,'Gearing '!$L$3:$O$28,2),IF(J21=2,VLOOKUP('Duty Cycle '!K21,'Gearing '!$L$2:$O$28,3),IF(J21=3,VLOOKUP('Duty Cycle '!K21,'Gearing '!$L$2:$O$28,4)))) -> 11.776756 | M21: =L21*2.237 -> 26.344603 | N21: =L21-L20 -> -0.51203288 | O21: =IF(J21=1,'Gearing '!$C$17*'Duty Cycle '!N21,IF(J21=2,'Gearing '!$C$18*'Duty Cycle '!N21,IF(J21=3,'Gearing '!$C$19*'Duty Cycle '!N21))) -> -308.33785 | P21: =IF(F21='Track '!$B$60,'Track '!$F$53,IF(F21='Track '!$B$61,'Track '!$F$54,IF(F21='Track '!$B$62,'Track '!$F$55))) -> 0.02 | Q21: =P21*'Vehicle '!$F$38*9.81 -> 114.63966 | R21: =0.5*'Vehicle '!$F$51*'Vehicle '!$F$25*'Track '!$F$57*'Duty Cycle '!L21^2 -> 52.99773 | S21: ='Vehicle '!$F$38*9.81*SIN(RADIANS('Duty Cycle '!I21)) -> 194.57581 | T21: =SUM(Q21:S21)+O21 -> 53.875347 | U21: =ABS(((+T21)*(+L21)/1000)) -> 0.63447682 | V21: ='Vehicle '!$F$9-'Duty Cycle '!U21 -> 12.788342 | W21: =U21 -> 0.63447682 | X21: =ABS((W21*1000)/((2*PI()*K21)/60)) -> 1.0537056 | Y21: =MIN(22,ROUNDUP(X21,0)) -> 2 | Z21: =T21*D21 -> 7103.3818 | AA21: =SUM(AA20,Z21) -> 613542.96 | AB21: =INDEX('BSFC '!$D$5:$AD$27,MATCH('Duty Cycle '!Y21,'BSFC '!$B$5:$B$27,0),MATCH('Duty Cycle '!K21,'BSFC '!$D$28:$AD$28,0)) -> 886.98747 | AC21: =U21*AB21/3600 -> 0.15632583 | AD21: =AD20+AC21 -> 15.236013 | AE21: =AC21*3.09 -> 0.48304682 | AF21: =0.5*'Vehicle '!$F$38*'Duty Cycle '!L21^2/1000 -> 40.518863 | AG21: =Z21+AF21 -> 7143.9007
