Workbook

Sheet Vehicle 
B2: Renegade DX10-C (Auto) Corporate 300cc
A4: Y | B4: Engine Specifications
A5: N
B6: Engine | F6: 278cc Petrol Single Cylinder 4-Stroke ICE
B8: Power (BHP) (@6500) | F8: 18
B9: Power (KW) | F9: =F8/1.341 -> 13.422819
B10: Torque (Nm) (@5500) | F10: 22
B11: Top Speed (mph) | F11: 30
B12: Top Speed (m/s) | F12: =F11/2.237 -> 13.410818
B13: Vehicle Specifications
B15: Transmission | F15: Auto CVT with F/N/R
B16: Drive | F16: CVT Clutch
B17: Diff Lock | F17: Locked Rear Axle
B18: Tank Capacity (L) | F18: 29
B19: Vehicle Dimensions
B21: Length (m) | F21: 2.62
B22: Width (m) | F22: 1.65
B23: Height (m) | F23: 1.62
B24: Ground Clearance (m) | F24: 0.3
B25: Frontal Area (m²) | F25: =0.7*F22*F23 -> 1.8711
B26: Frontal Aero Area (m²) | F26: =(F23-F24)*F22 -> 2.178
B27: Centre of Gravity | F27: Very Low
B28: Vehicle Mass
B30: Curb Weight (Kg) | F30: 365
B31: Driver (Kg) | F31: 75
B32: Driver Kit (Kg) | F32: 10
B33: Passenger (Y/N) | F33: Y
B34: Passenger (Kg) | F34: =IF(F33=A4, 75, 0) -> 75
B35: Passenger Kit (Kg) | F35: =IF(F33=A4, 10, 0) -> 10
B36: Fuel (L) | F36: 29
B37: Fuel (Kg) | F37: =F36*0.7 -> 20.3
B38: Total (Kg) | F38: =SUM(F30:I37) -> 584.3
B39: Wheel Dimensions
B41: Front Wheel Size (In) | F41: 12
B42: Front Wheel Size (m) | F42: =F41/39.37 -> 0.30480061
B43: Front Tyre Side Wall (m) | F43: 0.1524
B44: Rear Wheel Size (In) | F44: 10
B45: Rear Wheel Size (m) | F45: =F44/39.37 -> 0.25400051
B46: Rear Tyre Side Wall (m) | F46: 0.1397
B47: Rolling Radius (m) | F47: =F45/2+F46 -> 0.26670025
B48: Rolling Circumference (m) | F48: =F47*2*PI() -> 1.6757271
B49: Assumptions
B51: Coefficient of Drag | F51: 0.35
B52: Wheel Inertia (Kg.m²) | F52: 0.95
B53: Engine Inertia (Kg.m²) | F53: 0.17

Sheet Gearing 
B2: Gearing | H2: Power(BHP) | J2: Power (w) | K2: Torque (Nm) | L2: RPM | M2: Velocity (m/s) 1st Gear | N2: Velocity (m/s) 2st Gear | O2: Velocity (m/s) 3st Gear | P2: Velocity (mph) 1st Gear | Q2: Velocity (mph) 2st Gear | R2: Velocity (mph) 3st Gear | S2: Force (N) 1st | T2: Force (N) 2nd | U2: Force (N) 3rd
H3: 0.75 | J3: =H3*0.7457*1000 -> 559.275 | K3: =(J3)/((2*PI()*L3)/60) -> 7.1209105 | L3: 750 | M3: =(((L3/($D$5*$D$7*$D$13)*$B$32)) /(60))*2.24*0.44704 -> 0.80373645 | N3: =(((L3/($D$5*$D$9*$D$13)*$B$32)) /(60))*2.24*0.44704 -> 1.1776756 | O3: =(((L3/($D$5*$D$11*$D$13)*$B$32)) /(60))*2.24*0.44704 -> 1.5360986 | P3: =M3*2.237 -> 1.7979584 | Q3: =N3*2.237 -> 2.6344603 | R3: =O3*2.237 -> 3.4362526 | S3: =(($H3*0.746)*1000)/M3 -> 696.12371 | T3: =(($H3*0.746)*1000)/N3 -> 475.08838 | U3: =(($H3*0.746)*1000)/O3 -> 364.23443
B4: Primary | D4: Ratio | H4: =H3+0.75 -> 1.5 | J4: =H4*0.7457*1000 -> 1118.55 | K4: =(J4)/((2*PI()*L4)/60) -> 10.681366 | L4: =L3+250 -> 1000 | M4: =(((L4/($D$5*$D$7*$D$13)*$B$32)) /(60))*2.24*0.44704 -> 1.0716486 | N4: =(((L4/($D$5*$D$9*$D$13)*$B$32)) /(60))*2.24*0.44704 -> 1.5702342 | O4: =(((L4/($D$5*$D$11*$D$13)*$B$32)) /(60))*2.24*0.44704 -> 2.0481315 | P4: =M4*2.237 -> 2.3972779 | Q4: =N4*2.237 -> 3.5126138 | R4: =O4*2.237 -> 4.5816702 | S4: =(($H4*0.746)*1000)/M4 -> 1044.1856 | T4: =(($H4*0.746)*1000)/N4 -> 712.63257 | U4: =(($H4*0.746)*1000)/O4 -> 546.35164
B5: 28 | C5: 94 | D5: =C5/B5 -> 3.3571429 | H5: =H4+0.75 -> 2.25 | J5: =H5*0.7457*1000 -> 1677.825 | K5: =(J5)/((2*PI()*L5)/60) -> 12.817639 | L5: =L4+250 -> 1250 | M5: =(((L5/($D$5*$D$7*$D$13)*$B$32)) /(60))*2.24*0.44704 -> 1.3395608 | N5: =(((L5/($D$5*$D$9*$D$13)*$B$32)) /(60))*2.24*0.44704 -> 1.9627927 | O5: =(((L5/($D$5*$D$11*$D$13)*$B$32)) /(60))*2.24*0.44704 -> 2.5601644 | P5: =M5*2.237 -> 2.9965974 | Q5: =N5*2.237 -> 4.3907672 | R5: =O5*2.237 -> 5.7270877 | S5: =(($H5*0.746)*1000)/M5 -> 1253.0227 | T5: =(($H5*0.746)*1000)/N5 -> 855.15909 | U5: =(($H5*0.746)*1000)/O5 -> 655.62197
B6: First | H6: =H5+0.75 -> 3 | J6: =H6*0.7457*1000 -> 2237.1 | K6: =(J6)/((2*PI()*L6)/60) -> 14.241821 | L6: =L5+250 -> 1500 | M6: =(((L6/($D$5*$D$7*$D$13)*$B$32)) /(60))*2.24*0.44704 -> 1.6074729 | N6: =(((L6/($D$5*$D$9*$D$13)*$B$32)) /(60))*2.24*0.44704 -> 2.3553512 | O6: =(((L6/($D$5*$D$11*$D$13)*$B$32)) /(60))*2.24*0.44704 -> 3.0721973 | P6: =M6*2.237 -> 3.5959169 | Q6: =N6*2.237 -> 5.2689207 | R6: =O6*2.237 -> 6.8725053 | S6: =(($H6*0.746)*1000)/M6 -> 1392.2474 | T6: =(($H6*0.746)*1000)/N6 -> 950.17676 | U6: =(($H6*0.746)*1000)/O6 -> 728.46885
B7: 33 | C7: 14 | D7: =B7/C7 -> 2.3571429 | H7: =H6+0.75 -> 3.75 | J7: =H7*0.7457*1000 -> 2796.375 | K7: =(J7)/((2*PI()*L7)/60) -> 15.259094 | L7: =L6+250 -> 1750 | M7: =(((L7/($D$5*$D$7*$D$13)*$B$32)) /(60))*2.24*0.44704 -> 1.8753851 | N7: =(((L7/($D$5*$D$9*$D$13)*$B$32)) /(60))*2.24*0.44704 -> 2.7479098 | O7: =(((L7/($D$5*$D$11*$D$13)*$B$32)) /(60))*2.24*0.44704 -> 3.5842301 | P7: =M7*2.237 -> 4.1952364 | Q7: =N7*2.237 -> 6.1470741 | R7: =O7*2.237 -> 8.0179228 | S7: =(($H7*0.746)*1000)/M7 -> 1491.6937 | T7: =(($H7*0.746)*1000)/N7 -> 1018.0465 | U7: =(($H7*0.746)*1000)/O7 -> 780.50234
B8: Second | H8: =H7+0.75 -> 4.5 | J8: =H8*0.7457*1000 -> 3355.65 | K8: =(J8)/((2*PI()*L8)/60) -> 16.022049 | L8: =L7+250 -> 2000 | M8: =(((L8/($D$5*$D$7*$D$13)*$B$32)) /(60))*2.24*0.44704 -> 2.1432972 | N8: =(((L8/($D$5*$D$9*$D$13)*$B$32)) /(60))*2.24*0.44704 -> 3.1404683 | O8: =(((L8/($D$5*$D$11*$D$13)*$B$32)) /(60))*2.24*0.44704 -> 4.096263 | P8: =M8*2.237 -> 4.7945559 | Q8: =N8*2.237 -> 7.0252276 | R8: =O8*2.237 -> 9.1633403 | S8: =(($H8*0.746)*1000)/M8 -> 1566.2783 | T8: =(($H8*0.746)*1000)/N8 -> 1068.9489 | U8: =(($H8*0.746)*1000)/O8 -> 819.52746
B9: 37 | C9: 23 | D9: =B9/C9 -> 1.6086957 | H9: =H8+0.75 -> 5.25 | J9: =H9*0.7457*1000 -> 3914.925 | K9: =(J9)/((2*PI()*L9)/60) -> 16.615458 | L9: =L8+250 -> 2250 | M9: =(((L9/($D$5*$D$7*$D$13)*$B$32)) /(60))*2.24*0.44704 -> 2.4112094 | N9: =(((L9/($D$5*$D$9*$D$13)*$B$32)) /(60))*2.24*0.44704 -> 3.5330268 | O9: =(((L9/($D$5*$D$11*$D$13)*$B$32)) /(60))*2.24*0.44704 -> 4.6082959 | P9: =M9*2.237 -> 5.3938753 | Q9: =N9*2.237 -> 7.903381 | R9: =O9*2.237 -> 10.308758 | S9: =(($H9*0.746)*1000)/M9 -> 1624.2887 | T9: =(($H9*0.746)*1000)/N9 -> 1108.5396 | U9: =(($H9*0.746)*1000)/O9 -> 849.88033
B10: Third | H10: =H9+0.75 -> 6 | J10: =H10*0.7457*1000 -> 4474.2 | K10: =(J10)/((2*PI()*L10)/60) -> 17.090185 | L10: =L9+250 -> 2500 | M10: =(((L10/($D$5*$D$7*$D$13)*$B$32)) /(60))*2.24*0.44704 -> 2.6791215 | N10: =(((L10/($D$5*$D$9*$D$13)*$B$32)) /(60))*2.24*0.44704 -> 3.9255854 | O10: =(((L10/($D$5*$D$11*$D$13)*$B$32)) /(60))*2.24*0.44704 -> 5.1203288 | P10: =M10*2.237 -> 5.9931948 | Q10: =N10*2.237 -> 8.7815345 | R10: =O10*2.237 -> 11.454175 | S10: =(($H10*0.746)*1000)/M10 -> 1670.6969 | T10: =(($H10*0.746)*1000)/N10 -> 1140.2121 | U10: =(($H10*0.746)*1000)/O10 -> 874.16262
B11: 37 | C11: 30 | D11: =B11/C11 -> 1.2333333 | H11: =H10+0.75 -> 6.75 | J11: =H11*0.7457*1000 -> 5033.475 | K11: =(($K$22-K10)/10)+K10 -> 17.581167 | L11: =L10+250 -> 2750 | M11: =(((L11/($D$5*$D$7*$D$13)*$B$32)) /(60))*2.24*0.44704 -> 2.9470337 | N11: =(((L11/($D$5*$D$9*$D$13)*$B$32)) /(60))*2.24*0.44704 -> 4.3181439 | O11: =(((L11/($D$5*$D$11*$D$13)*$B$32)) /(60))*2.24*0.44704 -> 5.6323616 | P11: =M11*2.237 -> 6.5925143 | Q11: =N11*2.237 -> 9.6596879 | R11: =O11*2.237 -> 12.599593 | S11: =(($H11*0.746)*1000)/M11 -> 1708.6673 | T11: =(($H11*0.746)*1000)/N11 -> 1166.126 | U11: =(($H11*0.746)*1000)/O11 -> 894.02995
B12: Final | H12: =H11+0.75 -> 7.5 | J12: =H12*0.7457*1000 -> 5592.75 | K12: =(($K$22-$K$11)/10)+K11 -> 18.02305 | L12: =L11+250 -> 3000 | M12: =(((L12/($D$5*$D$7*$D$13)*$B$32)) /(60))*2.24*0.44704 -> 3.2149458 | N12: =(((L12/($D$5*$D$9*$D$13)*$B$32)) /(60))*2.24*0.44704 -> 4.7107025 | O12: =(((L12/($D$5*$D$11*$D$13)*$B$32)) /(60))*2.24*0.44704 -> 6.1443945 | P12: =M12*2.237 -> 7.1918338 | Q12: =N12*2.237 -> 10.537841 | R12: =O12*2.237 -> 13.745011 | S12: =(($H12*0.746)*1000)/M12 -> 1740.3093 | T12: =(($H12*0.746)*1000)/N12 -> 1187.721 | U12: =(($H12*0.746)*1000)/O12 -> 910.58606
B13: 12 | C13: 46 | D13: =C13/B13 -> 3.8333333 | H13: =H12+0.75 -> 8.25 | J13: =H13*0.7457*1000 -> 6152.025 | K13: =(($K$22-$K$12)/10)+K12 -> 18.420745 | L13: =L12+250 -> 3250 | M13: =(((L13/($D$5*$D$7*$D$13)*$B$32)) /(60))*2.24*0.44704 -> 3.482858 | N13: =(((L13/($D$5*$D$9*$D$13)*$B$32)) /(60))*2.24*0.44704 -> 5.103261 | O13: =(((L13/($D$5*$D$11*$D$13)*$B$32)) /(60))*2.24*0.44704 -> 6.6564274 | P13: =M13*2.237 -> 7.7911533 | Q13: =N13*2.237 -> 11.415995 | R13: =O13*2.237 -> 14.890428 | S13: =(($H13*0.746)*1000)/M13 -> 1767.0833 | T13: =(($H13*0.746)*1000)/N13 -> 1205.9936 | U13: =(($H13*0.746)*1000)/O13 -> 924.59508
B14: Reduced Masses | H14: =H13+0.75 -> 9 | J14: =H14*0.7457*1000 -> 6711.3 | K14: =(($K$22-$K$12)/10)+K13 -> 18.81844 | L14: =L13+250 -> 3500 | M14: =(((L14/($D$5*$D$7*$D$13)*$B$32)) /(60))*2.24*0.44704 -> 3.7507701 | N14: =(((L14/($D$5*$D$9*$D$13)*$B$32)) /(60))*2.24*0.44704 -> 5.4958195 | O14: =(((L14/($D$5*$D$11*$D$13)*$B$32)) /(60))*2.24*0.44704 -> 7.1684603 | P14: =M14*2.237 -> 8.3904727 | Q14: =N14*2.237 -> 12.294148 | R14: =O14*2.237 -> 16.035846 | S14: =(($H14*0.746)*1000)/M14 -> 1790.0324 | T14: =(($H14*0.746)*1000)/N14 -> 1221.6558 | U14: =(($H14*0.746)*1000)/O14 -> 936.60281
H15: =H14+0.75 -> 9.75 | J15: =H15*0.7457*1000 -> 7270.575 | K15: =(($K$22-$K$12)/10)+K14 -> 19.216135 | L15: =L14+250 -> 3750 | M15: =(((L15/($D$5*$D$7*$D$13)*$B$32)) /(60))*2.24*0.44704 -> 4.0186823 | N15: =(((L15/($D$5*$D$9*$D$13)*$B$32)) /(60))*2.24*0.44704 -> 5.8883781 | O15: =(((L15/($D$5*$D$11*$D$13)*$B$32)) /(60))*2.24*0.44704 -> 7.6804931 | P15: =M15*2.237 -> 8.9897922 | Q15: =N15*2.237 -> 13.172302 | R15: =O15*2.237 -> 17.181263 | S15: =(($H15*0.746)*1000)/M15 -> 1809.9216 | T15: =(($H15*0.746)*1000)/N15 -> 1235.2298 | U15: =(($H15*0.746)*1000)/O15 -> 947.00951
B16: Gear | C16: Reduced Mass | H16: =H15+0.75 -> 10.5 | J16: =H16*0.7457*1000 -> 7829.85 | K16: =(($K$22-$K$12)/10)+K15 -> 19.61383 | L16: =L15+250 -> 4000 | M16: =(((L16/($D$5*$D$7*$D$13)*$B$32)) /(60))*2.24*0.44704 -> 4.2865944 | N16: =(((L16/($D$5*$D$9*$D$13)*$B$32)) /(60))*2.24*0.44704 -> 6.2809366 | O16: =(((L16/($D$5*$D$11*$D$13)*$B$32)) /(60))*2.24*0.44704 -> 8.192526 | P16: =M16*2.237 -> 9.5891117 | Q16: =N16*2.237 -> 14.050455 | R16: =O16*2.237 -> 18.326681 | S16: =(($H16*0.746)*1000)/M16 -> 1827.3247 | T16: =(($H16*0.746)*1000)/N16 -> 1247.107 | U16: =(($H16*0.746)*1000)/O16 -> 956.11537
B17: 1 | C17: ='Vehicle '!$F$38+4*('Vehicle '!$F$52/'Vehicle '!$F$47)+'Vehicle '!$F$53*('Gearing '!$D$7^2/'Vehicle '!$F$47^2) -> 611.82747 | H17: =H16+0.75 -> 11.25 | J17: =H17*0.7457*1000 -> 8389.125 | K17: =(($K$22-$K$12)/10)+K16 -> 20.011525 | L17: =L16+250 -> 4250 | M17: =(((L17/($D$5*$D$7*$D$13)*$B$32)) /(60))*2.24*0.44704 -> 4.5545066 | N17: =(((L17/($D$5*$D$9*$D$13)*$B$32)) /(60))*2.24*0.44704 -> 6.6734951 | O17: =(((L17/($D$5*$D$11*$D$13)*$B$32)) /(60))*2.24*0.44704 -> 8.7045589 | P17: =M17*2.237 -> 10.188431 | Q17: =N17*2.237 -> 14.928609 | R17: =O17*2.237 -> 19.472098 | S17: =(($H17*0.746)*1000)/M17 -> 1842.6804 | T17: =(($H17*0.746)*1000)/N17 -> 1257.5869 | U17: =(($H17*0.746)*1000)/O17 -> 964.14995
B18: 2 | C18: ='Vehicle '!$F$38+4*('Vehicle '!$F$52/'Vehicle '!$F$47)+'Vehicle '!$F$53*('Gearing '!$D$9^2/'Vehicle '!$F$47^2) -> 604.73335 | H18: =H17+0.75 -> 12 | J18: =H18*0.7457*1000 -> 8948.4 | K18: =(($K$22-$K$12)/10)+K17 -> 20.40922 | L18: =L17+250 -> 4500 | M18: =(((L18/($D$5*$D$7*$D$13)*$B$32)) /(60))*2.24*0.44704 -> 4.8224187 | N18: =(((L18/($D$5*$D$9*$D$13)*$B$32)) /(60))*2.24*0.44704 -> 7.0660537 | O18: =(((L18/($D$5*$D$11*$D$13)*$B$32)) /(60))*2.24*0.44704 -> 9.2165918 | P18: =M18*2.237 -> 10.787751 | Q18: =N18*2.237 -> 15.806762 | R18: =O18*2.237 -> 20.617516 | S18: =(($H18*0.746)*1000)/M18 -> 1856.3299 | T18: =(($H18*0.746)*1000)/N18 -> 1266.9023 | U18: =(($H18*0.746)*1000)/O18 -> 971.2918
B19: 3 | C19: ='Vehicle '!$F$38+4*('Vehicle '!$F$52/'Vehicle '!$F$47)+'Vehicle '!$F$53*('Gearing '!$D$11^2/'Vehicle '!$F$47^2) -> 602.1837 | H19: =H18+0.75 -> 12.75 | J19: =H19*0.7457*1000 -> 9507.675 | K19: =(($K$22-$K$12)/10)+K18 -> 20.806915 | L19: =L18+250 -> 4750 | M19: =(((L19/($D$5*$D$7*$D$13)*$B$32)) /(60))*2.24*0.44704 -> 5.0903309 | N19: =(((L19/($D$5*$D$9*$D$13)*$B$32)) /(60))*2.24*0.44704 -> 7.4586122 | O19: =(((L19/($D$5*$D$11*$D$13)*$B$32)) /(60))*2.24*0.44704 -> 9.7286246 | P19: =M19*2.237 -> 11.38707 | Q19: =N19*2.237 -> 16.684916 | R19: =O19*2.237 -> 21.762933 | S19: =(($H19*0.746)*1000)/M19 -> 1868.5426 | T19: =(($H19*0.746)*1000)/N19 -> 1275.2372 | U19: =(($H19*0.746)*1000)/O19 -> 977.68188
B20: Rear Wheel Travel (m) | H20: =H19+0.75 -> 13.5 | J20: =H20*0.7457*1000 -> 10066.95 | K20: =(($K$22-$K$12)/10)+K19 -> 21.20461 | L20: =L19+250 -> 5000 | M20: =(((L20/($D$5*$D$7*$D$13)*$B$32)) /(60))*2.24*0.44704 -> 5.358243 | N20: =(((L20/($D$5*$D$9*$D$13)*$B$32)) /(60))*2.24*0.44704 -> 7.8511708 | O20: =(((L20/($D$5*$D$11*$D$13)*$B$32)) /(60))*2.24*0.44704 -> 10.240658 | P20: =M20*2.237 -> 11.98639 | Q20: =N20*2.237 -> 17.563069 | R20: =O20*2.237 -> 22.908351 | S20: =(($H20*0.746)*1000)/M20 -> 1879.534 | T20: =(($H20*0.746)*1000)/N20 -> 1282.7386 | U20: =(($H20*0.746)*1000)/O20 -> 983.43295
H21: =H20+0.75 -> 14.25 | J21: =H21*0.7457*1000 -> 10626.225 | K21: =(($K$22-$K$12)/10)+K20 -> 21.602305 | L21: =L20+250 -> 5250 | M21: =(((L21/($D$5*$D$7*$D$13)*$B$32)) /(60))*2.24*0.44704 -> 5.6261552 | N21: =(((L21/($D$5*$D$9*$D$13)*$B$32)) /(60))*2.24*0.44704 -> 8.2437293 | O21: =(((L21/($D$5*$D$11*$D$13)*$B$32)) /(60))*2.24*0.44704 -> 10.75269 | P21: =M21*2.237 -> 12.585709 | Q21: =N21*2.237 -> 18.441222 | R21: =O21*2.237 -> 24.053768 | S21: =(($H21*0.746)*1000)/M21 -> 1889.4786 | T21: =(($H21*0.746)*1000)/N21 -> 1289.5256 | U21: =(($H21*0.746)*1000)/O21 -> 988.6363
B22: =B13/C13*0.607*PI() -> 0.49746437 | H22: =H21+0.75 -> 15 | J22: =H22*0.7457*1000 -> 11185.5 | K22: 22 | L22: =L21+250 -> 5500 | M22: =(((L22/($D$5*$D$7*$D$13)*$B$32)) /(60))*2.24*0.44704 -> 5.8940673 | N22: =(((L22/($D$5*$D$9*$D$13)*$B$32)) /(60))*2.24*0.44704 -> 8.6362878 | O22: =(((L22/($D$5*$D$11*$D$13)*$B$32)) /(60))*2.24*0.44704 -> 11.264723 | P22: =M22*2.237 -> 13.185029 | Q22: =N22*2.237 -> 19.319376 | R22: =O22*2.237 -> 25.199186 | S22: =(($H22*0.746)*1000)/M22 -> 1898.5192 | T22: =(($H22*0.746)*1000)/N22 -> 1295.6956 | U22: =(($H22*0.746)*1000)/O22 -> 993.36661
B23: Distance Travelled @ Wheel (m) | H23: =H22+0.75 -> 15.75 | J23: =H23*0.7457*1000 -> 11744.775 | K23: =K22-(($K$22-$K$18)/7) -> 21.772746 | L23: =L22+250 -> 5750 | M23: =(((L23/($D$5*$D$7*$D$13)*$B$32)) /(60))*2.24*0.44704 -> 6.1619795 | N23: =(((L23/($D$5*$D$9*$D$13)*$B$32)) /(60))*2.24*0.44704 -> 9.0288464 | O23: =(((L23/($D$5*$D$11*$D$13)*$B$32)) /(60))*2.24*0.44704 -> 11.776756 | P23: =M23*2.237 -> 13.784348 | Q23: =N23*2.237 -> 20.197529 | R23: =O23*2.237 -> 26.344603 | S23: =(($H23*0.746)*1000)/M23 -> 1906.7736 | T23: =(($H23*0.746)*1000)/N23 -> 1301.329 | U23: =(($H23*0.746)*1000)/O23 -> 997.6856
H24: =H23+0.75 -> 16.5 | J24: =H24*0.7457*1000 -> 12304.05 | K24: =K23-(($K$22-$K$18)/7) -> 21.545491 | L24: =L23+250 -> 6000 | M24: =(((L24/($D$5*$D$7*$D$13)*$B$32)) /(60))*2.24*0.44704 -> 6.4298916 | N24: =(((L24/($D$5*$D$9*$D$13)*$B$32)) /(60))*2.24*0.44704 -> 9.4214049 | O24: =(((L24/($D$5*$D$11*$D$13)*$B$32)) /(60))*2.24*0.44704 -> 12.288789 | P24: =M24*2.237 -> 14.383668 | Q24: =N24*2.237 -> 21.075683 | R24: =O24*2.237 -> 27.490021 | S24: =(($H24*0.746)*1000)/M24 -> 1914.3402 | T24: =(($H24*0.746)*1000)/N24 -> 1306.493 | U24: =(($H24*0.746)*1000)/O24 -> 1001.6447
B25: Gear | C25: Sprocket Rotation | D25: Distance (m) | H25: =H24+0.75 -> 17.25 | J25: =H25*0.7457*1000 -> 12863.325 | K25: =K24-(($K$22-$K$18)/7) -> 21.318237 | L25: =L24+250 -> 6250 | M25: =(((L25/($D$5*$D$7*$D$13)*$B$32)) /(60))*2.24*0.44704 -> 6.6978038 | N25: =(((L25/($D$5*$D$9*$D$13)*$B$32)) /(60))*2.24*0.44704 -> 9.8139634 | O25: =(((L25/($D$5*$D$11*$D$13)*$B$32)) /(60))*2.24*0.44704 -> 12.800822 | P25: =M25*2.237 -> 14.982987 | Q25: =N25*2.237 -> 21.953836 | R25: =O25*2.237 -> 28.635439 | S25: =(($H25*0.746)*1000)/M25 -> 1921.3014 | T25: =(($H25*0.746)*1000)/N25 -> 1311.2439 | U25: =(($H25*0.746)*1000)/O25 -> 1005.287
H26: =H25+0.75 -> 18 | J26: =H26*0.7457*1000 -> 13422.6 | K26: =K25-(($K$22-$K$18)/7) -> 21.090983 | L26: =L25+250 -> 6500 | M26: =(((L26/($D$5*$D$7*$D$13)*$B$32)) /(60))*2.24*0.44704 -> 6.9657159 | N26: =(((L26/($D$5*$D$9*$D$13)*$B$32)) /(60))*2.24*0.44704 -> 10.206522 | O26: =(((L26/($D$5*$D$11*$D$13)*$B$32)) /(60))*2.24*0.44704 -> 13.312855 | P26: =M26*2.237 -> 15.582307 | Q26: =N26*2.237 -> 22.83199 | R26: =O26*2.237 -> 29.780856 | S26: =(($H26*0.746)*1000)/M26 -> 1927.7272 | T26: =(($H26*0.746)*1000)/N26 -> 1315.6294 | U26: =(($H26*0.746)*1000)/O26 -> 1008.6492
B27: 1 | C27: 1 | D27: =B22/D7 -> 0.21104549 | H27: =H26-0.25 -> 17.75 | J27: =H27*0.7457*1000 -> 13236.175 | K27: =K26-(($K$22-$K$18)/7) -> 20.863729 | L27: =L26+250 -> 6750 | M27: =(((L27/($D$5*$D$7*$D$13)*$B$32)) /(60))*2.24*0.44704 -> 7.2336281 | N27: =(((L27/($D$5*$D$9*$D$13)*$B$32)) /(60))*2.24*0.44704 -> 10.599081 | O27: =(((L27/($D$5*$D$11*$D$13)*$B$32)) /(60))*2.24*0.44704 -> 13.824888 | P27: =M27*2.237 -> 16.181626 | Q27: =N27*2.237 -> 23.710143 | R27: =O27*2.237 -> 30.926274 | S27: =(($H27*0.746)*1000)/M27 -> 1830.5475 | T27: =(($H27*0.746)*1000)/N27 -> 1249.3065 | U27: =(($H27*0.746)*1000)/O27 -> 957.80164
B28: 2 | C28: 1 | D28: =B22/D9 -> 0.30923461 | H28: =H27-0.25 -> 17.5 | J28: =H28*0.7457*1000 -> 13049.75 | K28: =K27-(($K$22-$K$18)/7) -> 20.636474 | L28: =L27+250 -> 7000 | M28: =(((L28/($D$5*$D$7*$D$13)*$B$32)) /(60))*2.24*0.44704 -> 7.5015402 | N28: =(((L28/($D$5*$D$9*$D$13)*$B$32)) /(60))*2.24*0.44704 -> 10.991639 | O28: =(((L28/($D$5*$D$11*$D$13)*$B$32)) /(60))*2.24*0.44704 -> 14.336921 | P28: =M28*2.237 -> 16.780945 | Q28: =N28*2.237 -> 24.588297 | R28: =O28*2.237 -> 32.071691 | S28: =(($H28*0.746)*1000)/M28 -> 1740.3093 | T28: =(($H28*0.746)*1000)/N28 -> 1187.721 | U28: =(($H28*0.746)*1000)/O28 -> 910.58606
B29: 3 | C29: 1 | D29: =B22/D11 -> 0.40334949
B30: φ
B32: =2*PI()*0.31 -> 1.9477874

Sheet BSFC 
B2: Brake Specific Fuel Consumption (g/Kwh)
B4: Torque (Nm)
B5: 22 | X5: 496.03879
B6: 21 | V6: 509.99897 | W6: 502.51705 | X6: 472.37705 | Y6: 498.27743
B7: 20 | T7: 522.08097 | U7: 514.46309 | V7: 500.44924 | W7: 492.96732 | X7: 448.7153 | Y7: 474.61568 | Z7: 508.57866
B8: 19 | S8: 529.92054 | T8: 516.53054 | U8: 508.91266 | V8: 480.16307 | W8: 472.68115 | X8: 425.05355 | Y8: 450.95393 | Z8: 495.50618 | AA8: 525.75213 | AB8: 546.9084
B9: 18 | P9: 534.16371 | Q9: 533.79035 | R9: 532.62719 | S9: 520.1372 | T9: 506.7472 | U9: 499.12932 | V9: 463.08194 | W9: 455.60002 | X9: 401.3918 | Y9: 427.29218 | Z9: 477.05146 | AA9: 507.29741 | AB9: 533.40609 | AC9: 552.97609
B10: 17 | O10: 547.86457 | P10: 537.98996 | Q10: 536.77301 | R10: 527.23521 | S10: 504.39229 | T10: 491.00229 | U10: 483.38441 | V10: 429.55354 | W10: 422.07162 | X10: 389.56092 | Y10: 415.4613 | Z10: 437.82468 | AA10: 468.07063 | AB10: 525.45421 | AC10: 545.02421 | AD10: 586.83989
B11: 16 | M11: 549.63108 | N11: 549.78649 | O11: 551.69082 | P11: 541.81621 | Q11: 539.75566 | R11: 530.21786 | S11: 494.76703 | T11: 481.37703 | U11: 473.75915 | V11: 399.62575 | W11: 392.14383 | X11: 377.73005 | Y11: 403.63043 | Z11: 398.59789 | AA11: 428.84384 | AB11: 520.59525 | AC11: 540.16525 | AD11: 575.17293
B12: 15 | L12: 559.46562 | M12: 553.87066 | N12: 549.01925 | O12: 542.00391 | P12: 532.1293 | Q12: 542.73832 | R12: 533.20052 | S12: 489.64074 | T12: 476.25074 | U12: 468.63286 | V12: 378.56401 | W12: 371.08209 | X12: 352.04529 | Y12: 377.94567 | Z12: 363.14746 | AA12: 393.39341 | AB12: 477.50932 | AC12: 497.07932 | AD12: 523.03139
B13: 14 | K13: 586.92964 | L13: 563.7052 | M13: 558.11024 | N13: 553.2182 | O13: 532.31701 | P13: 522.4424 | Q13: 523.48964 | R13: 513.95184 | S13: 453.32763 | T13: 439.93763 | U13: 432.31975 | V13: 357.50228 | W13: 350.02036 | X13: 330.40655 | Y13: 356.30693 | Z13: 356.11311 | AA13: 386.35906 | AB13: 462.69883 | AC13: 482.26883 | AD13: 515.36511
B14: 13 | J14: 624.12854 | K14: 606.37917 | L14: 583.15473 | M14: 577.55977 | N14: 557.41716 | O14: 522.63011 | P14: 512.7555 | Q14: 504.24096 | R14: 494.70316 | S14: 428.81673 | T14: 415.42673 | U14: 407.80885 | V14: 336.44054 | W14: 328.95862 | X14: 306.7448 | Y14: 332.64518 | Z14: 350.80252 | AA14: 381.04847 | AB14: 488.57748 | AC14: 508.14748 | AD14: 563.87428
B15: 12 | I15: 625.161 | J15: 640.92 | K15: 625.82871 | L15: 602.60427 | M15: 597.00931 | N15: 564.28854 | O15: 541.29974 | P15: 531.42513 | Q15: 507.5996 | R15: 498.0618 | S15: 478.08848 | T15: 464.69848 | U15: 457.0806 | V15: 317.08879 | W15: 309.60687 | X15: 331.29035 | Y15: 357.19073 | Z15: 345.49192 | AA15: 375.73787 | AB15: 514.45613 | AC15: 534.02613 | AD15: 580.24525
B16: 11 | I16: 636.49359 | J16: 652.25259 | K16: 646.56496 | L16: 623.34052 | M16: 617.74556 | N16: 594.28174 | O16: 561.39903 | P16: 551.52442 | Q16: 520.89518 | R16: 511.35738 | S16: 484.58034 | T16: 471.19034 | U16: 463.57246 | V16: 380.75522 | W16: 373.2733 | X16: 372.15392 | Y16: 398.0543 | Z16: 340.18132 | AA16: 370.42727 | AB16: 540.33478 | AC16: 559.90478 | AD16: 585.73754
B17: 10 | H17: 650.46973 | I17: 645.44717 | J17: 661.20617 | K17: 667.3012 | L17: 644.07676 | M17: 638.4818 | N17: 626.94736 | O17: 575.3592 | P17: 565.48459 | Q17: 547.17679 | R17: 537.63899 | S17: 523.1834 | T17: 509.7934 | U17: 502.17552 | V17: 404.28537 | W17: 396.80345 | X17: 389.64619 | Y17: 415.54657 | Z17: 334.87072 | AA17: 365.11667 | AB17: 546.94344 | AC17: 566.51344 | AD17: 581.11737
B18: 9 | H18: 664.66662 | I18: 656.34246 | J18: 672.10146 | K18: 679.28752 | L18: 656.06308 | M18: 650.46812 | N18: 640.02471 | O18: 633.86094 | P18: 623.98633 | Q18: 587.94434 | R18: 578.40654 | S18: 546.21675 | T18: 532.82675 | U18: 525.20887 | V18: 427.81552 | W18: 420.3336 | X18: 434.85323 | Y18: 460.75361 | Z18: 454.36384 | AA18: 484.60979 | AB18: 553.5521 | AC18: 573.1221 | AD18: 599.62192
B19: 8 | G19: 703.27451 | H19: 678.86351 | I19: 687.63605 | J19: 703.39505 | K19: 703.23467 | L19: 680.01023 | M19: 674.41527 | N19: 656.62541 | O19: 643.1152 | P19: 633.24059 | Q19: 591.45846 | R19: 581.92066 | S19: 543.99073 | T19: 530.60073 | U19: 522.98285 | V19: 451.34568 | W19: 443.86376 | X19: 466.20289 | Y19: 492.10327 | Z19: 535.68139 | AA19: 565.92734 | AB19: 610.54213 | AC19: 630.11213 | AD19: 681.81471
B20: 7 | G20: 717.47141 | H20: 693.06041 | I20: 730.10526 | J20: 745.86426 | K20: 740.94876 | L20: 717.72432 | M20: 712.12936 | N20: 679.85711 | O20: 677.49863 | P20: 667.62402 | Q20: 641.9852 | R20: 632.4474 | S20: 582.72566 | T20: 569.33566 | U20: 561.71778 | V20: 497.72074 | W20: 490.23882 | X20: 503.79912 | Y20: 529.6995 | Z20: 584.57471 | AA20: 614.82066 | AB20: 646.12469 | AC20: 665.69469 | AD20: 720.49175
B21: 6 | F21: 664.33646 | G21: 723.20955 | H21: 735.65109 | I21: 773.42478 | J21: 789.18378 | K21: 765.17349 | L21: 741.94905 | M21: 736.35409 | N21: 689.65923 | O21: 711.88205 | P21: 702.00744 | Q21: 664.57682 | R21: 655.03902 | S21: 621.4606 | T21: 608.0706 | U21: 600.45272 | V21: 544.09581 | W21: 536.61389 | X21: 529.73384 | Y21: 555.63422 | Z21: 637.48134 | AA21: 667.72729 | AB21: 656.24442 | AC21: 675.81442 | AD21: 734.33045
B22: 5 | E22: 751.52792 | F22: 737.51992 | G22: 773.46161 | H22: 749.05061 | I22: 792.87932 | J22: 808.63832 | K22: 811.37725 | L22: 788.15281 | M22: 782.55785 | N22: 767.6673 | O22: 757.05639 | P22: 747.18178 | Q22: 716.35904 | R22: 706.82124 | S22: 686.13932 | T22: 672.74932 | U22: 665.13144 | V22: 638.6774 | W22: 631.19548 | X22: 619.87227 | Y22: 645.77265 | Z22: 679.12827 | AA22: 709.37422 | AB22: 736.32698 | AC22: 755.89698 | AD22: 794.89722
B23: 4 | D23: 726.48135 | E23: 786.31156 | F23: 772.30356 | G23: 794.69155 | H23: 770.28055 | I23: 824.26636 | J23: 840.02536 | K23: 865.85024 | L23: 842.6258 | M23: 837.03084 | N23: 821.12039 | O23: 788.04163 | P23: 778.16702 | Q23: 768.14126 | R23: 758.60346 | S23: 750.81804 | T23: 737.42804 | U23: 729.81016 | V23: 716.25261 | W23: 708.77069 | X23: 710.01071 | Y23: 735.91109 | Z23: 753.64327 | AA23: 783.88922 | AB23: 799.26302 | AC23: 818.83302 | AD23: 843.55797
B24: 3 | D24: 942.16883 | E24: 940.39208 | F24: 926.38408 | G24: 935.27443 | H24: 910.86343 | I24: 854.67848 | J24: 870.43748 | K24: 920.32323 | L24: 897.09879 | M24: 891.50383 | N24: 874.57348 | O24: 828.53922 | P24: 818.66461 | Q24: 819.92348 | R24: 810.38568 | S24: 815.49676 | T24: 802.10676 | U24: 794.48888 | V24: 793.82783 | W24: 786.34591 | X24: 785.5489 | Y24: 811.44928 | Z24: 828.15827 | AA24: 858.40422 | AB24: 846.27984 | AC24: 865.84984 | AD24: 880.72661
B25: 2 | D25: 1177.5763 | E25: 1094.4726 | F25: 1080.4646 | G25: 1015.764 | H25: 991.35299 | I25: 959.35799 | J25: 975.11699 | K25: 974.79623 | L25: 951.57179 | M25: 945.97683 | N25: 928.02658 | O25: 914.35598 | P25: 904.48137 | Q25: 927.16952 | R25: 917.63172 | S25: 912.17351 | T25: 898.78351 | U25: 891.16563 | V25: 879.9353 | W25: 872.45338 | X25: 861.08709 | Y25: 886.98747 | Z25: 880.40511 | AA25: 910.65106 | AB25: 893.29667 | AC25: 912.86667 | AD25: 910.47254
B26: 1 | D26: 1315.8203 | E26: 1248.5531 | F26: 1234.5451 | G26: 1182.6964 | H26: 1158.2854 | I26: 1064.0375 | J26: 1079.7965 | K26: 1087.4097 | L26: 1064.1853 | M26: 1058.5903 | N26: 1048.5741 | O26: 1042.8375 | P26: 1032.9629 | Q26: 1034.4156 | R26: 1024.8778 | S26: 1008.8503 | T26: 995.46027 | U26: 987.84239 | V26: 966.04277 | W26: 958.56085 | X26: 936.62528 | Y26: 962.52566 | Z26: 932.65194 | AA26: 962.89789 | AB26: 924.3943 | AC26: 943.9643 | AD26: 918.99285
B27: 0.5 | D27: 1607.8371 | E27: 1533.605 | F27: 1519.597 | G27: 1455.768 | H27: 1431.357 | I27: 1327.358 | J27: 1343.117 | K27: 1278.1014 | L27: 1254.877 | M27: 1249.282 | N27: 1207.1283 | O27: 1169.2543 | P27: 1159.3797 | Q27: 1121.1688 | R27: 1111.631 | S27: 1084.7622 | T27: 1071.3722 | U27: 1063.7543 | V27: 1031.3854 | W27: 1023.9035 | X27: 991.39867 | Y27: 1017.2991 | Z27: 984.89877 | AA27: 1015.1447 | AB27: 955.49192 | AC27: 975.06192 | AD27: 941.35637
D28: 500 | E28: 750 | F28: 1000 | G28: 1250 | H28: 1500 | I28: 1750 | J28: 2000 | K28: 2250 | L28: 2500 | M28: 2750 | N28: 3000 | O28: 3250 | P28: 3500 | Q28: 3750 | R28: 4000 | S28: 4250 | T28: 4500 | U28: 4750 | V28: 5000 | W28: 5250 | X28: 5500 | Y28: 5750 | Z28: 6000 | AA28: 6250 | AB28: 6500 | AC28: 6750 | AD28: 7000 | AE28: Engine RPM
B30: 0.5
B31: 1
B32: =B31+1 -> 2
B33: =B32+1 -> 3
B34: =B33+1 -> 4
B35: =B34+1 -> 5
B36: =B35+1 -> 6
B37: =B36+1 -> 7
B38: =B37+1 -> 8
B39: =B38+1 -> 9
B40: =B39+1 -> 10
B41: =B40+1 -> 11
B42: =B41+1 -> 12
B43: =B42+1 -> 13
... B52: =B51+1 -> 22

Sheet Track 
B2: Circuit Details
B4: Track | E4: Willow Springs
B5: Location | E5: U.S.A
B6: Track Length (m) | E6: =ROUND(SUM(F11:G33),0) -> 1633
B7: Sectors
B9: Sector | D9: Surface Type | F9: Distance m
B11: S1 | D11: Tarmac | F11: 129.47
B12: T1 | D12: Tarmac | F12: 71.34
B13: S2 | D13: Tarmac | F13: 66.5 | H13: =F11 -> 129.47
B14: T2 | D14: Tarmac | F14: 115.84 | H14: =F12+H13 -> 200.81
B15: S3 | D15: Gravel | F15: 60.89 | H15: =F13+H14 -> 267.31
B16: T3 | D16: Gravel | F16: 96.26 | H16: =F14+H15 -> 383.15
B17: S4 | D17: Gravel | F17: 96.12 | H17: =F15+H16 -> 444.04
B18: T4 | D18: Gravel | F18: 80.11 | H18: =F16+H17 -> 540.3
B19: S5 | D19: Mud | F19: 77.4 | H19: =F17+H18 -> 636.42
B20: T5 | D20: Mud | F20: 89.47 | H20: =F18+H19 -> 716.53
B21: S6 | D21: Mud | F21: 37.41 | H21: =F19+H20 -> 793.93
B22: T6 | D22: Mud | F22: 56.86 | H22: =F20+H21 -> 883.4
B23: S7 | D23: Tarmac | F23: 73.52 | H23: =F21+H22 -> 920.81
B24: T7 | D24: Tarmac | F24: 77.14 | H24: =F22+H23 -> 977.67
B25: S8 | D25: Tarmac | F25: 61.27 | H25: =F23+H24 -> 1051.19
... B33: T10C | D33: Mud | F33: 42.77 | H33: =F31+H32 -> 1532.14
B34: Corners | H34: =F32+H33 -> 1590.48
H35: =F33+H34 -> 1633.25
B36: Corner | D36: Radius | F36: Max Velocity (m/s)
B38: T1 | D38: 22.94 | F38: =SQRT(D38*0.7*9.81) -> 12.551055
B39: T2 | D39: 158.5 | F39: =SQRT(D39*0.7*9.81) -> 32.991203
B40: T3 | D40: 31.72 | F40: =SQRT(D40*0.7*9.81) -> 14.758768
B41: T4 | D41: 24.41 | F41: =SQRT(D41*0.7*9.81) -> 12.946948
B42: T5 | D42: 23.88 | F42: =SQRT(D42*0.7*9.81) -> 12.805622
B43: T6 | D43: 18.89 | F43: =SQRT(D43*0.7*9.81) -> 11.389365
B44: T7 | D44: 53.94 | F44: =SQRT(D44*0.7*9.81) -> 19.245934
B45: T8A | D45: 37.54 | F45: =SQRT(D45*0.7*9.81) -> 16.055752
B46: T8B | D46: 78.11 | F46: =SQRT(D46*0.7*9.81) -> 23.159909
B47: T9 | D47: 103.95 | F47: =SQRT(D47*0.7*9.81) -> 26.717497
B48: T10A | D48: 34.14 | F48: =SQRT(D48*0.7*9.81) -> 15.311413
B49: T10B | D49: 34.45 | F49: =SQRT(D49*0.7*9.81) -> 15.380772
B50: T10C | D50: 47.65 | F50: =SQRT(D50*0.7*9.81) -> 18.089017
B51: Additional Information
B53: RR Coeficient Tarmac | F53: 0.02
B54: RR Coeficient Gravel | F54: 0.04
B55: RR Coeficient Mud | F55: 0.06
B56: Gravity (m/s²) | F56: 9.81
B57: Air Density (Kg/m³) | F57: 1.167
B60: Tarmac
B61: Gravel
B62: Mud

Sheet Duty Cycle 
A2: Fuel / Lap (g) | B2: Time (s) | C2: Sector | D2: Total Distance (m) | E2: Δ Distance (m) | F2: Surface Type | G2: Elavation (m) | H2: Δ Elevation (m) | I2: Gradient (°) | J2: Gear | K2: RPM | L2: Velocity (m/s) | M2: Velocity (mph) | N2: Acceleration (m/s²) | O2: Acceleration Force (N) | P2: RR Coeficient | Q2: Rolling Drag (N) | R2: Aero Drag (N) | S2: Forces due to Incline (N) | T2: Total Resistive Forces (N) | U2: Resistive Power (KW) | V2: Remaining Power Available (KW) | W2: Power Required per Second (KW) | X2: Torque (Nm) | Y2: Torque (Nm) | Z2: Workdone (J) | AA2: Total Work Done (J) | AB2: Fuel Consumption (g/KWh) | AC2: Fuel Consumption (g/s) | AD2: Total Fuel Consumption (g) | AE2: CO2 Production (g/s) | AF2: Kinetic Energy (KJ) | AG2: Total Energy (KJ)
B3: 0 | C3: S1 | D3: 0 | E3: 0 | F3: Tarmac | G3: 10 | H3: 0 | I3: 0 | J3: 1 | K3: 750 | L3: 0 | M3: =L3*2.237 -> 0 | N3: 0 | O3: =IF(J3=1,'Gearing '!$C$17*'Duty Cycle '!N3,IF(J3=2,'Gearing '!$C$18*'Duty Cycle '!N3,IF(J3=3,'Gearing '!$C$19*'Duty Cycle '!N3))) -> 0 | P3: 0 | Q3: 0 | R3: 0 | S3: 0 | T3: =SUM(Q3:S3)+O3 -> 0 | U3: =T3*L3/1000 -> 0 | V3: ='Vehicle '!$F$9-'Duty Cycle '!U3 -> 13.422819 | W3: =U3 -> 0 | X3: =ABS((W3*1000)/((2*PI()*K3)/60)) -> 0 | Y3: =ROUNDUP(X3,0) -> 0 | Z3: =T3*D3 -> 0 | AA3: 0 | AB3: 0 | AC3: =U3*AB3/3600 -> 0 | AD3: 0 | AE3: 0 | AF3: =0.5*'Vehicle '!$F$38*'Duty Cycle '!L3^2/1000 -> 0 | AG3: =Z3+AF3 -> 0 | AN3: 1
A4: =SUM(AC3:AC153) -> 104.32647 | B4: =B3+1 -> 1 | C4: S1 | D4: =SUM($L$3:L4) -> 0.80373645 | E4: =D4-D3 -> 0.80373645 | F4: Tarmac | G4: 10.02 | H4: =G4-G3 -> 0.02 | I4: =DEGREES(ATAN(H4/E4)) -> 1.4254413 | J4: 1 | K4: 750 | L4: =IF(J4=1,VLOOKUP('Duty Cycle '!K4,'Gearing '!$L$3:$O$28,2),IF(J4=2,VLOOKUP('Duty Cycle '!K4,'Gearing '!$L$2:$O$28,3),IF(J4=3,VLOOKUP('Duty Cycle '!K4,'Gearing '!$L$2:$O$28,4)))) -> 0.80373645 | M4: =L4*2.237 -> 1.7979584 | N4: =L4-L3 -> 0.80373645 | O4: =IF(J4=1,'Gearing '!$C$17*'Duty Cycle '!N4,IF(J4=2,'Gearing '!$C$18*'Duty Cycle '!N4,IF(J4=3,'Gearing '!$C$19*'Duty Cycle '!N4))) -> 491.74804 | P4: =IF(F4='Track '!$B$60,'Track '!$F$53,IF(F4='Track '!$B$61,'Track '!$F$54,IF(F4='Track '!$B$62,'Track '!$F$55))) -> 0.02 | Q4: =P4*'Vehicle '!$F$38*9.81 -> 114.63966 | R4: =0.5*'Vehicle '!$F$51*'Vehicle '!$F$25*'Track '!$F$57*'Duty Cycle '!L4^2 -> 0.24685006 | S4: ='Vehicle '!$F$38*9.81*SIN(RADIANS('Duty Cycle '!I4)) -> 142.58926 | T4: =SUM(Q4:S4)+O4 -> 749.2238 | U4: =ABS(((+T4)*(+L4)/1000)) -> 0.60217848 | V4: ='Vehicle '!$F$9-'Duty Cycle '!U4 -> 12.82064 | W4: =U4 -> 0.60217848 | X4: =ABS((W4*1000)/((2*PI()*K4)/60)) -> 7.6671746 | Y4: =MIN(22,ROUNDUP(X4,0)) -> 8 | Z4: =T4*D4 -> 602.17848 | AA4: =SUM(AA3,Z4) -> 602.17848 | AB4: =INDEX('BSFC '!$D$5:$AD$27,MATCH('Duty Cycle '!Y4,'BSFC '!$B$5:$B$27,0),MATCH('Duty Cycle '!K4,'BSFC '!$D$28:$AD$28,0)) -> 0 | AC4: =U4*AB4/3600 -> 0 | AD4: =AD3+AC4 -> 0 | AE4: =AC4*3.09*1000 -> 0 | AF4: =0.5*'Vehicle '!$F$38*'Duty Cycle '!L4^2/1000 -> 0.18872665 | AG4: =Z4+AF4 -> 602.36721 | AN4: 2
B5: =B4+1 -> 2 | C5: S1 | D5: =SUM($L$3:L5) -> 2.1432972 | E5: =D5-D4 -> 1.3395608 | F5: Tarmac | G5: 10.04 | H5: =G5-G4 -> 0.02 | I5: =DEGREES(ATAN(H5/E5)) -> 0.85537774 | J5: 1 | K5: 1250 | L5: =IF(J5=1,VLOOKUP('Duty Cycle '!K5,'Gearing '!$L$3:$O$28,2),IF(J5=2,VLOOKUP('Duty Cycle '!K5,'Gearing '!$L$2:$O$28,3),IF(J5=3,VLOOKUP('Duty Cycle '!K5,'Gearing '!$L$2:$O$28,4)))) -> 1.3395608 | M5: =L5*2.237 -> 2.9965974 | N5: =L5-L4 -> 0.5358243 | O5: =IF(J5=1,'Gearing '!$C$17*'Duty Cycle '!N5,IF(J5=2,'Gearing '!$C$18*'Duty Cycle '!N5,IF(J5=3,'Gearing '!$C$19*'Duty Cycle '!N5))) -> 327.83202 | P5: =IF(F5='Track '!$B$60,'Track '!$F$53,IF(F5='Track '!$B$61,'Track '!$F$54,IF(F5='Track '!$B$62,'Track '!$F$55))) -> 0.02 | Q5: =P5*'Vehicle '!$F$38*9.81 -> 114.63966 | R5: =0.5*'Vehicle '!$F$51*'Vehicle '!$F$25*'Track '!$F$57*'Duty Cycle '!L5^2 -> 0.68569461 | S5: ='Vehicle '!$F$38*9.81*SIN(RADIANS('Duty Cycle '!I5)) -> 85.570501 | T5: =SUM(Q5:S5)+O5 -> 528.72788 | U5: =ABS(((+T5)*(+L5)/1000)) -> 0.70826312 | V5: ='Vehicle '!$F$9-'Duty Cycle '!U5 -> 12.714556 | W5: =U5 -> 0.70826312 | X5: =ABS((W5*1000)/((2*PI()*K5)/60)) -> 5.4107317 | Y5: =MIN(22,ROUNDUP(X5,0)) -> 6 | Z5: =T5*D5 -> 1133.221 | AA5: =SUM(AA4,Z5) -> 1735.3995 | AB5: =INDEX('BSFC '!$D$5:$AD$27,MATCH('Duty Cycle '!Y5,'BSFC '!$B$5:$B$27,0),MATCH('Duty Cycle '!K5,'BSFC '!$D$28:$AD$28,0)) -> 723.20955 | AC5: =U5*AB5/3600 -> 0.14228407 | AD5: =AD4+AC5 -> 0.14228407 | AE5: =AC5*3.09 -> 0.43965778 | AF5: =0.5*'Vehicle '!$F$38*'Duty Cycle '!L5^2/1000 -> 0.52424068 | AG5: =Z5+AF5 -> 1133.7452 | AN5: 3
A6: Fuel / Lap (Kg) | B6: =B5+1 -> 3 | C6: S1 | D6: =SUM($L$3:L6) -> 4.0186823 | E6: =D6-D5 -> 1.8753851 | F6: Tarmac | G6: 10.08 | H6: =G6-G5 -> 0.04 | I6: =DEGREES(ATAN(H6/E6)) -> 1.2218737 | J6: 1 | K6: 1750 | L6: =IF(J6=1,VLOOKUP('Duty Cycle '!K6,'Gearing '!$L$3:$O$28,2),IF(J6=2,VLOOKUP('Duty Cycle '!K6,'Gearing '!$L$2:$O$28,3),IF(J6=3,VLOOKUP('Duty Cycle '!K6,'Gearing '!$L$2:$O$28,4)))) -> 1.8753851 | M6: =L6*2.237 -> 4.1952364 | N6: =L6-L5 -> 0.5358243 | O6: =IF(J6=1,'Gearing '!$C$17*'Duty Cycle '!N6,IF(J6=2,'Gearing '!$C$18*'Duty Cycle '!N6,IF(J6=3,'Gearing '!$C$19*'Duty Cycle '!N6))) -> 327.83202 | P6: =IF(F6='Track '!$B$60,'Track '!$F$53,IF(F6='Track '!$B$61,'Track '!$F$54,IF(F6='Track '!$B$62,'Track '!$F$55))) -> 0.02 | Q6: =P6*'Vehicle '!$F$38*9.81 -> 114.63966 | R6: =0.5*'Vehicle '!$F$51*'Vehicle '!$F$25*'Track '!$F$57*'Duty Cycle '!L6^2 -> 1.3439614 | S6: ='Vehicle '!$F$38*9.81*SIN(RADIANS('Duty Cycle '!I6)) -> 122.2294 | T6: =SUM(Q6:S6)+O6 -> 566.04504 | U6: =ABS(((+T6)*(+L6)/1000)) -> 1.0615524 | V6: ='Vehicle '!$F$9-'Duty Cycle '!U6 -> 12.361266 | W6: =U6 -> 1.0615524 | X6: =ABS((W6*1000)/((2*PI()*K6)/60)) -> 5.7926165 | Y6: =MIN(22,ROUNDUP(X6,0)) -> 6 | Z6: =T6*D6 -> 2274.7552 | AA6: =SUM(AA5,Z6) -> 4010.1546 | AB6: =INDEX('BSFC '!$D$5:$AD$27,MATCH('Duty Cycle '!Y6,'BSFC '!$B$5:$B$27,0),MATCH('Duty Cycle '!K6,'BSFC '!$D$28:$AD$28,0)) -> 773.42478 | AC6: =U6*AB6/3600 -> 0.22806415 | AD6: =AD5+AC6 -> 0.37034822 | AE6: =AC6*3.09 -> 0.70471823 | AF6: =0.5*'Vehicle '!$F$38*'Duty Cycle '!L6^2/1000 -> 1.0275117 | AG6: =Z6+AF6 -> 2275.7827
B7: =B6+1 -> 4 | C7: S1 | D7: =SUM($L$3:L7) -> 6.6978038 | E7: =D7-D6 -> 2.6791215 | F7: Tarmac | G7: 10.15 | H7: =G7-G6 -> 0.07 | I7: =DEGREES(ATAN(H7/E7)) -> 1.4966818 | J7: 1 | K7: 2500 | L7: =IF(J7=1,VLOOKUP('Duty Cycle '!K7,'Gearing '!$L$3:$O$28,2),IF(J7=2,VLOOKUP('Duty Cycle '!K7,'Gearing '!$L$2:$O$28,3),IF(J7=3,VLOOKUP('Duty Cycle '!K7,'Gearing '!$L$2:$O$28,4)))) -> 2.6791215 | M7: =L7*2.237 -> 5.9931948 | N7: =L7-L6 -> 0.80373645 | O7: =IF(J7=1,'Gearing '!$C$17*'Duty Cycle '!N7,IF(J7=2,'Gearing '!$C$18*'Duty Cycle '!N7,IF(J7=3,'Gearing '!$C$19*'Duty Cycle '!N7))) -> 491.74804 | P7: =IF(F7='Track '!$B$60,'Track '!$F$53,IF(F7='Track '!$B$61,'Track '!$F$54,IF(F7='Track '!$B$62,'Track '!$F$55))) -> 0.02 | Q7: =P7*'Vehicle '!$F$38*9.81 -> 114.63966 | R7: =0.5*'Vehicle '!$F$51*'Vehicle '!$F$25*'Track '!$F$57*'Duty Cycle '!L7^2 -> 2.7427784 | S7: ='Vehicle '!$F$38*9.81*SIN(RADIANS('Duty Cycle '!I7)) -> 149.71397 | T7: =SUM(Q7:S7)+O7 -> 758.84445 | U7: =ABS(((+T7)*(+L7)/1000)) -> 2.0330365 | V7: ='Vehicle '!$F$9-'Duty Cycle '!U7 -> 11.389782 | W7: =U7 -> 2.0330365 | X7: =ABS((W7*1000)/((2*PI()*K7)/60)) -> 7.7656273 | Y7: =MIN(22,ROUNDUP(X7,0)) -> 8 | Z7: =T7*D7 -> 5082.5912 | AA7: =SUM(AA6,Z7) -> 9092.7459 | AB7: =INDEX('BSFC '!$D$5:$AD$27,MATCH('Duty Cycle '!Y7,'BSFC '!$B$5:$B$27,0),MATCH('Duty Cycle '!K7,'BSFC '!$D$28:$AD$28,0)) -> 680.01023 | AC7: =U7*AB7/3600 -> 0.38402378 | AD7: =AD6+AC7 -> 0.754372 | AE7: =AC7*3.09 -> 1.1866335 | AF7: =0.5*'Vehicle '!$F$38*'Duty Cycle '!L7^2/1000 -> 2.0969627 | AG7: =Z7+AF7 -> 5084.6882
A8: =A4/1000 -> 0.10432647 | B8: =B7+1 -> 5 | C8: S1 | D8: =SUM($L$3:L8) -> 10.180662 | E8: =D8-D7 -> 3.482858 | F8: Tarmac | G8: 10.4 | H8: =G8-G7 -> 0.25 | I8: =DEGREES(ATAN(H8/E8)) -> 4.1056569 | J8: 1 | K8: 3250 | L8: =IF(J8=1,VLOOKUP('Duty Cycle '!K8,'Gearing '!$L$3:$O$28,2),IF(J8=2,VLOOKUP('Duty Cycle '!K8,'Gearing '!$L$2:$O$28,3),IF(J8=3,VLOOKUP('Duty Cycle '!K8,'Gearing '!$L$2:$O$28,4)))) -> 3.482858 | M8: =L8*2.237 -> 7.7911533 | N8: =L8-L7 -> 0.80373645 | O8: =IF(J8=1,'Gearing '!$C$17*'Duty Cycle '!N8,IF(J8=2,'Gearing '!$C$18*'Duty Cycle '!N8,IF(J8=3,'Gearing '!$C$19*'Duty Cycle '!N8))) -> 491.74804 | P8: =IF(F8='Track '!$B$60,'Track '!$F$53,IF(F8='Track '!$B$61,'Track '!$F$54,IF(F8='Track '!$B$62,'Track '!$F$55))) -> 0.02 | Q8: =P8*'Vehicle '!$F$38*9.81 -> 114.63966 | R8: =0.5*'Vehicle '!$F$51*'Vehicle '!$F$25*'Track '!$F$57*'Duty Cycle '!L8^2 -> 4.6352956 | S8: ='Vehicle '!$F$38*9.81*SIN(RADIANS('Duty Cycle '!I8)) -> 410.38661 | T8: =SUM(Q8:S8)+O8 -> 1021.4096 | U8: =ABS(((+T8)*(+L8)/1000)) -> 3.5574246 | V8: ='Vehicle '!$F$9-'Duty Cycle '!U8 -> 9.8653942 | W8: =U8 -> 3.5574246 | X8: =ABS((W8*1000)/((2*PI()*K8)/60)) -> 10.452585 | Y8: =MIN(22,ROUNDUP(X8,0)) -> 11 | Z8: =T8*D8 -> 10398.626 | AA8: =SUM(AA7,Z8) -> 19491.372 | AB8: =INDEX('BSFC '!$D$5:$AD$27,MATCH('Duty Cycle '!Y8,'BSFC '!$B$5:$B$27,0),MATCH('Duty Cycle '!K8,'BSFC '!$D$28:$AD$28,0)) -> 561.39903 | AC8: =U8*AB8/3600 -> 0.55475964 | AD8: =AD7+AC8 -> 1.3091316 | AE8: =AC8*3.09 -> 1.7142073 | AF8: =0.5*'Vehicle '!$F$38*'Duty Cycle '!L8^2/1000 -> 3.543867 | AG8: =Z8+AF8 -> 10402.17
B9: =B8+1 -> 6 | C9: S1 | D9: =SUM($L$3:L9) -> 14.735168 | E9: =D9-D8 -> 4.5545066 | F9: Tarmac | G9: 10.8 | H9: =G9-G8 -> 0.4 | I9: =DEGREES(ATAN(H9/E9)) -> 5.0191295 | J9: 1 | K9: 4250 | L9: =IF(J9=1,VLOOKUP('Duty Cycle '!K9,'Gearing '!$L$3:$O$28,2),IF(J9=2,VLOOKUP('Duty Cycle '!K9,'Gearing '!$L$2:$O$28,3),IF(J9=3,VLOOKUP('Duty Cycle '!K9,'Gearing '!$L$2:$O$28,4)))) -> 4.5545066 | M9: =L9*2.237 -> 10.188431 | N9: =L9-L8 -> 1.0716486 | O9: =IF(J9=1,'Gearing '!$C$17*'Duty Cycle '!N9,IF(J9=2,'Gearing '!$C$18*'Duty Cycle '!N9,IF(J9=3,'Gearing '!$C$19*'Duty Cycle '!N9))) -> 655.66405 | P9: =IF(F9='Track '!$B$60,'Track '!$F$53,IF(F9='Track '!$B$61,'Track '!$F$54,IF(F9='Track '!$B$62,'Track '!$F$55))) -> 0.02 | Q9: =P9*'Vehicle '!$F$38*9.81 -> 114.63966 | R9: =0.5*'Vehicle '!$F$51*'Vehicle '!$F$25*'Track '!$F$57*'Duty Cycle '!L9^2 -> 7.9266297 | S9: ='Vehicle '!$F$38*9.81*SIN(RADIANS('Duty Cycle '!I9)) -> 501.48168 | T9: =SUM(Q9:S9)+O9 -> 1279.712 | U9: =ABS(((+T9)*(+L9)/1000)) -> 5.8284568 | V9: ='Vehicle '!$F$9-'Duty Cycle '!U9 -> 7.594362 | W9: =U9 -> 5.8284568 | X9: =ABS((W9*1000)/((2*PI()*K9)/60)) -> 13.095921 | Y9: =MIN(22,ROUNDUP(X9,0)) -> 14 | Z9: =T9*D9 -> 18856.772 | AA9: =SUM(AA8,Z9) -> 38348.143 | AB9: =INDEX('BSFC '!$D$5:$AD$27,MATCH('Duty Cycle '!Y9,'BSFC '!$B$5:$B$27,0),MATCH('Duty Cycle '!K9,'BSFC '!$D$28:$AD$28,0)) -> 453.32763 | AC9: =U9*AB9/3600 -> 0.73394457 | AD9: =AD8+AC9 -> 2.0430762 | AE9: =AC9*3.09 -> 2.2678887 | AF9: =0.5*'Vehicle '!$F$38*'Duty Cycle '!L9^2/1000 -> 6.0602223 | AG9: =Z9+AF9 -> 18862.832
A10: Fuel / Lap (L) | B10: =B9+1 -> 7 | C10: S1 | D10: =SUM($L$3:L10) -> 20.093411 | E10: =D10-D9 -> 5.358243 | F10: Tarmac | G10: 11.3 | H10: =G10-G9 -> 0.5 | I10: =DEGREES(ATAN(H10/E10)) -> 5.3310704 | J10: 1 | K10: 5000 | L10: =IF(J10=1,VLOOKUP('Duty Cycle '!K10,'Gearing '!$L$3:$O$28,2),IF(J10=2,VLOOKUP('Duty Cycle '!K10,'Gearing '!$L$2:$O$28,3),IF(J10=3,VLOOKUP('Duty Cycle '!K10,'Gearing '!$L$2:$O$28,4)))) -> 5.358243 | M10: =L10*2.237 -> 11.98639 | N10: =L10-L9 -> 0.80373645 | O10: =IF(J10=1,'Gearing '!$C$17*'Duty Cycle '!N10,IF(J10=2,'Gearing '!$C$18*'Duty Cycle '!N10,IF(J10=3,'Gearing '!$C$19*'Duty Cycle '!N10))) -> 491.74804 | P10: =IF(F10='Track '!$B$60,'Track '!$F$53,IF(F10='Track '!$B$61,'Track '!$F$54,IF(F10='Track '!$B$62,'Track '!$F$55))) -> 0.02 | Q10: =P10*'Vehicle '!$F$38*9.81 -> 114.63966 | R10: =0.5*'Vehicle '!$F$51*'Vehicle '!$F$25*'Track '!$F$57*'Duty Cycle '!L10^2 -> 10.971114 | S10: ='Vehicle '!$F$38*9.81*SIN(RADIANS('Duty Cycle '!I10)) -> 532.56161 | T10: =SUM(Q10:S10)+O10 -> 1149.9204 | U10: =ABS(((+T10)*(+L10)/1000)) -> 6.1615531 | V10: ='Vehicle '!$F$9-'Duty Cycle '!U10 -> 7.2612657 | W10: =U10 -> 6.1615531 | X10: =ABS((W10*1000)/((2*PI()*K10)/60)) -> 11.7677 | Y10: =MIN(22,ROUNDUP(X10,0)) -> 12 | Z10: =T10*D10 -> 23105.824 | AA10: =SUM(AA9,Z10) -> 61453.967 | AB10: =INDEX('BSFC '!$D$5:$AD$27,MATCH('Duty Cycle '!Y10,'BSFC '!$B$5:$B$27,0),MATCH('Duty Cycle '!K10,'BSFC '!$D$28:$AD$28,0)) -> 317.08879 | AC10: =U10*AB10/3600 -> 0.54271094 | AD10: =AD9+AC10 -> 2.5857872 | AE10: =AC10*3.09 -> 1.6769768 | AF10: =0.5*'Vehicle '!$F$38*'Duty Cycle '!L10^2/1000 -> 8.3878509 | AG10: =Z10+AF10 -> 23114.212
B11: =B10+1 -> 8 | C11: S1 | D11: =SUM($L$3:L11) -> 26.523303 | E11: =D11-D10 -> 6.4298916 | F11: Tarmac | G11: 11.9 | H11: =G11-G10 -> 0.6 | I11: =DEGREES(ATAN(H11/E11)) -> 5.3310704 | J11: 1 | K11: 6000 | L11: =IF(J11=1,VLOOKUP('Duty Cycle '!K11,'Gearing '!$L$3:$O$28,2),IF(J11=2,VLOOKUP('Duty Cycle '!K11,'Gearing '!$L$2:$O$28,3),IF(J11=3,VLOOKUP('Duty Cycle '!K11,'Gearing '!$L$2:$O$28,4)))) -> 6.4298916 | M11: =L11*2.237 -> 14.383668 | N11: =L11-L10 -> 1.0716486 | O11: =IF(J11=1,'Gearing '!$C$17*'Duty Cycle '!N11,IF(J11=2,'Gearing '!$C$18*'Duty Cycle '!N11,IF(J11=3,'Gearing '!$C$19*'Duty Cycle '!N11))) -> 655.66405 | P11: =IF(F11='Track '!$B$60,'Track '!$F$53,IF(F11='Track '!$B$61,'Track '!$F$54,IF(F11='Track '!$B$62,'Track '!$F$55))) -> 0.02 | Q11: =P11*'Vehicle '!$F$38*9.81 -> 114.63966 | R11: =0.5*'Vehicle '!$F$51*'Vehicle '!$F$25*'Track '!$F$57*'Duty Cycle '!L11^2 -> 15.798404 | S11: ='Vehicle '!$F$38*9.81*SIN(RADIANS('Duty Cycle '!I11)) -> 532.56161 | T11: =SUM(Q11:S11)+O11 -> 1318.6637 | U11: =ABS(((+T11)*(+L11)/1000)) -> 8.4788648 | V11: ='Vehicle '!$F$9-'Duty Cycle '!U11 -> 4.943954 | W11: =U11 -> 8.4788648 | X11: =ABS((W11*1000)/((2*PI()*K11)/60)) -> 13.494533 | Y11: =MIN(22,ROUNDUP(X11,0)) -> 14 | Z11: =T11*D11 -> 34975.317 | AA11: =SUM(AA10,Z11) -> 96429.285 | AB11: =INDEX('BSFC '!$D$5:$AD$27,MATCH('Duty Cycle '!Y11,'BSFC '!$B$5:$B$27,0),MATCH('Duty Cycle '!K11,'BSFC '!$D$28:$AD$28,0)) -> 356.11311 | AC11: =U11*AB11/3600 -> 0.83873193 | AD11: =AD10+AC11 -> 3.4245191 | AE11: =AC11*3.09 -> 2.5916817 | AF11: =0.5*'Vehicle '!$F$38*'Duty Cycle '!L11^2/1000 -> 12.078505 | AG11: =Z11+AF11 -> 34987.396
A12: =A8/0.755 -> 0.13818075 | B12: =B11+1 -> 9 | C12: S1 | D12: =SUM($L$3:L12) -> 33.589357 | E12: =D12-D11 -> 7.0660537 | F12: Tarmac | G12: 12.65 | H12: =G12-G11 -> 0.75 | I12: =DEGREES(ATAN(H12/E12)) -> 6.0587629 | J12: 2 | K12: 4500 | L12: =IF(J12=1,VLOOKUP('Duty Cycle '!K12,'Gearing '!$L$3:$O$28,2),IF(J12=2,VLOOKUP('Duty Cycle '!K12,'Gearing '!$L$2:$O$28,3),IF(J12=3,VLOOKUP('Duty Cycle '!K12,'Gearing '!$L$2:$O$28,4)))) -> 7.0660537 | M12: =L12*2.237 -> 15.806762 | N12: =L12-L11 -> 0.63616206 | O12: =IF(J12=1,'Gearing '!$C$17*'Duty Cycle '!N12,IF(J12=2,'Gearing '!$C$18*'Duty Cycle '!N12,IF(J12=3,'Gearing '!$C$19*'Duty Cycle '!N12))) -> 384.70841 | P12: =IF(F12='Track '!$B$60,'Track '!$F$53,IF(F12='Track '!$B$61,'Track '!$F$54,IF(F12='Track '!$B$62,'Track '!$F$55))) -> 0.02 | Q12: =P12*'Vehicle '!$F$38*9.81 -> 114.63966 | R12: =0.5*'Vehicle '!$F$51*'Vehicle '!$F$25*'Track '!$F$57*'Duty Cycle '!L12^2 -> 19.079183 | S12: ='Vehicle '!$F$38*9.81*SIN(RADIANS('Duty Cycle '!I12)) -> 605.00161 | T12: =SUM(Q12:S12)+O12 -> 1123.4289 | U12: =ABS(((+T12)*(+L12)/1000)) -> 7.9382086 | V12: ='Vehicle '!$F$9-'Duty Cycle '!U12 -> 5.4846102 | W12: =U12 -> 7.9382086 | X12: =ABS((W12*1000)/((2*PI()*K12)/60)) -> 16.845402 | Y12: =MIN(22,ROUNDUP(X12,0)) -> 17 | Z12: =T12*D12 -> 37735.253 | AA12: =SUM(AA11,Z12) -> 134164.54 | AB12: =INDEX('BSFC '!$D$5:$AD$27,MATCH('Duty Cycle '!Y12,'BSFC '!$B$5:$B$27,0),MATCH('Duty Cycle '!K12,'BSFC '!$D$28:$AD$28,0)) -> 491.00229 | AC12: =U12*AB12/3600 -> 1.0826885 | AD12: =AD11+AC12 -> 4.5072076 | AE12: =AC12*3.09 -> 3.3455075 | AF12: =0.5*'Vehicle '!$F$38*'Duty Cycle '!L12^2/1000 -> 14.586791 | AG12: =Z12+AF12 -> 37749.839
B13: =B12+1 -> 10 | C13: S1 | D13: =SUM($L$3:L13) -> 41.440527 | E13: =D13-D12 -> 7.8511708 | F13: Tarmac | G13: 13.52 | H13: =G13-G12 -> 0.87 | I13: =DEGREES(ATAN(H13/E13)) -> 6.323234 | J13: 2 | K13: 5000 | L13: =IF(J13=1,VLOOKUP('Duty Cycle '!K13,'Gearing '!$L$3:$O$28,2),IF(J13=2,VLOOKUP('Duty Cycle '!K13,'Gearing '!$L$2:$O$28,3),IF(J13=3,VLOOKUP('Duty Cycle '!K13,'Gearing '!$L$2:$O$28,4)))) -> 7.8511708 | M13: =L13*2.237 -> 17.563069 | N13: =L13-L12 -> 0.78511708 | O13: =IF(J13=1,'Gearing '!$C$17*'Duty Cycle '!N13,IF(J13=2,'Gearing '!$C$18*'Duty Cycle '!N13,IF(J13=3,'Gearing '!$C$19*'Duty Cycle '!N13))) -> 474.78648 | P13: =IF(F13='Track '!$B$60,'Track '!$F$53,IF(F13='Track '!$B$61,'Track '!$F$54,IF(F13='Track '!$B$62,'Track '!$F$55))) -> 0.02 | Q13: =P13*'Vehicle '!$F$38*9.81 -> 114.63966 | R13: =0.5*'Vehicle '!$F$51*'Vehicle '!$F$25*'Track '!$F$57*'Duty Cycle '!L13^2 -> 23.554547 | S13: ='Vehicle '!$F$38*9.81*SIN(RADIANS('Duty Cycle '!I13)) -> 631.30549 | T13: =SUM(Q13:S13)+O13 -> 1244.2862 | U13: =ABS(((+T13)*(+L13)/1000)) -> 9.7691033 | V13: ='Vehicle '!$F$9-'Duty Cycle '!U13 -> 3.6537155 | W13: =U13 -> 9.7691033 | X13: =ABS((W13*1000)/((2*PI()*K13)/60)) -> 18.657613 | Y13: =MIN(22,ROUNDUP(X13,0)) -> 19 | Z13: =T13*D13 -> 51563.876 | AA13: =SUM(AA12,Z13) -> 185728.41 | AB13: =INDEX('BSFC '!$D$5:$AD$27,MATCH('Duty Cycle '!Y13,'BSFC '!$B$5:$B$27,0),MATCH('Duty Cycle '!K13,'BSFC '!$D$28:$AD$28,0)) -> 480.16307 | AC13: =U13*AB13/3600 -> 1.3029896 | AD13: =AD12+AC13 -> 5.8101972 | AE13: =AC13*3.09 -> 4.0262379 | AF13: =0.5*'Vehicle '!$F$38*'Duty Cycle '!L13^2/1000 -> 18.008384 | AG13: =Z13+AF13 -> 51581.884
A14: Laps / Tank | B14: =B13+1 -> 11 | C14: S1 | D14: =SUM($L$3:L14) -> 50.469374 | E14: =D14-D13 -> 9.0288464 | F14: Tarmac | G14: 14.3 | H14: =G14-G13 -> 0.78 | I14: =DEGREES(ATAN(H14/E14)) -> 4.9375106 | J14: 2 | K14: 5750 | L14: =IF(J14=1,VLOOKUP('Duty Cycle '!K14,'Gearing '!$L$3:$O$28,2),IF(J14=2,VLOOKUP('Duty Cycle '!K14,'Gearing '!$L$2:$O$28,3),IF(J14=3,VLOOKUP('Duty Cycle '!K14,'Gearing '!$L$2:$O$28,4)))) -> 9.0288464 | M14: =L14*2.237 -> 20.197529 | N14: =L14-L13 -> 1.1776756 | O14: =IF(J14=1,'Gearing '!$C$17*'Duty Cycle '!N14,IF(J14=2,'Gearing '!$C$18*'Duty Cycle '!N14,IF(J14=3,'Gearing '!$C$19*'Duty Cycle '!N14))) -> 712.17972 | P14: =IF(F14='Track '!$B$60,'Track '!$F$53,IF(F14='Track '!$B$61,'Track '!$F$54,IF(F14='Track '!$B$62,'Track '!$F$55))) -> 0.02 | Q14: =P14*'Vehicle '!$F$38*9.81 -> 114.63966 | R14: =0.5*'Vehicle '!$F$51*'Vehicle '!$F$25*'Track '!$F$57*'Duty Cycle '!L14^2 -> 31.150888 | S14: ='Vehicle '!$F$38*9.81*SIN(RADIANS('Duty Cycle '!I14)) -> 493.34717 | T14: =SUM(Q14:S14)+O14 -> 1351.3174 | U14: =ABS(((+T14)*(+L14)/1000)) -> 12.200838 | V14: ='Vehicle '!$F$9-'Duty Cycle '!U14 -> 1.2219813 | W14: =U14 -> 12.200838 | X14: =ABS((W14*1000)/((2*PI()*K14)/60)) -> 20.262507 | Y14: =MIN(22,ROUNDUP(X14,0)) -> 21 | Z14: =T14*D14 -> 68200.145 | AA14: =SUM(AA13,Z14) -> 253928.56 | AB14: =INDEX('BSFC '!$D$5:$AD$27,MATCH('Duty Cycle '!Y14,'BSFC '!$B$5:$B$27,0),MATCH('Duty Cycle '!K14,'BSFC '!$D$28:$AD$28,0)) -> 498.27743 | AC14: =U14*AB14/3600 -> 1.6887227 | AD14: =AD13+AC14 -> 7.4989199 | AE14: =AC14*3.09 -> 5.2181533 | AF14: =0.5*'Vehicle '!$F$38*'Duty Cycle '!L14^2/1000 -> 23.816088 | AG14: =Z14+AF14 -> 68223.961
B15: =B14+1 -> 12 | C15: S1 | D15: =SUM($L$3:L15) -> 60.675896 | E15: =D15-D14 -> 10.206522 | F15: Tarmac | G15: 14.8 | H15: =G15-G14 -> 0.5 | I15: =DEGREES(ATAN(H15/E15)) -> 2.8045798 | J15: 2 | K15: 6500 | L15: =IF(J15=1,VLOOKUP('Duty Cycle '!K15,'Gearing '!$L$3:$O$28,2),IF(J15=2,VLOOKUP('Duty Cycle '!K15,'Gearing '!$L$2:$O$28,3),IF(J15=3,VLOOKUP('Duty Cycle '!K15,'Gearing '!$L$2:$O$28,4)))) -> 10.206522 | M15: =L15*2.237 -> 22.83199 | N15: =L15-L14 -> 1.1776756 | O15: =IF(J15=1,'Gearing '!$C$17*'Duty Cycle '!N15,IF(J15=2,'Gearing '!$C$18*'Duty Cycle '!N15,IF(J15=3,'Gearing '!$C$19*'Duty Cycle '!N15))) -> 712.17972 | P15: =IF(F15='Track '!$B$60,'Track '!$F$53,IF(F15='Track '!$B$61,'Track '!$F$54,IF(F15='Track '!$B$62,'Track '!$F$55))) -> 0.02 | Q15: =P15*'Vehicle '!$F$38*9.81 -> 114.63966 | R15: =0.5*'Vehicle '!$F$51*'Vehicle '!$F$25*'Track '!$F$57*'Duty Cycle '!L15^2 -> 39.807184 | S15: ='Vehicle '!$F$38*9.81*SIN(RADIANS('Duty Cycle '!I15)) -> 280.46368 | T15: =SUM(Q15:S15)+O15 -> 1147.0902 | U15: =ABS(((+T15)*(+L15)/1000)) -> 11.707802 | V15: ='Vehicle '!$F$9-'Duty Cycle '!U15 -> 1.715017 | W15: =U15 -> 11.707802 | X15: =ABS((W15*1000)/((2*PI()*K15)/60)) -> 17.200196 | Y15: =MIN(22,ROUNDUP(X15,0)) -> 18 | Z15: =T15*D15 -> 69600.728 | AA15: =SUM(AA14,Z15) -> 323529.29 | AB15: =INDEX('BSFC '!$D$5:$AD$27,MATCH('Duty Cycle '!Y15,'BSFC '!$B$5:$B$27,0),MATCH('Duty Cycle '!K15,'BSFC '!$D$28:$AD$28,0)) -> 533.40609 | AC15: =U15*AB15/3600 -> 1.7347258 | AD15: =AD14+AC15 -> 9.2336457 | AE15: =AC15*3.09 -> 5.3603026 | AF15: =0.5*'Vehicle '!$F$38*'Duty Cycle '!L15^2/1000 -> 30.434169 | AG15: =Z15+AF15 -> 69631.162
A16: ='Vehicle '!F18/'Duty Cycle '!A12 -> 209.87004 | B16: =B15+1 -> 13 | C16: S1 | D16: =SUM($L$3:L16) -> 70.916553 | E16: =D16-D15 -> 10.240658 | F16: Tarmac | G16: 15.5 | H16: =G16-G15 -> 0.7 | I16: =DEGREES(ATAN(H16/E16)) -> 3.9103695 | J16: 3 | K16: 5000 | L16: =IF(J16=1,VLOOKUP('Duty Cycle '!K16,'Gearing '!$L$3:$O$28,2),IF(J16=2,VLOOKUP('Duty Cycle '!K16,'Gearing '!$L$2:$O$28,3),IF(J16=3,VLOOKUP('Duty Cycle '!K16,'Gearing '!$L$2:$O$28,4)))) -> 10.240658 | M16: =L16*2.237 -> 22.908351 | N16: =L16-L15 -> 0.034135525 | O16: =IF(J16=1,'Gearing '!$C$17*'Duty Cycle '!N16,IF(J16=2,'Gearing '!$C$18*'Duty Cycle '!N16,IF(J16=3,'Gearing '!$C$19*'Duty Cycle '!N16))) -> 20.555857 | P16: =IF(F16='Track '!$B$60,'Track '!$F$53,IF(F16='Track '!$B$61,'Track '!$F$54,IF(F16='Track '!$B$62,'Track '!$F$55))) -> 0.02 | Q16: =P16*'Vehicle '!$F$38*9.81 -> 114.63966 | R16: =0.5*'Vehicle '!$F$51*'Vehicle '!$F$25*'Track '!$F$57*'Duty Cycle '!L16^2 -> 40.073898 | S16: ='Vehicle '!$F$38*9.81*SIN(RADIANS('Duty Cycle '!I16)) -> 390.89747 | T16: =SUM(Q16:S16)+O16 -> 566.16688 | U16: =ABS(((+T16)*(+L16)/1000)) -> 5.7979211 | V16: ='Vehicle '!$F$9-'Duty Cycle '!U16 -> 7.6248977 | W16: =U16 -> 5.7979211 | X16: =ABS((W16*1000)/((2*PI()*K16)/60)) -> 11.073214 | Y16: =MIN(22,ROUNDUP(X16,0)) -> 12 | Z16: =T16*D16 -> 40150.604 | AA16: =SUM(AA15,Z16) -> 363679.89 | AB16: =INDEX('BSFC '!$D$5:$AD$27,MATCH('Duty Cycle '!Y16,'BSFC '!$B$5:$B$27,0),MATCH('Duty Cycle '!K16,'BSFC '!$D$28:$AD$28,0)) -> 317.08879 | AC16: =U16*AB16/3600 -> 0.51068216 | AD16: =AD15+AC16 -> 9.7443279 | AE16: =AC16*3.09 -> 1.5780079 | AF16: =0.5*'Vehicle '!$F$38*'Duty Cycle '!L16^2/1000 -> 30.638082 | AG16: =Z16+AF16 -> 40181.242
B17: =B16+1 -> 14 | C17: S1 | D17: =SUM($L$3:L17) -> 82.181276 | E17: =D17-D16 -> 11.264723 | F17: Tarmac | G17: 16 | H17: =G17-G16 -> 0.5 | I17: =DEGREES(ATAN(H17/E17)) -> 2.5414826 | J17: 3 | K17: 5500 | L17: =IF(J17=1,VLOOKUP('Duty Cycle '!K17,'Gearing '!$L$3:$O$28,2),IF(J17=2,VLOOKUP('Duty Cycle '!K17,'Gearing '!$L$2:$O$28,3),IF(J17=3,VLOOKUP('Duty Cycle '!K17,'Gearing '!$L$2:$O$28,4)))) -> 11.264723 | M17: =L17*2.237 -> 25.199186 | N17: =L17-L16 -> 1.0240658 | O17: =IF(J17=1,'Gearing '!$C$17*'Duty Cycle '!N17,IF(J17=2,'Gearing '!$C$18*'Duty Cycle '!N17,IF(J17=3,'Gearing '!$C$19*'Duty Cycle '!N17))) -> 616.6757 | P17: =IF(F17='Track '!$B$60,'Track '!$F$53,IF(F17='Track '!$B$61,'Track '!$F$54,IF(F17='Track '!$B$62,'Track '!$F$55))) -> 0.02 | Q17: =P17*'Vehicle '!$F$38*9.81 -> 114.63966 | R17: =0.5*'Vehicle '!$F$51*'Vehicle '!$F$25*'Track '!$F$57*'Duty Cycle '!L17^2 -> 48.489416 | S17: ='Vehicle '!$F$38*9.81*SIN(RADIANS('Duty Cycle '!I17)) -> 254.17157 | T17: =SUM(Q17:S17)+O17 -> 1033.9763 | U17: =ABS(((+T17)*(+L17)/1000)) -> 11.647457 | V17: ='Vehicle '!$F$9-'Duty Cycle '!U17 -> 1.7753614 | W17: =U17 -> 11.647457 | X17: =ABS((W17*1000)/((2*PI()*K17)/60)) -> 20.222732 | Y17: =MIN(22,ROUNDUP(X17,0)) -> 21 | Z17: =T17*D17 -> 84973.496 | AA17: =SUM(AA16,Z17) -> 448653.39 | AB17: =INDEX('BSFC '!$D$5:$AD$27,MATCH('Duty Cycle '!Y17,'BSFC '!$B$5:$B$27,0),MATCH('Duty Cycle '!K17,'BSFC '!$D$28:$AD$28,0)) -> 472.37705 | AC17: =U17*AB17/3600 -> 1.528331 | AD17: =AD16+AC17 -> 11.272659 | AE17: =AC17*3.09 -> 4.7225427 | AF17: =0.5*'Vehicle '!$F$38*'Duty Cycle '!L17^2/1000 -> 37.072079 | AG17: =Z17+AF17 -> 85010.568
A18: Fuel Price (£/L) | B18: =B17+1 -> 15 | C18: S1 | D18: =SUM($L$3:L18) -> 94.470066 | E18: =D18-D17 -> 12.288789 | F18: Tarmac | G18: 16.3 | H18: =G18-G17 -> 0.3 | I18: =DEGREES(ATAN(H18/E18)) -> 1.3984552 | J18: 3 | K18: 6000 | L18: =IF(J18=1,VLOOKUP('Duty Cycle '!K18,'Gearing '!$L$3:$O$28,2),IF(J18=2,VLOOKUP('Duty Cycle '!K18,'Gearing '!$L$2:$O$28,3),IF(J18=3,VLOOKUP('Duty Cycle '!K18,'Gearing '!$L$2:$O$28,4)))) -> 12.288789 | M18: =L18*2.237 -> 27.490021 | N18: =L18-L17 -> 1.0240658 | O18: =IF(J18=1,'Gearing '!$C$17*'Duty Cycle '!N18,IF(J18=2,'Gearing '!$C$18*'Duty Cycle '!N18,IF(J18=3,'Gearing '!$C$19*'Duty Cycle '!N18))) -> 616.6757 | P18: =IF(F18='Track '!$B$60,'Track '!$F$53,IF(F18='Track '!$B$61,'Track '!$F$54,IF(F18='Track '!$B$62,'Track '!$F$55))) -> 0.02 | Q18: =P18*'Vehicle '!$F$38*9.81 -> 114.63966 | R18: =0.5*'Vehicle '!$F$51*'Vehicle '!$F$25*'Track '!$F$57*'Duty Cycle '!L18^2 -> 57.706413 | S18: ='Vehicle '!$F$38*9.81*SIN(RADIANS('Duty Cycle '!I18)) -> 139.89033 | T18: =SUM(Q18:S18)+O18 -> 928.9121 | U18: =ABS(((+T18)*(+L18)/1000)) -> 11.415205 | V18: ='Vehicle '!$F$9-'Duty Cycle '!U18 -> 2.007614 | W18: =U18 -> 11.415205 | X18: =ABS((W18*1000)/((2*PI()*K18)/60)) -> 18.167863 | Y18: =MIN(22,ROUNDUP(X18,0)) -> 19 | Z18: =T18*D18 -> 87754.387 | AA18: =SUM(AA17,Z18) -> 536407.77 | AB18: =INDEX('BSFC '!$D$5:$AD$27,MATCH('Duty Cycle '!Y18,'BSFC '!$B$5:$B$27,0),MATCH('Duty Cycle '!K18,'BSFC '!$D$28:$AD$28,0)) -> 495.50618 | AC18: =U18*AB18/3600 -> 1.5711957 | AD18: =AD17+AC18 -> 12.843855 | AE18: =AC18*3.09 -> 4.8549947 | AF18: =0.5*'Vehicle '!$F$38*'Duty Cycle '!L18^2/1000 -> 44.118838 | AG18: =Z18+AF18 -> 87798.506
B19: =B18+1 -> 16 | C19: T1 | D19: =SUM($L$3:L19) -> 107.78292 | E19: =D19-D18 -> 13.312855 | F19: Tarmac | G19: 16.5 | H19: =G19-G18 -> 0.2 | I19: =DEGREES(ATAN(H19/E19)) -> 0.86069398 | J19: 3 | K19: 6500 | L19: =IF(J19=1,VLOOKUP('Duty Cycle '!K19,'Gearing '!$L$3:$O$28,2),IF(J19=2,VLOOKUP('Duty Cycle '!K19,'Gearing '!$L$2:$O$28,3),IF(J19=3,VLOOKUP('Duty Cycle '!K19,'Gearing '!$L$2:$O$28,4)))) -> 13.312855 | M19: =L19*2.237 -> 29.780856 | N19: =L19-L18 -> 1.0240658 | O19: =IF(J19=1,'Gearing '!$C$17*'Duty Cycle '!N19,IF(J19=2,'Gearing '!$C$18*'Duty Cycle '!N19,IF(J19=3,'Gearing '!$C$19*'Duty Cycle '!N19))) -> 616.6757 | P19: =IF(F19='Track '!$B$60,'Track '!$F$53,IF(F19='Track '!$B$61,'Track '!$F$54,IF(F19='Track '!$B$62,'Track '!$F$55))) -> 0.02 | Q19: =P19*'Vehicle '!$F$38*9.81 -> 114.63966 | R19: =0.5*'Vehicle '!$F$51*'Vehicle '!$F$25*'Track '!$F$57*'Duty Cycle '!L19^2 -> 67.724887 | S19: ='Vehicle '!$F$38*9.81*SIN(RADIANS('Duty Cycle '!I19)) -> 86.102288 | T19: =SUM(Q19:S19)+O19 -> 885.14253 | U19: =ABS(((+T19)*(+L19)/1000)) -> 11.783774 | V19: ='Vehicle '!$F$9-'Duty Cycle '!U19 -> 1.6390448 | W19: =U19 -> 11.783774 | X19: =ABS((W19*1000)/((2*PI()*K19)/60)) -> 17.311808 | Y19: =MIN(22,ROUNDUP(X19,0)) -> 18 | Z19: =T19*D19 -> 95403.247 | AA19: =SUM(AA18,Z19) -> 631811.02 | AB19: =INDEX('BSFC '!$D$5:$AD$27,MATCH('Duty Cycle '!Y19,'BSFC '!$B$5:$B$27,0),MATCH('Duty Cycle '!K19,'BSFC '!$D$28:$AD$28,0)) -> 533.40609 | AC19: =U19*AB19/3600 -> 1.7459824 | AD19: =AD18+AC19 -> 14.589837 | AE19: =AC19*3.09 -> 5.3950858 | AF19: =0.5*'Vehicle '!$F$38*'Duty Cycle '!L19^2/1000 -> 51.778359 | AG19: =Z19+AF19 -> 95455.026
A20: 1.47 | B20: =B19+1 -> 17 | C20: T1 | D20: =SUM($L$3:L20) -> 120.07171 | E20: =D20-D19 -> 12.288789 | F20: Tarmac | G20: 17 | H20: =G20-G19 -> 0.5 | I20: =DEGREES(ATAN(H20/E20)) -> 2.3299364 | J20: 3 | K20: 6000 | L20: =IF(J20=1,VLOOKUP('Duty Cycle '!K20,'Gearing '!$L$3:$O$28,2),IF(J20=2,VLOOKUP('Duty Cycle '!K20,'Gearing '!$L$2:$O$28,3),IF(J20=3,VLOOKUP('Duty Cycle '!K20,'Gearing '!$L$2:$O$28,4)))) -> 12.288789 | M20: =L20*2.237 -> 27.490021 | N20: =L20-L19 -> -1.0240658 | O20: =IF(J20=1,'Gearing '!$C$17*'Duty Cycle '!N20,IF(J20=2,'Gearing '!$C$18*'Duty Cycle '!N20,IF(J20=3,'Gearing '!$C$19*'Duty Cycle '!N20))) -> -616.6757 | P20: =IF(F20='Track '!$B$60,'Track '!$F$53,IF(F20='Track '!$B$61,'Track '!$F$54,IF(F20='Track '!$B$62,'Track '!$F$55))) -> 0.02 | Q20: =P20*'Vehicle '!$F$38*9.81 -> 114.63966 | R20: =0.5*'Vehicle '!$F$51*'Vehicle '!$F$25*'Track '!$F$57*'Duty Cycle '!L20^2 -> 57.706413 | S20: ='Vehicle '!$F$38*9.81*SIN(RADIANS('Duty Cycle '!I20)) -> 233.02721 | T20: =SUM(Q20:S20)+O20 -> -211.30242 | U20: =ABS(((+T20)*(+L20)/1000)) -> 2.5966509 | V20: ='Vehicle '!$F$9-'Duty Cycle '!U20 -> 10.826168 | W20: =U20 -> 2.5966509 | X20: =ABS((W20*1000)/((2*PI()*K20)/60)) -> 4.1326982 | Y20: =MIN(22,ROUNDUP(X20,0)) -> 5 | Z20: =T20*D20 -> -25371.443 | AA20: =SUM(AA19,Z20) -> 606439.58 | AB20: =INDEX('BSFC '!$D$5:$AD$27,MATCH('Duty Cycle '!Y20,'BSFC '!$B$5:$B$27,0),MATCH('Duty Cycle '!K20,'BSFC '!$D$28:$AD$28,0)) -> 679.12827 | AC20: =U20*AB20/3600 -> 0.48984972 | AD20: =AD19+AC20 -> 15.079687 | AE20: =AC20*3.09 -> 1.5136356 | AF20: =0.5*'Vehicle '!$F$38*'Duty Cycle '!L20^2/1000 -> 44.118838 | AG20: =Z20+AF20 -> -25327.324
B21: =B20+1 -> 18 | C21: T1 | D21: =SUM($L$3:L21) -> 131.84847 | E21: =D21-D20 -> 11.776756 | F21: Tarmac | G21: 17.4 | H21: =G21-G20 -> 0.4 | I21: =DEGREES(ATAN(H21/E21)) -> 1.9453154 | J21: 3 | K21: 5750 | L21: =IF(J21=1,VLOOKUP('Duty Cycle '!K21,'Gearing '!$L$3:$O$28,2),IF(J21=2,VLOOKUP('Duty Cycle '!K21,'Gearing '!$L$2:$O$28,3),IF(J21=3,VLOOKUP('Duty Cycle '!K21,'Gearing '!$L$2:$O$28,4)))) -> 11.776756 | M21: =L21*2.237 -> 26.344603 | N21: =L21-L20 -> -0.51203288 | O21: =IF(J21=1,'Gearing '!$C$17*'Duty Cycle '!N21,IF(J21=2,'Gearing '!$C$18*'Duty Cycle '!N21,IF(J21=3,'Gearing '!$C$19*'Duty Cycle '!N21))) -> -308.33785 | P21: =IF(F21='Track '!$B$60,'Track '!$F$53,IF(F21='Track '!$B$61,'Track '!$F$54,IF(F21='Track '!$B$62,'Track '!$F$55))) -> 0.02 | Q21: =P21*'Vehicle '!$F$38*9.81 -> 114.63966 | R21: =0.5*'Vehicle '!$F$51*'Vehicle '!$F$25*'Track '!$F$57*'Duty Cycle '!L21^2 -> 52.99773 | S21: ='Vehicle '!$F$38*9.81*SIN(RADIANS('Duty Cycle '!I21)) -> 194.57581 | T21: =SUM(Q21:S21)+O21 -> 53.875347 | U21: =ABS(((+T21)*(+L21)/1000)) -> 0.63447682 | V21: ='Vehicle '!$F$9-'Duty Cycle '!U21 -> 12.788342 | W21: =U21 -> 0.63447682 | X21: =ABS((W21*1000)/((2*PI()*K21)/60)) -> 1.0537056 | Y21: =MIN(22,ROUNDUP(X21,0)) -> 2 | Z21: =T21*D21 -> 7103.3818 | AA21: =SUM(AA20,Z21) -> 613542.96 | AB21: =INDEX('BSFC '!$D$5:$AD$27,MATCH('Duty Cycle '!Y21,'BSFC '!$B$5:$B$27,0),MATCH('Duty Cycle '!K21,'BSFC '!$D$28:$AD$28,0)) -> 886.98747 | AC21: =U21*AB21/3600 -> 0.15632583 | AD21: =AD20+AC21 -> 15.236013 | AE21: =AC21*3.09 -> 0.48304682 | AF21: =0.5*'Vehicle '!$F$38*'Duty Cycle '!L21^2/1000 -> 40.518863 | AG21: =Z21+AF21 -> 7143.9007
A22: Fuel Cost / Lap (£) | B22: =B21+1 -> 19 | C22: T1 | D22: =SUM($L$3:L22) -> 143.62522 | E22: =D22-D21 -> 11.776756 | F22: Tarmac | G22: 17.8 | H22: =G22-G21 -> 0.4 | I22: =DEGREES(ATAN(H22/E22)) -> 1.9453154 | J22: 3 | K22: 5750 | L22: =IF(J22=1,VLOOKUP('Duty Cycle '!K22,'Gearing '!$L$3:$O$28,2),IF(J22=2,VLOOKUP('Duty Cycle '!K22,'Gearing '!$L$2:$O$28,3),IF(J22=3,VLOOKUP('Duty Cycle '!K22,'Gearing '!$L$2:$O$28,4)))) -> 11.776756 | M22: =L22*2.237 -> 26.344603 | N22: =L22-L21 -> 0 | O22: =IF(J22=1,'Gearing '!$C$17*'Duty Cycle '!N22,IF(J22=2,'Gearing '!$C$18*'Duty Cycle '!N22,IF(J22=3,'Gearing '!$C$19*'Duty Cycle '!N22))) -> 0 | P22: =IF(F22='Track '!$B$60,'Track '!$F$53,IF(F22='Track '!$B$61,'Track '!$F$54,IF(F22='Track '!$B$62,'Track '!$F$55))) -> 0.02 | Q22: =P22*'Vehicle '!$F$38*9.81 -> 114.63966 | R22: =0.5*'Vehicle '!$F$51*'Vehicle '!$F$25*'Track '!$F$57*'Duty Cycle '!L22^2 -> 52.99773 | S22: ='Vehicle '!$F$38*9.81*SIN(RADIANS('Duty Cycle '!I22)) -> 194.57581 | T22: =SUM(Q22:S22)+O22 -> 362.2132 | U22: =ABS(((+T22)*(+L22)/1000)) -> 4.2656965 | V22: ='Vehicle '!$F$9-'Duty Cycle '!U22 -> 9.1571223 | W22: =U22 -> 4.2656965 | X22: =ABS((W22*1000)/((2*PI()*K22)/60)) -> 7.0842436 | Y22: =MIN(22,ROUNDUP(X22,0)) -> 8 | Z22: =T22*D22 -> 52022.951 | AA22: =SUM(AA21,Z22) -> 665565.91 | AB22: =INDEX('BSFC '!$D$5:$AD$27,MATCH('Duty Cycle '!Y22,'BSFC '!$B$5:$B$27,0),MATCH('Duty Cycle '!K22,'BSFC '!$D$28:$AD$28,0)) -> 492.10327 | AC22: =U22*AB22/3600 -> 0.58310089 | AD22: =AD21+AC22 -> 15.819113 | AE22: =AC22*3.09 -> 1.8017817 | AF22: =0.5*'Vehicle '!$F$38*'Duty Cycle '!L22^2/1000 -> 40.518863 | AG22: =Z22+AF22 -> 52063.469
B23: =B22+1 -> 20 | C23: T1 | D23: =SUM($L$3:L23) -> 154.88994 | E23: =D23-D22 -> 11.264723 | F23: Tarmac | G23: 18.2 | H23: =G23-G22 -> 0.4 | I23: =DEGREES(ATAN(H23/E23)) -> 2.0336662 | J23: 3 | K23: 5500 | L23: =IF(J23=1,VLOOKUP('Duty Cycle '!K23,'Gearing '!$L$3:$O$28,2),IF(J23=2,VLOOKUP('Duty Cycle '!K23,'Gearing '!$L$2:$O$28,3),IF(J23=3,VLOOKUP('Duty Cycle '!K23,'Gearing '!$L$2:$O$28,4)))) -> 11.264723 | M23: =L23*2.237 -> 25.199186 | N23: =L23-L22 -> -0.51203288 | O23: =IF(J23=1,'Gearing '!$C$17*'Duty Cycle '!N23,IF(J23=2,'Gearing '!$C$18*'Duty Cycle '!N23,IF(J23=3,'Gearing '!$C$19*'Duty Cycle '!N23))) -> -308.33785 | P23: =IF(F23='Track '!$B$60,'Track '!$F$53,IF(F23='Track '!$B$61,'Track '!$F$54,IF(F23='Track '!$B$62,'Track '!$F$55))) -> 0.02 | Q23: =P23*'Vehicle '!$F$38*9.81 -> 114.63966 | R23: =0.5*'Vehicle '!$F$51*'Vehicle '!$F$25*'Track '!$F$57*'Duty Cycle '!L23^2 -> 48.489416 | S23: ='Vehicle '!$F$38*9.81*SIN(RADIANS('Duty Cycle '!I23)) -> 203.40927 | T23: =SUM(Q23:S23)+O23 -> 58.200492 | U23: =ABS(((+T23)*(+L23)/1000)) -> 0.65561244 | V23: ='Vehicle '!$F$9-'Duty Cycle '!U23 -> 12.767206 | W23: =U23 -> 0.65561244 | X23: =ABS((W23*1000)/((2*PI()*K23)/60)) -> 1.1382977 | Y23: =MIN(22,ROUNDUP(X23,0)) -> 2 | Z23: =T23*D23 -> 9014.671 | AA23: =SUM(AA22,Z23) -> 674580.58 | AB23: =INDEX('BSFC '!$D$5:$AD$27,MATCH('Duty Cycle '!Y23,'BSFC '!$B$5:$B$27,0),MATCH('Duty Cycle '!K23,'BSFC '!$D$28:$AD$28,0)) -> 861.08709 | AC23: =U23*AB23/3600 -> 0.1568165 | AD23: =AD22+AC23 -> 15.97593 | AE23: =AC23*3.09 -> 0.48456299 | AF23: =0.5*'Vehicle '!$F$38*'Duty Cycle '!L23^2/1000 -> 37.072079 | AG23: =Z23+AF23 -> 9051.7431
A24: =A20*A12 -> 0.20312571 | B24: =B23+1 -> 21 | C24: T1 | D24: =SUM($L$3:L24) -> 165.64264 | E24: =D24-D23 -> 10.75269 | F24: Tarmac | G24: 18.5 | H24: =G24-G23 -> 0.3 | I24: =DEGREES(ATAN(H24/E24)) -> 1.5981373 | J24: 3 | K24: 5250 | L24: =IF(J24=1,VLOOKUP('Duty Cycle '!K24,'Gearing '!$L$3:$O$28,2),IF(J24=2,VLOOKUP('Duty Cycle '!K24,'Gearing '!$L$2:$O$28,3),IF(J24=3,VLOOKUP('Duty Cycle '!K24,'Gearing '!$L$2:$O$28,4)))) -> 10.75269 | M24: =L24*2.237 -> 24.053768 | N24: =L24-L23 -> -0.51203288 | O24: =IF(J24=1,'Gearing '!$C$17*'Duty Cycle '!N24,IF(J24=2,'Gearing '!$C$18*'Duty Cycle '!N24,IF(J24=3,'Gearing '!$C$19*'Duty Cycle '!N24))) -> -308.33785 | P24: =IF(F24='Track '!$B$60,'Track '!$F$53,IF(F24='Track '!$B$61,'Track '!$F$54,IF(F24='Track '!$B$62,'Track '!$F$55))) -> 0.02 | Q24: =P24*'Vehicle '!$F$38*9.81 -> 114.63966 | R24: =0.5*'Vehicle '!$F$51*'Vehicle '!$F$25*'Track '!$F$57*'Duty Cycle '!L24^2 -> 44.181472 | S24: ='Vehicle '!$F$38*9.81*SIN(RADIANS('Duty Cycle '!I24)) -> 159.86009 | T24: =SUM(Q24:S24)+O24 -> 10.34337 | U24: =ABS(((+T24)*(+L24)/1000)) -> 0.11121905 | V24: ='Vehicle '!$F$9-'Duty Cycle '!U24 -> 13.3116 | W24: =U24 -> 0.11121905 | X24: =ABS((W24*1000)/((2*PI()*K24)/60)) -> 0.20229785 | Y24: =MIN(22,ROUNDUP(X24,0)) -> 1 | Z24: =T24*D24 -> 1713.303 | AA24: =SUM(AA23,Z24) -> 676293.88 | AB24: =INDEX('BSFC '!$D$5:$AD$27,MATCH('Duty Cycle '!Y24,'BSFC '!$B$5:$B$27,0),MATCH('Duty Cycle '!K24,'BSFC '!$D$28:$AD$28,0)) -> 958.56085 | AC24: =U24*AB24/3600 -> 0.029613953 | AD24: =AD23+AC24 -> 16.005544 | AE24: =AC24*3.09 -> 0.091507114 | AF24: =0.5*'Vehicle '!$F$38*'Duty Cycle '!L24^2/1000 -> 33.778485 | AG24: =Z24+AF24 -> 1747.0815
B25: =B24+1 -> 22 | C25: T1 | D25: =SUM($L$3:L25) -> 175.4566 | E25: =D25-D24 -> 9.8139634 | F25: Tarmac | G25: 18.7 | H25: =G25-G24 -> 0.2 | I25: =DEGREES(ATAN(H25/E25)) -> 1.1674763 | J25: 2 | K25: 6250 | L25: =IF(J25=1,VLOOKUP('Duty Cycle '!K25,'Gearing '!$L$3:$O$28,2),IF(J25=2,VLOOKUP('Duty Cycle '!K25,'Gearing '!$L$2:$O$28,3),IF(J25=3,VLOOKUP('Duty Cycle '!K25,'Gearing '!$L$2:$O$28,4)))) -> 9.8139634 | M25: =L25*2.237 -> 21.953836 | N25: =L25-L24 -> -0.93872694 | O25: =IF(J25=1,'Gearing '!$C$17*'Duty Cycle '!N25,IF(J25=2,'Gearing '!$C$18*'Duty Cycle '!N25,IF(J25=3,'Gearing '!$C$19*'Duty Cycle '!N25))) -> -567.67949 | P25: =IF(F25='Track '!$B$60,'Track '!$F$53,IF(F25='Track '!$B$61,'Track '!$F$54,IF(F25='Track '!$B$62,'Track '!$F$55))) -> 0.02 | Q25: =P25*'Vehicle '!$F$38*9.81 -> 114.63966 | R25: =0.5*'Vehicle '!$F$51*'Vehicle '!$F$25*'Track '!$F$57*'Duty Cycle '!L25^2 -> 36.803979 | S25: ='Vehicle '!$F$38*9.81*SIN(RADIANS('Duty Cycle '!I25)) -> 116.78856 | T25: =SUM(Q25:S25)+O25 -> -299.44729 | U25: =ABS(((+T25)*(+L25)/1000)) -> 2.9387648 | V25: ='Vehicle '!$F$9-'Duty Cycle '!U25 -> 10.484054 | W25: =U25 -> 2.9387648 | X25: =ABS((W25*1000)/((2*PI()*K25)/60)) -> 4.4901018 | Y25: =MIN(22,ROUNDUP(X25,0)) -> 5 | Z25: =T25*D25 -> -52540.003 | AA25: =SUM(AA24,Z25) -> 623753.88 | AB25: =INDEX('BSFC '!$D$5:$AD$27,MATCH('Duty Cycle '!Y25,'BSFC '!$B$5:$B$27,0),MATCH('Duty Cycle '!K25,'BSFC '!$D$28:$AD$28,0)) -> 709.37422 | AC25: =U25*AB25/3600 -> 0.57907887 | AD25: =AD24+AC25 -> 16.584623 | AE25: =AC25*3.09 -> 1.7893537 | AF25: =0.5*'Vehicle '!$F$38*'Duty Cycle '!L25^2/1000 -> 28.1381 | AG25: =Z25+AF25 -> -52511.865
A26: Fuel Cost / Tank (£) | B26: =B25+1 -> 23 | C26: T1 | D26: =SUM($L$3:L26) -> 185.27056 | E26: =D26-D25 -> 9.8139634 | F26: Tarmac | G26: 18.2 | H26: =G26-G25 -> -0.5 | I26: =DEGREES(ATAN(H26/E26)) -> -2.9165731 | J26: 2 | K26: 6250 | L26: =IF(J26=1,VLOOKUP('Duty Cycle '!K26,'Gearing '!$L$3:$O$28,2),IF(J26=2,VLOOKUP('Duty Cycle '!K26,'Gearing '!$L$2:$O$28,3),IF(J26=3,VLOOKUP('Duty Cycle '!K26,'Gearing '!$L$2:$O$28,4)))) -> 9.8139634 | M26: =L26*2.237 -> 21.953836 | N26: =L26-L25 -> 0 | O26: =IF(J26=1,'Gearing '!$C$17*'Duty Cycle '!N26,IF(J26=2,'Gearing '!$C$18*'Duty Cycle '!N26,IF(J26=3,'Gearing '!$C$19*'Duty Cycle '!N26))) -> 0 | P26: =IF(F26='Track '!$B$60,'Track '!$F$53,IF(F26='Track '!$B$61,'Track '!$F$54,IF(F26='Track '!$B$62,'Track '!$F$55))) -> 0.02 | Q26: =P26*'Vehicle '!$F$38*9.81 -> 114.63966 | R26: =0.5*'Vehicle '!$F$51*'Vehicle '!$F$25*'Track '!$F$57*'Duty Cycle '!L26^2 -> 36.803979 | S26: ='Vehicle '!$F$38*9.81*SIN(RADIANS('Duty Cycle '!I26)) -> -291.65374 | T26: =SUM(Q26:S26)+O26 -> -140.2101 | U26: =ABS(((+T26)*(+L26)/1000)) -> 1.3760168 | V26: ='Vehicle '!$F$9-'Duty Cycle '!U26 -> 12.046802 | W26: =U26 -> 1.3760168 | X26: =ABS((W26*1000)/((2*PI()*K26)/60)) -> 2.1023988 | Y26: =MIN(22,ROUNDUP(X26,0)) -> 3 | Z26: =T26*D26 -> -25976.804 | AA26: =SUM(AA25,Z26) -> 597777.08 | AB26: =INDEX('BSFC '!$D$5:$AD$27,MATCH('Duty Cycle '!Y26,'BSFC '!$B$5:$B$27,0),MATCH('Duty Cycle '!K26,'BSFC '!$D$28:$AD$28,0)) -> 858.40422 | AC26: =U26*AB26/3600 -> 0.32810517 | AD26: =AD25+AC26 -> 16.912728 | AE26: =AC26*3.09 -> 1.013845 | AF26: =0.5*'Vehicle '!$F$38*'Duty Cycle '!L26^2/1000 -> 28.1381 | AG26: =Z26+AF26 -> -25948.666
B27: =B26+1 -> 24 | C27: S2 | D27: =SUM($L$3:L27) -> 195.47708 | E27: =D27-D26 -> 10.206522 | F27: Tarmac | G27: 17.2 | H27: =G27-G26 -> -1 | I27: =DEGREES(ATAN(H27/E27)) -> -5.5957841 | J27: 2 | K27: 6500 | L27: =IF(J27=1,VLOOKUP('Duty Cycle '!K27,'Gearing '!$L$3:$O$28,2),IF(J27=2,VLOOKUP('Duty Cycle '!K27,'Gearing '!$L$2:$O$28,3),IF(J27=3,VLOOKUP('Duty Cycle '!K27,'Gearing '!$L$2:$O$28,4)))) -> 10.206522 | M27: =L27*2.237 -> 22.83199 | N27: =L27-L26 -> 0.39255854 | O27: =IF(J27=1,'Gearing '!$C$17*'Duty Cycle '!N27,IF(J27=2,'Gearing '!$C$18*'Duty Cycle '!N27,IF(J27=3,'Gearing '!$C$19*'Duty Cycle '!N27))) -> 237.39324 | P27: =IF(F27='Track '!$B$60,'Track '!$F$53,IF(F27='Track '!$B$61,'Track '!$F$54,IF(F27='Track '!$B$62,'Track '!$F$55))) -> 0.02 | Q27: =P27*'Vehicle '!$F$38*9.81 -> 114.63966 | R27: =0.5*'Vehicle '!$F$51*'Vehicle '!$F$25*'Track '!$F$57*'Duty Cycle '!L27^2 -> 39.807184 | S27: ='Vehicle '!$F$38*9.81*SIN(RADIANS('Duty Cycle '!I27)) -> -558.92376 | T27: =SUM(Q27:S27)+O27 -> -167.08368 | U27: =ABS(((+T27)*(+L27)/1000)) -> 1.7053433 | V27: ='Vehicle '!$F$9-'Duty Cycle '!U27 -> 11.717476 | W27: =U27 -> 1.7053433 | X27: =ABS((W27*1000)/((2*PI()*K27)/60)) -> 2.5053582 | Y27: =MIN(22,ROUNDUP(X27,0)) -> 3 | Z27: =T27*D27 -> -32661.031 | AA27: =SUM(AA26,Z27) -> 565116.05 | AB27: =INDEX('BSFC '!$D$5:$AD$27,MATCH('Duty Cycle '!Y27,'BSFC '!$B$5:$B$27,0),MATCH('Duty Cycle '!K27,'BSFC '!$D$28:$AD$28,0)) -> 846.27984 | AC27: =U27*AB27/3600 -> 0.40088823 | AD27: =AD26+AC27 -> 17.313616 | AE27: =AC27*3.09 -> 1.2387446 | AF27: =0.5*'Vehicle '!$F$38*'Duty Cycle '!L27^2/1000 -> 30.434169 | AG27: =Z27+AF27 -> -32630.596
A28: =A24*A16 -> 42.63 | B28: =B27+1 -> 25 | C28: S2 | D28: =SUM($L$3:L28) -> 206.74181 | E28: =D28-D27 -> 11.264723 | F28: Tarmac | G28: 16 | H28: =G28-G27 -> -1.2 | I28: =DEGREES(ATAN(H28/E28)) -> -6.08063 | J28: 3 | K28: 5500 | L28: =IF(J28=1,VLOOKUP('Duty Cycle '!K28,'Gearing '!$L$3:$O$28,2),IF(J28=2,VLOOKUP('Duty Cycle '!K28,'Gearing '!$L$2:$O$28,3),IF(J28=3,VLOOKUP('Duty Cycle '!K28,'Gearing '!$L$2:$O$28,4)))) -> 11.264723 | M28: =L28*2.237 -> 25.199186 | N28: =L28-L27 -> 1.0582013 | O28: =IF(J28=1,'Gearing '!$C$17*'Duty Cycle '!N28,IF(J28=2,'Gearing '!$C$18*'Duty Cycle '!N28,IF(J28=3,'Gearing '!$C$19*'Duty Cycle '!N28))) -> 637.23156 | P28: =IF(F28='Track '!$B$60,'Track '!$F$53,IF(F28='Track '!$B$61,'Track '!$F$54,IF(F28='Track '!$B$62,'Track '!$F$55))) -> 0.02 | Q28: =P28*'Vehicle '!$F$38*9.81 -> 114.63966 | R28: =0.5*'Vehicle '!$F$51*'Vehicle '!$F$25*'Track '!$F$57*'Duty Cycle '!L28^2 -> 48.489416 | S28: ='Vehicle '!$F$38*9.81*SIN(RADIANS('Duty Cycle '!I28)) -> -607.17697 | T28: =SUM(Q28:S28)+O28 -> 193.18366 | U28: =ABS(((+T28)*(+L28)/1000)) -> 2.1761605 | V28: ='Vehicle '!$F$9-'Duty Cycle '!U28 -> 11.246658 | W28: =U28 -> 2.1761605 | X28: =ABS((W28*1000)/((2*PI()*K28)/60)) -> 3.7783276 | Y28: =MIN(22,ROUNDUP(X28,0)) -> 4 | Z28: =T28*D28 -> 39939.139 | AA28: =SUM(AA27,Z28) -> 605055.18 | AB28: =INDEX('BSFC '!$D$5:$AD$27,MATCH('Duty Cycle '!Y28,'BSFC '!$B$5:$B$27,0),MATCH('Duty Cycle '!K28,'BSFC '!$D$28:$AD$28,0)) -> 710.01071 | AC28: =U28*AB28/3600 -> 0.42919368 | AD28: =AD27+AC28 -> 17.74281 | AE28: =AC28*3.09 -> 1.3262085 | AF28: =0.5*'Vehicle '!$F$38*'Duty Cycle '!L28^2/1000 -> 37.072079 | AG28: =Z28+AF28 -> 39976.211
B29: =B28+1 -> 26 | C29: S2 | D29: =SUM($L$3:L29) -> 219.0306 | E29: =D29-D28 -> 12.288789 | F29: Tarmac | G29: 15 | H29: =G29-G28 -> -1 | I29: =DEGREES(ATAN(H29/E29)) -> -4.6521924 | J29: 3 | K29: 6000 | L29: =IF(J29=1,VLOOKUP('Duty Cycle '!K29,'Gearing '!$L$3:$O$28,2),IF(J29=2,VLOOKUP('Duty Cycle '!K29,'Gearing '!$L$2:$O$28,3),IF(J29=3,VLOOKUP('Duty Cycle '!K29,'Gearing '!$L$2:$O$28,4)))) -> 12.288789 | M29: =L29*2.237 -> 27.490021 | N29: =L29-L28 -> 1.0240658 | O29: =IF(J29=1,'Gearing '!$C$17*'Duty Cycle '!N29,IF(J29=2,'Gearing '!$C$18*'Duty Cycle '!N29,IF(J29=3,'Gearing '!$C$19*'Duty Cycle '!N29))) -> 616.6757 | P29: =IF(F29='Track '!$B$60,'Track '!$F$53,IF(F29='Track '!$B$61,'Track '!$F$54,IF(F29='Track '!$B$62,'Track '!$F$55))) -> 0.02 | Q29: =P29*'Vehicle '!$F$38*9.81 -> 114.63966 | R29: =0.5*'Vehicle '!$F$51*'Vehicle '!$F$25*'Track '!$F$57*'Duty Cycle '!L29^2 -> 57.706413 | S29: ='Vehicle '!$F$38*9.81*SIN(RADIANS('Duty Cycle '!I29)) -> -464.90329 | T29: =SUM(Q29:S29)+O29 -> 324.11848 | U29: =ABS(((+T29)*(+L29)/1000)) -> 3.9830236 | V29: ='Vehicle '!$F$9-'Duty Cycle '!U29 -> 9.4397952 | W29: =U29 -> 3.9830236 | X29: =ABS((W29*1000)/((2*PI()*K29)/60)) -> 6.339179 | Y29: =MIN(22,ROUNDUP(X29,0)) -> 7 | Z29: =T29*D29 -> 70991.864 | AA29: =SUM(AA28,Z29) -> 676047.05 | AB29: =INDEX('BSFC '!$D$5:$AD$27,MATCH('Duty Cycle '!Y29,'BSFC '!$B$5:$B$27,0),MATCH('Duty Cycle '!K29,'BSFC '!$D$28:$AD$28,0)) -> 584.57471 | AC29: =U29*AB29/3600 -> 0.6467708 | AD29: =AD28+AC29 -> 18.389581 | AE29: =AC29*3.09 -> 1.9985218 | AF29: =0.5*'Vehicle '!$F$38*'Duty Cycle '!L29^2/1000 -> 44.118838 | AG29: =Z29+AF29 -> 71035.983
A30: Customers / Corporate Event | B30: =B29+1 -> 27 | C30: S2 | D30: =SUM($L$3:L30) -> 232.34345 | E30: =D30-D29 -> 13.312855 | F30: Tarmac | G30: 14.2 | H30: =G30-G29 -> -0.8 | I30: =DEGREES(ATAN(H30/E30)) -> -3.4388995 | J30: 3 | K30: 6500 | L30: =IF(J30=1,VLOOKUP('Duty Cycle '!K30,'Gearing '!$L$3:$O$28,2),IF(J30=2,VLOOKUP('Duty Cycle '!K30,'Gearing '!$L$2:$O$28,3),IF(J30=3,VLOOKUP('Duty Cycle '!K30,'Gearing '!$L$2:$O$28,4)))) -> 13.312855 | M30: =L30*2.237 -> 29.780856 | N30: =L30-L29 -> 1.0240658 | O30: =IF(J30=1,'Gearing '!$C$17*'Duty Cycle '!N30,IF(J30=2,'Gearing '!$C$18*'Duty Cycle '!N30,IF(J30=3,'Gearing '!$C$19*'Duty Cycle '!N30))) -> 616.6757 | P30: =IF(F30='Track '!$B$60,'Track '!$F$53,IF(F30='Track '!$B$61,'Track '!$F$54,IF(F30='Track '!$B$62,'Track '!$F$55))) -> 0.02 | Q30: =P30*'Vehicle '!$F$38*9.81 -> 114.63966 | R30: =0.5*'Vehicle '!$F$51*'Vehicle '!$F$25*'Track '!$F$57*'Duty Cycle '!L30^2 -> 67.724887 | S30: ='Vehicle '!$F$38*9.81*SIN(RADIANS('Duty Cycle '!I30)) -> -343.82778 | T30: =SUM(Q30:S30)+O30 -> 455.21247 | U30: =ABS(((+T30)*(+L30)/1000)) -> 6.0601775 | V30: ='Vehicle '!$F$9-'Duty Cycle '!U30 -> 7.3626413 | W30: =U30 -> 6.0601775 | X30: =ABS((W30*1000)/((2*PI()*K30)/60)) -> 8.9031434 | Y30: =MIN(22,ROUNDUP(X30,0)) -> 9 | Z30: =T30*D30 -> 105765.64 | AA30: =SUM(AA29,Z30) -> 781812.68 | AB30: =INDEX('BSFC '!$D$5:$AD$27,MATCH('Duty Cycle '!Y30,'BSFC '!$B$5:$B$27,0),MATCH('Duty Cycle '!K30,'BSFC '!$D$28:$AD$28,0)) -> 553.5521 | AC30: =U30*AB30/3600 -> 0.93183999 | AD30: =AD29+AC30 -> 19.321421 | AE30: =AC30*3.09 -> 2.8793856 | AF30: =0.5*'Vehicle '!$F$38*'Duty Cycle '!L30^2/1000 -> 51.778359 | AG30: =Z30+AF30 -> 105817.41
B31: =B30+1 -> 28 | C31: S2 | D31: =SUM($L$3:L31) -> 245.65631 | E31: =D31-D30 -> 13.312855 | F31: Tarmac | G31: 14 | H31: =G31-G30 -> -0.2 | I31: =DEGREES(ATAN(H31/E31)) -> -0.86069398 | J31: 3 | K31: 6500 | L31: =IF(J31=1,VLOOKUP('Duty Cycle '!K31,'Gearing '!$L$3:$O$28,2),IF(J31=2,VLOOKUP('Duty Cycle '!K31,'Gearing '!$L$2:$O$28,3),IF(J31=3,VLOOKUP('Duty Cycle '!K31,'Gearing '!$L$2:$O$28,4)))) -> 13.312855 | M31: =L31*2.237 -> 29.780856 | N31: =L31-L30 -> 0 | O31: =IF(J31=1,'Gearing '!$C$17*'Duty Cycle '!N31,IF(J31=2,'Gearing '!$C$18*'Duty Cycle '!N31,IF(J31=3,'Gearing '!$C$19*'Duty Cycle '!N31))) -> 0 | P31: =IF(F31='Track '!$B$60,'Track '!$F$53,IF(F31='Track '!$B$61,'Track '!$F$54,IF(F31='Track '!$B$62,'Track '!$F$55))) -> 0.02 | Q31: =P31*'Vehicle '!$F$38*9.81 -> 114.63966 | R31: =0.5*'Vehicle '!$F$51*'Vehicle '!$F$25*'Track '!$F$57*'Duty Cycle '!L31^2 -> 67.724887 | S31: ='Vehicle '!$F$38*9.81*SIN(RADIANS('Duty Cycle '!I31)) -> -86.102288 | T31: =SUM(Q31:S31)+O31 -> 96.262259 | U31: =ABS(((+T31)*(+L31)/1000)) -> 1.2815255 | V31: ='Vehicle '!$F$9-'Duty Cycle '!U31 -> 12.141293 | W31: =U31 -> 1.2815255 | X31: =ABS((W31*1000)/((2*PI()*K31)/60)) -> 1.882718 | Y31: =MIN(22,ROUNDUP(X31,0)) -> 2 | Z31: =T31*D31 -> 23647.431 | AA31: =SUM(AA30,Z31) -> 805460.12 | AB31: =INDEX('BSFC '!$D$5:$AD$27,MATCH('Duty Cycle '!Y31,'BSFC '!$B$5:$B$27,0),MATCH('Duty Cycle '!K31,'BSFC '!$D$28:$AD$28,0)) -> 893.29667 | AC31: =U31*AB31/3600 -> 0.31799512 | AD31: =AD30+AC31 -> 19.639416 | AE31: =AC31*3.09 -> 0.98260493 | AF31: =0.5*'Vehicle '!$F$38*'Duty Cycle '!L31^2/1000 -> 51.778359 | AG31: =Z31+AF31 -> 23699.209
A32: 18 | B32: =B31+1 -> 29 | C32: T2 | D32: =SUM($L$3:L32) -> 258.96916 | E32: =D32-D31 -> 13.312855 | F32: Tarmac | G32: 14 | H32: =G32-G31 -> 0 | I32: =DEGREES(ATAN(H32/E32)) -> 0 | J32: 3 | K32: 6500 | L32: =IF(J32=1,VLOOKUP('Duty Cycle '!K32,'Gearing '!$L$3:$O$28,2),IF(J32=2,VLOOKUP('Duty Cycle '!K32,'Gearing '!$L$2:$O$28,3),IF(J32=3,VLOOKUP('Duty Cycle '!K32,'Gearing '!$L$2:$O$28,4)))) -> 13.312855 | M32: =L32*2.237 -> 29.780856 | N32: =L32-L31 -> 0 | O32: =IF(J32=1,'Gearing '!$C$17*'Duty Cycle '!N32,IF(J32=2,'Gearing '!$C$18*'Duty Cycle '!N32,IF(J32=3,'Gearing '!$C$19*'Duty Cycle '!N32))) -> 0 | P32: =IF(F32='Track '!$B$60,'Track '!$F$53,IF(F32='Track '!$B$61,'Track '!$F$54,IF(F32='Track '!$B$62,'Track '!$F$55))) -> 0.02 | Q32: =P32*'Vehicle '!$F$38*9.81 -> 114.63966 | R32: =0.5*'Vehicle '!$F$51*'Vehicle '!$F$25*'Track '!$F$57*'Duty Cycle '!L32^2 -> 67.724887 | S32: ='Vehicle '!$F$38*9.81*SIN(RADIANS('Duty Cycle '!I32)) -> 0 | T32: =SUM(Q32:S32)+O32 -> 182.36455 | U32: =ABS(((+T32)*(+L32)/1000)) -> 2.4277927 | V32: ='Vehicle '!$F$9-'Duty Cycle '!U32 -> 10.995026 | W32: =U32 -> 2.4277927 | X32: =ABS((W32*1000)/((2*PI()*K32)/60)) -> 3.5667251 | Y32: =MIN(22,ROUNDUP(X32,0)) -> 4 | Z32: =T32*D32 -> 47226.794 | AA32: =SUM(AA31,Z32) -> 852686.91 | AB32: =INDEX('BSFC '!$D$5:$AD$27,MATCH('Duty Cycle '!Y32,'BSFC '!$B$5:$B$27,0),MATCH('Duty Cycle '!K32,'BSFC '!$D$28:$AD$28,0)) -> 799.26302 | AC32: =U32*AB32/3600 -> 0.53901248 | AD32: =AD31+AC32 -> 20.178428 | AE32: =AC32*3.09 -> 1.6655486 | AF32: =0.5*'Vehicle '!$F$38*'Duty Cycle '!L32^2/1000 -> 51.778359 | AG32: =Z32+AF32 -> 47278.572
B33: =B32+1 -> 30 | C33: T2 | D33: =SUM($L$3:L33) -> 272.28202 | E33: =D33-D32 -> 13.312855 | F33: Tarmac | G33: 14 | H33: =G33-G32 -> 0 | I33: =DEGREES(ATAN(H33/E33)) -> 0 | J33: 3 | K33: 6500 | L33: =IF(J33=1,VLOOKUP('Duty Cycle '!K33,'Gearing '!$L$3:$O$28,2),IF(J33=2,VLOOKUP('Duty Cycle '!K33,'Gearing '!$L$2:$O$28,3),IF(J33=3,VLOOKUP('Duty Cycle '!K33,'Gearing '!$L$2:$O$28,4)))) -> 13.312855 | M33: =L33*2.237 -> 29.780856 | N33: =L33-L32 -> 0 | O33: =IF(J33=1,'Gearing '!$C$17*'Duty Cycle '!N33,IF(J33=2,'Gearing '!$C$18*'Duty Cycle '!N33,IF(J33=3,'Gearing '!$C$19*'Duty Cycle '!N33))) -> 0 | P33: =IF(F33='Track '!$B$60,'Track '!$F$53,IF(F33='Track '!$B$61,'Track '!$F$54,IF(F33='Track '!$B$62,'Track '!$F$55))) -> 0.02 | Q33: =P33*'Vehicle '!$F$38*9.81 -> 114.63966 | R33: =0.5*'Vehicle '!$F$51*'Vehicle '!$F$25*'Track '!$F$57*'Duty Cycle '!L33^2 -> 67.724887 | S33: ='Vehicle '!$F$38*9.81*SIN(RADIANS('Duty Cycle '!I33)) -> 0 | T33: =SUM(Q33:S33)+O33 -> 182.36455 | U33: =ABS(((+T33)*(+L33)/1000)) -> 2.4277927 | V33: ='Vehicle '!$F$9-'Duty Cycle '!U33 -> 10.995026 | W33: =U33 -> 2.4277927 | X33: =ABS((W33*1000)/((2*PI()*K33)/60)) -> 3.5667251 | Y33: =MIN(22,ROUNDUP(X33,0)) -> 4 | Z33: =T33*D33 -> 49654.586 | AA33: =SUM(AA32,Z33) -> 902341.5 | AB33: =INDEX('BSFC '!$D$5:$AD$27,MATCH('Duty Cycle '!Y33,'BSFC '!$B$5:$B$27,0),MATCH('Duty Cycle '!K33,'BSFC '!$D$28:$AD$28,0)) -> 799.26302 | AC33: =U33*AB33/3600 -> 0.53901248 | AD33: =AD32+AC33 -> 20.717441 | AE33: =AC33*3.09 -> 1.6655486 | AF33: =0.5*'Vehicle '!$F$38*'Duty Cycle '!L33^2/1000 -> 51.778359 | AG33: =Z33+AF33 -> 49706.365
A34: Laps / Customer | B34: =B33+1 -> 31 | C34: T2 | D34: =SUM($L$3:L34) -> 285.59487 | E34: =D34-D33 -> 13.312855 | F34: Tarmac | G34: 13.8 | H34: =G34-G33 -> -0.2 | I34: =DEGREES(ATAN(H34/E34)) -> -0.86069398 | J34: 3 | K34: 6500 | L34: =IF(J34=1,VLOOKUP('Duty Cycle '!K34,'Gearing '!$L$3:$O$28,2),IF(J34=2,VLOOKUP('Duty Cycle '!K34,'Gearing '!$L$2:$O$28,3),IF(J34=3,VLOOKUP('Duty Cycle '!K34,'Gearing '!$L$2:$O$28,4)))) -> 13.312855 | M34: =L34*2.237 -> 29.780856 | N34: =L34-L33 -> 0 | O34: =IF(J34=1,'Gearing '!$C$17*'Duty Cycle '!N34,IF(J34=2,'Gearing '!$C$18*'Duty Cycle '!N34,IF(J34=3,'Gearing '!$C$19*'Duty Cycle '!N34))) -> 0 | P34: =IF(F34='Track '!$B$60,'Track '!$F$53,IF(F34='Track '!$B$61,'Track '!$F$54,IF(F34='Track '!$B$62,'Track '!$F$55))) -> 0.02 | Q34: =P34*'Vehicle '!$F$38*9.81 -> 114.63966 | R34: =0.5*'Vehicle '!$F$51*'Vehicle '!$F$25*'Track '!$F$57*'Duty Cycle '!L34^2 -> 67.724887 | S34: ='Vehicle '!$F$38*9.81*SIN(RADIANS('Duty Cycle '!I34)) -> -86.102288 | T34: =SUM(Q34:S34)+O34 -> 96.262259 | U34: =ABS(((+T34)*(+L34)/1000)) -> 1.2815255 | V34: ='Vehicle '!$F$9-'Duty Cycle '!U34 -> 12.141293 | W34: =U34 -> 1.2815255 | X34: =ABS((W34*1000)/((2*PI()*K34)/60)) -> 1.882718 | Y34: =MIN(22,ROUNDUP(X34,0)) -> 2 | Z34: =T34*D34 -> 27492.007 | AA34: =SUM(AA33,Z34) -> 929833.5 | AB34: =INDEX('BSFC '!$D$5:$AD$27,MATCH('Duty Cycle '!Y34,'BSFC '!$B$5:$B$27,0),MATCH('Duty Cycle '!K34,'BSFC '!$D$28:$AD$28,0)) -> 893.29667 | AC34: =U34*AB34/3600 -> 0.31799512 | AD34: =AD33+AC34 -> 21.035436 | AE34: =AC34*3.09 -> 0.98260493 | AF34: =0.5*'Vehicle '!$F$38*'Duty Cycle '!L34^2/1000 -> 51.778359 | AG34: =Z34+AF34 -> 27543.786
B35: =B34+1 -> 32 | C35: T2 | D35: =SUM($L$3:L35) -> 298.90772 | E35: =D35-D34 -> 13.312855 | F35: Tarmac | G35: 13.2 | H35: =G35-G34 -> -0.6 | I35: =DEGREES(ATAN(H35/E35)) -> -2.5805299 | J35: 3 | K35: 6500 | L35: =IF(J35=1,VLOOKUP('Duty Cycle '!K35,'Gearing '!$L$3:$O$28,2),IF(J35=2,VLOOKUP('Duty Cycle '!K35,'Gearing '!$L$2:$O$28,3),IF(J35=3,VLOOKUP('Duty Cycle '!K35,'Gearing '!$L$2:$O$28,4)))) -> 13.312855 | M35: =L35*2.237 -> 29.780856 | N35: =L35-L34 -> 0 | O35: =IF(J35=1,'Gearing '!$C$17*'Duty Cycle '!N35,IF(J35=2,'Gearing '!$C$18*'Duty Cycle '!N35,IF(J35=3,'Gearing '!$C$19*'Duty Cycle '!N35))) -> 0 | P35: =IF(F35='Track '!$B$60,'Track '!$F$53,IF(F35='Track '!$B$61,'Track '!$F$54,IF(F35='Track '!$B$62,'Track '!$F$55))) -> 0.02 | Q35: =P35*'Vehicle '!$F$38*9.81 -> 114.63966 | R35: =0.5*'Vehicle '!$F$51*'Vehicle '!$F$25*'Track '!$F$57*'Duty Cycle '!L35^2 -> 67.724887 | S35: ='Vehicle '!$F$38*9.81*SIN(RADIANS('Duty Cycle '!I35)) -> -258.07404 | T35: =SUM(Q35:S35)+O35 -> -75.709493 | U35: =ABS(((+T35)*(+L35)/1000)) -> 1.0079095 | V35: ='Vehicle '!$F$9-'Duty Cycle '!U35 -> 12.414909 | W35: =U35 -> 1.0079095 | X35: =ABS((W35*1000)/((2*PI()*K35)/60)) -> 1.4807425 | Y35: =MIN(22,ROUNDUP(X35,0)) -> 2 | Z35: =T35*D35 -> -22630.152 | AA35: =SUM(AA34,Z35) -> 907203.35 | AB35: =INDEX('BSFC '!$D$5:$AD$27,MATCH('Duty Cycle '!Y35,'BSFC '!$B$5:$B$27,0),MATCH('Duty Cycle '!K35,'BSFC '!$D$28:$AD$28,0)) -> 893.29667 | AC35: =U35*AB35/3600 -> 0.25010061 | AD35: =AD34+AC35 -> 21.285536 | AE35: =AC35*3.09 -> 0.77281087 | AF35: =0.5*'Vehicle '!$F$38*'Duty Cycle '!L35^2/1000 -> 51.778359 | AG35: =Z35+AF35 -> -22578.374
A36: 12 | B36: =B35+1 -> 33 | C36: T2 | D36: =SUM($L$3:L36) -> 312.22058 | E36: =D36-D35 -> 13.312855 | F36: Tarmac | G36: 12 | H36: =G36-G35 -> -1.2 | I36: =DEGREES(ATAN(H36/E36)) -> -5.1506329 | J36: 3 | K36: 6500 | L36: =IF(J36=1,VLOOKUP('Duty Cycle '!K36,'Gearing '!$L$3:$O$28,2),IF(J36=2,VLOOKUP('Duty Cycle '!K36,'Gearing '!$L$2:$O$28,3),IF(J36=3,VLOOKUP('Duty Cycle '!K36,'Gearing '!$L$2:$O$28,4)))) -> 13.312855 | M36: =L36*2.237 -> 29.780856 | N36: =L36-L35 -> 0 | O36: =IF(J36=1,'Gearing '!$C$17*'Duty Cycle '!N36,IF(J36=2,'Gearing '!$C$18*'Duty Cycle '!N36,IF(J36=3,'Gearing '!$C$19*'Duty Cycle '!N36))) -> 0 | P36: =IF(F36='Track '!$B$60,'Track '!$F$53,IF(F36='Track '!$B$61,'Track '!$F$54,IF(F36='Track '!$B$62,'Track '!$F$55))) -> 0.02 | Q36: =P36*'Vehicle '!$F$38*9.81 -> 114.63966 | R36: =0.5*'Vehicle '!$F$51*'Vehicle '!$F$25*'Track '!$F$57*'Duty Cycle '!L36^2 -> 67.724887 | S36: ='Vehicle '!$F$38*9.81*SIN(RADIANS('Duty Cycle '!I36)) -> -514.58576 | T36: =SUM(Q36:S36)+O36 -> -332.22122 | U36: =ABS(((+T36)*(+L36)/1000)) -> 4.4228128 | V36: ='Vehicle '!$F$9-'Duty Cycle '!U36 -> 9.000006 | W36: =U36 -> 4.4228128 | X36: =ABS((W36*1000)/((2*PI()*K36)/60)) -> 6.497654 | Y36: =MIN(22,ROUNDUP(X36,0)) -> 7 | Z36: =T36*D36 -> -103726.3 | AA36: =SUM(AA35,Z36) -> 803477.05 | AB36: =INDEX('BSFC '!$D$5:$AD$27,MATCH('Duty Cycle '!Y36,'BSFC '!$B$5:$B$27,0),MATCH('Duty Cycle '!K36,'BSFC '!$D$28:$AD$28,0)) -> 646.12469 | AC36: =U36*AB36/3600 -> 0.79380238 | AD36: =AD35+AC36 -> 22.079339 | AE36: =AC36*3.09 -> 2.4528493 | AF36: =0.5*'Vehicle '!$F$38*'Duty Cycle '!L36^2/1000 -> 51.778359 | AG36: =Z36+AF36 -> -103674.52
B37: =B36+1 -> 34 | C37: T2 | D37: =SUM($L$3:L37) -> 325.53343 | E37: =D37-D36 -> 13.312855 | F37: Tarmac | G37: 11 | H37: =G37-G36 -> -1 | I37: =DEGREES(ATAN(H37/E37)) -> -4.2957265 | J37: 3 | K37: 6500 | L37: =IF(J37=1,VLOOKUP('Duty Cycle '!K37,'Gearing '!$L$3:$O$28,2),IF(J37=2,VLOOKUP('Duty Cycle '!K37,'Gearing '!$L$2:$O$28,3),IF(J37=3,VLOOKUP('Duty Cycle '!K37,'Gearing '!$L$2:$O$28,4)))) -> 13.312855 | M37: =L37*2.237 -> 29.780856 | N37: =L37-L36 -> 0 | O37: =IF(J37=1,'Gearing '!$C$17*'Duty Cycle '!N37,IF(J37=2,'Gearing '!$C$18*'Duty Cycle '!N37,IF(J37=3,'Gearing '!$C$19*'Duty Cycle '!N37))) -> 0 | P37: =IF(F37='Track '!$B$60,'Track '!$F$53,IF(F37='Track '!$B$61,'Track '!$F$54,IF(F37='Track '!$B$62,'Track '!$F$55))) -> 0.02 | Q37: =P37*'Vehicle '!$F$38*9.81 -> 114.63966 | R37: =0.5*'Vehicle '!$F$51*'Vehicle '!$F$25*'Track '!$F$57*'Duty Cycle '!L37^2 -> 67.724887 | S37: ='Vehicle '!$F$38*9.81*SIN(RADIANS('Duty Cycle '!I37)) -> -429.35046 | T37: =SUM(Q37:S37)+O37 -> -246.98591 | U37: =ABS(((+T37)*(+L37)/1000)) -> 3.2880875 | V37: ='Vehicle '!$F$9-'Duty Cycle '!U37 -> 10.134731 | W37: =U37 -> 3.2880875 | X37: =ABS((W37*1000)/((2*PI()*K37)/60)) -> 4.8306036 | Y37: =MIN(22,ROUNDUP(X37,0)) -> 5 | Z37: =T37*D37 -> -80402.171 | AA37: =SUM(AA36,Z37) -> 723074.88 | AB37: =INDEX('BSFC '!$D$5:$AD$27,MATCH('Duty Cycle '!Y37,'BSFC '!$B$5:$B$27,0),MATCH('Duty Cycle '!K37,'BSFC '!$D$28:$AD$28,0)) -> 736.32698 | AC37: =U37*AB37/3600 -> 0.67252988 | AD37: =AD36+AC37 -> 22.751869 | AE37: =AC37*3.09 -> 2.0781173 | AF37: =0.5*'Vehicle '!$F$38*'Duty Cycle '!L37^2/1000 -> 51.778359 | AG37: =Z37+AF37 -> -80350.393
A38: Laps / Corporate Event | B38: =B37+1 -> 35 | C38: T2 | D38: =SUM($L$3:L38) -> 338.84629 | E38: =D38-D37 -> 13.312855 | F38: Tarmac | G38: 10 | H38: =G38-G37 -> -1 | I38: =DEGREES(ATAN(H38/E38)) -> -4.2957265 | J38: 3 | K38: 6500 | L38: =IF(J38=1,VLOOKUP('Duty Cycle '!K38,'Gearing '!$L$3:$O$28,2),IF(J38=2,VLOOKUP('Duty Cycle '!K38,'Gearing '!$L$2:$O$28,3),IF(J38=3,VLOOKUP('Duty Cycle '!K38,'Gearing '!$L$2:$O$28,4)))) -> 13.312855 | M38: =L38*2.237 -> 29.780856 | N38: =L38-L37 -> 0 | O38: =IF(J38=1,'Gearing '!$C$17*'Duty Cycle '!N38,IF(J38=2,'Gearing '!$C$18*'Duty Cycle '!N38,IF(J38=3,'Gearing '!$C$19*'Duty Cycle '!N38))) -> 0 | P38: =IF(F38='Track '!$B$60,'Track '!$F$53,IF(F38='Track '!$B$61,'Track '!$F$54,IF(F38='Track '!$B$62,'Track '!$F$55))) -> 0.02 | Q38: =P38*'Vehicle '!$F$38*9.81 -> 114.63966 | R38: =0.5*'Vehicle '!$F$51*'Vehicle '!$F$25*'Track '!$F$57*'Duty Cycle '!L38^2 -> 67.724887 | S38: ='Vehicle '!$F$38*9.81*SIN(RADIANS('Duty Cycle '!I38)) -> -429.35046 | T38: =SUM(Q38:S38)+O38 -> -246.98591 | U38: =ABS(((+T38)*(+L38)/1000)) -> 3.2880875 | V38: ='Vehicle '!$F$9-'Duty Cycle '!U38 -> 10.134731 | W38: =U38 -> 3.2880875 | X38: =ABS((W38*1000)/((2*PI()*K38)/60)) -> 4.8306036 | Y38: =MIN(22,ROUNDUP(X38,0)) -> 5 | Z38: =T38*D38 -> -83690.259 | AA38: =SUM(AA37,Z38) -> 639384.62 | AB38: =INDEX('BSFC '!$D$5:$AD$27,MATCH('Duty Cycle '!Y38,'BSFC '!$B$5:$B$27,0),MATCH('Duty Cycle '!K38,'BSFC '!$D$28:$AD$28,0)) -> 736.32698 | AC38: =U38*AB38/3600 -> 0.67252988 | AD38: =AD37+AC38 -> 23.424399 | AE38: =AC38*3.09 -> 2.0781173 | AF38: =0.5*'Vehicle '!$F$38*'Duty Cycle '!L38^2/1000 -> 51.778359 | AG38: =Z38+AF38 -> -83638.481
B39: =B38+1 -> 36 | C39: T2 | D39: =SUM($L$3:L39) -> 352.15914 | E39: =D39-D38 -> 13.312855 | F39: Tarmac | G39: 9 | H39: =G39-G38 -> -1 | I39: =DEGREES(ATAN(H39/E39)) -> -4.2957265 | J39: 3 | K39: 6500 | L39: =IF(J39=1,VLOOKUP('Duty Cycle '!K39,'Gearing '!$L$3:$O$28,2),IF(J39=2,VLOOKUP('Duty Cycle '!K39,'Gearing '!$L$2:$O$28,3),IF(J39=3,VLOOKUP('Duty Cycle '!K39,'Gearing '!$L$2:$O$28,4)))) -> 13.312855 | M39: =L39*2.237 -> 29.780856 | N39: =L39-L38 -> 0 | O39: =IF(J39=1,'Gearing '!$C$17*'Duty Cycle '!N39,IF(J39=2,'Gearing '!$C$18*'Duty Cycle '!N39,IF(J39=3,'Gearing '!$C$19*'Duty Cycle '!N39))) -> 0 | P39: =IF(F39='Track '!$B$60,'Track '!$F$53,IF(F39='Track '!$B$61,'Track '!$F$54,IF(F39='Track '!$B$62,'Track '!$F$55))) -> 0.02 | Q39: =P39*'Vehicle '!$F$38*9.81 -> 114.63966 | R39: =0.5*'Vehicle '!$F$51*'Vehicle '!$F$25*'Track '!$F$57*'Duty Cycle '!L39^2 -> 67.724887 | S39: ='Vehicle '!$F$38*9.81*SIN(RADIANS('Duty Cycle '!I39)) -> -429.35046 | T39: =SUM(Q39:S39)+O39 -> -246.98591 | U39: =ABS(((+T39)*(+L39)/1000)) -> 3.2880875 | V39: ='Vehicle '!$F$9-'Duty Cycle '!U39 -> 10.134731 | W39: =U39 -> 3.2880875 | X39: =ABS((W39*1000)/((2*PI()*K39)/60)) -> 4.8306036 | Y39: =MIN(22,ROUNDUP(X39,0)) -> 5 | Z39: =T39*D39 -> -86978.346 | AA39: =SUM(AA38,Z39) -> 552406.27 | AB39: =INDEX('BSFC '!$D$5:$AD$27,MATCH('Duty Cycle '!Y39,'BSFC '!$B$5:$B$27,0),MATCH('Duty Cycle '!K39,'BSFC '!$D$28:$AD$28,0)) -> 736.32698 | AC39: =U39*AB39/3600 -> 0.67252988 | AD39: =AD38+AC39 -> 24.096928 | AE39: =AC39*3.09 -> 2.0781173 | AF39: =0.5*'Vehicle '!$F$38*'Duty Cycle '!L39^2/1000 -> 51.778359 | AG39: =Z39+AF39 -> -86926.568
A40: =A32*A36 -> 216 | B40: =B39+1 -> 37 | C40: T2 | D40: =SUM($L$3:L40) -> 365.472 | E40: =D40-D39 -> 13.312855 | F40: Tarmac | G40: 8 | H40: =G40-G39 -> -1 | I40: =DEGREES(ATAN(H40/E40)) -> -4.2957265 | J40: 3 | K40: 6500 | L40: =IF(J40=1,VLOOKUP('Duty Cycle '!K40,'Gearing '!$L$3:$O$28,2),IF(J40=2,VLOOKUP('Duty Cycle '!K40,'Gearing '!$L$2:$O$28,3),IF(J40=3,VLOOKUP('Duty Cycle '!K40,'Gearing '!$L$2:$O$28,4)))) -> 13.312855 | M40: =L40*2.237 -> 29.780856 | N40: =L40-L39 -> 0 | O40: =IF(J40=1,'Gearing '!$C$17*'Duty Cycle '!N40,IF(J40=2,'Gearing '!$C$18*'Duty Cycle '!N40,IF(J40=3,'Gearing '!$C$19*'Duty Cycle '!N40))) -> 0 | P40: =IF(F40='Track '!$B$60,'Track '!$F$53,IF(F40='Track '!$B$61,'Track '!$F$54,IF(F40='Track '!$B$62,'Track '!$F$55))) -> 0.02 | Q40: =P40*'Vehicle '!$F$38*9.81 -> 114.63966 | R40: =0.5*'Vehicle '!$F$51*'Vehicle '!$F$25*'Track '!$F$57*'Duty Cycle '!L40^2 -> 67.724887 | S40: ='Vehicle '!$F$38*9.81*SIN(RADIANS('Duty Cycle '!I40)) -> -429.35046 | T40: =SUM(Q40:S40)+O40 -> -246.98591 | U40: =ABS(((+T40)*(+L40)/1000)) -> 3.2880875 | V40: ='Vehicle '!$F$9-'Duty Cycle '!U40 -> 10.134731 | W40: =U40 -> 3.2880875 | X40: =ABS((W40*1000)/((2*PI()*K40)/60)) -> 4.8306036 | Y40: =MIN(22,ROUNDUP(X40,0)) -> 5 | Z40: =T40*D40 -> -90266.434 | AA40: =SUM(AA39,Z40) -> 462139.84 | AB40: =INDEX('BSFC '!$D$5:$AD$27,MATCH('Duty Cycle '!Y40,'BSFC '!$B$5:$B$27,0),MATCH('Duty Cycle '!K40,'BSFC '!$D$28:$AD$28,0)) -> 736.32698 | AC40: =U40*AB40/3600 -> 0.67252988 | AD40: =AD39+AC40 -> 24.769458 | AE40: =AC40*3.09 -> 2.0781173 | AF40: =0.5*'Vehicle '!$F$38*'Duty Cycle '!L40^2/1000 -> 51.778359 | AG40: =Z40+AF40 -> -90214.656
B41: =B40+1 -> 38 | C41: S3 | D41: =SUM($L$3:L41) -> 378.78485 | E41: =D41-D40 -> 13.312855 | F41: Gravel | G41: 7 | H41: =G41-G40 -> -1 | I41: =DEGREES(ATAN(H41/E41)) -> -4.2957265 | J41: 3 | K41: 6500 | L41: =IF(J41=1,VLOOKUP('Duty Cycle '!K41,'Gearing '!$L$3:$O$28,2),IF(J41=2,VLOOKUP('Duty Cycle '!K41,'Gearing '!$L$2:$O$28,3),IF(J41=3,VLOOKUP('Duty Cycle '!K41,'Gearing '!$L$2:$O$28,4)))) -> 13.312855 | M41: =L41*2.237 -> 29.780856 | N41: =L41-L40 -> 0 | O41: =IF(J41=1,'Gearing '!$C$17*'Duty Cycle '!N41,IF(J41=2,'Gearing '!$C$18*'Duty Cycle '!N41,IF(J41=3,'Gearing '!$C$19*'Duty Cycle '!N41))) -> 0 | P41: =IF(F41='Track '!$B$60,'Track '!$F$53,IF(F41='Track '!$B$61,'Track '!$F$54,IF(F41='Track '!$B$62,'Track '!$F$55))) -> 0.04 | Q41: =P41*'Vehicle '!$F$38*9.81 -> 229.27932 | R41: =0.5*'Vehicle '!$F$51*'Vehicle '!$F$25*'Track '!$F$57*'Duty Cycle '!L41^2 -> 67.724887 | S41: ='Vehicle '!$F$38*9.81*SIN(RADIANS('Duty Cycle '!I41)) -> -429.35046 | T41: =SUM(Q41:S41)+O41 -> -132.34625 | U41: =ABS(((+T41)*(+L41)/1000)) -> 1.7619064 | V41: ='Vehicle '!$F$9-'Duty Cycle '!U41 -> 11.660912 | W41: =U41 -> 1.7619064 | X41: =ABS((W41*1000)/((2*PI()*K41)/60)) -> 2.5884564 | Y41: =MIN(22,ROUNDUP(X41,0)) -> 3 | Z41: =T41*D41 -> -50130.755 | AA41: =SUM(AA40,Z41) -> 412009.08 | AB41: =INDEX('BSFC '!$D$5:$AD$27,MATCH('Duty Cycle '!Y41,'BSFC '!$B$5:$B$27,0),MATCH('Duty Cycle '!K41,'BSFC '!$D$28:$AD$28,0)) -> 846.27984 | AC41: =U41*AB41/3600 -> 0.41418496 | AD41: =AD40+AC41 -> 25.183643 | AE41: =AC41*3.09 -> 1.2798315 | AF41: =0.5*'Vehicle '!$F$38*'Duty Cycle '!L41^2/1000 -> 51.778359 | AG41: =Z41+AF41 -> -50078.976
A42: Fuel Cost / Event (£) | B42: =B41+1 -> 39 | C42: S3 | D42: =SUM($L$3:L42) -> 392.09771 | E42: =D42-D41 -> 13.312855 | F42: Gravel | G42: 6 | H42: =G42-G41 -> -1 | I42: =DEGREES(ATAN(H42/E42)) -> -4.2957265 | J42: 3 | K42: 6500 | L42: =IF(J42=1,VLOOKUP('Duty Cycle '!K42,'Gearing '!$L$3:$O$28,2),IF(J42=2,VLOOKUP('Duty Cycle '!K42,'Gearing '!$L$2:$O$28,3),IF(J42=3,VLOOKUP('Duty Cycle '!K42,'Gearing '!$L$2:$O$28,4)))) -> 13.312855 | M42: =L42*2.237 -> 29.780856 | N42: =L42-L41 -> 0 | O42: =IF(J42=1,'Gearing '!$C$17*'Duty Cycle '!N42,IF(J42=2,'Gearing '!$C$18*'Duty Cycle '!N42,IF(J42=3,'Gearing '!$C$19*'Duty Cycle '!N42))) -> 0 | P42: =IF(F42='Track '!$B$60,'Track '!$F$53,IF(F42='Track '!$B$61,'Track '!$F$54,IF(F42='Track '!$B$62,'Track '!$F$55))) -> 0.04 | Q42: =P42*'Vehicle '!$F$38*9.81 -> 229.27932 | R42: =0.5*'Vehicle '!$F$51*'Vehicle '!$F$25*'Track '!$F$57*'Duty Cycle '!L42^2 -> 67.724887 | S42: ='Vehicle '!$F$38*9.81*SIN(RADIANS('Duty Cycle '!I42)) -> -429.35046 | T42: =SUM(Q42:S42)+O42 -> -132.34625 | U42: =ABS(((+T42)*(+L42)/1000)) -> 1.7619064 | V42: ='Vehicle '!$F$9-'Duty Cycle '!U42 -> 11.660912 | W42: =U42 -> 1.7619064 | X42: =ABS((W42*1000)/((2*PI()*K42)/60)) -> 2.5884564 | Y42: =MIN(22,ROUNDUP(X42,0)) -> 3 | Z42: =T42*D42 -> -51892.661 | AA42: =SUM(AA41,Z42) -> 360116.42 | AB42: =INDEX('BSFC '!$D$5:$AD$27,MATCH('Duty Cycle '!Y42,'BSFC '!$B$5:$B$27,0),MATCH('Duty Cycle '!K42,'BSFC '!$D$28:$AD$28,0)) -> 846.27984 | AC42: =U42*AB42/3600 -> 0.41418496 | AD42: =AD41+AC42 -> 25.597828 | AE42: =AC42*3.09 -> 1.2798315 | AF42: =0.5*'Vehicle '!$F$38*'Duty Cycle '!L42^2/1000 -> 51.778359 | AG42: =Z42+AF42 -> -51840.883
B43: =B42+1 -> 40 | C43: S3 | D43: =SUM($L$3:L43) -> 404.89853 | E43: =D43-D42 -> 12.800822 | F43: Gravel | G43: 5.5 | H43: =G43-G42 -> -0.5 | I43: =DEGREES(ATAN(H43/E43)) -> -2.2368356 | J43: 3 | K43: 6250 | L43: =IF(J43=1,VLOOKUP('Duty Cycle '!K43,'Gearing '!$L$3:$O$28,2),IF(J43=2,VLOOKUP('Duty Cycle '!K43,'Gearing '!$L$2:$O$28,3),IF(J43=3,VLOOKUP('Duty Cycle '!K43,'Gearing '!$L$2:$O$28,4)))) -> 12.800822 | M43: =L43*2.237 -> 28.635439 | N43: =L43-L42 -> -0.51203288 | O43: =IF(J43=1,'Gearing '!$C$17*'Duty Cycle '!N43,IF(J43=2,'Gearing '!$C$18*'Duty Cycle '!N43,IF(J43=3,'Gearing '!$C$19*'Duty Cycle '!N43))) -> -308.33785 | P43: =IF(F43='Track '!$B$60,'Track '!$F$53,IF(F43='Track '!$B$61,'Track '!$F$54,IF(F43='Track '!$B$62,'Track '!$F$55))) -> 0.04 | Q43: =P43*'Vehicle '!$F$38*9.81 -> 229.27932 | R43: =0.5*'Vehicle '!$F$51*'Vehicle '!$F$25*'Track '!$F$57*'Duty Cycle '!L43^2 -> 62.615465 | S43: ='Vehicle '!$F$38*9.81*SIN(RADIANS('Duty Cycle '!I43)) -> -223.72061 | T43: =SUM(Q43:S43)+O43 -> -240.16368 | U43: =ABS(((+T43)*(+L43)/1000)) -> 3.0742924 | V43: ='Vehicle '!$F$9-'Duty Cycle '!U43 -> 10.348526 | W43: =U43 -> 3.0742924 | X43: =ABS((W43*1000)/((2*PI()*K43)/60)) -> 4.6971728 | Y43: =MIN(22,ROUNDUP(X43,0)) -> 5 | Z43: =T43*D43 -> -97241.919 | AA43: =SUM(AA42,Z43) -> 262874.5 | AB43: =INDEX('BSFC '!$D$5:$AD$27,MATCH('Duty Cycle '!Y43,'BSFC '!$B$5:$B$27,0),MATCH('Duty Cycle '!K43,'BSFC '!$D$28:$AD$28,0)) -> 709.37422 | AC43: =U43*AB43/3600 -> 0.60578438 | AD43: =AD42+AC43 -> 26.203613 | AE43: =AC43*3.09 -> 1.8718737 | AF43: =0.5*'Vehicle '!$F$38*'Duty Cycle '!L43^2/1000 -> 47.872003 | AG43: =Z43+AF43 -> -97194.047
A44: =A40*A24 -> 43.875153 | B44: =B43+1 -> 41 | C44: S3 | D44: =SUM($L$3:L44) -> 417.18732 | E44: =D44-D43 -> 12.288789 | F44: Gravel | G44: 5 | H44: =G44-G43 -> -0.5 | I44: =DEGREES(ATAN(H44/E44)) -> -2.3299364 | J44: 3 | K44: 6000 | L44: =IF(J44=1,VLOOKUP('Duty Cycle '!K44,'Gearing '!$L$3:$O$28,2),IF(J44=2,VLOOKUP('Duty Cycle '!K44,'Gearing '!$L$2:$O$28,3),IF(J44=3,VLOOKUP('Duty Cycle '!K44,'Gearing '!$L$2:$O$28,4)))) -> 12.288789 | M44: =L44*2.237 -> 27.490021 | N44: =L44-L43 -> -0.51203288 | O44: =IF(J44=1,'Gearing '!$C$17*'Duty Cycle '!N44,IF(J44=2,'Gearing '!$C$18*'Duty Cycle '!N44,IF(J44=3,'Gearing '!$C$19*'Duty Cycle '!N44))) -> -308.33785 | P44: =IF(F44='Track '!$B$60,'Track '!$F$53,IF(F44='Track '!$B$61,'Track '!$F$54,IF(F44='Track '!$B$62,'Track '!$F$55))) -> 0.04 | Q44: =P44*'Vehicle '!$F$38*9.81 -> 229.27932 | R44: =0.5*'Vehicle '!$F$51*'Vehicle '!$F$25*'Track '!$F$57*'Duty Cycle '!L44^2 -> 57.706413 | S44: ='Vehicle '!$F$38*9.81*SIN(RADIANS('Duty Cycle '!I44)) -> -233.02721 | T44: =SUM(Q44:S44)+O44 -> -254.37932 | U44: =ABS(((+T44)*(+L44)/1000)) -> 3.1260138 | V44: ='Vehicle '!$F$9-'Duty Cycle '!U44 -> 10.296805 | W44: =U44 -> 3.1260138 | X44: =ABS((W44*1000)/((2*PI()*K44)/60)) -> 4.9752055 | Y44: =MIN(22,ROUNDUP(X44,0)) -> 5 | Z44: =T44*D44 -> -106123.83 | AA44: =SUM(AA43,Z44) -> 156750.68 | AB44: =INDEX('BSFC '!$D$5:$AD$27,MATCH('Duty Cycle '!Y44,'BSFC '!$B$5:$B$27,0),MATCH('Duty Cycle '!K44,'BSFC '!$D$28:$AD$28,0)) -> 679.12827 | AC44: =U44*AB44/3600 -> 0.58971232 | AD44: =AD43+AC44 -> 26.793325 | AE44: =AC44*3.09 -> 1.8222111 | AF44: =0.5*'Vehicle '!$F$38*'Duty Cycle '!L44^2/1000 -> 44.118838 | AG44: =Z44+AF44 -> -106079.71
B45: =B44+1 -> 42 | C45: T3 | D45: =SUM($L$3:L45) -> 428.45204 | E45: =D45-D44 -> 11.264723 | F45: Gravel | G45: 5 | H45: =G45-G44 -> 0 | I45: =DEGREES(ATAN(H45/E45)) -> 0 | J45: 3 | K45: 5500 | L45: =IF(J45=1,VLOOKUP('Duty Cycle '!K45,'Gearing '!$L$3:$O$28,2),IF(J45=2,VLOOKUP('Duty Cycle '!K45,'Gearing '!$L$2:$O$28,3),IF(J45=3,VLOOKUP('Duty Cycle '!K45,'Gearing '!$L$2:$O$28,4)))) -> 11.264723 | M45: =L45*2.237 -> 25.199186 | N45: =L45-L44 -> -1.0240658 | O45: =IF(J45=1,'Gearing '!$C$17*'Duty Cycle '!N45,IF(J45=2,'Gearing '!$C$18*'Duty Cycle '!N45,IF(J45=3,'Gearing '!$C$19*'Duty Cycle '!N45))) -> -616.6757 | P45: =IF(F45='Track '!$B$60,'Track '!$F$53,IF(F45='Track '!$B$61,'Track '!$F$54,IF(F45='Track '!$B$62,'Track '!$F$55))) -> 0.04 | Q45: =P45*'Vehicle '!$F$38*9.81 -> 229.27932 | R45: =0.5*'Vehicle '!$F$51*'Vehicle '!$F$25*'Track '!$F$57*'Duty Cycle '!L45^2 -> 48.489416 | S45: ='Vehicle '!$F$38*9.81*SIN(RADIANS('Duty Cycle '!I45)) -> 0 | T45: =SUM(Q45:S45)+O45 -> -338.90696 | U45: =ABS(((+T45)*(+L45)/1000)) -> 3.8176931 | V45: ='Vehicle '!$F$9-'Duty Cycle '!U45 -> 9.6051257 | W45: =U45 -> 3.8176931 | X45: =ABS((W45*1000)/((2*PI()*K45)/60)) -> 6.6284153 | Y45: =MIN(22,ROUNDUP(X45,0)) -> 7 | Z45: =T45*D45 -> -145205.38 | AA45: =SUM(AA44,Z45) -> 11545.297 | AB45: =INDEX('BSFC '!$D$5:$AD$27,MATCH('Duty Cycle '!Y45,'BSFC '!$B$5:$B$27,0),MATCH('Duty Cycle '!K45,'BSFC '!$D$28:$AD$28,0)) -> 503.79912 | AC45: =U45*AB45/3600 -> 0.53426401 | AD45: =AD44+AC45 -> 27.327589 | AE45: =AC45*3.09 -> 1.6508758 | AF45: =0.5*'Vehicle '!$F$38*'Duty Cycle '!L45^2/1000 -> 37.072079 | AG45: =Z45+AF45 -> -145168.31
A46: Approximate Lap Time (s) | B46: =B45+1 -> 43 | C46: T3 | D46: =SUM($L$3:L46) -> 438.6927 | E46: =D46-D45 -> 10.240658 | F46: Gravel | G46: 5 | H46: =G46-G45 -> 0 | I46: =DEGREES(ATAN(H46/E46)) -> 0 | J46: 3 | K46: 5000 | L46: =IF(J46=1,VLOOKUP('Duty Cycle '!K46,'Gearing '!$L$3:$O$28,2),IF(J46=2,VLOOKUP('Duty Cycle '!K46,'Gearing '!$L$2:$O$28,3),IF(J46=3,VLOOKUP('Duty Cycle '!K46,'Gearing '!$L$2:$O$28,4)))) -> 10.240658 | M46: =L46*2.237 -> 22.908351 | N46: =L46-L45 -> -1.0240658 | O46: =IF(J46=1,'Gearing '!$C$17*'Duty Cycle '!N46,IF(J46=2,'Gearing '!$C$18*'Duty Cycle '!N46,IF(J46=3,'Gearing '!$C$19*'Duty Cycle '!N46))) -> -616.6757 | P46: =IF(F46='Track '!$B$60,'Track '!$F$53,IF(F46='Track '!$B$61,'Track '!$F$54,IF(F46='Track '!$B$62,'Track '!$F$55))) -> 0.04 | Q46: =P46*'Vehicle '!$F$38*9.81 -> 229.27932 | R46: =0.5*'Vehicle '!$F$51*'Vehicle '!$F$25*'Track '!$F$57*'Duty Cycle '!L46^2 -> 40.073898 | S46: ='Vehicle '!$F$38*9.81*SIN(RADIANS('Duty Cycle '!I46)) -> 0 | T46: =SUM(Q46:S46)+O46 -> -347.32248 | U46: =ABS(((+T46)*(+L46)/1000)) -> 3.5568106 | V46: ='Vehicle '!$F$9-'Duty Cycle '!U46 -> 9.8660082 | W46: =U46 -> 3.5568106 | X46: =ABS((W46*1000)/((2*PI()*K46)/60)) -> 6.7930078 | Y46: =MIN(22,ROUNDUP(X46,0)) -> 7 | Z46: =T46*D46 -> -152367.84 | AA46: =SUM(AA45,Z46) -> -140822.54 | AB46: =INDEX('BSFC '!$D$5:$AD$27,MATCH('Duty Cycle '!Y46,'BSFC '!$B$5:$B$27,0),MATCH('Duty Cycle '!K46,'BSFC '!$D$28:$AD$28,0)) -> 497.72074 | AC46: =U46*AB46/3600 -> 0.49174956 | AD46: =AD45+AC46 -> 27.819339 | AE46: =AC46*3.09 -> 1.5195061 | AF46: =0.5*'Vehicle '!$F$38*'Duty Cycle '!L46^2/1000 -> 30.638082 | AG46: =Z46+AF46 -> -152337.2
B47: =B46+1 -> 44 | C47: T3 | D47: =SUM($L$3:L47) -> 447.72155 | E47: =D47-D46 -> 9.0288464 | F47: Gravel | G47: 5 | H47: =G47-G46 -> 0 | I47: =DEGREES(ATAN(H47/E47)) -> 0 | J47: 2 | K47: 5750 | L47: =IF(J47=1,VLOOKUP('Duty Cycle '!K47,'Gearing '!$L$3:$O$28,2),IF(J47=2,VLOOKUP('Duty Cycle '!K47,'Gearing '!$L$2:$O$28,3),IF(J47=3,VLOOKUP('Duty Cycle '!K47,'Gearing '!$L$2:$O$28,4)))) -> 9.0288464 | M47: =L47*2.237 -> 20.197529 | N47: =L47-L46 -> -1.2118111 | O47: =IF(J47=1,'Gearing '!$C$17*'Duty Cycle '!N47,IF(J47=2,'Gearing '!$C$18*'Duty Cycle '!N47,IF(J47=3,'Gearing '!$C$19*'Duty Cycle '!N47))) -> -732.82261 | P47: =IF(F47='Track '!$B$60,'Track '!$F$53,IF(F47='Track '!$B$61,'Track '!$F$54,IF(F47='Track '!$B$62,'Track '!$F$55))) -> 0.04 | Q47: =P47*'Vehicle '!$F$38*9.81 -> 229.27932 | R47: =0.5*'Vehicle '!$F$51*'Vehicle '!$F$25*'Track '!$F$57*'Duty Cycle '!L47^2 -> 31.150888 | S47: ='Vehicle '!$F$38*9.81*SIN(RADIANS('Duty Cycle '!I47)) -> 0 | T47: =SUM(Q47:S47)+O47 -> -472.3924 | U47: =ABS(((+T47)*(+L47)/1000)) -> 4.2651584 | V47: ='Vehicle '!$F$9-'Duty Cycle '!U47 -> 9.1576604 | W47: =U47 -> 4.2651584 | X47: =ABS((W47*1000)/((2*PI()*K47)/60)) -> 7.08335 | Y47: =MIN(22,ROUNDUP(X47,0)) -> 8 | Z47: =T47*D47 -> -211500.26 | AA47: =SUM(AA46,Z47) -> -352322.8 | AB47: =INDEX('BSFC '!$D$5:$AD$27,MATCH('Duty Cycle '!Y47,'BSFC '!$B$5:$B$27,0),MATCH('Duty Cycle '!K47,'BSFC '!$D$28:$AD$28,0)) -> 492.10327 | AC47: =U47*AB47/3600 -> 0.58302734 | AD47: =AD46+AC47 -> 28.402366 | AE47: =AC47*3.09 -> 1.8015545 | AF47: =0.5*'Vehicle '!$F$38*'Duty Cycle '!L47^2/1000 -> 23.816088 | AG47: =Z47+AF47 -> -211476.44
A48: =MAX(B:B) -> 150 | B48: =B47+1 -> 45 | C48: T3 | D48: =SUM($L$3:L48) -> 456.75039 | E48: =D48-D47 -> 9.0288464 | F48: Gravel | G48: 5 | H48: =G48-G47 -> 0 | I48: =DEGREES(ATAN(H48/E48)) -> 0 | J48: 2 | K48: 5750 | L48: =IF(J48=1,VLOOKUP('Duty Cycle '!K48,'Gearing '!$L$3:$O$28,2),IF(J48=2,VLOOKUP('Duty Cycle '!K48,'Gearing '!$L$2:$O$28,3),IF(J48=3,VLOOKUP('Duty Cycle '!K48,'Gearing '!$L$2:$O$28,4)))) -> 9.0288464 | M48: =L48*2.237 -> 20.197529 | N48: =L48-L47 -> 0 | O48: =IF(J48=1,'Gearing '!$C$17*'Duty Cycle '!N48,IF(J48=2,'Gearing '!$C$18*'Duty Cycle '!N48,IF(J48=3,'Gearing '!$C$19*'Duty Cycle '!N48))) -> 0 | P48: =IF(F48='Track '!$B$60,'Track '!$F$53,IF(F48='Track '!$B$61,'Track '!$F$54,IF(F48='Track '!$B$62,'Track '!$F$55))) -> 0.04 | Q48: =P48*'Vehicle '!$F$38*9.81 -> 229.27932 | R48: =0.5*'Vehicle '!$F$51*'Vehicle '!$F$25*'Track '!$F$57*'Duty Cycle '!L48^2 -> 31.150888 | S48: ='Vehicle '!$F$38*9.81*SIN(RADIANS('Duty Cycle '!I48)) -> 0 | T48: =SUM(Q48:S48)+O48 -> 260.43021 | U48: =ABS(((+T48)*(+L48)/1000)) -> 2.3513843 | V48: ='Vehicle '!$F$9-'Duty Cycle '!U48 -> 11.071434 | W48: =U48 -> 2.3513843 | X48: =ABS((W48*1000)/((2*PI()*K48)/60)) -> 3.905055 | Y48: =MIN(22,ROUNDUP(X48,0)) -> 4 | Z48: =T48*D48 -> 118951.6 | AA48: =SUM(AA47,Z48) -> -233371.2 | AB48: =INDEX('BSFC '!$D$5:$AD$27,MATCH('Duty Cycle '!Y48,'BSFC '!$B$5:$B$27,0),MATCH('Duty Cycle '!K48,'BSFC '!$D$28:$AD$28,0)) -> 735.91109 | AC48: =U48*AB48/3600 -> 0.48066939 | AD48: =AD47+AC48 -> 28.883035 | AE48: =AC48*3.09 -> 1.4852684 | AF48: =0.5*'Vehicle '!$F$38*'Duty Cycle '!L48^2/1000 -> 23.816088 | AG48: =Z48+AF48 -> 118975.42
B49: =B48+1 -> 46 | C49: T3 | D49: =SUM($L$3:L49) -> 465.77924 | E49: =D49-D48 -> 9.0288464 | F49: Gravel | G49: 5 | H49: =G49-G48 -> 0 | I49: =DEGREES(ATAN(H49/E49)) -> 0 | J49: 2 | K49: 5750 | L49: =IF(J49=1,VLOOKUP('Duty Cycle '!K49,'Gearing '!$L$3:$O$28,2),IF(J49=2,VLOOKUP('Duty Cycle '!K49,'Gearing '!$L$2:$O$28,3),IF(J49=3,VLOOKUP('Duty Cycle '!K49,'Gearing '!$L$2:$O$28,4)))) -> 9.0288464 | M49: =L49*2.237 -> 20.197529 | N49: =L49-L48 -> 0 | O49: =IF(J49=1,'Gearing '!$C$17*'Duty Cycle '!N49,IF(J49=2,'Gearing '!$C$18*'Duty Cycle '!N49,IF(J49=3,'Gearing '!$C$19*'Duty Cycle '!N49))) -> 0 | P49: =IF(F49='Track '!$B$60,'Track '!$F$53,IF(F49='Track '!$B$61,'Track '!$F$54,IF(F49='Track '!$B$62,'Track '!$F$55))) -> 0.04 | Q49: =P49*'Vehicle '!$F$38*9.81 -> 229.27932 | R49: =0.5*'Vehicle '!$F$51*'Vehicle '!$F$25*'Track '!$F$57*'Duty Cycle '!L49^2 -> 31.150888 | S49: ='Vehicle '!$F$38*9.81*SIN(RADIANS('Duty Cycle '!I49)) -> 0 | T49: =SUM(Q49:S49)+O49 -> 260.43021 | U49: =ABS(((+T49)*(+L49)/1000)) -> 2.3513843 | V49: ='Vehicle '!$F$9-'Duty Cycle '!U49 -> 11.071434 | W49: =U49 -> 2.3513843 | X49: =ABS((W49*1000)/((2*PI()*K49)/60)) -> 3.905055 | Y49: =MIN(22,ROUNDUP(X49,0)) -> 4 | Z49: =T49*D49 -> 121302.98 | AA49: =SUM(AA48,Z49) -> -112068.21 | AB49: =INDEX('BSFC '!$D$5:$AD$27,MATCH('Duty Cycle '!Y49,'BSFC '!$B$5:$B$27,0),MATCH('Duty Cycle '!K49,'BSFC '!$D$28:$AD$28,0)) -> 735.91109 | AC49: =U49*AB49/3600 -> 0.48066939 | AD49: =AD48+AC49 -> 29.363705 | AE49: =AC49*3.09 -> 1.4852684 | AF49: =0.5*'Vehicle '!$F$38*'Duty Cycle '!L49^2/1000 -> 23.816088 | AG49: =Z49+AF49 -> 121326.8
A50: CO2 Produced per Lap (Kg) | B50: =B49+1 -> 47 | C50: T3 | D50: =SUM($L$3:L50) -> 474.80809 | E50: =D50-D49 -> 9.0288464 | F50: Gravel | G50: 5 | H50: =G50-G49 -> 0 | I50: =DEGREES(ATAN(H50/E50)) -> 0 | J50: 2 | K50: 5750 | L50: =IF(J50=1,VLOOKUP('Duty Cycle '!K50,'Gearing '!$L$3:$O$28,2),IF(J50=2,VLOOKUP('Duty Cycle '!K50,'Gearing '!$L$2:$O$28,3),IF(J50=3,VLOOKUP('Duty Cycle '!K50,'Gearing '!$L$2:$O$28,4)))) -> 9.0288464 | M50: =L50*2.237 -> 20.197529 | N50: =L50-L49 -> 0 | O50: =IF(J50=1,'Gearing '!$C$17*'Duty Cycle '!N50,IF(J50=2,'Gearing '!$C$18*'Duty Cycle '!N50,IF(J50=3,'Gearing '!$C$19*'Duty Cycle '!N50))) -> 0 | P50: =IF(F50='Track '!$B$60,'Track '!$F$53,IF(F50='Track '!$B$61,'Track '!$F$54,IF(F50='Track '!$B$62,'Track '!$F$55))) -> 0.04 | Q50: =P50*'Vehicle '!$F$38*9.81 -> 229.27932 | R50: =0.5*'Vehicle '!$F$51*'Vehicle '!$F$25*'Track '!$F$57*'Duty Cycle '!L50^2 -> 31.150888 | S50: ='Vehicle '!$F$38*9.81*SIN(RADIANS('Duty Cycle '!I50)) -> 0 | T50: =SUM(Q50:S50)+O50 -> 260.43021 | U50: =ABS(((+T50)*(+L50)/1000)) -> 2.3513843 | V50: ='Vehicle '!$F$9-'Duty Cycle '!U50 -> 11.071434 | W50: =U50 -> 2.3513843 | X50: =ABS((W50*1000)/((2*PI()*K50)/60)) -> 3.905055 | Y50: =MIN(22,ROUNDUP(X50,0)) -> 4 | Z50: =T50*D50 -> 123654.37 | AA50: =SUM(AA49,Z50) -> 11586.156 | AB50: =INDEX('BSFC '!$D$5:$AD$27,MATCH('Duty Cycle '!Y50,'BSFC '!$B$5:$B$27,0),MATCH('Duty Cycle '!K50,'BSFC '!$D$28:$AD$28,0)) -> 735.91109 | AC50: =U50*AB50/3600 -> 0.48066939 | AD50: =AD49+AC50 -> 29.844374 | AE50: =AC50*3.09 -> 1.4852684 | AF50: =0.5*'Vehicle '!$F$38*'Duty Cycle '!L50^2/1000 -> 23.816088 | AG50: =Z50+AF50 -> 123678.18
B51: =B50+1 -> 48 | C51: T3 | D51: =SUM($L$3:L51) -> 483.83693 | E51: =D51-D50 -> 9.0288464 | F51: Gravel | G51: 5 | H51: =G51-G50 -> 0 | I51: =DEGREES(ATAN(H51/E51)) -> 0 | J51: 2 | K51: 5750 | L51: =IF(J51=1,VLOOKUP('Duty Cycle '!K51,'Gearing '!$L$3:$O$28,2),IF(J51=2,VLOOKUP('Duty Cycle '!K51,'Gearing '!$L$2:$O$28,3),IF(J51=3,VLOOKUP('Duty Cycle '!K51,'Gearing '!$L$2:$O$28,4)))) -> 9.0288464 | M51: =L51*2.237 -> 20.197529 | N51: =L51-L50 -> 0 | O51: =IF(J51=1,'Gearing '!$C$17*'Duty Cycle '!N51,IF(J51=2,'Gearing '!$C$18*'Duty Cycle '!N51,IF(J51=3,'Gearing '!$C$19*'Duty Cycle '!N51))) -> 0 | P51: =IF(F51='Track '!$B$60,'Track '!$F$53,IF(F51='Track '!$B$61,'Track '!$F$54,IF(F51='Track '!$B$62,'Track '!$F$55))) -> 0.04 | Q51: =P51*'Vehicle '!$F$38*9.81 -> 229.27932 | R51: =0.5*'Vehicle '!$F$51*'Vehicle '!$F$25*'Track '!$F$57*'Duty Cycle '!L51^2 -> 31.150888 | S51: ='Vehicle '!$F$38*9.81*SIN(RADIANS('Duty Cycle '!I51)) -> 0 | T51: =SUM(Q51:S51)+O51 -> 260.43021 | U51: =ABS(((+T51)*(+L51)/1000)) -> 2.3513843 | V51: ='Vehicle '!$F$9-'Duty Cycle '!U51 -> 11.071434 | W51: =U51 -> 2.3513843 | X51: =ABS((W51*1000)/((2*PI()*K51)/60)) -> 3.905055 | Y51: =MIN(22,ROUNDUP(X51,0)) -> 4 | Z51: =T51*D51 -> 126005.75 | AA51: =SUM(AA50,Z51) -> 137591.91 | AB51: =INDEX('BSFC '!$D$5:$AD$27,MATCH('Duty Cycle '!Y51,'BSFC '!$B$5:$B$27,0),MATCH('Duty Cycle '!K51,'BSFC '!$D$28:$AD$28,0)) -> 735.91109 | AC51: =U51*AB51/3600 -> 0.48066939 | AD51: =AD50+AC51 -> 30.325043 | AE51: =AC51*3.09 -> 1.4852684 | AF51: =0.5*'Vehicle '!$F$38*'Duty Cycle '!L51^2/1000 -> 23.816088 | AG51: =Z51+AF51 -> 126029.57
A52: =SUM(AE3:AE153)/1000 -> 0.32236879 | B52: =B51+1 -> 49 | C52: T3 | D52: =SUM($L$3:L52) -> 492.86578 | E52: =D52-D51 -> 9.0288464 | F52: Gravel | G52: 4.8 | H52: =G52-G51 -> -0.2 | I52: =DEGREES(ATAN(H52/E52)) -> -1.2689641 | J52: 2 | K52: 5750 | L52: =IF(J52=1,VLOOKUP('Duty Cycle '!K52,'Gearing '!$L$3:$O$28,2),IF(J52=2,VLOOKUP('Duty Cycle '!K52,'Gearing '!$L$2:$O$28,3),IF(J52=3,VLOOKUP('Duty Cycle '!K52,'Gearing '!$L$2:$O$28,4)))) -> 9.0288464 | M52: =L52*2.237 -> 20.197529 | N52: =L52-L51 -> 0 | O52: =IF(J52=1,'Gearing '!$C$17*'Duty Cycle '!N52,IF(J52=2,'Gearing '!$C$18*'Duty Cycle '!N52,IF(J52=3,'Gearing '!$C$19*'Duty Cycle '!N52))) -> 0 | P52: =IF(F52='Track '!$B$60,'Track '!$F$53,IF(F52='Track '!$B$61,'Track '!$F$54,IF(F52='Track '!$B$62,'Track '!$F$55))) -> 0.04 | Q52: =P52*'Vehicle '!$F$38*9.81 -> 229.27932 | R52: =0.5*'Vehicle '!$F$51*'Vehicle '!$F$25*'Track '!$F$57*'Duty Cycle '!L52^2 -> 31.150888 | S52: ='Vehicle '!$F$38*9.81*SIN(RADIANS('Duty Cycle '!I52)) -> -126.9393 | T52: =SUM(Q52:S52)+O52 -> 133.49091 | U52: =ABS(((+T52)*(+L52)/1000)) -> 1.2052689 | V52: ='Vehicle '!$F$9-'Duty Cycle '!U52 -> 12.21755 | W52: =U52 -> 1.2052689 | X52: =ABS((W52*1000)/((2*PI()*K52)/60)) -> 2.001647 | Y52: =MIN(22,ROUNDUP(X52,0)) -> 3 | Z52: =T52*D52 -> 65793.1 | AA52: =SUM(AA51,Z52) -> 203385.01 | AB52: =INDEX('BSFC '!$D$5:$AD$27,MATCH('Duty Cycle '!Y52,'BSFC '!$B$5:$B$27,0),MATCH('Duty Cycle '!K52,'BSFC '!$D$28:$AD$28,0)) -> 811.44928 | AC52: =U52*AB52/3600 -> 0.27167072 | AD52: =AD51+AC52 -> 30.596714 | AE52: =AC52*3.09 -> 0.83946251 | AF52: =0.5*'Vehicle '!$F$38*'Duty Cycle '!L52^2/1000 -> 23.816088 | AG52: =Z52+AF52 -> 65816.916
B53: =B52+1 -> 50 | C53: T3 | D53: =SUM($L$3:L53) -> 501.89462 | E53: =D53-D52 -> 9.0288464 | F53: Gravel | G53: 4.4 | H53: =G53-G52 -> -0.4 | I53: =DEGREES(ATAN(H53/E53)) -> -2.5366846 | J53: 2 | K53: 5750 | L53: =IF(J53=1,VLOOKUP('Duty Cycle '!K53,'Gearing '!$L$3:$O$28,2),IF(J53=2,VLOOKUP('Duty Cycle '!K53,'Gearing '!$L$2:$O$28,3),IF(J53=3,VLOOKUP('Duty Cycle '!K53,'Gearing '!$L$2:$O$28,4)))) -> 9.0288464 | M53: =L53*2.237 -> 20.197529 | N53: =L53-L52 -> 0 | O53: =IF(J53=1,'Gearing '!$C$17*'Duty Cycle '!N53,IF(J53=2,'Gearing '!$C$18*'Duty Cycle '!N53,IF(J53=3,'Gearing '!$C$19*'Duty Cycle '!N53))) -> 0 | P53: =IF(F53='Track '!$B$60,'Track '!$F$53,IF(F53='Track '!$B$61,'Track '!$F$54,IF(F53='Track '!$B$62,'Track '!$F$55))) -> 0.04 | Q53: =P53*'Vehicle '!$F$38*9.81 -> 229.27932 | R53: =0.5*'Vehicle '!$F$51*'Vehicle '!$F$25*'Track '!$F$57*'Duty Cycle '!L53^2 -> 31.150888 | S53: ='Vehicle '!$F$38*9.81*SIN(RADIANS('Duty Cycle '!I53)) -> -253.69204 | T53: =SUM(Q53:S53)+O53 -> 6.7381666 | U53: =ABS(((+T53)*(+L53)/1000)) -> 0.060837871 | V53: ='Vehicle '!$F$9-'Duty Cycle '!U53 -> 13.361981 | W53: =U53 -> 0.060837871 | X53: =ABS((W53*1000)/((2*PI()*K53)/60)) -> 0.10103633 | Y53: =MIN(22,ROUNDUP(X53,0)) -> 1 | Z53: =T53*D53 -> 3381.8496 | AA53: =SUM(AA52,Z53) -> 206766.86 | AB53: =INDEX('BSFC '!$D$5:$AD$27,MATCH('Duty Cycle '!Y53,'BSFC '!$B$5:$B$27,0),MATCH('Duty Cycle '!K53,'BSFC '!$D$28:$AD$28,0)) -> 962.52566 | AC53: =U53*AB53/3600 -> 0.016266114 | AD53: =AD52+AC53 -> 30.61298 | AE53: =AC53*3.09 -> 0.050262294 | AF53: =0.5*'Vehicle '!$F$38*'Duty Cycle '!L53^2/1000 -> 23.816088 | AG53: =Z53+AF53 -> 3405.6657
A54: CO2 Produced per Event (Kg) | B54: =B53+1 -> 51 | C54: T3 | D54: =SUM($L$3:L54) -> 511.31603 | E54: =D54-D53 -> 9.4214049 | F54: Gravel | G54: 3.6 | H54: =G54-G53 -> -0.8 | I54: =DEGREES(ATAN(H54/E54)) -> -4.8535154 | J54: 2 | K54: 6000 | L54: =IF(J54=1,VLOOKUP('Duty Cycle '!K54,'Gearing '!$L$3:$O$28,2),IF(J54=2,VLOOKUP('Duty Cycle '!K54,'Gearing '!$L$2:$O$28,3),IF(J54=3,VLOOKUP('Duty Cycle '!K54,'Gearing '!$L$2:$O$28,4)))) -> 9.4214049 | M54: =L54*2.237 -> 21.075683 | N54: =L54-L53 -> 0.39255854 | O54: =IF(J54=1,'Gearing '!$C$17*'Duty Cycle '!N54,IF(J54=2,'Gearing '!$C$18*'Duty Cycle '!N54,IF(J54=3,'Gearing '!$C$19*'Duty Cycle '!N54))) -> 237.39324 | P54: =IF(F54='Track '!$B$60,'Track '!$F$53,IF(F54='Track '!$B$61,'Track '!$F$54,IF(F54='Track '!$B$62,'Track '!$F$55))) -> 0.04 | Q54: =P54*'Vehicle '!$F$38*9.81 -> 229.27932 | R54: =0.5*'Vehicle '!$F$51*'Vehicle '!$F$25*'Track '!$F$57*'Duty Cycle '!L54^2 -> 33.918547 | S54: ='Vehicle '!$F$38*9.81*SIN(RADIANS('Duty Cycle '!I54)) -> -484.97477 | T54: =SUM(Q54:S54)+O54 -> 15.616333 | U54: =ABS(((+T54)*(+L54)/1000)) -> 0.14712779 | V54: ='Vehicle '!$F$9-'Duty Cycle '!U54 -> 13.275691 | W54: =U54 -> 0.14712779 | X54: =ABS((W54*1000)/((2*PI()*K54)/60)) -> 0.23416116 | Y54: =MIN(22,ROUNDUP(X54,0)) -> 1 | Z54: =T54*D54 -> 7984.8812 | AA54: =SUM(AA53,Z54) -> 214751.74 | AB54: =INDEX('BSFC '!$D$5:$AD$27,MATCH('Duty Cycle '!Y54,'BSFC '!$B$5:$B$27,0),MATCH('Duty Cycle '!K54,'BSFC '!$D$28:$AD$28,0)) -> 932.65194 | AC54: =U54*AB54/3600 -> 0.038116395 | AD54: =AD53+AC54 -> 30.651097 | AE54: =AC54*3.09 -> 0.11777966 | AF54: =0.5*'Vehicle '!$F$38*'Duty Cycle '!L54^2/1000 -> 25.932073 | AG54: =Z54+AF54 -> 8010.8133
B55: =B54+1 -> 52 | C55: T3 | D55: =SUM($L$3:L55) -> 521.52255 | E55: =D55-D54 -> 10.206522 | F55: Gravel | G55: 2.6 | H55: =G55-G54 -> -1 | I55: =DEGREES(ATAN(H55/E55)) -> -5.5957841 | J55: 2 | K55: 6500 | L55: =IF(J55=1,VLOOKUP('Duty Cycle '!K55,'Gearing '!$L$3:$O$28,2),IF(J55=2,VLOOKUP('Duty Cycle '!K55,'Gearing '!$L$2:$O$28,3),IF(J55=3,VLOOKUP('Duty Cycle '!K55,'Gearing '!$L$2:$O$28,4)))) -> 10.206522 | M55: =L55*2.237 -> 22.83199 | N55: =L55-L54 -> 0.78511708 | O55: =IF(J55=1,'Gearing '!$C$17*'Duty Cycle '!N55,IF(J55=2,'Gearing '!$C$18*'Duty Cycle '!N55,IF(J55=3,'Gearing '!$C$19*'Duty Cycle '!N55))) -> 474.78648 | P55: =IF(F55='Track '!$B$60,'Track '!$F$53,IF(F55='Track '!$B$61,'Track '!$F$54,IF(F55='Track '!$B$62,'Track '!$F$55))) -> 0.04 | Q55: =P55*'Vehicle '!$F$38*9.81 -> 229.27932 | R55: =0.5*'Vehicle '!$F$51*'Vehicle '!$F$25*'Track '!$F$57*'Duty Cycle '!L55^2 -> 39.807184 | S55: ='Vehicle '!$F$38*9.81*SIN(RADIANS('Duty Cycle '!I55)) -> -558.92376 | T55: =SUM(Q55:S55)+O55 -> 184.94922 | U55: =ABS(((+T55)*(+L55)/1000)) -> 1.8876883 | V55: ='Vehicle '!$F$9-'Duty Cycle '!U55 -> 11.535131 | W55: =U55 -> 1.8876883 | X55: =ABS((W55*1000)/((2*PI()*K55)/60)) -> 2.7732454 | Y55: =MIN(22,ROUNDUP(X55,0)) -> 3 | Z55: =T55*D55 -> 96455.189 | AA55: =SUM(AA54,Z55) -> 311206.93 | AB55: =INDEX('BSFC '!$D$5:$AD$27,MATCH('Duty Cycle '!Y55,'BSFC '!$B$5:$B$27,0),MATCH('Duty Cycle '!K55,'BSFC '!$D$28:$AD$28,0)) -> 846.27984 | AC55: =U55*AB55/3600 -> 0.44375348 | AD55: =AD54+AC55 -> 31.09485 | AE55: =AC55*3.09 -> 1.3711983 | AF55: =0.5*'Vehicle '!$F$38*'Duty Cycle '!L55^2/1000 -> 30.434169 | AG55: =Z55+AF55 -> 96485.623
A56: =A52*A40 -> 69.631659 | B56: =B55+1 -> 53 | C56: S4 | D56: =SUM($L$3:L56) -> 532.27524 | E56: =D56-D55 -> 10.75269 | F56: Gravel | G56: 1.6 | H56: =G56-G55 -> -1 | I56: =DEGREES(ATAN(H56/E56)) -> -5.3132236 | J56: 3 | K56: 5250 | L56: =IF(J56=1,VLOOKUP('Duty Cycle '!K56,'Gearing '!$L$3:$O$28,2),IF(J56=2,VLOOKUP('Duty Cycle '!K56,'Gearing '!$L$2:$O$28,3),IF(J56=3,VLOOKUP('Duty Cycle '!K56,'Gearing '!$L$2:$O$28,4)))) -> 10.75269 | M56: =L56*2.237 -> 24.053768 | N56: =L56-L55 -> 0.5461684 | O56: =IF(J56=1,'Gearing '!$C$17*'Duty Cycle '!N56,IF(J56=2,'Gearing '!$C$18*'Duty Cycle '!N56,IF(J56=3,'Gearing '!$C$19*'Duty Cycle '!N56))) -> 328.89371 | P56: =IF(F56='Track '!$B$60,'Track '!$F$53,IF(F56='Track '!$B$61,'Track '!$F$54,IF(F56='Track '!$B$62,'Track '!$F$55))) -> 0.04 | Q56: =P56*'Vehicle '!$F$38*9.81 -> 229.27932 | R56: =0.5*'Vehicle '!$F$51*'Vehicle '!$F$25*'Track '!$F$57*'Duty Cycle '!L56^2 -> 44.181472 | S56: ='Vehicle '!$F$38*9.81*SIN(RADIANS('Duty Cycle '!I56)) -> -530.78388 | T56: =SUM(Q56:S56)+O56 -> 71.570621 | U56: =ABS(((+T56)*(+L56)/1000)) -> 0.76957673 | V56: ='Vehicle '!$F$9-'Duty Cycle '!U56 -> 12.653242 | W56: =U56 -> 0.76957673 | X56: =ABS((W56*1000)/((2*PI()*K56)/60)) -> 1.3997936 | Y56: =MIN(22,ROUNDUP(X56,0)) -> 2 | Z56: =T56*D56 -> 38095.27 | AA56: =SUM(AA55,Z56) -> 349302.2 | AB56: =INDEX('BSFC '!$D$5:$AD$27,MATCH('Duty Cycle '!Y56,'BSFC '!$B$5:$B$27,0),MATCH('Duty Cycle '!K56,'BSFC '!$D$28:$AD$28,0)) -> 872.45338 | AC56: =U56*AB56/3600 -> 0.18650551 | AD56: =AD55+AC56 -> 31.281356 | AE56: =AC56*3.09 -> 0.57630201 | AF56: =0.5*'Vehicle '!$F$38*'Duty Cycle '!L56^2/1000 -> 33.778485 | AG56: =Z56+AF56 -> 38129.048
B57: =B56+1 -> 54 | C57: S4 | D57: =SUM($L$3:L57) -> 544.052 | E57: =D57-D56 -> 11.776756 | F57: Gravel | G57: 0.8 | H57: =G57-G56 -> -0.8 | I57: =DEGREES(ATAN(H57/E57)) -> -3.8861561 | J57: 3 | K57: 5750 | L57: =IF(J57=1,VLOOKUP('Duty Cycle '!K57,'Gearing '!$L$3:$O$28,2),IF(J57=2,VLOOKUP('Duty Cycle '!K57,'Gearing '!$L$2:$O$28,3),IF(J57=3,VLOOKUP('Duty Cycle '!K57,'Gearing '!$L$2:$O$28,4)))) -> 11.776756 | M57: =L57*2.237 -> 26.344603 | N57: =L57-L56 -> 1.0240658 | O57: =IF(J57=1,'Gearing '!$C$17*'Duty Cycle '!N57,IF(J57=2,'Gearing '!$C$18*'Duty Cycle '!N57,IF(J57=3,'Gearing '!$C$19*'Duty Cycle '!N57))) -> 616.6757 | P57: =IF(F57='Track '!$B$60,'Track '!$F$53,IF(F57='Track '!$B$61,'Track '!$F$54,IF(F57='Track '!$B$62,'Track '!$F$55))) -> 0.04 | Q57: =P57*'Vehicle '!$F$38*9.81 -> 229.27932 | R57: =0.5*'Vehicle '!$F$51*'Vehicle '!$F$25*'Track '!$F$57*'Duty Cycle '!L57^2 -> 52.99773 | S57: ='Vehicle '!$F$38*9.81*SIN(RADIANS('Duty Cycle '!I57)) -> -388.48072 | T57: =SUM(Q57:S57)+O57 -> 510.47203 | U57: =ABS(((+T57)*(+L57)/1000)) -> 6.0117046 | V57: ='Vehicle '!$F$9-'Duty Cycle '!U57 -> 7.4111142 | W57: =U57 -> 6.0117046 | X57: =ABS((W57*1000)/((2*PI()*K57)/60)) -> 9.9839218 | Y57: =MIN(22,ROUNDUP(X57,0)) -> 10 | Z57: =T57*D57 -> 277723.33 | AA57: =SUM(AA56,Z57) -> 627025.53 | AB57: =INDEX('BSFC '!$D$5:$AD$27,MATCH('Duty Cycle '!Y57,'BSFC '!$B$5:$B$27,0),MATCH('Duty Cycle '!K57,'BSFC '!$D$28:$AD$28,0)) -> 415.54657 | AC57: =U57*AB57/3600 -> 0.69392867 | AD57: =AD56+AC57 -> 31.975284 | AE57: =AC57*3.09 -> 2.1442396 | AF57: =0.5*'Vehicle '!$F$38*'Duty Cycle '!L57^2/1000 -> 40.518863 | AG57: =Z57+AF57 -> 277763.85
B58: =B57+1 -> 55 | C58: S4 | D58: =SUM($L$3:L58) -> 556.85282 | E58: =D58-D57 -> 12.800822 | F58: Gravel | G58: 0.3 | H58: =G58-G57 -> -0.5 | I58: =DEGREES(ATAN(H58/E58)) -> -2.2368356 | J58: 3 | K58: 6250 | L58: =IF(J58=1,VLOOKUP('Duty Cycle '!K58,'Gearing '!$L$3:$O$28,2),IF(J58=2,VLOOKUP('Duty Cycle '!K58,'Gearing '!$L$2:$O$28,3),IF(J58=3,VLOOKUP('Duty Cycle '!K58,'Gearing '!$L$2:$O$28,4)))) -> 12.800822 | M58: =L58*2.237 -> 28.635439 | N58: =L58-L57 -> 1.0240658 | O58: =IF(J58=1,'Gearing '!$C$17*'Duty Cycle '!N58,IF(J58=2,'Gearing '!$C$18*'Duty Cycle '!N58,IF(J58=3,'Gearing '!$C$19*'Duty Cycle '!N58))) -> 616.6757 | P58: =IF(F58='Track '!$B$60,'Track '!$F$53,IF(F58='Track '!$B$61,'Track '!$F$54,IF(F58='Track '!$B$62,'Track '!$F$55))) -> 0.04 | Q58: =P58*'Vehicle '!$F$38*9.81 -> 229.27932 | R58: =0.5*'Vehicle '!$F$51*'Vehicle '!$F$25*'Track '!$F$57*'Duty Cycle '!L58^2 -> 62.615465 | S58: ='Vehicle '!$F$38*9.81*SIN(RADIANS('Duty Cycle '!I58)) -> -223.72061 | T58: =SUM(Q58:S58)+O58 -> 684.84987 | U58: =ABS(((+T58)*(+L58)/1000)) -> 8.7666412 | V58: ='Vehicle '!$F$9-'Duty Cycle '!U58 -> 4.6561776 | W58: =U58 -> 8.7666412 | X58: =ABS((W58*1000)/((2*PI()*K58)/60)) -> 13.394441 | Y58: =MIN(22,ROUNDUP(X58,0)) -> 14 | Z58: =T58*D58 -> 381360.58 | AA58: =SUM(AA57,Z58) -> 1008386.1 | AB58: =INDEX('BSFC '!$D$5:$AD$27,MATCH('Duty Cycle '!Y58,'BSFC '!$B$5:$B$27,0),MATCH('Duty Cycle '!K58,'BSFC '!$D$28:$AD$28,0)) -> 386.35906 | AC58: =U58*AB58/3600 -> 0.94085314 | AD58: =AD57+AC58 -> 32.916137 | AE58: =AC58*3.09 -> 2.9072362 | AF58: =0.5*'Vehicle '!$F$38*'Duty Cycle '!L58^2/1000 -> 47.872003 | AG58: =Z58+AF58 -> 381408.45
B59: =B58+1 -> 56 | C59: S4 | D59: =SUM($L$3:L59) -> 570.16567 | E59: =D59-D58 -> 13.312855 | F59: Gravel | G59: 0.1 | H59: =G59-G58 -> -0.2 | I59: =DEGREES(ATAN(H59/E59)) -> -0.86069398 | J59: 3 | K59: 6500 | L59: =IF(J59=1,VLOOKUP('Duty Cycle '!K59,'Gearing '!$L$3:$O$28,2),IF(J59=2,VLOOKUP('Duty Cycle '!K59,'Gearing '!$L$2:$O$28,3),IF(J59=3,VLOOKUP('Duty Cycle '!K59,'Gearing '!$L$2:$O$28,4)))) -> 13.312855 | M59: =L59*2.237 -> 29.780856 | N59: =L59-L58 -> 0.51203288 | O59: =IF(J59=1,'Gearing '!$C$17*'Duty Cycle '!N59,IF(J59=2,'Gearing '!$C$18*'Duty Cycle '!N59,IF(J59=3,'Gearing '!$C$19*'Duty Cycle '!N59))) -> 308.33785 | P59: =IF(F59='Track '!$B$60,'Track '!$F$53,IF(F59='Track '!$B$61,'Track '!$F$54,IF(F59='Track '!$B$62,'Track '!$F$55))) -> 0.04 | Q59: =P59*'Vehicle '!$F$38*9.81 -> 229.27932 | R59: =0.5*'Vehicle '!$F$51*'Vehicle '!$F$25*'Track '!$F$57*'Duty Cycle '!L59^2 -> 67.724887 | S59: ='Vehicle '!$F$38*9.81*SIN(RADIANS('Duty Cycle '!I59)) -> -86.102288 | T59: =SUM(Q59:S59)+O59 -> 519.23977 | U59: =ABS(((+T59)*(+L59)/1000)) -> 6.9125636 | V59: ='Vehicle '!$F$9-'Duty Cycle '!U59 -> 6.5102552 | W59: =U59 -> 6.9125636 | X59: =ABS((W59*1000)/((2*PI()*K59)/60)) -> 10.155403 | Y59: =MIN(22,ROUNDUP(X59,0)) -> 11 | Z59: =T59*D59 -> 296052.69 | AA59: =SUM(AA58,Z59) -> 1304438.8 | AB59: =INDEX('BSFC '!$D$5:$AD$27,MATCH('Duty Cycle '!Y59,'BSFC '!$B$5:$B$27,0),MATCH('Duty Cycle '!K59,'BSFC '!$D$28:$AD$28,0)) -> 540.33478 | AC59: =U59*AB59/3600 -> 1.0375274 | AD59: =AD58+AC59 -> 33.953665 | AE59: =AC59*3.09 -> 3.2059596 | AF59: =0.5*'Vehicle '!$F$38*'Duty Cycle '!L59^2/1000 -> 51.778359 | AG59: =Z59+AF59 -> 296104.47
B60: =B59+1 -> 57 | C60: S4 | D60: =SUM($L$3:L60) -> 583.47853 | E60: =D60-D59 -> 13.312855 | F60: Gravel | G60: 0 | H60: =G60-G59 -> -0.1 | I60: =DEGREES(ATAN(H60/E60)) -> -0.43037127 | J60: 3 | K60: 6500 | L60: =IF(J60=1,VLOOKUP('Duty Cycle '!K60,'Gearing '!$L$3:$O$28,2),IF(J60=2,VLOOKUP('Duty Cycle '!K60,'Gearing '!$L$2:$O$28,3),IF(J60=3,VLOOKUP('Duty Cycle '!K60,'Gearing '!$L$2:$O$28,4)))) -> 13.312855 | M60: =L60*2.237 -> 29.780856 | N60: =L60-L59 -> 0 | O60: =IF(J60=1,'Gearing '!$C$17*'Duty Cycle '!N60,IF(J60=2,'Gearing '!$C$18*'Duty Cycle '!N60,IF(J60=3,'Gearing '!$C$19*'Duty Cycle '!N60))) -> 0 | P60: =IF(F60='Track '!$B$60,'Track '!$F$53,IF(F60='Track '!$B$61,'Track '!$F$54,IF(F60='Track '!$B$62,'Track '!$F$55))) -> 0.04 | Q60: =P60*'Vehicle '!$F$38*9.81 -> 229.27932 | R60: =0.5*'Vehicle '!$F$51*'Vehicle '!$F$25*'Track '!$F$57*'Duty Cycle '!L60^2 -> 67.724887 | S60: ='Vehicle '!$F$38*9.81*SIN(RADIANS('Duty Cycle '!I60)) -> -43.054787 | T60: =SUM(Q60:S60)+O60 -> 253.94942 | U60: =ABS(((+T60)*(+L60)/1000)) -> 3.3807917 | V60: ='Vehicle '!$F$9-'Duty Cycle '!U60 -> 10.042027 | W60: =U60 -> 3.3807917 | X60: =ABS((W60*1000)/((2*PI()*K60)/60)) -> 4.9667974 | Y60: =MIN(22,ROUNDUP(X60,0)) -> 5 | Z60: =T60*D60 -> 148174.03 | AA60: =SUM(AA59,Z60) -> 1452612.8 | AB60: =INDEX('BSFC '!$D$5:$AD$27,MATCH('Duty Cycle '!Y60,'BSFC '!$B$5:$B$27,0),MATCH('Duty Cycle '!K60,'BSFC '!$D$28:$AD$28,0)) -> 736.32698 | AC60: =U60*AB60/3600 -> 0.69149116 | AD60: =AD59+AC60 -> 34.645156 | AE60: =AC60*3.09 -> 2.1367077 | AF60: =0.5*'Vehicle '!$F$38*'Duty Cycle '!L60^2/1000 -> 51.778359 | AG60: =Z60+AF60 -> 148225.81
B61: =B60+1 -> 58 | C61: S4 | D61: =SUM($L$3:L61) -> 596.79138 | E61: =D61-D60 -> 13.312855 | F61: Gravel | G61: 0 | H61: =G61-G60 -> 0 | I61: =DEGREES(ATAN(H61/E61)) -> 0 | J61: 3 | K61: 6500 | L61: =IF(J61=1,VLOOKUP('Duty Cycle '!K61,'Gearing '!$L$3:$O$28,2),IF(J61=2,VLOOKUP('Duty Cycle '!K61,'Gearing '!$L$2:$O$28,3),IF(J61=3,VLOOKUP('Duty Cycle '!K61,'Gearing '!$L$2:$O$28,4)))) -> 13.312855 | M61: =L61*2.237 -> 29.780856 | N61: =L61-L60 -> 0 | O61: =IF(J61=1,'Gearing '!$C$17*'Duty Cycle '!N61,IF(J61=2,'Gearing '!$C$18*'Duty Cycle '!N61,IF(J61=3,'Gearing '!$C$19*'Duty Cycle '!N61))) -> 0 | P61: =IF(F61='Track '!$B$60,'Track '!$F$53,IF(F61='Track '!$B$61,'Track '!$F$54,IF(F61='Track '!$B$62,'Track '!$F$55))) -> 0.04 | Q61: =P61*'Vehicle '!$F$38*9.81 -> 229.27932 | R61: =0.5*'Vehicle '!$F$51*'Vehicle '!$F$25*'Track '!$F$57*'Duty Cycle '!L61^2 -> 67.724887 | S61: ='Vehicle '!$F$38*9.81*SIN(RADIANS('Duty Cycle '!I61)) -> 0 | T61: =SUM(Q61:S61)+O61 -> 297.00421 | U61: =ABS(((+T61)*(+L61)/1000)) -> 3.9539739 | V61: ='Vehicle '!$F$9-'Duty Cycle '!U61 -> 9.4688449 | W61: =U61 -> 3.9539739 | X61: =ABS((W61*1000)/((2*PI()*K61)/60)) -> 5.8088722 | Y61: =MIN(22,ROUNDUP(X61,0)) -> 6 | Z61: =T61*D61 -> 177249.55 | AA61: =SUM(AA60,Z61) -> 1629862.4 | AB61: =INDEX('BSFC '!$D$5:$AD$27,MATCH('Duty Cycle '!Y61,'BSFC '!$B$5:$B$27,0),MATCH('Duty Cycle '!K61,'BSFC '!$D$28:$AD$28,0)) -> 656.24442 | AC61: =U61*AB61/3600 -> 0.72077036 | AD61: =AD60+AC61 -> 35.365926 | AE61: =AC61*3.09 -> 2.2271804 | AF61: =0.5*'Vehicle '!$F$38*'Duty Cycle '!L61^2/1000 -> 51.778359 | AG61: =Z61+AF61 -> 177301.33
B62: =B61+1 -> 59 | C62: S4 | D62: =SUM($L$3:L62) -> 610.10424 | E62: =D62-D61 -> 13.312855 | F62: Gravel | G62: 0 | H62: =G62-G61 -> 0 | I62: =DEGREES(ATAN(H62/E62)) -> 0 | J62: 3 | K62: 6500 | L62: =IF(J62=1,VLOOKUP('Duty Cycle '!K62,'Gearing '!$L$3:$O$28,2),IF(J62=2,VLOOKUP('Duty Cycle '!K62,'Gearing '!$L$2:$O$28,3),IF(J62=3,VLOOKUP('Duty Cycle '!K62,'Gearing '!$L$2:$O$28,4)))) -> 13.312855 | M62: =L62*2.237 -> 29.780856 | N62: =L62-L61 -> 0 | O62: =IF(J62=1,'Gearing '!$C$17*'Duty Cycle '!N62,IF(J62=2,'Gearing '!$C$18*'Duty Cycle '!N62,IF(J62=3,'Gearing '!$C$19*'Duty Cycle '!N62))) -> 0 | P62: =IF(F62='Track '!$B$60,'Track '!$F$53,IF(F62='Track '!$B$61,'Track '!$F$54,IF(F62='Track '!$B$62,'Track '!$F$55))) -> 0.04 | Q62: =P62*'Vehicle '!$F$38*9.81 -> 229.27932 | R62: =0.5*'Vehicle '!$F$51*'Vehicle '!$F$25*'Track '!$F$57*'Duty Cycle '!L62^2 -> 67.724887 | S62: ='Vehicle '!$F$38*9.81*SIN(RADIANS('Duty Cycle '!I62)) -> 0 | T62: =SUM(Q62:S62)+O62 -> 297.00421 | U62: =ABS(((+T62)*(+L62)/1000)) -> 3.9539739 | V62: ='Vehicle '!$F$9-'Duty Cycle '!U62 -> 9.4688449 | W62: =U62 -> 3.9539739 | X62: =ABS((W62*1000)/((2*PI()*K62)/60)) -> 5.8088722 | Y62: =MIN(22,ROUNDUP(X62,0)) -> 6 | Z62: =T62*D62 -> 181203.53 | AA62: =SUM(AA61,Z62) -> 1811065.9 | AB62: =INDEX('BSFC '!$D$5:$AD$27,MATCH('Duty Cycle '!Y62,'BSFC '!$B$5:$B$27,0),MATCH('Duty Cycle '!K62,'BSFC '!$D$28:$AD$28,0)) -> 656.24442 | AC62: =U62*AB62/3600 -> 0.72077036 | AD62: =AD61+AC62 -> 36.086697 | AE62: =AC62*3.09 -> 2.2271804 | AF62: =0.5*'Vehicle '!$F$38*'Duty Cycle '!L62^2/1000 -> 51.778359 | AG62: =Z62+AF62 -> 181255.3
B63: =B62+1 -> 60 | C63: T4 | D63: =SUM($L$3:L63) -> 622.39303 | E63: =D63-D62 -> 12.288789 | F63: Gravel | G63: 0 | H63: =G63-G62 -> 0 | I63: =DEGREES(ATAN(H63/E63)) -> 0 | J63: 3 | K63: 6000 | L63: =IF(J63=1,VLOOKUP('Duty Cycle '!K63,'Gearing '!$L$3:$O$28,2),IF(J63=2,VLOOKUP('Duty Cycle '!K63,'Gearing '!$L$2:$O$28,3),IF(J63=3,VLOOKUP('Duty Cycle '!K63,'Gearing '!$L$2:$O$28,4)))) -> 12.288789 | M63: =L63*2.237 -> 27.490021 | N63: =L63-L62 -> -1.0240658 | O63: =IF(J63=1,'Gearing '!$C$17*'Duty Cycle '!N63,IF(J63=2,'Gearing '!$C$18*'Duty Cycle '!N63,IF(J63=3,'Gearing '!$C$19*'Duty Cycle '!N63))) -> -616.6757 | P63: =IF(F63='Track '!$B$60,'Track '!$F$53,IF(F63='Track '!$B$61,'Track '!$F$54,IF(F63='Track '!$B$62,'Track '!$F$55))) -> 0.04 | Q63: =P63*'Vehicle '!$F$38*9.81 -> 229.27932 | R63: =0.5*'Vehicle '!$F$51*'Vehicle '!$F$25*'Track '!$F$57*'Duty Cycle '!L63^2 -> 57.706413 | S63: ='Vehicle '!$F$38*9.81*SIN(RADIANS('Duty Cycle '!I63)) -> 0 | T63: =SUM(Q63:S63)+O63 -> -329.68997 | U63: =ABS(((+T63)*(+L63)/1000)) -> 4.0514904 | V63: ='Vehicle '!$F$9-'Duty Cycle '!U63 -> 9.3713284 | W63: =U63 -> 4.0514904 | X63: =ABS((W63*1000)/((2*PI()*K63)/60)) -> 6.4481473 | Y63: =MIN(22,ROUNDUP(X63,0)) -> 7 | Z63: =T63*D63 -> -205196.74 | AA63: =SUM(AA62,Z63) -> 1605869.2 | AB63: =INDEX('BSFC '!$D$5:$AD$27,MATCH('Duty Cycle '!Y63,'BSFC '!$B$5:$B$27,0),MATCH('Duty Cycle '!K63,'BSFC '!$D$28:$AD$28,0)) -> 584.57471 | AC63: =U63*AB63/3600 -> 0.65788857 | AD63: =AD62+AC63 -> 36.744585 | AE63: =AC63*3.09 -> 2.0328757 | AF63: =0.5*'Vehicle '!$F$38*'Duty Cycle '!L63^2/1000 -> 44.118838 | AG63: =Z63+AF63 -> -205152.62
B64: =B63+1 -> 61 | C64: T4 | D64: =SUM($L$3:L64) -> 633.14572 | E64: =D64-D63 -> 10.75269 | F64: Gravel | G64: 0.2 | H64: =G64-G63 -> 0.2 | I64: =DEGREES(ATAN(H64/E64)) -> 1.0655784 | J64: 3 | K64: 5250 | L64: =IF(J64=1,VLOOKUP('Duty Cycle '!K64,'Gearing '!$L$3:$O$28,2),IF(J64=2,VLOOKUP('Duty Cycle '!K64,'Gearing '!$L$2:$O$28,3),IF(J64=3,VLOOKUP('Duty Cycle '!K64,'Gearing '!$L$2:$O$28,4)))) -> 10.75269 | M64: =L64*2.237 -> 24.053768 | N64: =L64-L63 -> -1.5360986 | O64: =IF(J64=1,'Gearing '!$C$17*'Duty Cycle '!N64,IF(J64=2,'Gearing '!$C$18*'Duty Cycle '!N64,IF(J64=3,'Gearing '!$C$19*'Duty Cycle '!N64))) -> -925.01355 | P64: =IF(F64='Track '!$B$60,'Track '!$F$53,IF(F64='Track '!$B$61,'Track '!$F$54,IF(F64='Track '!$B$62,'Track '!$F$55))) -> 0.04 | Q64: =P64*'Vehicle '!$F$38*9.81 -> 229.27932 | R64: =0.5*'Vehicle '!$F$51*'Vehicle '!$F$25*'Track '!$F$57*'Duty Cycle '!L64^2 -> 44.181472 | S64: ='Vehicle '!$F$38*9.81*SIN(RADIANS('Duty Cycle '!I64)) -> 106.59642 | T64: =SUM(Q64:S64)+O64 -> -544.95633 | U64: =ABS(((+T64)*(+L64)/1000)) -> 5.8597467 | V64: ='Vehicle '!$F$9-'Duty Cycle '!U64 -> 7.5630721 | W64: =U64 -> 5.8597467 | X64: =ABS((W64*1000)/((2*PI()*K64)/60)) -> 10.658373 | Y64: =MIN(22,ROUNDUP(X64,0)) -> 11 | Z64: =T64*D64 -> -345036.77 | AA64: =SUM(AA63,Z64) -> 1260832.4 | AB64: =INDEX('BSFC '!$D$5:$AD$27,MATCH('Duty Cycle '!Y64,'BSFC '!$B$5:$B$27,0),MATCH('Duty Cycle '!K64,'BSFC '!$D$28:$AD$28,0)) -> 373.2733 | AC64: =U64*AB64/3600 -> 0.60757972 | AD64: =AD63+AC64 -> 37.352165 | AE64: =AC64*3.09 -> 1.8774213 | AF64: =0.5*'Vehicle '!$F$38*'Duty Cycle '!L64^2/1000 -> 33.778485 | AG64: =Z64+AF64 -> -345002.99
B65: =B64+1 -> 62 | C65: T4 | D65: =SUM($L$3:L65) -> 642.87434 | E65: =D65-D64 -> 9.7286246 | F65: Gravel | G65: 0.6 | H65: =G65-G64 -> 0.4 | I65: =DEGREES(ATAN(H65/E65)) -> 2.3544346 | J65: 3 | K65: 4750 | L65: =IF(J65=1,VLOOKUP('Duty Cycle '!K65,'Gearing '!$L$3:$O$28,2),IF(J65=2,VLOOKUP('Duty Cycle '!K65,'Gearing '!$L$2:$O$28,3),IF(J65=3,VLOOKUP('Duty Cycle '!K65,'Gearing '!$L$2:$O$28,4)))) -> 9.7286246 | M65: =L65*2.237 -> 21.762933 | N65: =L65-L64 -> -1.0240658 | O65: =IF(J65=1,'Gearing '!$C$17*'Duty Cycle '!N65,IF(J65=2,'Gearing '!$C$18*'Duty Cycle '!N65,IF(J65=3,'Gearing '!$C$19*'Duty Cycle '!N65))) -> -616.6757 | P65: =IF(F65='Track '!$B$60,'Track '!$F$53,IF(F65='Track '!$B$61,'Track '!$F$54,IF(F65='Track '!$B$62,'Track '!$F$55))) -> 0.04 | Q65: =P65*'Vehicle '!$F$38*9.81 -> 229.27932 | R65: =0.5*'Vehicle '!$F$51*'Vehicle '!$F$25*'Track '!$F$57*'Duty Cycle '!L65^2 -> 36.166693 | S65: ='Vehicle '!$F$38*9.81*SIN(RADIANS('Duty Cycle '!I65)) -> 235.476 | T65: =SUM(Q65:S65)+O65 -> -115.75368 | U65: =ABS(((+T65)*(+L65)/1000)) -> 1.1261241 | V65: ='Vehicle '!$F$9-'Duty Cycle '!U65 -> 12.296695 | W65: =U65 -> 1.1261241 | X65: =ABS((W65*1000)/((2*PI()*K65)/60)) -> 2.2639354 | Y65: =MIN(22,ROUNDUP(X65,0)) -> 3 | Z65: =T65*D65 -> -74415.071 | AA65: =SUM(AA64,Z65) -> 1186417.3 | AB65: =INDEX('BSFC '!$D$5:$AD$27,MATCH('Duty Cycle '!Y65,'BSFC '!$B$5:$B$27,0),MATCH('Duty Cycle '!K65,'BSFC '!$D$28:$AD$28,0)) -> 794.48888 | AC65: =U65*AB65/3600 -> 0.24852585 | AD65: =AD64+AC65 -> 37.600691 | AE65: =AC65*3.09 -> 0.76794489 | AF65: =0.5*'Vehicle '!$F$38*'Duty Cycle '!L65^2/1000 -> 27.650869 | AG65: =Z65+AF65 -> -74387.421
B66: =B65+1 -> 63 | C66: T4 | D66: =SUM($L$3:L66) -> 651.90319 | E66: =D66-D65 -> 9.0288464 | F66: Gravel | G66: 1 | H66: =G66-G65 -> 0.4 | I66: =DEGREES(ATAN(H66/E66)) -> 2.5366846 | J66: 2 | K66: 5750 | L66: =IF(J66=1,VLOOKUP('Duty Cycle '!K66,'Gearing '!$L$3:$O$28,2),IF(J66=2,VLOOKUP('Duty Cycle '!K66,'Gearing '!$L$2:$O$28,3),IF(J66=3,VLOOKUP('Duty Cycle '!K66,'Gearing '!$L$2:$O$28,4)))) -> 9.0288464 | M66: =L66*2.237 -> 20.197529 | N66: =L66-L65 -> -0.69977826 | O66: =IF(J66=1,'Gearing '!$C$17*'Duty Cycle '!N66,IF(J66=2,'Gearing '!$C$18*'Duty Cycle '!N66,IF(J66=3,'Gearing '!$C$19*'Duty Cycle '!N66))) -> -423.17925 | P66: =IF(F66='Track '!$B$60,'Track '!$F$53,IF(F66='Track '!$B$61,'Track '!$F$54,IF(F66='Track '!$B$62,'Track '!$F$55))) -> 0.04 | Q66: =P66*'Vehicle '!$F$38*9.81 -> 229.27932 | R66: =0.5*'Vehicle '!$F$51*'Vehicle '!$F$25*'Track '!$F$57*'Duty Cycle '!L66^2 -> 31.150888 | S66: ='Vehicle '!$F$38*9.81*SIN(RADIANS('Duty Cycle '!I66)) -> 253.69204 | T66: =SUM(Q66:S66)+O66 -> 90.942996 | U66: =ABS(((+T66)*(+L66)/1000)) -> 0.82111034 | V66: ='Vehicle '!$F$9-'Duty Cycle '!U66 -> 12.601708 | W66: =U66 -> 0.82111034 | X66: =ABS((W66*1000)/((2*PI()*K66)/60)) -> 1.3636567 | Y66: =MIN(22,ROUNDUP(X66,0)) -> 2 | Z66: =T66*D66 -> 59286.029 | AA66: =SUM(AA65,Z66) -> 1245703.4 | AB66: =INDEX('BSFC '!$D$5:$AD$27,MATCH('Duty Cycle '!Y66,'BSFC '!$B$5:$B$27,0),MATCH('Duty Cycle '!K66,'BSFC '!$D$28:$AD$28,0)) -> 886.98747 | AC66: =U66*AB66/3600 -> 0.20230961 | AD66: =AD65+AC66 -> 37.803 | AE66: =AC66*3.09 -> 0.62513669 | AF66: =0.5*'Vehicle '!$F$38*'Duty Cycle '!L66^2/1000 -> 23.816088 | AG66: =Z66+AF66 -> 59309.845
B67: =B66+1 -> 64 | C67: T4 | D67: =SUM($L$3:L67) -> 660.93204 | E67: =D67-D66 -> 9.0288464 | F67: Gravel | G67: 1.5 | H67: =G67-G66 -> 0.5 | I67: =DEGREES(ATAN(H67/E67)) -> 3.1696916 | J67: 2 | K67: 5750 | L67: =IF(J67=1,VLOOKUP('Duty Cycle '!K67,'Gearing '!$L$3:$O$28,2),IF(J67=2,VLOOKUP('Duty Cycle '!K67,'Gearing '!$L$2:$O$28,3),IF(J67=3,VLOOKUP('Duty Cycle '!K67,'Gearing '!$L$2:$O$28,4)))) -> 9.0288464 | M67: =L67*2.237 -> 20.197529 | N67: =L67-L66 -> 0 | O67: =IF(J67=1,'Gearing '!$C$17*'Duty Cycle '!N67,IF(J67=2,'Gearing '!$C$18*'Duty Cycle '!N67,IF(J67=3,'Gearing '!$C$19*'Duty Cycle '!N67))) -> 0 | P67: =IF(F67='Track '!$B$60,'Track '!$F$53,IF(F67='Track '!$B$61,'Track '!$F$54,IF(F67='Track '!$B$62,'Track '!$F$55))) -> 0.04 | Q67: =P67*'Vehicle '!$F$38*9.81 -> 229.27932 | R67: =0.5*'Vehicle '!$F$51*'Vehicle '!$F$25*'Track '!$F$57*'Duty Cycle '!L67^2 -> 31.150888 | S67: ='Vehicle '!$F$38*9.81*SIN(RADIANS('Duty Cycle '!I67)) -> 316.94049 | T67: =SUM(Q67:S67)+O67 -> 577.3707 | U67: =ABS(((+T67)*(+L67)/1000)) -> 5.2129913 | V67: ='Vehicle '!$F$9-'Duty Cycle '!U67 -> 8.2098275 | W67: =U67 -> 5.2129913 | X67: =ABS((W67*1000)/((2*PI()*K67)/60)) -> 8.6574609 | Y67: =MIN(22,ROUNDUP(X67,0)) -> 9 | Z67: =T67*D67 -> 381602.79 | AA67: =SUM(AA66,Z67) -> 1627306.2 | AB67: =INDEX('BSFC '!$D$5:$AD$27,MATCH('Duty Cycle '!Y67,'BSFC '!$B$5:$B$27,0),MATCH('Duty Cycle '!K67,'BSFC '!$D$28:$AD$28,0)) -> 460.75361 | AC67: =U67*AB67/3600 -> 0.66719572 | AD67: =AD66+AC67 -> 38.470196 | AE67: =AC67*3.09 -> 2.0616348 | AF67: =0.5*'Vehicle '!$F$38*'Duty Cycle '!L67^2/1000 -> 23.816088 | AG67: =Z67+AF67 -> 381626.61
B68: =B67+1 -> 65 | C68: T4 | D68: =SUM($L$3:L68) -> 669.96088 | E68: =D68-D67 -> 9.0288464 | F68: Gravel | G68: 2.1 | H68: =G68-G67 -> 0.6 | I68: =DEGREES(ATAN(H68/E68)) -> 3.801925 | J68: 2 | K68: 5750 | L68: =IF(J68=1,VLOOKUP('Duty Cycle '!K68,'Gearing '!$L$3:$O$28,2),IF(J68=2,VLOOKUP('Duty Cycle '!K68,'Gearing '!$L$2:$O$28,3),IF(J68=3,VLOOKUP('Duty Cycle '!K68,'Gearing '!$L$2:$O$28,4)))) -> 9.0288464 | M68: =L68*2.237 -> 20.197529 | N68: =L68-L67 -> 0 | O68: =IF(J68=1,'Gearing '!$C$17*'Duty Cycle '!N68,IF(J68=2,'Gearing '!$C$18*'Duty Cycle '!N68,IF(J68=3,'Gearing '!$C$19*'Duty Cycle '!N68))) -> 0 | P68: =IF(F68='Track '!$B$60,'Track '!$F$53,IF(F68='Track '!$B$61,'Track '!$F$54,IF(F68='Track '!$B$62,'Track '!$F$55))) -> 0.04 | Q68: =P68*'Vehicle '!$F$38*9.81 -> 229.27932 | R68: =0.5*'Vehicle '!$F$51*'Vehicle '!$F$25*'Track '!$F$57*'Duty Cycle '!L68^2 -> 31.150888 | S68: ='Vehicle '!$F$38*9.81*SIN(RADIANS('Duty Cycle '!I68)) -> 380.07303 | T68: =SUM(Q68:S68)+O68 -> 640.50324 | U68: =ABS(((+T68)*(+L68)/1000)) -> 5.7830053 | V68: ='Vehicle '!$F$9-'Duty Cycle '!U68 -> 7.6398135 | W68: =U68 -> 5.7830053 | X68: =ABS((W68*1000)/((2*PI()*K68)/60)) -> 9.6041101 | Y68: =MIN(22,ROUNDUP(X68,0)) -> 10 | Z68: =T68*D68 -> 429112.11 | AA68: =SUM(AA67,Z68) -> 2056418.3 | AB68: =INDEX('BSFC '!$D$5:$AD$27,MATCH('Duty Cycle '!Y68,'BSFC '!$B$5:$B$27,0),MATCH('Duty Cycle '!K68,'BSFC '!$D$28:$AD$28,0)) -> 415.54657 | AC68: =U68*AB68/3600 -> 0.66753 | AD68: =AD67+AC68 -> 39.137726 | AE68: =AC68*3.09 -> 2.0626677 | AF68: =0.5*'Vehicle '!$F$38*'Duty Cycle '!L68^2/1000 -> 23.816088 | AG68: =Z68+AF68 -> 429135.93
... B147: =B146+1 -> 144 | C147: T10 | D147: =SUM($L$3:L147) -> 1515.1906 | E147: =D147-D146 -> 9.7286246 | F147: Mud | G147: 14.5 | H147: =G147-G146 -> -1 | I147: =DEGREES(ATAN(H147/E147)) -> -5.8687905 | J147: 3 | K147: 4750 | L147: =IF(J147=1,VLOOKUP('Duty Cycle '!K147,'Gearing '!$L$3:$O$28,2),IF(J147=2,VLOOKUP('Duty Cycle '!K147,'Gearing '!$L$2:$O$28,3),IF(J147=3,VLOOKUP('Duty Cycle '!K147,'Gearing '!$L$2:$O$28,4)))) -> 9.7286246 | M147: =L147*2.237 -> 21.762933 | N147: =L147-L146 -> 0 | O147: =IF(J147=1,'Gearing '!$C$17*'Duty Cycle '!N147,IF(J147=2,'Gearing '!$C$18*'Duty Cycle '!N147,IF(J147=3,'Gearing '!$C$19*'Duty Cycle '!N147))) -> 0 | P147: =IF(F147='Track '!$B$60,'Track '!$F$53,IF(F147='Track '!$B$61,'Track '!$F$54,IF(F147='Track '!$B$62,'Track '!$F$55))) -> 0.06 | Q147: =P147*'Vehicle '!$F$38*9.81 -> 343.91898 | R147: =0.5*'Vehicle '!$F$51*'Vehicle '!$F$25*'Track '!$F$57*'Duty Cycle '!L147^2 -> 36.166693 | S147: ='Vehicle '!$F$38*9.81*SIN(RADIANS('Duty Cycle '!I147)) -> -586.09926 | T147: =SUM(Q147:S147)+O147 -> -206.01359 | U147: =ABS(((+T147)*(+L147)/1000)) -> 2.0042289 | V147: ='Vehicle '!$F$9-'Duty Cycle '!U147 -> 11.41859 | W147: =U147 -> 2.0042289 | X147: =ABS((W147*1000)/((2*PI()*K147)/60)) -> 4.0292581 | Y147: =MIN(22,ROUNDUP(X147,0)) -> 5 | Z147: =T147*D147 -> -312149.86 | AA147: =SUM(AA146,Z147) -> 33363092 | AB147: =INDEX('BSFC '!$D$5:$AD$27,MATCH('Duty Cycle '!Y147,'BSFC '!$B$5:$B$27,0),MATCH('Duty Cycle '!K147,'BSFC '!$D$28:$AD$28,0)) -> 665.13144 | AC147: =U147*AB147/3600 -> 0.37029879 | AD147: =AD146+AC147 -> 98.720318 | AE147: =AC147*3.09 -> 1.1442233 | AF147: =0.5*'Vehicle '!$F$38*'Duty Cycle '!L147^2/1000 -> 27.650869 | AG147: =Z147+AF147 -> -312122.21
B148: =B147+1 -> 145 | C148: T10 | D148: =SUM($L$3:L148) -> 1525.4313 | E148: =D148-D147 -> 10.240658 | F148: Mud | G148: 13.5 | H148: =G148-G147 -> -1 | I148: 0 | J148: 3 | K148: 5000 | L148: =IF(J148=1,VLOOKUP('Duty Cycle '!K148,'Gearing '!$L$3:$O$28,2),IF(J148=2,VLOOKUP('Duty Cycle '!K148,'Gearing '!$L$2:$O$28,3),IF(J148=3,VLOOKUP('Duty Cycle '!K148,'Gearing '!$L$2:$O$28,4)))) -> 10.240658 | M148: =L148*2.237 -> 22.908351 | N148: =L148-L147 -> 0.51203288 | O148: =IF(J148=1,'Gearing '!$C$17*'Duty Cycle '!N148,IF(J148=2,'Gearing '!$C$18*'Duty Cycle '!N148,IF(J148=3,'Gearing '!$C$19*'Duty Cycle '!N148))) -> 308.33785 | P148: =IF(F148='Track '!$B$60,'Track '!$F$53,IF(F148='Track '!$B$61,'Track '!$F$54,IF(F148='Track '!$B$62,'Track '!$F$55))) -> 0.06 | Q148: =P148*'Vehicle '!$F$38*9.81 -> 343.91898 | R148: =0.5*'Vehicle '!$F$51*'Vehicle '!$F$25*'Track '!$F$57*'Duty Cycle '!L148^2 -> 40.073898 | S148: ='Vehicle '!$F$38*9.81*SIN(RADIANS('Duty Cycle '!I148)) -> 0 | T148: =SUM(Q148:S148)+O148 -> 692.33073 | U148: =ABS(((+T148)*(+L148)/1000)) -> 7.0899219 | V148: ='Vehicle '!$F$9-'Duty Cycle '!U148 -> 6.3328969 | W148: =U148 -> 7.0899219 | X148: =ABS((W148*1000)/((2*PI()*K148)/60)) -> 13.540753 | Y148: =MIN(22,ROUNDUP(X148,0)) -> 14 | Z148: =T148*D148 -> 1056102.9 | AA148: =SUM(AA147,Z148) -> 34419195 | AB148: =INDEX('BSFC '!$D$5:$AD$27,MATCH('Duty Cycle '!Y148,'BSFC '!$B$5:$B$27,0),MATCH('Duty Cycle '!K148,'BSFC '!$D$28:$AD$28,0)) -> 357.50228 | AC148: =U148*AB148/3600 -> 0.70407312 | AD148: =AD147+AC148 -> 99.424391 | AE148: =AC148*3.09 -> 2.1755859 | AF148: =0.5*'Vehicle '!$F$38*'Duty Cycle '!L148^2/1000 -> 30.638082 | AG148: =Z148+AF148 -> 1056133.6
B149: =B148+1 -> 146 | C149: T10 | D149: =SUM($L$3:L149) -> 1536.696 | E149: =D149-D148 -> 11.264723 | F149: Mud | G149: 12.5 | H149: =G149-G148 -> -1 | I149: 0 | J149: 3 | K149: 5500 | L149: =IF(J149=1,VLOOKUP('Duty Cycle '!K149,'Gearing '!$L$3:$O$28,2),IF(J149=2,VLOOKUP('Duty Cycle '!K149,'Gearing '!$L$2:$O$28,3),IF(J149=3,VLOOKUP('Duty Cycle '!K149,'Gearing '!$L$2:$O$28,4)))) -> 11.264723 | M149: =L149*2.237 -> 25.199186 | N149: =L149-L148 -> 1.0240658 | O149: =IF(J149=1,'Gearing '!$C$17*'Duty Cycle '!N149,IF(J149=2,'Gearing '!$C$18*'Duty Cycle '!N149,IF(J149=3,'Gearing '!$C$19*'Duty Cycle '!N149))) -> 616.6757 | P149: =IF(F149='Track '!$B$60,'Track '!$F$53,IF(F149='Track '!$B$61,'Track '!$F$54,IF(F149='Track '!$B$62,'Track '!$F$55))) -> 0.06 | Q149: =P149*'Vehicle '!$F$38*9.81 -> 343.91898 | R149: =0.5*'Vehicle '!$F$51*'Vehicle '!$F$25*'Track '!$F$57*'Duty Cycle '!L149^2 -> 48.489416 | S149: ='Vehicle '!$F$38*9.81*SIN(RADIANS('Duty Cycle '!I149)) -> 0 | T149: =SUM(Q149:S149)+O149 -> 1009.0841 | U149: =ABS(((+T149)*(+L149)/1000)) -> 11.367053 | V149: ='Vehicle '!$F$9-'Duty Cycle '!U149 -> 2.0557657 | W149: =U149 -> 11.367053 | X149: =ABS((W149*1000)/((2*PI()*K149)/60)) -> 19.735884 | Y149: =MIN(22,ROUNDUP(X149,0)) -> 20 | Z149: =T149*D149 -> 1550655.5 | AA149: =SUM(AA148,Z149) -> 35969850 | AB149: =INDEX('BSFC '!$D$5:$AD$27,MATCH('Duty Cycle '!Y149,'BSFC '!$B$5:$B$27,0),MATCH('Duty Cycle '!K149,'BSFC '!$D$28:$AD$28,0)) -> 448.7153 | AC149: =U149*AB149/3600 -> 1.4168252 | AD149: =AD148+AC149 -> 100.84122 | AE149: =AC149*3.09 -> 4.3779898 | AF149: =0.5*'Vehicle '!$F$38*'Duty Cycle '!L149^2/1000 -> 37.072079 | AG149: =Z149+AF149 -> 1550692.6
B150: =B149+1 -> 147 | C150: T10 | D150: =SUM($L$3:L150) -> 1548.4728 | E150: =D150-D149 -> 11.776756 | F150: Mud | G150: 11.5 | H150: =G150-G149 -> -1 | I150: 0 | J150: 3 | K150: 5750 | L150: =IF(J150=1,VLOOKUP('Duty Cycle '!K150,'Gearing '!$L$3:$O$28,2),IF(J150=2,VLOOKUP('Duty Cycle '!K150,'Gearing '!$L$2:$O$28,3),IF(J150=3,VLOOKUP('Duty Cycle '!K150,'Gearing '!$L$2:$O$28,4)))) -> 11.776756 | M150: =L150*2.237 -> 26.344603 | N150: =L150-L149 -> 0.51203288 | O150: =IF(J150=1,'Gearing '!$C$17*'Duty Cycle '!N150,IF(J150=2,'Gearing '!$C$18*'Duty Cycle '!N150,IF(J150=3,'Gearing '!$C$19*'Duty Cycle '!N150))) -> 308.33785 | P150: =IF(F150='Track '!$B$60,'Track '!$F$53,IF(F150='Track '!$B$61,'Track '!$F$54,IF(F150='Track '!$B$62,'Track '!$F$55))) -> 0.06 | Q150: =P150*'Vehicle '!$F$38*9.81 -> 343.91898 | R150: =0.5*'Vehicle '!$F$51*'Vehicle '!$F$25*'Track '!$F$57*'Duty Cycle '!L150^2 -> 52.99773 | S150: ='Vehicle '!$F$38*9.81*SIN(RADIANS('Duty Cycle '!I150)) -> 0 | T150: =SUM(Q150:S150)+O150 -> 705.25456 | U150: =ABS(((+T150)*(+L150)/1000)) -> 8.305611 | V150: ='Vehicle '!$F$9-'Duty Cycle '!U150 -> 5.1172078 | W150: =U150 -> 8.305611 | X150: =ABS((W150*1000)/((2*PI()*K150)/60)) -> 13.79352 | Y150: =MIN(22,ROUNDUP(X150,0)) -> 14 | Z150: =T150*D150 -> 1092067.5 | AA150: =SUM(AA149,Z150) -> 37061918 | AB150: =INDEX('BSFC '!$D$5:$AD$27,MATCH('Duty Cycle '!Y150,'BSFC '!$B$5:$B$27,0),MATCH('Duty Cycle '!K150,'BSFC '!$D$28:$AD$28,0)) -> 356.30693 | AC150: =U150*AB150/3600 -> 0.82204076 | AD150: =AD149+AC150 -> 101.66326 | AE150: =AC150*3.09 -> 2.540106 | AF150: =0.5*'Vehicle '!$F$38*'Duty Cycle '!L150^2/1000 -> 40.518863 | AG150: =Z150+AF150 -> 1092108
B151: =B150+1 -> 148 | C151: T10 | D151: =SUM($L$3:L151) -> 1560.7615 | E151: =D151-D150 -> 12.288789 | F151: Mud | G151: 10.5 | H151: =G151-G150 -> -1 | I151: 0 | J151: 3 | K151: 6000 | L151: =IF(J151=1,VLOOKUP('Duty Cycle '!K151,'Gearing '!$L$3:$O$28,2),IF(J151=2,VLOOKUP('Duty Cycle '!K151,'Gearing '!$L$2:$O$28,3),IF(J151=3,VLOOKUP('Duty Cycle '!K151,'Gearing '!$L$2:$O$28,4)))) -> 12.288789 | M151: =L151*2.237 -> 27.490021 | N151: =L151-L150 -> 0.51203288 | O151: =IF(J151=1,'Gearing '!$C$17*'Duty Cycle '!N151,IF(J151=2,'Gearing '!$C$18*'Duty Cycle '!N151,IF(J151=3,'Gearing '!$C$19*'Duty Cycle '!N151))) -> 308.33785 | P151: =IF(F151='Track '!$B$60,'Track '!$F$53,IF(F151='Track '!$B$61,'Track '!$F$54,IF(F151='Track '!$B$62,'Track '!$F$55))) -> 0.06 | Q151: =P151*'Vehicle '!$F$38*9.81 -> 343.91898 | R151: =0.5*'Vehicle '!$F$51*'Vehicle '!$F$25*'Track '!$F$57*'Duty Cycle '!L151^2 -> 57.706413 | S151: ='Vehicle '!$F$38*9.81*SIN(RADIANS('Duty Cycle '!I151)) -> 0 | T151: =SUM(Q151:S151)+O151 -> 709.96324 | U151: =ABS(((+T151)*(+L151)/1000)) -> 8.7245885 | V151: ='Vehicle '!$F$9-'Duty Cycle '!U151 -> 4.6982303 | W151: =U151 -> 8.7245885 | X151: =ABS((W151*1000)/((2*PI()*K151)/60)) -> 13.885614 | Y151: =MIN(22,ROUNDUP(X151,0)) -> 14 | Z151: =T151*D151 -> 1108083.3 | AA151: =SUM(AA150,Z151) -> 38170001 | AB151: =INDEX('BSFC '!$D$5:$AD$27,MATCH('Duty Cycle '!Y151,'BSFC '!$B$5:$B$27,0),MATCH('Duty Cycle '!K151,'BSFC '!$D$28:$AD$28,0)) -> 356.11311 | AC151: =U151*AB151/3600 -> 0.86303899 | AD151: =AD150+AC151 -> 102.5263 | AE151: =AC151*3.09 -> 2.6667905 | AF151: =0.5*'Vehicle '!$F$38*'Duty Cycle '!L151^2/1000 -> 44.118838 | AG151: =Z151+AF151 -> 1108127.4
B152: =B151+1 -> 149 | C152: T10 | D152: =SUM($L$3:L152) -> 1573.5624 | E152: =D152-D151 -> 12.800822 | F152: Mud | G152: 10 | H152: =G152-G151 -> -0.5 | I152: 0 | J152: 3 | K152: 6250 | L152: =IF(J152=1,VLOOKUP('Duty Cycle '!K152,'Gearing '!$L$3:$O$28,2),IF(J152=2,VLOOKUP('Duty Cycle '!K152,'Gearing '!$L$2:$O$28,3),IF(J152=3,VLOOKUP('Duty Cycle '!K152,'Gearing '!$L$2:$O$28,4)))) -> 12.800822 | M152: =L152*2.237 -> 28.635439 | N152: =L152-L151 -> 0.51203288 | O152: =IF(J152=1,'Gearing '!$C$17*'Duty Cycle '!N152,IF(J152=2,'Gearing '!$C$18*'Duty Cycle '!N152,IF(J152=3,'Gearing '!$C$19*'Duty Cycle '!N152))) -> 308.33785 | P152: =IF(F152='Track '!$B$60,'Track '!$F$53,IF(F152='Track '!$B$61,'Track '!$F$54,IF(F152='Track '!$B$62,'Track '!$F$55))) -> 0.06 | Q152: =P152*'Vehicle '!$F$38*9.81 -> 343.91898 | R152: =0.5*'Vehicle '!$F$51*'Vehicle '!$F$25*'Track '!$F$57*'Duty Cycle '!L152^2 -> 62.615465 | S152: ='Vehicle '!$F$38*9.81*SIN(RADIANS('Duty Cycle '!I152)) -> 0 | T152: =SUM(Q152:S152)+O152 -> 714.87229 | U152: =ABS(((+T152)*(+L152)/1000)) -> 9.1509529 | V152: ='Vehicle '!$F$9-'Duty Cycle '!U152 -> 4.2718659 | W152: =U152 -> 9.1509529 | X152: =ABS((W152*1000)/((2*PI()*K152)/60)) -> 13.981626 | Y152: =MIN(22,ROUNDUP(X152,0)) -> 14 | Z152: =T152*D152 -> 1124896.1 | AA152: =SUM(AA151,Z152) -> 39294897 | AB152: =INDEX('BSFC '!$D$5:$AD$27,MATCH('Duty Cycle '!Y152,'BSFC '!$B$5:$B$27,0),MATCH('Duty Cycle '!K152,'BSFC '!$D$28:$AD$28,0)) -> 386.35906 | AC152: =U152*AB152/3600 -> 0.98209822 | AD152: =AD151+AC152 -> 103.50839 | AE152: =AC152*3.09 -> 3.0346835 | AF152: =0.5*'Vehicle '!$F$38*'Duty Cycle '!L152^2/1000 -> 47.872003 | AG152: =Z152+AF152 -> 1124944
B153: =B152+1 -> 150 | C153: T10 | D153: =SUM($L$3:L153) -> 1586.3632 | E153: =D153-D152 -> 12.800822 | F153: Mud | G153: 11 | H153: =G153-G152 -> 1 | I153: 0 | J153: 3 | K153: 6250 | L153: =IF(J153=1,VLOOKUP('Duty Cycle '!K153,'Gearing '!$L$3:$O$28,2),IF(J153=2,VLOOKUP('Duty Cycle '!K153,'Gearing '!$L$2:$O$28,3),IF(J153=3,VLOOKUP('Duty Cycle '!K153,'Gearing '!$L$2:$O$28,4)))) -> 12.800822 | M153: =L153*2.237 -> 28.635439 | N153: =L153-L152 -> 0 | O153: =IF(J153=1,'Gearing '!$C$17*'Duty Cycle '!N153,IF(J153=2,'Gearing '!$C$18*'Duty Cycle '!N153,IF(J153=3,'Gearing '!$C$19*'Duty Cycle '!N153))) -> 0 | P153: =IF(F153='Track '!$B$60,'Track '!$F$53,IF(F153='Track '!$B$61,'Track '!$F$54,IF(F153='Track '!$B$62,'Track '!$F$55))) -> 0.06 | Q153: =P153*'Vehicle '!$F$38*9.81 -> 343.91898 | R153: =0.5*'Vehicle '!$F$51*'Vehicle '!$F$25*'Track '!$F$57*'Duty Cycle '!L153^2 -> 62.615465 | S153: ='Vehicle '!$F$38*9.81*SIN(RADIANS('Duty Cycle '!I153)) -> 0 | T153: =SUM(Q153:S153)+O153 -> 406.53445 | U153: =ABS(((+T153)*(+L153)/1000)) -> 5.203975 | V153: ='Vehicle '!$F$9-'Duty Cycle '!U153 -> 8.2188438 | W153: =U153 -> 5.203975 | X153: =ABS((W153*1000)/((2*PI()*K153)/60)) -> 7.9510882 | Y153: =MIN(22,ROUNDUP(X153,0)) -> 8 | Z153: =T153*D153 -> 644911.28 | AA153: =SUM(AA152,Z153) -> 39939808 | AB153: =INDEX('BSFC '!$D$5:$AD$27,MATCH('Duty Cycle '!Y153,'BSFC '!$B$5:$B$27,0),MATCH('Duty Cycle '!K153,'BSFC '!$D$28:$AD$28,0)) -> 565.92734 | AC153: =U153*AB153/3600 -> 0.81807549 | AD153: =AD152+AC153 -> 104.32647 | AE153: =AC153*3.09 -> 2.5278533 | AF153: =0.5*'Vehicle '!$F$38*'Duty Cycle '!L153^2/1000 -> 47.872003 | AG153: =Z153+AF153 -> 644959.15

Sheet Graphs
