Workbook

Sheet Ferrari FF Base Data
C2: Vehicle Dimensions | G2: Engine Specifications
C3: Length | D3: 4907 | E3: mm | G3: Engine- V12
C4: Width | D4: 1953 | E4: mm | G4: Displacement | H4: 6262 | I4: cc
C5: Height | D5: 1379 | E5: mm | G5: Bore | H5: 94 | I5: mm
C6: Wheelbase | D6: 2990 | E6: mm | G6: Stroke | H6: 75.2 | I6: mm
C7: Front track | D7: 1676 | E7: mm | G7: Max Power @8000rpm | H7: 660 | I7: CV (HP)
C8: Rear track | D8: 1660 | E8: mm | G8: Max Torque @8000rpm | H8: 683 | I8: Nm
C9: Kerb Weight | D9: 1880 | E9: kg | G9: Specific Output | H9: 105 | I9: CV/ Litre
C10: Dry Weight | D10: 1790 | E10: kg | G10: Max Revs per minute | H10: 8000 | I10: RPM
C11: Boot Capacity | D11: 450 | E11: L | G11: Compression Ratio | H11: 12.3:1
C12: Fuel Tank Capacity | D12: 91 | E12: L | G12: Engine Weight | H12: 225 | I12: kg
G13: Power Transfer Unit | H13: 45 | I13: kg
C14: Brakes
C15: Front | D15: 398x38 | E15: mm | G15: Performance Figures
C16: Rear | D16: 360x32 | E16: mm | G16: Max Speed | H16: 208 | I16: mph
G17: 0-62mph | H17: 3.7 | I17: s
C18: Tyre & Rim Sizes | G18: 0-124mph | H18: 11 | I18: s
C19: Front Tyre | D19: 245/35 ZR 20 | G19: 0-62mph | H19: 35 | I19: m
C20: Front Rim | D20: 8.5J x 20" | G20: Dry Weight/Power Ratio | H20: 2.7 | I20: kg/CV
C21: Rear Tyre | D21: 295/35 ZR 20
C22: Rear Rim | D22: 10.5J x 20" | G22: Fuel Consumption
C23: Rear Winter Tyre | D23: 285/35 ZR 20 | G23: Fuel Consumption | H23: 15.4 | I23: L/100km
C24: Rear Winter Rim | D24: 10.5J x 20" | G24: CO2 Released | H24: 360 | I24: g/km
C26: Weight Distribution | G26: Gearbox
C27: Front | D27: 0.47 | G27: 4RM 7-Speed F1 Dual-Clutch gearbox
C28: Rear | D28: 0.53
C30: Steering Ratio
C31: Steering Ratio | D31: 11.5:1

Sheet Lumped Mass Model
B2: Lumped Mass Model | F2: Distances
C3: Front | D3: Rear | F3: F | G3: =G8 -> 1.6155705 | H3: m
B4: Weight Distribution | C4: 0.47 | D4: 0.53 | F4: G | G4: 1.99 | H4: m
C5: 0.47 | D5: 0.53 | F5: L | G5: 2.99 | H5: m
B6: Wheelbase | C6: 2.99 | D6: m
B7: a | C7: =G8 -> 1.6155705 | G7: Centre of Gravity
B8: b | C8: =2.99-C7 -> 1.3744295 | G8: =((C15*G4)+(C16*G5))/(C14+C15+C16) -> 1.6155705 | H8: m
B9: k2 | C9: =G11/C17 -> 2.0689153
B10: Kerb Weight | C10: 1880 | D10: kg | G10: Moment of Inertia
B11: Passengers | C11: 2 | D11: < Input | G11: =(C14*(G8^2))+(C15*((G4-G8)^2)+(C16*(G4-G8+1)^2)) -> 4210.2426 | H11: kg.m2
B13: Masses | G13: Dynamic Index
B14: m1 | C14: =C10*C5 -> 883.6 | D14: kg | G14: =G11/(C17*C7*C8) -> 0.9317391
B15: m2 | C15: =77.5*$C$11 -> 155 | D15: kg
B16: m3 | C16: =D5*C10 -> 996.4 | D16: kg | G16: Inertial Conjugate
B17: mtotal | C17: =SUM(C14:C16) -> 2035 | D17: kg | G17: =C9/C7 -> 1.2806097 | H17: m

Sheet Clutch Pack, Axial, Power loss
C3: Clutch Pack Data | G3: Power Loss at 35mph (1st to 2nd) | K3: Power Loss
G4: Front Wheels | K4: Left 𝜇 | L4: ='Longitudinal Acceleration + Yaw'!E16 -> 1
C5: No of clutch packs | D5: 2 | G5: r1 | H5: =D14 -> 0.055 | I5: m | K5: Right 𝜇 | L5: ='Longitudinal Acceleration + Yaw'!E17 -> 0.7
C6: No of clutch plates | D6: 4 | G6: r2 | H6: =D13 -> 0.08 | I6: m | K6: Drive force left | L6: ='Longitudinal Acceleration + Yaw'!H7 -> 4691.3872 | M6: N
C7: No of clutch faces | D7: 8 | G7: Rolling Radius | H7: ='Longitudinal Acceleration + Yaw'!D13 -> 0.33975 | I7: m | K7: Drive force Right | L7: ='Longitudinal Acceleration + Yaw'!H8 -> 3283.9711 | M7: N
G8: Circumference | H8: =2*PI()*H7 -> 2.1347122 | I8: m | K8: Torque Left | L8: =L6*H7 -> 1593.8988 | M8: Nm
C9: Friction 𝜇 | D9: 0.1 | G9: Vehicle Speed | H9: =15.64 -> 15.64 | I9: m/s | K9: Torque Right | L9: =L7*H7 -> 1115.7292 | M9: Nm
G10: Wheel Speed | H10: =(H9/(H7*2*PI()))*60 -> 439.59087 | I10: rpm | K10: Power Left | L10: =L8*H11 -> 73373.301 | M10: W
C11: Engine Torque | D11: 683 | E11: Nm | G11: Wheel Speed, ω | H11: =H10/9.549296 -> 46.033851 | I11: rad/s | L11: =L10/1000 -> 73.373301 | M11: kW
C12: Torque Capacity (20%) | D12: =D11*0.2 -> 136.6 | E12: Nm | G12: Clutch Speed | H12: =H15*H14*H11 -> 685.53611 | I12: rads/s | K12: Power Right | L12: =L9*H11 -> 51361.311 | M12: W
C13: Outer Radius r2 | D13: 0.08 | E13: m | L13: =L12/1000 -> 51.361311 | M13: kW
C14: Inner Radius r1 | D14: =D13-0.025 -> 0.055 | E14: m | G14: First Gear | H14: 3.4 | I14: :1 | K14: Power Loss | L14: =L11-L13 -> 22.01199 | M14: kW
C15: ω | D15: 6000 | E15: rpm | G15: Final Drive | H15: 4.38 | I15: :1 | L15: 29 | M15: HP
C16: ω | D16: =(D15*2*PI()/60) -> 628.31853 | E16: rads/s
C18: Axial Force (W)
C19: Uniform Wear | D19: =(2*D12)/(D9*(D13+D14)) -> 20237.037 | E19: N
C20: Per Plate | D20: =D19/D6 -> 5059.2593 | E20: N
C21: Per Face | D21: =D19/D7 -> 2529.6296 | E21: N

Sheet Longitudinal Acceleration + Yaw
C2: Longitudinal Acceleration | G2: Front | K2: Rear | P2: Yaw Rate Increases
B3: Vehicle Mass and Moment of Inertia imported from Lumped Mass Model Sheet | C3: Vehicle Mass | D3: ='Lumped Mass Model'!C17 -> 2035 | E3: kg | G3: Front Axle Mass | H3: =D4 -> 956.45 | I3: kg | K3: Front Axle Mass | L3: =D5 -> 1078.55 | M3: kg
C4: Axle Mass- Front | D4: =D3*0.47 -> 956.45 | E4: kg | G4: Per corner- Front | H4: =H3/2 -> 478.225 | I4: kg | K4: Per corner- Front | L4: =L3/2 -> 539.275 | M4: kg | P4: Tyre Loads | T4: Cornering Stiffness
C5: Axle Mass- Rear | D5: =0.53*D3 -> 1078.55 | E5: kg | P5: Front Left | Q5: =H7 -> 4691.3872 | R5: N | T5: Front Left | U5: =867*E16 -> 867 | V5: N per degree
G6: Load per corner | H6: =H4*9.81 -> 4691.3872 | I6: N | K6: Load per corner | L6: =L4*9.81 -> 5290.2878 | M6: N | P6: Front Right | Q6: =H8 -> 3283.9711 | R6: N | T6: Front Right | U6: =U5*E17 -> 606.9 | V6: N per degree
C7: Moment of Inertia | D7: ='Lumped Mass Model'!G11 -> 4210.2426 | E7: kg.m2 | G7: Tractive Force- Left | H7: =E16*H6 -> 4691.3872 | I7: N | K7: Tractive Force- Left | L7: =E18*L6 -> 5290.2878 | M7: N | P7: Delta Front | Q7: =Q5-Q6 -> 1407.4162 | R7: N | T7: Total Cornering Stiffness | U7: =U5+U6 -> 1473.9 | V7: N per degree
C8: Wheelbase | D8: 2.99 | E8: m | G8: Tractive Force- Right | H8: =E17*H6 -> 3283.9711 | I8: N | K8: Tractive Force- Right | L8: =L6*E19 -> 3703.2014 | M8: N
C9: Track Width- Front | D9: 1.676 | E9: m | G9: Total Traction | H9: =H8+H7 -> 7975.3583 | I9: N | K9: Total Traction | L9: =L8+L7 -> 8993.4892 | M9: N | P9: Rear Left | Q9: =L7 -> 5290.2878 | R9: N | T9: Angular Acceleration
C10: Track Width- Rear | D10: 1.66 | E10: m | P10: Rear Right | Q10: =L8 -> 3703.2014 | R10: N | T10: Alpha 𝛼 | U10: =P20/D7 -> 0.49456647 | V10: rads/s2
C11: Tyre Profile- Front | D11: =0.245*0.35 -> 0.08575 | E11: m | G11: Combined Traction | K11: Acceleration per Surface- All Wheels on same surface | P11: Delta Rear | Q11: =Q9-Q10 -> 1587.0863 | R11: N | U11: =U10*180/PI() -> 28.336571 | V11: deg/s2
C12: Tyre Profile- Rear | D12: =0.295*0.35 -> 0.10325 | E12: m | G12: Front Traction | H12: =H9 -> 7975.3583 | I12: N | K12: Surface | L12: Friction 𝜇 | M12: Acceleration (m/s2)
C13: Rolling Radius Tyre- Front | D13: =(H22/2)+D11 -> 0.33975 | E13: m | G13: Rear Traction | H13: =L9 -> 8993.4892 | I13: N | K13: Dry Asphalt | L13: 1 | M13: 9.81 | P13: Front | T13: Lateral Force
C14: Rolling Radius Tyre- Rear | D14: =(H22/2)+D12 -> 0.35725 | E14: m | G14: Combined Traction | H14: =H12+H13 -> 16968.847 | I14: N | K14: Wet Asphalt | L14: 0.7 | M14: 6.867 | P14: Yaw Moment | Q14: =Q7*(D9/2) -> 1179.4148 | R14: Nm | T14: Force | U14: =P20/'Lumped Mass Model'!G8 -> 1288.8604 | V14: N
K15: Gravel | L15: 0.6 | M15: 5.886
B16: Input> | C16: Friction 𝜇- FL | D16: Dry Asphalt | E16: 1 | G16: Acceleration | K16: Snow | L16: 0.15 | M16: 1.4715 | P16: Rear | T16: Hand Wheel angle to road wheel angle
B17: Input> | C17: Friction 𝜇- FR | D17: Wet Asphalt | E17: 0.7 | G17: F= ma | K17: Ice | L17: 0.08 | M17: 0.7848 | P17: Yaw Moment | Q17: =Q11*(D10/2) -> 1317.2816 | R17: Nm | T17: Degrees at Wheel | U17: =U14/U7 -> 0.87445577 | V17: Degrees
B18: Input> | C18: Friction 𝜇- RL | D18: Dry Asphalt | E18: 1 | G18: F/m = a | H18: =H14/D3 -> 8.3385 | T18: Hand Wheel angle to road wheel angle | U18: =U17*11.5 -> 10.056241 | V18: Degrees
B19: Input> | C19: Friction 𝜇- RR | D19: Wet Asphalt | E19: 0.7 | P19: Yaw Moment
P20: =(Q14+Q17)*(((D9+D10)/2)/2) -> 2082.2448 | Q20: Nm
C21: Front Tyre | D21: 245/35 ZR 20 | G21: Wheel Diameter | H21: 20 | I21: inch
C22: Front Rim | D22: 8.5J x 20" | G22: Wheel Diameter | H22: =H21*0.0254 -> 0.508 | I22: m
C23: Rear Tyre | D23: 295/35 ZR 20 | G23: Wheel Radius | H23: =H22/2 -> 0.254 | I23: m
C24: Rear Rim | D24: 10.5J x 20"
