Workbook

Sheet Design Book Title
A1: GU-DD-001
A2: Issue 1
C5: Design Book
C10: HESH Example for course 2025 Beng
C15: Teamcentre Document Number | M15: Issue | P15: Date
C16: Insert TC document number here | P16: date issued

Sheet Requirements Set
A1: ACTIVITY SUMMARY
B4: Level 1 | C4: Originator | D4: Priority | E4: Level 2 | F4: Requirement type (NSF v F)
C6: Logistics | E6: The logistics team requires that the munition shall be safe to handle in it's packaging
E7: The logistics team requires that the manufacturer shall ensure that insensitive munitions are ready and packaged.
E8: The logistics team requires that the package shall be stackable in an orderly fashion.
E9: The logistics team requires that the packaging shall integrate with current logistics systems.
E10: The Logistics team requires that the munition packaging must comply with explosive transport requirements
C12: MoD | E12: The manufacturing body must have the capability to produce the munition to the required specification and quantity.
E13: The delivery team must ensure the munition is adhering to regulations.
E14: The primary contractor shall ensure the munition produces the desired effect on target.
E15: The delivery team must ensure their SECR is up to date for all ADAC's of the munition
E16: The delivery team must ensure an appropriate EOD procedure has been developed for the munition.
C18: Tank Crew/Operator | E18: The munition shall be stored in an accessible, environmentally protected storage medium which ensures stable conditions are maintained.
E19: The munition shall be easily identifiable, even in adverse conditions and lighting.
E20: The munition must be insensitive to vertical and horizontal shock, drop and external loading conditions which fall outside of normal use.
E21: The user requires that the munition shall have clear instruction on sae single person manipulation/handling.
E22: The munition shall retain operational effectiveness in reference to the product specification.
C24: Safety | E24: The Safety Team requires that munitions must be stored (inside and outside of operational use) in such a way that the risk of harm to crew is ALARP.
E25: The Safety Team requires that the crew must be equipped with PPE appropriate for the operation conditions such that the risk of harm to crew is ALARP.
E26: The Safety Team requires that the materials used in the manufacture and maintenance of platform must not pose undue harm to the environment in alignment with UK REACH.
E27: The Safety Team requires that personnel shall be provided with adequate training to use platform in a safe manner.
E28: The Safety Team requires that all hazards which are not immediately apparent to the user must be appropriately labelled, for example, exposed high temperature parts, explosives, pressure vessels, goods transport markings, etc.
C30: Expressed | E30: The main customer requires the round shall be effective against Structures, Soft Skin Vehicles | F30: NF-S
E31: The main customer requires the round shall be effective against Soft Skin Vehicles | F31: NF-S
E32: The main customer required that the round should have an antipersonnel / suppression capability | F32: NF-S
E33: The main customer requires the round to have an effective range of 2km | F33: 95% probability of first hit NF-S (P)
E34: The main customer requires that the round shall have an acceptable reload rate | F34: At least 3 rounds per minute NF-S

Sheet Required Functionality
A1: ACTIVITY SUMMARY
B2: Developed from Generic Munition Use Case
B4: Level 1 | C4: Level 1 | D4: Level 2
C6: From Use case / function flow
C8: Identify Round
C9: Unpack Round
C10: Acquire Target
C11: Load Weapon
C12: Aim Weapon
C13: Activate weapon
C14: Provide motive force
C15: Manage recoil
C16: Recuperate
C17: Manage Dud
C18: Demil
... C27: Revised After Functional Analysis

Sheet Funtional Metrics
A1: ACTIVITY SUMMARY | F1: Tests / Trials / Metrics
B2: Function:- Provide Motive force Test method and relationship to requirements | C2: Importance | D2: Relationship
B3: Requirements | AF3: Add requirements detail and definition in here.
C4: =VALUE('Rationalised Req PW'!J4) -> 20.720527
C5: =VALUE('Rationalised Req PW'!J5) -> 8.5867896
C6: =VALUE('Rationalised Req PW'!J6) -> 3.2075267
C7: =VALUE('Rationalised Req PW'!J7) -> 4.2323569
C8: =VALUE('Rationalised Req PW'!J8) -> 63.2528
C9: =VALUE('Rationalised Req PW'!#REF!) -> #REF!
C10: =VALUE('Rationalised Req PW'!#REF!) -> #REF!
C11: =VALUE('Rationalised Req PW'!#REF!) -> #REF!
C12: =VALUE('Rationalised Req PW'!#REF!) -> #REF!
C13: =VALUE('Rationalised Req PW'!#REF!) -> #REF!
C14: =VALUE('Rationalised Req PW'!#REF!) -> #REF!
C15: =VALUE('Rationalised Req PW'!#REF!) -> #REF!
C16: =VALUE('Rationalised Req PW'!#REF!) -> #REF!
C17: =VALUE('Rationalised Req PW'!#REF!) -> #REF!
C18: =VALUE('Rationalised Req PW'!#REF!) -> #REF!
C19: =VALUE('Rationalised Req PW'!#REF!) -> #REF!
C20: =VALUE('Rationalised Req PW'!#REF!) -> #REF!
D50: =SUMPRODUCT($C$3:$C$49,D3:D49) -> #REF! | E50: =SUMPRODUCT($C$3:$C$49,E3:E49) -> #REF! | F50: =SUMPRODUCT($C$3:$C$49,F3:F49) -> #REF! | G50: =SUMPRODUCT($C$3:$C$49,G3:G49) -> #REF! | H50: =SUMPRODUCT($C$3:$C$49,H3:H49) -> #REF! | I50: =SUMPRODUCT($C$3:$C$49,I3:I49) -> #REF! | J50: =SUMPRODUCT($C$3:$C$49,J3:J49) -> #REF! | K50: =SUMPRODUCT($C$3:$C$49,K3:K49) -> #REF! | ... Z50: =SUMPRODUCT($C$3:$C$49,Z3:Z49) -> #REF! | AD50: =SUMPRODUCT($C$3:$C$49,AD3:AD49) -> #REF! | AE50: =SUMPRODUCT($C$3:$C$49,AE3:AE49) -> #REF!
B52: Target
B53: Benchmark
B54: Ideal Value
B55: How Much??? Derive target values for each function. This will determine how well the existing design performs and how well our modified version will perform

Sheet Rationalised Req PW
C2: 1 | D2: 2 | E2: 3 | F2: 4 | G2: 5 | H2: Calc | J2: Calc
B3: Pairwise comparison of requirements 1 = No Preference, Reciprocal = 1 2 = Slight Preference, Reciprocal = 0.5 5 = Preference, Reciprocal = 0.2 9 = Strong preference = 0.11 | H3: Row Product | I3: nth root of row product | J3: Total Normalised
A4: 1 | B4: The logistics team requires that the munition shall be safe to handle in it's packaging | C4: 1 | D4: 9 | E4: 5 | F4: 5 | G4: 0.11 | H4: =+C4*D4*E4*F4*G4 -> 24.75 | I4: =POWER(H4,1/5) -> 1.8998313 | J4: =+I4/$I$9*$J$9 -> 20.720527
A5: 2 | B5: The logistics team requires that the manufacturer shall ensure that insensitive munitions are ready and packaged. | C5: 0.11 | D5: 1 | E5: 5 | F5: 5 | G5: 0.11 | H5: =+C5*D5*E5*F5*G5 -> 0.3025 | I5: =POWER(H5,1/5) -> 0.78730875 | J5: =+I5/$I$9*$J$9 -> 8.5867896
A6: 3 | B6: The logisitics team requires that the package shall be stackable in an orderly fashion. | C6: 0.2 | D6: 0.2 | E6: 1 | F6: 0.5 | G6: 0.11 | H6: =+C6*D6*E6*F6*G6 -> 0.0022 | I6: =POWER(H6,1/5) -> 0.2940929 | J6: =+I6/$I$9*$J$9 -> 3.2075267
A7: 4 | B7: The logistics team requies that the packaging shall integrate with current logistics systems. | C7: 0.2 | D7: 0.2 | E7: 2 | F7: 1 | G7: 0.11 | H7: =+C7*D7*E7*F7*G7 -> 0.0088 | I7: =POWER(H7,1/5) -> 0.3880579 | J7: =+I7/$I$9*$J$9 -> 4.2323569
A8: 5 | B8: The Logisitics team requires that the munition packaging must comply with explosive transport requirements | C8: 9 | D8: 9 | E8: 9 | F8: 9 | G8: 1 | H8: =+C8*D8*E8*F8*G8 -> 6561 | I8: =POWER(H8,1/5) -> 5.7995461 | J8: =+I8/$I$9*$J$9 -> 63.2528
H9: =SUM(H4:H8) -> 6586.0635 | I9: =SUM(I4:I8) -> 9.168837 | J9: 100
C11: 1 | D11: 2 | E11: 3 | F11: 4 | G11: 5 | H11: Calc | J11: Calc
B12: Pairwise comparison of requirements 1 = No Preference, Reciprocal = 1 2 = Slight Preference, Reciprocal = 0.5 5 = Preference, Reciprocal = 0.2 9 = Strong preference = 0.11 | H12: Row Product | I12: nth root of row product | J12: Total Normalised
A13: 1 | B13: The manufacturing body must have the capability to produce the munition to the required specification and quantity. | C13: 1 | D13: 1 | E13: 2 | F13: 1 | G13: 1 | H13: =+C13*D13*E13*F13*G13 -> 2 | I13: =POWER(H13,1/5) -> 1.1486984 | J13: =+I13/$I$18*$J$18 -> 21.792361
A14: 2 | B14: The delivery team must ensure the munition is adhering to regulations. | C14: 1 | D14: 1 | E14: 5 | F14: 1 | G14: 2 | H14: =+C14*D14*E14*F14*G14 -> 10 | I14: =POWER(H14,1/5) -> 1.5848932 | J14: =+I14/$I$18*$J$18 -> 30.067567
A15: 3 | B15: The primary contractor shall ensure the munition produces the desired effect on target. | C15: 0.5 | D15: 0.2 | E15: 1 | F15: 0.5 | G15: 5 | H15: =+C15*D15*E15*F15*G15 -> 0.25 | I15: =POWER(H15,1/5) -> 0.75785828 | J15: =+I15/$I$18*$J$18 -> 14.377596
A16: 4 | B16: The delivery team must ensure their SECR is up to date for all ADAC's of the munition | C16: 1 | D16: 1 | E16: 2 | F16: 1 | G16: 1 | H16: =+C16*D16*E16*F16*G16 -> 2 | I16: =POWER(H16,1/5) -> 1.1486984 | J16: =+I16/$I$18*$J$18 -> 21.792361
A17: 5 | B17: The delivery team must ensure an appropriate EOD procedure has been developed for the munition. | C17: 1 | D17: 0.5 | E17: 0.2 | F17: 1 | G17: 1 | H17: =+C17*D17*E17*F17*G17 -> 0.1 | I17: =POWER(H17,1/5) -> 0.63095734 | J17: =+I17/$I$18*$J$18 -> 11.970114
H18: =SUM(H13:H17) -> 14.35 | I18: =SUM(I13:I17) -> 5.2711055 | J18: 100
C20: 1 | D20: 2 | E20: 3 | F20: 4 | G20: 5 | H20: Calc | J20: Calc
B21: Pairwise comparison of requirements 1 = No Preference, Reciprocal = 1 2 = Slight Preference, Reciprocal = 0.5 5 = Preference, Reciprocal = 0.2 9 = Strong preference = 0.11 | H21: Row Product | I21: nth root of row product | J21: Total Normalised
A22: 1 | B22: The munition shall be stored in an accesible, environmentally protected storage medium which ensures stable conditions are maintained. | C22: 1 | D22: 2 | E22: 0.2 | F22: 2 | G22: 0.11 | H22: =+C22*D22*E22*F22*G22 -> 0.088 | I22: =POWER(H22,1/5) -> 0.61503033 | J22: =+I22/$I$27*$J$27 -> 8.6941795
A23: 2 | B23: The munition shall be easil identifiable, even in adverse conditions and lighting. | C23: 0.5 | D23: 1 | E23: 0.2 | F23: 2 | G23: 0.2 | H23: =+C23*D23*E23*F23*G23 -> 0.04 | I23: =POWER(H23,1/5) -> 0.52530556 | J23: =+I23/$I$27*$J$27 -> 7.425814
A24: 3 | B24: The munition must be insensitive to verticle and horizontal shock, drop and external loading conditions which fall outside of normal use. | C24: 5 | D24: 5 | E24: 1 | F24: 2 | G24: 1 | H24: =+C24*D24*E24*F24*G24 -> 50 | I24: =POWER(H24,1/5) -> 2.1867241 | J24: =+I24/$I$27*$J$27 -> 30.911926
A25: 4 | B25: The user requires that the munition shall have clear instruction on sae single person manipulation/handling. | C25: 0.5 | D25: 0.5 | E25: 0.5 | F25: 1 | G25: 0.11 | H25: =+C25*D25*E25*F25*G25 -> 0.01375 | I25: =POWER(H25,1/5) -> 0.4242878 | J25: =+I25/$I$27*$J$27 -> 5.9978087
A26: 5 | B26: The munition shall retain operational effectiveness in reference to the product specification. | C26: 9 | D26: 5 | E26: 1 | F26: 9 | G26: 1 | H26: =+C26*D26*E26*F26*G26 -> 405 | I26: =POWER(H26,1/5) -> 3.322699 | J26: =+I26/$I$27*$J$27 -> 46.970272
H27: =SUM(H22:H26) -> 455.14175 | I27: =SUM(I22:I26) -> 7.0740469 | J27: 100
C29: 1 | D29: 2 | E29: 3 | F29: 4 | G29: 5 | H29: Calc | J29: Calc
B30: Pairwise comparison of requirements 1 = No Preference, Reciprocal = 1 2 = Slight Preference, Reciprocal = 0.5 5 = Preference, Reciprocal = 0.2 9 = Strong preference = 0.11 | H30: Row Product | I30: nth root of row product | J30: Total Normalised
A31: 1 | B31: The Safety Team requires that munitions must be stored (inside and outside of operational use) in such a way that the risk of harm to crew is ALARP. | C31: 1 | D31: 1 | E31: 1 | F31: 1 | G31: 1 | H31: =+C31*D31*E31*F31*G31 -> 1 | I31: =POWER(H31,1/5) -> 1 | J31: =+I31/$I$36*$J$36 -> 33.018
A32: 2 | B32: The Safety Team requires that the crew must be equipped with PPE appropriate for the operation conditions such that the risk of harm to crew is ALARP. | C32: 0.2 | D32: 1 | E32: 0.11 | F32: 0.5 | G32: 0.5 | H32: =+C32*D32*E32*F32*G32 -> 0.0055 | I32: =POWER(H32,1/5) -> 0.35324217 | J32: =+I32/$I$36*$J$36 -> 11.66335
A33: 3 | B33: The Safety Team requires that the materials used in the manufacture and maintenance of platform must not pose undue harm to the environment in aligment with UK REACH. | C33: 0.11 | D33: 0.11 | E33: 1 | F33: 0.2 | G33: 0.11 | H33: =+C33*D33*E33*F33*G33 -> 0.0002662 | I33: =POWER(H33,1/5) -> 0.19277096 | J33: =+I33/$I$36*$J$36 -> 6.3649115
A34: 4 | B34: The Safety Team requires that personnel shall be provided with adequate training to use platform in a safe manner. | C34: 0.5 | D34: 1 | E34: 1 | F34: 1 | G34: 0.5 | H34: =+C34*D34*E34*F34*G34 -> 0.25 | I34: =POWER(H34,1/5) -> 0.75785828 | J34: =+I34/$I$36*$J$36 -> 25.022965
A35: 5 | B35: The Safety Team requires that all hazards which are not immediately apparent to the user must be appropriately labelled, for example, exposed high temperature parts, explosives, pressure vessels, goods transport markings, etc. | C35: 0.2 | D35: 1 | E35: 1 | F35: 1 | G35: 1 | H35: =+C35*D35*E35*F35*G35 -> 0.2 | I35: =POWER(H35,1/5) -> 0.72477966 | J35: =+I35/$I$36*$J$36 -> 23.930775
H36: =SUM(H31:H35) -> 1.4557662 | I36: =SUM(I31:I35) -> 3.0286511 | J36: 100
C38: 1 | D38: 2 | E38: 3 | F38: 4 | G38: 5 | H38: Calc | J38: Calc
B39: Pairwise comparison of requirements 1 = No Preference, Reciprocal = 1 2 = Slight Preference, Reciprocal = 0.5 5 = Preference, Reciprocal = 0.2 9 = Strong preference = 0.11 | C39: The main customer requires the round shall be effective against Structures, Soft Skin Vehicles | D39: The main customer requires the round shall be effective against Soft Skin Vehicles | E39: The main customer required that the round should have an antipersonnel / suppression capability | F39: The main customer requires the round to have an effective range of 2km | G39: The main customer requires that the round shall have an acceptable reload rate | H39: Row Product | I39: nth root of row product | J39: Total Normalised
A40: 1 | B40: The main customer requires the round shall be effective against Structures, Soft Skin Vehicles | C40: 1 | D40: 1 | E40: 5 | F40: 1 | G40: 1 | H40: =+C40*D40*E40*F40*G40 -> 5 | I40: =POWER(H40,1/5) -> 1.3797297 | J40: =+I40/$H$45*$J$45 -> 6.8980965
A41: 2 | B41: The main customer requires the round shall be effective against Soft Skin Vehicles | C41: 1 | D41: 1 | E41: 5 | F41: 1 | G41: 1 | H41: =+C41*D41*E41*F41*G41 -> 5 | I41: =POWER(H41,1/5) -> 1.3797297 | J41: =+I41/$H$45*$J$45 -> 6.8980965
A42: 3 | B42: The main customer required that the round should have an antipersonnel / suppression capability | C42: 0.2 | D42: 0.2 | E42: 1 | F42: 0.2 | G42: 0.2 | H42: =+C42*D42*E42*F42*G42 -> 0.0016 | I42: =POWER(H42,1/5) -> 0.27594593 | J42: =+I42/$H$45*$J$45 -> 1.3796193
A43: 4 | B43: The main customer requires the round to have an effective range of 2km | C43: 1 | D43: 1 | E43: 5 | F43: 1 | G43: 1 | H43: =+C43*D43*E43*F43*G43 -> 5 | I43: =POWER(H43,1/5) -> 1.3797297 | J43: =+I43/$H$45*$J$45 -> 6.8980965
A44: 5 | B44: The main customer requires that the round shall have an acceptable reload rate | C44: 1 | D44: 1 | E44: 5 | F44: 1 | G44: 1 | H44: =+C44*D44*E44*F44*G44 -> 5 | I44: =POWER(H44,1/5) -> 1.3797297 | J44: =+I44/$H$45*$J$45 -> 6.8980965
H45: =SUM(H40:H44) -> 20.0016 | I45: =SUM(I40:I44) -> 5.7948646 | J45: 100

Sheet Concept
A1: ACTIVITY SUMMARY

Sheet Design QFD 1
B2: How | C2: Importance | D2: Identify Round | E2: Unpack Round | F2: Acquire Target | G2: Load Weapon | H2: Aim Weapon | I2: Activate weapon | J2: Provide motive force | K2: Manage recoil | L2: Recuperate | M2: Manage Dud | N2: Demil | O2: transfer Signal | P2: Stabilise Round | Q2: Manoeuvre round | R2: Detect Target | S2: Generate effect
B3: Requirements | V3: Add requirements detail and definition in here.
B4: The logistics team requires that the munition shall be safe to handle in it's packaging | C4: =VALUE('Rationalised Req PW'!J4) -> 20.720527 | D4: 9 | E4: 9 | G4: 9 | M4: 3
B5: The logistics team requires that the manufacturer shall ensure that insensitive munitions are ready and packaged. | C5: =VALUE('Rationalised Req PW'!J5) -> 8.5867896 | D5: 3 | E5: 1 | G5: 9 | M5: 1
B6: The logisitics team requires that the package shall be stackable in an orderly fashion. | C6: =VALUE('Rationalised Req PW'!J6) -> 3.2075267 | D6: 3 | E6: 9 | M6: 0
B7: The logistics team requies that the packaging shall integrate with current logistics systems. | C7: =VALUE('Rationalised Req PW'!J7) -> 4.2323569 | D7: 9 | E7: 9 | G7: 9 | M7: 3
B8: The Logisitics team requires that the munition packaging must comply with explosive transport requirements | C8: =VALUE('Rationalised Req PW'!J8) -> 63.2528 | D8: 9 | E8: 9 | G8: 3 | M8: 9
B10: The manufacturing body must have the capability to produce the munition to the required specification and quantity. | C10: =VALUE('Rationalised Req PW'!J13) -> 21.792361 | D10: 9 | E10: 9 | F10: 0 | G10: 0 | H10: 0 | I10: 3 | J10: 3 | K10: 0 | L10: 3 | M10: 9 | N10: 9 | O10: 3 | P10: 3 | Q10: 0 | R10: 0 | S10: 9
B11: The delivery team must ensure the munition is adhering to regulations. | C11: =VALUE('Rationalised Req PW'!J14) -> 30.067567 | D11: 9 | E11: 9 | F11: 0 | G11: 9 | H11: 0 | I11: 9 | J11: 3 | K11: 0 | L11: 9 | M11: 9 | N11: 9 | O11: 9 | P11: 0 | Q11: 0 | R11: 0 | S11: 3
B12: The primary contractor shall ensure the munition produces the desired effect on target. | C12: =VALUE('Rationalised Req PW'!J15) -> 14.377596 | D12: 3 | E12: 3 | F12: 3 | G12: 3 | H12: 0 | I12: 3 | J12: 3 | K12: 0 | L12: 3 | M12: 9 | N12: 3 | O12: 9 | P12: 9 | Q12: 9 | R12: 0 | S12: 9
B13: The delivery team must ensure their SECR is up to date for all ADAC's of the munition | C13: =VALUE('Rationalised Req PW'!J16) -> 21.792361 | D13: 9 | E13: 9 | F13: 9 | G13: 9 | I13: 9 | J13: 9 | L13: 9 | M13: 9 | N13: 9 | O13: 9 | P13: 3 | Q13: 0 | R13: 0 | S13: 9
B14: The delivery team must ensure an appropriate EOD procedure has been developed for the munition. | C14: =VALUE('Rationalised Req PW'!J17) -> 11.970114 | D14: 9 | E14: 3 | F14: 0 | G14: 0 | H14: 0 | I14: 0 | J14: 0 | K14: 0 | L14: 0 | M14: 9 | N14: 9 | O14: 1 | P14: 0 | Q14: 0 | R14: 0 | S14: 1
B16: The munition shall be stored in an accesible, environmentally protected storage medium which ensures stable conditions are maintained. | C16: =VALUE('Rationalised Req PW'!J22) -> 8.6941795 | D16: 3 | E16: 9 | G16: 3 | J16: 1 | M16: 1 | S16: 3
B17: The munition shall be easil identifiable, even in adverse conditions and lighting. | C17: =VALUE('Rationalised Req PW'!J23) -> 7.425814 | D17: 9 | E17: 3 | G17: 9 | M17: 3 | N17: 3 | S17: 1
B18: The munition must be insensitive to verticle and horizontal shock, drop and external loading conditions which fall outside of normal use. | C18: =VALUE('Rationalised Req PW'!J24) -> 30.911926 | E18: 9 | G18: 9 | I18: 3 | K18: 3 | M18: 9 | N18: 3 | P18: 1 | Q18: 3 | S18: 9
B19: The user requires that the munition shall have clear instruction on sae single person manipulation/handling. | C19: =VALUE('Rationalised Req PW'!J25) -> 5.9978087 | D19: 9 | E19: 9 | G19: 9 | I19: 3 | L19: 1 | M19: 9 | N19: 3
B20: The munition shall retain operational effectiveness in reference to the product specification. | C20: =VALUE('Rationalised Req PW'!J26) -> 46.970272 | F20: 3 | J20: 9 | L20: 1 | M20: 1 | P20: 9 | Q20: 9 | S20: 9
B22: The Safety Team requires that munitions must be stored (inside and outside of operational use) in such a way that the risk of harm to crew is ALARP. | C22: =VALUE('Rationalised Req PW'!J31) -> 33.018 | D22: 9 | E22: 9 | G22: 9 | H22: 1 | I22: 3 | J22: 3 | K22: 9 | L22: 1 | M22: 9 | P22: 9 | Q22: 9 | S22: 1
B23: The Safety Team requires that the crew must be equipped with PPE appropriate for the operation conditions such that the risk of harm to crew is ALARP. | C23: =VALUE('Rationalised Req PW'!J32) -> 11.66335 | D23: 9 | E23: 9 | G23: 9 | I23: 1 | M23: 9 | P23: 3 | Q23: 9
B24: The Safety Team requires that the materials used in the manufacture and maintenance of platform must not pose undue harm to the environment in aligment with UK REACH. | C24: =VALUE('Rationalised Req PW'!J33) -> 6.3649115 | D24: 9 | E24: 3 | M24: 9 | P24: 3 | Q24: 3 | S24: 9
B25: The Safety Team requires that personnel shall be provided with adequate training to use platform in a safe manner. | C25: =VALUE('Rationalised Req PW'!J34) -> 25.022965 | D25: 9 | E25: 9 | F25: 9 | G25: 9 | H25: 9 | I25: 9 | M25: 9 | P25: 9 | Q25: 9 | R25: 9
B26: The Safety Team requires that all hazards which are not immediately apparent to the user must be appropriately labelled, for example, exposed high temperature parts, explosives, pressure vessels, goods transport markings, etc. | C26: =VALUE('Rationalised Req PW'!J35) -> 23.930775 | D26: 9 | E26: 9 | G26: 3 | M26: 9 | P26: 9 | Q26: 9 | S26: 3
B28: The main customer requires the round shall be effective against Structures, Soft Skin Vehicles | C28: =VALUE('Rationalised Req PW'!J40) -> 6.8980965 | D28: 1 | F28: 3 | H28: 9 | J28: 9 | O28: 9 | P28: 9 | Q28: 1 | R28: 9 | S28: 9
B29: The main customer requires the round shall be effective against Soft Skin Vehicles | C29: =VALUE('Rationalised Req PW'!J41) -> 6.8980965 | D29: 1 | F29: 3 | H29: 9 | J29: 9 | O29: 9 | P29: 9 | Q29: 1 | R29: 9 | S29: 9
B30: The main customer required that the round should have an antipersonnel / suppression capability | C30: =VALUE('Rationalised Req PW'!J42) -> 1.3796193 | D30: 1 | F30: 3 | H30: 9 | J30: 9 | O30: 9 | P30: 9 | Q30: 1 | R30: 9 | S30: 9
B31: The main customer requires the round to have an effective range of 2km | C31: =VALUE('Rationalised Req PW'!J43) -> 6.8980965 | G31: 1 | I31: 9 | J31: 9 | K31: 3 | L31: 3 | O31: 3 | P31: 9 | Q31: 3
B32: The main customer requires that the round shall have an acceptable reload rate | C32: =VALUE('Rationalised Req PW'!J44) -> 6.8980965 | D32: 9 | E32: 9 | F32: 3 | G32: 9 | H32: 9 | I32: 3 | K32: 9 | L32: 9 | M32: 3 | N32: 3
D34: =SUMPRODUCT($C$3:$C$33,D3:D33) -> 2767.1223 | E34: =SUMPRODUCT($C$3:$C$33,E3:E33) -> 2929.8255 | F34: =SUMPRODUCT($C$3:$C$33,F3:F33) -> 671.60326 | G34: =SUMPRODUCT($C$3:$C$33,G3:G33) -> 2194.7022 | H34: =SUMPRODUCT($C$3:$C$33,H3:H33) -> 456.88986 | I34: =SUMPRODUCT($C$3:$C$33,I3:I33) -> 1104.6796 | J34: =SUMPRODUCT($C$3:$C$33,J3:J33) -> 1123.9896 | K34: =SUMPRODUCT($C$3:$C$33,K3:K33) -> 472.67493 | ... U34: =SUMPRODUCT($C$3:$C$33,U3:U33) -> 0
B36: Target
B37: Benchmark
B38: Ideal Value
B39: How Much??? Derive target values for each function. This will determine how well the existing design performs and how well our modified version will perform

Sheet Design QFD 1 (2)
B2: How | C2: Importance
B3: Requirements | AD3: Add requirements detail and definition in here.
D24: =SUMPRODUCT($C$3:$C$23,D3:D23) -> 0 | E24: =SUMPRODUCT($C$3:$C$23,E3:E23) -> 0 | F24: =SUMPRODUCT($C$3:$C$23,F3:F23) -> 0 | G24: =SUMPRODUCT($C$3:$C$23,G3:G23) -> 0 | H24: =SUMPRODUCT($C$3:$C$23,H3:H23) -> 0 | I24: =SUMPRODUCT($C$3:$C$23,I3:I23) -> 0 | J24: =SUMPRODUCT($C$3:$C$23,J3:J23) -> 0 | K24: =SUMPRODUCT($C$3:$C$23,K3:K23) -> 0 | ... AC24: =SUMPRODUCT($C$3:$C$23,AC3:AC23) -> 0
B26: Target
B27: Benchmark
B28: Ideal Value
B29: How Much??? Derive target values for each function. This will determine how well the existing design performs and how well our modified version will perform

Sheet Function Means Analysis
A1: ACTIVITY SUMMARY
B2: Function | C2: Means
A3: From Functional Decomposition | B3: Identify Round
B4: Unpack Round
B5: Acquire Target
B6: Load Weapon
B7: Aim Weapon
B8: Activate weapon
B9: Provide motive force
B10: Manage recoil | U10: both green and blue
B11: Recuperate | U11: both blue and orange
B12: Manage Dud | U12: both green and orange
B13: Demil | U13: green, blue and orange
B14: transfer Signal
B15: Stabilise Round
B16: Manoeuvre round
B17: Detect Target

Sheet  System Pugh
A1: ACTIVITY SUMMARY
B4: ="Project Name: "&'[1]Design Book Title'!C10 -> Project Name: HESH Example for course
D6: Relative Importance Equal | E6: Relative importance Weighted
B7: WHATs - Customer Requirements | C7: How much:- From QFD 1
B8: The logistics team requires that the munition shall be safe to handle in it's packaging | D8: 5 | E8: =VALUE('Design QFD 1'!C4) -> 20.720527
B9: The logistics team requires that the manufacturer shall ensure that insensitive munitions are ready and packaged. | D9: 5 | E9: =VALUE('Design QFD 1'!C5) -> 8.5867896
B10: The logisitics team requires that the package shall be stackable in an orderly fashion. | D10: 5 | E10: =VALUE('Design QFD 1'!C6) -> 3.2075267
B11: The logistics team requies that the packaging shall integrate with current logistics systems. | D11: 5 | E11: =VALUE('Design QFD 1'!C7) -> 4.2323569
B12: The Logisitics team requires that the munition packaging must comply with explosive transport requirements | D12: 5 | E12: =VALUE('Design QFD 1'!C8) -> 63.2528
B14: The manufacturing body must have the capability to produce the munition to the required specification and quantity. | D14: 5 | E14: =VALUE('Design QFD 1'!C10) -> 21.792361
B15: The delivery team must ensure the munition is adhering to regulations. | D15: 5 | E15: =VALUE('Design QFD 1'!C11) -> 30.067567
B16: The primary contractor shall ensure the munition produces the desired effect on target. | D16: 5 | E16: =VALUE('Design QFD 1'!C12) -> 14.377596
B17: The delivery team must ensure their SECR is up to date for all ADAC's of the munition | D17: 5 | E17: =VALUE('Design QFD 1'!C13) -> 21.792361
B18: The delivery team must ensure an appropriate EOD procedure has been developed for the munition. | D18: 5 | E18: =VALUE('Design QFD 1'!C14) -> 11.970114
B20: The munition shall be stored in an accesible, environmentally protected storage medium which ensures stable conditions are maintained. | D20: 5 | E20: =VALUE('Design QFD 1'!C16) -> 8.6941795
B21: The munition shall be easil identifiable, even in adverse conditions and lighting. | D21: 5 | E21: =VALUE('Design QFD 1'!C17) -> 7.425814
... B30: The Safety Team requires that all hazards which are not immediately apparent to the user must be appropriately labelled, for example, exposed high temperature parts, explosives, pressure vessels, goods transport markings, etc. | D30: 5 | E30: =VALUE('Design QFD 1'!C26) -> 23.930775
B32: The main customer requires the round shall be effective against Structures, Soft Skin Vehicles | D32: 5
B33: The main customer requires the round shall be effective against Soft Skin Vehicles | D33: 5
B34: The main customer required that the round should have an antipersonnel / suppression capability | D34: 5
B35: The main customer requires the round to have an effective range of 2km | D35: 5
B36: The main customer requires that the round shall have an acceptable reload rate | D36: 5
F44: =SUMPRODUCT($D$8:$D$42,F8:F42) -> 0 | G44: =SUMPRODUCT($D$8:$D$42,G8:G42) -> 0 | H44: =SUMPRODUCT($D$8:$D$42,H8:H42) -> 0 | I44: =SUMPRODUCT($D$8:$D$42,I8:I42) -> 0
F45: =SUMPRODUCT($E$8:$E$42,F8:F42) -> 0 | G45: =SUMPRODUCT($E$8:$E$42,G8:G42) -> 0 | H45: =SUMPRODUCT($E$8:$E$42,H8:H42) -> 0 | I45: =SUMPRODUCT($E$8:$E$42,I8:I42) -> 0
B46: Ranking | D46: 100 | F46: =+F44-F45 -> 0 | G46: =+G44-G45 -> 0 | H46: =+H44-H45 -> 0 | I46: =+I44-I45 -> 0
BC61: 0 | BG61: 0 | BK61: 0 | BO61: 0 | BS61: 0
BC65: 0 | BG65: 0 | BK65: 0 | BO65: 0 | BS65: 0

Sheet Design QFD 2
A1: ACTIVITY SUMMARY
C2: Design feature | D2: Importance | F2: Importance
C3: Functionality | AB3: Functionality Detail
C4: Identify Round | D4: =VALUE('Design QFD 1'!D34) -> 2767.1223 | E4: 10 | F4: =+D4/E4 -> 276.71223
C5: Unpack Round | D5: =VALUE('Design QFD 1'!E34) -> 2929.8255 | E5: 10 | F5: =+D5/E5 -> 292.98255
C6: Acquire Target | D6: =VALUE('Design QFD 1'!F34) -> 671.60326 | E6: 10 | F6: =+D6/E6 -> 67.160326
C7: Load Weapon | D7: =VALUE('Design QFD 1'!G34) -> 2194.7022 | E7: 10 | F7: =+D7/E7 -> 219.47022
C8: Aim Weapon | D8: =VALUE('Design QFD 1'!H34) -> 456.88986 | E8: 10 | F8: =+D8/E8 -> 45.688986
C9: Activate weapon | D9: =VALUE('Design QFD 1'!I34) -> 1104.6796 | E9: 10 | F9: =+D9/E9 -> 110.46796
C10: Provide motive force | D10: =VALUE('Design QFD 1'!J34) -> 1123.9896 | E10: 10 | F10: =+D10/E10 -> 112.39896
C11: Manage recoil | D11: =VALUE('Design QFD 1'!K34) -> 472.67493 | E11: 10 | F11: =+D11/E11 -> 47.267493
C12: Recuperate | D12: =VALUE('Design QFD 1'!L34) -> 744.01246 | E12: 10 | F12: =+D12/E12 -> 74.401246
C13: Manage Dud | D13: =VALUE('Design QFD 1'!M34) -> 2883.5444 | E13: 10 | F13: =+D13/E13 -> 288.35444
C14: Demil | D14: =VALUE('Design QFD 1'!N34) -> 967.43536 | E14: 10 | F14: =+D14/E14 -> 96.743536
C15: transfer Signal | D15: =VALUE('Design QFD 1'!O34) -> 830.76152 | E15: 10 | F15: =+D15/E15 -> 83.076152
C16: Stabilise Round | D16: =VALUE('Design QFD 1'!P34) -> 1704.2925 | E16: 10 | F16: =+D16/E16 -> 170.42925
C17: Manoeuvre round | D17: =VALUE('Design QFD 1'!Q34) -> 1542.5472 | E17: 10 | F17: =+D17/E17 -> 154.25472
C18: Detect Target | D18: =VALUE('Design QFD 1'!R34) -> 361.78899 | E18: 10 | F18: =+D18/E18 -> 36.178899
C19: Generate effect | D19: =VALUE('Design QFD 1'!S34) -> 1656.9587 | E19: 10 | F19: =+D19/E19 -> 165.69587
D20: =VALUE('Design QFD 1 (2)'!$T$24) -> 0 | E20: 10 | F20: =+D20/E20 -> 0
D21: =VALUE('Design QFD 1'!D51) -> 0 | E21: 10 | F21: =+D21/E21 -> 0
G22: =SUMPRODUCT($F$3:$F$21,G3:G21) -> 0 | H22: =SUMPRODUCT($F$3:$F$21,H3:H21) -> 0 | I22: =SUMPRODUCT($F$3:$F$21,I3:I21) -> 0 | J22: =SUMPRODUCT($F$3:$F$21,J3:J21) -> 0 | K22: =SUMPRODUCT($F$3:$F$21,K3:K21) -> 0 | L22: =SUMPRODUCT($F$3:$F$21,L3:L21) -> 0 | M22: =SUMPRODUCT($F$3:$F$21,M3:M21) -> 0 | N22: =SUMPRODUCT($F$3:$F$21,N3:N21) -> 0 | ... AA22: =SUMPRODUCT($F$3:$F$21,AA3:AA21) -> 0
C24: Target
C25: Benchmark
C26: Ideal Value | O26: Desired trials results
C27: How Much???

Sheet Prime P Diagram (Given)
A1: ACTIVITY SUMMARY
A2: P-Diagram
A3: Author: | E3: Noise Factors | G3: External | L3: Noise Factors | N3: Unit to unit | P3: Noise Factor | R3: Deterioration
A4: Date:
A5: Issue: 1
A6: System:
B22: Signal factors | I22: Hesh Munition | Q22: Outputs
L31: Control Factors

Sheet Prime "What Why"
A1: ACTIVITY SUMMARY
G2: =VALUE('Design QFD 2'!#REF!) -> #REF!
A3: If insert rows/columns, copy formulae in purple cells.
M4: NOISE FACTORS | AC4: Relative Importance of noise in meeting performance via control factor
A5: Performance Characteristics | B5: Design control parameters | C5: Weighting | D5: Unit to Unit Variation | M5: Deterioration | T5: External
C6: of design | D6: Mfg | M6: Raw Mat'l | T6: Environment | Z6: Human | AB6: Total
C7: control parameter
AB9: =SUM(D9:AA9) -> 0 | AC9: =+AB9*C9 -> 0
AB10: =SUM(D10:AA10) -> 0 | AC10: =+AB10*C10 -> 0
AB11: =SUM(D11:AA11) -> 0 | AC11: =+AB11*C11 -> 0
AB12: =SUM(D12:AA12) -> 0 | AC12: =+AB12*C12 -> 0
AB13: =SUM(D13:AA13) -> 0 | AC13: =+AB13*C13 -> 0
AB14: =SUM(D14:AA14) -> 0 | AC14: =+AB14*C14 -> 0
AB15: =SUM(D15:AA15) -> 0 | AC15: =+AB15*C15 -> 0
AB16: =SUM(D16:AA16) -> 0 | AC16: =+AB16*C16 -> 0
AB17: =SUM(D17:AA17) -> 0 | AC17: =+AB17*C17 -> 0
AB18: =SUM(D18:AA18) -> 0 | AC18: =+AB18*C18 -> 0
B19: Relative importance of noise factor: | D19: =SUMPRODUCT($C9:$C18,D9:D18) -> 0 | E19: =SUMPRODUCT($C9:$C18,E9:E18) -> 0 | F19: =SUMPRODUCT($C9:$C18,F9:F18) -> 0 | G19: =SUMPRODUCT($C9:$C18,G9:G18) -> 0 | H19: =SUMPRODUCT($C9:$C18,H9:H18) -> 0 | I19: =SUMPRODUCT($C9:$C18,I9:I18) -> 0 | J19: =SUMPRODUCT($C9:$C18,J9:J18) -> 0 | K19: =SUMPRODUCT($C9:$C18,K9:K18) -> 0 | ... AA19: =SUMPRODUCT($C9:$C18,AA9:AA18) -> 0
B21: Team:
B22: Date completed:
C23: 100

Sheet P-Diagram 2 (Derived)
A1: ACTIVITY SUMMARY
A2: P-Diagram
A3: Author: | E3: Noise Factors | G3: External | L3: Noise Factors | N3: Unit to unit | P3: Noise Factor | R3: Deterioration
A4: Date:
A5: Issue: 1
A6: System:
B22: Signal factors | I22: Hesh Munition | Q22: Outputs
L31: Control Factors

Sheet What Why 2
A1: ACTIVITY SUMMARY
G2: =VALUE('Design QFD 2'!#REF!) -> #REF!
A3: If insert rows/columns, copy formulae in purple cells.
M4: NOISE FACTORS | AC4: Relative Importance of noise in meeting performance via control factor
A5: Performance Characteristics | B5: Design control parameters | C5: Weighting | D5: Unit to Unit Variation | M5: Deterioration | T5: External
C6: of design | D6: Mfg | M6: Raw Mat'l | T6: Environment | Z6: Human | AB6: Total
C7: control parameter
AB9: =SUM(D9:AA9) -> 0 | AC9: =+AB9*C9 -> 0
AB10: =SUM(D10:AA10) -> 0 | AC10: =+AB10*C10 -> 0
AB11: =SUM(D11:AA11) -> 0 | AC11: =+AB11*C11 -> 0
AB12: =SUM(D12:AA12) -> 0 | AC12: =+AB12*C12 -> 0
AB13: =SUM(D13:AA13) -> 0 | AC13: =+AB13*C13 -> 0
AB14: =SUM(D14:AA14) -> 0 | AC14: =+AB14*C14 -> 0
AB15: =SUM(D15:AA15) -> 0 | AC15: =+AB15*C15 -> 0
AB16: =SUM(D16:AA16) -> 0 | AC16: =+AB16*C16 -> 0
AB17: =SUM(D17:AA17) -> 0 | AC17: =+AB17*C17 -> 0
AB18: =SUM(D18:AA18) -> 0 | AC18: =+AB18*C18 -> 0
B19: Relative importance of noise factor: | D19: =SUMPRODUCT($C9:$C18,D9:D18) -> 0 | E19: =SUMPRODUCT($C9:$C18,E9:E18) -> 0 | F19: =SUMPRODUCT($C9:$C18,F9:F18) -> 0 | G19: =SUMPRODUCT($C9:$C18,G9:G18) -> 0 | H19: =SUMPRODUCT($C9:$C18,H9:H18) -> 0 | I19: =SUMPRODUCT($C9:$C18,I9:I18) -> 0 | J19: =SUMPRODUCT($C9:$C18,J9:J18) -> 0 | K19: =SUMPRODUCT($C9:$C18,K9:K18) -> 0 | ... AA19: =SUMPRODUCT($C9:$C18,AA9:AA18) -> 0
B21: Team:
B22: Date completed:
C23: 100

Sheet P-Diagram 3 (Target Defeat)
A1: ACTIVITY SUMMARY
A2: P-Diagram
A3: Author: | E3: Noise Factors | G3: External | L3: Noise Factors | N3: Unit to unit | P3: Noise Factor | R3: Deterioration
A4: Date:
A5: Issue: 1
A6: System:
B22: Signal factors Prox PD Delay | I22: Hesh Munition | Q22: Defeat Target
L31: Control Factors

Sheet what why 3 (Target Defeat)
A1: ACTIVITY SUMMARY
I2: =VALUE('Design QFD 2'!#REF!) -> #REF!
A3: If insert rows/columns, copy formulae in purple cells.
O4: NOISE FACTORS | AE4: Relative Importance of noise in meeting performance via control factor
A5: Performance Characteristics | B5: Design control parameters | E5: Weighting | F5: Unit to Unit Variation | O5: Deterioration | V5: External
E6: of design | F6: Mfg | O6: Raw Mat'l | V6: Environment | AB6: Human | AD6: Total
E7: control parameter
C8: Soft and Squidgy | D8: Soft Skin Vehicles | E8: Buildings | F8: Shell Mtl
F9: 3 | AD9: =SUM(F9:AC9) -> 3 | AE9: =+AD9*E9 -> 0
F10: 9 | AD10: =SUM(F10:AC10) -> 9 | AE10: =+AD10*E10 -> 0
F11: 1 | AD11: =SUM(F11:AC11) -> 1 | AE11: =+AD11*E11 -> 0
AD12: =SUM(F12:AC12) -> 0 | AE12: =+AD12*E12 -> 0
AD13: =SUM(F13:AC13) -> 0 | AE13: =+AD13*E13 -> 0
AD14: =SUM(F14:AC14) -> 0 | AE14: =+AD14*E14 -> 0
AD15: =SUM(F15:AC15) -> 0 | AE15: =+AD15*E15 -> 0
AD16: =SUM(F16:AC16) -> 0 | AE16: =+AD16*E16 -> 0
AD17: =SUM(F17:AC17) -> 0 | AE17: =+AD17*E17 -> 0
AD18: =SUM(F18:AC18) -> 0 | AE18: =+AD18*E18 -> 0
B19: Relative importance of noise factor: | F19: =SUMPRODUCT($E9:$E18,F9:F18) -> 0 | G19: =SUMPRODUCT($E9:$E18,G9:G18) -> 0 | H19: =SUMPRODUCT($E9:$E18,H9:H18) -> 0 | I19: =SUMPRODUCT($E9:$E18,I9:I18) -> 0 | J19: =SUMPRODUCT($E9:$E18,J9:J18) -> 0 | K19: =SUMPRODUCT($E9:$E18,K9:K18) -> 0 | L19: =SUMPRODUCT($E9:$E18,L9:L18) -> 0 | M19: =SUMPRODUCT($E9:$E18,M9:M18) -> 0 | ... AC19: =SUMPRODUCT($E9:$E18,AC9:AC18) -> 0
B21: Team:
B22: Date completed:
E23: 100

Sheet What Why 3.1 (Building)
A1: ACTIVITY SUMMARY
G2: =VALUE('Design QFD 2'!#REF!) -> #REF!
A3: If insert rows/columns, copy formulae in purple cells.
M4: NOISE FACTORS | AC4: Relative Importance of noise in meeting performance via control factor
A5: Performance Characteristics | B5: Design control parameters | C5: Weighting | D5: Unit to Unit Variation | M5: Deterioration | T5: External
C6: of design | D6: Mfg | M6: Raw Mat'l | T6: Environment | Z6: Human | AB6: Total
C7: control parameter
AB9: =SUM(D9:AA9) -> 0 | AC9: =+AB9*C9 -> 0
AB10: =SUM(D10:AA10) -> 0 | AC10: =+AB10*C10 -> 0
AB11: =SUM(D11:AA11) -> 0 | AC11: =+AB11*C11 -> 0
AB12: =SUM(D12:AA12) -> 0 | AC12: =+AB12*C12 -> 0
AB13: =SUM(D13:AA13) -> 0 | AC13: =+AB13*C13 -> 0
AB14: =SUM(D14:AA14) -> 0 | AC14: =+AB14*C14 -> 0
AB15: =SUM(D15:AA15) -> 0 | AC15: =+AB15*C15 -> 0
AB16: =SUM(D16:AA16) -> 0 | AC16: =+AB16*C16 -> 0
AB17: =SUM(D17:AA17) -> 0 | AC17: =+AB17*C17 -> 0
AB18: =SUM(D18:AA18) -> 0 | AC18: =+AB18*C18 -> 0
B19: Relative importance of noise factor: | D19: =SUMPRODUCT($C9:$C18,D9:D18) -> 0 | E19: =SUMPRODUCT($C9:$C18,E9:E18) -> 0 | F19: =SUMPRODUCT($C9:$C18,F9:F18) -> 0 | G19: =SUMPRODUCT($C9:$C18,G9:G18) -> 0 | H19: =SUMPRODUCT($C9:$C18,H9:H18) -> 0 | I19: =SUMPRODUCT($C9:$C18,I9:I18) -> 0 | J19: =SUMPRODUCT($C9:$C18,J9:J18) -> 0 | K19: =SUMPRODUCT($C9:$C18,K9:K18) -> 0 | ... AA19: =SUMPRODUCT($C9:$C18,AA9:AA18) -> 0
B21: Team:
B22: Date completed:
C23: 100

Sheet What Why 3.2 (Human)
A1: ACTIVITY SUMMARY
G2: =VALUE('Design QFD 2'!#REF!) -> #REF!
A3: If insert rows/columns, copy formulae in purple cells.
M4: NOISE FACTORS | AC4: Relative Importance of noise in meeting performance via control factor
A5: Performance Characteristics | B5: Design control parameters | C5: Weighting | D5: Unit to Unit Variation | M5: Deterioration | T5: External
C6: of design | D6: Mfg | M6: Raw Mat'l | T6: Environment | Z6: Human | AB6: Total
C7: control parameter
AB9: =SUM(D9:AA9) -> 0 | AC9: =+AB9*C9 -> 0
AB10: =SUM(D10:AA10) -> 0 | AC10: =+AB10*C10 -> 0
AB11: =SUM(D11:AA11) -> 0 | AC11: =+AB11*C11 -> 0
AB12: =SUM(D12:AA12) -> 0 | AC12: =+AB12*C12 -> 0
AB13: =SUM(D13:AA13) -> 0 | AC13: =+AB13*C13 -> 0
AB14: =SUM(D14:AA14) -> 0 | AC14: =+AB14*C14 -> 0
AB15: =SUM(D15:AA15) -> 0 | AC15: =+AB15*C15 -> 0
AB16: =SUM(D16:AA16) -> 0 | AC16: =+AB16*C16 -> 0
AB17: =SUM(D17:AA17) -> 0 | AC17: =+AB17*C17 -> 0
AB18: =SUM(D18:AA18) -> 0 | AC18: =+AB18*C18 -> 0
B19: Relative importance of noise factor: | D19: =SUMPRODUCT($C9:$C18,D9:D18) -> 0 | E19: =SUMPRODUCT($C9:$C18,E9:E18) -> 0 | F19: =SUMPRODUCT($C9:$C18,F9:F18) -> 0 | G19: =SUMPRODUCT($C9:$C18,G9:G18) -> 0 | H19: =SUMPRODUCT($C9:$C18,H9:H18) -> 0 | I19: =SUMPRODUCT($C9:$C18,I9:I18) -> 0 | J19: =SUMPRODUCT($C9:$C18,J9:J18) -> 0 | K19: =SUMPRODUCT($C9:$C18,K9:K18) -> 0 | ... AA19: =SUMPRODUCT($C9:$C18,AA9:AA18) -> 0
B21: Team:
B22: Date completed:
C23: 100

Sheet QFD2 Most Important Bit
A1: ACTIVITY SUMMARY
B2: Design feature | C2: Importance | E2: Importance
B3: Functionality | AA3: Functionality Detail
C4: 100 | D4: 10 | E4: =+C4/D4 -> 10
C5: 100 | D5: 10 | E5: =+C5/D5 -> 10
C6: 100 | D6: 10 | E6: =+C6/D6 -> 10
C7: 100 | D7: 10 | E7: =+C7/D7 -> 10
C8: 100 | D8: 10 | E8: =+C8/D8 -> 10
C9: 100 | D9: 10 | E9: =+C9/D9 -> 10
C10: 100 | D10: 10 | E10: =+C10/D10 -> 10
C11: 100 | D11: 10 | E11: =+C11/D11 -> 10
C12: 100 | D12: 10 | E12: =+C12/D12 -> 10
C13: 100 | D13: 10 | E13: =+C13/D13 -> 10
C14: 100 | D14: 10 | E14: =+C14/D14 -> 10
C15: 100 | D15: 10 | E15: =+C15/D15 -> 10
... C26: 100 | D26: 10 | E26: =+C26/D26 -> 10
F27: =SUMPRODUCT($E$3:$E$26,F3:F26) -> 0 | G27: =SUMPRODUCT($E$3:$E$26,G3:G26) -> 0 | H27: =SUMPRODUCT($E$3:$E$26,H3:H26) -> 0 | I27: =SUMPRODUCT($E$3:$E$26,I3:I26) -> 0 | J27: =SUMPRODUCT($E$3:$E$26,J3:J26) -> 0 | K27: =SUMPRODUCT($E$3:$E$26,K3:K26) -> 0 | L27: =SUMPRODUCT($E$3:$E$26,L3:L26) -> 0 | M27: =SUMPRODUCT($E$3:$E$26,M3:M26) -> 0 | ... Z27: =SUMPRODUCT($E$3:$E$26,Z3:Z26) -> 0
B29: Target
B30: Benchmark
B31: Ideal Value | F31: Yellow to Std XYD, Font, Paint type, Compatibility | P31: Green to Std XYD, Paint type, compatibility
B32: How Much???

Sheet P Diagram Component
A1: ACTIVITY SUMMARY
A2: P-Diagram
A3: Author: | E3: Noise Factors | G3: External | L3: Noise Factors | N3: Unit to unit | P3: Noise Factor | R3: Deterioration
A4: Date:
A5: Issue: 1
A6: System:
B22: Signal factors | I22: Shell Body Base component | Q22: System compatibility
L31: Control Factors

Sheet What Why Component
A1: ACTIVITY SUMMARY
G2: =VALUE('Design QFD 2'!#REF!) -> #REF!
A3: If insert rows/columns, copy formulae in purple cells.
M4: NOISE FACTORS | Y4: Relative Importance of noise in meeting performance via control factor
A5: Performance Characteristics | B5: Design control parameters | C5: Weighting | D5: Unit to Unit Variation | M5: Deterioration
C6: of design | D6: Mfg | M6: Raw Mat'l | V6: Human | X6: Total
C7: control parameter
Z8: Highlight important factors
X9: =SUM(D9:W9) -> 0 | Y9: =+X9*C9 -> 0
X10: =SUM(D10:W10) -> 0 | Y10: =+X10*C10 -> 0
X11: =SUM(D11:W11) -> 0 | Y11: =+X11*C11 -> 0
X12: =SUM(D12:W12) -> 0 | Y12: =+X12*C12 -> 0
X13: =SUM(D13:W13) -> 0 | Y13: =+X13*C13 -> 0
X14: =SUM(D14:W14) -> 0 | Y14: =+X14*C14 -> 0
X15: =SUM(D15:W15) -> 0 | Y15: =+X15*C15 -> 0
X16: =SUM(D16:W16) -> 0 | Y16: =+X16*C16 -> 0
X17: =SUM(D17:W17) -> 0 | Y17: =+X17*C17 -> 0
X18: =SUM(D18:W18) -> 0 | Y18: =+X18*C18 -> 0
X19: =SUM(D19:W19) -> 0 | Y19: =+X19*C19 -> 0
X20: =SUM(D20:W20) -> 0 | Y20: =+X20*C20 -> 0
... X35: =SUM(D35:W35) -> 0 | Y35: =+X35*C35 -> 0
B36: Relative importance of noise factor: | D36: =SUMPRODUCT($C9:$C35,D9:D35) -> 0 | E36: =SUMPRODUCT($C9:$C35,E9:E35) -> 0 | F36: =SUMPRODUCT($C9:$C35,F9:F35) -> 0 | G36: =SUMPRODUCT($C9:$C35,G9:G35) -> 0 | H36: =SUMPRODUCT($C9:$C35,H9:H35) -> 0 | I36: =SUMPRODUCT($C9:$C35,I9:I35) -> 0 | J36: =SUMPRODUCT($C9:$C35,J9:J35) -> 0 | K36: =SUMPRODUCT($C9:$C35,K9:K35) -> 0 | ... W36: =SUMPRODUCT($C9:$C35,W9:W35) -> 0
B38: Team:
B39: Date completed:
C40: 100

Sheet Control Importances (Base)

Sheet Noise importances (Base)

Sheet Manufacturing Requirements
A6: ACTIVITY SUMMARY

Sheet Process Map 
A1: ACTIVITY SUMMARY

Sheet Manufacturing QFD 1
A1: ACTIVITY SUMMARY
B2: Manufacturing Functionality | C2: Importance
B3: Manufacturing Requirements | U3: Manufacturing Requirements detail
B4: Manufacturing Costs
B5: Labour | C5: 5
B6: Equipment capital cost | C6: 5
B7: Service / Operating Cost | C7: 5
B8: Set up cost | C8: 5
B9: Material Cost - Metal Bits | C9: 5
B10: Material Cost - Energetic Bits | C10: 5
B11: Material Cost - other | C11: 5
B12: Maintenance Cost
B13: Manufacturing Capacity | C13: 5
B14: Target production rate XX per month | C14: 5
B15: Reliable Manufacture | C15: 5
B16: Repeatable performance | C16: 5
B17: Effective Maintenance | C17: 5
B18: Low system outage | C18: 5
B19: Quality | C19: 5
B20: Defect Free | C20: 5
B21: Effective test and inspection | C21: 5
B22: Safety | C22: 5
B23: Explosive | C23: 5
B24: Non-Explosive | C24: 5
C25: 5
C26: 5
C27: 5
C28: 5
D29: =SUMPRODUCT($C$3:$C$28,D3:D28) -> 0 | E29: =SUMPRODUCT($C$3:$C$28,E3:E28) -> 0 | F29: =SUMPRODUCT($C$3:$C$28,F3:F28) -> 0 | G29: =SUMPRODUCT($C$3:$C$28,G3:G28) -> 0 | H29: =SUMPRODUCT($C$3:$C$28,H3:H28) -> 0 | I29: =SUMPRODUCT($C$3:$C$28,I3:I28) -> 0 | J29: =SUMPRODUCT($C$3:$C$28,J3:J28) -> 0 | K29: =SUMPRODUCT($C$3:$C$28,K3:K28) -> 0 | ... T29: =SUMPRODUCT($C$3:$C$28,T3:T28) -> 0
B32: Target
B33: Benchmark
B34: Ideal Value
B35: Functionality Detail/ insert specifications for each operation

Sheet QFD 2 Manufacturing
A1: ACTIVITY SUMMARY
B2: Design feature | C2: Importance | E2: Importance
B3: Functionality | AB3: Functionality Detail
C4: =VALUE('Manufacturing QFD 1'!D29) -> 0 | D4: 10 | E4: =+C4/D4 -> 0
C5: =VALUE('Manufacturing QFD 1'!E29) -> 0 | D5: 10 | E5: =+C5/D5 -> 0
C6: =VALUE('Manufacturing QFD 1'!F29) -> 0 | D6: 10 | E6: =+C6/D6 -> 0
C7: =VALUE('Manufacturing QFD 1'!G29) -> 0 | D7: 10 | E7: =+C7/D7 -> 0
C8: =VALUE('Manufacturing QFD 1'!H29) -> 0 | D8: 10 | E8: =+C8/D8 -> 0
C9: =VALUE('Manufacturing QFD 1'!I29) -> 0 | D9: 10 | E9: =+C9/D9 -> 0
C10: =VALUE('Manufacturing QFD 1'!J29) -> 0 | D10: 10 | E10: =+C10/D10 -> 0
C11: =VALUE('Manufacturing QFD 1'!K29) -> 0 | D11: 10 | E11: =+C11/D11 -> 0
C12: =VALUE('Manufacturing QFD 1'!L29) -> 0 | D12: 10 | E12: =+C12/D12 -> 0
C13: =VALUE('Manufacturing QFD 1'!M29) -> 0 | D13: 10 | E13: =+C13/D13 -> 0
D14: 10 | E14: =+C14/D14 -> 0
F15: =SUMPRODUCT($E$3:$E$14,F3:F14) -> 0 | G15: =SUMPRODUCT($E$3:$E$14,G3:G14) -> 0 | H15: =SUMPRODUCT($E$3:$E$14,H3:H14) -> 0 | I15: =SUMPRODUCT($E$3:$E$14,I3:I14) -> 0 | J15: =SUMPRODUCT($E$3:$E$14,J3:J14) -> 0 | K15: =SUMPRODUCT($E$3:$E$14,K3:K14) -> 0 | L15: =SUMPRODUCT($E$3:$E$14,L3:L14) -> 0 | M15: =SUMPRODUCT($E$3:$E$14,M3:M14) -> 0 | ... AA15: =SUMPRODUCT($E$3:$E$14,AA3:AA14) -> 0
B17: Target
B18: Benchmark
B19: Ideal Value
B20: How Much???

Sheet Means importance

Sheet Process FMA
A1: ACTIVITY SUMMARY
B2: Function | C2: Means
B3: Forge Shell | C3: Forge from Cast Billet | D3: Forge from machined billet
B4: Form Cavity | C4: Hot Forging | D4: Drill | E4: ALM | F4: Two Piece
B5: Head Shell | C5: Swage | D5: Press | E5: ALM
B6: Coarse M/C | C6: Hand lathe | D6: CNC | E6: Robot | F6: Hand set
B7: Fine M/C | C7: Hand lathe | D7: CNC | E7: Robot | F7: Hand set
B8: Clean Shell | C8: Ultrasonic | D8: Brush and Blow | E8: Bath clean | F8: Vacuum
B9: Form Wire | C9: Hot form | D9: Cold form | E9: ALM | F9: Don't
B10: Coil Wire | C10: Hot form | D10: Cold form | E10: ALM | F10: Don't
B11: Harden Wire | C11: Hot form | D11: Cold form | E11: ALM | F11: Don't
B12: Insert Wire | C12: manual | D12: robot | E12: form in situ | F12: ALM
B13: Surface Finish | C13: Oxsilan | D13: Varnish | E13: Bitumen | F13: Hylamar | G13: rextac/epilene
B14: Paint | C14: Water based | D14: Powder coat | E14: Brush | F14: Don't
B15: Cure paint | C15: Oven | D15: Hot air blow | E15: Air dry
B16: Make Fins | C16: Hand M/C | D16: CNC | E16: Robot | F16: ALM
B17: Coarse MC | C17: Hand M/C | D17: CNC | E17: Robot | F17: ALM
B18: Fine M/C | C18: Hand M/C | D18: CNC | E18: Robot | F18: ALM
B19: Anodise | C19: Sulphuric Acid | D19: Black anodise | E19: Chromic acid | F19: ALM
B20: Clean Shell | C20: Hand M/C | D20: CNC | E20: Robot | F20: ALM
B21: Obtain tracer
B22: Cap Holder | C22: Manual | D22: Robot | E22: Buy in capped holder | F22: Fortress
B23: Load Primer | C23: Manual | D23: Weigh | E23: Volumetric | F23: Robot | G23: Fortress
B24: Load Pre-mag | C24: Manual | D24: Weigh | E24: Volumetric | F24: Robot | G24: Fortress
B25: Seal Primer | C25: Manual | D25: Brush | E25: Adhesive | F25: Varnish | G25: Ultrasound
B26: Assemble primer | C26: Manual | D26: Robot | E26: Buy in filled primer | F26: Fortress
B27: Pack | C27: Manual | D27: Robot | E27: Air Handler | F27: Semi Auto
B28: Roll Liner | C28: Manual | D28: Auto | E28: Buy in rolled liner
B29: Seal Liner | C29: Manual | D29: Auto | E29: Buy in Sealed Liner
B30: Line Primer body | C30: Manual | D30: Auto
B31: Fill Body | C31: Cast Cure | D31: Press Fill | E31: Melt Cast IM | F31: Melt cast RTA | G31: Melt Cast Cream TNT
B32: Liquefy Contents | C32: Cast cure | D32: Melt cast | E32: Powder press
B33: Mix | C33: Incorporator | D33: Hand | E33: High Shear | F33: RAM | G33: Ram in case
B34: Fill Shell | C34: Pour | D34: Pump | E34: Press | F34: Inject
B35: Fit Filling Aid | C35: Hand | D35: robot | E35: Don't
B36: Warm Shell | C36: Oven | D36: Warm air | E36: Condition in shop | F36: Don't
B37: Move in | C37: hover pallet | D37: Conveyer | E37: heated box | F37: Manual | G37: Robot | H37: Powered conveyer
B38: Move out | C38: hover pallet | D38: Conveyer | E38: heated box | F38: Manual | G38: Robot | H38: Powered conveyer
B39: Solidify Contents | C39: Cure in oven | D39: Cure at RT | E39: Cool | F39: Cool and Probe | G39: Don't (press)
B40: Remove Filling Aid | C40: Hand | D40: Robot | E40: Don't
B41: Form Booster Cavity | C41: Counter bore | D41: Mould | E41: Press
B42: Manufacture pellets | C42: hand Press | D42: rotary press | E42: cast | F42: extrude
B43: Fit Booster | C43: Hand | D43: Robot
B44: Fit PRF | C44: Hand | D44: Robot

Sheet Process Pugh
A1: ACTIVITY SUMMARY
C4: ="Project Name: "&'Design Book Title'!C10 -> Project Name: HESH Example for course 2025 Beng
D6: Relative Importance Equal | E6: Relative importance Weighted | F6: Benchmark design Melt Cast Manual | G6: Alternative manufacturing method 1. Melt Cast IM Automatic | H6: Alternative manufacturing method 2 Cast Cure IM Automatic
B7: WHATs - Customer Requirements | C7: How much:- From QFD 1
D8: 5
D9: 5
D10: 5
D11: 5
D12: 5
D13: 5
D14: 5
D15: 5
D16: 5
D17: 5
D18: 5
D19: 5
... D22: 5
D23: Un Weighted | F23: =SUMPRODUCT($D$8:$D$22,F8:F22) -> 0 | G23: =SUMPRODUCT($D$8:$D$22,G8:G22) -> 0 | H23: =SUMPRODUCT($D$8:$D$22,H8:H22) -> 0
D24: Weighted | F24: =SUMPRODUCT($E$8:$E$22,F8:F22) -> 0 | G24: =SUMPRODUCT($E$8:$E$22,G8:G22) -> 0 | H24: =SUMPRODUCT($E$8:$E$22,H8:H22) -> 0
B25: Ranking | D25: 100 | F25: =+F23-F24 -> 0 | G25: =+G23-G24 -> 0 | H25: =+H23-H24 -> 0
BB40: 0 | BF40: 0 | BJ40: 0 | BN40: 0 | BR40: 0
BB44: 0 | BF44: 0 | BJ44: 0 | BN44: 0 | BR44: 0

Sheet QFD 3
A1: ACTIVITY SUMMARY
B2: Process Features | E2: Importance
B4: Important design features | AJ4: Functionality Details
C5: 50 | D5: 10 | E5: 3
C6: 50 | D6: 10 | E6: 2
C7: 50 | D7: 10 | E7: 3
C8: 50 | D8: 10 | E8: 3
C9: 50 | D9: 10 | E9: 3
C10: 50 | D10: 10 | E10: 3
C11: 50 | D11: 10 | E11: 3
C12: 50 | D12: 10 | E12: 3
C13: 50 | D13: 10 | E13: 3
C14: 50 | D14: 10 | E14: 5
C15: 50 | D15: 10 | E15: 3
C16: 50 | D16: 10 | E16: 5
C19: 50 | D19: 10
F20: =SUMPRODUCT($E$5:$E$19,F5:F19) -> 0 | G20: =SUMPRODUCT($E$5:$E$19,G5:G19) -> 0 | H20: =SUMPRODUCT($E$5:$E$19,H5:H19) -> 0 | I20: =SUMPRODUCT($E$5:$E$19,I5:I19) -> 0 | J20: =SUMPRODUCT($E$5:$E$19,J5:J19) -> 0 | K20: =SUMPRODUCT($E$5:$E$19,K5:K19) -> 0 | L20: =SUMPRODUCT($E$5:$E$19,L5:L19) -> 0 | M20: =SUMPRODUCT($E$5:$E$19,M5:M19) -> 0 | ... AI20: =SUMPRODUCT($E$5:$E$19,AI5:AI19) -> 0
B22: Target
B23: Benchmark
B24: Ideal Value
B25: Process Features Details

Sheet 1st Key P Diagram
A1: ACTIVITY SUMMARY
A5: P-Diagram
A6: Author: | E6: Noise Factors | G6: External | L6: Noise Factors | N6: Unit to unit | P6: Noise Factor | R6: Deterioration
A7: Date:
A8: Issue: 1
A9: System:
L38: Control Factors

Sheet 1st Key  "What Why"
A1: ACTIVITY SUMMARY
A3: If insert rows/columns, copy formulae in purple cells.
V4: Relative Importance of noise in meeting performance via control factor
A5: Performance Characteristics Ys: | B5: Design control parameters | C5: Weighting of design control parameter. | D5: Unit to Unit Variation | L5: Deterioration | Q5: External
D6: Mfg | Q6: Environment | S6: Human | U6: Total
U9: =SUM(D9:T9) -> 0 | V9: =+U9*C9 -> 0
U10: =SUM(D10:T10) -> 0 | V10: =+U10*C10 -> 0
U11: =SUM(D11:T11) -> 0 | V11: =+U11*C11 -> 0
U12: =SUM(D12:T12) -> 0 | V12: =+U12*C12 -> 0
U13: =SUM(D13:T13) -> 0 | V13: =+U13*C13 -> 0
U14: =SUM(D14:T14) -> 0 | V14: =+U14*C14 -> 0
U15: =SUM(D15:T15) -> 0 | V15: =+U15*C15 -> 0
U16: =SUM(D16:T16) -> 0 | V16: =+U16*C16 -> 0
U17: =SUM(D17:T17) -> 0 | V17: =+U17*C17 -> 0
U18: =SUM(D18:T18) -> 0 | V18: =+U18*C18 -> 0
U19: =SUM(D19:T19) -> 0 | V19: =+U19*C19 -> 0
U20: =SUM(D20:T20) -> 0 | V20: =+U20*C20 -> 0
B21: Relative importance of noise factor: | D21: =SUMPRODUCT($C9:$C20,D9:D20) -> 0 | E21: =SUMPRODUCT($C9:$C20,E9:E20) -> 0 | F21: =SUMPRODUCT($C9:$C20,F9:F20) -> 0 | G21: =SUMPRODUCT($C9:$C20,G9:G20) -> 0 | H21: =SUMPRODUCT($C9:$C20,H9:H20) -> 0 | I21: =SUMPRODUCT($C9:$C20,I9:I20) -> 0 | J21: =SUMPRODUCT($C9:$C20,J9:J20) -> 0 | K21: =SUMPRODUCT($C9:$C20,K9:K20) -> 0 | ... T21: =SUMPRODUCT($C9:$C20,T9:T20) -> 0
B23: Team:
B24: Date completed:

Sheet 1st QFD4
A1: ACTIVITY SUMMARY
E3: Operational assessment | L3: Process Controls
E4: manufacturing controlas and Aids | F4: Difficulty | G4: Frequency | H4: Severity | I4: Detectability | J4: RPN
B5: Process parameters | C5: Target Values
J6: =+F6*G6*H6*I6 -> 0
J7: =+F7*G7*H7*I7 -> 0
J8: =+F8*G8*H8*I8 -> 0
J9: =+F9*G9*H9*I9 -> 0
J10: =+F10*G10*H10*I10 -> 0
J11: =+F11*G11*H11*I11 -> 0
J12: =+F12*G12*H12*I12 -> 0
L13: =SUMPRODUCT($J$6:$J$12,L6:L12) -> 0 | M13: =SUMPRODUCT($J$6:$J$12,M6:M12) -> 0 | N13: =SUMPRODUCT($J$6:$J$12,N6:N12) -> 0 | O13: =SUMPRODUCT($J$6:$J$12,O6:O12) -> 0 | P13: =SUMPRODUCT($J$6:$J$12,P6:P12) -> 0 | Q13: =SUMPRODUCT($J$6:$J$12,Q6:Q12) -> 0 | R13: =SUMPRODUCT($J$6:$J$12,R6:R12) -> 0 | S13: =SUMPRODUCT($J$6:$J$12,S6:S12) -> 0 | ... AB13: =SUMPRODUCT($J$6:$J$12,AB6:AB12) -> 0

Sheet 2nd Key P Diag
A5: P-Diagram
A6: Author: | E6: Noise Factors | G6: External | L6: Noise Factors | N6: Unit to unit | P6: Noise Factor | R6: Deterioration
A7: Date:
A8: Issue: 1
A9: System:
L38: Control Factors

Sheet 2nd Key What Why
A3: If insert rows/columns, copy formulae in purple cells.
X4: Relative Importance of noise in meeting performance via control factor
A5: Performance Characteristics Ys: | B5: Design control parameters | C5: Weighting | D5: External | I5: Unit to Unit | R5: Deterioration
C6: of design | D6: Mfg | S6: Environment | U6: Human | W6: Total
C7: control parameter
A9: Produce Pellets | W9: =SUM(D9:V9) -> 0 | X9: =+W9*C9 -> 0
W10: =SUM(D10:V10) -> 0 | X10: =+W10*C10 -> 0
W11: =SUM(D11:V11) -> 0 | X11: =+W11*C11 -> 0
W12: =SUM(D12:V12) -> 0 | X12: =+W12*C12 -> 0
W13: =SUM(D13:V13) -> 0 | X13: =+W13*C13 -> 0
W14: =SUM(D14:V14) -> 0 | X14: =+W14*C14 -> 0
W15: =SUM(D15:V15) -> 0 | X15: =+W15*C15 -> 0
W16: =SUM(D16:V16) -> 0 | X16: =+W16*C16 -> 0
W17: =SUM(D17:V17) -> 0 | X17: =+W17*C17 -> 0
W18: =SUM(D18:V18) -> 0 | X18: =+W18*C18 -> 0
B19: Relative importance of noise factor: | D19: =SUMPRODUCT($C9:$C18,D9:D18) -> 0 | E19: =SUMPRODUCT($C9:$C18,E9:E18) -> 0 | F19: =SUMPRODUCT($C9:$C18,F9:F18) -> 0 | G19: =SUMPRODUCT($C9:$C18,G9:G18) -> 0 | H19: =SUMPRODUCT($C9:$C18,H9:H18) -> 0 | I19: =SUMPRODUCT($C9:$C18,I9:I18) -> 0 | J19: =SUMPRODUCT($C9:$C18,J9:J18) -> 0 | K19: =SUMPRODUCT($C9:$C18,K9:K18) -> 0 | ... V19: =SUMPRODUCT($C9:$C18,V9:V18) -> 0
B20: Direct factor severity assessment
B21: Team:
B22: Date completed:

Sheet 2nd QFD 4 
E3: Operational assessment | L3: Process Controls
E4: manufacturing controls and Aids | F4: Difficulty | G4: Frequency | H4: Severity | I4: Detectability | J4: RPN
B5: Process parameters | C5: Target Values
J6: =+F6*G6*H6*I6 -> 0
J7: =+F7*G7*H7*I7 -> 0
J8: =+F8*G8*H8*I8 -> 0
J9: =+F9*G9*H9*I9 -> 0
J10: =+F10*G10*H10*I10 -> 0
J11: =+F11*G11*H11*I11 -> 0
J12: =+F12*G12*H12*I12 -> 0
J13: =+F13*G13*H13*I13 -> 0
J14: =+F14*G14*H14*I14 -> 0
J15: =+F15*G15*H15*I15 -> 0
L16: =SUMPRODUCT($J$6:$J$15,L6:L15) -> 0 | M16: =SUMPRODUCT($J$6:$J$15,M6:M15) -> 0 | N16: =SUMPRODUCT($J$6:$J$15,N6:N15) -> 0 | O16: =SUMPRODUCT($J$6:$J$15,O6:O15) -> 0 | P16: =SUMPRODUCT($J$6:$J$15,P6:P15) -> 0 | Q16: =SUMPRODUCT($J$6:$J$15,Q6:Q15) -> 0 | R16: =SUMPRODUCT($J$6:$J$15,R6:R15) -> 0 | S16: =SUMPRODUCT($J$6:$J$15,S6:S15) -> 0 | ... AJ16: =SUMPRODUCT($J$6:$J$15,AJ6:AJ15) -> 0
