Workbook

Sheet Treatment Group
A1: Score
D9: SD | E9: =STDEV(A:A) -> #DIV/0!

Sheet Control Group
A1: Score
D9: SD | E9: =STDEV(A:A) -> #DIV/0!

Sheet Calculator
A1: DATA ENTRY | H1: RAW DIFFERENCE | N1: STANDARDISED EFFECT SIZE | Z1: (From Hedges and Olkin p80)
A2: Outcome measure | B2: Treatment group | E2: Control group | H2: pooled standard deviation | I2: p-value for difference in SDs | J2: Mean Difference | K2: p-value for mean diff (2-tailed T-test) | L2: Confidence Interval for Difference | N2: Effect Size | O2: Bias corrected (Hedges) | P2: Standard Error of E.S. estimate | Q2: Confidence Interval for Effect Size | S2: Effect Size based on control gp SD | Z2: N-2 | AA2: bias correction factor | AB2: approx
B3: mean | C3: n | D3: SD | E3: mean | F3: n | G3: SD | L3: lower | M3: upper | Q3: lower | R3: upper
B4: =AVERAGE('Treatment Group'!A:A) -> #DIV/0! | C4: =COUNT('Treatment Group'!A:A) -> 0 | D4: =STDEV('Treatment Group'!A:A) -> #DIV/0! | E4: =AVERAGE('Control Group'!A:A) -> #DIV/0! | F4: =COUNT('Control Group'!A:A) -> 0 | G4: =STDEV('Control Group'!A:A) -> #DIV/0! | H4: =SQRT((D4^2*(C4-1)+G4^2*(F4-1))/(C4+F4-2)) -> #DIV/0! | I4: =FDIST((MAX(G4,D4))^2/(MIN(G4,D4))^2,F4-1,C4-1) -> #DIV/0! | J4: =B4-E4 -> #DIV/0! | K4: =TDIST(J4*SQRT(C4*F4/(C4+F4))/H4,C4+F4-2,2) -> #DIV/0! | L4: =J4-(TINV($W$11,F4+C4-2)*H4/SQRT(C4*F4/(C4+F4))) -> #DIV/0! | M4: =J4+(TINV($W$11,F4+C4-2)*H4/SQRT(C4*F4/(C4+F4))) -> #DIV/0! | N4: =J4/H4 -> #DIV/0! | O4: =N4*VLOOKUP(C4+F4-2,$Z$5:$AA$102,2,TRUE) -> #DIV/0! | P4: =SQRT((C4+F4)/(C4*F4)+O4^2/(2*(C4+F4))) -> #DIV/0! | Q4: =O4-$W$12*P4 -> #DIV/0! | R4: =O4+$W$12*P4 -> #DIV/0! | S4: =J4/G4 -> #DIV/0!
H5: =SQRT((D5^2*(C5-1)+G5^2*(F5-1))/(C5+F5-2)) -> 0 | I5: =FDIST((MAX(G5,D5))^2/(MIN(G5,D5))^2,F5-1,C5-1) -> #DIV/0! | J5: =B5-E5 -> 0 | K5: =TDIST(J5*SQRT(C5*F5/(C5+F5))/H5,C5+F5-2,2) -> #DIV/0! | L5: =J5-(TINV($W$11,F5+C5-2)*H5/SQRT(C5*F5/(C5+F5))) -> #NUM! | M5: =J5+(TINV($W$11,F5+C5-2)*H5/SQRT(C5*F5/(C5+F5))) -> #NUM! | N5: =J5/H5 -> #DIV/0! | O5: =N5*VLOOKUP(C5+F5-2,$Z$5:$AA$102,2,TRUE) -> #DIV/0! | P5: =SQRT((C5+F5)/(C5*F5)+O5^2/(2*(C5+F5))) -> #DIV/0! | Q5: =O5-$W$12*P5 -> #DIV/0! | R5: =O5+$W$12*P5 -> #DIV/0! | S5: =J5/G5 -> #DIV/0! | Z5: 2 | AA5: 0.5642 | AB5: =1-3/(4*Z5-1) -> 0.57142857
H6: =SQRT((D6^2*(C6-1)+G6^2*(F6-1))/(C6+F6-2)) -> 0 | I6: =FDIST((MAX(G6,D6))^2/(MIN(G6,D6))^2,F6-1,C6-1) -> #DIV/0! | J6: =B6-E6 -> 0 | K6: =TDIST(J6*SQRT(C6*F6/(C6+F6))/H6,C6+F6-2,2) -> #DIV/0! | L6: =J6-(TINV($W$11,F6+C6-2)*H6/SQRT(C6*F6/(C6+F6))) -> #NUM! | M6: =J6+(TINV($W$11,F6+C6-2)*H6/SQRT(C6*F6/(C6+F6))) -> #NUM! | N6: =J6/H6 -> #DIV/0! | O6: =N6*VLOOKUP(C6+F6-2,$Z$5:$AA$102,2,TRUE) -> #DIV/0! | P6: =SQRT((C6+F6)/(C6*F6)+O6^2/(2*(C6+F6))) -> #DIV/0! | Q6: =O6-$W$12*P6 -> #DIV/0! | R6: =O6+$W$12*P6 -> #DIV/0! | S6: =J6/G6 -> #DIV/0! | Z6: 3 | AA6: 0.7236 | AB6: =1-3/(4*Z6-1) -> 0.72727273
H7: =SQRT((D7^2*(C7-1)+G7^2*(F7-1))/(C7+F7-2)) -> 0 | I7: =FDIST((MAX(G7,D7))^2/(MIN(G7,D7))^2,F7-1,C7-1) -> #DIV/0! | J7: =B7-E7 -> 0 | K7: =TDIST(J7*SQRT(C7*F7/(C7+F7))/H7,C7+F7-2,2) -> #DIV/0! | L7: =J7-(TINV($W$11,F7+C7-2)*H7/SQRT(C7*F7/(C7+F7))) -> #NUM! | M7: =J7+(TINV($W$11,F7+C7-2)*H7/SQRT(C7*F7/(C7+F7))) -> #NUM! | N7: =J7/H7 -> #DIV/0! | O7: =N7*VLOOKUP(C7+F7-2,$Z$5:$AA$102,2,TRUE) -> #DIV/0! | P7: =SQRT((C7+F7)/(C7*F7)+O7^2/(2*(C7+F7))) -> #DIV/0! | Q7: =O7-$W$12*P7 -> #DIV/0! | R7: =O7+$W$12*P7 -> #DIV/0! | S7: =J7/G7 -> #DIV/0! | Z7: 4 | AA7: 0.7979 | AB7: =1-3/(4*Z7-1) -> 0.8
H8: =SQRT((D8^2*(C8-1)+G8^2*(F8-1))/(C8+F8-2)) -> 0 | I8: =FDIST((MAX(G8,D8))^2/(MIN(G8,D8))^2,F8-1,C8-1) -> #DIV/0! | J8: =B8-E8 -> 0 | K8: =TDIST(J8*SQRT(C8*F8/(C8+F8))/H8,C8+F8-2,2) -> #DIV/0! | L8: =J8-(TINV($W$11,F8+C8-2)*H8/SQRT(C8*F8/(C8+F8))) -> #NUM! | M8: =J8+(TINV($W$11,F8+C8-2)*H8/SQRT(C8*F8/(C8+F8))) -> #NUM! | N8: =J8/H8 -> #DIV/0! | O8: =N8*VLOOKUP(C8+F8-2,$Z$5:$AA$102,2,TRUE) -> #DIV/0! | P8: =SQRT((C8+F8)/(C8*F8)+O8^2/(2*(C8+F8))) -> #DIV/0! | Q8: =O8-$W$12*P8 -> #DIV/0! | R8: =O8+$W$12*P8 -> #DIV/0! | S8: =J8/G8 -> #DIV/0! | Z8: 5 | AA8: 0.8408 | AB8: =1-3/(4*Z8-1) -> 0.84210526
H9: =SQRT((D9^2*(C9-1)+G9^2*(F9-1))/(C9+F9-2)) -> 0 | I9: =FDIST((MAX(G9,D9))^2/(MIN(G9,D9))^2,F9-1,C9-1) -> #DIV/0! | J9: =B9-E9 -> 0 | K9: =TDIST(J9*SQRT(C9*F9/(C9+F9))/H9,C9+F9-2,2) -> #DIV/0! | L9: =J9-(TINV($W$11,F9+C9-2)*H9/SQRT(C9*F9/(C9+F9))) -> #NUM! | M9: =J9+(TINV($W$11,F9+C9-2)*H9/SQRT(C9*F9/(C9+F9))) -> #NUM! | N9: =J9/H9 -> #DIV/0! | O9: =N9*VLOOKUP(C9+F9-2,$Z$5:$AA$102,2,TRUE) -> #DIV/0! | P9: =SQRT((C9+F9)/(C9*F9)+O9^2/(2*(C9+F9))) -> #DIV/0! | Q9: =O9-$W$12*P9 -> #DIV/0! | R9: =O9+$W$12*P9 -> #DIV/0! | S9: =J9/G9 -> #DIV/0! | Z9: 6 | AA9: 0.8686 | AB9: =1-3/(4*Z9-1) -> 0.86956522
H10: =SQRT((D10^2*(C10-1)+G10^2*(F10-1))/(C10+F10-2)) -> 0 | I10: =FDIST((MAX(G10,D10))^2/(MIN(G10,D10))^2,F10-1,C10-1) -> #DIV/0! | J10: =B10-E10 -> 0 | K10: =TDIST(J10*SQRT(C10*F10/(C10+F10))/H10,C10+F10-2,2) -> #DIV/0! | L10: =J10-(TINV($W$11,F10+C10-2)*H10/SQRT(C10*F10/(C10+F10))) -> #NUM! | M10: =J10+(TINV($W$11,F10+C10-2)*H10/SQRT(C10*F10/(C10+F10))) -> #NUM! | N10: =J10/H10 -> #DIV/0! | O10: =N10*VLOOKUP(C10+F10-2,$Z$5:$AA$102,2,TRUE) -> #DIV/0! | P10: =SQRT((C10+F10)/(C10*F10)+O10^2/(2*(C10+F10))) -> #DIV/0! | Q10: =O10-$W$12*P10 -> #DIV/0! | R10: =O10+$W$12*P10 -> #DIV/0! | S10: =J10/G10 -> #DIV/0! | V10: % confidence interval: | W10: 95 | Z10: 7 | AA10: 0.8882 | AB10: =1-3/(4*Z10-1) -> 0.88888889
H11: =SQRT((D11^2*(C11-1)+G11^2*(F11-1))/(C11+F11-2)) -> 0 | I11: =FDIST((MAX(G11,D11))^2/(MIN(G11,D11))^2,F11-1,C11-1) -> #DIV/0! | J11: =B11-E11 -> 0 | K11: =TDIST(J11*SQRT(C11*F11/(C11+F11))/H11,C11+F11-2,2) -> #DIV/0! | L11: =J11-(TINV($W$11,F11+C11-2)*H11/SQRT(C11*F11/(C11+F11))) -> #NUM! | M11: =J11+(TINV($W$11,F11+C11-2)*H11/SQRT(C11*F11/(C11+F11))) -> #NUM! | N11: =J11/H11 -> #DIV/0! | O11: =N11*VLOOKUP(C11+F11-2,$Z$5:$AA$102,2,TRUE) -> #DIV/0! | P11: =SQRT((C11+F11)/(C11*F11)+O11^2/(2*(C11+F11))) -> #DIV/0! | Q11: =O11-$W$12*P11 -> #DIV/0! | R11: =O11+$W$12*P11 -> #DIV/0! | S11: =J11/G11 -> #DIV/0! | V11: p: | W11: =(100-W10)/100 -> 0.05 | Z11: 8 | AA11: 0.9027 | AB11: =1-3/(4*Z11-1) -> 0.90322581
H12: =SQRT((D12^2*(C12-1)+G12^2*(F12-1))/(C12+F12-2)) -> 0 | I12: =FDIST((MAX(G12,D12))^2/(MIN(G12,D12))^2,F12-1,C12-1) -> #DIV/0! | J12: =B12-E12 -> 0 | K12: =TDIST(J12*SQRT(C12*F12/(C12+F12))/H12,C12+F12-2,2) -> #DIV/0! | L12: =J12-(TINV($W$11,F12+C12-2)*H12/SQRT(C12*F12/(C12+F12))) -> #NUM! | M12: =J12+(TINV($W$11,F12+C12-2)*H12/SQRT(C12*F12/(C12+F12))) -> #NUM! | N12: =J12/H12 -> #DIV/0! | O12: =N12*VLOOKUP(C12+F12-2,$Z$5:$AA$102,2,TRUE) -> #DIV/0! | P12: =SQRT((C12+F12)/(C12*F12)+O12^2/(2*(C12+F12))) -> #DIV/0! | Q12: =O12-$W$12*P12 -> #DIV/0! | R12: =O12+$W$12*P12 -> #DIV/0! | S12: =J12/G12 -> #DIV/0! | V12: Z-value: | W12: =NORMSINV(1-W11/2) -> 1.959964 | Z12: 9 | AA12: 0.9139 | AB12: =1-3/(4*Z12-1) -> 0.91428571
H13: =SQRT((D13^2*(C13-1)+G13^2*(F13-1))/(C13+F13-2)) -> 0 | I13: =FDIST((MAX(G13,D13))^2/(MIN(G13,D13))^2,F13-1,C13-1) -> #DIV/0! | J13: =B13-E13 -> 0 | K13: =TDIST(J13*SQRT(C13*F13/(C13+F13))/H13,C13+F13-2,2) -> #DIV/0! | L13: =J13-(TINV($W$11,F13+C13-2)*H13/SQRT(C13*F13/(C13+F13))) -> #NUM! | M13: =J13+(TINV($W$11,F13+C13-2)*H13/SQRT(C13*F13/(C13+F13))) -> #NUM! | N13: =J13/H13 -> #DIV/0! | O13: =N13*VLOOKUP(C13+F13-2,$Z$5:$AA$102,2,TRUE) -> #DIV/0! | P13: =SQRT((C13+F13)/(C13*F13)+O13^2/(2*(C13+F13))) -> #DIV/0! | Q13: =O13-$W$12*P13 -> #DIV/0! | R13: =O13+$W$12*P13 -> #DIV/0! | S13: =J13/G13 -> #DIV/0! | Z13: 10 | AA13: 0.9228 | AB13: =1-3/(4*Z13-1) -> 0.92307692
Z14: 11 | AA14: 0.93 | AB14: =1-3/(4*Z14-1) -> 0.93023256
Z16: 13 | AA16: 0.941 | AB16: =1-3/(4*Z16-1) -> 0.94117647
Z17: 14 | AA17: 0.9453 | AB17: =1-3/(4*Z17-1) -> 0.94545455
Z18: 15 | AA18: 0.949 | AB18: =1-3/(4*Z18-1) -> 0.94915254
Z19: 16 | AA19: 0.9523 | AB19: =1-3/(4*Z19-1) -> 0.95238095
Z20: 17 | AA20: 0.9551 | AB20: =1-3/(4*Z20-1) -> 0.95522388
Z21: 18 | AA21: 0.9577 | AB21: =1-3/(4*Z21-1) -> 0.95774648
Z22: 19 | AA22: 0.9599 | AB22: =1-3/(4*Z22-1) -> 0.96
Z23: 20 | AA23: 0.9619 | AB23: =1-3/(4*Z23-1) -> 0.96202532
Z24: 21 | AA24: 0.9638 | AB24: =1-3/(4*Z24-1) -> 0.96385542
Z25: 22 | AA25: 0.9655 | AB25: =1-3/(4*Z25-1) -> 0.96551724
Z26: 23 | AA26: 0.967 | AB26: =1-3/(4*Z26-1) -> 0.96703297
... Z53: 50 | AA53: 0.9849 | AB53: =1-3/(4*Z53-1) -> 0.98492462
Z54: =Z53+2 -> 52 | AA54: =1-3/(4*Z54-1) -> 0.98550725
Z55: =Z54+2 -> 54 | AA55: =1-3/(4*Z55-1) -> 0.98604651
Z56: =Z55+2 -> 56 | AA56: =1-3/(4*Z56-1) -> 0.98654709
Z57: =Z56+2 -> 58 | AA57: =1-3/(4*Z57-1) -> 0.98701299
Z58: =Z57+2 -> 60 | AA58: =1-3/(4*Z58-1) -> 0.9874477
Z59: =Z58+2 -> 62 | AA59: =1-3/(4*Z59-1) -> 0.98785425
Z60: =Z59+2 -> 64 | AA60: =1-3/(4*Z60-1) -> 0.98823529
Z61: =Z60+2 -> 66 | AA61: =1-3/(4*Z61-1) -> 0.98859316
Z62: =Z61+2 -> 68 | AA62: =1-3/(4*Z62-1) -> 0.98892989
Z63: =Z62+2 -> 70 | AA63: =1-3/(4*Z63-1) -> 0.98924731
Z64: =Z63+2 -> 72 | AA64: =1-3/(4*Z64-1) -> 0.98954704
Z65: =Z64+2 -> 74 | AA65: =1-3/(4*Z65-1) -> 0.98983051
... Z68: =Z67+2 -> 80 | AA68: =1-3/(4*Z68-1) -> 0.99059561
Z69: =Z68+5 -> 85 | AA69: =1-3/(4*Z69-1) -> 0.99115044
...
