Workbook
Name Left_front__corner_sprung_mass__kg: #REF!
Name Left_front__corner_sprung_mass__kg: #REF!
Name Left_front__corner_sprung_mass__kg: #REF!
Name Left_front__corner_sprung_mass__kg: #REF!
Name Left_front__corner_sprung_mass__kg: #REF!
Name Left_front__corner_sprung_mass__kg: #REF!
Name Left_front__corner_sprung_mass__kg: #REF!

Sheet Exam Q1
C1: Lateral Acceleration | D1: 7
B3: Measured Suspension Data | E3: Calculated Suspension Data | H3: Results
B4: MR fl | C4: Motion Ratio front left | D4: 1 | E4: Ms fl | F4: Front Left corner sprung mass [kg] | G4: =D8-D12 -> 225 | H4: Kϕf | I4: Front Roll Stiffness [Nm/rad] | J4: =D20^2*(G21)/2*1000 -> 49254.407
B5: MR fr | C5: Motion Ratio front right | D5: 1 | E5: Ms fr | F5: Front Right corner sprung mass [kg] | G5: =D9-D13 -> 225 | H5: Kϕr | I5: Rear Roll Stiffness [Nm/rad] | J5: =D21^2*(G22)/2*1000 -> 49254.407
B6: MR rl | C6: Motion Ratio rear left | D6: 1 | E6: Ms rl | F6: Rear Left corner sprung mass [kg] | G6: =D10-D14 -> 225 | H6: Kϕt | I6: Total Roll Stiffness [Nm/rad] | J6: =J4+J5 -> 98508.814
B7: MR rr | C7: Motion Ratio rear right | D7: 1 | E7: Ms rr | F7: Rear Right corner sprung mass [kg] | G7: =D11-D15 -> 225 | H7: Mot | I7: Overturning moment [Nm] | J7: =(G8+G9)*D1*G27 -> 1662.5
B8: M fl | C8: Front Left total measured static corner mass [kg] | D8: 250 | E8: Ms f | F8: Total front sprung mass [kg] | G8: =G4+G5 -> 450 | H8: ϕ | I8: Roll angle (Radians) | J8: =J7/J6 -> 0.016876662 | K8: =J8*180/3.142 -> 0.96683617 | L8: deg
B9: M fr | C9: Front Right measured static corner mass [kg] | D9: 250 | E9: Ms r | F9: Total rear sprung mass [kg] | G9: =G6+G7 -> 450 | H9: WTsf | I9: Front weight transfer due to spung mass [N] | J9: =((J8*G21*D20)/2)*1000 -> 554.16667
B10: M rl | C10: Rear Left total measured static corner mass [kg] | D10: 250 | E10: Mstot | F10: Total sprung mass | G10: =G8+G9 -> 900 | H10: WTsr | I10: Rear weight transfer due to spung mass [N] | J10: =((J8*G22*D21)/2)*1000 -> 554.16667
B11: M rr | C11: Rear Right total measured static corner mass [kg] | D11: 250 | E11: Mtot | F11: Total Mass | G11: =D8+D9+D10+D11 -> 1000
B12: Mus fl | C12: Front Left unsprung mass [kg] | D12: 25 | E12: Mustot | F12: Total unsprung mass | G12: =D12+D13+D14+D15 -> 100 | H12: WTsrcf | I12: Front WT due to sprung mass at RC Height | J12: =(G8*D1*D27)/D20 -> 210
B13: Mus fr | C13: Front Right total unsprung mass [kg] | D13: 25 | E13: Ks fl | F13: Front Left Spring rate [N/mm] | G13: =D16*'Spring Rate Conversion'!$H$9 -> 43.781695 | H13: WTsrcr | I13: Rear WT due to sprung mass at RC Height | J13: =(G9*D1*D28)/D21 -> 420
B14: Mus rl | C14: Rear Left unsprung mass [kg] | D14: 25 | E14: Ks fr | F14: Front Right rspring rate [N/mm] | G14: =D17*'Spring Rate Conversion'!$H$9 -> 43.781695 | H14: Wtusf | I14: Front WT due to Unsprung mass at wheel centre height | J14: =((D12+D13)*D1*D23)/D20 -> 64.166667
B15: Mus rr | C15: Rear Right unsprung mass [kg] | D15: 25 | E15: Ks rl | F15: Rear Left Spring rate [N/mm] | G15: =D18*'Spring Rate Conversion'!$H$9 -> 43.781695 | H15: Wtusr | I15: Rear WT due to Unsprung mass at wheel centre height | J15: =((D14+D15)*D1*D24)/D21 -> 64.166667
B16: Ks fl | C16: Front Left Spring rate [lb/in] | D16: 250 | E16: Ks rr | F16: Rear Right Spring Rate [N/mm] | G16: =D19*'Spring Rate Conversion'!$H$9 -> 43.781695 | I16: Total front WT | J16: =J9+J12+J14 -> 828.33333
B17: Ks fr | C17: Front Right Spring rate [lb/in] | D17: 250 | E17: Kw fl | F17: Front Left wheel rate [N/mm] | G17: =G13*D4^2 -> 43.781695 | I17: Total Rear WT | J17: =J10+J13+J15 -> 1038.3333
B18: Ks rl | C18: Rear Left Spring rate [lb/in] | D18: 250 | E18: Kw fr | F18: Front Right wheel rate [N/mm] | G18: =G14*D5^2 -> 43.781695 | I18: Total WT calculated by adding alll Weight Transfers | J18: =J16+J17 -> 1866.6667
B19: Ks rr | C19: Rear Right Spring rate [lb/in] | D19: 250 | E19: Kw rl | F19: Rear Left Wheel Rate [N/mm] | G19: =G15*D6^2 -> 43.781695 | H19: Fz fl | I19: Left front vertical force [N] | J19: =D8*9.81+J16 -> 3280.8333
B20: Tf | C20: Front Track | D20: 1.5 | E20: Kw rr | F20: Rear Right wheel rate [N/mm] | G20: =G16*D7^2 -> 43.781695 | H20: Fz fr | I20: Front Rightvertical force [N] | J20: =D9*9.81-J16 -> 1624.1667
B21: Tr | C21: Rear track | D21: 1.5 | E21: Kwf | F21: Average Front Wheel rate | G21: =(G17+G18)/2 -> 43.781695
B22: L | C22: Wheel base | D22: 2.5 | E22: Kwr | F22: Average rear wheel rate | G22: =(G19+G20)/2 -> 43.781695
B23: Rrf | C23: Rolling Radius front | D23: 0.275 | E23: b | F23: distance of cg of sprung mass from front axle [m] | G23: =((G9*D22)/G10) -> 1.25 | H23: Fz rl | I23: Rear Left vertical force [N] | J23: =D10*9.81+J17 -> 3490.8333
B24: Rrr | C24: Rolling Radius rear | D24: 0.275 | E24: hr -hf | F24: Rear -Front RC Height [m] | G24: =D28-D27 -> 0.1 | H24: Fz rr | I24: Rear Right vertical force [N] | J24: =D11*9.81-J17 -> 1414.1667
B25: Ht | C25: Height of CG of total mass above ground | D25: 0.4 | E25: z | F25: Depth of triangle at CG [m] | G25: =(G24*G23)/D22 -> 0.05 | I25: Total wheel loads by individual wheel load check | J25: =J19+J20+J23+J24 -> 9810
B26: Hs | C26: Height of CG of sprung mass above ground | D26: =((D25*G11)-(SUM(D12:D13)*D23)-(SUM(D14:D15)*D24))/G10 -> 0.41388889 | E26: z+hf | F26: Height of roll axis at CG [m] | G26: 0.15 | I26: Total wheel load by static corner weight check | J26: =G11*9.81 -> 9810
B27: hf | C27: Height of front roll centre above ground | D27: 0.1 | E27: Hsra | F27: Height of CG above roll axis [m] | G27: =D26-G25-D27 -> 0.26388889
B28: hr | C28: Height of Rear roll centre above ground | D28: 0.2
B29: Front Split | C29: =J19-J20 -> 1656.6667 | H29: WT | I29: Total WT calculated for 'solid' car | J29: =(G11*D1*D25)/((D20+D21)/2) -> 1866.6667
B30: Rear Split | C30: =J23-J24 -> 2076.6667
B31: FRLSD | C31: =C29-C30 -> -420
B32: Rear WT percentage [%] | C32: =J17/J18*100 -> 55.625

Sheet Exam Q2
C1: Lateral Acceleration | D1: 8.1
B3: Measured Suspension Data | E3: Calculated Suspension Data | H3: Results
B4: MR fl | C4: Motion Ratio front left | D4: 0.87 | E4: Ms fl | F4: Front Left corner sprung mass [kg] | G4: =D8-D12 -> 156.8 | H4: Kϕf | I4: Front Roll Stiffness [Nm/rad] | J4: =D20^2*(G21)/2*1000 -> 28882.107
B5: MR fr | C5: Motion Ratio front right | D5: 0.82 | E5: Ms fr | F5: Front Right corner sprung mass [kg] | G5: =D9-D13 -> 177.2 | H5: Kϕr | I5: Rear Roll Stiffness [Nm/rad] | J5: =D21^2*(G22)/2*1000 -> 70826.398
B6: MR rl | C6: Motion Ratio rear left | D6: 1.02 | E6: Ms rl | F6: Rear Left corner sprung mass [kg] | G6: =D10-D14 -> 163.8 | H6: Kϕt | I6: Total Roll Stiffness [Nm/rad] | J6: =J4+J5 -> 99708.504
B7: MR rr | C7: Motion Ratio rear right | D7: 1.02 | E7: Ms rr | F7: Rear Right corner sprung mass [kg] | G7: =D11-D15 -> 184.2 | H7: Mot | I7: Overturning moment [Nm] | J7: =(G8+G9)*D1*G27 -> 2020.626
B8: M fl | C8: Front Left total measured static corner mass [kg] | D8: 185.8 | E8: Ms f | F8: Total front sprung mass [kg] | G8: =G4+G5 -> 334 | H8: ϕ | I8: Roll angle (Radians) | J8: =J7/J6 -> 0.020265333 | K8: =J8*180/3.142 -> 1.1609675 | L8: deg
B9: M fr | C9: Front Right measured static corner mass [kg] | D9: 206.2 | E9: Ms r | F9: Total rear sprung mass [kg] | G9: =G6+G7 -> 348 | H9: WTsf | I9: Front weight transfer due to spung mass [N] | J9: =((J8*G21*D20)/2)*1000 -> 398.167
B10: M rl | C10: Rear Left total measured static corner mass [kg] | D10: 198.8 | E10: Mstot | F10: Total sprung mass | G10: =G8+G9 -> 682 | H10: WTsr | I10: Rear weight transfer due to spung mass [N] | J10: =((J8*G22*D21)/2)*1000 -> 944.28981
B11: M rr | C11: Rear Right total measured static corner mass [kg] | D11: 219.2 | E11: Mtot | F11: Total Mass | G11: =D8+D9+D10+D11 -> 810
B12: Mus fl | C12: Front Left unsprung mass [kg] | D12: 29 | E12: Mustot | F12: Total unsprung mass | G12: =D12+D13+D14+D15 -> 128 | H12: WTsrcf | I12: Front WT due to sprung mass at RC Height | J12: =(G8*D1*D27)/D20 -> 110.42449
B13: Mus fr | C13: Front Right total unsprung mass [kg] | D13: 29 | E13: Ks fl | F13: Front Left Spring rate [N/mm] | G13: =D16*'Spring Rate Conversion'!$H$9 -> 37.652258 | H13: WTsrcr | I13: Rear WT due to sprung mass at RC Height | J13: =(G9*D1*D28)/D21 -> 315.26053
B14: Mus rl | C14: Rear Left unsprung mass [kg] | D14: 35 | E14: Ks fr | F14: Front Right rspring rate [N/mm] | G14: =D17*'Spring Rate Conversion'!$H$9 -> 37.126877 | H14: Wtusf | I14: Front WT due to Unsprung mass at wheel centre height | J14: =((D12+D13)*D1*D23)/D20 -> 89.485714
B15: Mus rr | C15: Rear Right unsprung mass [kg] | D15: 35 | E15: Ks rl | F15: Rear Left Spring rate [N/mm] | G15: =D18*'Spring Rate Conversion'!$H$9 -> 58.842598 | H15: Wtusr | I15: Rear WT due to Unsprung mass at wheel centre height | J15: =((D14+D15)*D1*D24)/D21 -> 104.44737
B16: Ks fl | C16: Front Left Spring rate [lb/in] | D16: 215 | E16: Ks rr | F16: Rear Right Spring Rate [N/mm] | G16: =D19*'Spring Rate Conversion'!$H$9 -> 59.017725 | I16: Total front WT | J16: =J9+J12+J14 -> 598.07721
B17: Ks fr | C17: Front Right Spring rate [lb/in] | D17: 212 | E17: Kw fl | F17: Front Left wheel rate [N/mm] | G17: =G13*D4^2 -> 28.498994 | I17: Total Rear WT | J17: =J10+J13+J15 -> 1363.9977
B18: Ks rl | C18: Rear Left Spring rate [lb/in] | D18: 336 | E18: Kw fr | F18: Front Right wheel rate [N/mm] | G18: =G14*D5^2 -> 24.964112 | I18: Total WT calculated by adding alll Weight Transfers | J18: =J16+J17 -> 1962.0749
B19: Ks rr | C19: Rear Right Spring rate [lb/in] | D19: 337 | E19: Kw rl | F19: Rear Left Wheel Rate [N/mm] | G19: =G15*D6^2 -> 61.219839 | H19: Fz fl | I19: Left front vertical force [N] | J19: =D8*9.81+J16 -> 2420.7752
B20: Tf | C20: Front Track | D20: 1.47 | E20: Kw rr | F20: Rear Right wheel rate [N/mm] | G20: =G16*D7^2 -> 61.402041 | H20: Fz fr | I20: Front Rightvertical force [N] | J20: =D9*9.81-J16 -> 1424.7448
B21: Tr | C21: Rear track | D21: 1.52 | E21: Kwf | F21: Average Front Wheel rate | G21: =(G17+G18)/2 -> 26.731553
B22: L | C22: Wheel base | D22: 2.55 | E22: Kwr | F22: Average rear wheel rate | G22: =(G19+G20)/2 -> 61.31094
B23: Rrf | C23: Rolling Radius front | D23: 0.28 | E23: b | F23: distance of cg of sprung mass from front axle [m] | G23: =((G9*D22)/G10) -> 1.301173 | H23: Fz rl | I23: Rear Left vertical force [N] | J23: =D10*9.81+J17 -> 3314.2257
B24: Rrr | C24: Rolling Radius rear | D24: 0.28 | E24: hr -hf | F24: Rear -Front RC Height [m] | G24: =D28-D27 -> 0.11 | H24: Fz rr | I24: Rear Right vertical force [N] | J24: =D11*9.81-J17 -> 786.3543
B25: Ht | C25: Height of CG of total mass above ground | D25: 0.45 | E25: z | F25: Depth of triangle at CG [m] | G25: =(G24*G23)/D22 -> 0.056129032 | I25: Total wheel loads by individual wheel load check | J25: =J19+J20+J23+J24 -> 7946.1
B26: Hs | C26: Height of CG of sprung mass above ground | D26: =((D25*G11)-(SUM(D12:D13)*D23)-(SUM(D14:D15)*D24))/G10 -> 0.48190616 | E26: z+hf | F26: Height of roll axis at CG [m] | G26: 0.15 | I26: Total wheel load by static corner weight check | J26: =G11*9.81 -> 7946.1
B27: hf | C27: Height of front roll centre above ground | D27: 0.06 | E27: Hsra | F27: Height of CG above roll axis [m] | G27: =D26-G25-D27 -> 0.36577713
B28: hr | C28: Height of Rear roll centre above ground | D28: 0.17
B29: Front Split | C29: =J19-J20 -> 996.03041 | H29: WT | I29: Total WT calculated for 'solid' car | J29: =(G11*D1*D25)/((D20+D21)/2) -> 1974.8829
B30: Rear Split | C30: =J23-J24 -> 2527.8714
B31: FRLSD | C31: =C29-C30 -> -1531.841
B32: Rear WT percentage [%] | C32: =J17/J18*100 -> 69.518126

Sheet Exam Q3
C1: Lateral Acceleration | D1: 8.1
B3: Measured Suspension Data | E3: Calculated Suspension Data | H3: Results
B4: MR fl | C4: Motion Ratio front left | D4: 0.87 | E4: Ms fl | F4: Front Left corner sprung mass [kg] | G4: =D8-D12 -> 156.8 | H4: Kϕf | I4: Front Roll Stiffness [Nm/rad] | J4: =D20^2*(G21)/2*1000 -> 31777.41
B5: MR fr | C5: Motion Ratio front right | D5: 0.82 | E5: Ms fr | F5: Front Right corner sprung mass [kg] | G5: =D9-D13 -> 177.2 | H5: Kϕr | I5: Rear Roll Stiffness [Nm/rad] | J5: =D21^2*(G22)/2*1000 -> 70826.398
B6: MR rl | C6: Motion Ratio rear left | D6: 1.02 | E6: Ms rl | F6: Rear Left corner sprung mass [kg] | G6: =D10-D14 -> 163.8 | H6: Kϕt | I6: Total Roll Stiffness [Nm/rad] | J6: =J4+J5 -> 102603.81
B7: MR rr | C7: Motion Ratio rear right | D7: 1.02 | E7: Ms rr | F7: Rear Right corner sprung mass [kg] | G7: =D11-D15 -> 184.2 | H7: Mot | I7: Overturning moment [Nm] | J7: =(G8+G9)*D1*G27 -> 2020.626
B8: M fl | C8: Front Left total measured static corner mass [kg] | D8: 185.8 | E8: Ms f | F8: Total front sprung mass [kg] | G8: =G4+G5 -> 334 | H8: ϕ | I8: Roll angle (Radians) | J8: =J7/J6 -> 0.01969348 | K8: =J8*180/3.142 -> 1.128207 | L8: deg
B9: M fr | C9: Front Right measured static corner mass [kg] | D9: 206.2 | E9: Ms r | F9: Total rear sprung mass [kg] | G9: =G6+G7 -> 348 | H9: WTsf | I9: Front weight transfer due to spung mass [N] | J9: =((J8*G21*D20)/2)*1000 -> 425.71958
B10: M rl | C10: Rear Left total measured static corner mass [kg] | D10: 198.8 | E10: Mstot | F10: Total sprung mass | G10: =G8+G9 -> 682 | H10: WTsr | I10: Rear weight transfer due to spung mass [N] | J10: =((J8*G22*D21)/2)*1000 -> 917.64357
B11: M rr | C11: Rear Right total measured static corner mass [kg] | D11: 219.2 | E11: Mtot | F11: Total Mass | G11: =D8+D9+D10+D11 -> 810
B12: Mus fl | C12: Front Left unsprung mass [kg] | D12: 29 | E12: Mustot | F12: Total unsprung mass | G12: =D12+D13+D14+D15 -> 128 | H12: WTsrcf | I12: Front WT due to sprung mass at RC Height | J12: =(G8*D1*D27)/D20 -> 110.42449
B13: Mus fr | C13: Front Right total unsprung mass [kg] | D13: 29 | E13: Ks fl | F13: Front Left Spring rate [N/mm] | G13: =D16*'Spring Rate Conversion'!$H$9 -> 41.154793 | H13: WTsrcr | I13: Rear WT due to sprung mass at RC Height | J13: =(G9*D1*D28)/D21 -> 315.26053
B14: Mus rl | C14: Rear Left unsprung mass [kg] | D14: 35 | E14: Ks fr | F14: Front Right rspring rate [N/mm] | G14: =D17*'Spring Rate Conversion'!$H$9 -> 41.154793 | H14: Wtusf | I14: Front WT due to Unsprung mass at wheel centre height | J14: =((D12+D13)*D1*D23)/D20 -> 89.485714
B15: Mus rr | C15: Rear Right unsprung mass [kg] | D15: 35 | E15: Ks rl | F15: Rear Left Spring rate [N/mm] | G15: =D18*'Spring Rate Conversion'!$H$9 -> 58.842598 | H15: Wtusr | I15: Rear WT due to Unsprung mass at wheel centre height | J15: =((D14+D15)*D1*D24)/D21 -> 104.44737
B16: Ks fl | C16: Front Left Spring rate [lb/in] | D16: 235 | E16: Ks rr | F16: Rear Right Spring Rate [N/mm] | G16: =D19*'Spring Rate Conversion'!$H$9 -> 59.017725 | I16: Total front WT | J16: =J9+J12+J14 -> 625.62978
B17: Ks fr | C17: Front Right Spring rate [lb/in] | D17: 235 | E17: Kw fl | F17: Front Left wheel rate [N/mm] | G17: =G13*D4^2 -> 31.150063 | I17: Total Rear WT | J17: =J10+J13+J15 -> 1337.3515
B18: Ks rl | C18: Rear Left Spring rate [lb/in] | D18: 336 | E18: Kw fr | F18: Front Right wheel rate [N/mm] | G18: =G14*D5^2 -> 27.672483 | I18: Total WT calculated by adding alll Weight Transfers | J18: =J16+J17 -> 1962.9812
B19: Ks rr | C19: Rear Right Spring rate [lb/in] | D19: 337 | E19: Kw rl | F19: Rear Left Wheel Rate [N/mm] | G19: =G15*D6^2 -> 61.219839 | H19: Fz fl | I19: Left front vertical force [N] | J19: =D8*9.81+J16 -> 2448.3278
B20: Tf | C20: Front Track | D20: 1.47 | E20: Kw rr | F20: Rear Right wheel rate [N/mm] | G20: =G16*D7^2 -> 61.402041 | H20: Fz fr | I20: Front Rightvertical force [N] | J20: =D9*9.81-J16 -> 1397.1922
B21: Tr | C21: Rear track | D21: 1.52 | E21: Kwf | F21: Average Front Wheel rate | G21: =(G17+G18)/2 -> 29.411273
B22: L | C22: Wheel base | D22: 2.55 | E22: Kwr | F22: Average rear wheel rate | G22: =(G19+G20)/2 -> 61.31094
B23: Rrf | C23: Rolling Radius front | D23: 0.28 | E23: b | F23: distance of cg of sprung mass from front axle [m] | G23: =((G9*D22)/G10) -> 1.301173 | H23: Fz rl | I23: Rear Left vertical force [N] | J23: =D10*9.81+J17 -> 3287.5795
B24: Rrr | C24: Rolling Radius rear | D24: 0.28 | E24: hr -hf | F24: Rear -Front RC Height [m] | G24: =D28-D27 -> 0.11 | H24: Fz rr | I24: Rear Right vertical force [N] | J24: =D11*9.81-J17 -> 813.00054
B25: Ht | C25: Height of CG of total mass above ground | D25: 0.45 | E25: z | F25: Depth of triangle at CG [m] | G25: =(G24*G23)/D22 -> 0.056129032 | I25: Total wheel loads by individual wheel load check | J25: =J19+J20+J23+J24 -> 7946.1
B26: Hs | C26: Height of CG of sprung mass above ground | D26: =((D25*G11)-(SUM(D12:D13)*D23)-(SUM(D14:D15)*D24))/G10 -> 0.48190616 | E26: z+hf | F26: Height of roll axis at CG [m] | G26: 0.15 | I26: Total wheel load by static corner weight check | J26: =G11*9.81 -> 7946.1
B27: hf | C27: Height of front roll centre above ground | D27: 0.06 | E27: Hsra | F27: Height of CG above roll axis [m] | G27: =D26-G25-D27 -> 0.36577713
B28: hr | C28: Height of Rear roll centre above ground | D28: 0.17
B29: Front Split | C29: =J19-J20 -> 1051.1356 | H29: WT | I29: Total WT calculated for 'solid' car | J29: =(G11*D1*D25)/((D20+D21)/2) -> 1974.8829
B30: Rear Split | C30: =J23-J24 -> 2474.5789
B31: FRLSD | C31: =C29-C30 -> -1423.4434
B32: Rear WT percentage [%] | C32: =J17/J18*100 -> 68.128591
B37: Q3.i | C37: Understeer less due to the stiffer front springs
B38: Q3.ii | C38: The FRLSD and Rear weight transfer are less than the setup in Q2 therefore more grip is available on the front wheels. Also the front right tyre has a larger static corner mass which again would allow it to gain more grip and lessen the effects of understeer.
B39: Q3.iii | C39: The load or vertical force on the other 3 corners would then decrease proportianlly as the total mass of the car hasn’t changed only the split.

Sheet Exam Q4
C1: Lateral Acceleration | D1: 8.1
B3: Measured Suspension Data | E3: Calculated Suspension Data | H3: Results
B4: MR fl | C4: Motion Ratio front left | D4: 0.87 | E4: Ms fl | F4: Front Left corner sprung mass [kg] | G4: =D8-D12 -> 156.8 | H4: Kϕf | I4: Front Roll Stiffness [Nm/rad] | J4: =D20^2*(G21)/2*1000 -> 31777.41
B5: MR fr | C5: Motion Ratio front right | D5: 0.82 | E5: Ms fr | F5: Front Right corner sprung mass [kg] | G5: =D9-D13 -> 177.2 | H5: Kϕr | I5: Rear Roll Stiffness [Nm/rad] | J5: =D21^2*(G22)/2*1000 -> 33357.3
B6: MR rl | C6: Motion Ratio rear left | D6: 0.7 | E6: Ms rl | F6: Rear Left corner sprung mass [kg] | G6: =D10-D14 -> 163.8 | H6: Kϕt | I6: Total Roll Stiffness [Nm/rad] | J6: =J4+J5 -> 65134.71
B7: MR rr | C7: Motion Ratio rear right | D7: 0.7 | E7: Ms rr | F7: Rear Right corner sprung mass [kg] | G7: =D11-D15 -> 184.2 | H7: Mot | I7: Overturning moment [Nm] | J7: =(G8+G9)*D1*G27 -> 2020.626
B8: M fl | C8: Front Left total measured static corner mass [kg] | D8: 185.8 | E8: Ms f | F8: Total front sprung mass [kg] | G8: =G4+G5 -> 334 | H8: ϕ | I8: Roll angle (Radians) | J8: =J7/J6 -> 0.031022261 | K8: =J8*180/3.142 -> 1.7772142 | L8: deg
B9: M fr | C9: Front Right measured static corner mass [kg] | D9: 206.2 | E9: Ms r | F9: Total rear sprung mass [kg] | G9: =G6+G7 -> 348 | H9: WTsf | I9: Front weight transfer due to spung mass [N] | J9: =((J8*G21*D20)/2)*1000 -> 670.61709
B10: M rl | C10: Rear Left total measured static corner mass [kg] | D10: 198.8 | E10: Mstot | F10: Total sprung mass | G10: =G8+G9 -> 682 | H10: WTsr | I10: Rear weight transfer due to spung mass [N] | J10: =((J8*G22*D21)/2)*1000 -> 680.8019
B11: M rr | C11: Rear Right total measured static corner mass [kg] | D11: 219.2 | E11: Mtot | F11: Total Mass | G11: =D8+D9+D10+D11 -> 810
B12: Mus fl | C12: Front Left unsprung mass [kg] | D12: 29 | E12: Mustot | F12: Total unsprung mass | G12: =D12+D13+D14+D15 -> 128 | H12: WTsrcf | I12: Front WT due to sprung mass at RC Height | J12: =(G8*D1*D27)/D20 -> 110.42449
B13: Mus fr | C13: Front Right total unsprung mass [kg] | D13: 29 | E13: Ks fl | F13: Front Left Spring rate [N/mm] | G13: =D16*'Spring Rate Conversion'!$H$9 -> 41.154793 | H13: WTsrcr | I13: Rear WT due to sprung mass at RC Height | J13: =(G9*D1*D28)/D21 -> 315.26053
B14: Mus rl | C14: Rear Left unsprung mass [kg] | D14: 35 | E14: Ks fr | F14: Front Right rspring rate [N/mm] | G14: =D17*'Spring Rate Conversion'!$H$9 -> 41.154793 | H14: Wtusf | I14: Front WT due to Unsprung mass at wheel centre height | J14: =((D12+D13)*D1*D23)/D20 -> 89.485714
B15: Mus rr | C15: Rear Right unsprung mass [kg] | D15: 35 | E15: Ks rl | F15: Rear Left Spring rate [N/mm] | G15: =D18*'Spring Rate Conversion'!$H$9 -> 58.842598 | H15: Wtusr | I15: Rear WT due to Unsprung mass at wheel centre height | J15: =((D14+D15)*D1*D24)/D21 -> 104.44737
B16: Ks fl | C16: Front Left Spring rate [lb/in] | D16: 235 | E16: Ks rr | F16: Rear Right Spring Rate [N/mm] | G16: =D19*'Spring Rate Conversion'!$H$9 -> 59.017725 | I16: Total front WT | J16: =J9+J12+J14 -> 870.52729
B17: Ks fr | C17: Front Right Spring rate [lb/in] | D17: 235 | E17: Kw fl | F17: Front Left wheel rate [N/mm] | G17: =G13*D4^2 -> 31.150063 | I17: Total Rear WT | J17: =J10+J13+J15 -> 1100.5098
B18: Ks rl | C18: Rear Left Spring rate [lb/in] | D18: 336 | E18: Kw fr | F18: Front Right wheel rate [N/mm] | G18: =G14*D5^2 -> 27.672483 | I18: Total WT calculated by adding alll Weight Transfers | J18: =J16+J17 -> 1971.0371
B19: Ks rr | C19: Rear Right Spring rate [lb/in] | D19: 337 | E19: Kw rl | F19: Rear Left Wheel Rate [N/mm] | G19: =G15*D6^2 -> 28.832873 | H19: Fz fl | I19: Left front vertical force [N] | J19: =D8*9.81+J16 -> 2693.2253
B20: Tf | C20: Front Track | D20: 1.47 | E20: Kw rr | F20: Rear Right wheel rate [N/mm] | G20: =G16*D7^2 -> 28.918685 | H20: Fz fr | I20: Front Rightvertical force [N] | J20: =D9*9.81-J16 -> 1152.2947
B21: Tr | C21: Rear track | D21: 1.52 | E21: Kwf | F21: Average Front Wheel rate | G21: =(G17+G18)/2 -> 29.411273
B22: L | C22: Wheel base | D22: 2.55 | E22: Kwr | F22: Average rear wheel rate | G22: =(G19+G20)/2 -> 28.875779
B23: Rrf | C23: Rolling Radius front | D23: 0.28 | E23: b | F23: distance of cg of sprung mass from front axle [m] | G23: =((G9*D22)/G10) -> 1.301173 | H23: Fz rl | I23: Rear Left vertical force [N] | J23: =D10*9.81+J17 -> 3050.7378
B24: Rrr | C24: Rolling Radius rear | D24: 0.28 | E24: hr -hf | F24: Rear -Front RC Height [m] | G24: =D28-D27 -> 0.11 | H24: Fz rr | I24: Rear Right vertical force [N] | J24: =D11*9.81-J17 -> 1049.8422
B25: Ht | C25: Height of CG of total mass above ground | D25: 0.45 | E25: z | F25: Depth of triangle at CG [m] | G25: =(G24*G23)/D22 -> 0.056129032 | I25: Total wheel loads by individual wheel load check | J25: =J19+J20+J23+J24 -> 7946.1
B26: Hs | C26: Height of CG of sprung mass above ground | D26: =((D25*G11)-(SUM(D12:D13)*D23)-(SUM(D14:D15)*D24))/G10 -> 0.48190616 | E26: z+hf | F26: Height of roll axis at CG [m] | G26: 0.15 | I26: Total wheel load by static corner weight check | J26: =G11*9.81 -> 7946.1
B27: hf | C27: Height of front roll centre above ground | D27: 0.06 | E27: Hsra | F27: Height of CG above roll axis [m] | G27: =D26-G25-D27 -> 0.36577713
B28: hr | C28: Height of Rear roll centre above ground | D28: 0.17
B29: Front Split | C29: =J19-J20 -> 1540.9306 | H29: WT | I29: Total WT calculated for 'solid' car | J29: =(G11*D1*D25)/((D20+D21)/2) -> 1974.8829
B30: Rear Split | C30: =J23-J24 -> 2000.8956
B31: FRLSD | C31: =C29-C30 -> -459.965
B32: Rear WT percentage [%] | C32: =J17/J18*100 -> 55.834048
B37: Q4.ii | C37: The wheel rate of the car has nearly halved which is a direct result of the motion ratio change, which makes sense as the wheel motion ratio has nearly halved. As such the roll stiffness and therefore the roll angle has increased. The FRLSD and Weight transfer distribution have decreased which in turn would offer the car more grip.
B38: Q4.iii | C38: Motion Ratio can be calculated as Wheel displacement / Spring Displacement. in order to reduce the motion ratio the wheel the spring displacement would need to be increased or the wheel displacement would need to be decreased. If the vehicle had a push rod and bell crank setup then the spring displacement could be changed by adjusting where the pushrod attaches to the wishbone.

Sheet Exam Q5
C1: Lateral Acceleration | D1: 8.1
B3: Measured Suspension Data | E3: Calculated Suspension Data | H3: Results
B4: MR fl | C4: Motion Ratio front left | D4: 0.87 | E4: Ms fl | F4: Front Left corner sprung mass [kg] | G4: =D8-D12 -> 156.8 | H4: Kϕf | I4: Front Roll Stiffness [Nm/rad] | J4: =D20^2*(G21)/2*1000 -> 31777.41
B5: MR fr | C5: Motion Ratio front right | D5: 0.82 | E5: Ms fr | F5: Front Right corner sprung mass [kg] | G5: =D9-D13 -> 177.2 | H5: Kϕr | I5: Rear Roll Stiffness [Nm/rad] | J5: =D21^2*(G22)/2*1000 -> 23692.109
B6: MR rl | C6: Motion Ratio rear left | D6: 0.7 | E6: Ms rl | F6: Rear Left corner sprung mass [kg] | G6: =D10-D14 -> 163.8 | H6: Kϕt | I6: Total Roll Stiffness [Nm/rad] | J6: =J4+J5 -> 55469.519
B7: MR rr | C7: Motion Ratio rear right | D7: 0.7 | E7: Ms rr | F7: Rear Right corner sprung mass [kg] | G7: =D11-D15 -> 184.2 | H7: Mot | I7: Overturning moment [Nm] | J7: =(G8+G9)*D1*G27 -> 2020.626
B8: M fl | C8: Front Left total measured static corner mass [kg] | D8: 185.8 | E8: Ms f | F8: Total front sprung mass [kg] | G8: =G4+G5 -> 334 | H8: ϕ | I8: Roll angle (Radians) | J8: =J7/J6 -> 0.036427682 | K8: =J8*180/3.142 -> 2.0868818 | L8: deg
B9: M fr | C9: Front Right measured static corner mass [kg] | D9: 206.2 | E9: Ms r | F9: Total rear sprung mass [kg] | G9: =G6+G7 -> 348 | H9: WTsf | I9: Front weight transfer due to spung mass [N] | J9: =((J8*G21*D20)/2)*1000 -> 787.46761
B10: M rl | C10: Rear Left total measured static corner mass [kg] | D10: 198.8 | E10: Mstot | F10: Total sprung mass | G10: =G8+G9 -> 682 | H10: WTsr | I10: Rear weight transfer due to spung mass [N] | J10: =((J8*G22*D21)/2)*1000 -> 567.79514
B11: M rr | C11: Rear Right total measured static corner mass [kg] | D11: 219.2 | E11: Mtot | F11: Total Mass | G11: =D8+D9+D10+D11 -> 810
B12: Mus fl | C12: Front Left unsprung mass [kg] | D12: 29 | E12: Mustot | F12: Total unsprung mass | G12: =D12+D13+D14+D15 -> 128 | H12: WTsrcf | I12: Front WT due to sprung mass at RC Height | J12: =(G8*D1*D27)/D20 -> 110.42449
B13: Mus fr | C13: Front Right total unsprung mass [kg] | D13: 29 | E13: Ks fl | F13: Front Left Spring rate [N/mm] | G13: =D16*'Spring Rate Conversion'!$H$9 -> 41.154793 | H13: WTsrcr | I13: Rear WT due to sprung mass at RC Height | J13: =(G9*D1*D28)/D21 -> 315.26053
B14: Mus rl | C14: Rear Left unsprung mass [kg] | D14: 35 | E14: Ks fr | F14: Front Right rspring rate [N/mm] | G14: =D17*'Spring Rate Conversion'!$H$9 -> 41.154793 | H14: Wtusf | I14: Front WT due to Unsprung mass at wheel centre height | J14: =((D12+D13)*D1*D23)/D20 -> 89.485714
B15: Mus rr | C15: Rear Right unsprung mass [kg] | D15: 35 | E15: Ks rl | F15: Rear Left Spring rate [N/mm] | G15: =D18*'Spring Rate Conversion'!$H$9 -> 41.8553 | H15: Wtusr | I15: Rear WT due to Unsprung mass at wheel centre height | J15: =((D14+D15)*D1*D24)/D21 -> 104.44737
B16: Ks fl | C16: Front Left Spring rate [lb/in] | D16: 235 | E16: Ks rr | F16: Rear Right Spring Rate [N/mm] | G16: =D19*'Spring Rate Conversion'!$H$9 -> 41.8553 | I16: Total front WT | J16: =J9+J12+J14 -> 987.37781
B17: Ks fr | C17: Front Right Spring rate [lb/in] | D17: 235 | E17: Kw fl | F17: Front Left wheel rate [N/mm] | G17: =G13*D4^2 -> 31.150063 | I17: Total Rear WT | J17: =J10+J13+J15 -> 987.50304
B18: Ks rl | C18: Rear Left Spring rate [lb/in] | D18: 239 | E18: Kw fr | F18: Front Right wheel rate [N/mm] | G18: =G14*D5^2 -> 27.672483 | I18: Total WT calculated by adding alll Weight Transfers | J18: =J16+J17 -> 1974.8808
B19: Ks rr | C19: Rear Right Spring rate [lb/in] | D19: 239 | E19: Kw rl | F19: Rear Left Wheel Rate [N/mm] | G19: =G15*D6^2 -> 20.509097 | H19: Fz fl | I19: Left front vertical force [N] | J19: =D8*9.81+J16 -> 2810.0758
B20: Tf | C20: Front Track | D20: 1.47 | E20: Kw rr | F20: Rear Right wheel rate [N/mm] | G20: =G16*D7^2 -> 20.509097 | H20: Fz fr | I20: Front Rightvertical force [N] | J20: =D9*9.81-J16 -> 1035.4442
B21: Tr | C21: Rear track | D21: 1.52 | E21: Kwf | F21: Average Front Wheel rate | G21: =(G17+G18)/2 -> 29.411273
B22: L | C22: Wheel base | D22: 2.55 | E22: Kwr | F22: Average rear wheel rate | G22: =(G19+G20)/2 -> 20.509097
B23: Rrf | C23: Rolling Radius front | D23: 0.28 | E23: b | F23: distance of cg of sprung mass from front axle [m] | G23: =((G9*D22)/G10) -> 1.301173 | H23: Fz rl | I23: Rear Left vertical force [N] | J23: =D10*9.81+J17 -> 2937.731
B24: Rrr | C24: Rolling Radius rear | D24: 0.28 | E24: hr -hf | F24: Rear -Front RC Height [m] | G24: =D28-D27 -> 0.11 | H24: Fz rr | I24: Rear Right vertical force [N] | J24: =D11*9.81-J17 -> 1162.849
B25: Ht | C25: Height of CG of total mass above ground | D25: 0.45 | E25: z | F25: Depth of triangle at CG [m] | G25: =(G24*G23)/D22 -> 0.056129032 | I25: Total wheel loads by individual wheel load check | J25: =J19+J20+J23+J24 -> 7946.1
B26: Hs | C26: Height of CG of sprung mass above ground | D26: =((D25*G11)-(SUM(D12:D13)*D23)-(SUM(D14:D15)*D24))/G10 -> 0.48190616 | E26: z+hf | F26: Height of roll axis at CG [m] | G26: 0.15 | I26: Total wheel load by static corner weight check | J26: =G11*9.81 -> 7946.1
B27: hf | C27: Height of front roll centre above ground | D27: 0.06 | E27: Hsra | F27: Height of CG above roll axis [m] | G27: =D26-G25-D27 -> 0.36577713
B28: hr | C28: Height of Rear roll centre above ground | D28: 0.17
B29: Front Split | C29: =J19-J20 -> 1774.6316 | H29: WT | I29: Total WT calculated for 'solid' car | J29: =(G11*D1*D25)/((D20+D21)/2) -> 1974.8829
B30: Rear Split | C30: =J23-J24 -> 1774.8821
B31: FRLSD | C31: =C29-C30 -> -0.25044868
B32: Rear WT percentage [%] | C32: =J17/J18*100 -> 50.00317
B33: Front WT percentage [%] | C33: =J16/J18*100 -> 49.99683

Sheet Exam Q6
C1: Lateral Acceleration | D1: 8.1
B3: Measured Suspension Data | E3: Calculated Suspension Data | H3: Results
B4: MR fl | C4: Motion Ratio front left | D4: 0.87 | E4: Ms fl | F4: Front Left corner sprung mass [kg] | G4: =D8-D12 -> 181.8 | H4: Kϕf | I4: Front Roll Stiffness [Nm/rad] | J4: =D20^2*(G21)/2*1000 -> 31777.41
B5: MR fr | C5: Motion Ratio front right | D5: 0.82 | E5: Ms fr | F5: Front Right corner sprung mass [kg] | G5: =D9-D13 -> 152.2 | H5: Kϕr | I5: Rear Roll Stiffness [Nm/rad] | J5: =D21^2*(G22)/2*1000 -> 27260.795
B6: MR rl | C6: Motion Ratio rear left | D6: 0.7 | E6: Ms rl | F6: Rear Left corner sprung mass [kg] | G6: =D10-D14 -> 138.8 | H6: Kϕt | I6: Total Roll Stiffness [Nm/rad] | J6: =J4+J5 -> 59038.205
B7: MR rr | C7: Motion Ratio rear right | D7: 0.7 | E7: Ms rr | F7: Rear Right corner sprung mass [kg] | G7: =D11-D15 -> 209.2 | H7: Mot | I7: Overturning moment [Nm] | J7: =(G8+G9)*D1*G27 -> 2020.626
B8: M fl | C8: Front Left total measured static corner mass [kg] | D8: 210.8 | E8: Ms f | F8: Total front sprung mass [kg] | G8: =G4+G5 -> 334 | H8: ϕ | I8: Roll angle (Radians) | J8: =J7/J6 -> 0.034225736 | K8: =J8*180/3.142 -> 1.960736 | L8: deg
B9: M fr | C9: Front Right measured static corner mass [kg] | D9: 181.2 | E9: Ms r | F9: Total rear sprung mass [kg] | G9: =G6+G7 -> 348 | H9: WTsf | I9: Front weight transfer due to spung mass [N] | J9: =((J8*G21*D20)/2)*1000 -> 739.86751
B10: M rl | C10: Rear Left total measured static corner mass [kg] | D10: 173.8 | E10: Mstot | F10: Total sprung mass | G10: =G8+G9 -> 682 | H10: WTsr | I10: Rear weight transfer due to spung mass [N] | J10: =((J8*G22*D21)/2)*1000 -> 613.82945
B11: M rr | C11: Rear Right total measured static corner mass [kg] | D11: 244.2 | E11: Mtot | F11: Total Mass | G11: =D8+D9+D10+D11 -> 810
B12: Mus fl | C12: Front Left unsprung mass [kg] | D12: 29 | E12: Mustot | F12: Total unsprung mass | G12: =D12+D13+D14+D15 -> 128 | H12: WTsrcf | I12: Front WT due to sprung mass at RC Height | J12: =(G8*D1*D27)/D20 -> 110.42449
B13: Mus fr | C13: Front Right total unsprung mass [kg] | D13: 29 | E13: Ks fl | F13: Front Left Spring rate [N/mm] | G13: =D16*'Spring Rate Conversion'!$H$9 -> 41.154793 | H13: WTsrcr | I13: Rear WT due to sprung mass at RC Height | J13: =(G9*D1*D28)/D21 -> 315.26053
B14: Mus rl | C14: Rear Left unsprung mass [kg] | D14: 35 | E14: Ks fr | F14: Front Right rspring rate [N/mm] | G14: =D17*'Spring Rate Conversion'!$H$9 -> 41.154793 | H14: Wtusf | I14: Front WT due to Unsprung mass at wheel centre height | J14: =((D12+D13)*D1*D23)/D20 -> 89.485714
B15: Mus rr | C15: Rear Right unsprung mass [kg] | D15: 35 | E15: Ks rl | F15: Rear Left Spring rate [N/mm] | G15: =D18*'Spring Rate Conversion'!$H$9 -> 48.159865 | H15: Wtusr | I15: Rear WT due to Unsprung mass at wheel centre height | J15: =((D14+D15)*D1*D24)/D21 -> 104.44737
B16: Ks fl | C16: Front Left Spring rate [lb/in] | D16: 235 | E16: Ks rr | F16: Rear Right Spring Rate [N/mm] | G16: =D19*'Spring Rate Conversion'!$H$9 -> 48.159865 | I16: Total front WT | J16: =J9+J12+J14 -> 939.77771
B17: Ks fr | C17: Front Right Spring rate [lb/in] | D17: 235 | E17: Kw fl | F17: Front Left wheel rate [N/mm] | G17: =G13*D4^2 -> 31.150063 | I17: Total Rear WT | J17: =J10+J13+J15 -> 1033.5373
B18: Ks rl | C18: Rear Left Spring rate [lb/in] | D18: 275 | E18: Kw fr | F18: Front Right wheel rate [N/mm] | G18: =G14*D5^2 -> 27.672483 | I18: Total WT calculated by adding alll Weight Transfers | J18: =J16+J17 -> 1973.3151
B19: Ks rr | C19: Rear Right Spring rate [lb/in] | D19: 275 | E19: Kw rl | F19: Rear Left Wheel Rate [N/mm] | G19: =G15*D6^2 -> 23.598334 | H19: Fz fl | I19: Left front vertical force [N] | J19: =D8*9.81+J16 -> 3007.7257
B20: Tf | C20: Front Track | D20: 1.47 | E20: Kw rr | F20: Rear Right wheel rate [N/mm] | G20: =G16*D7^2 -> 23.598334 | H20: Fz fr | I20: Front Rightvertical force [N] | J20: =D9*9.81-J16 -> 837.79429
B21: Tr | C21: Rear track | D21: 1.52 | E21: Kwf | F21: Average Front Wheel rate | G21: =(G17+G18)/2 -> 29.411273
B22: L | C22: Wheel base | D22: 2.55 | E22: Kwr | F22: Average rear wheel rate | G22: =(G19+G20)/2 -> 23.598334
B23: Rrf | C23: Rolling Radius front | D23: 0.28 | E23: b | F23: distance of cg of sprung mass from front axle [m] | G23: =((G9*D22)/G10) -> 1.301173 | H23: Fz rl | I23: Rear Left vertical force [N] | J23: =D10*9.81+J17 -> 2738.5153
B24: Rrr | C24: Rolling Radius rear | D24: 0.28 | E24: hr -hf | F24: Rear -Front RC Height [m] | G24: =D28-D27 -> 0.11 | H24: Fz rr | I24: Rear Right vertical force [N] | J24: =D11*9.81-J17 -> 1362.0647
B25: Ht | C25: Height of CG of total mass above ground | D25: 0.45 | E25: z | F25: Depth of triangle at CG [m] | G25: =(G24*G23)/D22 -> 0.056129032 | I25: Total wheel loads by individual wheel load check | J25: =J19+J20+J23+J24 -> 7946.1
B26: Hs | C26: Height of CG of sprung mass above ground | D26: =((D25*G11)-(SUM(D12:D13)*D23)-(SUM(D14:D15)*D24))/G10 -> 0.48190616 | E26: z+hf | F26: Height of roll axis at CG [m] | G26: 0.15 | I26: Total wheel load by static corner weight check | J26: =G11*9.81 -> 7946.1
B27: hf | C27: Height of front roll centre above ground | D27: 0.06 | E27: Hsra | F27: Height of CG above roll axis [m] | G27: =D26-G25-D27 -> 0.36577713
B28: hr | C28: Height of Rear roll centre above ground | D28: 0.17
B29: Front Split | C29: =J19-J20 -> 2169.9314 | H29: WT | I29: Total WT calculated for 'solid' car | J29: =(G11*D1*D25)/((D20+D21)/2) -> 1974.8829
B30: Rear Split | C30: =J23-J24 -> 1376.4507
B31: FRLSD | C31: =C29-C30 -> 793.48073
B32: Rear WT percentage [%] | C32: =J17/J18*100 -> 52.375688
B36: Q6.i | C36: The FRLSD has increased massively from an -5.78 to 793.48. However the Rear WT percentage has only increased by 3.31%. As such the car has a greater front/rear split and the bigger the split the less the grip and therfore will understeer going into corners.
B37: Q6.ii | C37: On single directional corner circuits both the spring rate and static wheel load distribution can be adjusted as the wedge of the car can be setup for the car to best perform on a single corner. However on a road circuit with multiple directional corners the wedge of the car needs to be best setup for both left and right corners which can be adjusted through the spring rates.

Sheet Spring Rate Conversion
C5: Spring Rate Conversions
C7: By Warren Rowley | H7: 1
G8: kg/mm to N/m | H8: 9806.65
G9: lb/in to N/mm | H9: 0.17512678
G11: lb/in to N/m | H11: 175.12678
G12: lb/in to kg/mm | H12: 0.01785796
G13: N/mm to kg/mm | H13: 0.10197162
G14: N/mm to lb/in | H14: 5.7101491
G15: N/mm to N/m | H15: 1000
G16: N/m to N/mm | H16: 0.001
G17: N/m to kg/mm | H17: 0.00010197
G18: N/m to lb/in | H18: 0.00571015
E19: N/mm | F19: N/m | G19: kg/mm | H19: lb/in
C20: N/mm | D20: 148.85776 | E20: 148.85776 | F20: 148857.76 | G20: 15.179267 | H20: 850.00001
C21: N/m | D21: 100 | E21: 0.1 | F21: 100 | G21: 0.010197 | H21: 0.571015
C22: kg/mm | D22: 0.010197162 | E22: 0.099999999 | F22: 99.999999 | G22: 0.010197162 | H22: 0.5710149
C23: lb/in | D23: 900 | E23: 157.6141 | F23: 157614.1 | G23: 16.072164 | H23: 900

Sheet Load Spliits
C2: Wheel load distribution
H5: =H7/H11 -> 0.5
H6: LF+RF
H7: =F9+J9 -> 4905
F8: =F9/H11 -> 0.33443765 | G8: LF | I8: RF | J8: =J9/H11 -> 0.16556235
C9: Front Split | D9: LF-RF | E9: =F9-J9 -> 1656.6667 | F9: ='Exam Q1'!J19 -> 3280.8333 | J9: ='Exam Q1'!J20 -> 1624.1667
D11: LF+LR | E11: =F11/H11 -> 0.69028203 | F11: =F9+F13 -> 6771.6667 | H11: =H7+H14 -> 9810 | J11: =J9+J13 -> 3038.3333 | K11: =J11/H11 -> 0.30971797 | L11: RF+RR
C12: (LR-RR) - | D12: (LF-RF) | E12: =E13-E9 -> 420 | F12: =F13/H11 -> 0.35584438 | J12: =J13/H11 -> 0.14415562
C13: Rear Split | D13: LR-RR | E13: =F13-J13 -> 2076.6667 | F13: ='Exam Q1'!J23 -> 3490.8333 | G13: LR | I13: RR | J13: ='Exam Q1'!J24 -> 1414.1667
E14: LR-LF Split | F14: =F13-F9 -> 210 | H14: =F13+J13 -> 4905 | J14: =J13-J9 -> -210 | K14: RR-RF Split
E15: Wedge | F15: =(F13+J9)/H11 -> 0.52140673 | H15: LR+RR
E16: LR-RF Split | F16: =F13-J9 -> 1866.6667 | H16: =H14/H11 -> 0.5
E19: 156
