Workbook

Sheet Bike Data
B2: ITEM | C2: VALUE | D2: UNIT
B3: Kerb Mass | C3: 183 | D3: kg
B4: Test Mass | C4: =C3+100 -> 283 | D4: kg
B5: Power | C5: 87500 | D5: W
B6: Frontal Area | C6: 0.48 | D6: m^2
B7: Cd | C7: 0.7
B8: Wheel Mass | C8: 14 | D8: kg
B9: Wheel Rad | C9: 0.305 | D9: m
B10: Wheel Inertia | C10: =C8*C9^2 -> 1.30235
B12: Air Density | C12: 1.225 | D12: kg/m^3

Sheet WLTP Calcs
A1: Phase | B1: Total Time | C1: Phase Time | D1: Vehicle Speed | E1: Vehicle Speed | F1: Vehicle Acc | G1: Acc Res | H1: Aero Res | I1: Roll Res | J1: Total Force | K1: Acc Force | L1: Decell Force | M1: Power | N1: Tractive | O1: Braking | P1: Braking | Q1: Energy | R1: Tractive | S1: Tractive | T1: Braking | U1: Braking | V1: Braking | W1: Braking | X1: Power | Y1: Energy | Z1: Energy Returned
A2: Phase | B2: s | C2: s | D2: km/h | E2: m/s | F2: m/s^2 | G2: N | H2: N | I2: N | J2: N | K2: N | L2: N | M2: kW | N2: kW | O2: kW | P2: Total Moment | Q2: kJ | R2: kJ | S2: Cumulative | T2: kJ | U2: Cumulative | V2: Total Moment | W2: After Generator | X2: Returned (kW) | Y2: Returned (kJ) | Z2: Cumulative
A3: Low | B3: 0 | C3: 0 | D3: 0 | E3: {=D3:D1803*(10/36)} -> 0 | F3: 0 | G3: ='Bike Data'!$C$4*$F3 -> 0 | H3: =0.5*'Bike Data'!$C$12*'Bike Data'!$C$7*'Bike Data'!$C$6*E3^2 -> 0 | I3: =0.02 *'Bike Data'!C$4*9.81 -> 55.5246 | J3: =SUM(G3:I3) -> 55.5246 | K3: =IF(J3>0,J3,) -> 55.5246 | L3: =IF(J3<0,J3,)*-1 -> 0 | M3: =(E3/1000)*(I3+H3+('Bike Data'!C$4*'Bike Data'!C$10*F3)) -> 0 | N3: =IF(M3>0,M3,) -> 0 | O3: =ABS(IF(M3<0,M3,)) -> 0 | Q3: =((M3+M4)/2) * (B4 - B3) -> 0 | R3: =IF(Q3>0,Q3,) -> 0 | S3: =SUM($R$3:R3) -> 0 | T3: =ABS(IF(Q3<0,Q3,)) -> 0 | U3: =SUM($T$3:T3) -> 0 | W3: =U3*'KERS Calcs'!$F$4 -> 0 | X3: =O3*'KERS Calcs'!$F$30 -> 0 | Y3: =T3*'KERS Calcs'!$F$30 -> 0 | Z3: =SUM($Y$3:Y3) -> 0
A4: Low | B4: 1 | C4: 1 | D4: 0 | E4: 0 | F4: 0 | G4: ='Bike Data'!$C$4*$F4 -> 0 | H4: =0.5*'Bike Data'!$C$12*'Bike Data'!$C$7*'Bike Data'!$C$6*'WLTP Calcs'!E4^2 -> 0 | I4: =0.02 *'Bike Data'!C$4*9.81 -> 55.5246 | J4: =SUM(G4:I4) -> 55.5246 | K4: =IF(J4>0,J4,) -> 55.5246 | L4: =IF(J4<0,J4,)*-1 -> 0 | M4: =(E4/1000)*(I4+H4+('Bike Data'!C$4*'Bike Data'!C$10*F4)) -> 0 | N4: =IF(M4>0,M4,) -> 0 | O4: =ABS(IF(M4<0,M4,)) -> 0 | Q4: =((M4+M5)/2) * (B5 - B4) -> 0 | R4: =IF(Q4>0,Q4,) -> 0 | S4: =SUM($R$3:R4) -> 0 | T4: =ABS(IF(Q4<0,Q4,)) -> 0 | U4: =SUM($T$3:T4) -> 0 | W4: =U4*'KERS Calcs'!$F$4 -> 0 | X4: =O4*'KERS Calcs'!$F$30 -> 0 | Y4: =T4*'KERS Calcs'!$F$30 -> 0 | Z4: =SUM($Y$3:Y4) -> 0
A5: Low | B5: 2 | C5: 2 | D5: 0 | E5: 0 | F5: 0 | G5: ='Bike Data'!$C$4*$F5 -> 0 | H5: =0.5*'Bike Data'!$C$12*'Bike Data'!$C$7*'Bike Data'!$C$6*'WLTP Calcs'!E5^2 -> 0 | I5: =0.02 *'Bike Data'!C$4*9.81 -> 55.5246 | J5: =SUM(G5:I5) -> 55.5246 | K5: =IF(J5>0,J5,) -> 55.5246 | L5: =IF(J5<0,J5,)*-1 -> 0 | M5: =(E5/1000)*(I5+H5+('Bike Data'!C$4*'Bike Data'!C$10*F5)) -> 0 | N5: =IF(M5>0,M5,) -> 0 | O5: =ABS(IF(M5<0,M5,)) -> 0 | Q5: =((M5+M6)/2) * (B6 - B5) -> 0 | R5: =IF(Q5>0,Q5,) -> 0 | S5: =SUM($R$3:R5) -> 0 | T5: =ABS(IF(Q5<0,Q5,)) -> 0 | U5: =SUM($T$3:T5) -> 0 | W5: =U5*'KERS Calcs'!$F$4 -> 0 | X5: =O5*'KERS Calcs'!$F$30 -> 0 | Y5: =T5*'KERS Calcs'!$F$30 -> 0 | Z5: =SUM($Y$3:Y5) -> 0
A6: Low | B6: 3 | C6: 3 | D6: 0 | E6: 0 | F6: 0 | G6: ='Bike Data'!$C$4*$F6 -> 0 | H6: =0.5*'Bike Data'!$C$12*'Bike Data'!$C$7*'Bike Data'!$C$6*'WLTP Calcs'!E6^2 -> 0 | I6: =0.02 *'Bike Data'!C$4*9.81 -> 55.5246 | J6: =SUM(G6:I6) -> 55.5246 | K6: =IF(J6>0,J6,) -> 55.5246 | L6: =IF(J6<0,J6,)*-1 -> 0 | M6: =(E6/1000)*(I6+H6+('Bike Data'!C$4*'Bike Data'!C$10*F6)) -> 0 | N6: =IF(M6>0,M6,) -> 0 | O6: =ABS(IF(M6<0,M6,)) -> 0 | Q6: =((M6+M7)/2) * (B7 - B6) -> 0 | R6: =IF(Q6>0,Q6,) -> 0 | S6: =SUM($R$3:R6) -> 0 | T6: =ABS(IF(Q6<0,Q6,)) -> 0 | U6: =SUM($T$3:T6) -> 0 | W6: =U6*'KERS Calcs'!$F$4 -> 0 | X6: =O6*'KERS Calcs'!$F$30 -> 0 | Y6: =T6*'KERS Calcs'!$F$30 -> 0 | Z6: =SUM($Y$3:Y6) -> 0
A7: Low | B7: 4 | C7: 4 | D7: 0 | E7: 0 | F7: 0 | G7: ='Bike Data'!$C$4*$F7 -> 0 | H7: =0.5*'Bike Data'!$C$12*'Bike Data'!$C$7*'Bike Data'!$C$6*'WLTP Calcs'!E7^2 -> 0 | I7: =0.02 *'Bike Data'!C$4*9.81 -> 55.5246 | J7: =SUM(G7:I7) -> 55.5246 | K7: =IF(J7>0,J7,) -> 55.5246 | L7: =IF(J7<0,J7,)*-1 -> 0 | M7: =(E7/1000)*(I7+H7+('Bike Data'!C$4*'Bike Data'!C$10*F7)) -> 0 | N7: =IF(M7>0,M7,) -> 0 | O7: =ABS(IF(M7<0,M7,)) -> 0 | Q7: =((M7+M8)/2) * (B8 - B7) -> 0 | R7: =IF(Q7>0,Q7,) -> 0 | S7: =SUM($R$3:R7) -> 0 | T7: =ABS(IF(Q7<0,Q7,)) -> 0 | U7: =SUM($T$3:T7) -> 0 | W7: =U7*'KERS Calcs'!$F$4 -> 0 | X7: =O7*'KERS Calcs'!$F$30 -> 0 | Y7: =T7*'KERS Calcs'!$F$30 -> 0 | Z7: =SUM($Y$3:Y7) -> 0
A8: Low | B8: 5 | C8: 5 | D8: 0 | E8: 0 | F8: 0 | G8: ='Bike Data'!$C$4*$F8 -> 0 | H8: =0.5*'Bike Data'!$C$12*'Bike Data'!$C$7*'Bike Data'!$C$6*'WLTP Calcs'!E8^2 -> 0 | I8: =0.02 *'Bike Data'!C$4*9.81 -> 55.5246 | J8: =SUM(G8:I8) -> 55.5246 | K8: =IF(J8>0,J8,) -> 55.5246 | L8: =IF(J8<0,J8,)*-1 -> 0 | M8: =(E8/1000)*(I8+H8+('Bike Data'!C$4*'Bike Data'!C$10*F8)) -> 0 | N8: =IF(M8>0,M8,) -> 0 | O8: =ABS(IF(M8<0,M8,)) -> 0 | Q8: =((M8+M9)/2) * (B9 - B8) -> 0 | R8: =IF(Q8>0,Q8,) -> 0 | S8: =SUM($R$3:R8) -> 0 | T8: =ABS(IF(Q8<0,Q8,)) -> 0 | U8: =SUM($T$3:T8) -> 0 | W8: =U8*'KERS Calcs'!$F$4 -> 0 | X8: =O8*'KERS Calcs'!$F$30 -> 0 | Y8: =T8*'KERS Calcs'!$F$30 -> 0 | Z8: =SUM($Y$3:Y8) -> 0
A9: Low | B9: 6 | C9: 6 | D9: 0 | E9: 0 | F9: 0 | G9: ='Bike Data'!$C$4*$F9 -> 0 | H9: =0.5*'Bike Data'!$C$12*'Bike Data'!$C$7*'Bike Data'!$C$6*'WLTP Calcs'!E9^2 -> 0 | I9: =0.02 *'Bike Data'!C$4*9.81 -> 55.5246 | J9: =SUM(G9:I9) -> 55.5246 | K9: =IF(J9>0,J9,) -> 55.5246 | L9: =IF(J9<0,J9,)*-1 -> 0 | M9: =(E9/1000)*(I9+H9+('Bike Data'!C$4*'Bike Data'!C$10*F9)) -> 0 | N9: =IF(M9>0,M9,) -> 0 | O9: =ABS(IF(M9<0,M9,)) -> 0 | Q9: =((M9+M10)/2) * (B10 - B9) -> 0 | R9: =IF(Q9>0,Q9,) -> 0 | S9: =SUM($R$3:R9) -> 0 | T9: =ABS(IF(Q9<0,Q9,)) -> 0 | U9: =SUM($T$3:T9) -> 0 | W9: =U9*'KERS Calcs'!$F$4 -> 0 | X9: =O9*'KERS Calcs'!$F$30 -> 0 | Y9: =T9*'KERS Calcs'!$F$30 -> 0 | Z9: =SUM($Y$3:Y9) -> 0
A10: Low | B10: 7 | C10: 7 | D10: 0 | E10: 0 | F10: 0 | G10: ='Bike Data'!$C$4*$F10 -> 0 | H10: =0.5*'Bike Data'!$C$12*'Bike Data'!$C$7*'Bike Data'!$C$6*'WLTP Calcs'!E10^2 -> 0 | I10: =0.02 *'Bike Data'!C$4*9.81 -> 55.5246 | J10: =SUM(G10:I10) -> 55.5246 | K10: =IF(J10>0,J10,) -> 55.5246 | L10: =IF(J10<0,J10,)*-1 -> 0 | M10: =(E10/1000)*(I10+H10+('Bike Data'!C$4*'Bike Data'!C$10*F10)) -> 0 | N10: =IF(M10>0,M10,) -> 0 | O10: =ABS(IF(M10<0,M10,)) -> 0 | Q10: =((M10+M11)/2) * (B11 - B10) -> 0 | R10: =IF(Q10>0,Q10,) -> 0 | S10: =SUM($R$3:R10) -> 0 | T10: =ABS(IF(Q10<0,Q10,)) -> 0 | U10: =SUM($T$3:T10) -> 0 | W10: =U10*'KERS Calcs'!$F$4 -> 0 | X10: =O10*'KERS Calcs'!$F$30 -> 0 | Y10: =T10*'KERS Calcs'!$F$30 -> 0 | Z10: =SUM($Y$3:Y10) -> 0
A11: Low | B11: 8 | C11: 8 | D11: 0 | E11: 0 | F11: 0 | G11: ='Bike Data'!$C$4*$F11 -> 0 | H11: =0.5*'Bike Data'!$C$12*'Bike Data'!$C$7*'Bike Data'!$C$6*'WLTP Calcs'!E11^2 -> 0 | I11: =0.02 *'Bike Data'!C$4*9.81 -> 55.5246 | J11: =SUM(G11:I11) -> 55.5246 | K11: =IF(J11>0,J11,) -> 55.5246 | L11: =IF(J11<0,J11,)*-1 -> 0 | M11: =(E11/1000)*(I11+H11+('Bike Data'!C$4*'Bike Data'!C$10*F11)) -> 0 | N11: =IF(M11>0,M11,) -> 0 | O11: =ABS(IF(M11<0,M11,)) -> 0 | Q11: =((M11+M12)/2) * (B12 - B11) -> 0 | R11: =IF(Q11>0,Q11,) -> 0 | S11: =SUM($R$3:R11) -> 0 | T11: =ABS(IF(Q11<0,Q11,)) -> 0 | U11: =SUM($T$3:T11) -> 0 | W11: =U11*'KERS Calcs'!$F$4 -> 0 | X11: =O11*'KERS Calcs'!$F$30 -> 0 | Y11: =T11*'KERS Calcs'!$F$30 -> 0 | Z11: =SUM($Y$3:Y11) -> 0
A12: Low | B12: 9 | C12: 9 | D12: 0 | E12: 0 | F12: 0 | G12: ='Bike Data'!$C$4*$F12 -> 0 | H12: =0.5*'Bike Data'!$C$12*'Bike Data'!$C$7*'Bike Data'!$C$6*'WLTP Calcs'!E12^2 -> 0 | I12: =0.02 *'Bike Data'!C$4*9.81 -> 55.5246 | J12: =SUM(G12:I12) -> 55.5246 | K12: =IF(J12>0,J12,) -> 55.5246 | L12: =IF(J12<0,J12,)*-1 -> 0 | M12: =(E12/1000)*(I12+H12+('Bike Data'!C$4*'Bike Data'!C$10*F12)) -> 0 | N12: =IF(M12>0,M12,) -> 0 | O12: =ABS(IF(M12<0,M12,)) -> 0 | Q12: =((M12+M13)/2) * (B13 - B12) -> 0 | R12: =IF(Q12>0,Q12,) -> 0 | S12: =SUM($R$3:R12) -> 0 | T12: =ABS(IF(Q12<0,Q12,)) -> 0 | U12: =SUM($T$3:T12) -> 0 | W12: =U12*'KERS Calcs'!$F$4 -> 0 | X12: =O12*'KERS Calcs'!$F$30 -> 0 | Y12: =T12*'KERS Calcs'!$F$30 -> 0 | Z12: =SUM($Y$3:Y12) -> 0
A13: Low | B13: 10 | C13: 10 | D13: 0 | E13: 0 | F13: 0 | G13: ='Bike Data'!$C$4*$F13 -> 0 | H13: =0.5*'Bike Data'!$C$12*'Bike Data'!$C$7*'Bike Data'!$C$6*'WLTP Calcs'!E13^2 -> 0 | I13: =0.02 *'Bike Data'!C$4*9.81 -> 55.5246 | J13: =SUM(G13:I13) -> 55.5246 | K13: =IF(J13>0,J13,) -> 55.5246 | L13: =IF(J13<0,J13,)*-1 -> 0 | M13: =(E13/1000)*(I13+H13+('Bike Data'!C$4*'Bike Data'!C$10*F13)) -> 0 | N13: =IF(M13>0,M13,) -> 0 | O13: =ABS(IF(M13<0,M13,)) -> 0 | Q13: =((M13+M14)/2) * (B14 - B13) -> 0 | R13: =IF(Q13>0,Q13,) -> 0 | S13: =SUM($R$3:R13) -> 0 | T13: =ABS(IF(Q13<0,Q13,)) -> 0 | U13: =SUM($T$3:T13) -> 0 | W13: =U13*'KERS Calcs'!$F$4 -> 0 | X13: =O13*'KERS Calcs'!$F$30 -> 0 | Y13: =T13*'KERS Calcs'!$F$30 -> 0 | Z13: =SUM($Y$3:Y13) -> 0
A14: Low | B14: 11 | C14: 11 | D14: 0 | E14: 0 | F14: 0.027777778 | G14: ='Bike Data'!$C$4*$F14 -> 7.8611111 | H14: =0.5*'Bike Data'!$C$12*'Bike Data'!$C$7*'Bike Data'!$C$6*'WLTP Calcs'!E14^2 -> 0 | I14: =0.02 *'Bike Data'!C$4*9.81 -> 55.5246 | J14: =SUM(G14:I14) -> 63.385711 | K14: =IF(J14>0,J14,) -> 63.385711 | L14: =IF(J14<0,J14,)*-1 -> 0 | M14: =(E14/1000)*(I14+H14+('Bike Data'!C$4*'Bike Data'!C$10*F14)) -> 0 | N14: =IF(M14>0,M14,) -> 0 | O14: =ABS(IF(M14<0,M14,)) -> 0 | Q14: =((M14+M15)/2) * (B15 - B14) -> 0.0039596539 | R14: =IF(Q14>0,Q14,) -> 0.0039596539 | S14: =SUM($R$3:R14) -> 0.0039596539 | T14: =ABS(IF(Q14<0,Q14,)) -> 0 | U14: =SUM($T$3:T14) -> 0 | W14: =U14*'KERS Calcs'!$F$4 -> 0 | X14: =O14*'KERS Calcs'!$F$30 -> 0 | Y14: =T14*'KERS Calcs'!$F$30 -> 0 | Z14: =SUM($Y$3:Y14) -> 0
A15: Low | B15: 12 | C15: 12 | D15: 0.2 | E15: 0.055555556 | F15: 0.23611111 | G15: ='Bike Data'!$C$4*$F15 -> 66.819444 | H15: =0.5*'Bike Data'!$C$12*'Bike Data'!$C$7*'Bike Data'!$C$6*'WLTP Calcs'!E15^2 -> 0.00063518519 | I15: =0.02 *'Bike Data'!C$4*9.81 -> 55.5246 | J15: =SUM(G15:I15) -> 122.34468 | K15: =IF(J15>0,J15,) -> 122.34468 | L15: =IF(J15<0,J15,)*-1 -> 0 | M15: =(E15/1000)*(I15+H15+('Bike Data'!C$4*'Bike Data'!C$10*F15)) -> 0.0079193077 | N15: =IF(M15>0,M15,) -> 0.0079193077 | O15: =ABS(IF(M15<0,M15,)) -> 0 | Q15: =((M15+M16)/2) * (B16 - B15) -> 0.079929906 | R15: =IF(Q15>0,Q15,) -> 0.079929906 | S15: =SUM($R$3:R15) -> 0.08388956 | T15: =ABS(IF(Q15<0,Q15,)) -> 0 | U15: =SUM($T$3:T15) -> 0 | W15: =U15*'KERS Calcs'!$F$4 -> 0 | X15: =O15*'KERS Calcs'!$F$30 -> 0 | Y15: =T15*'KERS Calcs'!$F$30 -> 0 | Z15: =SUM($Y$3:Y15) -> 0
... A38: Low | B38: 35 | C38: 35 | D38: 44.5 | E38: 12.361111 | F38: -0.027777778 | G38: ='Bike Data'!$C$4*$F38 -> -7.8611111 | H38: =0.5*'Bike Data'!$C$12*'Bike Data'!$C$7*'Bike Data'!$C$6*'WLTP Calcs'!E38^2 -> 31.445637 | I38: =0.02 *'Bike Data'!C$4*9.81 -> 55.5246 | J38: =SUM(G38:I38) -> 79.109125 | K38: =IF(J38>0,J38,) -> 79.109125 | L38: =IF(J38<0,J38,)*-1 -> 0 | M38: =(E38/1000)*(I38+H38+('Bike Data'!C$4*'Bike Data'!C$10*F38)) -> 0.94849672 | N38: =IF(M38>0,M38,) -> 0.94849672 | O38: =ABS(IF(M38<0,M38,)) -> 0 | Q38: =((M38+M39)/2) * (B39 - B38) -> 0.43990997 | R38: =IF(Q38>0,Q38,) -> 0.43990997 | S38: =SUM($R$3:R38) -> 41.998321 | T38: =ABS(IF(Q38<0,Q38,)) -> 0 | U38: =SUM($T$3:T38) -> 0 | W38: =U38*'KERS Calcs'!$F$4 -> 0 | X38: =O38*'KERS Calcs'!$F$30 -> 0 | Y38: =T38*'KERS Calcs'!$F$30 -> 0 | Z38: =SUM($Y$3:Y38) -> 0
A39: Low | B39: 36 | C39: 36 | D39: 44.2 | E39: 12.277778 | F39: -0.25 | G39: ='Bike Data'!$C$4*$F39 -> -70.75 | H39: =0.5*'Bike Data'!$C$12*'Bike Data'!$C$7*'Bike Data'!$C$6*'WLTP Calcs'!E39^2 -> 31.02308 | I39: =0.02 *'Bike Data'!C$4*9.81 -> 55.5246 | J39: =SUM(G39:I39) -> 15.79768 | K39: =IF(J39>0,J39,) -> 15.79768 | L39: =IF(J39<0,J39,)*-1 -> 0 | M39: =(E39/1000)*(I39+H39+('Bike Data'!C$4*'Bike Data'!C$10*F39)) -> -0.068676767 | N39: =IF(M39>0,M39,) -> 0 | O39: =ABS(IF(M39<0,M39,)) -> 0.068676767 | P39: =SUM(O39:O56) -> 16.81886 | Q39: =((M39+M40)/2) * (B40 - B39) -> -0.83874392 | R39: =IF(Q39>0,Q39,) -> 0 | S39: =SUM($R$3:R39) -> 41.998321 | T39: =ABS(IF(Q39<0,Q39,)) -> 0.83874392 | U39: =SUM($T$3:T39) -> 0.83874392 | V39: =SUM(T39:T56) -> 16.61609 | W39: =U39*'KERS Calcs'!$F$4 -> 0.73809465 | X39: =O39*'KERS Calcs'!$F$30 -> 0.036934398 | Y39: =T39*'KERS Calcs'!$F$30 -> 0.45107688 | Z39: =SUM($Y$3:Y39) -> 0.45107688
A40: Low | B40: 37 | C40: 37 | D40: 42.7 | E40: 11.861111 | F40: -0.59722222 | G40: ='Bike Data'!$C$4*$F40 -> -169.01389 | H40: =0.5*'Bike Data'!$C$12*'Bike Data'!$C$7*'Bike Data'!$C$6*'WLTP Calcs'!E40^2 -> 28.95317 | I40: =0.02 *'Bike Data'!C$4*9.81 -> 55.5246 | J40: =SUM(G40:I40) -> -84.536119 | K40: =IF(J40>0,J40,) -> 0 | L40: =IF(J40<0,J40,)*-1 -> 84.536119 | M40: =(E40/1000)*(I40+H40+('Bike Data'!C$4*'Bike Data'!C$10*F40)) -> -1.6088111 | N40: =IF(M40>0,M40,) -> 0 | O40: =ABS(IF(M40<0,M40,)) -> 1.6088111 | Q40: =((M40+M41)/2) * (B41 - B40) -> -1.9735616 | R40: =IF(Q40>0,Q40,) -> 0 | S40: =SUM($R$3:R40) -> 41.998321 | T40: =ABS(IF(Q40<0,Q40,)) -> 1.9735616 | U40: =SUM($T$3:T40) -> 2.8123056 | W40: =U40*'KERS Calcs'!$F$4 -> 2.4748289 | X40: =O40*'KERS Calcs'!$F$30 -> 0.86521936 | Y40: =T40*'KERS Calcs'!$F$30 -> 1.0613824 | Z40: =SUM($Y$3:Y40) -> 1.5124593
A41: Low | B41: 38 | C41: 38 | D41: 39.9 | E41: 11.083333 | F41: -0.79166667 | G41: ='Bike Data'!$C$4*$F41 -> -224.04167 | H41: =0.5*'Bike Data'!$C$12*'Bike Data'!$C$7*'Bike Data'!$C$6*'WLTP Calcs'!E41^2 -> 25.280529 | I41: =0.02 *'Bike Data'!C$4*9.81 -> 55.5246 | J41: =SUM(G41:I41) -> -143.23654 | K41: =IF(J41>0,J41,) -> 0 | L41: =IF(J41<0,J41,)*-1 -> 143.23654 | M41: =(E41/1000)*(I41+H41+('Bike Data'!C$4*'Bike Data'!C$10*F41)) -> -2.3383122 | N41: =IF(M41>0,M41,) -> 0 | O41: =ABS(IF(M41<0,M41,)) -> 2.3383122 | Q41: =((M41+M42)/2) * (B42 - B41) -> -2.1663113 | R41: =IF(Q41>0,Q41,) -> 0 | S41: =SUM($R$3:R41) -> 41.998321 | T41: =ABS(IF(Q41<0,Q41,)) -> 2.1663113 | U41: =SUM($T$3:T41) -> 4.9786169 | W41: =U41*'KERS Calcs'!$F$4 -> 4.3811828 | X41: =O41*'KERS Calcs'!$F$30 -> 1.2575454 | Y41: =T41*'KERS Calcs'!$F$30 -> 1.1650432 | Z41: =SUM($Y$3:Y41) -> 2.6775025
A42: Low | B42: 39 | C42: 39 | D42: 37 | E42: 10.277778 | F42: -0.73611111 | G42: ='Bike Data'!$C$4*$F42 -> -208.31944 | H42: =0.5*'Bike Data'!$C$12*'Bike Data'!$C$7*'Bike Data'!$C$6*'WLTP Calcs'!E42^2 -> 21.739213 | I42: =0.02 *'Bike Data'!C$4*9.81 -> 55.5246 | J42: =SUM(G42:I42) -> -131.05563 | K42: =IF(J42>0,J42,) -> 0 | L42: =IF(J42<0,J42,)*-1 -> 131.05563 | M42: =(E42/1000)*(I42+H42+('Bike Data'!C$4*'Bike Data'!C$10*F42)) -> -1.9943104 | N42: =IF(M42>0,M42,) -> 0 | O42: =ABS(IF(M42<0,M42,)) -> 1.9943104 | Q42: =((M42+M43)/2) * (B43 - B42) -> -1.7951466 | R42: =IF(Q42>0,Q42,) -> 0 | S42: =SUM($R$3:R42) -> 41.998321 | T42: =ABS(IF(Q42<0,Q42,)) -> 1.7951466 | U42: =SUM($T$3:T42) -> 6.7737635 | W42: =U42*'KERS Calcs'!$F$4 -> 5.9609119 | X42: =O42*'KERS Calcs'!$F$30 -> 1.0725411 | Y42: =T42*'KERS Calcs'!$F$30 -> 0.96543071 | Z42: =SUM($Y$3:Y42) -> 3.6429332
A43: Low | B43: 40 | C43: 40 | D43: 34.6 | E43: 9.6111111 | F43: -0.65277778 | G43: ='Bike Data'!$C$4*$F43 -> -184.73611 | H43: =0.5*'Bike Data'!$C$12*'Bike Data'!$C$7*'Bike Data'!$C$6*'WLTP Calcs'!E43^2 -> 19.010457 | I43: =0.02 *'Bike Data'!C$4*9.81 -> 55.5246 | J43: =SUM(G43:I43) -> -110.20105 | K43: =IF(J43>0,J43,) -> 0 | L43: =IF(J43<0,J43,)*-1 -> 110.20105 | M43: =(E43/1000)*(I43+H43+('Bike Data'!C$4*'Bike Data'!C$10*F43)) -> -1.5959828 | N43: =IF(M43>0,M43,) -> 0 | O43: =ABS(IF(M43<0,M43,)) -> 1.5959828 | Q43: =((M43+M44)/2) * (B44 - B43) -> -1.7605765 | R43: =IF(Q43>0,Q43,) -> 0 | S43: =SUM($R$3:R43) -> 41.998321 | T43: =ABS(IF(Q43<0,Q43,)) -> 1.7605765 | U43: =SUM($T$3:T43) -> 8.53434 | W43: =U43*'KERS Calcs'!$F$4 -> 7.5102192 | X43: =O43*'KERS Calcs'!$F$30 -> 0.85832032 | Y43: =T43*'KERS Calcs'!$F$30 -> 0.94683886 | Z43: =SUM($Y$3:Y43) -> 4.5897721
A44: Low | B44: 41 | C44: 41 | D44: 32.3 | E44: 8.9722222 | F44: -0.77777778 | G44: ='Bike Data'!$C$4*$F44 -> -220.11111 | H44: =0.5*'Bike Data'!$C$12*'Bike Data'!$C$7*'Bike Data'!$C$6*'WLTP Calcs'!E44^2 -> 16.567059 | I44: =0.02 *'Bike Data'!C$4*9.81 -> 55.5246 | J44: =SUM(G44:I44) -> -148.01945 | K44: =IF(J44>0,J44,) -> 0 | L44: =IF(J44<0,J44,)*-1 -> 148.01945 | M44: =(E44/1000)*(I44+H44+('Bike Data'!C$4*'Bike Data'!C$10*F44)) -> -1.9251701 | N44: =IF(M44>0,M44,) -> 0 | O44: =ABS(IF(M44<0,M44,)) -> 1.9251701 | Q44: =((M44+M45)/2) * (B45 - B44) -> -2.1696524 | R44: =IF(Q44>0,Q44,) -> 0 | S44: =SUM($R$3:R44) -> 41.998321 | T44: =ABS(IF(Q44<0,Q44,)) -> 2.1696524 | U44: =SUM($T$3:T44) -> 10.703992 | W44: =U44*'KERS Calcs'!$F$4 -> 9.4195133 | X44: =O44*'KERS Calcs'!$F$30 -> 1.0353574 | Y44: =T44*'KERS Calcs'!$F$30 -> 1.1668401 | Z44: =SUM($Y$3:Y44) -> 5.7566122
A45: Low | B45: 42 | C45: 42 | D45: 29 | E45: 8.0555556 | F45: -1 | G45: ='Bike Data'!$C$4*$F45 -> -283 | H45: =0.5*'Bike Data'!$C$12*'Bike Data'!$C$7*'Bike Data'!$C$6*'WLTP Calcs'!E45^2 -> 13.354769 | I45: =0.02 *'Bike Data'!C$4*9.81 -> 55.5246 | J45: =SUM(G45:I45) -> -214.12063 | K45: =IF(J45>0,J45,) -> 0 | L45: =IF(J45<0,J45,)*-1 -> 214.12063 | M45: =(E45/1000)*(I45+H45+('Bike Data'!C$4*'Bike Data'!C$10*F45)) -> -2.4141347 | N45: =IF(M45>0,M45,) -> 0 | O45: =ABS(IF(M45<0,M45,)) -> 2.4141347 | Q45: =((M45+M46)/2) * (B46 - B45) -> -2.1921039 | R45: =IF(Q45>0,Q45,) -> 0 | S45: =SUM($R$3:R45) -> 41.998321 | T45: =ABS(IF(Q45<0,Q45,)) -> 2.1921039 | U45: =SUM($T$3:T45) -> 12.896096 | W45: =U45*'KERS Calcs'!$F$4 -> 11.348565 | X45: =O45*'KERS Calcs'!$F$30 -> 1.2983228 | Y45: =T45*'KERS Calcs'!$F$30 -> 1.1789145 | Z45: =SUM($Y$3:Y45) -> 6.9355267
A46: Low | B46: 43 | C46: 43 | D46: 25.1 | E46: 6.9722222 | F46: -0.94444444 | G46: ='Bike Data'!$C$4*$F46 -> -267.27778 | H46: =0.5*'Bike Data'!$C$12*'Bike Data'!$C$7*'Bike Data'!$C$6*'WLTP Calcs'!E46^2 -> 10.004325 | I46: =0.02 *'Bike Data'!C$4*9.81 -> 55.5246 | J46: =SUM(G46:I46) -> -201.74885 | K46: =IF(J46>0,J46,) -> 0 | L46: =IF(J46<0,J46,)*-1 -> 201.74885 | M46: =(E46/1000)*(I46+H46+('Bike Data'!C$4*'Bike Data'!C$10*F46)) -> -1.9700731 | N46: =IF(M46>0,M46,) -> 0 | O46: =ABS(IF(M46<0,M46,)) -> 1.9700731 | Q46: =((M46+M47)/2) * (B47 - B46) -> -1.4526104 | R46: =IF(Q46>0,Q46,) -> 0 | S46: =SUM($R$3:R46) -> 41.998321 | T46: =ABS(IF(Q46<0,Q46,)) -> 1.4526104 | U46: =SUM($T$3:T46) -> 14.348707 | W46: =U46*'KERS Calcs'!$F$4 -> 12.626862 | X46: =O46*'KERS Calcs'!$F$30 -> 1.0595063 | Y46: =T46*'KERS Calcs'!$F$30 -> 0.78121455 | Z46: =SUM($Y$3:Y46) -> 7.7167412
A47: Low | B47: 44 | C47: 44 | D47: 22.2 | E47: 6.1666667 | F47: -0.58333333 | G47: ='Bike Data'!$C$4*$F47 -> -165.08333 | H47: =0.5*'Bike Data'!$C$12*'Bike Data'!$C$7*'Bike Data'!$C$6*'WLTP Calcs'!E47^2 -> 7.8261167 | I47: =0.02 *'Bike Data'!C$4*9.81 -> 55.5246 | J47: =SUM(G47:I47) -> -101.73262 | K47: =IF(J47>0,J47,) -> 0 | L47: =IF(J47<0,J47,)*-1 -> 101.73262 | M47: =(E47/1000)*(I47+H47+('Bike Data'!C$4*'Bike Data'!C$10*F47)) -> -0.93514764 | N47: =IF(M47>0,M47,) -> 0 | O47: =ABS(IF(M47<0,M47,)) -> 0.93514764 | Q47: =((M47+M48)/2) * (B48 - B47) -> -0.55372908 | R47: =IF(Q47>0,Q47,) -> 0 | S47: =SUM($R$3:R47) -> 41.998321 | T47: =ABS(IF(Q47<0,Q47,)) -> 0.55372908 | U47: =SUM($T$3:T47) -> 14.902436 | W47: =U47*'KERS Calcs'!$F$4 -> 13.114143 | X47: =O47*'KERS Calcs'!$F$30 -> 0.50292284 | Y47: =T47*'KERS Calcs'!$F$30 -> 0.29779576 | Z47: =SUM($Y$3:Y47) -> 8.014537
A48: Low | B48: 45 | C48: 45 | D48: 20.9 | E48: 5.8055556 | F48: -0.25 | G48: ='Bike Data'!$C$4*$F48 -> -70.75 | H48: =0.5*'Bike Data'!$C$12*'Bike Data'!$C$7*'Bike Data'!$C$6*'WLTP Calcs'!E48^2 -> 6.936381 | I48: =0.02 *'Bike Data'!C$4*9.81 -> 55.5246 | J48: =SUM(G48:I48) -> -8.289019 | K48: =IF(J48>0,J48,) -> 0 | L48: =IF(J48<0,J48,)*-1 -> 8.289019 | M48: =(E48/1000)*(I48+H48+('Bike Data'!C$4*'Bike Data'!C$10*F48)) -> -0.17231052 | N48: =IF(M48>0,M48,) -> 0 | O48: =ABS(IF(M48<0,M48,)) -> 0.17231052 | Q48: =((M48+M49)/2) * (B49 - B48) -> -0.11316361 | R48: =IF(Q48>0,Q48,) -> 0 | S48: =SUM($R$3:R48) -> 41.998321 | T48: =ABS(IF(Q48<0,Q48,)) -> 0.11316361 | U48: =SUM($T$3:T48) -> 15.015599 | W48: =U48*'KERS Calcs'!$F$4 -> 13.213727 | X48: =O48*'KERS Calcs'!$F$30 -> 0.092668681 | Y48: =T48*'KERS Calcs'!$F$30 -> 0.060859445 | Z48: =SUM($Y$3:Y48) -> 8.0753964
A49: Low | B49: 46 | C49: 46 | D49: 20.4 | E49: 5.6666667 | F49: -0.19444444 | G49: ='Bike Data'!$C$4*$F49 -> -55.027778 | H49: =0.5*'Bike Data'!$C$12*'Bike Data'!$C$7*'Bike Data'!$C$6*'WLTP Calcs'!E49^2 -> 6.6084667 | I49: =0.02 *'Bike Data'!C$4*9.81 -> 55.5246 | J49: =SUM(G49:I49) -> 7.1052889 | K49: =IF(J49>0,J49,) -> 7.1052889 | L49: =IF(J49<0,J49,)*-1 -> 0 | M49: =(E49/1000)*(I49+H49+('Bike Data'!C$4*'Bike Data'!C$10*F49)) -> -0.054016705 | N49: =IF(M49>0,M49,) -> 0 | O49: =ABS(IF(M49<0,M49,)) -> 0.054016705 | Q49: =((M49+M50)/2) * (B50 - B49) -> -0.13755264 | R49: =IF(Q49>0,Q49,) -> 0 | S49: =SUM($R$3:R49) -> 41.998321 | T49: =ABS(IF(Q49<0,Q49,)) -> 0.13755264 | U49: =SUM($T$3:T49) -> 15.153152 | W49: =U49*'KERS Calcs'!$F$4 -> 13.334774 | X49: =O49*'KERS Calcs'!$F$30 -> 0.029050209 | Y49: =T49*'KERS Calcs'!$F$30 -> 0.073975873 | Z49: =SUM($Y$3:Y49) -> 8.1493723
A50: Low | B50: 47 | C50: 47 | D50: 19.5 | E50: 5.4166667 | F50: -0.27777778 | G50: ='Bike Data'!$C$4*$F50 -> -78.611111 | H50: =0.5*'Bike Data'!$C$12*'Bike Data'!$C$7*'Bike Data'!$C$6*'WLTP Calcs'!E50^2 -> 6.0382292 | I50: =0.02 *'Bike Data'!C$4*9.81 -> 55.5246 | J50: =SUM(G50:I50) -> -17.048282 | K50: =IF(J50>0,J50,) -> 0 | L50: =IF(J50<0,J50,)*-1 -> 17.048282 | M50: =(E50/1000)*(I50+H50+('Bike Data'!C$4*'Bike Data'!C$10*F50)) -> -0.22108857 | N50: =IF(M50>0,M50,) -> 0 | O50: =ABS(IF(M50<0,M50,)) -> 0.22108857 | Q50: =((M50+M51)/2) * (B51 - B50) -> -0.17729922 | R50: =IF(Q50>0,Q50,) -> 0 | S50: =SUM($R$3:R50) -> 41.998321 | T50: =ABS(IF(Q50<0,Q50,)) -> 0.17729922 | U50: =SUM($T$3:T50) -> 15.330451 | W50: =U50*'KERS Calcs'!$F$4 -> 13.490797 | X50: =O50*'KERS Calcs'!$F$30 -> 0.11890154 | Y50: =T50*'KERS Calcs'!$F$30 -> 0.095351604 | Z50: =SUM($Y$3:Y50) -> 8.2447239
A51: Low | B51: 48 | C51: 48 | D51: 18.4 | E51: 5.1111111 | F51: -0.23611111 | G51: ='Bike Data'!$C$4*$F51 -> -66.819444 | H51: =0.5*'Bike Data'!$C$12*'Bike Data'!$C$7*'Bike Data'!$C$6*'WLTP Calcs'!E51^2 -> 5.3762074 | I51: =0.02 *'Bike Data'!C$4*9.81 -> 55.5246 | J51: =SUM(G51:I51) -> -5.918637 | K51: =IF(J51>0,J51,) -> 0 | L51: =IF(J51<0,J51,)*-1 -> 5.918637 | M51: =(E51/1000)*(I51+H51+('Bike Data'!C$4*'Bike Data'!C$10*F51)) -> -0.13350987 | N51: =IF(M51>0,M51,) -> 0 | O51: =ABS(IF(M51<0,M51,)) -> 0.13350987 | Q51: =((M51+M52)/2) * (B52 - B51) -> 0.0070214863 | R51: =IF(Q51>0,Q51,) -> 0.0070214863 | S51: =SUM($R$3:R51) -> 42.005342 | T51: =ABS(IF(Q51<0,Q51,)) -> 0 | U51: =SUM($T$3:T51) -> 15.330451 | W51: =U51*'KERS Calcs'!$F$4 -> 13.490797 | X51: =O51*'KERS Calcs'!$F$30 -> 0.07180167 | Y51: =T51*'KERS Calcs'!$F$30 -> 0 | Z51: =SUM($Y$3:Y51) -> 8.2447239
... A83: Low | B83: 80 | C83: 80 | D83: 39 | E83: 10.833333 | F83: -0.13888889 | G83: ='Bike Data'!$C$4*$F83 -> -39.305556 | H83: =0.5*'Bike Data'!$C$12*'Bike Data'!$C$7*'Bike Data'!$C$6*'WLTP Calcs'!E83^2 -> 24.152917 | I83: =0.02 *'Bike Data'!C$4*9.81 -> 55.5246 | J83: =SUM(G83:I83) -> 40.371961 | K83: =IF(J83>0,J83,) -> 40.371961 | L83: =IF(J83<0,J83,)*-1 -> 0 | M83: =(E83/1000)*(I83+H83+('Bike Data'!C$4*'Bike Data'!C$10*F83)) -> 0.3086192 | N83: =IF(M83>0,M83,) -> 0.3086192 | O83: =ABS(IF(M83<0,M83,)) -> 0 | Q83: =((M83+M84)/2) * (B84 - B83) -> 0.11174506 | R83: =IF(Q83>0,Q83,) -> 0.11174506 | S83: =SUM($R$3:R83) -> 73.615109 | T83: =ABS(IF(Q83<0,Q83,)) -> 0 | U83: =SUM($T$3:T83) -> 16.61609 | W83: =U83*'KERS Calcs'!$F$4 -> 14.622159 | X83: =O83*'KERS Calcs'!$F$30 -> 0 | Y83: =T83*'KERS Calcs'!$F$30 -> 0 | Z83: =SUM($Y$3:Y83) -> 8.9361411
A84: Low | B84: 81 | C84: 81 | D84: 38.5 | E84: 10.694444 | F84: -0.23611111 | G84: ='Bike Data'!$C$4*$F84 -> -66.819444 | H84: =0.5*'Bike Data'!$C$12*'Bike Data'!$C$7*'Bike Data'!$C$6*'WLTP Calcs'!E84^2 -> 23.537581 | I84: =0.02 *'Bike Data'!C$4*9.81 -> 55.5246 | J84: =SUM(G84:I84) -> 12.242737 | K84: =IF(J84>0,J84,) -> 12.242737 | L84: =IF(J84<0,J84,)*-1 -> 0 | M84: =(E84/1000)*(I84+H84+('Bike Data'!C$4*'Bike Data'!C$10*F84)) -> -0.085129087 | N84: =IF(M84>0,M84,) -> 0 | O84: =ABS(IF(M84<0,M84,)) -> 0.085129087 | Q84: =((M84+M85)/2) * (B85 - B84) -> -0.038247149 | R84: =IF(Q84>0,Q84,) -> 0 | S84: =SUM($R$3:R84) -> 73.615109 | T84: =ABS(IF(Q84<0,Q84,)) -> 0.038247149 | U84: =SUM($T$3:T84) -> 16.654337 | V84: =T84 -> 0.038247149 | W84: =U84*'KERS Calcs'!$F$4 -> 14.655817 | X84: =O84*'KERS Calcs'!$F$30 -> 0.045782463 | Y84: =T84*'KERS Calcs'!$F$30 -> 0.020569335 | Z84: =SUM($Y$3:Y84) -> 8.9567105
A85: Low | B85: 82 | C85: 82 | D85: 37.3 | E85: 10.361111 | F85: -0.20833333 | G85: ='Bike Data'!$C$4*$F85 -> -58.958333 | H85: =0.5*'Bike Data'!$C$12*'Bike Data'!$C$7*'Bike Data'!$C$6*'WLTP Calcs'!E85^2 -> 22.09317 | I85: =0.02 *'Bike Data'!C$4*9.81 -> 55.5246 | J85: =SUM(G85:I85) -> 18.659437 | K85: =IF(J85>0,J85,) -> 18.659437 | L85: =IF(J85<0,J85,)*-1 -> 0 | M85: =(E85/1000)*(I85+H85+('Bike Data'!C$4*'Bike Data'!C$10*F85)) -> 0.0086347893 | N85: =IF(M85>0,M85,) -> 0.0086347893 | O85: =ABS(IF(M85<0,M85,)) -> 0 | Q85: =((M85+M86)/2) * (B86 - B85) -> 0.24353297 | R85: =IF(Q85>0,Q85,) -> 0.24353297 | S85: =SUM($R$3:R85) -> 73.858642 | T85: =ABS(IF(Q85<0,Q85,)) -> 0 | U85: =SUM($T$3:T85) -> 16.654337 | W85: =U85*'KERS Calcs'!$F$4 -> 14.655817 | X85: =O85*'KERS Calcs'!$F$30 -> 0 | Y85: =T85*'KERS Calcs'!$F$30 -> 0 | Z85: =SUM($Y$3:Y85) -> 8.9567105
A86: Low | B86: 83 | C86: 83 | D86: 37 | E86: 10.277778 | F86: -0.083333333 | G86: ='Bike Data'!$C$4*$F86 -> -23.583333 | H86: =0.5*'Bike Data'!$C$12*'Bike Data'!$C$7*'Bike Data'!$C$6*'WLTP Calcs'!E86^2 -> 21.739213 | I86: =0.02 *'Bike Data'!C$4*9.81 -> 55.5246 | J86: =SUM(G86:I86) -> 53.68048 | K86: =IF(J86>0,J86,) -> 53.68048 | L86: =IF(J86<0,J86,)*-1 -> 0 | M86: =(E86/1000)*(I86+H86+('Bike Data'!C$4*'Bike Data'!C$10*F86)) -> 0.47843116 | N86: =IF(M86>0,M86,) -> 0.47843116 | O86: =ABS(IF(M86<0,M86,)) -> 0 | Q86: =((M86+M87)/2) * (B87 - B86) -> 0.34423959 | R86: =IF(Q86>0,Q86,) -> 0.34423959 | S86: =SUM($R$3:R86) -> 74.202881 | T86: =ABS(IF(Q86<0,Q86,)) -> 0 | U86: =SUM($T$3:T86) -> 16.654337 | W86: =U86*'KERS Calcs'!$F$4 -> 14.655817 | X86: =O86*'KERS Calcs'!$F$30 -> 0 | Y86: =T86*'KERS Calcs'!$F$30 -> 0 | Z86: =SUM($Y$3:Y86) -> 8.9567105
A87: Low | B87: 84 | C87: 84 | D87: 36.7 | E87: 10.194444 | F87: -0.15277778 | G87: ='Bike Data'!$C$4*$F87 -> -43.236111 | H87: =0.5*'Bike Data'!$C$12*'Bike Data'!$C$7*'Bike Data'!$C$6*'WLTP Calcs'!E87^2 -> 21.388114 | I87: =0.02 *'Bike Data'!C$4*9.81 -> 55.5246 | J87: =SUM(G87:I87) -> 33.676603 | K87: =IF(J87>0,J87,) -> 33.676603 | L87: =IF(J87<0,J87,)*-1 -> 0 | M87: =(E87/1000)*(I87+H87+('Bike Data'!C$4*'Bike Data'!C$10*F87)) -> 0.21004802 | N87: =IF(M87>0,M87,) -> 0.21004802 | O87: =ABS(IF(M87<0,M87,)) -> 0 | Q87: =((M87+M88)/2) * (B88 - B87) -> 0.12658893 | R87: =IF(Q87>0,Q87,) -> 0.12658893 | S87: =SUM($R$3:R87) -> 74.32947 | T87: =ABS(IF(Q87<0,Q87,)) -> 0 | U87: =SUM($T$3:T87) -> 16.654337 | W87: =U87*'KERS Calcs'!$F$4 -> 14.655817 | X87: =O87*'KERS Calcs'!$F$30 -> 0 | Y87: =T87*'KERS Calcs'!$F$30 -> 0 | Z87: =SUM($Y$3:Y87) -> 8.9567105
A88: Low | B88: 85 | C88: 85 | D88: 35.9 | E88: 9.9722222 | F88: -0.19444444 | G88: ='Bike Data'!$C$4*$F88 -> -55.027778 | H88: =0.5*'Bike Data'!$C$12*'Bike Data'!$C$7*'Bike Data'!$C$6*'WLTP Calcs'!E88^2 -> 20.465825 | I88: =0.02 *'Bike Data'!C$4*9.81 -> 55.5246 | J88: =SUM(G88:I88) -> 20.962648 | K88: =IF(J88>0,J88,) -> 20.962648 | L88: =IF(J88<0,J88,)*-1 -> 0 | M88: =(E88/1000)*(I88+H88+('Bike Data'!C$4*'Bike Data'!C$10*F88)) -> 0.043129852 | N88: =IF(M88>0,M88,) -> 0.043129852 | O88: =ABS(IF(M88<0,M88,)) -> 0 | Q88: =((M88+M89)/2) * (B89 - B88) -> 0.064540618 | R88: =IF(Q88>0,Q88,) -> 0.064540618 | S88: =SUM($R$3:R88) -> 74.394011 | T88: =ABS(IF(Q88<0,Q88,)) -> 0 | U88: =SUM($T$3:T88) -> 16.654337 | W88: =U88*'KERS Calcs'!$F$4 -> 14.655817 | X88: =O88*'KERS Calcs'!$F$30 -> 0 | Y88: =T88*'KERS Calcs'!$F$30 -> 0 | Z88: =SUM($Y$3:Y88) -> 8.9567105
A89: Low | B89: 86 | C89: 86 | D89: 35.3 | E89: 9.8055556 | F89: -0.18055556 | G89: ='Bike Data'!$C$4*$F89 -> -51.097222 | H89: =0.5*'Bike Data'!$C$12*'Bike Data'!$C$7*'Bike Data'!$C$6*'WLTP Calcs'!E89^2 -> 19.787448 | I89: =0.02 *'Bike Data'!C$4*9.81 -> 55.5246 | J89: =SUM(G89:I89) -> 24.214825 | K89: =IF(J89>0,J89,) -> 24.214825 | L89: =IF(J89<0,J89,)*-1 -> 0 | M89: =(E89/1000)*(I89+H89+('Bike Data'!C$4*'Bike Data'!C$10*F89)) -> 0.085951385 | N89: =IF(M89>0,M89,) -> 0.085951385 | O89: =ABS(IF(M89<0,M89,)) -> 0 | Q89: =((M89+M90)/2) * (B90 - B89) -> 0.13056419 | R89: =IF(Q89>0,Q89,) -> 0.13056419 | S89: =SUM($R$3:R89) -> 74.524575 | T89: =ABS(IF(Q89<0,Q89,)) -> 0 | U89: =SUM($T$3:T89) -> 16.654337 | W89: =U89*'KERS Calcs'!$F$4 -> 14.655817 | X89: =O89*'KERS Calcs'!$F$30 -> 0 | Y89: =T89*'KERS Calcs'!$F$30 -> 0 | Z89: =SUM($Y$3:Y89) -> 8.9567105
A90: Low | B90: 87 | C90: 87 | D90: 34.6 | E90: 9.6111111 | F90: -0.15277778 | G90: ='Bike Data'!$C$4*$F90 -> -43.236111 | H90: =0.5*'Bike Data'!$C$12*'Bike Data'!$C$7*'Bike Data'!$C$6*'WLTP Calcs'!E90^2 -> 19.010457 | I90: =0.02 *'Bike Data'!C$4*9.81 -> 55.5246 | J90: =SUM(G90:I90) -> 31.298946 | K90: =IF(J90>0,J90,) -> 31.298946 | L90: =IF(J90<0,J90,)*-1 -> 0 | M90: =(E90/1000)*(I90+H90+('Bike Data'!C$4*'Bike Data'!C$10*F90)) -> 0.17517699 | N90: =IF(M90>0,M90,) -> 0.17517699 | O90: =ABS(IF(M90<0,M90,)) -> 0 | Q90: =((M90+M91)/2) * (B91 - B90) -> -0.21695226 | R90: =IF(Q90>0,Q90,) -> 0 | S90: =SUM($R$3:R90) -> 74.524575 | T90: =ABS(IF(Q90<0,Q90,)) -> 0.21695226 | U90: =SUM($T$3:T90) -> 16.87129 | V90: =SUM(T90:T101) -> 13.470282 | W90: =U90*'KERS Calcs'!$F$4 -> 14.846735 | X90: =O90*'KERS Calcs'!$F$30 -> 0 | Y90: =T90*'KERS Calcs'!$F$30 -> 0.11667703 | Z90: =SUM($Y$3:Y90) -> 9.0733875
A91: Low | B91: 88 | C91: 88 | D91: 34.2 | E91: 9.5 | F91: -0.375 | G91: ='Bike Data'!$C$4*$F91 -> -106.125 | H91: =0.5*'Bike Data'!$C$12*'Bike Data'!$C$7*'Bike Data'!$C$6*'WLTP Calcs'!E91^2 -> 18.57345 | I91: =0.02 *'Bike Data'!C$4*9.81 -> 55.5246 | J91: =SUM(G91:I91) -> -32.02695 | K91: =IF(J91>0,J91,) -> 0 | L91: =IF(J91<0,J91,)*-1 -> 32.02695 | M91: =(E91/1000)*(I91+H91+('Bike Data'!C$4*'Bike Data'!C$10*F91)) -> -0.60908152 | N91: =IF(M91>0,M91,) -> 0 | O91: =ABS(IF(M91<0,M91,)) -> 0.60908152 | P91: =SUM(O91:O101) -> 13.55787 | Q91: =((M91+M92)/2) * (B92 - B91) -> -1.5518498 | R91: =IF(Q91>0,Q91,) -> 0 | S91: =SUM($R$3:R91) -> 74.524575 | T91: =ABS(IF(Q91<0,Q91,)) -> 1.5518498 | U91: =SUM($T$3:T91) -> 18.423139 | W91: =U91*'KERS Calcs'!$F$4 -> 16.212363 | X91: =O91*'KERS Calcs'!$F$30 -> 0.32756433 | Y91: =T91*'KERS Calcs'!$F$30 -> 0.83458557 | Z91: =SUM($Y$3:Y91) -> 9.9079731
A92: Low | B92: 89 | C92: 89 | D92: 31.9 | E92: 8.8611111 | F92: -0.95833333 | G92: ='Bike Data'!$C$4*$F92 -> -271.20833 | H92: =0.5*'Bike Data'!$C$12*'Bike Data'!$C$7*'Bike Data'!$C$6*'WLTP Calcs'!E92^2 -> 16.15927 | I92: =0.02 *'Bike Data'!C$4*9.81 -> 55.5246 | J92: =SUM(G92:I92) -> -199.52446 | K92: =IF(J92>0,J92,) -> 0 | L92: =IF(J92<0,J92,)*-1 -> 199.52446 | M92: =(E92/1000)*(I92+H92+('Bike Data'!C$4*'Bike Data'!C$10*F92)) -> -2.4946181 | N92: =IF(M92>0,M92,) -> 0 | O92: =ABS(IF(M92<0,M92,)) -> 2.4946181 | Q92: =((M92+M93)/2) * (B93 - B92) -> -2.9134334 | R92: =IF(Q92>0,Q92,) -> 0 | S92: =SUM($R$3:R92) -> 74.524575 | T92: =ABS(IF(Q92<0,Q92,)) -> 2.9134334 | U92: =SUM($T$3:T92) -> 21.336573 | W92: =U92*'KERS Calcs'!$F$4 -> 18.776184 | X92: =O92*'KERS Calcs'!$F$30 -> 1.3416068 | Y92: =T92*'KERS Calcs'!$F$30 -> 1.5668459 | Z92: =SUM($Y$3:Y92) -> 11.474819
A93: Low | B93: 90 | C93: 90 | D93: 27.3 | E93: 7.5833333 | F93: -1.375 | G93: ='Bike Data'!$C$4*$F93 -> -389.125 | H93: =0.5*'Bike Data'!$C$12*'Bike Data'!$C$7*'Bike Data'!$C$6*'WLTP Calcs'!E93^2 -> 11.834929 | I93: =0.02 *'Bike Data'!C$4*9.81 -> 55.5246 | J93: =SUM(G93:I93) -> -321.76547 | K93: =IF(J93>0,J93,) -> 0 | L93: =IF(J93<0,J93,)*-1 -> 321.76547 | M93: =(E93/1000)*(I93+H93+('Bike Data'!C$4*'Bike Data'!C$10*F93)) -> -3.3322487 | N93: =IF(M93>0,M93,) -> 0 | O93: =ABS(IF(M93<0,M93,)) -> 3.3322487 | Q93: =((M93+M94)/2) * (B94 - B93) -> -3.0840318 | R93: =IF(Q93>0,Q93,) -> 0 | S93: =SUM($R$3:R93) -> 74.524575 | T93: =ABS(IF(Q93<0,Q93,)) -> 3.0840318 | U93: =SUM($T$3:T93) -> 24.420605 | W93: =U93*'KERS Calcs'!$F$4 -> 21.490132 | X93: =O93*'KERS Calcs'!$F$30 -> 1.7920849 | Y93: =T93*'KERS Calcs'!$F$30 -> 1.6585938 | Z93: =SUM($Y$3:Y93) -> 13.133413
...

Sheet KERS Calcs
B2: Energy (kJ) | F2: Generator Losses over WLTP
B3: Maximum Braking Period | D3: Maximum Braking per Period | F3: Generator Efficiency | H3: Lost Energy From Generator
B4: =MAX('WLTP Calcs'!V3:V1803) -> 54.943339 | D4: =MAX('WLTP Calcs'!T3:T1803) -> 6.2066658 | F4: 0.88 | H4: ='WLTP Calcs'!U1803-'WLTP Calcs'!W1803 -> 67.063538
B6: Average Braking Period | D6: Average Braking per Period | F6: Total Braking Time
B7: =AVERAGE('WLTP Calcs'!V3:V1803) -> 10.587042 | D7: =AVERAGE('WLTP Calcs'!T3:T1803) -> 0.31030695 | F7: ='WLTP Calcs'!T1805 -> 377
B8: After Generator Losses | F8: No of Braking Events
B9: Lost Energy over WLTP | D9: Recovered Energy from WLTP | F9: ='WLTP Calcs'!U1805 -> 53
B10: ='WLTP Calcs'!S1803-'WLTP Calcs'!U1803 -> 3746.2848 | D10: ='WLTP Calcs'!W1803 -> 491.79928 | F10: Average Event Time
F11: =F7/F9 -> 7.1132075
B12: Maximum Braking Period | D12: Maximum Recovered Period
B13: =B4*F4 -> 48.350138 | D13: =B4*F4 -> 48.350138 | F13: Power Required (kW)
F14: =D13/F11 -> 6.7972343
B15: Power (kW)
B16: Maximum Braking Period | D16: Maximum Braking per Period | F16: System Efficiencies
B17: =MAX('WLTP Calcs'!V12:V1812) -> 54.943339 | D17: =MAX('WLTP Calcs'!O3:O1803) -> 6.5141959 | F17: Storage
F18: 0.95
B19: Average Braking Period | D19: Average Braking per Period
B20: =AVERAGE('WLTP Calcs'!V12:V1812) -> 10.587042 | D20: =AVERAGE('WLTP Calcs'!O3:O1803) -> 0.31573593 | F20: Inverter
F21: 0.9
B22: Supercapcitor Array Calculations
B23: System Vmax | D23: System Vmin | F23: Contoller
B24: 72 | D24: 48 | F24: 0.95
B26: Total Capacitance | D26: Max Cell Voltage | F26: Motor
B27: =(2*(D13*1000))/(B24^2-D24^2) -> 33.576485 | D27: 2.7 | F27: 0.88
B29: Cells Required | D29: Individual Capacitance | F29: Overall Efficiency
B30: =ROUNDUP((B24/D27),0.1) -> 27 | D30: =B30*B27 -> 906.56509 | F30: =F4*F27*F18*F21^2*F24^2 -> 0.53780047

Sheet Resistive Forces

Sheet Accelaration Force

Sheet Power

Sheet Energy

Sheet Cumulative Energy

Sheet Energy Losses
