Workbook

Sheet Bike Data
B2: ITEM | C2: VALUE | D2: UNIT
B3: Kerb Mass | C3: 183 | D3: kg
B4: Test Mass | C4: =C3+100 -> 283 | D4: kg
B5: Power | C5: 87500 | D5: W
B6: Frontal Area | C6: 0.48 | D6: m^2
B7: Cd | C7: 0.7
B8: Wheel Mass | C8: 14 | D8: kg
B9: Wheel Rad | C9: 0.305 | D9: m
B10: Wheel Inertia | C10: =C8*C9^2 -> 1.30235
B12: Air Density | C12: 1.225 | D12: kg/m^3

Sheet WLTP Calcs
A1: Phase | B1: Total Time | C1: Phase Time | D1: Vehicle Speed | E1: Vehicle Speed | F1: Vehicle Acc | G1: Acc Res | H1: Aero Res | I1: Roll Res | J1: Total Force | K1: Acc Force | L1: Decell Force | M1: Power | N1: Tractive | O1: Braking | P1: Braking | Q1: Energy | R1: Tractive | S1: Tractive | T1: Braking | U1: Braking | V1: Braking | W1: Braking | X1: Power | Y1: Energy | Z1: Energy Returned
A2: Phase | B2: s | C2: s | D2: km/h | E2: m/s | F2: m/s^2 | G2: N | H2: N | I2: N | J2: N | K2: N | L2: N | M2: kW | N2: kW | O2: kW | P2: Total Moment | Q2: kJ | R2: kJ | S2: Cumulative | T2: kJ | U2: Cumulative | V2: Total Moment | W2: After Generator | X2: Returned (kW) | Y2: Returned (kJ) | Z2: Cumulative
A3: Low | B3: 0 | C3: 0 | D3: 0 | E3: {=D3:D1803*(10/36)} -> 0 | F3: 0 | G3: ='Bike Data'!$C$4*$F3 -> 0 | H3: =0.5*'Bike Data'!$C$12*'Bike Data'!$C$7*'Bike Data'!$C$6*E3^2 -> 0 | I3: =0.02 *'Bike Data'!C$4*9.81 -> 55.5246 | J3: =SUM(G3:I3) -> 55.5246 | K3: =IF(J3>0,J3,) -> 55.5246 | L3: =IF(J3<0,J3,)*-1 -> 0 | M3: =(E3/1000)*(I3+H3+('Bike Data'!C$4*'Bike Data'!C$10*F3)) -> 0 | N3: =IF(M3>0,M3,) -> 0 | O3: =ABS(IF(M3<0,M3,)) -> 0 | Q3: =((M3+M4)/2) * (B4 - B3) -> 0 | R3: =IF(Q3>0,Q3,) -> 0 | S3: =SUM($R$3:R3) -> 0 | T3: =ABS(IF(Q3<0,Q3,)) -> 0 | U3: =SUM($T$3:T3) -> 0 | W3: =U3*'KERS Calcs'!$F$4 -> 0 | X3: =O3*'KERS Calcs'!$F$30 -> 0 | Y3: =T3*'KERS Calcs'!$F$30 -> 0 | Z3: =SUM($Y$3:Y3) -> 0
A4: Low | B4: 1 | C4: 1 | D4: 0 | E4: 0 | F4: 0 | G4: ='Bike Data'!$C$4*$F4 -> 0 | H4: =0.5*'Bike Data'!$C$12*'Bike Data'!$C$7*'Bike Data'!$C$6*'WLTP Calcs'!E4^2 -> 0 | I4: =0.02 *'Bike Data'!C$4*9.81 -> 55.5246 | J4: =SUM(G4:I4) -> 55.5246 | K4: =IF(J4>0,J4,) -> 55.5246 | L4: =IF(J4<0,J4,)*-1 -> 0 | M4: =(E4/1000)*(I4+H4+('Bike Data'!C$4*'Bike Data'!C$10*F4)) -> 0 | N4: =IF(M4>0,M4,) -> 0 | O4: =ABS(IF(M4<0,M4,)) -> 0 | Q4: =((M4+M5)/2) * (B5 - B4) -> 0 | R4: =IF(Q4>0,Q4,) -> 0 | S4: =SUM($R$3:R4) -> 0 | T4: =ABS(IF(Q4<0,Q4,)) -> 0 | U4: =SUM($T$3:T4) -> 0 | W4: =U4*'KERS Calcs'!$F$4 -> 0 | X4: =O4*'KERS Calcs'!$F$30 -> 0 | Y4: =T4*'KERS Calcs'!$F$30 -> 0 | Z4: =SUM($Y$3:Y4) -> 0
A5: Low | B5: 2 | C5: 2 | D5: 0 | E5: 0 | F5: 0 | G5: ='Bike Data'!$C$4*$F5 -> 0 | H5: =0.5*'Bike Data'!$C$12*'Bike Data'!$C$7*'Bike Data'!$C$6*'WLTP Calcs'!E5^2 -> 0 | I5: =0.02 *'Bike Data'!C$4*9.81 -> 55.5246 | J5: =SUM(G5:I5) -> 55.5246 | K5: =IF(J5>0,J5,) -> 55.5246 | L5: =IF(J5<0,J5,)*-1 -> 0 | M5: =(E5/1000)*(I5+H5+('Bike Data'!C$4*'Bike Data'!C$10*F5)) -> 0 | N5: =IF(M5>0,M5,) -> 0 | O5: =ABS(IF(M5<0,M5,)) -> 0 | Q5: =((M5+M6)/2) * (B6 - B5) -> 0 | R5: =IF(Q5>0,Q5,) -> 0 | S5: =SUM($R$3:R5) -> 0 | T5: =ABS(IF(Q5<0,Q5,)) -> 0 | U5: =SUM($T$3:T5) -> 0 | W5: =U5*'KERS Calcs'!$F$4 -> 0 | X5: =O5*'KERS Calcs'!$F$30 -> 0 | Y5: =T5*'KERS Calcs'!$F$30 -> 0 | Z5: =SUM($Y$3:Y5) -> 0
A6: Low | B6: 3 | C6: 3 | D6: 0 | E6: 0 | F6: 0 | G6: ='Bike Data'!$C$4*$F6 -> 0 | H6: =0.5*'Bike Data'!$C$12*'Bike Data'!$C$7*'Bike Data'!$C$6*'WLTP Calcs'!E6^2 -> 0 | I6: =0.02 *'Bike Data'!C$4*9.81 -> 55.5246 | J6: =SUM(G6:I6) -> 55.5246 | K6: =IF(J6>0,J6,) -> 55.5246 | L6: =IF(J6<0,J6,)*-1 -> 0 | M6: =(E6/1000)*(I6+H6+('Bike Data'!C$4*'Bike Data'!C$10*F6)) -> 0 | N6: =IF(M6>0,M6,) -> 0 | O6: =ABS(IF(M6<0,M6,)) -> 0 | Q6: =((M6+M7)/2) * (B7 - B6) -> 0 | R6: =IF(Q6>0,Q6,) -> 0 | S6: =SUM($R$3:R6) -> 0 | T6: =ABS(IF(Q6<0,Q6,)) -> 0 | U6: =SUM($T$3:T6) -> 0 | W6: =U6*'KERS Calcs'!$F$4 -> 0 | X6: =O6*'KERS Calcs'!$F$30 -> 0 | Y6: =T6*'KERS Calcs'!$F$30 -> 0 | Z6: =SUM($Y$3:Y6) -> 0
A7: Low | B7: 4 | C7: 4 | D7: 0 | E7: 0 | F7: 0 | G7: ='Bike Data'!$C$4*$F7 -> 0 | H7: =0.5*'Bike Data'!$C$12*'Bike Data'!$C$7*'Bike Data'!$C$6*'WLTP Calcs'!E7^2 -> 0 | I7: =0.02 *'Bike Data'!C$4*9.81 -> 55.5246 | J7: =SUM(G7:I7) -> 55.5246 | K7: =IF(J7>0,J7,) -> 55.5246 | L7: =IF(J7<0,J7,)*-1 -> 0 | M7: =(E7/1000)*(I7+H7+('Bike Data'!C$4*'Bike Data'!C$10*F7)) -> 0 | N7: =IF(M7>0,M7,) -> 0 | O7: =ABS(IF(M7<0,M7,)) -> 0 | Q7: =((M7+M8)/2) * (B8 - B7) -> 0 | R7: =IF(Q7>0,Q7,) -> 0 | S7: =SUM($R$3:R7) -> 0 | T7: =ABS(IF(Q7<0,Q7,)) -> 0 | U7: =SUM($T$3:T7) -> 0 | W7: =U7*'KERS Calcs'!$F$4 -> 0 | X7: =O7*'KERS Calcs'!$F$30 -> 0 | Y7: =T7*'KERS Calcs'!$F$30 -> 0 | Z7: =SUM($Y$3:Y7) -> 0
A8: Low | B8: 5 | C8: 5 | D8: 0 | E8: 0 | F8: 0 | G8: ='Bike Data'!$C$4*$F8 -> 0 | H8: =0.5*'Bike Data'!$C$12*'Bike Data'!$C$7*'Bike Data'!$C$6*'WLTP Calcs'!E8^2 -> 0 | I8: =0.02 *'Bike Data'!C$4*9.81 -> 55.5246 | J8: =SUM(G8:I8) -> 55.5246 | K8: =IF(J8>0,J8,) -> 55.5246 | L8: =IF(J8<0,J8,)*-1 -> 0 | M8: =(E8/1000)*(I8+H8+('Bike Data'!C$4*'Bike Data'!C$10*F8)) -> 0 | N8: =IF(M8>0,M8,) -> 0 | O8: =ABS(IF(M8<0,M8,)) -> 0 | Q8: =((M8+M9)/2) * (B9 - B8) -> 0 | R8: =IF(Q8>0,Q8,) -> 0 | S8: =SUM($R$3:R8) -> 0 | T8: =ABS(IF(Q8<0,Q8,)) -> 0 | U8: =SUM($T$3:T8) -> 0 | W8: =U8*'KERS Calcs'!$F$4 -> 0 | X8: =O8*'KERS Calcs'!$F$30 -> 0 | Y8: =T8*'KERS Calcs'!$F$30 -> 0 | Z8: =SUM($Y$3:Y8) -> 0
A9: Low | B9: 6 | C9: 6 | D9: 0 | E9: 0 | F9: 0 | G9: ='Bike Data'!$C$4*$F9 -> 0 | H9: =0.5*'Bike Data'!$C$12*'Bike Data'!$C$7*'Bike Data'!$C$6*'WLTP Calcs'!E9^2 -> 0 | I9: =0.02 *'Bike Data'!C$4*9.81 -> 55.5246 | J9: =SUM(G9:I9) -> 55.5246 | K9: =IF(J9>0,J9,) -> 55.5246 | L9: =IF(J9<0,J9,)*-1 -> 0 | M9: =(E9/1000)*(I9+H9+('Bike Data'!C$4*'Bike Data'!C$10*F9)) -> 0 | N9: =IF(M9>0,M9,) -> 0 | O9: =ABS(IF(M9<0,M9,)) -> 0 | Q9: =((M9+M10)/2) * (B10 - B9) -> 0 | R9: =IF(Q9>0,Q9,) -> 0 | S9: =SUM($R$3:R9) -> 0 | T9: =ABS(IF(Q9<0,Q9,)) -> 0 | U9: =SUM($T$3:T9) -> 0 | W9: =U9*'KERS Calcs'!$F$4 -> 0 | X9: =O9*'KERS Calcs'!$F$30 -> 0 | Y9: =T9*'KERS Calcs'!$F$30 -> 0 | Z9: =SUM($Y$3:Y9) -> 0
A10: Low | B10: 7 | C10: 7 | D10: 0 | E10: 0 | F10: 0 | G10: ='Bike Data'!$C$4*$F10 -> 0 | H10: =0.5*'Bike Data'!$C$12*'Bike Data'!$C$7*'Bike Data'!$C$6*'WLTP Calcs'!E10^2 -> 0 | I10: =0.02 *'Bike Data'!C$4*9.81 -> 55.5246 | J10: =SUM(G10:I10) -> 55.5246 | K10: =IF(J10>0,J10,) -> 55.5246 | L10: =IF(J10<0,J10,)*-1 -> 0 | M10: =(E10/1000)*(I10+H10+('Bike Data'!C$4*'Bike Data'!C$10*F10)) -> 0 | N10: =IF(M10>0,M10,) -> 0 | O10: =ABS(IF(M10<0,M10,)) -> 0 | Q10: =((M10+M11)/2) * (B11 - B10) -> 0 | R10: =IF(Q10>0,Q10,) -> 0 | S10: =SUM($R$3:R10) -> 0 | T10: =ABS(IF(Q10<0,Q10,)) -> 0 | U10: =SUM($T$3:T10) -> 0 | W10: =U10*'KERS Calcs'!$F$4 -> 0 | X10: =O10*'KERS Calcs'!$F$30 -> 0 | Y10: =T10*'KERS Calcs'!$F$30 -> 0 | Z10: =SUM($Y$3:Y10) -> 0
A11: Low | B11: 8 | C11: 8 | D11: 0 | E11: 0 | F11: 0 | G11: ='Bike Data'!$C$4*$F11 -> 0 | H11: =0.5*'Bike Data'!$C$12*'Bike Data'!$C$7*'Bike Data'!$C$6*'WLTP Calcs'!E11^2 -> 0 | I11: =0.02 *'Bike Data'!C$4*9.81 -> 55.5246 | J11: =SUM(G11:I11) -> 55.5246 | K11: =IF(J11>0,J11,) -> 55.5246 | L11: =IF(J11<0,J11,)*-1 -> 0 | M11: =(E11/1000)*(I11+H11+('Bike Data'!C$4*'Bike Data'!C$10*F11)) -> 0 | N11: =IF(M11>0,M11,) -> 0 | O11: =ABS(IF(M11<0,M11,)) -> 0 | Q11: =((M11+M12)/2) * (B12 - B11) -> 0 | R11: =IF(Q11>0,Q11,) -> 0 | S11: =SUM($R$3:R11) -> 0 | T11: =ABS(IF(Q11<0,Q11,)) -> 0 | U11: =SUM($T$3:T11) -> 0 | W11: =U11*'KERS Calcs'!$F$4 -> 0 | X11: =O11*'KERS Calcs'!$F$30 -> 0 | Y11: =T11*'KERS Calcs'!$F$30 -> 0 | Z11: =SUM($Y$3:Y11) -> 0
A12: Low | B12: 9 | C12: 9 | D12: 0 | E12: 0 | F12: 0 | G12: ='Bike Data'!$C$4*$F12 -> 0 | H12: =0.5*'Bike Data'!$C$12*'Bike Data'!$C$7*'Bike Data'!$C$6*'WLTP Calcs'!E12^2 -> 0 | I12: =0.02 *'Bike Data'!C$4*9.81 -> 55.5246 | J12: =SUM(G12:I12) -> 55.5246 | K12: =IF(J12>0,J12,) -> 55.5246 | L12: =IF(J12<0,J12,)*-1 -> 0 | M12: =(E12/1000)*(I12+H12+('Bike Data'!C$4*'Bike Data'!C$10*F12)) -> 0 | N12: =IF(M12>0,M12,) -> 0 | O12: =ABS(IF(M12<0,M12,)) -> 0 | Q12: =((M12+M13)/2) * (B13 - B12) -> 0 | R12: =IF(Q12>0,Q12,) -> 0 | S12: =SUM($R$3:R12) -> 0 | T12: =ABS(IF(Q12<0,Q12,)) -> 0 | U12: =SUM($T$3:T12) -> 0 | W12: =U12*'KERS Calcs'!$F$4 -> 0 | X12: =O12*'KERS Calcs'!$F$30 -> 0 | Y12: =T12*'KERS Calcs'!$F$30 -> 0 | Z12: =SUM($Y$3:Y12) -> 0
A13: Low | B13: 10 | C13: 10 | D13: 0 | E13: 0 | F13: 0 | G13: ='Bike Data'!$C$4*$F13 -> 0 | H13: =0.5*'Bike Data'!$C$12*'Bike Data'!$C$7*'Bike Data'!$C$6*'WLTP Calcs'!E13^2 -> 0 | I13: =0.02 *'Bike Data'!C$4*9.81 -> 55.5246 | J13: =SUM(G13:I13) -> 55.5246 | K13: =IF(J13>0,J13,) -> 55.5246 | L13: =IF(J13<0,J13,)*-1 -> 0 | M13: =(E13/1000)*(I13+H13+('Bike Data'!C$4*'Bike Data'!C$10*F13)) -> 0 | N13: =IF(M13>0,M13,) -> 0 | O13: =ABS(IF(M13<0,M13,)) -> 0 | Q13: =((M13+M14)/2) * (B14 - B13) -> 0 | R13: =IF(Q13>0,Q13,) -> 0 | S13: =SUM($R$3:R13) -> 0 | T13: =ABS(IF(Q13<0,Q13,)) -> 0 | U13: =SUM($T$3:T13) -> 0 | W13: =U13*'KERS Calcs'!$F$4 -> 0 | X13: =O13*'KERS Calcs'!$F$30 -> 0 | Y13: =T13*'KERS Calcs'!$F$30 -> 0 | Z13: =SUM($Y$3:Y13) -> 0
A14: Low | B14: 11 | C14: 11 | D14: 0 | E14: 0 | F14: 0.027777778 | G14: ='Bike Data'!$C$4*$F14 -> 7.8611111 | H14: =0.5*'Bike Data'!$C$12*'Bike Data'!$C$7*'Bike Data'!$C$6*'WLTP Calcs'!E14^2 -> 0 | I14: =0.02 *'Bike Data'!C$4*9.81 -> 55.5246 | J14: =SUM(G14:I14) -> 63.385711 | K14: =IF(J14>0,J14,) -> 63.385711 | L14: =IF(J14<0,J14,)*-1 -> 0 | M14: =(E14/1000)*(I14+H14+('Bike Data'!C$4*'Bike Data'!C$10*F14)) -> 0 | N14: =IF(M14>0,M14,) -> 0 | O14: =ABS(IF(M14<0,M14,)) -> 0 | Q14: =((M14+M15)/2) * (B15 - B14) -> 0.0039596539 | R14: =IF(Q14>0,Q14,) -> 0.0039596539 | S14: =SUM($R$3:R14) -> 0.0039596539 | T14: =ABS(IF(Q14<0,Q14,)) -> 0 | U14: =SUM($T$3:T14) -> 0 | W14: =U14*'KERS Calcs'!$F$4 -> 0 | X14: =O14*'KERS Calcs'!$F$30 -> 0 | Y14: =T14*'KERS Calcs'!$F$30 -> 0 | Z14: =SUM($Y$3:Y14) -> 0
A15: Low | B15: 12 | C15: 12 | D15: 0.2 | E15: 0.055555556 | F15: 0.23611111 | G15: ='Bike Data'!$C$4*$F15 -> 66.819444 | H15: =0.5*'Bike Data'!$C$12*'Bike Data'!$C$7*'Bike Data'!$C$6*'WLTP Calcs'!E15^2 -> 0.00063518519 | I15: =0.02 *'Bike Data'!C$4*9.81 -> 55.5246 | J15: =SUM(G15:I15) -> 122.34468 | K15: =IF(J15>0,J15,) -> 122.34468 | L15: =IF(J15<0,J15,)*-1 -> 0 | M15: =(E15/1000)*(I15+H15+('Bike Data'!C$4*'Bike Data'!C$10*F15)) -> 0.0079193077 | N15: =IF(M15>0,M15,) -> 0.0079193077 | O15: =ABS(IF(M15<0,M15,)) -> 0 | Q15: =((M15+M16)/2) * (B16 - B15) -> 0.079929906 | R15: =IF(Q15>0,Q15,) -> 0.079929906 | S15: =SUM($R$3:R15) -> 0.08388956 | T15: =ABS(IF(Q15<0,Q15,)) -> 0 | U15: =SUM($T$3:T15) -> 0 | W15: =U15*'KERS Calcs'!$F$4 -> 0 | X15: =O15*'KERS Calcs'!$F$30 -> 0 | Y15: =T15*'KERS Calcs'!$F$30 -> 0 | Z15: =SUM($Y$3:Y15) -> 0
... A38: Low | B38: 35 | C38: 35 | D38: 44.5 | E38: 12.361111 | F38: -0.027777778 | G38: ='Bike Data'!$C$4*$F38 -> -7.8611111 | H38: =0.5*'Bike Data'!$C$12*'Bike Data'!$C$7*'Bike Data'!$C$6*'WLTP Calcs'!E38^2 -> 31.445637 | I38: =0.02 *'Bike Data'!C$4*9.81 -> 55.5246 | J38: =SUM(G38:I38) -> 79.109125 | K38: =IF(J38>0,J38,) -> 79.109125 | L38: =IF(J38<0,J38,)*-1 -> 0 | M38: =(E38/1000)*(I38+H38+('Bike Data'!C$4*'Bike Data'!C$10*F38)) -> 0.94849672 | N38: =IF(M38>0,M38,) -> 0.94849672 | O38: =ABS(IF(M38<0,M38,)) -> 0 | Q38: =((M38+M39)/2) * (B39 - B38) -> 0.43990997 | R38: =IF(Q38>0,Q38,) -> 0.43990997 | S38: =SUM($R$3:R38) -> 41.998321 | T38: =ABS(IF(Q38<0,Q38,)) -> 0 | U38: =SUM($T$3:T38) -> 0 | W38: =U38*'KERS Calcs'!$F$4 -> 0 | X38: =O38*'KERS Calcs'!$F$30 -> 0 | Y38: =T38*'KERS Calcs'!$F$30 -> 0 | Z38: =SUM($Y$3:Y38) -> 0
A39: Low | B39: 36 | C39: 36 | D39: 44.2 | E39: 12.277778 | F39: -0.25 | G39: ='Bike Data'!$C$4*$F39 -> -70.75 | H39: =0.5*'Bike Data'!$C$12*'Bike Data'!$C$7*'Bike Data'!$C$6*'WLTP Calcs'!E39^2 -> 31.02308 | I39: =0.02 *'Bike Data'!C$4*9.81 -> 55.5246 | J39: =SUM(G39:I39) -> 15.79768 | K39: =IF(J39>0,J39,) -> 15.79768 | L39: =IF(J39<0,J39,)*-1 -> 0 | M39: =(E39/1000)*(I39+H39+('Bike Data'!C$4*'Bike Data'!C$10*F39)) -> -0.068676767 | N39: =IF(M39>0,M39,) -> 0 | O39: =ABS(IF(M39<0,M39,)) -> 0.068676767 | P39: =SUM(O39:O56) -> 16.81886 | Q39: =((M39+M40)/2) * (B40 - B39) -> -0.83874392 | R39: =IF(Q39>0,Q39,) -> 0 | S39: =SUM($R$3:R39) -> 41.998321 | T39: =ABS(IF(Q39<0,Q39,)) -> 0.83874392 | U39: =SUM($T$3:T39) -> 0.83874392 | V39: =SUM(T39:T56) -> 16.61609 | W39: =U39*'KERS Calcs'!$F$4 -> 0.73809465 | X39: =O39*'KERS Calcs'!$F$30 -> 0.036934398 | Y39: =T39*'KERS Calcs'!$F$30 -> 0.45107688 | Z39: =SUM($Y$3:Y39) -> 0.45107688
A40: Low | B40: 37 | C40: 37 | D40: 42.7 | E40: 11.861111 | F40: -0.59722222 | G40: ='Bike Data'!$C$4*$F40 -> -169.01389 | H40: =0.5*'Bike Data'!$C$12*'Bike Data'!$C$7*'Bike Data'!$C$6*'WLTP Calcs'!E40^2 -> 28.95317 | I40: =0.02 *'Bike Data'!C$4*9.81 -> 55.5246 | J40: =SUM(G40:I40) -> -84.536119 | K40: =IF(J40>0,J40,) -> 0 | L40: =IF(J40<0,J40,)*-1 -> 84.536119 | M40: =(E40/1000)*(I40+H40+('Bike Data'!C$4*'Bike Data'!C$10*F40)) -> -1.6088111 | N40: =IF(M40>0,M40,) -> 0 | O40: =ABS(IF(M40<0,M40,)) -> 1.6088111 | Q40: =((M40+M41)/2) * (B41 - B40) -> -1.9735616 | R40: =IF(Q40>0,Q40,) -> 0 | S40: =SUM($R$3:R40) -> 41.998321 | T40: =ABS(IF(Q40<0,Q40,)) -> 1.9735616 | U40: =SUM($T$3:T40) -> 2.8123056 | W40: =U40*'KERS Calcs'!$F$4 -> 2.4748289 | X40: =O40*'KERS Calcs'!$F$30 -> 0.86521936 | Y40: =T40*'KERS Calcs'!$F$30 -> 1.0613824 | Z40: =SUM($Y$3:Y40) -> 1.5124593
A41: Low | B41: 38 | C41: 38 | D41: 39.9 | E41: 11.083333 | F41: -0.79166667 | G41: ='Bike Data'!$C$4*$F41 -> -224.04167 | H41: =0.5*'Bike Data'!$C$12*'Bike Data'!$C$7*'Bike Data'!$C$6*'WLTP Calcs'!E41^2 -> 25.280529 | I41: =0.02 *'Bike Data'!C$4*9.81 -> 55.5246 | J41: =SUM(G41:I41) -> -143.23654 | K41: =IF(J41>0,J41,) -> 0 | L41: =IF(J41<0,J41,)*-1 -> 143.23654 | M41: =(E41/1000)*(I41+H41+('Bike Data'!C$4*'Bike Data'!C$10*F41)) -> -2.3383122 | N41: =IF(M41>0,M41,) -> 0 | O41: =ABS(IF(M41<0,M41,)) -> 2.3383122 | Q41: =((M41+M42)/2) * (B42 - B41) -> -2.1663113 | R41: =IF(Q41>0,Q41,) -> 0 | S41: =SUM($R$3:R41) -> 41.998321 | T41: =ABS(IF(Q41<0,Q41,)) -> 2.1663113 | U41: =SUM($T$3:T41) -> 4.9786169 | W41: =U41*'KERS Calcs'!$F$4 -> 4.3811828 | X41: =O41*'KERS Calcs'!$F$30 -> 1.2575454 | Y41: =T41*'KERS Calcs'!$F$30 -> 1.1650432 | Z41: =SUM($Y$3:Y41) -> 2.6775025
A42: Low | B42: 39 | C42: 39 | D42: 37 | E42: 10.277778 | F42: -0.73611111 | G42: ='Bike Data'!$C$4*$F42 -> -208.31944 | H42: =0.5*'Bike Data'!$C$12*'Bike Data'!$C$7*'Bike Data'!$C$6*'WLTP Calcs'!E42^2 -> 21.739213 | I42: =0.02 *'Bike Data'!C$4*9.81 -> 55.5246 | J42: =SUM(G42:I42) -> -131.05563 | K42: =IF(J42>0,J42,) -> 0 | L42: =IF(J42<0,J42,)*-1 -> 131.05563 | M42: =(E42/1000)*(I42+H42+('Bike Data'!C$4*'Bike Data'!C$10*F42)) -> -1.9943104 | N42: =IF(M42>0,M42,) -> 0 | O42: =ABS(IF(M42<0,M42,)) -> 1.9943104 | Q42: =((M42+M43)/2) * (B43 - B42) -> -1.7951466 | R42: =IF(Q42>0,Q42,) -> 0 | S42: =SUM($R$3:R42) -> 41.998321 | T42: =ABS(IF(Q42<0,Q42,)) -> 1.7951466 | U42: =SUM($T$3:T42) -> 6.7737635 | W42: =U42*'KERS Calcs'!$F$4 -> 5.9609119 | X42: =O42*'KERS Calcs'!$F$30 -> 1.0725411 | Y42: =T42*'KERS Calcs'!$F$30 -> 0.96543071 | Z42: =SUM($Y$3:Y42) -> 3.6429332
A43: Low | B43: 40 | C43: 40 | D43: 34.6 | E43: 9.6111111 | F43: -0.65277778 | G43: ='Bike Data'!$C$4*$F43 -> -184.73611 | H43: =0.5*'Bike Data'!$C$12*'Bike Data'!$C$7*'Bike Data'!$C$6*'WLTP Calcs'!E43^2 -> 19.010457 | I43: =0.02 *'Bike Data'!C$4*9.81 -> 55.5246 | J43: =SUM(G43:I43) -> -110.20105 | K43: =IF(J43>0,J43,) -> 0 | L43: =IF(J43<0,J43,)*-1 -> 110.20105 | M43: =(E43/1000)*(I43+H43+('Bike Data'!C$4*'Bike Data'!C$10*F43)) -> -1.5959828 | N43: =IF(M43>0,M43,) -> 0 | O43: =ABS(IF(M43<0,M43,)) -> 1.5959828 | Q43: =((M43+M44)/2) * (B44 - B43) -> -1.7605765 | R43: =IF(Q43>0,Q43,) -> 0 | S43: =SUM($R$3:R43) -> 41.998321 | T43: =ABS(IF(Q43<0,Q43,)) -> 1.7605765 | U43: =SUM($T$3:T43) -> 8.53434 | W43: =U43*'KERS Calcs'!$F$4 -> 7.5102192 | X43: =O43*'KERS Calcs'!$F$30 -> 0.85832032 | Y43: =T43*'KERS Calcs'!$F$30 -> 0.94683886 | Z43: =SUM($Y$3:Y43) -> 4.5897721
A44: Low | B44: 41 | C44: 41 | D44: 32.3 | E44: 8.9722222 | F44: -0.77777778 | G44: ='Bike Data'!$C$4*$F44 -> -220.11111 | H44: =0.5*'Bike Data'!$C$12*'Bike Data'!$C$7*'Bike Data'!$C$6*'WLTP Calcs'!E44^2 -> 16.567059 | I44: =0.02 *'Bike Data'!C$4*9.81 -> 55.5246 | J44: =SUM(G44:I44) -> -148.01945 | K44: =IF(J44>0,J44,) -> 0 | L44: =IF(J44<0,J44,)*-1 -> 148.01945 | M44: =(E44/1000)*(I44+H44+('Bike Data'!C$4*'Bike Data'!C$10*F44)) -> -1.9251701 | N44: =IF(M44>0,M44,) -> 0 | O44: =ABS(IF(M44<0,M44,)) -> 1.9251701 | Q44: =((M44+M45)/2) * (B45 - B44) -> -2.1696524 | R44: =IF(Q44>0,Q44,) -> 0 | S44: =SUM($R$3:R44) -> 41.998321 | T44: =ABS(IF(Q44<0,Q44,)) -> 2.1696524 | U44: =SUM($T$3:T44) -> 10.703992 | W44: =U44*'KERS Calcs'!$F$4 -> 9.4195133 | X44: =O44*'KERS Calcs'!$F$30 -> 1.0353574 | Y44: =T44*'KERS Calcs'!$F$30 -> 1.1668401 | Z44: =SUM($Y$3:Y44) -> 5.7566122
A45: Low | B45: 42 | C45: 42 | D45: 29 | E45: 8.0555556 | F45: -1 | G45: ='Bike Data'!$C$4*$F45 -> -283 | H45: =0.5*'Bike Data'!$C$12*'Bike Data'!$C$7*'Bike Data'!$C$6*'WLTP Calcs'!E45^2 -> 13.354769 | I45: =0.02 *'Bike Data'!C$4*9.81 -> 55.5246 | J45: =SUM(G45:I45) -> -214.12063 | K45: =IF(J45>0,J45,) -> 0 | L45: =IF(J45<0,J45,)*-1 -> 214.12063 | M45: =(E45/1000)*(I45+H45+('Bike Data'!C$4*'Bike Data'!C$10*F45)) -> -2.4141347 | N45: =IF(M45>0,M45,) -> 0 | O45: =ABS(IF(M45<0,M45,)) -> 2.4141347 | Q45: =((M45+M46)/2) * (B46 - B45) -> -2.1921039 | R45: =IF(Q45>0,Q45,) -> 0 | S45: =SUM($R$3:R45) -> 41.998321 | T45: =ABS(IF(Q45<0,Q45,)) -> 2.1921039 | U45: =SUM($T$3:T45) -> 12.896096 | W45: =U45*'KERS Calcs'!$F$4 -> 11.348565 | X45: =O45*'KERS Calcs'!$F$30 -> 1.2983228 | Y45: =T45*'KERS Calcs'!$F$30 -> 1.1789145 | Z45: =SUM($Y$3:Y45) -> 6.9355267
A46: Low | B46: 43 | C46: 43 | D46: 25.1 | E46: 6.9722222 | F46: -0.94444444 | G46: ='Bike Data'!$C$4*$F46 -> -267.27778 | H46: =0.5*'Bike Data'!$C$12*'Bike Data'!$C$7*'Bike Data'!$C$6*'WLTP Calcs'!E46^2 -> 10.004325 | I46: =0.02 *'Bike Data'!C$4*9.81 -> 55.5246 | J46: =SUM(G46:I46) -> -201.74885 | K46: =IF(J46>0,J46,) -> 0 | L46: =IF(J46<0,J46,)*-1 -> 201.74885 | M46: =(E46/1000)*(I46+H46+('Bike Data'!C$4*'Bike Data'!C$10*F46)) -> -1.9700731 | N46: =IF(M46>0,M46,) -> 0 | O46: =ABS(IF(M46<0,M46,)) -> 1.9700731 | Q46: =((M46+M47)/2) * (B47 - B46) -> -1.4526104 | R46: =IF(Q46>0,Q46,) -> 0 | S46: =SUM($R$3:R46) -> 41.998321 | T46: =ABS(IF(Q46<0,Q46,)) -> 1.4526104 | U46: =SUM($T$3:T46) -> 14.348707 | W46: =U46*'KERS Calcs'!$F$4 -> 12.626862 | X46: =O46*'KERS Calcs'!$F$30 -> 1.0595063 | Y46: =T46*'KERS Calcs'!$F$30 -> 0.78121455 | Z46: =SUM($Y$3:Y46) -> 7.7167412
A47: Low | B47: 44 | C47: 44 | D47: 22.2 | E47: 6.1666667 | F47: -0.58333333 | G47: ='Bike Data'!$C$4*$F47 -> -165.08333 | H47: =0.5*'Bike Data'!$C$12*'Bike Data'!$C$7*'Bike Data'!$C$6*'WLTP Calcs'!E47^2 -> 7.8261167 | I47: =0.02 *'Bike Data'!C$4*9.81 -> 55.5246 | J47: =SUM(G47:I47) -> -101.73262 | K47: =IF(J47>0,J47,) -> 0 | L47: =IF(J47<0,J47,)*-1 -> 101.73262 | M47: =(E47/1000)*(I47+H47+('Bike Data'!C$4*'Bike Data'!C$10*F47)) -> -0.93514764 | N47: =IF(M47>0,M47,) -> 0 | O47: =ABS(IF(M47<0,M47,)) -> 0.93514764 | Q47: =((M47+M48)/2) * (B48 - B47) -> -0.55372908 | R47: =IF(Q47>0,Q47,) -> 0 | S47: =SUM($R$3:R47) -> 41.998321 | T47: =ABS(IF(Q47<0,Q47,)) -> 0.55372908 | U47: =SUM($T$3:T47) -> 14.902436 | W47: =U47*'KERS Calcs'!$F$4 -> 13.114143 | X47: =O47*'KERS Calcs'!$F$30 -> 0.50292284 | Y47: =T47*'KERS Calcs'!$F$30 -> 0.29779576 | Z47: =SUM($Y$3:Y47) -> 8.014537
A48: Low | B48: 45 | C48: 45 | D48: 20.9 | E48: 5.8055556 | F48: -0.25 | G48: ='Bike Data'!$C$4*$F48 -> -70.75 | H48: =0.5*'Bike Data'!$C$12*'Bike Data'!$C$7*'Bike Data'!$C$6*'WLTP Calcs'!E48^2 -> 6.936381 | I48: =0.02 *'Bike Data'!C$4*9.81 -> 55.5246 | J48: =SUM(G48:I48) -> -8.289019 | K48: =IF(J48>0,J48,) -> 0 | L48: =IF(J48<0,J48,)*-1 -> 8.289019 | M48: =(E48/1000)*(I48+H48+('Bike Data'!C$4*'Bike Data'!C$10*F48)) -> -0.17231052 | N48: =IF(M48>0,M48,) -> 0 | O48: =ABS(IF(M48<0,M48,)) -> 0.17231052 | Q48: =((M48+M49)/2) * (B49 - B48) -> -0.11316361 | R48: =IF(Q48>0,Q48,) -> 0 | S48: =SUM($R$3:R48) -> 41.998321 | T48: =ABS(IF(Q48<0,Q48,)) -> 0.11316361 | U48: =SUM($T$3:T48) -> 15.015599 | W48: =U48*'KERS Calcs'!$F$4 -> 13.213727 | X48: =O48*'KERS Calcs'!$F$30 -> 0.092668681 | Y48: =T48*'KERS Calcs'!$F$30 -> 0.060859445 | Z48: =SUM($Y$3:Y48) -> 8.0753964
A49: Low | B49: 46 | C49: 46 | D49: 20.4 | E49: 5.6666667 | F49: -0.19444444 | G49: ='Bike Data'!$C$4*$F49 -> -55.027778 | H49: =0.5*'Bike Data'!$C$12*'Bike Data'!$C$7*'Bike Data'!$C$6*'WLTP Calcs'!E49^2 -> 6.6084667 | I49: =0.02 *'Bike Data'!C$4*9.81 -> 55.5246 | J49: =SUM(G49:I49) -> 7.1052889 | K49: =IF(J49>0,J49,) -> 7.1052889 | L49: =IF(J49<0,J49,)*-1 -> 0 | M49: =(E49/1000)*(I49+H49+('Bike Data'!C$4*'Bike Data'!C$10*F49)) -> -0.054016705 | N49: =IF(M49>0,M49,) -> 0 | O49: =ABS(IF(M49<0,M49,)) -> 0.054016705 | Q49: =((M49+M50)/2) * (B50 - B49) -> -0.13755264 | R49: =IF(Q49>0,Q49,) -> 0 | S49: =SUM($R$3:R49) -> 41.998321 | T49: =ABS(IF(Q49<0,Q49,)) -> 0.13755264 | U49: =SUM($T$3:T49) -> 15.153152 | W49: =U49*'KERS Calcs'!$F$4 -> 13.334774 | X49: =O49*'KERS Calcs'!$F$30 -> 0.029050209 | Y49: =T49*'KERS Calcs'!$F$30 -> 0.073975873 | Z49: =SUM($Y$3:Y49) -> 8.1493723
A50: Low | B50: 47 | C50: 47 | D50: 19.5 | E50: 5.4166667 | F50: -0.27777778 | G50: ='Bike Data'!$C$4*$F50 -> -78.611111 | H50: =0.5*'Bike Data'!$C$12*'Bike Data'!$C$7*'Bike Data'!$C$6*'WLTP Calcs'!E50^2 -> 6.0382292 | I50: =0.02 *'Bike Data'!C$4*9.81 -> 55.5246 | J50: =SUM(G50:I50) -> -17.048282 | K50: =IF(J50>0,J50,) -> 0 | L50: =IF(J50<0,J50,)*-1 -> 17.048282 | M50: =(E50/1000)*(I50+H50+('Bike Data'!C$4*'Bike Data'!C$10*F50)) -> -0.22108857 | N50: =IF(M50>0,M50,) -> 0 | O50: =ABS(IF(M50<0,M50,)) -> 0.22108857 | Q50: =((M50+M51)/2) * (B51 - B50) -> -0.17729922 | R50: =IF(Q50>0,Q50,) -> 0 | S50: =SUM($R$3:R50) -> 41.998321 | T50: =ABS(IF(Q50<0,Q50,)) -> 0.17729922 | U50: =SUM($T$3:T50) -> 15.330451 | W50: =U50*'KERS Calcs'!$F$4 -> 13.490797 | X50: =O50*'KERS Calcs'!$F$30 -> 0.11890154 | Y50: =T50*'KERS Calcs'!$F$30 -> 0.095351604 | Z50: =SUM($Y$3:Y50) -> 8.2447239
A51: Low | B51: 48 | C51: 48 | D51: 18.4 | E51: 5.1111111 | F51: -0.23611111 | G51: ='Bike Data'!$C$4*$F51 -> -66.819444 | H51: =0.5*'Bike Data'!$C$12*'Bike Data'!$C$7*'Bike Data'!$C$6*'WLTP Calcs'!E51^2 -> 5.3762074 | I51: =0.02 *'Bike Data'!C$4*9.81 -> 55.5246 | J51: =SUM(G51:I51) -> -5.918637 | K51: =IF(J51>0,J51,) -> 0 | L51: =IF(J51<0,J51,)*-1 -> 5.918637 | M51: =(E51/1000)*(I51+H51+('Bike Data'!C$4*'Bike Data'!C$10*F51)) -> -0.13350987 | N51: =IF(M51>0,M51,) -> 0 | O51: =ABS(IF(M51<0,M51,)) -> 0.13350987 | Q51: =((M51+M52)/2) * (B52 - B51) -> 0.0070214863 | R51: =IF(Q51>0,Q51,) -> 0.0070214863 | S51: =SUM($R$3:R51) -> 42.005342 | T51: =ABS(IF(Q51<0,Q51,)) -> 0 | U51: =SUM($T$3:T51) -> 15.330451 | W51: =U51*'KERS Calcs'!$F$4 -> 13.490797 | X51: =O51*'KERS Calcs'!$F$30 -> 0.07180167 | Y51: =T51*'KERS Calcs'!$F$30 -> 0 | Z51: =SUM($Y$3:Y51) -> 8.2447239
... A83: Low | B83: 80 | C83: 80 | D83: 39 | E83: 10.833333 | F83: -0.13888889 | G83: ='Bike Data'!$C$4*$F83 -> -39.305556 | H83: =0.5*'Bike Data'!$C$12*'Bike Data'!$C$7*'Bike Data'!$C$6*'WLTP Calcs'!E83^2 -> 24.152917 | I83: =0.02 *'Bike Data'!C$4*9.81 -> 55.5246 | J83: =SUM(G83:I83) -> 40.371961 | K83: =IF(J83>0,J83,) -> 40.371961 | L83: =IF(J83<0,J83,)*-1 -> 0 | M83: =(E83/1000)*(I83+H83+('Bike Data'!C$4*'Bike Data'!C$10*F83)) -> 0.3086192 | N83: =IF(M83>0,M83,) -> 0.3086192 | O83: =ABS(IF(M83<0,M83,)) -> 0 | Q83: =((M83+M84)/2) * (B84 - B83) -> 0.11174506 | R83: =IF(Q83>0,Q83,) -> 0.11174506 | S83: =SUM($R$3:R83) -> 73.615109 | T83: =ABS(IF(Q83<0,Q83,)) -> 0 | U83: =SUM($T$3:T83) -> 16.61609 | W83: =U83*'KERS Calcs'!$F$4 -> 14.622159 | X83: =O83*'KERS Calcs'!$F$30 -> 0 | Y83: =T83*'KERS Calcs'!$F$30 -> 0 | Z83: =SUM($Y$3:Y83) -> 8.9361411
A84: Low | B84: 81 | C84: 81 | D84: 38.5 | E84: 10.694444 | F84: -0.23611111 | G84: ='Bike Data'!$C$4*$F84 -> -66.819444 | H84: =0.5*'Bike Data'!$C$12*'Bike Data'!$C$7*'Bike Data'!$C$6*'WLTP Calcs'!E84^2 -> 23.537581 | I84: =0.02 *'Bike Data'!C$4*9.81 -> 55.5246 | J84: =SUM(G84:I84) -> 12.242737 | K84: =IF(J84>0,J84,) -> 12.242737 | L84: =IF(J84<0,J84,)*-1 -> 0 | M84: =(E84/1000)*(I84+H84+('Bike Data'!C$4*'Bike Data'!C$10*F84)) -> -0.085129087 | N84: =IF(M84>0,M84,) -> 0 | O84: =ABS(IF(M84<0,M84,)) -> 0.085129087 | Q84: =((M84+M85)/2) * (B85 - B84) -> -0.038247149 | R84: =IF(Q84>0,Q84,) -> 0 | S84: =SUM($R$3:R84) -> 73.615109 | T84: =ABS(IF(Q84<0,Q84,)) -> 0.038247149 | U84: =SUM($T$3:T84) -> 16.654337 | V84: =T84 -> 0.038247149 | W84: =U84*'KERS Calcs'!$F$4 -> 14.655817 | X84: =O84*'KERS Calcs'!$F$30 -> 0.045782463 | Y84: =T84*'KERS Calcs'!$F$30 -> 0.020569335 | Z84: =SUM($Y$3:Y84) -> 8.9567105
A85: Low | B85: 82 | C85: 82 | D85: 37.3 | E85: 10.361111 | F85: -0.20833333 | G85: ='Bike Data'!$C$4*$F85 -> -58.958333 | H85: =0.5*'Bike Data'!$C$12*'Bike Data'!$C$7*'Bike Data'!$C$6*'WLTP Calcs'!E85^2 -> 22.09317 | I85: =0.02 *'Bike Data'!C$4*9.81 -> 55.5246 | J85: =SUM(G85:I85) -> 18.659437 | K85: =IF(J85>0,J85,) -> 18.659437 | L85: =IF(J85<0,J85,)*-1 -> 0 | M85: =(E85/1000)*(I85+H85+('Bike Data'!C$4*'Bike Data'!C$10*F85)) -> 0.0086347893 | N85: =IF(M85>0,M85,) -> 0.0086347893 | O85: =ABS(IF(M85<0,M85,)) -> 0 | Q85: =((M85+M86)/2) * (B86 - B85) -> 0.24353297 | R85: =IF(Q85>0,Q85,) -> 0.24353297 | S85: =SUM($R$3:R85) -> 73.858642 | T85: =ABS(IF(Q85<0,Q85,)) -> 0 | U85: =SUM($T$3:T85) -> 16.654337 | W85: =U85*'KERS Calcs'!$F$4 -> 14.655817 | X85: =O85*'KERS Calcs'!$F$30 -> 0 | Y85: =T85*'KERS Calcs'!$F$30 -> 0 | Z85: =SUM($Y$3:Y85) -> 8.9567105
A86: Low | B86: 83 | C86: 83 | D86: 37 | E86: 10.277778 | F86: -0.083333333 | G86: ='Bike Data'!$C$4*$F86 -> -23.583333 | H86: =0.5*'Bike Data'!$C$12*'Bike Data'!$C$7*'Bike Data'!$C$6*'WLTP Calcs'!E86^2 -> 21.739213 | I86: =0.02 *'Bike Data'!C$4*9.81 -> 55.5246 | J86: =SUM(G86:I86) -> 53.68048 | K86: =IF(J86>0,J86,) -> 53.68048 | L86: =IF(J86<0,J86,)*-1 -> 0 | M86: =(E86/1000)*(I86+H86+('Bike Data'!C$4*'Bike Data'!C$10*F86)) -> 0.47843116 | N86: =IF(M86>0,M86,) -> 0.47843116 | O86: =ABS(IF(M86<0,M86,)) -> 0 | Q86: =((M86+M87)/2) * (B87 - B86) -> 0.34423959 | R86: =IF(Q86>0,Q86,) -> 0.34423959 | S86: =SUM($R$3:R86) -> 74.202881 | T86: =ABS(IF(Q86<0,Q86,)) -> 0 | U86: =SUM($T$3:T86) -> 16.654337 | W86: =U86*'KERS Calcs'!$F$4 -> 14.655817 | X86: =O86*'KERS Calcs'!$F$30 -> 0 | Y86: =T86*'KERS Calcs'!$F$30 -> 0 | Z86: =SUM($Y$3:Y86) -> 8.9567105
A87: Low | B87: 84 | C87: 84 | D87: 36.7 | E87: 10.194444 | F87: -0.15277778 | G87: ='Bike Data'!$C$4*$F87 -> -43.236111 | H87: =0.5*'Bike Data'!$C$12*'Bike Data'!$C$7*'Bike Data'!$C$6*'WLTP Calcs'!E87^2 -> 21.388114 | I87: =0.02 *'Bike Data'!C$4*9.81 -> 55.5246 | J87: =SUM(G87:I87) -> 33.676603 | K87: =IF(J87>0,J87,) -> 33.676603 | L87: =IF(J87<0,J87,)*-1 -> 0 | M87: =(E87/1000)*(I87+H87+('Bike Data'!C$4*'Bike Data'!C$10*F87)) -> 0.21004802 | N87: =IF(M87>0,M87,) -> 0.21004802 | O87: =ABS(IF(M87<0,M87,)) -> 0 | Q87: =((M87+M88)/2) * (B88 - B87) -> 0.12658893 | R87: =IF(Q87>0,Q87,) -> 0.12658893 | S87: =SUM($R$3:R87) -> 74.32947 | T87: =ABS(IF(Q87<0,Q87,)) -> 0 | U87: =SUM($T$3:T87) -> 16.654337 | W87: =U87*'KERS Calcs'!$F$4 -> 14.655817 | X87: =O87*'KERS Calcs'!$F$30 -> 0 | Y87: =T87*'KERS Calcs'!$F$30 -> 0 | Z87: =SUM($Y$3:Y87) -> 8.9567105
A88: Low | B88: 85 | C88: 85 | D88: 35.9 | E88: 9.9722222 | F88: -0.19444444 | G88: ='Bike Data'!$C$4*$F88 -> -55.027778 | H88: =0.5*'Bike Data'!$C$12*'Bike Data'!$C$7*'Bike Data'!$C$6*'WLTP Calcs'!E88^2 -> 20.465825 | I88: =0.02 *'Bike Data'!C$4*9.81 -> 55.5246 | J88: =SUM(G88:I88) -> 20.962648 | K88: =IF(J88>0,J88,) -> 20.962648 | L88: =IF(J88<0,J88,)*-1 -> 0 | M88: =(E88/1000)*(I88+H88+('Bike Data'!C$4*'Bike Data'!C$10*F88)) -> 0.043129852 | N88: =IF(M88>0,M88,) -> 0.043129852 | O88: =ABS(IF(M88<0,M88,)) -> 0 | Q88: =((M88+M89)/2) * (B89 - B88) -> 0.064540618 | R88: =IF(Q88>0,Q88,) -> 0.064540618 | S88: =SUM($R$3:R88) -> 74.394011 | T88: =ABS(IF(Q88<0,Q88,)) -> 0 | U88: =SUM($T$3:T88) -> 16.654337 | W88: =U88*'KERS Calcs'!$F$4 -> 14.655817 | X88: =O88*'KERS Calcs'!$F$30 -> 0 | Y88: =T88*'KERS Calcs'!$F$30 -> 0 | Z88: =SUM($Y$3:Y88) -> 8.9567105
A89: Low | B89: 86 | C89: 86 | D89: 35.3 | E89: 9.8055556 | F89: -0.18055556 | G89: ='Bike Data'!$C$4*$F89 -> -51.097222 | H89: =0.5*'Bike Data'!$C$12*'Bike Data'!$C$7*'Bike Data'!$C$6*'WLTP Calcs'!E89^2 -> 19.787448 | I89: =0.02 *'Bike Data'!C$4*9.81 -> 55.5246 | J89: =SUM(G89:I89) -> 24.214825 | K89: =IF(J89>0,J89,) -> 24.214825 | L89: =IF(J89<0,J89,)*-1 -> 0 | M89: =(E89/1000)*(I89+H89+('Bike Data'!C$4*'Bike Data'!C$10*F89)) -> 0.085951385 | N89: =IF(M89>0,M89,) -> 0.085951385 | O89: =ABS(IF(M89<0,M89,)) -> 0 | Q89: =((M89+M90)/2) * (B90 - B89) -> 0.13056419 | R89: =IF(Q89>0,Q89,) -> 0.13056419 | S89: =SUM($R$3:R89) -> 74.524575 | T89: =ABS(IF(Q89<0,Q89,)) -> 0 | U89: =SUM($T$3:T89) -> 16.654337 | W89: =U89*'KERS Calcs'!$F$4 -> 14.655817 | X89: =O89*'KERS Calcs'!$F$30 -> 0 | Y89: =T89*'KERS Calcs'!$F$30 -> 0 | Z89: =SUM($Y$3:Y89) -> 8.9567105
A90: Low | B90: 87 | C90: 87 | D90: 34.6 | E90: 9.6111111 | F90: -0.15277778 | G90: ='Bike Data'!$C$4*$F90 -> -43.236111 | H90: =0.5*'Bike Data'!$C$12*'Bike Data'!$C$7*'Bike Data'!$C$6*'WLTP Calcs'!E90^2 -> 19.010457 | I90: =0.02 *'Bike Data'!C$4*9.81 -> 55.5246 | J90: =SUM(G90:I90) -> 31.298946 | K90: =IF(J90>0,J90,) -> 31.298946 | L90: =IF(J90<0,J90,)*-1 -> 0 | M90: =(E90/1000)*(I90+H90+('Bike Data'!C$4*'Bike Data'!C$10*F90)) -> 0.17517699 | N90: =IF(M90>0,M90,) -> 0.17517699 | O90: =ABS(IF(M90<0,M90,)) -> 0 | Q90: =((M90+M91)/2) * (B91 - B90) -> -0.21695226 | R90: =IF(Q90>0,Q90,) -> 0 | S90: =SUM($R$3:R90) -> 74.524575 | T90: =ABS(IF(Q90<0,Q90,)) -> 0.21695226 | U90: =SUM($T$3:T90) -> 16.87129 | V90: =SUM(T90:T101) -> 13.470282 | W90: =U90*'KERS Calcs'!$F$4 -> 14.846735 | X90: =O90*'KERS Calcs'!$F$30 -> 0 | Y90: =T90*'KERS Calcs'!$F$30 -> 0.11667703 | Z90: =SUM($Y$3:Y90) -> 9.0733875
A91: Low | B91: 88 | C91: 88 | D91: 34.2 | E91: 9.5 | F91: -0.375 | G91: ='Bike Data'!$C$4*$F91 -> -106.125 | H91: =0.5*'Bike Data'!$C$12*'Bike Data'!$C$7*'Bike Data'!$C$6*'WLTP Calcs'!E91^2 -> 18.57345 | I91: =0.02 *'Bike Data'!C$4*9.81 -> 55.5246 | J91: =SUM(G91:I91) -> -32.02695 | K91: =IF(J91>0,J91,) -> 0 | L91: =IF(J91<0,J91,)*-1 -> 32.02695 | M91: =(E91/1000)*(I91+H91+('Bike Data'!C$4*'Bike Data'!C$10*F91)) -> -0.60908152 | N91: =IF(M91>0,M91,) -> 0 | O91: =ABS(IF(M91<0,M91,)) -> 0.60908152 | P91: =SUM(O91:O101) -> 13.55787 | Q91: =((M91+M92)/2) * (B92 - B91) -> -1.5518498 | R91: =IF(Q91>0,Q91,) -> 0 | S91: =SUM($R$3:R91) -> 74.524575 | T91: =ABS(IF(Q91<0,Q91,)) -> 1.5518498 | U91: =SUM($T$3:T91) -> 18.423139 | W91: =U91*'KERS Calcs'!$F$4 -> 16.212363 | X91: =O91*'KERS Calcs'!$F$30 -> 0.32756433 | Y91: =T91*'KERS Calcs'!$F$30 -> 0.83458557 | Z91: =SUM($Y$3:Y91) -> 9.9079731
A92: Low | B92: 89 | C92: 89 | D92: 31.9 | E92: 8.8611111 | F92: -0.95833333 | G92: ='Bike Data'!$C$4*$F92 -> -271.20833 | H92: =0.5*'Bike Data'!$C$12*'Bike Data'!$C$7*'Bike Data'!$C$6*'WLTP Calcs'!E92^2 -> 16.15927 | I92: =0.02 *'Bike Data'!C$4*9.81 -> 55.5246 | J92: =SUM(G92:I92) -> -199.52446 | K92: =IF(J92>0,J92,) -> 0 | L92: =IF(J92<0,J92,)*-1 -> 199.52446 | M92: =(E92/1000)*(I92+H92+('Bike Data'!C$4*'Bike Data'!C$10*F92)) -> -2.4946181 | N92: =IF(M92>0,M92,) -> 0 | O92: =ABS(IF(M92<0,M92,)) -> 2.4946181 | Q92: =((M92+M93)/2) * (B93 - B92) -> -2.9134334 | R92: =IF(Q92>0,Q92,) -> 0 | S92: =SUM($R$3:R92) -> 74.524575 | T92: =ABS(IF(Q92<0,Q92,)) -> 2.9134334 | U92: =SUM($T$3:T92) -> 21.336573 | W92: =U92*'KERS Calcs'!$F$4 -> 18.776184 | X92: =O92*'KERS Calcs'!$F$30 -> 1.3416068 | Y92: =T92*'KERS Calcs'!$F$30 -> 1.5668459 | Z92: =SUM($Y$3:Y92) -> 11.474819
A93: Low | B93: 90 | C93: 90 | D93: 27.3 | E93: 7.5833333 | F93: -1.375 | G93: ='Bike Data'!$C$4*$F93 -> -389.125 | H93: =0.5*'Bike Data'!$C$12*'Bike Data'!$C$7*'Bike Data'!$C$6*'WLTP Calcs'!E93^2 -> 11.834929 | I93: =0.02 *'Bike Data'!C$4*9.81 -> 55.5246 | J93: =SUM(G93:I93) -> -321.76547 | K93: =IF(J93>0,J93,) -> 0 | L93: =IF(J93<0,J93,)*-1 -> 321.76547 | M93: =(E93/1000)*(I93+H93+('Bike Data'!C$4*'Bike Data'!C$10*F93)) -> -3.3322487 | N93: =IF(M93>0,M93,) -> 0 | O93: =ABS(IF(M93<0,M93,)) -> 3.3322487 | Q93: =((M93+M94)/2) * (B94 - B93) -> -3.0840318 | R93: =IF(Q93>0,Q93,) -> 0 | S93: =SUM($R$3:R93) -> 74.524575 | T93: =ABS(IF(Q93<0,Q93,)) -> 3.0840318 | U93: =SUM($T$3:T93) -> 24.420605 | W93: =U93*'KERS Calcs'!$F$4 -> 21.490132 | X93: =O93*'KERS Calcs'!$F$30 -> 1.7920849 | Y93: =T93*'KERS Calcs'!$F$30 -> 1.6585938 | Z93: =SUM($Y$3:Y93) -> 13.133413
A94: Low | B94: 91 | C94: 91 | D94: 22 | E94: 6.1111111 | F94: -1.4305556 | G94: ='Bike Data'!$C$4*$F94 -> -404.84722 | H94: =0.5*'Bike Data'!$C$12*'Bike Data'!$C$7*'Bike Data'!$C$6*'WLTP Calcs'!E94^2 -> 7.6857407 | I94: =0.02 *'Bike Data'!C$4*9.81 -> 55.5246 | J94: =SUM(G94:I94) -> -341.63688 | K94: =IF(J94>0,J94,) -> 0 | L94: =IF(J94<0,J94,)*-1 -> 341.63688 | M94: =(E94/1000)*(I94+H94+('Bike Data'!C$4*'Bike Data'!C$10*F94)) -> -2.8358149 | N94: =IF(M94>0,M94,) -> 0 | O94: =ABS(IF(M94<0,M94,)) -> 2.8358149 | Q94: =((M94+M95)/2) * (B95 - B94) -> -2.2187137 | R94: =IF(Q94>0,Q94,) -> 0 | S94: =SUM($R$3:R94) -> 74.524575 | T94: =ABS(IF(Q94<0,Q94,)) -> 2.2187137 | U94: =SUM($T$3:T94) -> 26.639318 | W94: =U94*'KERS Calcs'!$F$4 -> 23.4426 | X94: =O94*'KERS Calcs'!$F$30 -> 1.5251026 | Y94: =T94*'KERS Calcs'!$F$30 -> 1.1932253 | Z94: =SUM($Y$3:Y94) -> 14.326638
A95: Low | B95: 92 | C95: 92 | D95: 17 | E95: 4.7222222 | F95: -1.0833333 | G95: ='Bike Data'!$C$4*$F95 -> -306.58333 | H95: =0.5*'Bike Data'!$C$12*'Bike Data'!$C$7*'Bike Data'!$C$6*'WLTP Calcs'!E95^2 -> 4.589213 | I95: =0.02 *'Bike Data'!C$4*9.81 -> 55.5246 | J95: =SUM(G95:I95) -> -246.46952 | K95: =IF(J95>0,J95,) -> 0 | L95: =IF(J95<0,J95,)*-1 -> 246.46952 | M95: =(E95/1000)*(I95+H95+('Bike Data'!C$4*'Bike Data'!C$10*F95)) -> -1.6016125 | N95: =IF(M95>0,M95,) -> 0 | O95: =ABS(IF(M95<0,M95,)) -> 1.6016125 | Q95: =((M95+M96)/2) * (B96 - B95) -> -1.1897706 | R95: =IF(Q95>0,Q95,) -> 0 | S95: =SUM($R$3:R95) -> 74.524575 | T95: =ABS(IF(Q95<0,Q95,)) -> 1.1897706 | U95: =SUM($T$3:T95) -> 27.829089 | W95: =U95*'KERS Calcs'!$F$4 -> 24.489598 | X95: =O95*'KERS Calcs'!$F$30 -> 0.86134794 | Y95: =T95*'KERS Calcs'!$F$30 -> 0.6398592 | Z95: =SUM($Y$3:Y95) -> 14.966497
A96: Low | B96: 93 | C96: 93 | D96: 14.2 | E96: 3.9444444 | F96: -0.69444444 | G96: ='Bike Data'!$C$4*$F96 -> -196.52778 | H96: =0.5*'Bike Data'!$C$12*'Bike Data'!$C$7*'Bike Data'!$C$6*'WLTP Calcs'!E96^2 -> 3.2019685 | I96: =0.02 *'Bike Data'!C$4*9.81 -> 55.5246 | J96: =SUM(G96:I96) -> -137.80121 | K96: =IF(J96>0,J96,) -> 0 | L96: =IF(J96<0,J96,)*-1 -> 137.80121 | M96: =(E96/1000)*(I96+H96+('Bike Data'!C$4*'Bike Data'!C$10*F96)) -> -0.77792879 | N96: =IF(M96>0,M96,) -> 0 | O96: =ABS(IF(M96<0,M96,)) -> 0.77792879 | Q96: =((M96+M97)/2) * (B97 - B96) -> -0.7277238 | R96: =IF(Q96>0,Q96,) -> 0 | S96: =SUM($R$3:R96) -> 74.524575 | T96: =ABS(IF(Q96<0,Q96,)) -> 0.7277238 | U96: =SUM($T$3:T96) -> 28.556813 | W96: =U96*'KERS Calcs'!$F$4 -> 25.129995 | X96: =O96*'KERS Calcs'!$F$30 -> 0.41837047 | Y96: =T96*'KERS Calcs'!$F$30 -> 0.3913702 | Z96: =SUM($Y$3:Y96) -> 15.357867
A97: Low | B97: 94 | C97: 94 | D97: 12 | E97: 3.3333333 | F97: -0.70833333 | G97: ='Bike Data'!$C$4*$F97 -> -200.45833 | H97: =0.5*'Bike Data'!$C$12*'Bike Data'!$C$7*'Bike Data'!$C$6*'WLTP Calcs'!E97^2 -> 2.2866667 | I97: =0.02 *'Bike Data'!C$4*9.81 -> 55.5246 | J97: =SUM(G97:I97) -> -142.64707 | K97: =IF(J97>0,J97,) -> 0 | L97: =IF(J97<0,J97,)*-1 -> 142.64707 | M97: =(E97/1000)*(I97+H97+('Bike Data'!C$4*'Bike Data'!C$10*F97)) -> -0.67751881 | N97: =IF(M97>0,M97,) -> 0 | O97: =ABS(IF(M97<0,M97,)) -> 0.67751881 | Q97: =((M97+M98)/2) * (B98 - B97) -> -0.66804779 | R97: =IF(Q97>0,Q97,) -> 0 | S97: =SUM($R$3:R97) -> 74.524575 | T97: =ABS(IF(Q97<0,Q97,)) -> 0.66804779 | U97: =SUM($T$3:T97) -> 29.224861 | W97: =U97*'KERS Calcs'!$F$4 -> 25.717877 | X97: =O97*'KERS Calcs'!$F$30 -> 0.36436994 | Y97: =T97*'KERS Calcs'!$F$30 -> 0.35927642 | Z97: =SUM($Y$3:Y97) -> 15.717144
A98: Low | B98: 95 | C98: 95 | D98: 9.1 | E98: 2.5277778 | F98: -0.86111111 | G98: ='Bike Data'!$C$4*$F98 -> -243.69444 | H98: =0.5*'Bike Data'!$C$12*'Bike Data'!$C$7*'Bike Data'!$C$6*'WLTP Calcs'!E98^2 -> 1.3149921 | I98: =0.02 *'Bike Data'!C$4*9.81 -> 55.5246 | J98: =SUM(G98:I98) -> -186.85485 | K98: =IF(J98>0,J98,) -> 0 | L98: =IF(J98<0,J98,)*-1 -> 186.85485 | M98: =(E98/1000)*(I98+H98+('Bike Data'!C$4*'Bike Data'!C$10*F98)) -> -0.65857678 | N98: =IF(M98>0,M98,) -> 0 | O98: =ABS(IF(M98<0,M98,)) -> 0.65857678 | Q98: =((M98+M99)/2) * (B99 - B98) -> -0.51092824 | R98: =IF(Q98>0,Q98,) -> 0 | S98: =SUM($R$3:R98) -> 74.524575 | T98: =ABS(IF(Q98<0,Q98,)) -> 0.51092824 | U98: =SUM($T$3:T98) -> 29.735789 | W98: =U98*'KERS Calcs'!$F$4 -> 26.167494 | X98: =O98*'KERS Calcs'!$F$30 -> 0.3541829 | Y98: =T98*'KERS Calcs'!$F$30 -> 0.27477745 | Z98: =SUM($Y$3:Y98) -> 15.991921
A99: Low | B99: 96 | C99: 96 | D99: 5.8 | E99: 1.6111111 | F99: -0.76388889 | G99: ='Bike Data'!$C$4*$F99 -> -216.18056 | H99: =0.5*'Bike Data'!$C$12*'Bike Data'!$C$7*'Bike Data'!$C$6*'WLTP Calcs'!E99^2 -> 0.53419074 | I99: =0.02 *'Bike Data'!C$4*9.81 -> 55.5246 | J99: =SUM(G99:I99) -> -160.12176 | K99: =IF(J99>0,J99,) -> 0 | L99: =IF(J99<0,J99,)*-1 -> 160.12176 | M99: =(E99/1000)*(I99+H99+('Bike Data'!C$4*'Bike Data'!C$10*F99)) -> -0.36327971 | N99: =IF(M99>0,M99,) -> 0 | O99: =ABS(IF(M99<0,M99,)) -> 0.36327971 | Q99: =((M99+M100)/2) * (B100 - B99) -> -0.24591592 | R99: =IF(Q99>0,Q99,) -> 0 | S99: =SUM($R$3:R99) -> 74.524575 | T99: =ABS(IF(Q99<0,Q99,)) -> 0.24591592 | U99: =SUM($T$3:T99) -> 29.981705 | W99: =U99*'KERS Calcs'!$F$4 -> 26.3839 | X99: =O99*'KERS Calcs'!$F$30 -> 0.195372 | Y99: =T99*'KERS Calcs'!$F$30 -> 0.1322537 | Z99: =SUM($Y$3:Y99) -> 16.124175
A100: Low | B100: 97 | C100: 97 | D100: 3.6 | E100: 1 | F100: -0.5 | G100: ='Bike Data'!$C$4*$F100 -> -141.5 | H100: =0.5*'Bike Data'!$C$12*'Bike Data'!$C$7*'Bike Data'!$C$6*'WLTP Calcs'!E100^2 -> 0.2058 | I100: =0.02 *'Bike Data'!C$4*9.81 -> 55.5246 | J100: =SUM(G100:I100) -> -85.7696 | K100: =IF(J100>0,J100,) -> 0 | L100: =IF(J100<0,J100,)*-1 -> 85.7696 | M100: =(E100/1000)*(I100+H100+('Bike Data'!C$4*'Bike Data'!C$10*F100)) -> -0.12855212 | N100: =IF(M100>0,M100,) -> 0 | O100: =ABS(IF(M100<0,M100,)) -> 0.12855212 | Q100: =((M100+M101)/2) * (B101 - B100) -> -0.10359528 | R100: =IF(Q100>0,Q100,) -> 0 | S100: =SUM($R$3:R100) -> 74.524575 | T100: =ABS(IF(Q100<0,Q100,)) -> 0.10359528 | U100: =SUM($T$3:T100) -> 30.0853 | W100: =U100*'KERS Calcs'!$F$4 -> 26.475064 | X100: =O100*'KERS Calcs'!$F$30 -> 0.069135394 | Y100: =T100*'KERS Calcs'!$F$30 -> 0.055713589 | Z100: =SUM($Y$3:Y100) -> 16.179889
A101: Low | B101: 98 | C101: 98 | D101: 2.2 | E101: 0.61111111 | F101: -0.5 | G101: ='Bike Data'!$C$4*$F101 -> -141.5 | H101: =0.5*'Bike Data'!$C$12*'Bike Data'!$C$7*'Bike Data'!$C$6*'WLTP Calcs'!E101^2 -> 0.076857407 | I101: =0.02 *'Bike Data'!C$4*9.81 -> 55.5246 | J101: =SUM(G101:I101) -> -85.898543 | K101: =IF(J101>0,J101,) -> 0 | L101: =IF(J101<0,J101,)*-1 -> 85.898543 | M101: =(E101/1000)*(I101+H101+('Bike Data'!C$4*'Bike Data'!C$10*F101)) -> -0.07863843 | N101: =IF(M101>0,M101,) -> 0 | O101: =ABS(IF(M101<0,M101,)) -> 0.07863843 | Q101: =((M101+M102)/2) * (B102 - B101) -> -0.039319215 | R101: =IF(Q101>0,Q101,) -> 0 | S101: =SUM($R$3:R101) -> 74.524575 | T101: =ABS(IF(Q101<0,Q101,)) -> 0.039319215 | U101: =SUM($T$3:T101) -> 30.124619 | W101: =U101*'KERS Calcs'!$F$4 -> 26.509665 | X101: =O101*'KERS Calcs'!$F$30 -> 0.042291785 | Y101: =T101*'KERS Calcs'!$F$30 -> 0.021145892 | Z101: =SUM($Y$3:Y101) -> 16.201034
A102: Low | B102: 99 | C102: 99 | D102: 0 | E102: 0 | F102: -0.30555556 | G102: ='Bike Data'!$C$4*$F102 -> -86.472222 | H102: =0.5*'Bike Data'!$C$12*'Bike Data'!$C$7*'Bike Data'!$C$6*'WLTP Calcs'!E102^2 -> 0 | I102: =0.02 *'Bike Data'!C$4*9.81 -> 55.5246 | J102: =SUM(G102:I102) -> -30.947622 | K102: =IF(J102>0,J102,) -> 0 | L102: =IF(J102<0,J102,)*-1 -> 30.947622 | M102: =(E102/1000)*(I102+H102+('Bike Data'!C$4*'Bike Data'!C$10*F102)) -> 0 | N102: =IF(M102>0,M102,) -> 0 | O102: =ABS(IF(M102<0,M102,)) -> 0 | Q102: =((M102+M103)/2) * (B103 - B102) -> 0 | R102: =IF(Q102>0,Q102,) -> 0 | S102: =SUM($R$3:R102) -> 74.524575 | T102: =ABS(IF(Q102<0,Q102,)) -> 0 | U102: =SUM($T$3:T102) -> 30.124619 | W102: =U102*'KERS Calcs'!$F$4 -> 26.509665 | X102: =O102*'KERS Calcs'!$F$30 -> 0 | Y102: =T102*'KERS Calcs'!$F$30 -> 0 | Z102: =SUM($Y$3:Y102) -> 16.201034
A103: Low | B103: 100 | C103: 100 | D103: 0 | E103: 0 | F103: 0 | G103: ='Bike Data'!$C$4*$F103 -> 0 | H103: =0.5*'Bike Data'!$C$12*'Bike Data'!$C$7*'Bike Data'!$C$6*'WLTP Calcs'!E103^2 -> 0 | I103: =0.02 *'Bike Data'!C$4*9.81 -> 55.5246 | J103: =SUM(G103:I103) -> 55.5246 | K103: =IF(J103>0,J103,) -> 55.5246 | L103: =IF(J103<0,J103,)*-1 -> 0 | M103: =(E103/1000)*(I103+H103+('Bike Data'!C$4*'Bike Data'!C$10*F103)) -> 0 | N103: =IF(M103>0,M103,) -> 0 | O103: =ABS(IF(M103<0,M103,)) -> 0 | Q103: =((M103+M104)/2) * (B104 - B103) -> 0 | R103: =IF(Q103>0,Q103,) -> 0 | S103: =SUM($R$3:R103) -> 74.524575 | T103: =ABS(IF(Q103<0,Q103,)) -> 0 | U103: =SUM($T$3:T103) -> 30.124619 | W103: =U103*'KERS Calcs'!$F$4 -> 26.509665 | X103: =O103*'KERS Calcs'!$F$30 -> 0 | Y103: =T103*'KERS Calcs'!$F$30 -> 0 | Z103: =SUM($Y$3:Y103) -> 16.201034
... A153: Low | B153: 150 | C153: 150 | D153: 29.8 | E153: 8.2777778 | F153: 0.027777778 | G153: ='Bike Data'!$C$4*$F153 -> 7.8611111 | H153: =0.5*'Bike Data'!$C$12*'Bike Data'!$C$7*'Bike Data'!$C$6*'WLTP Calcs'!E153^2 -> 14.101746 | I153: =0.02 *'Bike Data'!C$4*9.81 -> 55.5246 | J153: =SUM(G153:I153) -> 77.487457 | K153: =IF(J153>0,J153,) -> 77.487457 | L153: =IF(J153<0,J153,)*-1 -> 0 | M153: =(E153/1000)*(I153+H153+('Bike Data'!C$4*'Bike Data'!C$10*F153)) -> 0.66109863 | N153: =IF(M153>0,M153,) -> 0.66109863 | O153: =ABS(IF(M153<0,M153,)) -> 0 | Q153: =((M153+M154)/2) * (B154 - B153) -> 0.069858626 | R153: =IF(Q153>0,Q153,) -> 0.069858626 | S153: =SUM($R$3:R153) -> 90.858124 | T153: =ABS(IF(Q153<0,Q153,)) -> 0 | U153: =SUM($T$3:T153) -> 30.124619 | W153: =U153*'KERS Calcs'!$F$4 -> 26.509665 | X153: =O153*'KERS Calcs'!$F$30 -> 0 | Y153: =T153*'KERS Calcs'!$F$30 -> 0 | Z153: =SUM($Y$3:Y153) -> 16.201034
A154: Low | B154: 151 | C154: 151 | D154: 29.4 | E154: 8.1666667 | F154: -0.36111111 | G154: ='Bike Data'!$C$4*$F154 -> -102.19444 | H154: =0.5*'Bike Data'!$C$12*'Bike Data'!$C$7*'Bike Data'!$C$6*'WLTP Calcs'!E154^2 -> 13.725717 | I154: =0.02 *'Bike Data'!C$4*9.81 -> 55.5246 | J154: =SUM(G154:I154) -> -32.944128 | K154: =IF(J154>0,J154,) -> 0 | L154: =IF(J154<0,J154,)*-1 -> 32.944128 | M154: =(E154/1000)*(I154+H154+('Bike Data'!C$4*'Bike Data'!C$10*F154)) -> -0.52138138 | N154: =IF(M154>0,M154,) -> 0 | O154: =ABS(IF(M154<0,M154,)) -> 0.52138138 | P154: =SUM(O154:O158) -> 8.2099421 | Q154: =((M154+M155)/2) * (B155 - B154) -> -1.321552 | R154: =IF(Q154>0,Q154,) -> 0 | S154: =SUM($R$3:R154) -> 90.858124 | T154: =ABS(IF(Q154<0,Q154,)) -> 1.321552 | U154: =SUM($T$3:T154) -> 31.446171 | V154: =SUM(T154:T158) -> 7.9126204 | W154: =U154*'KERS Calcs'!$F$4 -> 27.672631 | X154: =O154*'KERS Calcs'!$F$30 -> 0.28039915 | Y154: =T154*'KERS Calcs'!$F$30 -> 0.71073129 | Z154: =SUM($Y$3:Y154) -> 16.911766
A155: Low | B155: 152 | C155: 152 | D155: 27.2 | E155: 7.5555556 | F155: -0.94444444 | G155: ='Bike Data'!$C$4*$F155 -> -267.27778 | H155: =0.5*'Bike Data'!$C$12*'Bike Data'!$C$7*'Bike Data'!$C$6*'WLTP Calcs'!E155^2 -> 11.748385 | I155: =0.02 *'Bike Data'!C$4*9.81 -> 55.5246 | J155: =SUM(G155:I155) -> -200.00479 | K155: =IF(J155>0,J155,) -> 0 | L155: =IF(J155<0,J155,)*-1 -> 200.00479 | M155: =(E155/1000)*(I155+H155+('Bike Data'!C$4*'Bike Data'!C$10*F155)) -> -2.1217226 | N155: =IF(M155>0,M155,) -> 0 | O155: =ABS(IF(M155<0,M155,)) -> 2.1217226 | Q155: =((M155+M156)/2) * (B156 - B155) -> -2.4518338 | R155: =IF(Q155>0,Q155,) -> 0 | S155: =SUM($R$3:R155) -> 90.858124 | T155: =ABS(IF(Q155<0,Q155,)) -> 2.4518338 | U155: =SUM($T$3:T155) -> 33.898005 | W155: =U155*'KERS Calcs'!$F$4 -> 29.830244 | X155: =O155*'KERS Calcs'!$F$30 -> 1.1410634 | Y155: =T155*'KERS Calcs'!$F$30 -> 1.3185974 | Z155: =SUM($Y$3:Y155) -> 18.230363
A156: Low | B156: 153 | C156: 153 | D156: 22.6 | E156: 6.2777778 | F156: -1.375 | G156: ='Bike Data'!$C$4*$F156 -> -389.125 | H156: =0.5*'Bike Data'!$C$12*'Bike Data'!$C$7*'Bike Data'!$C$6*'WLTP Calcs'!E156^2 -> 8.1106796 | I156: =0.02 *'Bike Data'!C$4*9.81 -> 55.5246 | J156: =SUM(G156:I156) -> -325.48972 | K156: =IF(J156>0,J156,) -> 0 | L156: =IF(J156<0,J156,)*-1 -> 325.48972 | M156: =(E156/1000)*(I156+H156+('Bike Data'!C$4*'Bike Data'!C$10*F156)) -> -2.7819449 | N156: =IF(M156>0,M156,) -> 0 | O156: =ABS(IF(M156<0,M156,)) -> 2.7819449 | Q156: =((M156+M157)/2) * (B157 - B156) -> -2.3900137 | R156: =IF(Q156>0,Q156,) -> 0 | S156: =SUM($R$3:R156) -> 90.858124 | T156: =ABS(IF(Q156<0,Q156,)) -> 2.3900137 | U156: =SUM($T$3:T156) -> 36.288019 | W156: =U156*'KERS Calcs'!$F$4 -> 31.933456 | X156: =O156*'KERS Calcs'!$F$30 -> 1.4961313 | Y156: =T156*'KERS Calcs'!$F$30 -> 1.2853505 | Z156: =SUM($Y$3:Y156) -> 19.515714
A157: Low | B157: 154 | C157: 154 | D157: 17.3 | E157: 4.8055556 | F157: -1.2916667 | G157: ='Bike Data'!$C$4*$F157 -> -365.54167 | H157: =0.5*'Bike Data'!$C$12*'Bike Data'!$C$7*'Bike Data'!$C$6*'WLTP Calcs'!E157^2 -> 4.7526144 | I157: =0.02 *'Bike Data'!C$4*9.81 -> 55.5246 | J157: =SUM(G157:I157) -> -305.26445 | K157: =IF(J157>0,J157,) -> 0 | L157: =IF(J157<0,J157,)*-1 -> 305.26445 | M157: =(E157/1000)*(I157+H157+('Bike Data'!C$4*'Bike Data'!C$10*F157)) -> -1.9980826 | N157: =IF(M157>0,M157,) -> 0 | O157: =ABS(IF(M157<0,M157,)) -> 1.9980826 | Q157: =((M157+M158)/2) * (B158 - B157) -> -1.3924466 | R157: =IF(Q157>0,Q157,) -> 0 | S157: =SUM($R$3:R157) -> 90.858124 | T157: =ABS(IF(Q157<0,Q157,)) -> 1.3924466 | U157: =SUM($T$3:T157) -> 37.680465 | W157: =U157*'KERS Calcs'!$F$4 -> 33.158809 | X157: =O157*'KERS Calcs'!$F$30 -> 1.0745698 | Y157: =T157*'KERS Calcs'!$F$30 -> 0.74885843 | Z157: =SUM($Y$3:Y157) -> 20.264572
A158: Low | B158: 155 | C158: 155 | D158: 13.3 | E158: 3.6944444 | F158: -0.73611111 | G158: ='Bike Data'!$C$4*$F158 -> -208.31944 | H158: =0.5*'Bike Data'!$C$12*'Bike Data'!$C$7*'Bike Data'!$C$6*'WLTP Calcs'!E158^2 -> 2.8089477 | I158: =0.02 *'Bike Data'!C$4*9.81 -> 55.5246 | J158: =SUM(G158:I158) -> -149.9859 | K158: =IF(J158>0,J158,) -> 0 | L158: =IF(J158<0,J158,)*-1 -> 149.9859 | M158: =(E158/1000)*(I158+H158+('Bike Data'!C$4*'Bike Data'!C$10*F158)) -> -0.78681057 | N158: =IF(M158>0,M158,) -> 0 | O158: =ABS(IF(M158<0,M158,)) -> 0.78681057 | Q158: =((M158+M159)/2) * (B159 - B158) -> -0.35677436 | R158: =IF(Q158>0,Q158,) -> 0 | S158: =SUM($R$3:R158) -> 90.858124 | T158: =ABS(IF(Q158<0,Q158,)) -> 0.35677436 | U158: =SUM($T$3:T158) -> 38.03724 | W158: =U158*'KERS Calcs'!$F$4 -> 33.472771 | X158: =O158*'KERS Calcs'!$F$30 -> 0.42314709 | Y158: =T158*'KERS Calcs'!$F$30 -> 0.19187342 | Z158: =SUM($Y$3:Y158) -> 20.456445
A159: Low | B159: 156 | C159: 156 | D159: 12 | E159: 3.3333333 | F159: -0.097222222 | G159: ='Bike Data'!$C$4*$F159 -> -27.513889 | H159: =0.5*'Bike Data'!$C$12*'Bike Data'!$C$7*'Bike Data'!$C$6*'WLTP Calcs'!E159^2 -> 2.2866667 | I159: =0.02 *'Bike Data'!C$4*9.81 -> 55.5246 | J159: =SUM(G159:I159) -> 30.297378 | K159: =IF(J159>0,J159,) -> 30.297378 | L159: =IF(J159<0,J159,)*-1 -> 0 | M159: =(E159/1000)*(I159+H159+('Bike Data'!C$4*'Bike Data'!C$10*F159)) -> 0.073261845 | N159: =IF(M159>0,M159,) -> 0.073261845 | O159: =ABS(IF(M159<0,M159,)) -> 0 | Q159: =((M159+M160)/2) * (B160 - B159) -> 0.32633255 | R159: =IF(Q159>0,Q159,) -> 0.32633255 | S159: =SUM($R$3:R159) -> 91.184457 | T159: =ABS(IF(Q159<0,Q159,)) -> 0 | U159: =SUM($T$3:T159) -> 38.03724 | W159: =U159*'KERS Calcs'!$F$4 -> 33.472771 | X159: =O159*'KERS Calcs'!$F$30 -> 0 | Y159: =T159*'KERS Calcs'!$F$30 -> 0 | Z159: =SUM($Y$3:Y159) -> 20.456445
A160: Low | B160: 157 | C160: 157 | D160: 12.6 | E160: 3.5 | F160: 0.29166667 | G160: ='Bike Data'!$C$4*$F160 -> 82.541667 | H160: =0.5*'Bike Data'!$C$12*'Bike Data'!$C$7*'Bike Data'!$C$6*'WLTP Calcs'!E160^2 -> 2.52105 | I160: =0.02 *'Bike Data'!C$4*9.81 -> 55.5246 | J160: =SUM(G160:I160) -> 140.58732 | K160: =IF(J160>0,J160,) -> 140.58732 | L160: =IF(J160<0,J160,)*-1 -> 0 | M160: =(E160/1000)*(I160+H160+('Bike Data'!C$4*'Bike Data'!C$10*F160)) -> 0.57940326 | N160: =IF(M160>0,M160,) -> 0.57940326 | O160: =ABS(IF(M160<0,M160,)) -> 0 | Q160: =((M160+M161)/2) * (B161 - B160) -> 0.86575271 | R160: =IF(Q160>0,Q160,) -> 0.86575271 | S160: =SUM($R$3:R160) -> 92.05021 | T160: =ABS(IF(Q160<0,Q160,)) -> 0 | U160: =SUM($T$3:T160) -> 38.03724 | W160: =U160*'KERS Calcs'!$F$4 -> 33.472771 | X160: =O160*'KERS Calcs'!$F$30 -> 0 | Y160: =T160*'KERS Calcs'!$F$30 -> 0 | Z160: =SUM($Y$3:Y160) -> 20.456445
A161: Low | B161: 158 | C161: 158 | D161: 14.1 | E161: 3.9166667 | F161: 0.63888889 | G161: ='Bike Data'!$C$4*$F161 -> 180.80556 | H161: =0.5*'Bike Data'!$C$12*'Bike Data'!$C$7*'Bike Data'!$C$6*'WLTP Calcs'!E161^2 -> 3.1570292 | I161: =0.02 *'Bike Data'!C$4*9.81 -> 55.5246 | J161: =SUM(G161:I161) -> 239.48718 | K161: =IF(J161>0,J161,) -> 239.48718 | L161: =IF(J161<0,J161,)*-1 -> 0 | M161: =(E161/1000)*(I161+H161+('Bike Data'!C$4*'Bike Data'!C$10*F161)) -> 1.1521022 | N161: =IF(M161>0,M161,) -> 1.1521022 | O161: =ABS(IF(M161<0,M161,)) -> 0 | Q161: =((M161+M162)/2) * (B162 - B161) -> 1.4536332 | R161: =IF(Q161>0,Q161,) -> 1.4536332 | S161: =SUM($R$3:R161) -> 93.503843 | T161: =ABS(IF(Q161<0,Q161,)) -> 0 | U161: =SUM($T$3:T161) -> 38.03724 | W161: =U161*'KERS Calcs'!$F$4 -> 33.472771 | X161: =O161*'KERS Calcs'!$F$30 -> 0 | Y161: =T161*'KERS Calcs'!$F$30 -> 0 | Z161: =SUM($Y$3:Y161) -> 20.456445
A162: Low | B162: 159 | C162: 159 | D162: 17.2 | E162: 4.7777778 | F162: 0.83333333 | G162: ='Bike Data'!$C$4*$F162 -> 235.83333 | H162: =0.5*'Bike Data'!$C$12*'Bike Data'!$C$7*'Bike Data'!$C$6*'WLTP Calcs'!E162^2 -> 4.6978296 | I162: =0.02 *'Bike Data'!C$4*9.81 -> 55.5246 | J162: =SUM(G162:I162) -> 296.05576 | K162: =IF(J162>0,J162,) -> 296.05576 | L162: =IF(J162<0,J162,)*-1 -> 0 | M162: =(E162/1000)*(I162+H162+('Bike Data'!C$4*'Bike Data'!C$10*F162)) -> 1.7551643 | N162: =IF(M162>0,M162,) -> 1.7551643 | O162: =ABS(IF(M162<0,M162,)) -> 0 | Q162: =((M162+M163)/2) * (B163 - B162) -> 1.9365048 | R162: =IF(Q162>0,Q162,) -> 1.9365048 | S162: =SUM($R$3:R162) -> 95.440348 | T162: =ABS(IF(Q162<0,Q162,)) -> 0 | U162: =SUM($T$3:T162) -> 38.03724 | W162: =U162*'KERS Calcs'!$F$4 -> 33.472771 | X162: =O162*'KERS Calcs'!$F$30 -> 0 | Y162: =T162*'KERS Calcs'!$F$30 -> 0 | Z162: =SUM($Y$3:Y162) -> 20.456445
A163: Low | B163: 160 | C163: 160 | D163: 20.1 | E163: 5.5833333 | F163: 0.86111111 | G163: ='Bike Data'!$C$4*$F163 -> 243.69444 | H163: =0.5*'Bike Data'!$C$12*'Bike Data'!$C$7*'Bike Data'!$C$6*'WLTP Calcs'!E163^2 -> 6.4155292 | I163: =0.02 *'Bike Data'!C$4*9.81 -> 55.5246 | J163: =SUM(G163:I163) -> 305.63457 | K163: =IF(J163>0,J163,) -> 305.63457 | L163: =IF(J163<0,J163,)*-1 -> 0 | M163: =(E163/1000)*(I163+H163+('Bike Data'!C$4*'Bike Data'!C$10*F163)) -> 2.1178454 | N163: =IF(M163>0,M163,) -> 2.1178454 | O163: =ABS(IF(M163<0,M163,)) -> 0 | Q163: =((M163+M164)/2) * (B164 - B163) -> 2.1660139 | R163: =IF(Q163>0,Q163,) -> 2.1660139 | S163: =SUM($R$3:R163) -> 97.606362 | T163: =ABS(IF(Q163<0,Q163,)) -> 0 | U163: =SUM($T$3:T163) -> 38.03724 | W163: =U163*'KERS Calcs'!$F$4 -> 33.472771 | X163: =O163*'KERS Calcs'!$F$30 -> 0 | Y163: =T163*'KERS Calcs'!$F$30 -> 0 | Z163: =SUM($Y$3:Y163) -> 20.456445
A164: Low | B164: 161 | C164: 161 | D164: 23.4 | E164: 6.5 | F164: 0.75 | G164: ='Bike Data'!$C$4*$F164 -> 212.25 | H164: =0.5*'Bike Data'!$C$12*'Bike Data'!$C$7*'Bike Data'!$C$6*'WLTP Calcs'!E164^2 -> 8.69505 | I164: =0.02 *'Bike Data'!C$4*9.81 -> 55.5246 | J164: =SUM(G164:I164) -> 276.46965 | K164: =IF(J164>0,J164,) -> 276.46965 | L164: =IF(J164<0,J164,)*-1 -> 0 | M164: =(E164/1000)*(I164+H164+('Bike Data'!C$4*'Bike Data'!C$10*F164)) -> 2.2141823 | N164: =IF(M164>0,M164,) -> 2.2141823 | O164: =ABS(IF(M164<0,M164,)) -> 0 | Q164: =((M164+M165)/2) * (B165 - B164) -> 2.1017562 | R164: =IF(Q164>0,Q164,) -> 2.1017562 | S164: =SUM($R$3:R164) -> 99.708118 | T164: =ABS(IF(Q164<0,Q164,)) -> 0 | U164: =SUM($T$3:T164) -> 38.03724 | W164: =U164*'KERS Calcs'!$F$4 -> 33.472771 | X164: =O164*'KERS Calcs'!$F$30 -> 0 | Y164: =T164*'KERS Calcs'!$F$30 -> 0 | Z164: =SUM($Y$3:Y164) -> 20.456445
A165: Low | B165: 162 | C165: 162 | D165: 25.5 | E165: 7.0833333 | F165: 0.58333333 | G165: ='Bike Data'!$C$4*$F165 -> 165.08333 | H165: =0.5*'Bike Data'!$C$12*'Bike Data'!$C$7*'Bike Data'!$C$6*'WLTP Calcs'!E165^2 -> 10.325729 | I165: =0.02 *'Bike Data'!C$4*9.81 -> 55.5246 | J165: =SUM(G165:I165) -> 230.93366 | K165: =IF(J165>0,J165,) -> 230.93366 | L165: =IF(J165<0,J165,)*-1 -> 0 | M165: =(E165/1000)*(I165+H165+('Bike Data'!C$4*'Bike Data'!C$10*F165)) -> 1.9893301 | N165: =IF(M165>0,M165,) -> 1.9893301 | O165: =ABS(IF(M165<0,M165,)) -> 0 | Q165: =((M165+M166)/2) * (B166 - B165) -> 2.0387862 | R165: =IF(Q165>0,Q165,) -> 2.0387862 | S165: =SUM($R$3:R165) -> 101.7469 | T165: =ABS(IF(Q165<0,Q165,)) -> 0 | U165: =SUM($T$3:T165) -> 38.03724 | W165: =U165*'KERS Calcs'!$F$4 -> 33.472771 | X165: =O165*'KERS Calcs'!$F$30 -> 0 | Y165: =T165*'KERS Calcs'!$F$30 -> 0 | Z165: =SUM($Y$3:Y165) -> 20.456445
A166: Low | B166: 163 | C166: 163 | D166: 27.6 | E166: 7.6666667 | F166: 0.55555556 | G166: ='Bike Data'!$C$4*$F166 -> 157.22222 | H166: =0.5*'Bike Data'!$C$12*'Bike Data'!$C$7*'Bike Data'!$C$6*'WLTP Calcs'!E166^2 -> 12.096467 | I166: =0.02 *'Bike Data'!C$4*9.81 -> 55.5246 | J166: =SUM(G166:I166) -> 224.84329 | K166: =IF(J166>0,J166,) -> 224.84329 | L166: =IF(J166<0,J166,)*-1 -> 0 | M166: =(E166/1000)*(I166+H166+('Bike Data'!C$4*'Bike Data'!C$10*F166)) -> 2.0882423 | N166: =IF(M166>0,M166,) -> 2.0882423 | O166: =ABS(IF(M166<0,M166,)) -> 0 | Q166: =((M166+M167)/2) * (B167 - B166) -> 2.0623112 | R166: =IF(Q166>0,Q166,) -> 2.0623112 | S166: =SUM($R$3:R166) -> 103.80922 | T166: =ABS(IF(Q166<0,Q166,)) -> 0 | U166: =SUM($T$3:T166) -> 38.03724 | W166: =U166*'KERS Calcs'!$F$4 -> 33.472771 | X166: =O166*'KERS Calcs'!$F$30 -> 0 | Y166: =T166*'KERS Calcs'!$F$30 -> 0 | Z166: =SUM($Y$3:Y166) -> 20.456445
... A173: Low | B173: 170 | C173: 170 | D173: 38 | E173: 10.555556 | F173: 0.027777778 | G173: ='Bike Data'!$C$4*$F173 -> 7.8611111 | H173: =0.5*'Bike Data'!$C$12*'Bike Data'!$C$7*'Bike Data'!$C$6*'WLTP Calcs'!E173^2 -> 22.930185 | I173: =0.02 *'Bike Data'!C$4*9.81 -> 55.5246 | J173: =SUM(G173:I173) -> 86.315896 | K173: =IF(J173>0,J173,) -> 86.315896 | L173: =IF(J173<0,J173,)*-1 -> 0 | M173: =(E173/1000)*(I173+H173+('Bike Data'!C$4*'Bike Data'!C$10*F173)) -> 0.93620076 | N173: =IF(M173>0,M173,) -> 0.93620076 | O173: =ABS(IF(M173<0,M173,)) -> 0 | Q173: =((M173+M174)/2) * (B174 - B173) -> 0.10078344 | R173: =IF(Q173>0,Q173,) -> 0.10078344 | S173: =SUM($R$3:R173) -> 115.91415 | T173: =ABS(IF(Q173<0,Q173,)) -> 0 | U173: =SUM($T$3:T173) -> 38.03724 | W173: =U173*'KERS Calcs'!$F$4 -> 33.472771 | X173: =O173*'KERS Calcs'!$F$30 -> 0 | Y173: =T173*'KERS Calcs'!$F$30 -> 0 | Z173: =SUM($Y$3:Y173) -> 20.456445
A174: Low | B174: 171 | C174: 171 | D174: 37.4 | E174: 10.388889 | F174: -0.40277778 | G174: ='Bike Data'!$C$4*$F174 -> -113.98611 | H174: =0.5*'Bike Data'!$C$12*'Bike Data'!$C$7*'Bike Data'!$C$6*'WLTP Calcs'!E174^2 -> 22.211791 | I174: =0.02 *'Bike Data'!C$4*9.81 -> 55.5246 | J174: =SUM(G174:I174) -> -36.24972 | K174: =IF(J174>0,J174,) -> 0 | L174: =IF(J174<0,J174,)*-1 -> 36.24972 | M174: =(E174/1000)*(I174+H174+('Bike Data'!C$4*'Bike Data'!C$10*F174)) -> -0.73463387 | N174: =IF(M174>0,M174,) -> 0 | O174: =ABS(IF(M174<0,M174,)) -> 0.73463387 | P174: =SUM(O174:O178) -> 8.0621525 | Q174: =((M174+M175)/2) * (B175 - B174) -> -1.5983759 | R174: =IF(Q174>0,Q174,) -> 0 | S174: =SUM($R$3:R174) -> 115.91415 | T174: =ABS(IF(Q174<0,Q174,)) -> 1.5983759 | U174: =SUM($T$3:T174) -> 39.635616 | V174: =SUM(T174:T177) -> 7.5659103 | W174: =U174*'KERS Calcs'!$F$4 -> 34.879342 | X174: =O174*'KERS Calcs'!$F$30 -> 0.39508644 | Y174: =T174*'KERS Calcs'!$F$30 -> 0.85960731 | Z174: =SUM($Y$3:Y174) -> 21.316053
A175: Low | B175: 172 | C175: 172 | D175: 35.1 | E175: 9.75 | F175: -0.88888889 | G175: ='Bike Data'!$C$4*$F175 -> -251.55556 | H175: =0.5*'Bike Data'!$C$12*'Bike Data'!$C$7*'Bike Data'!$C$6*'WLTP Calcs'!E175^2 -> 19.563863 | I175: =0.02 *'Bike Data'!C$4*9.81 -> 55.5246 | J175: =SUM(G175:I175) -> -176.46709 | K175: =IF(J175>0,J175,) -> 0 | L175: =IF(J175<0,J175,)*-1 -> 176.46709 | M175: =(E175/1000)*(I175+H175+('Bike Data'!C$4*'Bike Data'!C$10*F175)) -> -2.4621179 | N175: =IF(M175>0,M175,) -> 0 | O175: =ABS(IF(M175<0,M175,)) -> 2.4621179 | Q175: =((M175+M176)/2) * (B176 - B175) -> -2.6894875 | R175: =IF(Q175>0,Q175,) -> 0 | S175: =SUM($R$3:R175) -> 115.91415 | T175: =ABS(IF(Q175<0,Q175,)) -> 2.6894875 | U175: =SUM($T$3:T175) -> 42.325103 | W175: =U175*'KERS Calcs'!$F$4 -> 37.246091 | X175: =O175*'KERS Calcs'!$F$30 -> 1.3241282 | Y175: =T175*'KERS Calcs'!$F$30 -> 1.4464077 | Z175: =SUM($Y$3:Y175) -> 22.76246
A176: Low | B176: 173 | C176: 173 | D176: 31 | E176: 8.6111111 | F176: -1.1111111 | G176: ='Bike Data'!$C$4*$F176 -> -314.44444 | H176: =0.5*'Bike Data'!$C$12*'Bike Data'!$C$7*'Bike Data'!$C$6*'WLTP Calcs'!E176^2 -> 15.260324 | I176: =0.02 *'Bike Data'!C$4*9.81 -> 55.5246 | J176: =SUM(G176:I176) -> -243.65952 | K176: =IF(J176>0,J176,) -> 0 | L176: =IF(J176<0,J176,)*-1 -> 243.65952 | M176: =(E176/1000)*(I176+H176+('Bike Data'!C$4*'Bike Data'!C$10*F176)) -> -2.9168572 | N176: =IF(M176>0,M176,) -> 0 | O176: =ABS(IF(M176<0,M176,)) -> 2.9168572 | Q176: =((M176+M177)/2) * (B177 - B176) -> -2.3037751 | R176: =IF(Q176>0,Q176,) -> 0 | S176: =SUM($R$3:R176) -> 115.91415 | T176: =ABS(IF(Q176<0,Q176,)) -> 2.3037751 | U176: =SUM($T$3:T176) -> 44.628878 | W176: =U176*'KERS Calcs'!$F$4 -> 39.273413 | X176: =O176*'KERS Calcs'!$F$30 -> 1.5686872 | Y176: =T176*'KERS Calcs'!$F$30 -> 1.2389713 | Z176: =SUM($Y$3:Y176) -> 24.001432
A177: Low | B177: 174 | C177: 174 | D177: 27.1 | E177: 7.5277778 | F177: -0.79166667 | G177: ='Bike Data'!$C$4*$F177 -> -224.04167 | H177: =0.5*'Bike Data'!$C$12*'Bike Data'!$C$7*'Bike Data'!$C$6*'WLTP Calcs'!E177^2 -> 11.662159 | I177: =0.02 *'Bike Data'!C$4*9.81 -> 55.5246 | J177: =SUM(G177:I177) -> -156.85491 | K177: =IF(J177>0,J177,) -> 0 | L177: =IF(J177<0,J177,)*-1 -> 156.85491 | M177: =(E177/1000)*(I177+H177+('Bike Data'!C$4*'Bike Data'!C$10*F177)) -> -1.690693 | N177: =IF(M177>0,M177,) -> 0 | O177: =ABS(IF(M177<0,M177,)) -> 1.690693 | Q177: =((M177+M178)/2) * (B178 - B177) -> -0.97427175 | R177: =IF(Q177>0,Q177,) -> 0 | S177: =SUM($R$3:R177) -> 115.91415 | T177: =ABS(IF(Q177<0,Q177,)) -> 0.97427175 | U177: =SUM($T$3:T177) -> 45.60315 | W177: =U177*'KERS Calcs'!$F$4 -> 40.130772 | X177: =O177*'KERS Calcs'!$F$30 -> 0.9092555 | Y177: =T177*'KERS Calcs'!$F$30 -> 0.52396381 | Z177: =SUM($Y$3:Y177) -> 24.525396
A178: Low | B178: 175 | C178: 175 | D178: 25.3 | E178: 7.0277778 | F178: -0.27777778 | G178: ='Bike Data'!$C$4*$F178 -> -78.611111 | H178: =0.5*'Bike Data'!$C$12*'Bike Data'!$C$7*'Bike Data'!$C$6*'WLTP Calcs'!E178^2 -> 10.164392 | I178: =0.02 *'Bike Data'!C$4*9.81 -> 55.5246 | J178: =SUM(G178:I178) -> -12.922119 | K178: =IF(J178>0,J178,) -> 0 | L178: =IF(J178<0,J178,)*-1 -> 12.922119 | M178: =(E178/1000)*(I178+H178+('Bike Data'!C$4*'Bike Data'!C$10*F178)) -> -0.25785049 | N178: =IF(M178>0,M178,) -> 0 | O178: =ABS(IF(M178<0,M178,)) -> 0.25785049 | Q178: =((M178+M179)/2) * (B179 - B178) -> 0.20658743 | R178: =IF(Q178>0,Q178,) -> 0.20658743 | S178: =SUM($R$3:R178) -> 116.12074 | T178: =ABS(IF(Q178<0,Q178,)) -> 0 | U178: =SUM($T$3:T178) -> 45.60315 | W178: =U178*'KERS Calcs'!$F$4 -> 40.130772 | X178: =O178*'KERS Calcs'!$F$30 -> 0.13867212 | Y178: =T178*'KERS Calcs'!$F$30 -> 0 | Z178: =SUM($Y$3:Y178) -> 24.525396
A179: Low | B179: 176 | C179: 176 | D179: 25.1 | E179: 6.9722222 | F179: 0.083333333 | G179: ='Bike Data'!$C$4*$F179 -> 23.583333 | H179: =0.5*'Bike Data'!$C$12*'Bike Data'!$C$7*'Bike Data'!$C$6*'WLTP Calcs'!E179^2 -> 10.004325 | I179: =0.02 *'Bike Data'!C$4*9.81 -> 55.5246 | J179: =SUM(G179:I179) -> 89.112259 | K179: =IF(J179>0,J179,) -> 89.112259 | L179: =IF(J179<0,J179,)*-1 -> 0 | M179: =(E179/1000)*(I179+H179+('Bike Data'!C$4*'Bike Data'!C$10*F179)) -> 0.67102535 | N179: =IF(M179>0,M179,) -> 0.67102535 | O179: =ABS(IF(M179<0,M179,)) -> 0 | Q179: =((M179+M180)/2) * (B180 - B179) -> 1.0707443 | R179: =IF(Q179>0,Q179,) -> 1.0707443 | S179: =SUM($R$3:R179) -> 117.19149 | T179: =ABS(IF(Q179<0,Q179,)) -> 0 | U179: =SUM($T$3:T179) -> 45.60315 | W179: =U179*'KERS Calcs'!$F$4 -> 40.130772 | X179: =O179*'KERS Calcs'!$F$30 -> 0 | Y179: =T179*'KERS Calcs'!$F$30 -> 0 | Z179: =SUM($Y$3:Y179) -> 24.525396
A180: Low | B180: 177 | C180: 177 | D180: 25.9 | E180: 7.1944444 | F180: 0.375 | G180: ='Bike Data'!$C$4*$F180 -> 106.125 | H180: =0.5*'Bike Data'!$C$12*'Bike Data'!$C$7*'Bike Data'!$C$6*'WLTP Calcs'!E180^2 -> 10.652214 | I180: =0.02 *'Bike Data'!C$4*9.81 -> 55.5246 | J180: =SUM(G180:I180) -> 172.30181 | K180: =IF(J180>0,J180,) -> 172.30181 | L180: =IF(J180<0,J180,)*-1 -> 0 | M180: =(E180/1000)*(I180+H180+('Bike Data'!C$4*'Bike Data'!C$10*F180)) -> 1.4704632 | N180: =IF(M180>0,M180,) -> 1.4704632 | O180: =ABS(IF(M180<0,M180,)) -> 0 | Q180: =((M180+M181)/2) * (B181 - B180) -> 1.6492441 | R180: =IF(Q180>0,Q180,) -> 1.6492441 | S180: =SUM($R$3:R180) -> 118.84073 | T180: =ABS(IF(Q180<0,Q180,)) -> 0 | U180: =SUM($T$3:T180) -> 45.60315 | W180: =U180*'KERS Calcs'!$F$4 -> 40.130772 | X180: =O180*'KERS Calcs'!$F$30 -> 0 | Y180: =T180*'KERS Calcs'!$F$30 -> 0 | Z180: =SUM($Y$3:Y180) -> 24.525396
A181: Low | B181: 178 | C181: 178 | D181: 27.8 | E181: 7.7222222 | F181: 0.45833333 | G181: ='Bike Data'!$C$4*$F181 -> 129.70833 | H181: =0.5*'Bike Data'!$C$12*'Bike Data'!$C$7*'Bike Data'!$C$6*'WLTP Calcs'!E181^2 -> 12.272413 | I181: =0.02 *'Bike Data'!C$4*9.81 -> 55.5246 | J181: =SUM(G181:I181) -> 197.50535 | K181: =IF(J181>0,J181,) -> 197.50535 | L181: =IF(J181<0,J181,)*-1 -> 0 | M181: =(E181/1000)*(I181+H181+('Bike Data'!C$4*'Bike Data'!C$10*F181)) -> 1.828025 | N181: =IF(M181>0,M181,) -> 1.828025 | O181: =ABS(IF(M181<0,M181,)) -> 0 | Q181: =((M181+M182)/2) * (B182 - B181) -> 1.5677902 | R181: =IF(Q181>0,Q181,) -> 1.5677902 | S181: =SUM($R$3:R181) -> 120.40852 | T181: =ABS(IF(Q181<0,Q181,)) -> 0 | U181: =SUM($T$3:T181) -> 45.60315 | W181: =U181*'KERS Calcs'!$F$4 -> 40.130772 | X181: =O181*'KERS Calcs'!$F$30 -> 0 | Y181: =T181*'KERS Calcs'!$F$30 -> 0 | Z181: =SUM($Y$3:Y181) -> 24.525396
A182: Low | B182: 179 | C182: 179 | D182: 29.2 | E182: 8.1111111 | F182: 0.25 | G182: ='Bike Data'!$C$4*$F182 -> 70.75 | H182: =0.5*'Bike Data'!$C$12*'Bike Data'!$C$7*'Bike Data'!$C$6*'WLTP Calcs'!E182^2 -> 13.539607 | I182: =0.02 *'Bike Data'!C$4*9.81 -> 55.5246 | J182: =SUM(G182:I182) -> 139.81421 | K182: =IF(J182>0,J182,) -> 139.81421 | L182: =IF(J182<0,J182,)*-1 -> 0 | M182: =(E182/1000)*(I182+H182+('Bike Data'!C$4*'Bike Data'!C$10*F182)) -> 1.3075555 | N182: =IF(M182>0,M182,) -> 1.3075555 | O182: =ABS(IF(M182<0,M182,)) -> 0 | Q182: =((M182+M183)/2) * (B183 - B182) -> 1.0023777 | R182: =IF(Q182>0,Q182,) -> 1.0023777 | S182: =SUM($R$3:R182) -> 121.4109 | T182: =ABS(IF(Q182<0,Q182,)) -> 0 | U182: =SUM($T$3:T182) -> 45.60315 | W182: =U182*'KERS Calcs'!$F$4 -> 40.130772 | X182: =O182*'KERS Calcs'!$F$30 -> 0 | Y182: =T182*'KERS Calcs'!$F$30 -> 0 | Z182: =SUM($Y$3:Y182) -> 24.525396
A183: Low | B183: 180 | C183: 180 | D183: 29.6 | E183: 8.2222222 | F183: 0.041666667 | G183: ='Bike Data'!$C$4*$F183 -> 11.791667 | H183: =0.5*'Bike Data'!$C$12*'Bike Data'!$C$7*'Bike Data'!$C$6*'WLTP Calcs'!E183^2 -> 13.913096 | I183: =0.02 *'Bike Data'!C$4*9.81 -> 55.5246 | J183: =SUM(G183:I183) -> 81.229363 | K183: =IF(J183>0,J183,) -> 81.229363 | L183: =IF(J183<0,J183,)*-1 -> 0 | M183: =(E183/1000)*(I183+H183+('Bike Data'!C$4*'Bike Data'!C$10*F183)) -> 0.69719983 | N183: =IF(M183>0,M183,) -> 0.69719983 | O183: =ABS(IF(M183<0,M183,)) -> 0 | Q183: =((M183+M184)/2) * (B184 - B183) -> 0.54882302 | R183: =IF(Q183>0,Q183,) -> 0.54882302 | S183: =SUM($R$3:R183) -> 121.95972 | T183: =ABS(IF(Q183<0,Q183,)) -> 0 | U183: =SUM($T$3:T183) -> 45.60315 | W183: =U183*'KERS Calcs'!$F$4 -> 40.130772 | X183: =O183*'KERS Calcs'!$F$30 -> 0 | Y183: =T183*'KERS Calcs'!$F$30 -> 0 | Z183: =SUM($Y$3:Y183) -> 24.525396
A184: Low | B184: 181 | C184: 181 | D184: 29.5 | E184: 8.1944444 | F184: -0.055555556 | G184: ='Bike Data'!$C$4*$F184 -> -15.722222 | H184: =0.5*'Bike Data'!$C$12*'Bike Data'!$C$7*'Bike Data'!$C$6*'WLTP Calcs'!E184^2 -> 13.819248 | I184: =0.02 *'Bike Data'!C$4*9.81 -> 55.5246 | J184: =SUM(G184:I184) -> 53.621625 | K184: =IF(J184>0,J184,) -> 53.621625 | L184: =IF(J184<0,J184,)*-1 -> 0 | M184: =(E184/1000)*(I184+H184+('Bike Data'!C$4*'Bike Data'!C$10*F184)) -> 0.40044621 | N184: =IF(M184>0,M184,) -> 0.40044621 | O184: =ABS(IF(M184<0,M184,)) -> 0 | Q184: =((M184+M185)/2) * (B185 - B184) -> 0.23119416 | R184: =IF(Q184>0,Q184,) -> 0.23119416 | S184: =SUM($R$3:R184) -> 122.19092 | T184: =ABS(IF(Q184<0,Q184,)) -> 0 | U184: =SUM($T$3:T184) -> 45.60315 | W184: =U184*'KERS Calcs'!$F$4 -> 40.130772 | X184: =O184*'KERS Calcs'!$F$30 -> 0 | Y184: =T184*'KERS Calcs'!$F$30 -> 0 | Z184: =SUM($Y$3:Y184) -> 24.525396
A185: Low | B185: 182 | C185: 182 | D185: 29.2 | E185: 8.1111111 | F185: -0.16666667 | G185: ='Bike Data'!$C$4*$F185 -> -47.166667 | H185: =0.5*'Bike Data'!$C$12*'Bike Data'!$C$7*'Bike Data'!$C$6*'WLTP Calcs'!E185^2 -> 13.539607 | I185: =0.02 *'Bike Data'!C$4*9.81 -> 55.5246 | J185: =SUM(G185:I185) -> 21.897541 | K185: =IF(J185>0,J185,) -> 21.897541 | L185: =IF(J185<0,J185,)*-1 -> 0 | M185: =(E185/1000)*(I185+H185+('Bike Data'!C$4*'Bike Data'!C$10*F185)) -> 0.061942115 | N185: =IF(M185>0,M185,) -> 0.061942115 | O185: =ABS(IF(M185<0,M185,)) -> 0 | Q185: =((M185+M186)/2) * (B186 - B185) -> -0.32452919 | R185: =IF(Q185>0,Q185,) -> 0 | S185: =SUM($R$3:R185) -> 122.19092 | T185: =ABS(IF(Q185<0,Q185,)) -> 0.32452919 | U185: =SUM($T$3:T185) -> 45.927679 | V185: =SUM(T185:T194) -> 6.0819823 | W185: =U185*'KERS Calcs'!$F$4 -> 40.416358 | X185: =O185*'KERS Calcs'!$F$30 -> 0 | Y185: =T185*'KERS Calcs'!$F$30 -> 0.17453195 | Z185: =SUM($Y$3:Y185) -> 24.699928
A186: Low | B186: 183 | C186: 183 | D186: 28.3 | E186: 7.8611111 | F186: -0.43055556 | G186: ='Bike Data'!$C$4*$F186 -> -121.84722 | H186: =0.5*'Bike Data'!$C$12*'Bike Data'!$C$7*'Bike Data'!$C$6*'WLTP Calcs'!E186^2 -> 12.717837 | I186: =0.02 *'Bike Data'!C$4*9.81 -> 55.5246 | J186: =SUM(G186:I186) -> -53.604786 | K186: =IF(J186>0,J186,) -> 0 | L186: =IF(J186<0,J186,)*-1 -> 53.604786 | M186: =(E186/1000)*(I186+H186+('Bike Data'!C$4*'Bike Data'!C$10*F186)) -> -0.7110005 | N186: =IF(M186>0,M186,) -> 0 | O186: =ABS(IF(M186<0,M186,)) -> 0.7110005 | P186: =SUM(O186:O194) -> 6.1071119 | Q186: =((M186+M187)/2) * (B187 - B186) -> -0.98715328 | R186: =IF(Q186>0,Q186,) -> 0 | S186: =SUM($R$3:R186) -> 122.19092 | T186: =ABS(IF(Q186<0,Q186,)) -> 0.98715328 | U186: =SUM($T$3:T186) -> 46.914832 | W186: =U186*'KERS Calcs'!$F$4 -> 41.285052 | X186: =O186*'KERS Calcs'!$F$30 -> 0.3823764 | Y186: =T186*'KERS Calcs'!$F$30 -> 0.5308915 | Z186: =SUM($Y$3:Y186) -> 25.230819
A187: Low | B187: 184 | C187: 184 | D187: 26.1 | E187: 7.25 | F187: -0.65277778 | G187: ='Bike Data'!$C$4*$F187 -> -184.73611 | H187: =0.5*'Bike Data'!$C$12*'Bike Data'!$C$7*'Bike Data'!$C$6*'WLTP Calcs'!E187^2 -> 10.817363 | I187: =0.02 *'Bike Data'!C$4*9.81 -> 55.5246 | J187: =SUM(G187:I187) -> -118.39415 | K187: =IF(J187>0,J187,) -> 0 | L187: =IF(J187<0,J187,)*-1 -> 118.39415 | M187: =(E187/1000)*(I187+H187+('Bike Data'!C$4*'Bike Data'!C$10*F187)) -> -1.2633061 | N187: =IF(M187>0,M187,) -> 0 | O187: =ABS(IF(M187<0,M187,)) -> 1.2633061 | Q187: =((M187+M188)/2) * (B188 - B187) -> -1.2763853 | R187: =IF(Q187>0,Q187,) -> 0 | S187: =SUM($R$3:R187) -> 122.19092 | T187: =ABS(IF(Q187<0,Q187,)) -> 1.2763853 | U187: =SUM($T$3:T187) -> 48.191218 | W187: =U187*'KERS Calcs'!$F$4 -> 42.408272 | X187: =O187*'KERS Calcs'!$F$30 -> 0.6794066 | Y187: =T187*'KERS Calcs'!$F$30 -> 0.68644064 | Z187: =SUM($Y$3:Y187) -> 25.91726
A188: Low | B188: 185 | C188: 185 | D188: 23.6 | E188: 6.5555556 | F188: -0.70833333 | G188: ='Bike Data'!$C$4*$F188 -> -200.45833 | H188: =0.5*'Bike Data'!$C$12*'Bike Data'!$C$7*'Bike Data'!$C$6*'WLTP Calcs'!E188^2 -> 8.8443185 | I188: =0.02 *'Bike Data'!C$4*9.81 -> 55.5246 | J188: =SUM(G188:I188) -> -136.08941 | K188: =IF(J188>0,J188,) -> 0 | L188: =IF(J188<0,J188,)*-1 -> 136.08941 | M188: =(E188/1000)*(I188+H188+('Bike Data'!C$4*'Bike Data'!C$10*F188)) -> -1.2894646 | N188: =IF(M188>0,M188,) -> 0 | O188: =ABS(IF(M188<0,M188,)) -> 1.2894646 | Q188: =((M188+M189)/2) * (B189 - B188) -> -1.1640843 | R188: =IF(Q188>0,Q188,) -> 0 | S188: =SUM($R$3:R188) -> 122.19092 | T188: =ABS(IF(Q188<0,Q188,)) -> 1.1640843 | U188: =SUM($T$3:T188) -> 49.355302 | W188: =U188*'KERS Calcs'!$F$4 -> 43.432666 | X188: =O188*'KERS Calcs'!$F$30 -> 0.69347468 | Y188: =T188*'KERS Calcs'!$F$30 -> 0.62604511 | Z188: =SUM($Y$3:Y188) -> 26.543305
A189: Low | B189: 186 | C189: 186 | D189: 21 | E189: 5.8333333 | F189: -0.65277778 | G189: ='Bike Data'!$C$4*$F189 -> -184.73611 | H189: =0.5*'Bike Data'!$C$12*'Bike Data'!$C$7*'Bike Data'!$C$6*'WLTP Calcs'!E189^2 -> 7.0029167 | I189: =0.02 *'Bike Data'!C$4*9.81 -> 55.5246 | J189: =SUM(G189:I189) -> -122.20859 | K189: =IF(J189>0,J189,) -> 0 | L189: =IF(J189<0,J189,)*-1 -> 122.20859 | M189: =(E189/1000)*(I189+H189+('Bike Data'!C$4*'Bike Data'!C$10*F189)) -> -1.0387041 | N189: =IF(M189>0,M189,) -> 0 | O189: =ABS(IF(M189<0,M189,)) -> 1.0387041 | Q189: =((M189+M190)/2) * (B190 - B189) -> -0.88276345 | R189: =IF(Q189>0,Q189,) -> 0 | S189: =SUM($R$3:R189) -> 122.19092 | T189: =ABS(IF(Q189<0,Q189,)) -> 0.88276345 | U189: =SUM($T$3:T189) -> 50.238066 | W189: =U189*'KERS Calcs'!$F$4 -> 44.209498 | X189: =O189*'KERS Calcs'!$F$30 -> 0.55861555 | Y189: =T189*'KERS Calcs'!$F$30 -> 0.4747506 | Z189: =SUM($Y$3:Y189) -> 27.018055
A190: Low | B190: 187 | C190: 187 | D190: 18.9 | E190: 5.25 | F190: -0.54166667 | G190: ='Bike Data'!$C$4*$F190 -> -153.29167 | H190: =0.5*'Bike Data'!$C$12*'Bike Data'!$C$7*'Bike Data'!$C$6*'WLTP Calcs'!E190^2 -> 5.6723625 | I190: =0.02 *'Bike Data'!C$4*9.81 -> 55.5246 | J190: =SUM(G190:I190) -> -92.094704 | K190: =IF(J190>0,J190,) -> 0 | L190: =IF(J190<0,J190,)*-1 -> 92.094704 | M190: =(E190/1000)*(I190+H190+('Bike Data'!C$4*'Bike Data'!C$10*F190)) -> -0.72682281 | N190: =IF(M190>0,M190,) -> 0 | O190: =ABS(IF(M190<0,M190,)) -> 0.72682281 | Q190: =((M190+M191)/2) * (B191 - B190) -> -0.60955338 | R190: =IF(Q190>0,Q190,) -> 0 | S190: =SUM($R$3:R190) -> 122.19092 | T190: =ABS(IF(Q190<0,Q190,)) -> 0.60955338 | U190: =SUM($T$3:T190) -> 50.847619 | W190: =U190*'KERS Calcs'!$F$4 -> 44.745905 | X190: =O190*'KERS Calcs'!$F$30 -> 0.39088565 | Y190: =T190*'KERS Calcs'!$F$30 -> 0.32781809 | Z190: =SUM($Y$3:Y190) -> 27.345873
A191: Low | B191: 188 | C191: 188 | D191: 17.1 | E191: 4.75 | F191: -0.44444444 | G191: ='Bike Data'!$C$4*$F191 -> -125.77778 | H191: =0.5*'Bike Data'!$C$12*'Bike Data'!$C$7*'Bike Data'!$C$6*'WLTP Calcs'!E191^2 -> 4.6433625 | I191: =0.02 *'Bike Data'!C$4*9.81 -> 55.5246 | J191: =SUM(G191:I191) -> -65.609815 | K191: =IF(J191>0,J191,) -> 0 | L191: =IF(J191<0,J191,)*-1 -> 65.609815 | M191: =(E191/1000)*(I191+H191+('Bike Data'!C$4*'Bike Data'!C$10*F191)) -> -0.49228395 | N191: =IF(M191>0,M191,) -> 0 | O191: =ABS(IF(M191<0,M191,)) -> 0.49228395 | Q191: =((M191+M192)/2) * (B192 - B191) -> -0.40674897 | R191: =IF(Q191>0,Q191,) -> 0 | S191: =SUM($R$3:R191) -> 122.19092 | T191: =ABS(IF(Q191<0,Q191,)) -> 0.40674897 | U191: =SUM($T$3:T191) -> 51.254368 | W191: =U191*'KERS Calcs'!$F$4 -> 45.103844 | X191: =O191*'KERS Calcs'!$F$30 -> 0.26475054 | Y191: =T191*'KERS Calcs'!$F$30 -> 0.21874979 | Z191: =SUM($Y$3:Y191) -> 27.564623
A192: Low | B192: 189 | C192: 189 | D192: 15.7 | E192: 4.3611111 | F192: -0.36111111 | G192: ='Bike Data'!$C$4*$F192 -> -102.19444 | H192: =0.5*'Bike Data'!$C$12*'Bike Data'!$C$7*'Bike Data'!$C$6*'WLTP Calcs'!E192^2 -> 3.9141699 | I192: =0.02 *'Bike Data'!C$4*9.81 -> 55.5246 | J192: =SUM(G192:I192) -> -42.755675 | K192: =IF(J192>0,J192,) -> 0 | L192: =IF(J192<0,J192,)*-1 -> 42.755675 | M192: =(E192/1000)*(I192+H192+('Bike Data'!C$4*'Bike Data'!C$10*F192)) -> -0.321214 | N192: =IF(M192>0,M192,) -> 0 | O192: =ABS(IF(M192<0,M192,)) -> 0.321214 | Q192: =((M192+M193)/2) * (B193 - B192) -> -0.24824316 | R192: =IF(Q192>0,Q192,) -> 0 | S192: =SUM($R$3:R192) -> 122.19092 | T192: =ABS(IF(Q192<0,Q192,)) -> 0.24824316 | U192: =SUM($T$3:T192) -> 51.502611 | W192: =U192*'KERS Calcs'!$F$4 -> 45.322298 | X192: =O192*'KERS Calcs'!$F$30 -> 0.17274904 | Y192: =T192*'KERS Calcs'!$F$30 -> 0.13350529 | Z192: =SUM($Y$3:Y192) -> 27.698129
A193: Low | B193: 190 | C193: 190 | D193: 14.5 | E193: 4.0277778 | F193: -0.27777778 | G193: ='Bike Data'!$C$4*$F193 -> -78.611111 | H193: =0.5*'Bike Data'!$C$12*'Bike Data'!$C$7*'Bike Data'!$C$6*'WLTP Calcs'!E193^2 -> 3.3386921 | I193: =0.02 *'Bike Data'!C$4*9.81 -> 55.5246 | J193: =SUM(G193:I193) -> -19.747819 | K193: =IF(J193>0,J193,) -> 0 | L193: =IF(J193<0,J193,)*-1 -> 19.747819 | M193: =(E193/1000)*(I193+H193+('Bike Data'!C$4*'Bike Data'!C$10*F193)) -> -0.17527233 | N193: =IF(M193>0,M193,) -> 0 | O193: =ABS(IF(M193<0,M193,)) -> 0.17527233 | Q193: =((M193+M194)/2) * (B194 - B193) -> -0.13215792 | R193: =IF(Q193>0,Q193,) -> 0 | S193: =SUM($R$3:R193) -> 122.19092 | T193: =ABS(IF(Q193<0,Q193,)) -> 0.13215792 | U193: =SUM($T$3:T193) -> 51.634769 | W193: =U193*'KERS Calcs'!$F$4 -> 45.438597 | X193: =O193*'KERS Calcs'!$F$30 -> 0.094261541 | Y193: =T193*'KERS Calcs'!$F$30 -> 0.071074594 | Z193: =SUM($Y$3:Y193) -> 27.769203
A194: Low | B194: 191 | C194: 191 | D194: 13.7 | E194: 3.8055556 | F194: -0.22222222 | G194: ='Bike Data'!$C$4*$F194 -> -62.888889 | H194: =0.5*'Bike Data'!$C$12*'Bike Data'!$C$7*'Bike Data'!$C$6*'WLTP Calcs'!E194^2 -> 2.9804477 | I194: =0.02 *'Bike Data'!C$4*9.81 -> 55.5246 | J194: =SUM(G194:I194) -> -4.3838412 | K194: =IF(J194>0,J194,) -> 0 | L194: =IF(J194<0,J194,)*-1 -> 4.3838412 | M194: =(E194/1000)*(I194+H194+('Bike Data'!C$4*'Bike Data'!C$10*F194)) -> -0.089043518 | N194: =IF(M194>0,M194,) -> 0 | O194: =ABS(IF(M194<0,M194,)) -> 0.089043518 | Q194: =((M194+M195)/2) * (B195 - B194) -> -0.050363272 | R194: =IF(Q194>0,Q194,) -> 0 | S194: =SUM($R$3:R194) -> 122.19092 | T194: =ABS(IF(Q194<0,Q194,)) -> 0.050363272 | U194: =SUM($T$3:T194) -> 51.685132 | W194: =U194*'KERS Calcs'!$F$4 -> 45.482916 | X194: =O194*'KERS Calcs'!$F$30 -> 0.047887646 | Y194: =T194*'KERS Calcs'!$F$30 -> 0.027085391 | Z194: =SUM($Y$3:Y194) -> 27.796289
A195: Low | B195: 192 | C195: 192 | D195: 12.9 | E195: 3.5833333 | F195: -0.16666667 | G195: ='Bike Data'!$C$4*$F195 -> -47.166667 | H195: =0.5*'Bike Data'!$C$12*'Bike Data'!$C$7*'Bike Data'!$C$6*'WLTP Calcs'!E195^2 -> 2.6425292 | I195: =0.02 *'Bike Data'!C$4*9.81 -> 55.5246 | J195: =SUM(G195:I195) -> 11.000463 | K195: =IF(J195>0,J195,) -> 11.000463 | L195: =IF(J195<0,J195,)*-1 -> 0 | M195: =(E195/1000)*(I195+H195+('Bike Data'!C$4*'Bike Data'!C$10*F195)) -> -0.011683025 | N195: =IF(M195>0,M195,) -> 0 | O195: =ABS(IF(M195<0,M195,)) -> 0.011683025 | Q195: =((M195+M196)/2) * (B196 - B195) -> 0.032653416 | R195: =IF(Q195>0,Q195,) -> 0.032653416 | S195: =SUM($R$3:R195) -> 122.22357 | T195: =ABS(IF(Q195<0,Q195,)) -> 0 | U195: =SUM($T$3:T195) -> 51.685132 | W195: =U195*'KERS Calcs'!$F$4 -> 45.482916 | X195: =O195*'KERS Calcs'!$F$30 -> 0.0062831365 | Y195: =T195*'KERS Calcs'!$F$30 -> 0 | Z195: =SUM($Y$3:Y195) -> 27.796289
A196: Low | B196: 193 | C196: 193 | D196: 12.5 | E196: 3.4722222 | F196: -0.097222222 | G196: ='Bike Data'!$C$4*$F196 -> -27.513889 | H196: =0.5*'Bike Data'!$C$12*'Bike Data'!$C$7*'Bike Data'!$C$6*'WLTP Calcs'!E196^2 -> 2.4811921 | I196: =0.02 *'Bike Data'!C$4*9.81 -> 55.5246 | J196: =SUM(G196:I196) -> 30.491903 | K196: =IF(J196>0,J196,) -> 30.491903 | L196: =IF(J196<0,J196,)*-1 -> 0 | M196: =(E196/1000)*(I196+H196+('Bike Data'!C$4*'Bike Data'!C$10*F196)) -> 0.076989857 | N196: =IF(M196>0,M196,) -> 0.076989857 | O196: =ABS(IF(M196<0,M196,)) -> 0 | Q196: =((M196+M197)/2) * (B197 - B196) -> 0.093214181 | R196: =IF(Q196>0,Q196,) -> 0.093214181 | S196: =SUM($R$3:R196) -> 122.31678 | T196: =ABS(IF(Q196<0,Q196,)) -> 0 | U196: =SUM($T$3:T196) -> 51.685132 | W196: =U196*'KERS Calcs'!$F$4 -> 45.482916 | X196: =O196*'KERS Calcs'!$F$30 -> 0 | Y196: =T196*'KERS Calcs'!$F$30 -> 0 | Z196: =SUM($Y$3:Y196) -> 27.796289
A197: Low | B197: 194 | C197: 194 | D197: 12.2 | E197: 3.3888889 | F197: -0.069444444 | G197: ='Bike Data'!$C$4*$F197 -> -19.652778 | H197: =0.5*'Bike Data'!$C$12*'Bike Data'!$C$7*'Bike Data'!$C$6*'WLTP Calcs'!E197^2 -> 2.3635241 | I197: =0.02 *'Bike Data'!C$4*9.81 -> 55.5246 | J197: =SUM(G197:I197) -> 38.235346 | K197: =IF(J197>0,J197,) -> 38.235346 | L197: =IF(J197<0,J197,)*-1 -> 0 | M197: =(E197/1000)*(I197+H197+('Bike Data'!C$4*'Bike Data'!C$10*F197)) -> 0.1094385 | N197: =IF(M197>0,M197,) -> 0.1094385 | O197: =ABS(IF(M197<0,M197,)) -> 0 | Q197: =((M197+M198)/2) * (B198 - B197) -> 0.13400817 | R197: =IF(Q197>0,Q197,) -> 0.13400817 | S197: =SUM($R$3:R197) -> 122.45079 | T197: =ABS(IF(Q197<0,Q197,)) -> 0 | U197: =SUM($T$3:T197) -> 51.685132 | W197: =U197*'KERS Calcs'!$F$4 -> 45.482916 | X197: =O197*'KERS Calcs'!$F$30 -> 0 | Y197: =T197*'KERS Calcs'!$F$30 -> 0 | Z197: =SUM($Y$3:Y197) -> 27.796289
A198: Low | B198: 195 | C198: 195 | D198: 12 | E198: 3.3333333 | F198: -0.027777778 | G198: ='Bike Data'!$C$4*$F198 -> -7.8611111 | H198: =0.5*'Bike Data'!$C$12*'Bike Data'!$C$7*'Bike Data'!$C$6*'WLTP Calcs'!E198^2 -> 2.2866667 | I198: =0.02 *'Bike Data'!C$4*9.81 -> 55.5246 | J198: =SUM(G198:I198) -> 49.950156 | K198: =IF(J198>0,J198,) -> 49.950156 | L198: =IF(J198<0,J198,)*-1 -> 0 | M198: =(E198/1000)*(I198+H198+('Bike Data'!C$4*'Bike Data'!C$10*F198)) -> 0.15857783 | N198: =IF(M198>0,M198,) -> 0.15857783 | O198: =ABS(IF(M198<0,M198,)) -> 0 | Q198: =((M198+M199)/2) * (B199 - B198) -> 0.17564103 | R198: =IF(Q198>0,Q198,) -> 0.17564103 | S198: =SUM($R$3:R198) -> 122.62643 | T198: =ABS(IF(Q198<0,Q198,)) -> 0 | U198: =SUM($T$3:T198) -> 51.685132 | W198: =U198*'KERS Calcs'!$F$4 -> 45.482916 | X198: =O198*'KERS Calcs'!$F$30 -> 0 | Y198: =T198*'KERS Calcs'!$F$30 -> 0 | Z198: =SUM($Y$3:Y198) -> 27.796289
... A234: Low | B234: 231 | C234: 231 | D234: 56.5 | E234: 15.694444 | F234: -0.041666667 | G234: ='Bike Data'!$C$4*$F234 -> -11.791667 | H234: =0.5*'Bike Data'!$C$12*'Bike Data'!$C$7*'Bike Data'!$C$6*'WLTP Calcs'!E234^2 -> 50.691748 | I234: =0.02 *'Bike Data'!C$4*9.81 -> 55.5246 | J234: =SUM(G234:I234) -> 94.424681 | K234: =IF(J234>0,J234,) -> 94.424681 | L234: =IF(J234<0,J234,)*-1 -> 0 | M234: =(E234/1000)*(I234+H234+('Bike Data'!C$4*'Bike Data'!C$10*F234)) -> 1.4259889 | N234: =IF(M234>0,M234,) -> 1.4259889 | O234: =ABS(IF(M234<0,M234,)) -> 0 | Q234: =((M234+M235)/2) * (B235 - B234) -> 0.89858023 | R234: =IF(Q234>0,Q234,) -> 0.89858023 | S234: =SUM($R$3:R234) -> 199.29315 | T234: =ABS(IF(Q234<0,Q234,)) -> 0 | U234: =SUM($T$3:T234) -> 51.685132 | W234: =U234*'KERS Calcs'!$F$4 -> 45.482916 | X234: =O234*'KERS Calcs'!$F$30 -> 0 | Y234: =T234*'KERS Calcs'!$F$30 -> 0 | Z234: =SUM($Y$3:Y234) -> 27.796289
A235: Low | B235: 232 | C235: 232 | D235: 56.2 | E235: 15.611111 | F235: -0.22222222 | G235: ='Bike Data'!$C$4*$F235 -> -62.888889 | H235: =0.5*'Bike Data'!$C$12*'Bike Data'!$C$7*'Bike Data'!$C$6*'WLTP Calcs'!E235^2 -> 50.154857 | I235: =0.02 *'Bike Data'!C$4*9.81 -> 55.5246 | J235: =SUM(G235:I235) -> 42.790569 | K235: =IF(J235>0,J235,) -> 42.790569 | L235: =IF(J235<0,J235,)*-1 -> 0 | M235: =(E235/1000)*(I235+H235+('Bike Data'!C$4*'Bike Data'!C$10*F235)) -> 0.37117154 | N235: =IF(M235>0,M235,) -> 0.37117154 | O235: =ABS(IF(M235<0,M235,)) -> 0 | Q235: =((M235+M236)/2) * (B236 - B235) -> -0.31415433 | R235: =IF(Q235>0,Q235,) -> 0 | S235: =SUM($R$3:R235) -> 199.29315 | T235: =ABS(IF(Q235<0,Q235,)) -> 0.31415433 | U235: =SUM($T$3:T235) -> 51.999287 | V235: =SUM(T235:T259) -> 22.301904 | W235: =U235*'KERS Calcs'!$F$4 -> 45.759372 | X235: =O235*'KERS Calcs'!$F$30 -> 0 | Y235: =T235*'KERS Calcs'!$F$30 -> 0.16895235 | Z235: =SUM($Y$3:Y235) -> 27.965241
A236: Low | B236: 233 | C236: 233 | D236: 54.9 | E236: 15.25 | F236: -0.45833333 | G236: ='Bike Data'!$C$4*$F236 -> -129.70833 | H236: =0.5*'Bike Data'!$C$12*'Bike Data'!$C$7*'Bike Data'!$C$6*'WLTP Calcs'!E236^2 -> 47.861363 | I236: =0.02 *'Bike Data'!C$4*9.81 -> 55.5246 | J236: =SUM(G236:I236) -> -26.322371 | K236: =IF(J236>0,J236,) -> 0 | L236: =IF(J236<0,J236,)*-1 -> 26.322371 | M236: =(E236/1000)*(I236+H236+('Bike Data'!C$4*'Bike Data'!C$10*F236)) -> -0.9994802 | N236: =IF(M236>0,M236,) -> 0 | O236: =ABS(IF(M236<0,M236,)) -> 0.9994802 | P236: =SUM(O236:O259) -> 22.912446 | Q236: =((M236+M237)/2) * (B237 - B236) -> -1.2320898 | R236: =IF(Q236>0,Q236,) -> 0 | S236: =SUM($R$3:R236) -> 199.29315 | T236: =ABS(IF(Q236<0,Q236,)) -> 1.2320898 | U236: =SUM($T$3:T236) -> 53.231376 | W236: =U236*'KERS Calcs'!$F$4 -> 46.843611 | X236: =O236*'KERS Calcs'!$F$30 -> 0.53752092 | Y236: =T236*'KERS Calcs'!$F$30 -> 0.66261848 | Z236: =SUM($Y$3:Y236) -> 28.627859
A237: Low | B237: 234 | C237: 234 | D237: 52.9 | E237: 14.694444 | F237: -0.54166667 | G237: ='Bike Data'!$C$4*$F237 -> -153.29167 | H237: =0.5*'Bike Data'!$C$12*'Bike Data'!$C$7*'Bike Data'!$C$6*'WLTP Calcs'!E237^2 -> 44.437714 | I237: =0.02 *'Bike Data'!C$4*9.81 -> 55.5246 | J237: =SUM(G237:I237) -> -53.329352 | K237: =IF(J237>0,J237,) -> 0 | L237: =IF(J237<0,J237,)*-1 -> 53.329352 | M237: =(E237/1000)*(I237+H237+('Bike Data'!C$4*'Bike Data'!C$10*F237)) -> -1.4646994 | N237: =IF(M237>0,M237,) -> 0 | O237: =ABS(IF(M237<0,M237,)) -> 1.4646994 | Q237: =((M237+M238)/2) * (B238 - B237) -> -1.1705262 | R237: =IF(Q237>0,Q237,) -> 0 | S237: =SUM($R$3:R237) -> 199.29315 | T237: =ABS(IF(Q237<0,Q237,)) -> 1.1705262 | U237: =SUM($T$3:T237) -> 54.401903 | W237: =U237*'KERS Calcs'!$F$4 -> 47.873674 | X237: =O237*'KERS Calcs'!$F$30 -> 0.78771604 | Y237: =T237*'KERS Calcs'!$F$30 -> 0.62950956 | Z237: =SUM($Y$3:Y237) -> 29.257369
A238: Low | B238: 235 | C238: 235 | D238: 51 | E238: 14.166667 | F238: -0.43055556 | G238: ='Bike Data'!$C$4*$F238 -> -121.84722 | H238: =0.5*'Bike Data'!$C$12*'Bike Data'!$C$7*'Bike Data'!$C$6*'WLTP Calcs'!E238^2 -> 41.302917 | I238: =0.02 *'Bike Data'!C$4*9.81 -> 55.5246 | J238: =SUM(G238:I238) -> -25.019706 | K238: =IF(J238>0,J238,) -> 0 | L238: =IF(J238<0,J238,)*-1 -> 25.019706 | M238: =(E238/1000)*(I238+H238+('Bike Data'!C$4*'Bike Data'!C$10*F238)) -> -0.87635302 | N238: =IF(M238>0,M238,) -> 0 | O238: =ABS(IF(M238<0,M238,)) -> 0.87635302 | Q238: =((M238+M239)/2) * (B239 - B238) -> -0.41904879 | R238: =IF(Q238>0,Q238,) -> 0 | S238: =SUM($R$3:R238) -> 199.29315 | T238: =ABS(IF(Q238<0,Q238,)) -> 0.41904879 | U238: =SUM($T$3:T238) -> 54.820951 | W238: =U238*'KERS Calcs'!$F$4 -> 48.242437 | X238: =O238*'KERS Calcs'!$F$30 -> 0.47130307 | Y238: =T238*'KERS Calcs'!$F$30 -> 0.22536463 | Z238: =SUM($Y$3:Y238) -> 29.482734
A239: Low | B239: 236 | C239: 236 | D239: 49.8 | E239: 13.833333 | F239: -0.25 | G239: ='Bike Data'!$C$4*$F239 -> -70.75 | H239: =0.5*'Bike Data'!$C$12*'Bike Data'!$C$7*'Bike Data'!$C$6*'WLTP Calcs'!E239^2 -> 39.382117 | I239: =0.02 *'Bike Data'!C$4*9.81 -> 55.5246 | J239: =SUM(G239:I239) -> 24.156717 | K239: =IF(J239>0,J239,) -> 24.156717 | L239: =IF(J239<0,J239,)*-1 -> 0 | M239: =(E239/1000)*(I239+H239+('Bike Data'!C$4*'Bike Data'!C$10*F239)) -> 0.038255449 | N239: =IF(M239>0,M239,) -> 0.038255449 | O239: =ABS(IF(M239<0,M239,)) -> 0 | Q239: =((M239+M240)/2) * (B240 - B239) -> 0.17149767 | R239: =IF(Q239>0,Q239,) -> 0.17149767 | S239: =SUM($R$3:R239) -> 199.46465 | T239: =ABS(IF(Q239<0,Q239,)) -> 0 | U239: =SUM($T$3:T239) -> 54.820951 | W239: =U239*'KERS Calcs'!$F$4 -> 48.242437 | X239: =O239*'KERS Calcs'!$F$30 -> 0 | Y239: =T239*'KERS Calcs'!$F$30 -> 0 | Z239: =SUM($Y$3:Y239) -> 29.482734
A240: Low | B240: 237 | C240: 237 | D240: 49.2 | E240: 13.666667 | F240: -0.19444444 | G240: ='Bike Data'!$C$4*$F240 -> -55.027778 | H240: =0.5*'Bike Data'!$C$12*'Bike Data'!$C$7*'Bike Data'!$C$6*'WLTP Calcs'!E240^2 -> 38.438867 | I240: =0.02 *'Bike Data'!C$4*9.81 -> 55.5246 | J240: =SUM(G240:I240) -> 38.935689 | K240: =IF(J240>0,J240,) -> 38.935689 | L240: =IF(J240<0,J240,)*-1 -> 0 | M240: =(E240/1000)*(I240+H240+('Bike Data'!C$4*'Bike Data'!C$10*F240)) -> 0.30473988 | N240: =IF(M240>0,M240,) -> 0.30473988 | O240: =ABS(IF(M240<0,M240,)) -> 0 | Q240: =((M240+M241)/2) * (B241 - B240) -> -0.015769456 | R240: =IF(Q240>0,Q240,) -> 0 | S240: =SUM($R$3:R240) -> 199.46465 | T240: =ABS(IF(Q240<0,Q240,)) -> 0.015769456 | U240: =SUM($T$3:T240) -> 54.836721 | W240: =U240*'KERS Calcs'!$F$4 -> 48.256314 | X240: =O240*'KERS Calcs'!$F$30 -> 0 | Y240: =T240*'KERS Calcs'!$F$30 -> 0.008480821 | Z240: =SUM($Y$3:Y240) -> 29.491214
A241: Low | B241: 238 | C241: 238 | D241: 48.4 | E241: 13.444444 | F241: -0.31944444 | G241: ='Bike Data'!$C$4*$F241 -> -90.402778 | H241: =0.5*'Bike Data'!$C$12*'Bike Data'!$C$7*'Bike Data'!$C$6*'WLTP Calcs'!E241^2 -> 37.198985 | I241: =0.02 *'Bike Data'!C$4*9.81 -> 55.5246 | J241: =SUM(G241:I241) -> 2.3208074 | K241: =IF(J241>0,J241,) -> 2.3208074 | L241: =IF(J241<0,J241,)*-1 -> 0 | M241: =(E241/1000)*(I241+H241+('Bike Data'!C$4*'Bike Data'!C$10*F241)) -> -0.3362788 | N241: =IF(M241>0,M241,) -> 0 | O241: =ABS(IF(M241<0,M241,)) -> 0.3362788 | Q241: =((M241+M242)/2) * (B242 - B241) -> -0.94605229 | R241: =IF(Q241>0,Q241,) -> 0 | S241: =SUM($R$3:R241) -> 199.46465 | T241: =ABS(IF(Q241<0,Q241,)) -> 0.94605229 | U241: =SUM($T$3:T241) -> 55.782773 | W241: =U241*'KERS Calcs'!$F$4 -> 49.08884 | X241: =O241*'KERS Calcs'!$F$30 -> 0.1808509 | Y241: =T241*'KERS Calcs'!$F$30 -> 0.50878737 | Z241: =SUM($Y$3:Y241) -> 30.000002
A242: Low | B242: 239 | C242: 239 | D242: 46.9 | E242: 13.027778 | F242: -0.56944444 | G242: ='Bike Data'!$C$4*$F242 -> -161.15278 | H242: =0.5*'Bike Data'!$C$12*'Bike Data'!$C$7*'Bike Data'!$C$6*'WLTP Calcs'!E242^2 -> 34.928992 | I242: =0.02 *'Bike Data'!C$4*9.81 -> 55.5246 | J242: =SUM(G242:I242) -> -70.699186 | K242: =IF(J242>0,J242,) -> 0 | L242: =IF(J242<0,J242,)*-1 -> 70.699186 | M242: =(E242/1000)*(I242+H242+('Bike Data'!C$4*'Bike Data'!C$10*F242)) -> -1.5558258 | N242: =IF(M242>0,M242,) -> 0 | O242: =ABS(IF(M242<0,M242,)) -> 1.5558258 | Q242: =((M242+M243)/2) * (B243 - B242) -> -1.9453137 | R242: =IF(Q242>0,Q242,) -> 0 | S242: =SUM($R$3:R242) -> 199.46465 | T242: =ABS(IF(Q242<0,Q242,)) -> 1.9453137 | U242: =SUM($T$3:T242) -> 57.728087 | W242: =U242*'KERS Calcs'!$F$4 -> 50.800716 | X242: =O242*'KERS Calcs'!$F$30 -> 0.83672384 | Y242: =T242*'KERS Calcs'!$F$30 -> 1.0461906 | Z242: =SUM($Y$3:Y242) -> 31.046192
A243: Low | B243: 240 | C243: 240 | D243: 44.3 | E243: 12.305556 | F243: -0.75 | G243: ='Bike Data'!$C$4*$F243 -> -212.25 | H243: =0.5*'Bike Data'!$C$12*'Bike Data'!$C$7*'Bike Data'!$C$6*'WLTP Calcs'!E243^2 -> 31.163614 | I243: =0.02 *'Bike Data'!C$4*9.81 -> 55.5246 | J243: =SUM(G243:I243) -> -125.56179 | K243: =IF(J243>0,J243,) -> 0 | L243: =IF(J243<0,J243,)*-1 -> 125.56179 | M243: =(E243/1000)*(I243+H243+('Bike Data'!C$4*'Bike Data'!C$10*F243)) -> -2.3348016 | N243: =IF(M243>0,M243,) -> 0 | O243: =ABS(IF(M243<0,M243,)) -> 2.3348016 | Q243: =((M243+M244)/2) * (B244 - B243) -> -2.1059737 | R243: =IF(Q243>0,Q243,) -> 0 | S243: =SUM($R$3:R243) -> 199.46465 | T243: =ABS(IF(Q243<0,Q243,)) -> 2.1059737 | U243: =SUM($T$3:T243) -> 59.834061 | W243: =U243*'KERS Calcs'!$F$4 -> 52.653973 | X243: =O243*'KERS Calcs'!$F$30 -> 1.2556574 | Y243: =T243*'KERS Calcs'!$F$30 -> 1.1325937 | Z243: =SUM($Y$3:Y243) -> 32.178786
...

Sheet KERS Calcs
B2: Energy (kJ) | F2: Generator Losses over WLTP
B3: Maximum Braking Period | D3: Maximum Braking per Period | F3: Generator Efficiency | H3: Lost Energy From Generator
B4: =MAX('WLTP Calcs'!V3:V1803) -> 54.943339 | D4: =MAX('WLTP Calcs'!T3:T1803) -> 6.2066658 | F4: 0.88 | H4: ='WLTP Calcs'!U1803-'WLTP Calcs'!W1803 -> 67.063538
B6: Average Braking Period | D6: Average Braking per Period | F6: Total Braking Time
B7: =AVERAGE('WLTP Calcs'!V3:V1803) -> 10.587042 | D7: =AVERAGE('WLTP Calcs'!T3:T1803) -> 0.31030695 | F7: ='WLTP Calcs'!T1805 -> 377
B8: After Generator Losses | F8: No of Braking Events
B9: Lost Energy over WLTP | D9: Recovered Energy from WLTP | F9: ='WLTP Calcs'!U1805 -> 53
B10: ='WLTP Calcs'!S1803-'WLTP Calcs'!U1803 -> 3746.2848 | D10: ='WLTP Calcs'!W1803 -> 491.79928 | F10: Average Event Time
F11: =F7/F9 -> 7.1132075
B12: Maximum Braking Period | D12: Maximum Recovered Period
B13: =B4*F4 -> 48.350138 | D13: =B4*F4 -> 48.350138 | F13: Power Required (kW)
F14: =D13/F11 -> 6.7972343
B15: Power (kW)
B16: Maximum Braking Period | D16: Maximum Braking per Period | F16: System Efficiencies
B17: =MAX('WLTP Calcs'!V12:V1812) -> 54.943339 | D17: =MAX('WLTP Calcs'!O3:O1803) -> 6.5141959 | F17: Storage
F18: 0.95
B19: Average Braking Period | D19: Average Braking per Period
B20: =AVERAGE('WLTP Calcs'!V12:V1812) -> 10.587042 | D20: =AVERAGE('WLTP Calcs'!O3:O1803) -> 0.31573593 | F20: Inverter
F21: 0.9
B22: Supercapcitor Array Calculations
B23: System Vmax | D23: System Vmin | F23: Contoller
B24: 72 | D24: 48 | F24: 0.95
B26: Total Capacitance | D26: Max Cell Voltage | F26: Motor
B27: =(2*(D13*1000))/(B24^2-D24^2) -> 33.576485 | D27: 2.7 | F27: 0.88
B29: Cells Required | D29: Individual Capacitance | F29: Overall Efficiency
B30: =ROUNDUP((B24/D27),0.1) -> 27 | D30: =B30*B27 -> 906.56509 | F30: =F4*F27*F18*F21^2*F24^2 -> 0.53780047

Sheet Resistive Forces

Sheet Accelaration Force

Sheet Power

Sheet Energy

Sheet Cumulative Energy

Sheet Energy Losses
