Workbook

Sheet Cover
F13: 44673
C14: NRM 2
C15: Groundworks Bill of Quantities
C23: PROJECT START DATE
C24: APRIL 2022
C26: Preparation of a Bill of Quantities
C27: ACBA6001
C28: 1804011

Sheet Summary
A1: TA Building Consultancy
A2: LEVEL 6 QUANTITY SURVEYING [UWTSD]
B4: Approx. Gross Floor Area (m2) | C4: ='Take-off Quantities'!L7 -> 829.4868
B6: Element of Work | C6: Pricing Book Total (£) | D6: Percentage of Total cost | E6: Time Factor | F6: Location Factor | G6: TOTAL with indices applied | H6: Total cost (£) of new floor area (m2)
B7: ='5. Excavate & fill'!C8 -> Bill No. 5: Excavating and filling | C7: ='5. Excavate & fill'!L49 -> 413098.68 | D7: =C7/$C$15 -> 0.58341962 | E7: ='Index Factors'!H8 -> 1.0887097 | F7: ='Index Factors'!H17 -> 0.86 | G7: =C7*E7*F7 -> 386780.3 | H7: =G7/$C$4 -> 466.28867
B8: ='7. Piling'!C10 -> Bill No. 7: Piling | C8: ='7. Piling'!L93 -> 153165.13 | D8: =C8/$C$15 -> 0.21631525 | E8: ='Index Factors'!H8 -> 1.0887097 | F8: ='Index Factors'!H17 -> 0.86 | G8: =C8*E8*F8 -> 143407.03 | H8: =G8/$C$4 -> 172.88645
B9: ='11. In-situ concrete'!C8 -> Bill No. 11: In-situ concrete works | C9: ='11. In-situ concrete'!L111 -> 81438.16 | D9: =C9/$C$15 -> 0.11501518 | E9: ='Index Factors'!H8 -> 1.0887097 | F9: ='Index Factors'!H17 -> 0.86 | G9: =C9*E9*F9 -> 76249.761 | H9: =G9/$C$4 -> 91.924019
B10: ='14. Masonry'!C8 -> Bill No. 14: Masonry | C10: ='14. Masonry'!L24 -> 8164.6442 | D10: =C10/$C$15 -> 0.011530934 | E10: ='Index Factors'!H8 -> 1.0887097 | F10: ='Index Factors'!H17 -> 0.86 | G10: =C10*E10*F10 -> 7644.4773 | H10: =G10/$C$4 -> 9.215912
B11: ='28. Floor finishes'!C8 -> Bill No. 28: Floor finishes | C11: ='28. Floor finishes'!L20 -> 2743.1865 | D11: =C11/$C$15 -> 0.0038742046 | E11: ='Index Factors'!H8 -> 1.0887097 | F11: ='Index Factors'!H17 -> 0.86 | G11: =C11*E11*F11 -> 2568.419 | H11: =G11/$C$4 -> 3.0963953
B12: ='33. Drainage above ground'!C8 -> Bill No. 33: Drainage above ground | C12: ='33. Drainage above ground'!L35 -> 22891.641 | D12: =C12/$C$15 -> 0.032329884 | E12: ='Index Factors'!H8 -> 1.0887097 | F12: ='Index Factors'!H17 -> 0.86 | G12: =C12*E12*F12 -> 21433.222 | H12: =G12/$C$4 -> 25.839136
B13: ='34. Drainage below ground'!C8 -> Bill No. 34: Drainage below ground | C13: ='34. Drainage below ground'!L48 -> 19501.26 | D13: =C13/$C$15 -> 0.027541646 | E13: ='Index Factors'!H8 -> 1.0887097 | F13: ='Index Factors'!H17 -> 0.86 | G13: =C13*E13*F13 -> 18258.841 | H13: =G13/$C$4 -> 22.012214
B14: ='35. Site works'!C8 -> Bill No. 35. Site works | C14: ='35. Site works'!L43 -> 7061.7299 | D14: =C14/$C$15 -> 0.0099732871 | E14: ='Index Factors'!H8 -> 1.0887097 | F14: ='Index Factors'!H17 -> 0.86 | G14: =C14*E14*F14 -> 6611.8294 | H14: =G14/$C$4 -> 7.9709881
C15: =SUM(C7:C14) -> 708064.44 | D15: =SUM(D7:D14) -> 1 | G15: =SUM(G7:G14) -> 662953.88 | H15: =SUM(H7:H14) -> 799.23379

Sheet Allowances & Assumptions
B2: Further Allowances, Assumptions & Information Used | N2: Notable exerpts from Groundworks tender pack
B4: 1 | C4: In exerpt 4, we have a referral to 'SKETCH SK005 ENABLING WORK', mentioning cut and turn specification | N4: 1 | O4: MIN 200 THK RC SLAB WITH 2 | T4: REVOLVING DOOR ASSUME DIMS
C5: Also with exerpt 2, we are not in receipt of 'DWG 101' for 'GROUND IMPROVEMENT' | O5: LAYERS A393 MESH, FOR
C6: Based on this limited information, we assumed an excavation of 2 metres and filled with import stone. | O6: REVOLVING DOOR, REFER TO
C7: We have use the drawing 'Library Building Sub-structure Sections' to inform this assumption. | O7: ARCHITECT'S DRAWING FOR
O8: SETTING-OUT.
B9: 2 | C9: The drawing 'LibrarY Building Ground Floor Layout' gives a number of specifications we have used:
C10: - "150 THK RC GROUND BEARING SLAB WITH 1 LAYER OF A393 MESH ON 2000g DPM | N10: 2 | O10: 150 THK RC GROUND BEARING SLAB
C11: ON 150 THK WELL COMPACTED STONEDUST BLINDED TYPE 1 MATERIAL, FOR DETAILS OF | O11: WITH 1 LAYER OF A393 MESH ON 2000g DPM
C12: GROUND IMPROVEMENT BELOW SLAB REFER TO SECTION 1-1 & 2-2 ON DWG 101." | O12: ON 150 THK WELL COMPACTED STONEDUST
O13: BLINDED TYPE 1 MATERIAL, FOR DETAILS OF
B14: 3 | C14: We have assumed the dimensions of revolving door to ensure we have allowed as per the following specification: | O14: GROUND IMPROVEMENT BELOW SLAB REFER
C15: - "MIN 200 THK RC SLAB WITH 2 FOR REVOLVING DOOR, LAYERS A393 MESH, | O15: TO SECTION 1-1 & 2-2 ON DWG 101.
C16: REFER TO ARCHITECT'S DRAWING FOR SETTING-OUT"
N17: 3 | O17: 1500 X 900 X 900 DEEP PIT WITH 200 THK RC | T17: 1500 | U17: x | V17: =2400-950 -> 1450
B18: 4 | C18: We have two 'DEEP PIT' items specified in the 'Library Building Ground Floor Layout'. | O18: BASE SLAB AND 200THK RC WALLS WITH 1
C19: We have included these items within our 'Bill No. 11 - In-situ concrete works' section | O19: LAYER OF A393 MESH TO ALL FACES TOP &
O20: BOTTOM. TOP EDGE TO HAVE 100x100
B21: 5 | C21: We have various reinforced concrete shear walls specified in the 'Library Building Ground Floor Layout' | O21: GALVANISED ANGLE WITH
C22: We have included these items within our 'Bill No. 11 - In-situ concrete works' section | O22: FISH TAIL TANGS ALL ROUND TO TO SUPPORT
O23: CHECKER PLATE.
B24: 6 | C24: We included a powerfloated finished slab, with the 'RC UPSTAND' and 600mm facing brickwork
C25: as we do not have the 'FINISHES TO ARCHITECT'S DETAILS'. We are happy to include for additional | N25: 4 | O25: REFER TO SKETCH SK005
C26: floor finishes if further specification is available. | O26: 'ENABLING WORKS' FOR
O27: CUT AND TURN
B28: 7 | C28: We have not been provided with a ring beam detail in full. We have assumed an allowance | O28: SPECIFICATION.
C29: of reinforced steel within the pile ringbeam.

Sheet Document Register
A1: TA Building Consultancy LTD
A2: LEVEL 6 QUANTITY SURVEYING [UWTSD]
B7: Document Register / Drawings Used
C9: Drawing / Document description | D9: No | E9: Revision | F9: Project Ref
C10: Library Building Piling Layout | D10: 180 | E10: C4 | F10: 16109
C11: Library Building Foundation Layout | D11: 181 | E11: C7 | F11: 16109
C12: Library Building Ground Floor Layout | D12: 182 | E12: C5 | F12: 16109
C13: Library Building Sub-structure Sections | D13: 183 | E13: C6 | F13: 16109
C14: Library Building Column Layout | D14: 280 | E14: C3 | F14: 16109
C15: Library Building Section | D15: 286 | E15: C3 | F15: 16109
C16: Library Building Shear Walls GA Sheet 1 | D16: 290 | E16: C1 | F16: 16109
C17: Library Building Shear Walls GA Sheet 2 | D17: 291 | E17: C2 | F17: 16109

Sheet 5. Excavate & fill
B3: Bill of Quantities
B5: Page of BoQ (1 of 7) and section of works (Groundworks)
B6: Item No | C6: Description | I6: Unit | J6: Quantity | K6: Rate | L6: Amount
C8: Bill No. 5: Excavating and filling
C10: GENERAL EXCAVATION
B11: 5.6.1.1.1 | C11: Excavate material other than topsoil, rock or artificial hard
C12: material
C13: 1.0-2.0 deep | I13: m3 | J13: ='Take-off Quantities'!L9 -> 956.2228 | K13: 7.96 | L13: =J13*K13 -> 7611.5335
C17: EXCAVATION ANCILLARIES
B18: 5.9.2 | C18: Disposal of excavated earth other than rock or artificial hard material
C19: storage on site; 100m maximum distance; using 22.5 t ADT | I19: m3 | J19: =J13*2 -> 1912.4456 | K19: 5.89 | L19: =J19*K19 -> 11264.305
B20: 5.9.2.3 | C20: Add to the above rates where tipping charges apply:
C21: hazardous waate | D21: waste | I21: m3 | J21: =J13*2 -> 1912.4456 | K21: 160.53 | L21: =J21*K21 -> 307004.89
C23: NOTE: NO ALLOWANCE FOR CONTAMINATED
C24: LAND REMEDIATION TAX RELIEF
B26: 5.12 | C26: FILLING
C27: Imported natural material other than topsoil or
C28: rock; granular graded material
C29: Filling
C30: to structure | I30: m2 | J30: ='Take-off Quantities'!L9*2 -> 1912.4456 | K30: 39.96 | L30: =J30*K30 -> 76421.326
B32: 5.13 | C32: GEOTEXTILES
C33: Geotextiles; stabilization applications for reinforcement of
C34: granular subbases, capping layers and railway ballast placed
C35: weak and variable soils
C36: For use over weak soils with high traffic intensities and/or
C37: high axle loading; Tensar 2230 Polypropylene Geogrid
C38: horizontal | I38: m2 | J38: ='Take-off Quantities'!L9 -> 956.2228 | K38: 4.6 | L38: =J38*K38 -> 4398.6249
B40: 5.16 | C40: FLOOR SLAB - Damp proof membrane
C41: Visqueen sheeting or other equal and approved;
C42: lapped joints; horizontal on slabs
C43: gas-resistant damp-proof membrane taped joints | I43: m2 | J43: ='Take-off Quantities'!L7 -> 829.4868 | K43: 6.73 | L43: =J43*K43 -> 5582.4462
C44: sealing at perimeter of slab | I44: m | J44: ='Take-off Quantities'!E5 -> 122.736 | K44: 3.2 | L44: =J44*K44 -> 392.7552
C45: sealing around penetrations; drain pipes etc. | I45: nr | J45: 20 | K45: 21.14 | L45: =J45*K45 -> 422.8
L49: =SUM(L13:L45) -> 413098.68

Sheet 7. Piling
B4: Bill of Quantities
B6: Page of BoQ (2 of 7) and section of works (Groundworks)
B7: Item No | C7: Description | I7: Unit | J7: Quantity | K7: Rate | L7: Amount
C10: Bill No. 7: Piling
C12: BORED CAST-IN-PLACE CONCRETE PILES
C13: Disposal of material arising from pile bores
B14: 7.10.2 | C14: Storage on site | I14: m3 | J14: =(J25*0.5)*1.2 -> 331.92 | K14: 5.89 | L14: =K14*J14 -> 1955.0088
C15: Removal; 5km distance | I15: m3 | J15: =J14 -> 331.92 | K15: 15.59 | L15: =K15*J15 -> 5174.6328
C16: Add to the above where tiing charges apply
B17: 7.10.1.3 | C17: Hazardous waste | I17: m3 | J17: =J15 -> 331.92 | K17: 160.53 | L17: =K17*J17 -> 53283.118
C18: Add to the above rates where Landfill Tax applies:
C19: inactive or inert waste material | I19: m3 | J19: =J17 -> 331.92 | K19: 4.33 | L19: =K19*J19 -> 1437.2136
B21: 7.3.2.1 | C21: Concrete 35N/mm2, 20mm aggregate; installed
C22: by lorry/crawler mounted rotary rig
C23: Dia.:500mm (pro rate rate)
C24: number of piles (see above) | I24: nr | J24: 96 | K24: 193.07 | L24: =K24*J24 -> 18534.72
C25: concrete length | I25: m | J25: 553.2 | K25: 33.616667 | L25: =K25*J25 -> 18596.74
C26: depth bored to 10 m maximum depth | I26: m | J26: 553.2 | K26: 72.875 | L26: =K26*J26 -> 40314.45
C28: Standing time - RATE ONLY | I28: hr | J28: - | K28: 145
C30: CAST-IN-PLACE CONCRETE PILES
B31: 7.8.1 | C31: Supply and fit reinforcement materials include
C32: for bars, tying wire, spacers, couplers and steel
C33: supports for bottom layer reinforcement (stools,
C34: chairs and risers).
C36: Plain round mild steel bars to BS 4449
C37: Bars; supplied in straight lengths
C39: 16 mm nominal size | I39: t | J39: 1 | K39: 1522.77 | L39: =K39*J39 -> 1522.77
C43: PILING CAPS
C44: Single Pile - 750 x 750 | F44: 750 depth | I44: nr | J44: 4
C45: Formwork - plane horizontal , width .4-1.22 m | I45: m2 | J45: =(0.75*4)*J44 -> 12 | K45: 51.24 | L45: =J45*K45 -> 614.88
C47: Horizontal works
C48: Designed mix; sulphate-resisting cement to BS 4027
C49: Grade C20; 20 mm aggregate | I49: m3 | J49: =(0.75*0.75*0.75)*J44 -> 1.6875 | K49: 114.07 | L49: =J49*K49 -> 192.49312
C51: 06 PLACING OF CONCRETE; REINFORCED
C52: Bases, footings, piles caps and ground slabs;
C53: thickness - exceeding 500mm | I53: m3 | J53: =(0.75*0.75*0.75)*J44 -> 1.6875 | K53: 32.85 | L53: =J53*K53 -> 55.434375
C56: Double Pile - 1100 x 1300 | F56: 750 depth | I56: nr | J56: 19
C57: Formwork - plane horizontal , width .4-1.22 m | I57: m2 | J57: =(1.1+1.3+1.1+1.3)*J56 -> 91.2 | K57: 51.24 | L57: =J57*K57 -> 4673.088
C59: Horizontal works
C60: Designed mix; sulphate-resisting cement to BS 4027
C61: Grade C20; 20 mm aggregate | I61: m3 | J61: =(1.1*1.3*0.75)*J56 -> 20.3775 | K61: 114.07 | L61: =J61*K61 -> 2324.4614
C63: 06 PLACING OF CONCRETE; REINFORCED
C64: Bases, footings, piles caps and ground slabs;
C65: thickness - exceeding 500mm | I65: m3 | J65: =(1.1*1.3*0.75)*J56 -> 20.3775 | K65: 32.85 | L65: =J65*K65 -> 669.40088
C68: Triple Pile - 1300 x 1249 | F68: 750 depth | I68: nr | J68: 10
C69: Formwork - plane horizontal , width .4-1.22 m | I69: m2 | J69: =(1.3+0.216+0.341+0.75+0.75+0.3+0.3)*J68 -> 39.57 | K69: 51.24 | L69: =J69*K69 -> 2027.5668
C71: Horizontal works
C72: Designed mix; sulphate-resisting cement to BS 4027
C73: Grade C20; 20 mm aggregate | I73: m3 | J73: =(1.3*1.249*0.75)*J68 -> 12.17775 | K73: 114.07 | L73: =J73*K73 -> 1389.1159
C75: 06 PLACING OF CONCRETE; REINFORCED
C76: Bases, footings, piles caps and ground slabs;
C77: thickness - exceeding 500mm | I77: m3 | J77: =(1.3*1.249*0.75)*J68 -> 12.17775 | K77: 32.85 | L77: =J77*K77 -> 400.03909
C80: Mass Pile Caps (over lift area) - 2nr @ 1200mm depth
C81: Formwork - plane horizontal , width .4-1.22 m | I81: m2 | J81: ='Take-off Quantities'!L18+'Take-off Quantities'!L19+'Take-off Quantities'!L21+'Take-off Quantities'!L22+'Take-off Quantities'!L24+'Take-off Quantities'!L25 -> 39.54 | K81: 51.24 | L81: =J81*K81 -> 2026.0296
C83: Horizontal works
C84: Designed mix; sulphate-resisting cement to BS 4027
C85: Grade C20; 20 mm aggregate | I85: m3 | J85: ='Take-off Quantities'!M27*1.2 -> 155.0304 | K85: 114.07 | L85: =J85*K85 -> 17684.318
C87: 06 PLACING OF CONCRETE; REINFORCED
C88: Bases, footings, piles caps and ground slabs;
C89: thickness - exceeding 500mm | I89: m3 | J89: ='Take-off Quantities'!M27*1.2 -> 155.0304 | K89: 32.85 | L89: =J89*K89 -> 5092.7486
L93: =SUM(L14:L77) -> 153165.13

Sheet 11. In-situ concrete
B2: Bill of Quantities
B4: Page of BoQ (3 of 7) and section of works (Groundworks)
B5: Item No | C5: Description | I5: Unit | J5: Quantity | K5: Rate | L5: Amount
C8: Bill No. 11: In-situ concrete works
C10: SUBSTRUCTURE - GROUNDBEAM
B11: 11.2.2.2.1 | C11: DESIGNED CONCRETE
C12: Horizontal works
C13: Designed mix; sulphate-resisting cement to BS 4027
C14: Grade C20; 20 mm aggregate | I14: m3 | J14: ='Take-off Quantities'!E5*0.75*0.45 -> 41.4234 | K14: 114.07 | L14: =K14*J14 -> 4725.1672
B16: 11.2.2.2.1 | C16: PLACING OF CONCRETE; REINFORCED
C17: Bases, footings, piles caps and ground slabs;
C18: thickness - exceeding 500mm | I18: m3 | J18: =J14 -> 41.4234 | K18: 32.85 | L18: =K18*J18 -> 1360.7587
B21: 11.34.1.2 | C21: REINFORCEMENT
C22: Supply and fit reinforcement materials. Include for bars, tying
C23: wire, spacers, couplers and steel supports for bottom layer
C24: reinforcement (stools, chairs and risers)
C26: Plain round mild steel bars to BS 4449
C27: Bars; supplied in striaght lengths
C28: 10mm nominal size - Provisional sum | I28: tonne | J28: 10 | K28: 1613.73 | L28: =K28*J28 -> 16137.3
B30: 11.8.1 | C30: CONCRETE ACCESSORIES
C31: Finishing of top surfaces
C32: wood float; level | I32: m2 | J32: ='Take-off Quantities'!I6 -> 110.0025 | K32: 13.48 | L32: =K32*J32 -> 1482.8337
B35: 11.14.2 | C35: FORMWORK; ROUGH FINISH
C36: Formwork
C37: Plane vertical, width
C38: 0.4-1.22m | I38: m2 | J38: =('Take-off Quantities'!I5*2)*0.75 -> 220.005 | K38: 66.07 | L38: =J38*K38 -> 14535.73
C41: SUBSTRUCTURE - 900 x 900 x 900 DEEP PIT
B42: 11.5.1.1 | C42: DESIGNED CONCRETE
C43: Designed Concrete
C44: Designed Concrete
C45: Strength
C46: RC30/37 | I46: m3 | J46: =(0.9*0.9*2)*5 -> 8.1 | K46: 123.57 | L46: =J46*K46 -> 1000.917
B48: 11.37.1 | C48: 05 REINFORCEMENT
C49: Steel fabric to BS 4483
C50: nominal mass 6.16kg/m2; ref A393 | I50: m2 | J50: =J46*2 -> 16.2 | K50: 16.04 | L50: =J50*K50 -> 259.848
B52: 11.5.1.1 | C52: 06 PLACING OF CONCRETE; REINFORCED
C53: Bases, footings, piles caps and ground slabs;
C54: thickness - 150-300 mm | I54: m3 | J54: =(0.9*0.9*2)*5 -> 8.1 | K54: 37.21 | L54: =J54*K54 -> 301.401
B56: 11.14.2 | C56: FORMWORK; ROUGH FINISH
C57: Formwork
C58: Plane vertical, width
C59: 0.4-1.22m | I59: m2 | J59: =(0.9*0.9)*5 -> 4.05 | K59: 66.07 | L59: =J59*K59 -> 267.5835
C61: SUBSTRUCTURE - SHEER WALLS
B62: 11.5.1.1 | C62: DESIGNED CONCRETE
C63: Designed Concrete
C64: Designed Concrete
C65: Strength
C66: RC30/37 | I66: m3 | J66: =('Take-off Quantities'!L40+'Take-off Quantities'!L48)*0.25 -> 11.3625 | K66: 123.57 | L66: =J66*K66 -> 1404.0641
B69: 11.5.1.1 | C69: 06 PLACING OF CONCRETE; REINFORCED
C70: Bases, footings, piles caps and ground slabs;
C71: thickness - 150-300 mm | I71: m3 | J71: =('Take-off Quantities'!L40+'Take-off Quantities'!L48)*0.25 -> 11.3625 | K71: 37.21 | L71: =J71*K71 -> 422.79863
B73: 11.14.2 | C73: FORMWORK; ROUGH FINISH
C74: Formwork
C75: Plane vertical, width
C76: 0.4-1.22m | I76: m2 | J76: =('Take-off Quantities'!L40+'Take-off Quantities'!L48)*1 -> 45.45 | K76: 66.07 | L76: =J76*K76 -> 3002.8815
C78: SUBSTRUCTURE - FLOOR SLAB - REVOLVING DOOR
B79: 11.2.1.2.2 | C79: DESIGNED CONCRETE
C80: Designed Concrete
C81: Strength
C82: RC30/37 | I82: m3 | J82: ='Take-off Quantities'!L13 -> 2.3 | K82: 123.57 | L82: =J82*K82 -> 284.211
B84: 11.37.1 | C84: REINFORCEMENT
C85: Steel fabric to BS 4483
C86: nominal mass 6.16kg/m2; ref A393 | I86: m2 | J86: ='Take-off Quantities'!L14 *2 -> 23 | K86: 16.04 | L86: =J86*K86 -> 368.92
B88: 11.2.1.2.2 | C88: PLACING OF CONCRETE; REINFORCED
C89: Bases, footings, piles caps and ground slabs;
C90: thickness - 150-300 mm | I90: m3 | J90: =J82 -> 2.3 | K90: 37.21 | L90: =J90*K90 -> 85.583
C93: SUBSTRUCTURE - FLOOR SLAB
B94: 11.2.1.2.2 | C94: DESIGNED CONCRETE
C95: Designed Concrete
C96: Strength
C97: RC30/37 | I97: m3 | J97: ='Take-off Quantities'!L6 -> 124.42302 | K97: 123.57 | L97: =J97*K97 -> 15374.953
B99: 11.37.1 | C99: REINFORCEMENT
C100: Steel fabric to BS 4483
C101: nominal mass 6.16kg/m2; ref A393 | I101: m2 | J101: ='Take-off Quantities'!L7 -> 829.4868 | K101: 16.04 | L101: =J101*K101 -> 13304.968
B103: 11.2.1.2.2 | C103: PLACING OF CONCRETE; REINFORCED
C104: Bases, footings, piles caps and ground slabs;
C105: thickness - 150-300 mm | I105: m3 | J105: =J97 -> 124.42302 | K105: 37.21 | L105: =J105*K105 -> 4629.7806
B107: 11.9.1 | C107: 11.04 SURFACE FINISHES
C108: Power floating | I108: m2 | J108: ='Take-off Quantities'!L7 -> 829.4868 | K108: 3 | L108: =J108*K108 -> 2488.4604
L111: =SUM(L13:L109) -> 81438.16

Sheet 14. Masonry
B2: Bill of Quantities
B4: Page of BoQ (4 of 7) and section of works (Groundworks)
B5: Item No | C5: Description | I5: Unit | J5: Quantity | K5: Rate | L5: Amount
C8: Bill No. 14: Masonry
C10: SUBSTRUCTURE - FLOORSLAB
B11: 14.1.1 | C11: FACING BRICKWORK
C12: Facing bricks; in plasticized cement mortar
C13: designation (iii)
C14: Thickness 103mm
C15: vertical straight walls | I15: m2 | J15: ='Take-off Quantities'!E5*0.6 -> 73.6416 | K15: 96.98 | L15: =K15*J15 -> 7141.7624
B17: 14.14.1 | C17: ANCILLARIES COMMON TO ALL DIVISIONS
C18: Concrete
C19: Infills
C20: 50 mm thick | I20: m2 | J20: =J15 -> 73.6416 | K20: 13.89 | L20: =K20*J20 -> 1022.8818
L24: =SUM(L11:L22) -> 8164.6442

Sheet 28. Floor finishes
B2: Bill of Quantities
B4: Page of BoQ (5 of 7) and section of works (Groundworks)
B5: Item No | C5: Description | I5: Unit | J5: Quantity | K5: Rate | L5: Amount
C8: Bill No. 28: Floor finishes
C10: SUBSTRUCTURE - FLOORSLAB
B11: 28.25.1.1.1 | C11: Expansion joints
C12: 16 mm dia. × 750 mm long, debonding agent for 375 mm
C13: and capped with PVC dowel cap | I13: nr | J13: ='Take-off Quantities'!D11/0.6 -> 33.5 | K13: 4.84 | L13: 162.14
B15: 28.25.1.1.1 | C15: Joint sealants
C16: 20 x 20 cold polysulphide sealant | I16: m | J16: ='Take-off Quantities'!D11+'Take-off Quantities'!E5 -> 142.836 | K16: 18.07 | L16: 2581.0465
L20: =SUM(L11:L16) -> 2743.1865

Sheet 33. Drainage above ground
B2: Bill of Quantities
B4: Page of BoQ (6 of 8) and section of works (Groundworks)
B5: Item No | C5: Description | I5: Unit | J5: Quantity | K5: Rate | L5: Amount
C8: Bill No. 33: Drainage above ground
C11: EXTERNAL DRAINAGE
C13: GULLIES
B14: 33.2.1.1 | C14: Vitrified clay; set in concrete grade C20, 150mm
C15: thick; additional excavation and disposal
C16: Yard gully (mud); trapped with rodding eye;
C17: galvanized bucket; stopper
C18: 225mm dia., 100mm dia. outlet, cast iron hinged
C19: grate and frame | I19: nr | J19: 10 | K19: 428.87 | L19: =K19*J19 -> 4288.7
C23: 34.01 URBAN AND LANDSCAPE DRAINAGE
C24: Slot and grate drainage
B25: 33.2.1.1 | C25: ACO MultiDrain M100D polymer concrete channel
C26: drainage system; galvanized steel edge trim;
C27: nominal bore 100mm; type of fall constant; bedding
C28: and haunching with in situ concrete (not included)
C29: Slotted grating
C30: galvanized steel grating, load class A15
C31: (pedestrian areas) | I31: m | J31: ='Take-off Quantities'!I5+16 -> 162.67 | K31: 114.36 | L31: =K31*J31 -> 18602.941
L35: =SUM(L10:L33) -> 22891.641

Sheet 34. Drainage below ground
B2: Bill of Quantities
B4: Page of BoQ (6 of 7) and section of works (Groundworks)
B5: Item No | C5: Description | I5: Unit | J5: Quantity | K5: Rate | L5: Amount
C8: Bill No. 34: Drainage below ground
C10: UNDER SLAB DRAINAGE
C11: POLYVINYL CHLORIDE PIPES
C12: Unplasticized PVC pipes; ring seal sockets;
C13: excavation and supports, backfilling;
C14: 6 m pipe lengths unless stated otherwise
C15: 110 mm pipes; in trenches, depth
B16: 34.1.2.2 | C16: not in trench | I16: m | J16: 150 | K16: 20.38 | L16: =K16*J16 -> 3057
B17: 34.3.1.2 | C17: extra for bend; short radius (socket/spigot) | I17: nr | J17: 10 | K17: 55.68 | L17: =K17*J17 -> 556.8
B18: 34.3.1.2 | C18: extra for bend; adjustable (socket/spigot) | I18: nr | J18: 6 | K18: 56.97 | L18: =K18*J18 -> 341.82
B19: 34.3.1.2 | C19: extra for reducer | I19: nr | J19: 6 | K19: 23.72 | L19: =K19*J19 -> 142.32
B20: 34.3.1.2 | C20: extra for branches; equal (socket/spigot) | I20: nr | J20: 6 | K20: 71.11 | L20: =K20*J20 -> 426.66
C22: EXTERNAL DRAINAGE
C23: POLYVINYL CHLORIDE PIPES
C24: Unplasticized PVC pipes; ring seal sockets;
C25: excavation and supports, backfilling;
C26: 6 m pipe lengths unless stated otherwise
C27: 110 mm pipes; in trenches, depth
B28: 34.1.2.2 | C28: ne 1.50m deep | I28: m | J28: 200 | K28: 34.62 | L28: =K28*J28 -> 6924
B29: 34.3.1.2 | C29: extra for bend; short radius (socket/spigot) | I29: nr | J29: 10 | K29: 55.68 | L29: =K29*J29 -> 556.8
B30: 34.3.1.2 | C30: extra for bend; adjustable (socket/spigot) | I30: nr | J30: 10 | K30: 56.97 | L30: =K30*J30 -> 569.7
B31: 34.3.1.2 | C31: extra for reducer | I31: nr | J31: 10 | K31: 23.72 | L31: =K31*J31 -> 237.2
B32: 34.3.1.2 | C32: extra for branches; equal (socket/spigot) | I32: nr | J32: 10 | K32: 71.11 | L32: =K32*J32 -> 711.1
C34: MANHOLES
C35: Precast concrete circular manhole; CPM Perfect
C36: Manhole; complete with preformed benching and
C37: outlets to base; elastomeric seal to joints to
C38: rings; single steps as required. Excavations and
C39: backfilling not included
C40: 1200mm dia. with up to four outlets 100mm or
C41: 150mm dia.; effective internal depth:
B42: 34.6.2.3 | D42: 1250 mm deep | I42: nr | J42: 2 | K42: 929.49 | L42: =K42*J42 -> 1858.98
B43: 34.6.2.3 | D43: 1500 mm deep | I43: nr | J43: 4 | K43: 1029.72 | L43: =K43*J43 -> 4118.88
L48: =SUM(L12:L46) -> 19501.26

Sheet 35. Site works
B2: Bill of Quantities
B4: Page of BoQ (7 of 7) and section of works (Groundwork)
B5: Item No | C5: Description | I5: Unit | J5: Quantity | K5: Rate | L5: Amount
C8: Bill No. 35. Site works
B10: 35.1.1 | C10: Foundations to kerbs etc.
C11: Mass concrete
C12: 200 × 100mm | I12: m | J12: ='Take-off Quantities'!E5+16 -> 138.736 | K12: 16.45 | L12: =K12*J12 -> 2282.2072
B14: 35.1.1 | C14: Precast Concrete kerbs to BS 7263
C15: Kerbs; bullnosed; splayed or half battered; straight or
C16: curved over 12m radius
C17: 125 × 150mm | I17: m | J17: ='Take-off Quantities'!E5+16 -> 138.736 | K17: 2.94 | L17: =K17*J17 -> 407.88384
C20: Subbases
B21: 35.14.1.2 | C21: 150mm thick hardcore | I21: m2 | J21: ='Take-off Quantities'!L9-'Take-off Quantities'!L7 -> 126.736 | K21: 6.11 | L21: =K21*J21 -> 774.35696
B22: 35.14.1.2 | C22: 100mm thick concrete grade 20/20 | I22: m2 | J22: ='Take-off Quantities'!L9-'Take-off Quantities'!L7 -> 126.736 | K22: 13.14 | L22: =K22*J22 -> 1665.311
B29: 35.14.1.2 | C29: Cobble paving; 50–75mm; bedding on 25mm
C30: cement mortar; filling joints; excluding subbase
C31: Paved area; sloping not exceeding 10° to the
C32: horizontal
C33: 50–75mm dia. cobbles | I33: m2 | J33: ='Take-off Quantities'!L9-'Take-off Quantities'!L7 -> 126.736 | K33: 55.72 | L33: =K33*J33 -> 7061.7299
L43: =SUM(L30:L33) -> 7061.7299

Sheet Take-off Quantities
A1: TA Building Consultancy LTD
A2: LEVEL 6 QUANTITY SURVEYING [UWTSD]
S4: PILING SCHEDULE | AC4: BOREHOLE INFORMATION
B5: External wall face length | E5: =D11+D23+D30+D43 -> 122.736 | G5: Total trench length | I5: =SUM(I16:I47) -> 146.67 | K5: GROUND SLAB
B6: A-E | G6: Total trench area | I6: =I5*0.75 -> 110.0025 | K6: Volume | L6: =(D11*D23)*0.15 -> 124.42302 | M6: m3
C7: 6.3 | G7: A-E | K7: Area | L7: =D11*D23 -> 829.4868 | M7: m2 | S7: P1 | T7: 5.925 | V7: P43 | W7: 5.925 | Y7: P85 | Z7: 5.075
C8: 3.75 | H8: 6.3 | S8: P2 | T8: 5.925 | V8: P44 | W8: 5.925 | Y8: P86 | Z8: 5.925
C9: 3.75 | H9: 3.95 | K9: Plus Working Space | L9: =(D11+2)*(D23+2) -> 956.2228 | M9: m2 | S9: P3 | T9: 5.925 | V9: P45 | W9: 5.925 | Y9: P87 | Z9: 5.925
C10: 6.3 | H10: 2.35 | S10: P4 | T10: 5.925 | V10: P46 | W10: 5.925 | Y10: P88 | Z10: 5.925
D11: =SUM(C7:C10) -> 20.1 | H11: 3.75 | S11: P5 | T11: 5.925 | V11: P47 | W11: 5.925 | Y11: P89 | Z11: 5.925
H12: 3.75 | K12: REVOLVING DOOR | S12: P6 | T12: 5.925 | V12: P48 | W12: 5.925 | Y12: P90 | Z12: 5.925
H13: 3.95 | K13: Volume | L13: =11.5*0.2 -> 2.3 | M13: m3 | S13: P7 | T13: 5.925 | V13: P49 | W13: 5.925 | Y13: P91 | Z13: 5.925
B14: 1-9' | H14: 2.35 | K14: Area | L14: 11.5 | M14: m2 | S14: P8 | T14: 5.925 | V14: P50 | W14: 5.925 | Y14: P92 | Z14: 5.475
C15: 3.95 | H15: 6.3 | S15: P9 | T15: 5.925 | V15: P51 | W15: 5.925 | Y15: P93 | Z15: 5.475
C16: 2.35 | I16: =SUM(H8:H15) -> 32.7 | S16: P10 | T16: 5.925 | V16: P52 | W16: 5.925 | Y16: P94 | Z16: 5.475
C17: 3.95 | K17: MASS PILE CAPS | S17: P11 | T17: 5.925 | V17: P53 | W17: 5.925 | Y17: P95 | Z17: 5.475
C18: 6.3 | G18: 1-9' | K18: AREA 1 | L18: 7.9 | S18: P12 | T18: 5.925 | V18: P54 | W18: 5.925 | Y18: P96 | Z18: 5.925
C19: 6.3 | H19: 3.95 | L19: 6.575 | S19: P13 | T19: 5.925 | V19: P55 | W19: 5.925 | Z19: =SUM(Z7:Z18) -> 68.45
C20: 6.3 | H20: 2.35 | M20: =L19*L18 -> 51.9425 | S20: P14 | T20: 5.925 | V20: P56 | W20: 5.925
C21: 6.3 | H21: 3.95 | K21: AREA 2 | L21: 7.9 | S21: P15 | T21: 5.925 | V21: P57 | W21: 5.925
C22: 5.818 | H22: 6.3 | L22: 5.5 | S22: P16 | T22: 5.925 | V22: P58 | W22: 5.925
D23: =SUM(C15:C22) -> 41.268 | H23: 6.3 | M23: =L21*L22 -> 43.45 | S23: P17 | T23: 5.925 | V23: P59 | W23: 5.925
H24: 6.3 | L24: =2.68+0.9+1.785 -> 5.365 | S24: P18 | T24: 5.925 | V24: P60 | W24: 5.925
B25: A-E 2 | H25: 6.3 | L25: 6.3 | S25: P19 | T25: 5.925 | V25: P61 | W25: 5.925
C26: 6.3 | H26: 5.818 | M26: =L24*L25 -> 33.7995 | S26: P20 | T26: 5.925 | V26: P62 | W26: 5.925
C27: 3.75 | I27: =SUM(H19:H26) -> 41.268 | M27: =SUM(M20:M26) -> 129.192 | N27: m2 | S27: P21 | T27: 5.925 | V27: P63 | W27: 5.075
C28: 3.75 | G28: A-E 2 | S28: P22 | T28: 5.925 | V28: P64 | W28: 5.075
C29: 6.3 | H29: 6.3 | S29: P23 | T29: 5.925 | V29: P65 | W29: 5.075
D30: =SUM(C26:C29) -> 20.1 | H30: 1.981 | S30: P24 | T30: 5.925 | V30: P66 | W30: 5.075
H31: 3.686 | K31: SHEER WALLS | S31: P25 | T31: 5.925 | V31: P67 | W31: 5.475
H32: 3.75 | K32: AREA 1 | S32: P26 | T32: 5.925 | V32: P68 | W32: 5.475
H33: 3.75 | L33: 1.172 | S33: P27 | T33: 5.925 | V33: P69 | W33: 5.475
B34: 1-9' 2 | H34: 1.981 | L34: 0.428 | S34: P28 | T34: 5.925 | V34: P70 | W34: 5.475
C35: 3.95 | H35: 3.686 | L35: 1.6 | S35: P29 | T35: 5.925 | V35: P71 | W35: 5.075
C36: 2.35 | H36: 6.3 | L36: =6.3-0.77 -> 5.53 | S36: P30 | T36: 5.925 | V36: P72 | W36: 5.075
C37: 3.95 | I37: =SUM(H29:H36) -> 31.434 | L37: 5.53 | S37: P31 | T37: 5.925 | V37: P73 | W37: 5.075
C38: 6.3 | G38: 1-9' 2 | L38: =6.3-1.17 -> 5.13 | S38: P32 | T38: 5.925 | V38: P74 | W38: 5.075
C39: 6.3 | H39: 3.95 | L39: 6.3 | S39: P33 | T39: 5.925 | V39: P75 | W39: 5.475
C40: 6.3 | H40: 2.35 | L40: =SUM(L33:L39) -> 25.69 | M40: m | S40: P34 | T40: 5.925 | V40: P76 | W40: 5.475
C41: 6.3 | H41: 3.95 | S41: P35 | T41: 5.925 | V41: P77 | W41: 5.475
C42: 5.818 | H42: 6.3 | K42: AREA 2 | S42: P36 | T42: 5.925 | V42: P78 | W42: 5.475
D43: =SUM(C35:C42) -> 41.268 | H43: 6.3 | L43: 2.68 | S43: P37 | T43: 5.925 | V43: P79 | W43: 5.925
H44: 6.3 | L44: 3.58 | S44: P38 | T44: 5.925 | V44: P80 | W44: 5.925
H45: 6.3 | L45: 6.3 | S45: P39 | T45: 5.925 | V45: P81 | W45: 5.925
H46: 5.818 | L46: 6.3 | S46: P40 | T46: 5.925 | V46: P82 | W46: 5.075
I47: =SUM(H39:H46) -> 41.268 | L47: 0.9 | S47: P41 | T47: 5.925 | V47: P83 | W47: 5.075
L48: =SUM(L43:L47) -> 19.76 | M48: m | S48: P42 | T48: 5.925 | V48: P84 | W48: 5.075
T49: =SUM(T7:T48) -> 248.85 | W49: =SUM(W7:W48) -> 235.9
K52: Steel Reinforcement to Piles
K53: WEIGHT CALCULATION
K55: DIA | L55: No | M55: LENGTH | P55: 16
M56: mm | P56: mm
K57: 16 | L57: =96*3 -> 288 | M57: 1400 | P57: =IF(K57=16,L57*M57*1.579/1000,0) -> 636.6528

Sheet Index Factors
B1: TA Building Consultancy LTD
B2: LEVEL 6 QUANTITY SURVEYING [UWTSD]
B5: Index Factors
C7: SPONS - Original Tender Index - SPONS 2020 book TPI | E7: 124 | G7: Time Factor | H7: =Submission/Original
C8: SPONS Current Tender Index - Q2 2022 (PROJECT COMMENCEMENT) | E8: 125.6 | H8: =E13/E7 -> 1.0887097
C9: SPONS Tender Index - Movement | E9: =E8-E7 -> 1.6
C10: BCIS Tender Index - in line with SPONS 2020 book TPI | E10: 344
C11: BCIS Tender Index - Q2 2022 (PROJECT COMMENCEMENT) | E11: 355
C12: BCIS Tender Index - Movement | E12: =E11-E10 -> 11
C13: SPONS TPI with BCIS accurate index movement | E13: =E7+E12 -> 135
C16: Original Location Index - Outer London (Spon’s 2020) | E16: 1 | G16: Location Factor | H16: =Current/Original
C17: Current Location Index - Wales | E17: 0.86 | H17: =E17/E16 -> 0.86
C22: Reference Description | E22: Page
C23: Spon's A&B 2020 has been model calculated to give a book TPI | E23: SP - pg. 44
C24: Outer London (Spon’s 2020) | E24: SP - pg. 46
C25: BCIS All-in TPI - Last updated 22-Dec-2021

Sheet BCIS Indices
A1: Series: | B1: BCIS All-in TPI
A2: Series number: | B2: 101 | D2: quarterly
A3: Base: | B3: 1985 mean = 100
A4: Last updated: | B4: 44552
A5: Downloaded: | B5: 44600.042
A6: Date | B6: Index | C6: Status | D6: Equivalent sample | E6: Percentage change
E7: On year | F7: On quarter
A8: 36557 | B8: 158 | D8: 66 | E8: 7.5 | F8: 2.6
A9: 36647 | B9: 158 | D9: 56 | E9: 6 | F9: 0
A10: 36739 | B10: 162 | D10: 68 | E10: 6.6 | F10: 2.5
A11: 36831 | B11: 167 | D11: 59 | E11: 8.4 | F11: 3.1
A12: 36923 | B12: 170 | D12: 82 | E12: 7.6 | F12: 1.8
A13: 37012 | B13: 171 | D13: 64 | E13: 8.2 | F13: 0.6
A14: 37104 | B14: 177 | D14: 60 | E14: 9.3 | F14: 3.5
A15: 37196 | B15: 177 | D15: 73 | E15: 6 | F15: 0
A16: 37288 | B16: 182 | D16: 56 | E16: 7.1 | F16: 2.8
A17: 37377 | B17: 189 | D17: 59 | E17: 10.5 | F17: 3.8
A18: 37469 | B18: 188 | D18: 51 | E18: 6.2 | F18: -0.5
A19: 37561 | B19: 190 | D19: 63 | E19: 7.3 | F19: 1.1
... A87: 43770 | B87: 333 | D87: 56 | E87: 0.9 | F87: -0.6
A88: 43862 | B88: 335 | C88: Provisional | E88: 1.2 | F88: 0.6
A89: 43952 | B89: 335 | C89: Provisional | E89: 0 | F89: 0
A90: 44044 | B90: 330 | C90: Provisional | E90: -1.5 | F90: -1.5
A91: 44136 | B91: 328 | C91: Provisional | E91: -1.5 | F91: -0.6
A92: 44228 | B92: 328 | C92: Provisional | E92: -2.1 | F92: 0
A93: 44317 | B93: 331 | C93: Provisional | E93: -1.2 | F93: 0.9
A94: 44409 | B94: 339 | C94: Provisional | E94: 2.7 | F94: 2.4
A95: 44501 | B95: 344 | C95: Provisional | E95: 4.9 | F95: 1.5
A96: 44593 | B96: 350 | C96: Forecast | E96: 6.7 | F96: 1.7
A97: 44682 | B97: 355 | C97: Forecast | E97: 7.3 | F97: 1.4
A98: 44774 | B98: 355 | C98: Forecast | E98: 4.7 | F98: 0
A99: 44866 | B99: 356 | C99: Forecast | E99: 3.5 | F99: 0.3
... A114: 46235 | B114: 412 | C114: Forecast | E114: 3.8 | F114: 0
