Workbook

Sheet Front
D2: UWTSD - Design Economics ACBA 6001
B5: Date: 01/03/24
B7: Project: 6 Storey mixed use development
B8: 1no ground floor retail unit (Class A1)
B9: 1no ground floor food & drink unit (Class A3)
B10: 132no Bedroom hotel (Class C1)
B12: Description: Elemental Cost Estimate
B14: I have the pleasure of presenting the elemental cost plan for the above project.
B16: The elemental cost plan has been based on information issued and allowances are noted within the following tab.
B19: Estiminated elemental cost plan to the sum of | D19: =Summary!D48 -> 12468687
B21: Please see all notes below for non inclusions or inclusions.
B23: Please see below to navigate to the notes / prelims / elemental cost plan
B25: Should you have any queries, please do not hesitate to contact myself below.
B27: Kind regards,
B30: Niki Hunwick
B31: Email: 2016441@student.uwtsd.ac.uk
B33: Summary
B34: Allowance & notes
B35: 00 - Facilitating Works
B36: 01 - Substructure
B37: 02 - Superstructure
B38: 03 - Internal Finishes
... B50: Appendix

Sheet Summary
D2: UWTSD - Design Economics ACBA 6001
B5: Date: 01/03/24
B7: Project: 6 Storey mixed use development
B8: 1no ground floor retail unit (Class A1)
B9: 1no ground floor food & drink unit (Class A3)
B10: 132no Bedroom hotel (Class C1)
B12: Description: Elemental Cost Estimate
B14: GIFA: | C14: 4639.83 | D14: m2
B16: Element | D16: Total Value (£) | E16: Provisional Sum | F16: £ / m2
B17: 00 - Facilitating Works | D17: ='0 - Facilitating works'!I16 -> 120 | F17: =D17/$C$14 -> 0.025863017
B18: 01 - Substructure | D18: ='1 - Substructure'!I31 -> 398029.31 | F18: =D18/$C$14 -> 85.785323
B19: 02 - Superstructure | D19: ='2 - Superstructure'!I99 -> 4017162.6 | F19: =D19/$C$14 -> 865.79952
B20: 03 - Internal Finishes | D20: ='3 - Internal finishes'!I64 -> 395859.08 | F20: =D20/$C$14 -> 85.317583
B21: 04 - Fittings, Furnishings and Equipment | E21: 130000 | F21: =E21/$C$14 -> 28.018268
B22: 05 - Services | D22: ='5 - Services'!I87 -> 2796015.3 | F22: =D22/$C$14 -> 602.61159
B23: 06 - Prefabricated Buildings and Building Units | D23: ='6 - Prefabricated Buildings'!I22 -> 763200 | F23: =D23/$C$14 -> 164.48879
B24: 07 - Work to Existing Buildings | D24: Non applicable
B25: 08 - External Work's | D25: ='8 - External works'!I22 -> 47323.254 | F25: =D25/$C$14 -> 10.199351
C27: Total | D27: =SUM(D17:D25) -> 8417709.5 | E27: =SUM(E17:E25) -> 130000 | F27: =D27/$C$14 -> 1814.228
C29: Sub total | D29: =SUM(D27,E27) -> 8547709.5
B31: Current TPI | C31: 124 | D31: =D29 -> 8547709.5
B32: Q3 2024 TPI | C32: 141.24 | D32: =D31*(C32/C31) -> 9736116.9
B34: Wales Location Factor | C34: 0.85 | D34: =D32*C34 -> 8275699.4
B37: Element | D37: Total Value (£) | F37: £ / m2
B38: 09 - Main Contractor's Preliminaries | D38: ='9 - Main Contr Prelims'!H33+'9 - Main Contr Prelims'!H13 -> 1244028.1 | F38: =D38/$C$14 -> 268.11933
B39: 10 - Main Contractor' Overheads & Costs | D39: ='10 - Main Contr O & P'!H15 -> 1324895 | F39: =D39/$C$14 -> 285.54817
B40: 11 - Project / Design Team Fees | D40: ='11 - Project & Design Team fee'!H17 -> 769293.86 | F40: =D40/$C$14 -> 165.80217
B41: 12 - Other Development / Project Costs | D41: TBC
B42: 13 - Risks | D42: ='13 - Risks'!H17 -> 854770.95 | F42: =D42/$C$14 -> 184.22463
B43: 14 - Inflation | D43: TBC
C45: Total | D45: =SUM(D38:D44) -> 4192987.9 | F45: =D45/C14 -> 903.69429
B48: Total Construction Cost | D48: =D34+D45 -> 12468687 | F48: =D48/C14 -> 2687.3155

Sheet Allowance & notes
K2: Elemental Cost Plan | L2: =SUM('0 - Facilitating works'!I16,'1 - Substructure'!I31,'2 - Superstructure'!I99,'3 - Internal finishes'!I64,'4 - FF&E'!I17,'5 - Services'!I87,'6 - Prefabricated Buildings'!I22,'7 - Work to existing buildings'!I14,'8 - External works'!I22,'9 - Main Contr Prelims'!I33,'10 - Main Contr O & P'!H15,'11 - Project & Design Team fee'!I17,'12 - Other development costs'!I12,'13 - Risks'!I17,'14 - Inflation'!I14) -> 9742604.5
B5: Date: 01/03/24
B7: Project: 6 Storey mixed use development
B8: 1no ground floor retail unit (Class A1)
B9: 1no ground floor food & drink unit (Class A3)
B10: 132no Bedroom hotel (Class C1)
B12: Description: Elemental Cost Estimate
B15: All measures were conducted using Bluebeam Revu 20
B18: Drawings used
B20: SP136_P01_PROPOSED_GROUND_FLOOR_PLAN-70364
B22: SP136-P02_FIRST_FLOOR_PLAN-70362
B24: SP136-P03_SECOND_FLOOR_PLAN-59697
B26: SP136-P04_THIRD_FLOOR_PLAN-59698
... B63: No provisions are included for inflation.

Sheet 0 - Facilitating works
A4: Ref. | C4: Element | E4: Qty | F4: unit | G4: Rate | H4: Sub-Total | I4: Group-Total | J4: Notes
G5: £ | H5: £ | I5: £
A6: 0 | C6: Facilitating works
B8: 0.3.1 | C8: Temporary support for adjacent structures
C9: Temporary Curb Support
C10: Installation of temporary support for an adjacent curb using 25mm WBP ply, 300mm high, to ensure stability and prevent movement during construction activities. To include all required fixings and to be removed upon completion of worls | E10: 8 | F10: m | G10: 15 | H10: =G10*E10 -> 120
I13: =SUM(H10) -> 120
H16: Total | I16: =SUM(I6:I15) -> 120
G18: Check | H18: =SUM(H6:H15) -> 120 | I18: =I16-H18 -> 0

Sheet 1 - Substructure
A4: Ref. | C4: Element | E4: Qty | F4: unit | G4: Rate | H4: Sub-Total | I4: Group-Total | J4: Notes
G5: £ | H5: £ | I5: £
A6: 1 | C6: Substructure
B8: 1.1.2 | C8: Specialist foundations
C9: Piling
C10: Enabling works excavate to form piling mat; supply and lay imported hardcore – recycled brick and similar to form piling mat | E10: 522.41 | F10: m3 | G10: 11.3 | H10: =G10*E10 -> 5903.233 | J10: Assumed poor site conditions, excavate depth of 300mm used
C12: provision of plant (1 nr rig); including bringing to and removing from site; maintenance, erection and dismantling at each pile position | E12: 1 | F12: item | G12: 19000 | H12: =G12*E12 -> 19000
C14: Supply and install concrete Continuous Flight Auger (CFA) piles; cart away inactive spoil; measure total length of pile 600mm dia. reinforced concrete CFA piles | E14: 2160 | F14: m | G14: 83 | H14: =G14*E14 -> 179280 | J14: 48nr caps, 3nr piles per cap @ 15m depth,
C16: Pile caps
C17: Excavate pit in firm ground by machine, partial backfill, partial disposal, support, compaction, cut off pile and prepare reinforcement, formwork; reinforced in situ concrete cap 25 N/mm²; reinforcement at 50 kg/m³; rates per cap for cap size 2100mm× 2100mm× 1000 mm; 2–3 piles | E17: 48 | F17: nr | G17: 1675 | H17: =G17*E17 -> 80400
I20: =SUM(H10,H12,H14,H17) -> 284583.23
B23: 1.1.3 | C23: Lowest Floor Construction
C24: Ground floor construction
C25: Mechanical excavation to reduce levels, disposal, level and compact, hardcore bed blinded with sand, 1200 gauge polythene damp-proof membrane, in situ concrete 20.00 N/mm² – 20mm aggregate (1:2:4) 150mm thick concrete slab with 1 layer of A195 fabric reinforcement | E25: 1181.73 | F25: m2 | G25: 96 | H25: =G25*E25 -> 113446.08
I28: =SUM(H25) -> 113446.08
H31: Total | I31: =SUM(I6:I30) -> 398029.31
G33: Check | H33: =SUM(H6:H30) -> 398029.31 | I33: =I31-H33 -> 0

Sheet 2 - Superstructure
A4: Ref. | C4: Element | E4: Qty | F4: unit | G4: Rate | H4: Sub-Total | I4: Group-Total | J4: Notes
G5: £ | H5: £ | I5: £
A6: 2 | C6: Superstructure
B8: 2.2.1 | C8: Steel frame
C9: universal beams; grade S275 | E9: 126.456 | F9: tonnes | G9: 2000 | H9: =G9*E9 -> 252912 | J9: Assumed steel section IPE300 @ 42.24kg/m
C11: universal columns; grade S275 | E11: 30.4128 | F11: tonnes | G11: 2000 | H11: =G11*E11 -> 60825.6 | J11: Assumed steel section IPE300 @ 42.24kg/m
I14: =SUM(H9,H11) -> 313737.6
B17: 2.2.1 | C17: Upper floors
C18: Floors
C19: Composite steel deck flooring Composite steel and concrete upper floors (Note: all floor thicknesses are nominal); A142 mesh reinforcement TATA Slimdek SD225 steel decking 1.25mm thick; 130mm reinforced concrete topping | E19: 3955.24 | F19: m2 | G19: 95 | H19: =(G19*E19)*4 -> 1502991.2
I22: =SUM(H19) -> 1502991.2
B25: 2.3.1 | C25: Roof structure
C26: Flat roof decking; structure only
C27: Metal decking galvanized steel roof decking; insulation; three layer felt roofing and chippings; 0.70mm thick steel decking (U-value = 0.25W/m2 K) | E27: 988.81 | F27: m2 | G27: 77 | H27: =(G27*E27)*3 -> 228415.11
I30: =SUM(H27) -> 228415.11
B33: 2.4.1 | C33: Stairs and ramps
C34: Reinforced concrete construction
C35: Staircase; terrazzo finish; mild steel balustrades and handrails; plastered soffit; balustrades and staircase soffit decorated 3.00m rise; dogleg | E35: 4 | F35: nr | G35: 9700 | H35: =(G35*E35)*3 -> 116400 | J35: Assumed 4 levels, 3 stair cores.
I38: =SUM(H35) -> 116400
B41: 2.5.1 | C41: External Enclosing Walls above ground level
C42: Brick/block walling
C43: Cavity wall; rendered block outer skin; insulation; with plaster on standard weight block inner skin; emulsion (U-value = 0.30W/m2 K) block outer skin; insulation; lightweight block inner skin outer block rendered | E43: 2545.79 | F43: m2 | G43: 165 | H43: =G43*E43 -> 420055.35
C45: Glazed walling
C46: unitized curtain walling system with double glazed units, aluminium structural framing and spandrel rails. Standard colour powder coated | E46: 773.81 | F46: m2 | G46: 1100 | H46: =G46*E46 -> 851191
B48: 2.5.3 | C48: Solar/Rain Screen
C49: 25mm thick tongued and grooved Western Red Cedar boarding including timber battens | E49: 308.66 | F49: m2 | G49: 55 | H49: =G49*E49 -> 16976.3
C51: Trespa single skin rainscreen cladding, 8mm thick panel, with secondary support/frame system; adhesive fixed panels; open joints; 100mm Kingspan K15 insulation; aluminium subframe fixed to masonry/concrete | E51: 280.27 | F51: m2 | G51: 250 | H51: =G51*E51 -> 70067.5
I54: =SUM(H43,H46,H49,H51) -> 1358290.1
B57: 2.6.1 | C57: External Windows
C58: Composite aluminium/timber windows; U value = 1.5W/m2K similar fixed windows over 1.50m2 up to 4.00m2 | E58: 188.65 | F58: m2 | G58: 260 | H58: =G58*E58 -> 49049
I61: =SUM(H58) -> 49049
B64: 2.6.2 | C64: External doors
C65: External Doors
C66: single external steel security door, including frame, ironmongery, powder coated finish | E66: 4 | F66: nr | G66: 2125 | H66: =G66*E66 -> 8500
C68: double external steel security door, including frame, ironmongery, powder coated finish | E68: 6 | F68: nr | G68: 3150 | H68: =G68*E68 -> 18900
C70: Automatic glazed entrance doors
C71: Automatic glazed sliding doors in aluminium; polyester powder coated; linear sliding doors; inner pivoted pocket screens; glazed with safety units in accordance with BS. ASSA ABLOY SL510 P RC2 Anti-Burglar Sliding Door System complete with 100mm operator providing automated operation of the sliding door leaves Double bi-parting; opening 2.00m× 2.30m | E71: 2 | F71: nr | G71: 9100 | H71: =G71*E71 -> 18200
I74: =SUM(H66,H68,H71) -> 45600
B77: 2.7 | C77: Internal walls and partitions
C78: Frame and panel partitions
...

Sheet BbQuantityLink
A1: <?xml version="1.0" encoding="utf-8"?>_x000D_ <QuantityLinks Version="3">_x000D_ <Links />_x000D_ <Filesets />_x000D_ <Guids />_x000D_ </QuantityLinks> | B1: 1

Sheet 3 - Internal finishes
A4: Ref. | C4: Element | E4: Qty | F4: unit | G4: Rate | H4: Sub-Total | I4: Group-Total | J4: Notes
G5: £ | H5: £ | I5: £
A6: 3 | C6: Internal finishes
B9: 3.1 | C9: Wall finishes | J9: Covered under 2 - Superstructure, 2.7 Internal walls and partitions, frame and panel partitions
B12: 3.2 | C12: Floor finishes
B14: 3.1.1 | C14: Floor finishes - Retail
C15: Rigid tile/slab finishes (includes skirtings; excludes screeds)
C16: vinyl safety flooring; 2.00–2.50mm thick | E16: 486.87 | F16: m2 | G16: 15.5 | H16: =G16*E16 -> 7546.485
B19: 3.1.2 | C19: Floor finishes - Resturant
C20: Rigid tile/slab finishes (includes skirtings; excludes screeds)
C21: Carpet tiles; including underlay, edge grippers
C22: heavy domestic duty; to floors; | E22: 617.82 | F22: m2 | G22: 68 | H22: =G22*E22 -> 42011.76
B25: 3.1.3 | C25: Floor finishes - Hotel
C26: Rigid tile/slab finishes (includes skirtings; excludes screeds)
C27: Carpet tiles; including underlay, edge grippers
C28: heavy domestic duty; to floors; | E28: 3535.14 | F28: m2 | G28: 62 | H28: =G28*E28 -> 219178.68
B31: 3.1.4 | C31: Floor finishes - Hotel
C32: Rigid tile/slab finishes (includes skirtings; excludes screeds)
C33: vinyl safety flooring; 2.00–2.50mm thick | E33: 9.37 | F33: m2 | G33: 15.5 | H33: =G33*E33 -> 145.235
I36: =SUM(H16,H22,H28,H33) -> 268882.16
B39: 3.3 | C39: Ceiling finishes
B41: 3.3.3 | C41: Demountable Suspended Ceilings
C42: Armstrong suspended ceiling; mineral fibre; basic range; Cortega, Tatra, Academy; exposed grid
C44: Retail | E44: 486.87 | F44: m2 | G44: 21.5 | H44: =G44*E44 -> 10467.705
C46: Resturant | E46: 617.82 | F46: m2 | G46: 21.5 | H46: =G46*E46 -> 13283.13
B49: 3.3.1 | C49: Finishes to Ceiling
C50: Other board finishes; with fire-resisting properties; excluding decoration 15mm thick Gyproc Fireline board
C52: Hotel | E52: 3535.14 | F52: m2 | G52: 24 | H52: =G52*E52 -> 84843.36
B55: 3.3.1 | C55: Finishes to Ceiling
C56: Comparative ceiling finishes Emulsion paint to plaster one mist and two coats
C58: Hotel | E58: 3535.14 | F58: m2 | G58: 5.2 | H58: =G58*E58 -> 18382.728
I61: =SUM(H44,H46,H52,H58) -> 126976.92
H64: Total | I64: =SUM(I6:I63) -> 395859.08
G66: Check | H66: =SUM(H6:H63) -> 395859.08 | I66: =H66-I64 -> 0

Sheet 4 - FF&E
A4: Ref. | C4: Element | E4: Qty | F4: unit | G4: Rate | H4: Sub-Total | I4: Group-Total | J4: Notes
G5: £ | H5: £ | I5: £
A6: 4 | C6: Fittings, furnishings and equipment
B8: 4.1.1 | C8: General Fittings, Furnishings and Equipment
C9: furniture and equipment | F9: m2 | J9: Provisional sum £130,000.00
H17: Total | I17: =SUM(I6:I16) -> 0
G19: Check | H19: =SUM(H6:H16) -> 0 | I19: =H19-I17 -> 0

Sheet 5 - Services
A4: Ref. | C4: Element | E4: Qty | F4: unit | G4: Rate | H4: Sub-Total | I4: Group-Total | J4: Notes
G5: £ | H5: £ | I5: £
A6: 5 | C6: Services
B8: 5.1.1 | C8: Sanitary appliances
C9: Retail | E9: 486.87 | F9: m2 | G9: 1.6 | H9: =G9*E9 -> 778.992 | J9: Rates are for gross internal floor area – GIFA unless otherwise described
C11: Resturant | E11: 617.82 | F11: m2 | G11: 2.2 | H11: =G11*E11 -> 1359.204 | J11: Rates are for gross internal floor area – GIFA unless otherwise described
C13: hotel | E13: 3535.14 | F13: m2 | G13: 41 | H13: =G13*E13 -> 144940.74 | J13: Rates are for gross internal floor area – GIFA unless otherwise described
I16: =SUM(H9,H11,H13) -> 147078.94
B19: 5.4.1 | C19: Mains Water Supply
C20: Hot and cold water installations; mains supply; hot and cold water distribution.
C21: Retail | E21: 420.52 | F21: m2 | G21: 30 | H21: =G21*E21 -> 12615.6 | J21: Gross internal floor area (unless described otherwise)
C23: Resturant | E23: 618.52 | F23: m2 | G23: 41.5 | H23: =G23*E23 -> 25668.58 | J23: Gross internal floor area (unless described otherwise)
C25: hotel | E25: 4630.26 | F25: m2 | G25: 48 | H25: =G25*E25 -> 222252.48 | J25: Gross internal floor area (unless described otherwise)
I28: =SUM(H21,H23,H25) -> 260536.66
B31: 5.6.1 | C31: Space Heating and Air Conditioning
C32: Retail | E32: 420.52 | F32: m2 | G32: 18 | H32: =G32*E32 -> 7569.36 | J32: Gross internal floor area (unless described otherwise)
C34: Resturant | E34: 618.52 | F34: m2 | G34: 210 | H34: =G34*E34 -> 129889.2 | J34: Gross internal floor area (unless described otherwise)
C36: hotel | E36: 4630.26 | F36: m2 | G36: 160 | H36: =G36*E36 -> 740841.6 | J36: Gross internal floor area (unless described otherwise)
I39: =SUM(H32,H34,H36) -> 878300.16
B42: 5.7.1 | C42: Ventilation Systems
C43: Retail | E43: 420.52 | F43: m2 | G43: 5.95 | H43: =G43*E43 -> 2502.094 | J43: Gross internal floor area (unless described otherwise)
C45: Resturant | E45: 618.52 | F45: m2 | G45: 7.85 | H45: =G45*E45 -> 4855.382 | J45: Gross internal floor area (unless described otherwise)
C47: hotel; general toilet extraction, bathrooms, kitchens | E47: 4630.26 | F47: m2 | G47: 48 | H47: =G47*E47 -> 222252.48 | J47: Gross internal floor area (unless described otherwise)
I50: =SUM(H43,H45,H47) -> 229609.96
B53: 5.8.1 | C53: Electric Mains and Sub-Mains Distrubition
C54: Retail | E54: 420.52 | F54: m2 | G54: 75 | H54: =G54*E54 -> 31539 | J54: Gross internal floor area (unless described otherwise)
C56: Resturant | E56: 618.52 | F56: m2 | G56: 105 | H56: =G56*E56 -> 64944.6 | J56: Gross internal floor area (unless described otherwise)
C58: hotel; general toilet extraction, bathrooms, kitchens | E58: 4630.26 | F58: m2 | G58: 200 | H58: =G58*E58 -> 926052 | J58: Gross internal floor area (unless described otherwise)
I61: =SUM(H54,H56,H58) -> 1022535.6
B64: 5.10.1 | C64: Lifts and Enclosed Hoists
C65: Passenger lifts
C66: Special installations
C67: disabled platform lift single wheelchair; 400 kg; 4 stops; 0.16 m/s | E67: 1 | F67: nr | G67: 10000 | H67: =G67*E67 -> 10000
C69: 13-person; 6 stops; 1.0 m/s speed | E69: 1 | F69: nr | G69: 105000 | H69: =G69*E69 -> 105000
I72: =SUM(H67,H69) -> 115000
B75: 5.11.1 | C75: Fire Fighting Systems
C76: Including lightning protection, sprinklers unless stated otherwise | J76: Gross internal floor area (unless described otherwise);
C77: Retail | E77: 486.87 | F77: m2 | G77: 1.15 | H77: =G77*E77 -> 559.9005
C79: Resturant | E79: 617.82 | F79: m2 | G79: 1.6 | H79: =G79*E79 -> 988.512
C81: Hotel | E81: 3535.14 | F81: m2 | G81: 40 | H81: =G81*E81 -> 141405.6
...

Sheet 6 - Prefabricated Buildings
A4: Ref. | C4: Element | E4: Qty | F4: unit | G4: Rate | H4: Sub-Total | I4: Group-Total | J4: Notes
G5: £ | H5: £ | I5: £
A6: 6 | C6: Prefabricated buildings
B9: 4.1 | C9: Fittings, furnishings and equipment
B11: 4.1.2 | C11: Domestic Kitchen Fittings and Equipment
C12: Hotel bathroom pods
C13: Fully fitted out, finished and furnished bathroom pods; installed; suitable for
C14: standard pod (4.50m plan area) | E14: 120 | F14: nr | G14: 5600 | H14: =G14*E14 -> 672000
C16: accessible pod (4.50m plan area) | E16: 12 | F16: nr | G16: 7600 | H16: =G16*E16 -> 91200
I19: =SUM(H16,H14) -> 763200
H22: Total | I22: =SUM(I6:I21) -> 763200
G24: Check | H24: =SUM(H6:H21) -> 763200 | I24: =I22-H24 -> 0

Sheet 7 - Work to existing buildings
A4: Ref. | C4: Element | E4: Qty | F4: unit | G4: Rate | H4: Sub-Total | I4: Group-Total | J4: Notes
G5: £ | H5: £ | I5: £
A6: 7 | C6: Work to existing buildings | J6: Non applicable
H14: Total | I14: =SUM(I6:I13) -> 0
G16: Check | H16: =SUM(H6:H13) -> 0 | I16: =I14-H16 -> 0

Sheet 8 - External works
A4: Ref. | C4: Element | E4: Qty | F4: unit | G4: Rate | H4: Sub-Total | I4: Group-Total | J4: Notes
G5: £ | H5: £ | I5: £
A6: 8 | C6: External Works
B8: 8.2.1 | C8: Roads, Paths and Pavings
C9: Car parking alternatives, Rates per car, surface level parking | E9: 11 | F9: car | G9: 2175 | H9: =G9*E9 -> 23925
I12: =SUM(H9) -> 23925
B15: 8.6.1 | C15: Surface Water and Foul Water Drainage
C16: building storm water drainage | E16: 1181.73 | F16: m2 | G16: 19.8 | H16: =G16*E16 -> 23398.254 | J16: per m² of gross internal floor area
I19: =SUM(H16) -> 23398.254
H22: Total | I22: =SUM(I6:I21) -> 47323.254
G24: Check | H24: =SUM(H6:H21) -> 47323.254 | I24: =I22-H24 -> 0

Sheet 9 - Main Contr Prelims
M2: Elemental Cost Plan | N2: =Summary!D29 -> 8547709.5
A4: Ref. | C4: Element | E4: Qty | F4: unit | G4: Rate | H4: Sub-Total | I4: Group-Total | J4: Notes
G5: % | H5: £ | I5: £
A6: 9 | C6: Main contractor perlims
B8: 9.1 | C8: Employer’s requirements
C9: 9.1.1 Site accommodation | G9: 0.0018 | H9: =$H$36*G9 -> 17532.207 | J9: Contract sum including prelims
C10: 9.1.2 Site records | G10: 0.0015 | H10: =$H$36*G10 -> 14610.173 | J10: Contract sum including prelims
C11: 9.1.3 Completion and post-completion requirements | G11: 0.002 | H11: =$H$36*G11 -> 19480.23 | J11: Contract sum including prelims
G13: Total | H13: =SUM(H9:H11) -> 51622.61
B15: 9.2 | C15: Main contractor’s cost items
C16: 9.2.1 Management and staff | G16: 0.06 | H16: =$N$2*G16 -> 512862.57
C17: 9.2.2 Site establishment | G17: 0.0035 | H17: =$N$2*G17 -> 29916.983
C18: 9.2.3 Temporary utilities | G18: 0.01 | H18: =$N$2*G18 -> 85477.095
C19: 9.2.4 Security | G19: 0.0015 | H19: =$N$2*G19 -> 12821.564
C20: 9.2.5 Safety and environmental protection | G20: 0.001 | H20: =$N$2*G20 -> 8547.7095
C21: 9.2.6 Control and protection | G21: =0.1%+0.03% -> 0.0013 | H21: =$N$2*G21 -> 11112.022
C22: 9.2.7 Mechanical plant | G22: =2%+0.2% -> 0.022 | H22: =$N$2*G22 -> 188049.61
C23: 9.2.8 Temporary works | G23: 0.0075 | H23: =$N$2*G23 -> 64107.822
C24: 9.2.9 Site records | G24: 0.005 | H24: =$N$2*G24 -> 42738.548
C25: 9.2.10 Completion and post-completion requirements | G25: 0.007 | H25: =$N$2*G25 -> 59833.967
C26: 9.2.11 Cleaning | G26: 0.0015 | H26: =$N$2*G26 -> 12821.564
C27: 9.2.12 Fees and charges | G27: 0.008 | H27: =$N$2*G27 -> 68381.676
C28: 9.2.13 Site services | G28: 0.0092 | H28: =$N$2*G28 -> 78638.928
C29: 9.2.14 Insurance, bonds, guarantees and warranties | G29: 0.002 | H29: =$N$2*G29 -> 17095.419
G33: Total | H33: =SUM(H16:I32) -> 1192405.5 | I33: =SUM(I6:I32) -> 0
G35: sum | H35: =SUM(H16:H32) -> 1192405.5
G36: total + prelims | H36: =N2+H35 -> 9740115
D38: Sum | G38: =SUM(G9:G29) -> 0.1448

Sheet 10 - Main Contr O & P
M2: Elemental Cost Plan | N2: =Summary!D29 -> 8547709.5
A4: Ref. | C4: Element | E4: Qty | F4: unit | G4: Rate | H4: Sub-Total | I4: Group-Total | J4: Notes
G5: % | H5: £ | I5: £
A6: 10 | C6: Main contractor O & P
B8: 10.1 | C8: Main contractor’s overheads | G8: 0.075 | H8: =$N$2*G8 -> 641078.22
B12: 10.2 | C12: Main contractor’s profit. | G12: 0.08 | H12: =$N$2*G12 -> 683816.76
G15: Total | H15: =SUM(H6:H14) -> 1324895

Sheet 11 - Project & Design Team fee
M2: Elemental Cost Plan | N2: =Summary!D29 -> 8547709.5
A4: Ref. | C4: Element | E4: Qty | F4: unit | G4: Rate | H4: Sub-Total | I4: Group-Total | J4: Notes
G5: % | H5: £ | I5: £
A6: 11 | C6: Project & design team fee
B8: 11.1 | C8: Consultants’ fees | G8: 0.09 | H8: =N2*G8 -> 769293.86
B11: 11.2 | C11: Main contractor’s pre-construction fees | G11: - | J11: Non applicable
B14: 11.3 | C14: Main contractor’s design fees (only applicable where a main contractor-led design and build contract strategy is to be used) | G14: - | J14: Non appicable
G17: Total | H17: =SUM(H6:H16) -> 769293.86

Sheet 12 - Other development costs
M2: Elemental Cost Plan | N2: =Summary!D29 -> 8547709.5
A4: Ref. | C4: Element | E4: Qty | F4: unit | G4: Rate | H4: Sub-Total | I4: Group-Total | J4: Notes
G5: £ | H5: £ | I5: £
A6: 12 | C6: Other development costs
B8: 12.1 | C8: Other project costs | G8: - | J8: TBC
G12: Total | H12: =SUM(H6:H11) -> 0

Sheet 13 - Risks
M2: Elemental Cost Plan | N2: =Summary!D29 -> 8547709.5
A4: Ref. | C4: Element | E4: Qty | F4: unit | G4: Rate | H4: Sub-Total | I4: Group-Total | J4: Notes
G5: % | H5: £ | I5: £
A6: 13 | C6: Risks
B8: 13.1 | C8: Design development risks | G8: 0.025 | H8: =$N$2*G8 -> 213692.74
B10: 13.2 | C10: Construction risks | G10: 0.025 | H10: =$N$2*G10 -> 213692.74
B12: 13.3 | C12: Employer change risks | G12: 0.025 | H12: =$N$2*G12 -> 213692.74
B14: 13.4 | C14: Employer other risks | G14: 0.025 | H14: =$N$2*G14 -> 213692.74
G17: Total | H17: =SUM(H6:H16) -> 854770.95

Sheet 14 - Inflation
M2: Elemental Cost Plan | N2: =Summary!D29 -> 8547709.5
A4: Ref. | C4: Element | E4: Qty | F4: unit | G4: Rate | H4: Sub-Total | I4: Group-Total | J4: Notes
G5: £ | H5: £ | I5: £
A6: 14 | C6: Inflation
B8: 14.1 | C8: Tender inflation. | J8: TBC
B10: 14.2 | C10: Construction inflation. | J10: TBC
G14: Total | H14: =SUM(H6:H13) -> 0

Sheet Appendix
E2: UWTSD - Design Economics ACBA 6001
A6: Comments | C6: Appendix
A9: Elementary research on Radon gas within the region shows a potential need for more thorough investigation | S9: `
C25: Figure 1 - Shows Maximum radon potential of between 5% - 30%
