Workbook

Sheet Feasability Costs
C4: Feasability Cost Plan for Joseph Parry Theatre
A7: Ref | D7: Original Rate | E7: Measure | F7: Unit of Measure | G7: Adjusted Rate | H7: Total
B8: Theatre
A9: T1 | B9: Option 1 (Mount View Academny, London) | D9: 1643.1409 | E9: 3000 | F9: m2 | G9: =(D9/144)*204 -> 2327.783 | H9: =SUM(G9*E9) -> 6983348.9
A10: T2 | B10: Option 2 (Similar Project) | D10: 2857.1429 | E10: 3000 | F10: m2 | G10: =(D10/110)*204 -> 5298.7013 | H10: =SUM(G10*E10) -> 15896104
A11: T3 | B11: Spons m2 rate | D11: 7781.48 | E11: 3000 | F11: m2 | G11: =SUM((D11/332)*396)*0.86 -> 7982.1109 | H11: =SUM(G11*E11) -> 23946333
B13: Landscaping
A14: L1 | B14: Break out Existing Hardstanding | D14: 85 | E14: 2250 | F14: m3 | G14: =SUM((D14/332)*396)*0.86 -> 87.191566 | H14: =SUM(G14*E14) -> 196181.02 | I14: Breakout and dispose
A15: L2 | B15: Site Clearance | D15: 200 | E15: 5400 | F15: m3 | G15: =((D15/330)*396)*0.86 -> 206.4 | H15: =SUM(G15*E15) -> 1114560 | I15: based on hazardous material. 9000m2 x 600mm depth
A16: L3 | B16: Provisional Sum: Japenese Knott Weed | D16: 200 | E16: 3150 | F16: m3 | G16: =((D16/330)*396)*0.86 -> 206.4 | H16: =SUM(G16*E16) -> 650160 | I16: 7m rule @ 5% of site area
A17: L4 | B17: Additional Foundations | D17: 87.01 | E17: 3150 | F17: m2 | G17: =((D17/330)*396)*0.86 -> 89.79432 | H17: =SUM(G17*E17) -> 282852.11 | I17: 2,3 & 4. Pile Foundaions with Beam support
A18: L6 | B18: Block paving on a permiable base | D18: 85 | E18: 1600 | F18: m2 | G18: =((D18/330)*396)*0.86 -> 87.72 | H18: =SUM(G18*E18) -> 140352
B20: Surveys | H20: 50000
A21: S1 | B21: UXO
A22: S2 | B22: Transport Assessment
A23: S3 | B23: Architectual Watching Brief
A24: S4 | B24: Ground Investigation
A25: S5 | B25: Environmental Report
A26: S6 | B26: Drainage Report
A27: S7 | B27: Bird Survey
A28: S8 | B28: Bat Survey
A29: S9 | B29: Flood Risk Assessment
G30: Total | H30: =SUM(H11:H28) -> 26380438
B32: Optional
A33: O1 | B33: Bridge | D33: 5300 | E33: 475 | F33: m2 | G33: =((D33/110)*204)*0.86 -> 8453.0182 | H33: =SUM(G33*E33) -> 4015183.6 | I33: 95M Bridge x 5m width based on approximate sizes
A34: O2 | B34: Car Park | D34: 110 | E34: 783 | F34: m2 | G34: =((D34/330)*396)*0.86 -> 113.52 | H34: =SUM(G34*E34) -> 88886.16 | I34: 12.5m2 per space, 18m2 per disabled. 1 space per 5 seats allowed for 10% disabled
G36: Total
A38: P1 | B38: Prelims | H38: =SUM(H30:H34)*10% -> 3048450.8
A39: P2 | B39: Risk | H39: =SUM(H30:H35)*7% -> 2133915.5
A40: P3 | B40: Misc | H40: =SUM(H30:H36)*3% -> 914535.23
H42: =SUM(H38:H40) -> 6096901.5
E45: Total Funding Required | H45: =SUM(H42,H30:H36) -> 36581409

Sheet Summary Sheet
B2: Element Ref | C2: Element | D2: Cost Summary (Prior to Adjustment) | E2: Cost Summary (Updated for Location Only) | F2: Cost Sumary (Updated for both Location and Construction Date)
B3: 0 | C3: Facilitating Works | D3: ='0 Facilitating Works'!F9 -> 780000 | E3: =SUM(D3*0.85) -> 663000 | F3: =SUM(E3/186)*226 -> 805580.65
B4: 1 | C4: Sub-Structure | D4: ='1 Substructure'!F16 -> 651052.5 | E4: =SUM(D4*0.85) -> 553394.62 | F4: =SUM(E4/186)*226 -> 672404.22
B5: 2 | C5: Superstructre | D5: ='2 Superstructure'!F21 -> 6103278 | E5: =SUM(D5*0.85) -> 5187786.3 | F5: =SUM(E5/186)*226 -> 6303439.3
B6: 3 | C6: Internal Finishes | D6: ='3 Internal Finishes'!F10 -> 787430 | E6: =SUM(D6*0.85) -> 669315.5 | F6: =SUM(E6/186)*226 -> 813254.32
B7: 4 | C7: FFE | D7: ='4 FFE'!F6 -> 389250 | E7: =SUM(D7*0.85) -> 330862.5 | F7: =SUM(E7/186)*226 -> 402015.73
B8: 5 | C8: Services | D8: ='5 Services'!F13 -> 1541200 | E8: =SUM(D8*0.85) -> 1310020 | F8: =SUM(E8/186)*226 -> 1591744.7
B9: 6 | C9: Prefab Build & Units | D9: ='6 Prefab Build & Units'!F6 -> 0 | E9: =SUM(D9*0.85) -> 0 | F9: =SUM(E9/186)*226 -> 0
B10: 7 | C10: Work to Existing Buildings | D10: ='7 Work to Exist Buildings'!F6 -> 0 | E10: =SUM(D10*0.85) -> 0 | F10: =SUM(E10/186)*226 -> 0
B11: 8 | C11: External Works | D11: ='8 External Works'!F10 -> 472880.2 | E11: =SUM(D11*0.85) -> 401948.17 | F11: =SUM(E11/186)*226 -> 488388.64
B12: 9 | C12: Main Contractor Prelims | D12: ='9 Main Contractor Prelims'!E4 -> 1072509.1 | E12: =SUM(D12*0.85) -> 911632.71 | F12: =SUM(E12/186)*226 -> 1107682.8
B13: 10 | C13: Main Contractor OH&P | D13: ='10 Main Contractor OH&P'!E4 -> 1179760 | E13: =SUM(D13*0.85) -> 1002796 | F13: =SUM(E13/186)*226 -> 1218451
B14: 11 | C14: Project Design Fees | D14: ='11 Project_design fees'!E4 -> 589879.99 | E14: =SUM(D14*0.85) -> 501397.99 | F14: =SUM(E14/186)*226 -> 609225.52
B15: 12 | C15: Other Development Project Costs | D15: ='12 Other Dev_Proj Costs'!E4 -> 1002796 | E15: =SUM(D15*0.85) -> 852376.58 | F15: =SUM(E15/186)*226 -> 1035683.4
B16: 13 | C16: Risk | D16: ='13 Risks'!E4 -> 2185505.4 | E16: =SUM(D16*0.85) -> 1857679.6 | F16: =SUM(E16/186)*226 -> 2257180.5
B18: Total | F18: =SUM(F3:F16) -> 17305051
B20: Assumptions
B21: Further information will become available in terms of accurate measurements

Sheet 0 Facilitating Works
A1: Facilitating Works
A4: Ref | B4: Description | C4: Quantity | D4: Measure | E4: Rate | F4: Total | G4: Notes
A5: 2.1.0.1 | B5: Toxic/Hazardous/Contaminated Material Treatment | C5: 3150 | D5: m3 | E5: 200 | F5: =SUM(E5*C5) -> 630000 | G5: Alllow to remove japenese knott weed. Provisional Sum 5% of site area 7m rule
A6: 2.1.0.3 | B6: Radon Barrier | D6: m2 | E6: 10.5 | F6: =SUM(E6*C6) -> 0 | G6: Cost not available at this time
B7: Surveys - Provisional Sum | C7: 1 | D7: Item | E7: 150000 | F7: =SUM(E7*C7) -> 150000
C9: Total | F9: =SUM(F5:F7) -> 780000

Sheet 1 Substructure
A1: Sub-Structure
A3: Ref | B3: Description | C3: Quantity | D3: Measure | E3: Rate | F3: Total | G3: Notes
A4: 2.1.1.1 | B4: Excavate to form piling mat; supply and lay imported hardcore - recycled brick and similar to form mat. | C4: 25 | D4: m3 | E4: 11.3 | F4: =SUM(E4*C4) -> 282.5
A5: 2.1.1.2 | B5: Privision of Plant (1nr Rig); including bringing to and removing from site; maintenance, erection and dismantling at each pile position. | C5: 1 | D5: Item | E5: 19000 | F5: =SUM(E5*C5) -> 19000
A6: 2.1.1.3a | B6: Supply and install concrete Continuous Flight Auger (CFA) piles; cart away inactive spoil. 15m long pile; 900mm diamaeter. Reinforced concrete CFA Piles. | C6: 35 | D6: nr | E6: 3450 | F6: =SUM(E6*C6) -> 120750 | G6: Theatre Building
A7: 2.1.1.3b | B7: Supply and install concrete Continuous Flight Auger (CFA) piles; cart away inactive spoil. 15m long pile; 900mm diamaeter. Reinforced concrete CFA Piles. | C7: 25 | D7: nr | E7: 3450 | F7: =SUM(E7*C7) -> 86250 | G7: Building B
A8: 2.1.1.3c | B8: Supply and install concrete Continuous Flight Auger (CFA) piles; cart away inactive spoil. 15m long pile; 900mm diamaeter. Reinforced concrete CFA Piles. | C8: 30 | D8: nr | E8: 3450 | F8: =SUM(E8*C8) -> 103500 | G8: Building C
A9: 2.1.1.4a | B9: Excavate pit in firm ground by machine, partial back fill, partial disposal, support, compaction, cut off pile and reinforcement, formwork; reinforced in situ concrete cap 25 N/mm2; reinforcement at 50 kg/m3; rates per cap for cap size. 900mm x 900mm x 1000mm; 1-2 piles. All piles to installed through soil extraction due to surrounding conservation area. | C9: 35 | D9: nr | E9: 1278 | F9: =SUM(E9*C9) -> 44730 | G9: Theatre Building
A10: 2.1.1.4b | B10: Excavate pit in firm ground by machine, partial back fill, partial disposal, support, compaction, cut off pile and reinforcement, formwork; reinforced in situ concrete cap 25 N/mm2; reinforcement at 50 kg/m3; rates per cap for cap size. 900mm x 900mm x 1000mm; 1-2 piles. All piles to installed through soil extraction due to surrounding conservation area. | C10: 25 | D10: nr | E10: 1278 | F10: =SUM(E10*C10) -> 31950 | G10: Building B
A11: 2.1.1.4c | B11: Excavate pit in firm ground by machine, partial back fill, partial disposal, support, compaction, cut off pile and reinforcement, formwork; reinforced in situ concrete cap 25 N/mm2; reinforcement at 50 kg/m3; rates per cap for cap size. 900mm x 900mm x 1000mm; 1-2 piles. All piles to installed through soil extraction due to surrounding conservation area. | C11: 30 | D11: nr | E11: 1278 | F11: =SUM(E11*C11) -> 38340 | G11: Building C
A12: 2.1.1.5a | B12: Reinforced in situ concrete ground beams; bar reinforcement; formwork. 450mm x 600mm, reinforcement at 270 kg/m3. | C12: 220 | D12: m | E12: 275 | F12: =SUM(E12*C12) -> 60500 | G12: Theatre Building
A13: 2.1.1.5b | B13: Reinforced in situ concrete ground beams; bar reinforcement; formwork. 450mm x 600mm, reinforcement at 270 kg/m3. | C13: 180 | D13: m | E13: 275 | F13: =SUM(E13*C13) -> 49500 | G13: Building B
A14: 2.1.1.5c | B14: Reinforced in situ concrete ground beams; bar reinforcement; formwork. 450mm x 600mm, reinforcement at 270 kg/m3. | C14: 350 | D14: m | E14: 275 | F14: =SUM(E14*C14) -> 96250 | G14: Building C
B16: Total | F16: =SUM(F4:F14) -> 651052.5

Sheet 2 Superstructure
A1: Superstructure
A3: Ref | B3: Description | C3: Quantity | D3: Measure | E3: Rate | F3: Total | G3: Notes
A4: 2.1.1.1 | B4: Structural steel frame, including fittings and fixings: details, including size of measurement for ascertaining the gross internal floor area (GIFA). | C4: 3750 | D4: m2 | E4: 425 | F4: =SUM(E4*C4) -> 1593750 | G4: Suspended slab; permanent steel shuttering with 130mm thick concrete; no coverings or finishes up to 6 storeys. Additional GIFA used to allow for the vaulted areas.
A5: 2.2.1.1 | B5: Precast concrete suspended floors; 1200mm wide suspended slab; 75mm thick screed; no coverings or finishes | C5: 3750 | D5: m2 | E5: 175 | F5: =SUM(E5*C5) -> 656250 | G5: Additional GIFA used to allow for the vaulted areas.
A6: 2.3.2.1 | B6: Roof structure – flat roofs. The area measured is the area of the roof on plan measured to the inside face of the external walls. | C6: 1900 | D6: m2 | E6: 99 | F6: =SUM(E6*C6) -> 188100 | G6: 75mm thick lightweight bituminous screed and vapour barrier.
A7: 2.3.4.1 | B7: Gutters | C7: 35 | D7: m | E7: 94 | F7: =SUM(E7*C7) -> 3290 | G7: Allowed for edges to flat roofs; code 4 lead drip dresses into gutter; 230mm x 25mm painted softwood fascia; buildup. 100mm uPVC gutter.
A8: 2.3.4.2 | B8: Rainwater Pipes | C8: 25 | D8: m | E8: 57 | F8: =SUM(E8*C8) -> 1425 | G8: 110mm diamater uPVC downpipes fixing to backgrounds; including offsets and shoes.
A9: 2.4.1.1 | B9: Stair Structures | C9: 3 | D9: nr | E9: 18000 | F9: =SUM(E9*C9) -> 54000
A10: 2.5.1.1 | B10: Metal rainscreen cladding system, two finishes, including Metsec, concealed fixings, flashings | C10: 2950 | D10: m2 | E10: 1025 | F10: =SUM(E10*C10) -> 3023750 | G10: Extra allowance made to allow for Cor-Ten Steel Finish.
A11: 2.6.1.1a | B11: Aluminium windows (U-value = 1.6W/m2 K) Standard windows double glazed; powder coated | C11: 200 | D11: m2 | E11: 590 | F11: =SUM(E11*C11) -> 118000 | G11: Measured 175m2. Allowed extra due to drawing innacruacies. Steel windows (U-value = 1.6W/m2 K) Standard windows double glazed; powder coated
A12: 2.6.1.1b | B12: Curtain Wallings System; Walling systems; stick curtain walling with double glazed units, aluminium structural framing and spandrel rails. Standard colour powder coated capped. | C12: 250 | D12: m2 | E12: 650 | F12: =SUM(E12*C12) -> 162500 | G12: Walling systems; stick curtain walling with double glazed units, aluminium structural framing and spandrel rails. Standard colour powder coated capped. Measured 185.15m2 allowed for 250m2 due to drawing inaccruancies.
A13: 2.6.1.1c | B13: Rooflights, skylights, roof windows and frames; pre-glazed; treated Nordic Red Pine and aluminium trimmed Velux windows GGU 3070 or other equal; type U flashings and soakers (for tiles and pantiles up to 45mm deep), and sealed double glazing unit (trimming opening not included) Roof windows | C13: 4 | D13: nr | E13: 2163.5 | F13: =SUM(E13*C13) -> 8654 | G13: Based on 5m2 windows to Fire escpae
A14: 2.6.2.1a | B14: Aluminium external doorsets, incl. all ironmongery, double | C14: 7 | D14: nr | E14: 2650 | F14: =SUM(E14*C14) -> 18550
A15: 2.6.2.1b | B15: Automatic high capacity revolving doors; 2-wing ASSA ABLOY UniTurn providing safe hands free operation with capacity for multiple occupants and trolleys per compartment. Modern modular design with two centre passage manually pivoting break out door leaves arranged between two rotating showcases. Curved glazed outer walls and canopy enclose a whole rotating radially segmented ceiling, fixed semi-circular dustcovers and load-bearing peripheral drive with imbedded Configurable Digital Control. System including normal installation to comply with BS7036–0-2014 / BS-EN16005, complete with the installer’s Declaration of Conformity in accordance with UniTurn High Capacity Automatic Revolving Door; 2 wing 5400mm dia., 2200mm internal height | C15: 2 | D15: nr | E15: 60667 | F15: =SUM(E15*C15) -> 121334
A16: 2.7.1.1a | B16: Internal Walls; Plater bord with a plaster finish | C16: 875 | D16: m2 | E16: 100 | F16: =SUM(E16*C16) -> 87500 | G16: 350Lm x 2.5 high = 875m2
A17: 2.8.1.1a | B17: Hardwood panelled; hardwood lining; hardwood architrave; aluminium ironmongery (latch only); brass or stainless ironmongery (latch only); painting and polishing single leaf; four panelled doors; mouldings | C17: 29 | D17: nr | E17: 1175 | F17: =SUM(E17*C17) -> 34075
A18: 2.8.1.1b | B18: Hardwood panelled; hardwood lining; hardwood architrave; aluminium ironmongery (latch only); brass or stainless ironmongery (latch only); painting and polishing double leaf; four panelled doors; mouldings | C18: 11 | D18: nr | E18: 2250 | F18: =SUM(E18*C18) -> 24750
A19: 2.8.1.1c | B19: Toilet Doors | C19: 21 | D19: nr | E19: 350 | F19: =SUM(E19*C19) -> 7350 | G19: Standard Internal Days
E21: Total | F21: =SUM(F4:F20) -> 6103278

Sheet 3 Internal Finishes
A1: Internal Finishes
A3: Ref | B3: Description | C3: Quantity | D3: Measure | E3: Rate | F3: Total | G3: Notes
A4: 2.1.3.1 | B4: Concrete Wall Finishes | C4: 2950 | D4: m2 | E4: 45 | F4: =SUM(E4*C4) -> 132750 | G4: two coat sand cement render and emulsion finish
A5: 2.1.3.1a | B5: Timber acoustic wall finsihes to theatre | C5: 1600 | D5: m2 | E5: 275 | F5: =SUM(E5*C5) -> 440000
A6: 2.1.3.2a | B6: Floor Finishes - Main Building | C6: 1944 | D6: m2 | E6: 35 | F6: =SUM(E6*C6) -> 68040 | G6: Screeds to cores and common areas; 150mm thick to make up levels
A7: 2.1.3.2b | B7: Floor Finishes - Carpet, heavy duty carpet tiles, including timber skirting | C7: 1056 | D7: m2 | E7: 75 | F7: =SUM(E7*C7) -> 79200
A8: 2.1.3.3 | B8: Ceiling Finishes | C8: 3000 | D8: m2 | E8: 22.48 | F8: =SUM(E8*C8) -> 67440 | G8: Plaster to soffits plaster skim coat to plasterboard ceilings Emulsion paint to plaster; one mist and two coats
E10: Total | F10: =SUM(F4:F9) -> 787430

Sheet 4 FFE
A1: Fittings, Furnishings and Equipment
A3: Ref | B3: Description | C3: Quantity | D3: Measure | E3: Rate | F3: Total | G3: Notes
A4: 2.1.4.1a | B4: No allowance to be made for soft furnishings. | C4: 1 | D4: Item | E4: 150000 | F4: =SUM(E4*C4) -> 150000 | G4: Provisional Sum
A5: 2.1.4.1b | B5: Theatre Seating | C5: 435 | D5: nr | E5: 550 | F5: =SUM(E5*C5) -> 239250 | G5: 396 shown on drawings. Allowed for an additional 10% due to limited information.
E6: Total | F6: =SUM(F4:F5) -> 389250

Sheet 5 Services
A1: Services
A3: Ref | B3: Description | C3: Quantity | D3: Measure | E3: Rate | F3: Total | G3: Notes
A4: 2.1.5.1 | B4: Sanitary Installations | C4: 3000 | D4: m2 | E4: 57 | F4: =SUM(E4*C4) -> 171000 | G4: Based on Gifa
A5: 2.1.5.4 | B5: Water Installations | C5: 3000 | D5: m2 | E5: 67 | F5: =SUM(E5*C5) -> 201000 | G5: Based on Gifa
A6: 2.1.5.7 | B6: Ventilation | C6: 3000 | D6: m2 | E6: 63 | F6: =SUM(E6*C6) -> 189000 | G6: Based on Gifa
A7: 2.1.5.8 | B7: Electrical Installations | C7: 3000 | D7: m2 | E7: 28 | F7: =SUM(E7*C7) -> 84000 | G7: Based on Gifa
A8: 2.1.5.9 | B8: Fuel Installations | C8: 3000 | D8: m2 | E8: 4.4 | F8: =SUM(E8*C8) -> 13200 | G8: Gas mains service to plantroom. Gross internal floor area
A9: 2.1.5.10 | B9: Lift and Conveyor Installation | C9: 2 | D9: nr | E9: 140000 | F9: =SUM(E9*C9) -> 280000 | G9: Passenger lifts (standard brushed stainless steel finish; 2 panel centre opening doors). 13 person; 6 stops
A10: 2.1.5.11 | B10: Fire and Lighting Protection | C10: 3000 | D10: m2 | E10: 56 | F10: =SUM(E10*C10) -> 168000 | G10: Gross internal floor area (unless described otherwise); Including fire alarm, public address system, security installation unless stated otherwise
A11: 2.1.5.12 | B11: Communication, Security and Control Systems | C11: 3000 | D11: m2 | E11: 145 | F11: =SUM(E11*C11) -> 435000 | G11: Gross internal floor area (unless described otherwise); Including fire alarm, public address system, security installation unless stated otherwise
E13: Total | F13: =SUM(F4:F12) -> 1541200

Sheet 6 Prefab Build & Units
A1: Prefabricated buildings and building units
A3: Ref | B3: Description | C3: Quantity | D3: Measure | E3: Rate | F3: Total | G3: Notes
A4: 2.1.6.1 | B4: Prefabrication buildings and building units | D4: m2 | E4: 0 | F4: =SUM(E4*C4) -> 0 | G4: N/A
E6: Total | F6: =SUM(F4:F5) -> 0

Sheet 7 Work to Exist Buildings
A1: Work to existing buildings
A3: Ref | B3: Description | C3: Quantity | D3: Measure | E3: Rate | F3: Total | G3: Notes
A4: 2.1.7.1 | B4: Minor Demolition and Alteration Works | D4: m2 | E4: 0 | F4: =SUM(E4*C4) -> 0 | G4: N/A
E6: Total | F6: =SUM(F4:F5) -> 0

Sheet 8 External Works
A1: External Works
A3: Ref | B3: Description | C3: Quantity | D3: Measure | E3: Rate | F3: Total | G3: Notes
A4: 2.1.8.2 | B4: Permeable concrete block paving; 80mm thick Formpave Aquaflow or equal; maximum gradient 5%; laid on 50mm sand/gravel; subbase 365mm thick clean crushed angular non plastic aggregate, geotextiles filter layer to top and bottom of subbases | C4: 1600 | D4: m2 | E4: 73 | F4: =SUM(E4*C4) -> 116800
A5: 2.1.8.4 | B5: security fencing; 2400mm high painted plywood hoarding | C5: 475 | D5: m | E5: 157.5 | F5: =SUM(E5*C5) -> 74812.5
A6: 2.1.8.6 | B6: External Drainage | C6: 1600 | D6: m2 | E6: 108 | F6: =SUM(E6*C6) -> 172800 | G6: Drainage
A7: 2.1.8.7 | B7: External Services | C7: 1 | D7: nr | E7: 100000 | F7: =SUM(E7*C7) -> 100000 | G7: Provisional Sum; allowing for laying electric, water and gas as well as connection
A8: 2.1.8.8 | B8: Tree planting semi-mature or mature tree, 40–45cm girth | C8: 10 | D8: nr | E8: 846.77 | F8: =SUM(E8*C8) -> 8467.7 | G8: Provisional Sum
A9: 2.1.8.9 | B9: Car Park | C9: 783 | D9: m2 | E9: 125 | F9: =SUM(E9*C9) -> 97875
E10: Total | F10: =SUM(F4:F8) -> 472880.2

Sheet 9 Main Contractor Prelims
A1: Main Contracor Prelims
A3: Ref | B3: Description | C3: Quantity | D3: Measure | E3: Total | F3: Notes
A4: 2.1.9 | B4: Main Contractors Prelims | C4: 10 | D4: % | E4: {=SUM(('Summary Sheet'!D3:D11)*C4%)} -> 1072509.1

Sheet 10 Main Contractor OH&P
A1: Main Contracrors OH&P
A3: Ref | B3: Description | C3: Quantity | D3: Measure | E3: Total | F3: Notes
A4: 2.1.10 | B4: Main Contractors OH&P | C4: 10 | D4: % | E4: {=SUM(('Summary Sheet'!D3:D12)*C4%)} -> 1179760

Sheet 11 Project_design fees
A1: Project Design Fees
A3: Ref | B3: Description | C3: Quantity | D3: Measure | E3: Total | F3: Notes
A4: 2.1.11 | B4: Design Fees | C4: 5 | D4: % | E4: {=SUM(('Summary Sheet'!D3:D12)*C4%)} -> 589879.99

Sheet 12 Other Dev_Proj Costs
A3: Ref | B3: Description | C3: Quantity | D3: Measure | E3: Total | F3: Notes
A4: 2.1.12 | B4: Misc | C4: 8.5 | D4: % | E4: {=SUM(('Summary Sheet'!D3:D12)*C4%)} -> 1002796 | F4: N/A

Sheet 13 Risks
A3: Ref | B3: Description | C3: Quantity | D3: Measure | E3: Total | F3: Notes
A4: 2.1.13 | B4: Risk built into the project due to the incomplete design and modelling issues, and increased risk allowance has been made to ensure covereage of desgin changes as the work progresses. | C4: 15 | D4: % | E4: {=SUM(('Summary Sheet'!D3:D15)*C4%)} -> 2185505.4
