Workbook

Sheet Wheel Diameter
B2: ER6N Front | G2: ER6N Rear | L2: ZXR750 Front | Q2: ZXR750 Rear
B3: Width (mm) | C3: Aspect Ratio | D3: Rim (inches) | E3: Diameter (m) | G3: Width (mm) | H3: Aspect Ratio | I3: Rim (inches) | J3: Diameter (m) | L3: Width (mm) | M3: Aspect Ratio | N3: Rim (inches) | O3: Diameter (m) | Q3: Width (mm) | R3: Aspect Ratio | S3: Rim (inches) | T3: Diameter (m)
B4: 120 | C4: 70 | D4: 17 | E4: =((D4*25.4)+(2*(C4/100)*B4))/1000 -> 0.5998 | G4: 160 | H4: 60 | I4: 17 | J4: =((I4*25.4)+(2*(H4/100)*G4))/1000 -> 0.6238 | L4: 120 | M4: 70 | N4: 17 | O4: =((N4*25.4)+(2*(M4/100)*L4))/1000 -> 0.5998 | Q4: 170 | R4: 60 | S4: 17 | T4: =((S4*25.4)+(2*(R4/100)*Q4))/1000 -> 0.6358
B15: Widths | C15: Aspects | D15: Rim Diameters
B16: 90 | C16: 30 | D16: 12
B17: 100 | C17: 35 | D17: 13
B18: 110 | C18: 40 | D18: 14
B19: 120 | C19: 45 | D19: 15
B20: 130 | C20: 50 | D20: 16
B21: 140 | C21: 55 | D21: 17
B22: 150 | C22: 60 | D22: 18
B23: 160 | C23: 65 | D23: 19
B24: 170 | C24: 70 | D24: 20
B25: 180 | C25: 75 | D25: 21
B26: 190 | C26: 80 | D26: 22
B27: 200 | C27: 85
B28: 210 | C28: 90
B29: 220 | C29: 95

Sheet Trail Calculation
B2: ER-6N | E2: ZXR750H2
B3: FWheel Radius (mm) | C3: ='Wheel Diameter'!E4*500 -> 299.9 | E3: FWheel Radius (mm) | F3: ='Wheel Diameter'!O4*500 -> 299.9
B4: Rake Angle (degrees) | C4: ='ER6N Data'!C5 -> 21.5 | E4: Rake Angle (degrees) | F4: ='ZXR750 Data'!C5 -> 20.5
B5: Triple Clamp Offset (mm) | C5: 22.5 | E5: Triple Clamp Offset (mm) | F5: 32.25
B7: Trail (mm) | C7: =(((C3*SIN(RADIANS(C4))-C5)/COS(RADIANS(C4)))) -> 93.951061 | E7: Trail (mm) | F7: =(((F3*SIN(RADIANS(F4))-F5)/COS(RADIANS(F4)))) -> 77.697613

Sheet Centre of Gravity
B2: ER-6N | E2: Level | F2: Level w/Rider | G2: Lifted | H2: Lifted w/Rider
B3: Bike Weight (kg) | C3: =E3+E4 -> 192.8 | D3: Front Wheel Load (kg) | E3: 96.15 | F3: 130.55 | G3: =C3-G4 -> 105.55 | H3: =C5-H4 -> 155.6
B4: Rider Weight (kg) | C4: 106.25 | D4: Rear Wheel Load (kg) | E4: 96.65 | F4: 169.35 | G4: 87.25 | H4: 143.45
B5: Total Weight (kg) | C5: =C3+C4 -> 299.05
B6: Wheelbase (m) | C6: 1.405 | E6: Bike Only | F6: w/Rider | H6: Bike Only | I6: w/Rider
B7: Average Wheel Radius (m) | C7: =('Wheel Diameter'!E4+'Wheel Diameter'!J4)/4 -> 0.3059 | D7: XCoG (m) | E7: =(E4*C6)/(C3) -> 0.70432184 | F7: =(F4*C6)/(C5) -> 0.79564203 | G7: Front CoG (%) | H7: =(E3/C3)*100 -> 49.870332 | I7: =(F3/C5)*100 -> 43.654907
B8: Height of Lift Block (m) | C8: 0.4 | D8: YCoG (m) | E8: =(((C6*(E4-G4))/(C3*TAN(RADIANS(C10))))+C7) -> 0.53655283 | F8: =((C6*(F4-H4))/(C5*TAN(RADIANS(C10)))+C7) -> 0.71562638 | G8: Rear CoG (%) | H8: =(E4/C3)*100 -> 50.129668 | I8: =(F4/C5)*100 -> 56.629326
B9: Weight of Lift Block (kg) | C9: 0
B10: Angle when lifted (Θdegrees) | C10: =DEGREES((ASIN(C8/C6))) -> 16.540768
B12: ZXR750H2 | E12: Level | F12: Level w/Rider | G12: Lifted | H12: Lifted w/Rider
B13: Bike Weight (kg) | C13: =E13+E14 -> 197.1 | D13: Front Wheel Load (kg) | E13: 105.85 | F13: 150.4 | G13: 114.85 | H13: 175.7
B14: Rider Weight (kg) | C14: 117.85 | D14: Rear Wheel Load (kg) | E14: 91.25 | F14: 164.6 | G14: 82.2 | H14: 138.3
B15: Total Weight (kg) | C15: =C13+C14 -> 314.95
B16: Wheelbase (m) | C16: 1.445 | E16: Bike Only | F16: w/Rider | H16: Bike Only | I16: w/Rider
B17: Average Wheel Radius (m) | C17: =('Wheel Diameter'!O4+'Wheel Diameter'!T4)/4 -> 0.3089 | D17: XCoG (m) | E17: =(E14*C16)/(C13) -> 0.66898148 | F17: =(F14*C16)/(C15) -> 0.75518971 | G17: Front CoG (%) | H17: =(E13/C13)*100 -> 53.703704 | I17: =(F13/C15)*100 -> 47.753612
B18: Height of Lift Block (m) | C18: 0.4 | D18: YCoG (m) | E18: =(((C16*(E14-G14))/(C13*TAN(RADIANS(C20))))+C17) -> 0.53921708 | F18: =((C16*(F14-H14))/(C15*TAN(RADIANS(C20)))+C17) -> 0.7277691 | G18: Rear CoG (%) | H18: =(E14/C13)*100 -> 46.296296 | I18: =(F14/C15)*100 -> 52.262264
B19: Weight of Lift Block (kg) | C19: 0
B20: Angle when lifted (Θdegrees) | C20: =DEGREES((ASIN(C18/C16))) -> 16.070301

Sheet Gearbox Calculator
A1: ER-6N 2009
B2: Primary | C2: 42 | D2: 88 | I2: Chain Length
B3: Final | C3: 15 | D3: 46 | I3: Chain Size | J3: Front Sprocket | K3: Rear Sprocket | L3: Chain Links | M3: Front Sprocket to Swingarm Pivot (mm) | N3: Swingarm Length (mm)
B5: Wheel Diameter (m) | C5: ='[1]Wheel Diameter'!E3 -> 0.6238 | I5: 0.625 | J5: 15 | K5: 46 | L5: 114 | M5: 100 | N5: =0.5*(L5-0.5*(J5+K5))*25.4*I5-M5 -> 562.78125
B6: Shift RPM | C6: 10000
B9: Ratios | E9: Speed (kmh) | F9: ↑Gear Revs | G9: RPM Drop
B11: 1st | C11: 16 | D11: 39 | E11: =(($C$6*60*(C11/D11)*($C$2/$D$2)*($C$5*PI()))/1000)*($C$3/$D$3) -> 75.076136 | F11: =$C$6*(C11/D11)*(D13/C13) -> 7032.967 | G11: =$C$6-F11 -> 2967.033
B13: 2nd | C13: 21 | D13: 36 | E13: =(($C$6*60*(C13/D13)*($C$2/$D$2)*($C$5*PI()))/1000)*($C$3/$D$3) -> 106.74888 | F13: =$C$6*(C13/D13)*(D15/C15) -> 7777.7778 | G13: =$C$6-F13 -> 2222.2222
B15: 3rd | C15: 24 | D15: 32 | E15: =(($C$6*60*(C15/D15)*($C$2/$D$2)*($C$5*PI()))/1000)*($C$3/$D$3) -> 137.24856 | F15: =$C$6*(C15/D15)*(D17/C17) -> 8333.3333 | G15: =$C$6-F15 -> 1666.6667
B17: 4th | C17: 27 | D17: 30 | E17: =(($C$6*60*(C17/D17)*($C$2/$D$2)*($C$5*PI()))/1000)*($C$3/$D$3) -> 164.69827 | F17: =$C$6*(C17/D17)*(D19/C19) -> 8689.6552 | G17: =$C$6-F17 -> 1310.3448
B19: 5th | C19: 29 | D19: 28 | E19: =(($C$6*60*(C19/D19)*($C$2/$D$2)*($C$5*PI()))/1000)*($C$3/$D$3) -> 189.53373 | F19: =$C$6*(C19/D19)*(D21/C21) -> 8822.7513 | G19: =$C$6-F19 -> 1177.2487
B21: 6th | C21: 27 | D21: 23 | E21: =(($C$6*60*(C21/D21)*($C$2/$D$2)*($C$5*PI()))/1000)*($C$3/$D$3) -> 214.82384
A23: ZXR750H2
B24: Primary | C24: 50 | D24: 85 | I24: Chain Length
B25: Final | C25: 15 | D25: 47 | I25: Chain Size | J25: Front Sprocket | K25: Rear Sprocket | L25: Chain Links | M25: Front Sprocket to Swingarm Pivot (mm) | N25: Swingarm Length (mm)
B27: Wheel Diameter (m) | C27: ='Wheel Diameter'!T4 -> 0.6358 | I27: 0.625 | J27: 15 | K27: 47 | L27: 112 | M27: 112 | N27: =0.5*(L27-0.5*(J27+K27))*25.4*I27-M27 -> 530.9375
B28: Shift RPM | C28: 10000
B31: Ratios | E31: Speed (kmh) | F31: ↑Gear Revs | G31: RPM Drop
B33: 1st | C33: 13 | D33: 38 | E33: =(($C$28*60*(C33/D33)*($C$24/$D$24)*($C$27*PI()))/1000)*($C$25/$D$25) -> 76.970779 | F33: =$C$28*(C33/D33)*(D35/C35) -> 7269.7368 | G33: =$C$28-F33 -> 2730.2632
B35: 2nd | C35: 16 | D35: 34 | E35: =(($C$28*60*(C35/D35)*($C$24/$D$24)*($C$27*PI()))/1000)*($C$25/$D$25) -> 105.87836 | F35: =$C$28*(C35/D35)*(D37/C37) -> 7843.1373 | G35: =$C$28-F35 -> 2156.8627
B37: 3rd | C37: 21 | D37: 35 | E37: =(($C$28*60*(C37/D37)*($C$24/$D$24)*($C$27*PI()))/1000)*($C$25/$D$25) -> 134.9949 | F37: =$C$28*(C37/D37)*(D39/C39) -> 8285.7143 | G37: =$C$28-F37 -> 1714.2857
B39: 4th | C39: 21 | D39: 29 | E39: =(($C$28*60*(C39/D39)*($C$24/$D$24)*($C$27*PI()))/1000)*($C$25/$D$25) -> 162.92489 | F39: =$C$28*(C39/D39)*(D41/C41) -> 8815.5922 | G39: =$C$28-F39 -> 1184.4078
B41: 5th | C41: 23 | D41: 28 | E41: =(($C$28*60*(C41/D41)*($C$24/$D$24)*($C$27*PI()))/1000)*($C$25/$D$25) -> 184.81445 | F41: =$C$28*(C41/D41)*(D43/C43) -> 8898.8095 | G41: =$C$28-F41 -> 1101.1905
B43: 6th | C43: 24 | D43: 26 | E43: =(($C$28*60*(C43/D43)*($C$24/$D$24)*($C$27*PI()))/1000)*($C$25/$D$25) -> 207.68447

Sheet Resistance to Motion
A1: ER6N
E2: Speed (km/h) | F2: Speed (m/s) | G2: Rolling Resistance (N) | H2: Aero Resistance (N) | I2: Total Resistance
B3: Air Density (kg/m^3) | C3: 1.167 | E3: 0 | F3: =E3*0.277778 -> 0 | G3: 0 | H3: =(0.5*$C$3)*$C$4*$C$5*(F3^2) -> 0 | I3: =G3+H3 -> 0
B4: Drag Coefficient | C4: 0.8 | E4: 10 | F4: =E4*0.277778 -> 2.77778 | G4: =0.02*'Centre of Gravity'!$C$5*9.81 -> 58.67361 | H4: =(0.5*$C$3)*$C$4*$C$5*(F4^2) -> 1.1248601 | I4: =G4+H4 -> 59.79847
B5: Frontal Area (m^2) | C5: 0.3123 | E5: 20 | F5: =E5*0.277778 -> 5.55556 | G5: =0.02*'Centre of Gravity'!$C$5*9.81 -> 58.67361 | H5: =(0.5*$C$3)*$C$4*$C$5*(F5^2) -> 4.4994405 | I5: =G5+H5 -> 63.173051
E6: 30 | F6: =E6*0.277778 -> 8.33334 | G6: =0.02*'Centre of Gravity'!$C$5*9.81 -> 58.67361 | H6: =(0.5*$C$3)*$C$4*$C$5*(F6^2) -> 10.123741 | I6: =G6+H6 -> 68.797351
E7: 40 | F7: =E7*0.277778 -> 11.11112 | G7: =0.02*'Centre of Gravity'!$C$5*9.81 -> 58.67361 | H7: =(0.5*$C$3)*$C$4*$C$5*(F7^2) -> 17.997762 | I7: =G7+H7 -> 76.671372
E8: 50 | F8: =E8*0.277778 -> 13.8889 | G8: =0.02*'Centre of Gravity'!$C$5*9.81 -> 58.67361 | H8: =(0.5*$C$3)*$C$4*$C$5*(F8^2) -> 28.121503 | I8: =G8+H8 -> 86.795113
E9: 60 | F9: =E9*0.277778 -> 16.66668 | G9: =0.02*'Centre of Gravity'!$C$5*9.81 -> 58.67361 | H9: =(0.5*$C$3)*$C$4*$C$5*(F9^2) -> 40.494965 | I9: =G9+H9 -> 99.168575
E10: 70 | F10: =E10*0.277778 -> 19.44446 | G10: =0.02*'Centre of Gravity'!$C$5*9.81 -> 58.67361 | H10: =(0.5*$C$3)*$C$4*$C$5*(F10^2) -> 55.118147 | I10: =G10+H10 -> 113.79176
E11: 80 | F11: =E11*0.277778 -> 22.22224 | G11: =0.02*'Centre of Gravity'!$C$5*9.81 -> 58.67361 | H11: =(0.5*$C$3)*$C$4*$C$5*(F11^2) -> 71.991049 | I11: =G11+H11 -> 130.66466
E12: 90 | F12: =E12*0.277778 -> 25.00002 | G12: =0.02*'Centre of Gravity'!$C$5*9.81 -> 58.67361 | H12: =(0.5*$C$3)*$C$4*$C$5*(F12^2) -> 91.113671 | I12: =G12+H12 -> 149.78728
E13: 100 | F13: =E13*0.277778 -> 27.7778 | G13: =0.02*'Centre of Gravity'!$C$5*9.81 -> 58.67361 | H13: =(0.5*$C$3)*$C$4*$C$5*(F13^2) -> 112.48601 | I13: =G13+H13 -> 171.15962
E14: 110 | F14: =E14*0.277778 -> 30.55558 | G14: =0.02*'Centre of Gravity'!$C$5*9.81 -> 58.67361 | H14: =(0.5*$C$3)*$C$4*$C$5*(F14^2) -> 136.10808 | I14: =G14+H14 -> 194.78169
E15: 120 | F15: =E15*0.277778 -> 33.33336 | G15: =0.02*'Centre of Gravity'!$C$5*9.81 -> 58.67361 | H15: =(0.5*$C$3)*$C$4*$C$5*(F15^2) -> 161.97986 | I15: =G15+H15 -> 220.65347
E16: 130 | F16: =E16*0.277778 -> 36.11114 | G16: =0.02*'Centre of Gravity'!$C$5*9.81 -> 58.67361 | H16: =(0.5*$C$3)*$C$4*$C$5*(F16^2) -> 190.10136 | I16: =G16+H16 -> 248.77497
E17: 140 | F17: =E17*0.277778 -> 38.88892 | G17: =0.02*'Centre of Gravity'!$C$5*9.81 -> 58.67361 | H17: =(0.5*$C$3)*$C$4*$C$5*(F17^2) -> 220.47259 | I17: =G17+H17 -> 279.1462
... E28: 250 | F28: =E28*0.277778 -> 69.4445 | G28: =0.02*'Centre of Gravity'!$C$5*9.81 -> 58.67361 | H28: =(0.5*$C$3)*$C$4*$C$5*(F28^2) -> 703.03758 | I28: =G28+H28 -> 761.71119
A30: ZXR750H2
E31: Speed (km/h) | F31: Speed (m/s) | G31: Rolling Resistance (N) | H31: Aero Resistance (N) | I31: Total Resistance
B32: Air Density (kg/m^3) | C32: 1.167 | E32: 0 | F32: =E32*0.277778 -> 0 | G32: 0 | H32: =(0.5*$C$32)*$C$33*$C$34*(F32^2) -> 0 | I32: =G32+H32 -> 0
B33: Drag Coefficient | C33: 0.7 | E33: 10 | F33: =E33*0.277778 -> 2.77778 | G33: =0.02*'Centre of Gravity'!$C$15*9.81 -> 61.79319 | H33: =(0.5*$C$32)*$C$33*$C$34*(F33^2) -> 0.88560674 | I33: =G33+H33 -> 62.678797
B34: Frontal Area (m^2) | C34: 0.281 | E34: 20 | F34: =E34*0.277778 -> 5.55556 | G34: =0.02*'Centre of Gravity'!$C$15*9.81 -> 61.79319 | H34: =(0.5*$C$32)*$C$33*$C$34*(F34^2) -> 3.542427 | I34: =G34+H34 -> 65.335617
E35: 30 | F35: =E35*0.277778 -> 8.33334 | G35: =0.02*'Centre of Gravity'!$C$15*9.81 -> 61.79319 | H35: =(0.5*$C$32)*$C$33*$C$34*(F35^2) -> 7.9704607 | I35: =G35+H35 -> 69.763651
E36: 40 | F36: =E36*0.277778 -> 11.11112 | G36: =0.02*'Centre of Gravity'!$C$15*9.81 -> 61.79319 | H36: =(0.5*$C$32)*$C$33*$C$34*(F36^2) -> 14.169708 | I36: =G36+H36 -> 75.962898
E37: 50 | F37: =E37*0.277778 -> 13.8889 | G37: =0.02*'Centre of Gravity'!$C$15*9.81 -> 61.79319 | H37: =(0.5*$C$32)*$C$33*$C$34*(F37^2) -> 22.140169 | I37: =G37+H37 -> 83.933359
E38: 60 | F38: =E38*0.277778 -> 16.66668 | G38: =0.02*'Centre of Gravity'!$C$15*9.81 -> 61.79319 | H38: =(0.5*$C$32)*$C$33*$C$34*(F38^2) -> 31.881843 | I38: =G38+H38 -> 93.675033
E39: 70 | F39: =E39*0.277778 -> 19.44446 | G39: =0.02*'Centre of Gravity'!$C$15*9.81 -> 61.79319 | H39: =(0.5*$C$32)*$C$33*$C$34*(F39^2) -> 43.39473 | I39: =G39+H39 -> 105.18792
E40: 80 | F40: =E40*0.277778 -> 22.22224 | G40: =0.02*'Centre of Gravity'!$C$15*9.81 -> 61.79319 | H40: =(0.5*$C$32)*$C$33*$C$34*(F40^2) -> 56.678831 | I40: =G40+H40 -> 118.47202
E41: 90 | F41: =E41*0.277778 -> 25.00002 | G41: =0.02*'Centre of Gravity'!$C$15*9.81 -> 61.79319 | H41: =(0.5*$C$32)*$C$33*$C$34*(F41^2) -> 71.734146 | I41: =G41+H41 -> 133.52734
E42: 100 | F42: =E42*0.277778 -> 27.7778 | G42: =0.02*'Centre of Gravity'!$C$15*9.81 -> 61.79319 | H42: =(0.5*$C$32)*$C$33*$C$34*(F42^2) -> 88.560674 | I42: =G42+H42 -> 150.35386
E43: 110 | F43: =E43*0.277778 -> 30.55558 | G43: =0.02*'Centre of Gravity'!$C$15*9.81 -> 61.79319 | H43: =(0.5*$C$32)*$C$33*$C$34*(F43^2) -> 107.15842 | I43: =G43+H43 -> 168.95161
E44: 120 | F44: =E44*0.277778 -> 33.33336 | G44: =0.02*'Centre of Gravity'!$C$15*9.81 -> 61.79319 | H44: =(0.5*$C$32)*$C$33*$C$34*(F44^2) -> 127.52737 | I44: =G44+H44 -> 189.32056
E45: 130 | F45: =E45*0.277778 -> 36.11114 | G45: =0.02*'Centre of Gravity'!$C$15*9.81 -> 61.79319 | H45: =(0.5*$C$32)*$C$33*$C$34*(F45^2) -> 149.66754 | I45: =G45+H45 -> 211.46073
E46: 140 | F46: =E46*0.277778 -> 38.88892 | G46: =0.02*'Centre of Gravity'!$C$15*9.81 -> 61.79319 | H46: =(0.5*$C$32)*$C$33*$C$34*(F46^2) -> 173.57892 | I46: =G46+H46 -> 235.37211
... E57: 250 | F57: =E57*0.277778 -> 69.4445 | G57: =0.02*'Centre of Gravity'!$C$15*9.81 -> 61.79319 | H57: =(0.5*$C$32)*$C$33*$C$34*(F57^2) -> 553.50421 | I57: =G57+H57 -> 615.2974

Sheet Shift Point Data
A1: ER-6N 2009
B2: RPM | C2: Power (HP) | D2: Torque (Nm) | E2: Power (kW) | G2: Roadspeed 1 | H2: Roadspeed 2 | I2: Roadspeed 3 | J2: Roadspeed 4 | K2: Roadspeed 5 | L2: Roadspeed 6 | N2: Driving Force 1 | O2: Driving Force 2 | P2: Driving Force 3 | Q2: Driving Force 4 | R2: Driving Force 5 | S2: Driving Force 6
B3: 3000 | C3: 19 | D3: 31 | E3: =C3*0.7457 -> 14.1683 | G3: =(B3*60*('Gearbox Calculator'!$C$11/'Gearbox Calculator'!$D$11)*('Gearbox Calculator'!$C$2/'Gearbox Calculator'!$D$2)*('Gearbox Calculator'!$C$5*PI())/1000)*('Gearbox Calculator'!$C$3/'Gearbox Calculator'!$D$3) -> 22.522841 | H3: =(B3*60*('Gearbox Calculator'!$C$13/'Gearbox Calculator'!$D$13)*('Gearbox Calculator'!$C$2/'Gearbox Calculator'!$D$2)*('Gearbox Calculator'!$C$5*PI())/1000)*('Gearbox Calculator'!$C$3/'Gearbox Calculator'!$D$3) -> 32.024664 | I3: =(B3*60*('Gearbox Calculator'!$C$15/'Gearbox Calculator'!$D$15)*('Gearbox Calculator'!$C$2/'Gearbox Calculator'!$D$2)*('Gearbox Calculator'!$C$5*PI())/1000)*('Gearbox Calculator'!$C$3/'Gearbox Calculator'!$D$3) -> 41.174569 | J3: =(B3*60*('Gearbox Calculator'!$C$17/'Gearbox Calculator'!$D$17)*('Gearbox Calculator'!$C$2/'Gearbox Calculator'!$D$2)*('Gearbox Calculator'!$C$5*PI())/1000)*('Gearbox Calculator'!$C$3/'Gearbox Calculator'!$D$3) -> 49.409482 | K3: =(B3*60*('Gearbox Calculator'!$C$19/'Gearbox Calculator'!$D$19)*('Gearbox Calculator'!$C$2/'Gearbox Calculator'!$D$2)*('Gearbox Calculator'!$C$5*PI())/1000)*('Gearbox Calculator'!$C$3/'Gearbox Calculator'!$D$3) -> 56.860118 | L3: =(B3*60*('Gearbox Calculator'!$C$21/'Gearbox Calculator'!$D$21)*('Gearbox Calculator'!$C$2/'Gearbox Calculator'!$D$2)*('Gearbox Calculator'!$C$5*PI())/1000)*('Gearbox Calculator'!$C$3/'Gearbox Calculator'!$D$3) -> 64.447151 | N3: =(E3*1000)/(G3*(1000/3600)) -> 2264.6291 | O3: =(E3*1000)/(H3*(1000/3600)) -> 1592.7061 | P3: =(E3*1000)/(I3*(1000/3600)) -> 1238.7714 | Q3: =(E3*1000)/(J3*(1000/3600)) -> 1032.3095 | R3: =(E3*1000)/(K3*(1000/3600)) -> 897.04139 | S3: =(E3*1000)/(L3*(1000/3600)) -> 791.43732
B4: 3500 | C4: 23 | D4: 34 | E4: =C4*0.7457 -> 17.1511 | G4: =(B4*60*('Gearbox Calculator'!$C$11/'Gearbox Calculator'!$D$11)*('Gearbox Calculator'!$C$2/'Gearbox Calculator'!$D$2)*('Gearbox Calculator'!$C$5*PI())/1000)*('Gearbox Calculator'!$C$3/'Gearbox Calculator'!$D$3) -> 26.276648 | H4: =(B4*60*('Gearbox Calculator'!$C$13/'Gearbox Calculator'!$D$13)*('Gearbox Calculator'!$C$2/'Gearbox Calculator'!$D$2)*('Gearbox Calculator'!$C$5*PI())/1000)*('Gearbox Calculator'!$C$3/'Gearbox Calculator'!$D$3) -> 37.362109 | I4: =(B4*60*('Gearbox Calculator'!$C$15/'Gearbox Calculator'!$D$15)*('Gearbox Calculator'!$C$2/'Gearbox Calculator'!$D$2)*('Gearbox Calculator'!$C$5*PI())/1000)*('Gearbox Calculator'!$C$3/'Gearbox Calculator'!$D$3) -> 48.036997 | J4: =(B4*60*('Gearbox Calculator'!$C$17/'Gearbox Calculator'!$D$17)*('Gearbox Calculator'!$C$2/'Gearbox Calculator'!$D$2)*('Gearbox Calculator'!$C$5*PI())/1000)*('Gearbox Calculator'!$C$3/'Gearbox Calculator'!$D$3) -> 57.644396 | K4: =(B4*60*('Gearbox Calculator'!$C$19/'Gearbox Calculator'!$D$19)*('Gearbox Calculator'!$C$2/'Gearbox Calculator'!$D$2)*('Gearbox Calculator'!$C$5*PI())/1000)*('Gearbox Calculator'!$C$3/'Gearbox Calculator'!$D$3) -> 66.336805 | L4: =(B4*60*('Gearbox Calculator'!$C$21/'Gearbox Calculator'!$D$21)*('Gearbox Calculator'!$C$2/'Gearbox Calculator'!$D$2)*('Gearbox Calculator'!$C$5*PI())/1000)*('Gearbox Calculator'!$C$3/'Gearbox Calculator'!$D$3) -> 75.188343 | N4: =(E4*1000)/(G4*(1000/3600)) -> 2349.7655 | O4: =(E4*1000)/(H4*(1000/3600)) -> 1652.5823 | P4: =(E4*1000)/(I4*(1000/3600)) -> 1285.3418 | Q4: =(E4*1000)/(J4*(1000/3600)) -> 1071.1182 | R4: =(E4*1000)/(K4*(1000/3600)) -> 930.76476 | S4: =(E4*1000)/(L4*(1000/3600)) -> 821.1906
B5: 4000 | C5: 28 | D5: 37 | E5: =C5*0.7457 -> 20.8796 | G5: =(B5*60*('Gearbox Calculator'!$C$11/'Gearbox Calculator'!$D$11)*('Gearbox Calculator'!$C$2/'Gearbox Calculator'!$D$2)*('Gearbox Calculator'!$C$5*PI())/1000)*('Gearbox Calculator'!$C$3/'Gearbox Calculator'!$D$3) -> 30.030455 | H5: =(B5*60*('Gearbox Calculator'!$C$13/'Gearbox Calculator'!$D$13)*('Gearbox Calculator'!$C$2/'Gearbox Calculator'!$D$2)*('Gearbox Calculator'!$C$5*PI())/1000)*('Gearbox Calculator'!$C$3/'Gearbox Calculator'!$D$3) -> 42.699553 | I5: =(B5*60*('Gearbox Calculator'!$C$15/'Gearbox Calculator'!$D$15)*('Gearbox Calculator'!$C$2/'Gearbox Calculator'!$D$2)*('Gearbox Calculator'!$C$5*PI())/1000)*('Gearbox Calculator'!$C$3/'Gearbox Calculator'!$D$3) -> 54.899425 | J5: =(B5*60*('Gearbox Calculator'!$C$17/'Gearbox Calculator'!$D$17)*('Gearbox Calculator'!$C$2/'Gearbox Calculator'!$D$2)*('Gearbox Calculator'!$C$5*PI())/1000)*('Gearbox Calculator'!$C$3/'Gearbox Calculator'!$D$3) -> 65.87931 | K5: =(B5*60*('Gearbox Calculator'!$C$19/'Gearbox Calculator'!$D$19)*('Gearbox Calculator'!$C$2/'Gearbox Calculator'!$D$2)*('Gearbox Calculator'!$C$5*PI())/1000)*('Gearbox Calculator'!$C$3/'Gearbox Calculator'!$D$3) -> 75.813491 | L5: =(B5*60*('Gearbox Calculator'!$C$21/'Gearbox Calculator'!$D$21)*('Gearbox Calculator'!$C$2/'Gearbox Calculator'!$D$2)*('Gearbox Calculator'!$C$5*PI())/1000)*('Gearbox Calculator'!$C$3/'Gearbox Calculator'!$D$3) -> 85.929534 | N5: =(E5*1000)/(G5*(1000/3600)) -> 2503.0111 | O5: =(E5*1000)/(H5*(1000/3600)) -> 1760.3594 | P5: =(E5*1000)/(I5*(1000/3600)) -> 1369.1684 | Q5: =(E5*1000)/(J5*(1000/3600)) -> 1140.9737 | R5: =(E5*1000)/(K5*(1000/3600)) -> 991.4668 | S5: =(E5*1000)/(L5*(1000/3600)) -> 874.74651
B6: 4500 | C6: 31 | D6: 36 | E6: =C6*0.7457 -> 23.1167 | G6: =(B6*60*('Gearbox Calculator'!$C$11/'Gearbox Calculator'!$D$11)*('Gearbox Calculator'!$C$2/'Gearbox Calculator'!$D$2)*('Gearbox Calculator'!$C$5*PI())/1000)*('Gearbox Calculator'!$C$3/'Gearbox Calculator'!$D$3) -> 33.784261 | H6: =(B6*60*('Gearbox Calculator'!$C$13/'Gearbox Calculator'!$D$13)*('Gearbox Calculator'!$C$2/'Gearbox Calculator'!$D$2)*('Gearbox Calculator'!$C$5*PI())/1000)*('Gearbox Calculator'!$C$3/'Gearbox Calculator'!$D$3) -> 48.036997 | I6: =(B6*60*('Gearbox Calculator'!$C$15/'Gearbox Calculator'!$D$15)*('Gearbox Calculator'!$C$2/'Gearbox Calculator'!$D$2)*('Gearbox Calculator'!$C$5*PI())/1000)*('Gearbox Calculator'!$C$3/'Gearbox Calculator'!$D$3) -> 61.761853 | J6: =(B6*60*('Gearbox Calculator'!$C$17/'Gearbox Calculator'!$D$17)*('Gearbox Calculator'!$C$2/'Gearbox Calculator'!$D$2)*('Gearbox Calculator'!$C$5*PI())/1000)*('Gearbox Calculator'!$C$3/'Gearbox Calculator'!$D$3) -> 74.114223 | K6: =(B6*60*('Gearbox Calculator'!$C$19/'Gearbox Calculator'!$D$19)*('Gearbox Calculator'!$C$2/'Gearbox Calculator'!$D$2)*('Gearbox Calculator'!$C$5*PI())/1000)*('Gearbox Calculator'!$C$3/'Gearbox Calculator'!$D$3) -> 85.290178 | L6: =(B6*60*('Gearbox Calculator'!$C$21/'Gearbox Calculator'!$D$21)*('Gearbox Calculator'!$C$2/'Gearbox Calculator'!$D$2)*('Gearbox Calculator'!$C$5*PI())/1000)*('Gearbox Calculator'!$C$3/'Gearbox Calculator'!$D$3) -> 96.670726 | N6: =(E6*1000)/(G6*(1000/3600)) -> 2463.2807 | O6: =(E6*1000)/(H6*(1000/3600)) -> 1732.4172 | P6: =(E6*1000)/(I6*(1000/3600)) -> 1347.4356 | Q6: =(E6*1000)/(J6*(1000/3600)) -> 1122.863 | R6: =(E6*1000)/(K6*(1000/3600)) -> 975.72924 | S6: =(E6*1000)/(L6*(1000/3600)) -> 860.86164
B7: 5000 | C7: 34 | D7: 36 | E7: =C7*0.7457 -> 25.3538 | G7: =(B7*60*('Gearbox Calculator'!$C$11/'Gearbox Calculator'!$D$11)*('Gearbox Calculator'!$C$2/'Gearbox Calculator'!$D$2)*('Gearbox Calculator'!$C$5*PI())/1000)*('Gearbox Calculator'!$C$3/'Gearbox Calculator'!$D$3) -> 37.538068 | H7: =(B7*60*('Gearbox Calculator'!$C$13/'Gearbox Calculator'!$D$13)*('Gearbox Calculator'!$C$2/'Gearbox Calculator'!$D$2)*('Gearbox Calculator'!$C$5*PI())/1000)*('Gearbox Calculator'!$C$3/'Gearbox Calculator'!$D$3) -> 53.374441 | I7: =(B7*60*('Gearbox Calculator'!$C$15/'Gearbox Calculator'!$D$15)*('Gearbox Calculator'!$C$2/'Gearbox Calculator'!$D$2)*('Gearbox Calculator'!$C$5*PI())/1000)*('Gearbox Calculator'!$C$3/'Gearbox Calculator'!$D$3) -> 68.624281 | J7: =(B7*60*('Gearbox Calculator'!$C$17/'Gearbox Calculator'!$D$17)*('Gearbox Calculator'!$C$2/'Gearbox Calculator'!$D$2)*('Gearbox Calculator'!$C$5*PI())/1000)*('Gearbox Calculator'!$C$3/'Gearbox Calculator'!$D$3) -> 82.349137 | K7: =(B7*60*('Gearbox Calculator'!$C$19/'Gearbox Calculator'!$D$19)*('Gearbox Calculator'!$C$2/'Gearbox Calculator'!$D$2)*('Gearbox Calculator'!$C$5*PI())/1000)*('Gearbox Calculator'!$C$3/'Gearbox Calculator'!$D$3) -> 94.766864 | L7: =(B7*60*('Gearbox Calculator'!$C$21/'Gearbox Calculator'!$D$21)*('Gearbox Calculator'!$C$2/'Gearbox Calculator'!$D$2)*('Gearbox Calculator'!$C$5*PI())/1000)*('Gearbox Calculator'!$C$3/'Gearbox Calculator'!$D$3) -> 107.41192 | N7: =(E7*1000)/(G7*(1000/3600)) -> 2431.4965 | O7: =(E7*1000)/(H7*(1000/3600)) -> 1710.0634 | P7: =(E7*1000)/(I7*(1000/3600)) -> 1330.0493 | Q7: =(E7*1000)/(J7*(1000/3600)) -> 1108.3745 | R7: =(E7*1000)/(K7*(1000/3600)) -> 963.13918 | S7: =(E7*1000)/(L7*(1000/3600)) -> 849.75375
B8: 5500 | C8: 37 | D8: 36 | E8: =C8*0.7457 -> 27.5909 | G8: =(B8*60*('Gearbox Calculator'!$C$11/'Gearbox Calculator'!$D$11)*('Gearbox Calculator'!$C$2/'Gearbox Calculator'!$D$2)*('Gearbox Calculator'!$C$5*PI())/1000)*('Gearbox Calculator'!$C$3/'Gearbox Calculator'!$D$3) -> 41.291875 | H8: =(B8*60*('Gearbox Calculator'!$C$13/'Gearbox Calculator'!$D$13)*('Gearbox Calculator'!$C$2/'Gearbox Calculator'!$D$2)*('Gearbox Calculator'!$C$5*PI())/1000)*('Gearbox Calculator'!$C$3/'Gearbox Calculator'!$D$3) -> 58.711885 | I8: =(B8*60*('Gearbox Calculator'!$C$15/'Gearbox Calculator'!$D$15)*('Gearbox Calculator'!$C$2/'Gearbox Calculator'!$D$2)*('Gearbox Calculator'!$C$5*PI())/1000)*('Gearbox Calculator'!$C$3/'Gearbox Calculator'!$D$3) -> 75.486709 | J8: =(B8*60*('Gearbox Calculator'!$C$17/'Gearbox Calculator'!$D$17)*('Gearbox Calculator'!$C$2/'Gearbox Calculator'!$D$2)*('Gearbox Calculator'!$C$5*PI())/1000)*('Gearbox Calculator'!$C$3/'Gearbox Calculator'!$D$3) -> 90.584051 | K8: =(B8*60*('Gearbox Calculator'!$C$19/'Gearbox Calculator'!$D$19)*('Gearbox Calculator'!$C$2/'Gearbox Calculator'!$D$2)*('Gearbox Calculator'!$C$5*PI())/1000)*('Gearbox Calculator'!$C$3/'Gearbox Calculator'!$D$3) -> 104.24355 | L8: =(B8*60*('Gearbox Calculator'!$C$21/'Gearbox Calculator'!$D$21)*('Gearbox Calculator'!$C$2/'Gearbox Calculator'!$D$2)*('Gearbox Calculator'!$C$5*PI())/1000)*('Gearbox Calculator'!$C$3/'Gearbox Calculator'!$D$3) -> 118.15311 | N8: =(E8*1000)/(G8*(1000/3600)) -> 2405.4912 | O8: =(E8*1000)/(H8*(1000/3600)) -> 1691.774 | P8: =(E8*1000)/(I8*(1000/3600)) -> 1315.8242 | Q8: =(E8*1000)/(J8*(1000/3600)) -> 1096.5202 | R8: =(E8*1000)/(K8*(1000/3600)) -> 952.83823 | S8: =(E8*1000)/(L8*(1000/3600)) -> 840.66547
B9: 6000 | C9: 44 | D9: 39 | E9: =C9*0.7457 -> 32.8108 | G9: =(B9*60*('Gearbox Calculator'!$C$11/'Gearbox Calculator'!$D$11)*('Gearbox Calculator'!$C$2/'Gearbox Calculator'!$D$2)*('Gearbox Calculator'!$C$5*PI())/1000)*('Gearbox Calculator'!$C$3/'Gearbox Calculator'!$D$3) -> 45.045682 | H9: =(B9*60*('Gearbox Calculator'!$C$13/'Gearbox Calculator'!$D$13)*('Gearbox Calculator'!$C$2/'Gearbox Calculator'!$D$2)*('Gearbox Calculator'!$C$5*PI())/1000)*('Gearbox Calculator'!$C$3/'Gearbox Calculator'!$D$3) -> 64.049329 | I9: =(B9*60*('Gearbox Calculator'!$C$15/'Gearbox Calculator'!$D$15)*('Gearbox Calculator'!$C$2/'Gearbox Calculator'!$D$2)*('Gearbox Calculator'!$C$5*PI())/1000)*('Gearbox Calculator'!$C$3/'Gearbox Calculator'!$D$3) -> 82.349137 | J9: =(B9*60*('Gearbox Calculator'!$C$17/'Gearbox Calculator'!$D$17)*('Gearbox Calculator'!$C$2/'Gearbox Calculator'!$D$2)*('Gearbox Calculator'!$C$5*PI())/1000)*('Gearbox Calculator'!$C$3/'Gearbox Calculator'!$D$3) -> 98.818965 | K9: =(B9*60*('Gearbox Calculator'!$C$19/'Gearbox Calculator'!$D$19)*('Gearbox Calculator'!$C$2/'Gearbox Calculator'!$D$2)*('Gearbox Calculator'!$C$5*PI())/1000)*('Gearbox Calculator'!$C$3/'Gearbox Calculator'!$D$3) -> 113.72024 | L9: =(B9*60*('Gearbox Calculator'!$C$21/'Gearbox Calculator'!$D$21)*('Gearbox Calculator'!$C$2/'Gearbox Calculator'!$D$2)*('Gearbox Calculator'!$C$5*PI())/1000)*('Gearbox Calculator'!$C$3/'Gearbox Calculator'!$D$3) -> 128.8943 | N9: =(E9*1000)/(G9*(1000/3600)) -> 2622.2021 | O9: =(E9*1000)/(H9*(1000/3600)) -> 1844.1861 | P9: =(E9*1000)/(I9*(1000/3600)) -> 1434.3669 | Q9: =(E9*1000)/(J9*(1000/3600)) -> 1195.3058 | R9: =(E9*1000)/(K9*(1000/3600)) -> 1038.6795 | S9: =(E9*1000)/(L9*(1000/3600)) -> 916.4011
B10: 6500 | C10: 49 | D10: 40 | E10: =C10*0.7457 -> 36.5393 | G10: =(B10*60*('Gearbox Calculator'!$C$11/'Gearbox Calculator'!$D$11)*('Gearbox Calculator'!$C$2/'Gearbox Calculator'!$D$2)*('Gearbox Calculator'!$C$5*PI())/1000)*('Gearbox Calculator'!$C$3/'Gearbox Calculator'!$D$3) -> 48.799489 | H10: =(B10*60*('Gearbox Calculator'!$C$13/'Gearbox Calculator'!$D$13)*('Gearbox Calculator'!$C$2/'Gearbox Calculator'!$D$2)*('Gearbox Calculator'!$C$5*PI())/1000)*('Gearbox Calculator'!$C$3/'Gearbox Calculator'!$D$3) -> 69.386773 | I10: =(B10*60*('Gearbox Calculator'!$C$15/'Gearbox Calculator'!$D$15)*('Gearbox Calculator'!$C$2/'Gearbox Calculator'!$D$2)*('Gearbox Calculator'!$C$5*PI())/1000)*('Gearbox Calculator'!$C$3/'Gearbox Calculator'!$D$3) -> 89.211565 | J10: =(B10*60*('Gearbox Calculator'!$C$17/'Gearbox Calculator'!$D$17)*('Gearbox Calculator'!$C$2/'Gearbox Calculator'!$D$2)*('Gearbox Calculator'!$C$5*PI())/1000)*('Gearbox Calculator'!$C$3/'Gearbox Calculator'!$D$3) -> 107.05388 | K10: =(B10*60*('Gearbox Calculator'!$C$19/'Gearbox Calculator'!$D$19)*('Gearbox Calculator'!$C$2/'Gearbox Calculator'!$D$2)*('Gearbox Calculator'!$C$5*PI())/1000)*('Gearbox Calculator'!$C$3/'Gearbox Calculator'!$D$3) -> 123.19692 | L10: =(B10*60*('Gearbox Calculator'!$C$21/'Gearbox Calculator'!$D$21)*('Gearbox Calculator'!$C$2/'Gearbox Calculator'!$D$2)*('Gearbox Calculator'!$C$5*PI())/1000)*('Gearbox Calculator'!$C$3/'Gearbox Calculator'!$D$3) -> 139.63549 | N10: =(E10*1000)/(G10*(1000/3600)) -> 2695.5504 | O10: =(E10*1000)/(H10*(1000/3600)) -> 1895.7717 | P10: =(E10*1000)/(I10*(1000/3600)) -> 1474.4891 | Q10: =(E10*1000)/(J10*(1000/3600)) -> 1228.7409 | R10: =(E10*1000)/(K10*(1000/3600)) -> 1067.7335 | S10: =(E10*1000)/(L10*(1000/3600)) -> 942.0347
B11: 7000 | C11: 56 | D11: 42 | E11: =C11*0.7457 -> 41.7592 | G11: =(B11*60*('Gearbox Calculator'!$C$11/'Gearbox Calculator'!$D$11)*('Gearbox Calculator'!$C$2/'Gearbox Calculator'!$D$2)*('Gearbox Calculator'!$C$5*PI())/1000)*('Gearbox Calculator'!$C$3/'Gearbox Calculator'!$D$3) -> 52.553295 | H11: =(B11*60*('Gearbox Calculator'!$C$13/'Gearbox Calculator'!$D$13)*('Gearbox Calculator'!$C$2/'Gearbox Calculator'!$D$2)*('Gearbox Calculator'!$C$5*PI())/1000)*('Gearbox Calculator'!$C$3/'Gearbox Calculator'!$D$3) -> 74.724217 | I11: =(B11*60*('Gearbox Calculator'!$C$15/'Gearbox Calculator'!$D$15)*('Gearbox Calculator'!$C$2/'Gearbox Calculator'!$D$2)*('Gearbox Calculator'!$C$5*PI())/1000)*('Gearbox Calculator'!$C$3/'Gearbox Calculator'!$D$3) -> 96.073993 | J11: =(B11*60*('Gearbox Calculator'!$C$17/'Gearbox Calculator'!$D$17)*('Gearbox Calculator'!$C$2/'Gearbox Calculator'!$D$2)*('Gearbox Calculator'!$C$5*PI())/1000)*('Gearbox Calculator'!$C$3/'Gearbox Calculator'!$D$3) -> 115.28879 | K11: =(B11*60*('Gearbox Calculator'!$C$19/'Gearbox Calculator'!$D$19)*('Gearbox Calculator'!$C$2/'Gearbox Calculator'!$D$2)*('Gearbox Calculator'!$C$5*PI())/1000)*('Gearbox Calculator'!$C$3/'Gearbox Calculator'!$D$3) -> 132.67361 | L11: =(B11*60*('Gearbox Calculator'!$C$21/'Gearbox Calculator'!$D$21)*('Gearbox Calculator'!$C$2/'Gearbox Calculator'!$D$2)*('Gearbox Calculator'!$C$5*PI())/1000)*('Gearbox Calculator'!$C$3/'Gearbox Calculator'!$D$3) -> 150.37669 | N11: =(E11*1000)/(G11*(1000/3600)) -> 2860.5841 | O11: =(E11*1000)/(H11*(1000/3600)) -> 2011.8393 | P11: =(E11*1000)/(I11*(1000/3600)) -> 1564.7639 | Q11: =(E11*1000)/(J11*(1000/3600)) -> 1303.9699 | R11: =(E11*1000)/(K11*(1000/3600)) -> 1133.1049 | S11: =(E11*1000)/(L11*(1000/3600)) -> 999.71029
B12: 7500 | C12: 62 | D12: 43 | E12: =C12*0.7457 -> 46.2334 | G12: =(B12*60*('Gearbox Calculator'!$C$11/'Gearbox Calculator'!$D$11)*('Gearbox Calculator'!$C$2/'Gearbox Calculator'!$D$2)*('Gearbox Calculator'!$C$5*PI())/1000)*('Gearbox Calculator'!$C$3/'Gearbox Calculator'!$D$3) -> 56.307102 | H12: =(B12*60*('Gearbox Calculator'!$C$13/'Gearbox Calculator'!$D$13)*('Gearbox Calculator'!$C$2/'Gearbox Calculator'!$D$2)*('Gearbox Calculator'!$C$5*PI())/1000)*('Gearbox Calculator'!$C$3/'Gearbox Calculator'!$D$3) -> 80.061661 | I12: =(B12*60*('Gearbox Calculator'!$C$15/'Gearbox Calculator'!$D$15)*('Gearbox Calculator'!$C$2/'Gearbox Calculator'!$D$2)*('Gearbox Calculator'!$C$5*PI())/1000)*('Gearbox Calculator'!$C$3/'Gearbox Calculator'!$D$3) -> 102.93642 | J12: =(B12*60*('Gearbox Calculator'!$C$17/'Gearbox Calculator'!$D$17)*('Gearbox Calculator'!$C$2/'Gearbox Calculator'!$D$2)*('Gearbox Calculator'!$C$5*PI())/1000)*('Gearbox Calculator'!$C$3/'Gearbox Calculator'!$D$3) -> 123.52371 | K12: =(B12*60*('Gearbox Calculator'!$C$19/'Gearbox Calculator'!$D$19)*('Gearbox Calculator'!$C$2/'Gearbox Calculator'!$D$2)*('Gearbox Calculator'!$C$5*PI())/1000)*('Gearbox Calculator'!$C$3/'Gearbox Calculator'!$D$3) -> 142.1503 | L12: =(B12*60*('Gearbox Calculator'!$C$21/'Gearbox Calculator'!$D$21)*('Gearbox Calculator'!$C$2/'Gearbox Calculator'!$D$2)*('Gearbox Calculator'!$C$5*PI())/1000)*('Gearbox Calculator'!$C$3/'Gearbox Calculator'!$D$3) -> 161.11788 | N12: =(E12*1000)/(G12*(1000/3600)) -> 2955.9369 | O12: =(E12*1000)/(H12*(1000/3600)) -> 2078.9007 | P12: =(E12*1000)/(I12*(1000/3600)) -> 1616.9227 | Q12: =(E12*1000)/(J12*(1000/3600)) -> 1347.4356 | R12: =(E12*1000)/(K12*(1000/3600)) -> 1170.8751 | S12: =(E12*1000)/(L12*(1000/3600)) -> 1033.034
B13: 8000 | C13: 63 | D13: 41 | E13: =C13*0.7457 -> 46.9791 | G13: =(B13*60*('Gearbox Calculator'!$C$11/'Gearbox Calculator'!$D$11)*('Gearbox Calculator'!$C$2/'Gearbox Calculator'!$D$2)*('Gearbox Calculator'!$C$5*PI())/1000)*('Gearbox Calculator'!$C$3/'Gearbox Calculator'!$D$3) -> 60.060909 | H13: =(B13*60*('Gearbox Calculator'!$C$13/'Gearbox Calculator'!$D$13)*('Gearbox Calculator'!$C$2/'Gearbox Calculator'!$D$2)*('Gearbox Calculator'!$C$5*PI())/1000)*('Gearbox Calculator'!$C$3/'Gearbox Calculator'!$D$3) -> 85.399105 | I13: =(B13*60*('Gearbox Calculator'!$C$15/'Gearbox Calculator'!$D$15)*('Gearbox Calculator'!$C$2/'Gearbox Calculator'!$D$2)*('Gearbox Calculator'!$C$5*PI())/1000)*('Gearbox Calculator'!$C$3/'Gearbox Calculator'!$D$3) -> 109.79885 | J13: =(B13*60*('Gearbox Calculator'!$C$17/'Gearbox Calculator'!$D$17)*('Gearbox Calculator'!$C$2/'Gearbox Calculator'!$D$2)*('Gearbox Calculator'!$C$5*PI())/1000)*('Gearbox Calculator'!$C$3/'Gearbox Calculator'!$D$3) -> 131.75862 | K13: =(B13*60*('Gearbox Calculator'!$C$19/'Gearbox Calculator'!$D$19)*('Gearbox Calculator'!$C$2/'Gearbox Calculator'!$D$2)*('Gearbox Calculator'!$C$5*PI())/1000)*('Gearbox Calculator'!$C$3/'Gearbox Calculator'!$D$3) -> 151.62698 | L13: =(B13*60*('Gearbox Calculator'!$C$21/'Gearbox Calculator'!$D$21)*('Gearbox Calculator'!$C$2/'Gearbox Calculator'!$D$2)*('Gearbox Calculator'!$C$5*PI())/1000)*('Gearbox Calculator'!$C$3/'Gearbox Calculator'!$D$3) -> 171.85907 | N13: =(E13*1000)/(G13*(1000/3600)) -> 2815.8874 | O13: =(E13*1000)/(H13*(1000/3600)) -> 1980.4044 | P13: =(E13*1000)/(I13*(1000/3600)) -> 1540.3145 | Q13: =(E13*1000)/(J13*(1000/3600)) -> 1283.5954 | R13: =(E13*1000)/(K13*(1000/3600)) -> 1115.4002 | S13: =(E13*1000)/(L13*(1000/3600)) -> 984.08982
B14: 8500 | C14: 64 | D14: 40 | E14: =C14*0.7457 -> 47.7248 | G14: =(B14*60*('Gearbox Calculator'!$C$11/'Gearbox Calculator'!$D$11)*('Gearbox Calculator'!$C$2/'Gearbox Calculator'!$D$2)*('Gearbox Calculator'!$C$5*PI())/1000)*('Gearbox Calculator'!$C$3/'Gearbox Calculator'!$D$3) -> 63.814716 | H14: =(B14*60*('Gearbox Calculator'!$C$13/'Gearbox Calculator'!$D$13)*('Gearbox Calculator'!$C$2/'Gearbox Calculator'!$D$2)*('Gearbox Calculator'!$C$5*PI())/1000)*('Gearbox Calculator'!$C$3/'Gearbox Calculator'!$D$3) -> 90.736549 | I14: =(B14*60*('Gearbox Calculator'!$C$15/'Gearbox Calculator'!$D$15)*('Gearbox Calculator'!$C$2/'Gearbox Calculator'!$D$2)*('Gearbox Calculator'!$C$5*PI())/1000)*('Gearbox Calculator'!$C$3/'Gearbox Calculator'!$D$3) -> 116.66128 | J14: =(B14*60*('Gearbox Calculator'!$C$17/'Gearbox Calculator'!$D$17)*('Gearbox Calculator'!$C$2/'Gearbox Calculator'!$D$2)*('Gearbox Calculator'!$C$5*PI())/1000)*('Gearbox Calculator'!$C$3/'Gearbox Calculator'!$D$3) -> 139.99353 | K14: =(B14*60*('Gearbox Calculator'!$C$19/'Gearbox Calculator'!$D$19)*('Gearbox Calculator'!$C$2/'Gearbox Calculator'!$D$2)*('Gearbox Calculator'!$C$5*PI())/1000)*('Gearbox Calculator'!$C$3/'Gearbox Calculator'!$D$3) -> 161.10367 | L14: =(B14*60*('Gearbox Calculator'!$C$21/'Gearbox Calculator'!$D$21)*('Gearbox Calculator'!$C$2/'Gearbox Calculator'!$D$2)*('Gearbox Calculator'!$C$5*PI())/1000)*('Gearbox Calculator'!$C$3/'Gearbox Calculator'!$D$3) -> 182.60026 | N14: =(E14*1000)/(G14*(1000/3600)) -> 2692.3144 | O14: =(E14*1000)/(H14*(1000/3600)) -> 1893.4959 | P14: =(E14*1000)/(I14*(1000/3600)) -> 1472.719 | Q14: =(E14*1000)/(J14*(1000/3600)) -> 1227.2658 | R14: =(E14*1000)/(K14*(1000/3600)) -> 1066.4517 | S14: =(E14*1000)/(L14*(1000/3600)) -> 940.90381
... B19: 11000 | C19: 50 | D19: 25 | E19: =C19*0.7457 -> 37.285 | G19: =(B19*60*('Gearbox Calculator'!$C$11/'Gearbox Calculator'!$D$11)*('Gearbox Calculator'!$C$2/'Gearbox Calculator'!$D$2)*('Gearbox Calculator'!$C$5*PI())/1000)*('Gearbox Calculator'!$C$3/'Gearbox Calculator'!$D$3) -> 82.58375 | H19: =(B19*60*('Gearbox Calculator'!$C$13/'Gearbox Calculator'!$D$13)*('Gearbox Calculator'!$C$2/'Gearbox Calculator'!$D$2)*('Gearbox Calculator'!$C$5*PI())/1000)*('Gearbox Calculator'!$C$3/'Gearbox Calculator'!$D$3) -> 117.42377 | I19: =(B19*60*('Gearbox Calculator'!$C$15/'Gearbox Calculator'!$D$15)*('Gearbox Calculator'!$C$2/'Gearbox Calculator'!$D$2)*('Gearbox Calculator'!$C$5*PI())/1000)*('Gearbox Calculator'!$C$3/'Gearbox Calculator'!$D$3) -> 150.97342 | J19: =(B19*60*('Gearbox Calculator'!$C$17/'Gearbox Calculator'!$D$17)*('Gearbox Calculator'!$C$2/'Gearbox Calculator'!$D$2)*('Gearbox Calculator'!$C$5*PI())/1000)*('Gearbox Calculator'!$C$3/'Gearbox Calculator'!$D$3) -> 181.1681 | K19: =(B19*60*('Gearbox Calculator'!$C$19/'Gearbox Calculator'!$D$19)*('Gearbox Calculator'!$C$2/'Gearbox Calculator'!$D$2)*('Gearbox Calculator'!$C$5*PI())/1000)*('Gearbox Calculator'!$C$3/'Gearbox Calculator'!$D$3) -> 208.4871 | L19: =(B19*60*('Gearbox Calculator'!$C$21/'Gearbox Calculator'!$D$21)*('Gearbox Calculator'!$C$2/'Gearbox Calculator'!$D$2)*('Gearbox Calculator'!$C$5*PI())/1000)*('Gearbox Calculator'!$C$3/'Gearbox Calculator'!$D$3) -> 236.30622 | N19: =(E19*1000)/(G19*(1000/3600)) -> 1625.3319 | O19: =(E19*1000)/(H19*(1000/3600)) -> 1143.0905 | P19: =(E19*1000)/(I19*(1000/3600)) -> 889.07042 | Q19: =(E19*1000)/(J19*(1000/3600)) -> 740.89202 | R19: =(E19*1000)/(K19*(1000/3600)) -> 643.80961 | S19: =(E19*1000)/(L19*(1000/3600)) -> 568.01721
A32: ZXR750H2
B33: RPM | C33: Power (HP) | D33: Torque (Nm) | E33: Power (kW) | G33: Roadspeed 1 | H33: Roadspeed 2 | I33: Roadspeed 3 | J33: Roadspeed 4 | K33: Roadspeed 5 | L33: Roadspeed 6 | N33: Driving Force 1 | O33: Driving Force 2 | P33: Driving Force 3 | Q33: Driving Force 4 | R33: Driving Force 5 | S33: Driving Force 6
B34: 3500 | C34: 12 | D34: 27 | E34: =C34*0.7457 -> 8.9484 | G34: =(B34*60*('Gearbox Calculator'!$C$33/'Gearbox Calculator'!$D$33)*('Gearbox Calculator'!$C$24/'Gearbox Calculator'!$D$24)*('Gearbox Calculator'!$C$27*PI())/1000)*('Gearbox Calculator'!$C$25/'Gearbox Calculator'!$D$25) -> 26.939773 | H34: =(B34*60*('Gearbox Calculator'!$C$35/'Gearbox Calculator'!$D$35)*('Gearbox Calculator'!$C$24/'Gearbox Calculator'!$D$24)*('Gearbox Calculator'!$C$27*PI())/1000)*('Gearbox Calculator'!$C$25/'Gearbox Calculator'!$D$25) -> 37.057425 | I34: =(B34*60*('Gearbox Calculator'!$C$37/'Gearbox Calculator'!$D$37)*('Gearbox Calculator'!$C$24/'Gearbox Calculator'!$D$24)*('Gearbox Calculator'!$C$27*PI())/1000)*('Gearbox Calculator'!$C$25/'Gearbox Calculator'!$D$25) -> 47.248217 | J34: =(B34*60*('Gearbox Calculator'!$C$39/'Gearbox Calculator'!$D$39)*('Gearbox Calculator'!$C$24/'Gearbox Calculator'!$D$24)*('Gearbox Calculator'!$C$27*PI())/1000)*('Gearbox Calculator'!$C$25/'Gearbox Calculator'!$D$25) -> 57.02371 | K34: =(B34*60*('Gearbox Calculator'!$C$41/'Gearbox Calculator'!$D$41)*('Gearbox Calculator'!$C$24/'Gearbox Calculator'!$D$24)*('Gearbox Calculator'!$C$27*PI())/1000)*('Gearbox Calculator'!$C$25/'Gearbox Calculator'!$D$25) -> 64.685059 | L34: =(B34*60*('Gearbox Calculator'!$C$43/'Gearbox Calculator'!$D$43)*('Gearbox Calculator'!$C$24/'Gearbox Calculator'!$D$24)*('Gearbox Calculator'!$C$27*PI())/1000)*('Gearbox Calculator'!$C$25/'Gearbox Calculator'!$D$25) -> 72.689564 | N34: =(E34*1000)/(G34*(1000/3600)) -> 1195.7874 | O34: =(E34*1000)/(H34*(1000/3600)) -> 869.30595 | P34: =(E34*1000)/(I34*(1000/3600)) -> 681.80859 | Q34: =(E34*1000)/(J34*(1000/3600)) -> 564.92712 | R34: =(E34*1000)/(K34*(1000/3600)) -> 498.01671 | S34: =(E34*1000)/(L34*(1000/3600)) -> 443.17558
B35: 4000 | C35: 21 | D35: 41 | E35: =C35*0.7457 -> 15.6597 | G35: =(B35*60*('Gearbox Calculator'!$C$33/'Gearbox Calculator'!$D$33)*('Gearbox Calculator'!$C$24/'Gearbox Calculator'!$D$24)*('Gearbox Calculator'!$C$27*PI())/1000)*('Gearbox Calculator'!$C$25/'Gearbox Calculator'!$D$25) -> 30.788312 | H35: =(B35*60*('Gearbox Calculator'!$C$35/'Gearbox Calculator'!$D$35)*('Gearbox Calculator'!$C$24/'Gearbox Calculator'!$D$24)*('Gearbox Calculator'!$C$27*PI())/1000)*('Gearbox Calculator'!$C$25/'Gearbox Calculator'!$D$25) -> 42.351343 | I35: =(B35*60*('Gearbox Calculator'!$C$37/'Gearbox Calculator'!$D$37)*('Gearbox Calculator'!$C$24/'Gearbox Calculator'!$D$24)*('Gearbox Calculator'!$C$27*PI())/1000)*('Gearbox Calculator'!$C$25/'Gearbox Calculator'!$D$25) -> 53.997962 | J35: =(B35*60*('Gearbox Calculator'!$C$39/'Gearbox Calculator'!$D$39)*('Gearbox Calculator'!$C$24/'Gearbox Calculator'!$D$24)*('Gearbox Calculator'!$C$27*PI())/1000)*('Gearbox Calculator'!$C$25/'Gearbox Calculator'!$D$25) -> 65.169954 | K35: =(B35*60*('Gearbox Calculator'!$C$41/'Gearbox Calculator'!$D$41)*('Gearbox Calculator'!$C$24/'Gearbox Calculator'!$D$24)*('Gearbox Calculator'!$C$27*PI())/1000)*('Gearbox Calculator'!$C$25/'Gearbox Calculator'!$D$25) -> 73.925781 | L35: =(B35*60*('Gearbox Calculator'!$C$43/'Gearbox Calculator'!$D$43)*('Gearbox Calculator'!$C$24/'Gearbox Calculator'!$D$24)*('Gearbox Calculator'!$C$27*PI())/1000)*('Gearbox Calculator'!$C$25/'Gearbox Calculator'!$D$25) -> 83.073788 | N35: =(E35*1000)/(G35*(1000/3600)) -> 1831.0494 | O35: =(E35*1000)/(H35*(1000/3600)) -> 1331.1247 | P35: =(E35*1000)/(I35*(1000/3600)) -> 1044.0194 | Q35: =(E35*1000)/(J35*(1000/3600)) -> 865.04465 | R35: =(E35*1000)/(K35*(1000/3600)) -> 762.58809 | S35: =(E35*1000)/(L35*(1000/3600)) -> 678.61261
B36: 4500 | C36: 31 | D36: 52 | E36: =C36*0.7457 -> 23.1167 | G36: =(B36*60*('Gearbox Calculator'!$C$33/'Gearbox Calculator'!$D$33)*('Gearbox Calculator'!$C$24/'Gearbox Calculator'!$D$24)*('Gearbox Calculator'!$C$27*PI())/1000)*('Gearbox Calculator'!$C$25/'Gearbox Calculator'!$D$25) -> 34.636851 | H36: =(B36*60*('Gearbox Calculator'!$C$35/'Gearbox Calculator'!$D$35)*('Gearbox Calculator'!$C$24/'Gearbox Calculator'!$D$24)*('Gearbox Calculator'!$C$27*PI())/1000)*('Gearbox Calculator'!$C$25/'Gearbox Calculator'!$D$25) -> 47.64526 | I36: =(B36*60*('Gearbox Calculator'!$C$37/'Gearbox Calculator'!$D$37)*('Gearbox Calculator'!$C$24/'Gearbox Calculator'!$D$24)*('Gearbox Calculator'!$C$27*PI())/1000)*('Gearbox Calculator'!$C$25/'Gearbox Calculator'!$D$25) -> 60.747707 | J36: =(B36*60*('Gearbox Calculator'!$C$39/'Gearbox Calculator'!$D$39)*('Gearbox Calculator'!$C$24/'Gearbox Calculator'!$D$24)*('Gearbox Calculator'!$C$27*PI())/1000)*('Gearbox Calculator'!$C$25/'Gearbox Calculator'!$D$25) -> 73.316198 | K36: =(B36*60*('Gearbox Calculator'!$C$41/'Gearbox Calculator'!$D$41)*('Gearbox Calculator'!$C$24/'Gearbox Calculator'!$D$24)*('Gearbox Calculator'!$C$27*PI())/1000)*('Gearbox Calculator'!$C$25/'Gearbox Calculator'!$D$25) -> 83.166504 | L36: =(B36*60*('Gearbox Calculator'!$C$43/'Gearbox Calculator'!$D$43)*('Gearbox Calculator'!$C$24/'Gearbox Calculator'!$D$24)*('Gearbox Calculator'!$C$27*PI())/1000)*('Gearbox Calculator'!$C$25/'Gearbox Calculator'!$D$25) -> 93.458011 | N36: =(E36*1000)/(G36*(1000/3600)) -> 2402.6469 | O36: =(E36*1000)/(H36*(1000/3600)) -> 1746.661 | P36: =(E36*1000)/(I36*(1000/3600)) -> 1369.9302 | Q36: =(E36*1000)/(J36*(1000/3600)) -> 1135.085 | R36: =(E36*1000)/(K36*(1000/3600)) -> 1000.6447 | S36: =(E36*1000)/(L36*(1000/3600)) -> 890.45465
B37: 5000 | C37: 38 | D37: 58 | E37: =C37*0.7457 -> 28.3366 | G37: =(B37*60*('Gearbox Calculator'!$C$33/'Gearbox Calculator'!$D$33)*('Gearbox Calculator'!$C$24/'Gearbox Calculator'!$D$24)*('Gearbox Calculator'!$C$27*PI())/1000)*('Gearbox Calculator'!$C$25/'Gearbox Calculator'!$D$25) -> 38.48539 | H37: =(B37*60*('Gearbox Calculator'!$C$35/'Gearbox Calculator'!$D$35)*('Gearbox Calculator'!$C$24/'Gearbox Calculator'!$D$24)*('Gearbox Calculator'!$C$27*PI())/1000)*('Gearbox Calculator'!$C$25/'Gearbox Calculator'!$D$25) -> 52.939178 | I37: =(B37*60*('Gearbox Calculator'!$C$37/'Gearbox Calculator'!$D$37)*('Gearbox Calculator'!$C$24/'Gearbox Calculator'!$D$24)*('Gearbox Calculator'!$C$27*PI())/1000)*('Gearbox Calculator'!$C$25/'Gearbox Calculator'!$D$25) -> 67.497452 | J37: =(B37*60*('Gearbox Calculator'!$C$39/'Gearbox Calculator'!$D$39)*('Gearbox Calculator'!$C$24/'Gearbox Calculator'!$D$24)*('Gearbox Calculator'!$C$27*PI())/1000)*('Gearbox Calculator'!$C$25/'Gearbox Calculator'!$D$25) -> 81.462443 | K37: =(B37*60*('Gearbox Calculator'!$C$41/'Gearbox Calculator'!$D$41)*('Gearbox Calculator'!$C$24/'Gearbox Calculator'!$D$24)*('Gearbox Calculator'!$C$27*PI())/1000)*('Gearbox Calculator'!$C$25/'Gearbox Calculator'!$D$25) -> 92.407226 | L37: =(B37*60*('Gearbox Calculator'!$C$43/'Gearbox Calculator'!$D$43)*('Gearbox Calculator'!$C$24/'Gearbox Calculator'!$D$24)*('Gearbox Calculator'!$C$27*PI())/1000)*('Gearbox Calculator'!$C$25/'Gearbox Calculator'!$D$25) -> 103.84223 | N37: =(E37*1000)/(G37*(1000/3600)) -> 2650.662 | O37: =(E37*1000)/(H37*(1000/3600)) -> 1926.9615 | P37: =(E37*1000)/(I37*(1000/3600)) -> 1511.3424 | Q37: =(E37*1000)/(J37*(1000/3600)) -> 1252.2551 | R37: =(E37*1000)/(K37*(1000/3600)) -> 1103.937 | S37: =(E37*1000)/(L37*(1000/3600)) -> 982.37254
B38: 5500 | C38: 45 | D38: 61 | E38: =C38*0.7457 -> 33.5565 | G38: =(B38*60*('Gearbox Calculator'!$C$33/'Gearbox Calculator'!$D$33)*('Gearbox Calculator'!$C$24/'Gearbox Calculator'!$D$24)*('Gearbox Calculator'!$C$27*PI())/1000)*('Gearbox Calculator'!$C$25/'Gearbox Calculator'!$D$25) -> 42.333928 | H38: =(B38*60*('Gearbox Calculator'!$C$35/'Gearbox Calculator'!$D$35)*('Gearbox Calculator'!$C$24/'Gearbox Calculator'!$D$24)*('Gearbox Calculator'!$C$27*PI())/1000)*('Gearbox Calculator'!$C$25/'Gearbox Calculator'!$D$25) -> 58.233096 | I38: =(B38*60*('Gearbox Calculator'!$C$37/'Gearbox Calculator'!$D$37)*('Gearbox Calculator'!$C$24/'Gearbox Calculator'!$D$24)*('Gearbox Calculator'!$C$27*PI())/1000)*('Gearbox Calculator'!$C$25/'Gearbox Calculator'!$D$25) -> 74.247198 | J38: =(B38*60*('Gearbox Calculator'!$C$39/'Gearbox Calculator'!$D$39)*('Gearbox Calculator'!$C$24/'Gearbox Calculator'!$D$24)*('Gearbox Calculator'!$C$27*PI())/1000)*('Gearbox Calculator'!$C$25/'Gearbox Calculator'!$D$25) -> 89.608687 | K38: =(B38*60*('Gearbox Calculator'!$C$41/'Gearbox Calculator'!$D$41)*('Gearbox Calculator'!$C$24/'Gearbox Calculator'!$D$24)*('Gearbox Calculator'!$C$27*PI())/1000)*('Gearbox Calculator'!$C$25/'Gearbox Calculator'!$D$25) -> 101.64795 | L38: =(B38*60*('Gearbox Calculator'!$C$43/'Gearbox Calculator'!$D$43)*('Gearbox Calculator'!$C$24/'Gearbox Calculator'!$D$24)*('Gearbox Calculator'!$C$27*PI())/1000)*('Gearbox Calculator'!$C$25/'Gearbox Calculator'!$D$25) -> 114.22646 | N38: =(E38*1000)/(G38*(1000/3600)) -> 2853.5835 | O38: =(E38*1000)/(H38*(1000/3600)) -> 2074.4801 | P38: =(E38*1000)/(I38*(1000/3600)) -> 1627.0432 | Q38: =(E38*1000)/(J38*(1000/3600)) -> 1348.1215 | R38: =(E38*1000)/(K38*(1000/3600)) -> 1188.449 | S38: =(E38*1000)/(L38*(1000/3600)) -> 1057.5781
B39: 6000 | C39: 50 | D39: 63 | E39: =C39*0.7457 -> 37.285 | G39: =(B39*60*('Gearbox Calculator'!$C$33/'Gearbox Calculator'!$D$33)*('Gearbox Calculator'!$C$24/'Gearbox Calculator'!$D$24)*('Gearbox Calculator'!$C$27*PI())/1000)*('Gearbox Calculator'!$C$25/'Gearbox Calculator'!$D$25) -> 46.182467 | H39: =(B39*60*('Gearbox Calculator'!$C$35/'Gearbox Calculator'!$D$35)*('Gearbox Calculator'!$C$24/'Gearbox Calculator'!$D$24)*('Gearbox Calculator'!$C$27*PI())/1000)*('Gearbox Calculator'!$C$25/'Gearbox Calculator'!$D$25) -> 63.527014 | I39: =(B39*60*('Gearbox Calculator'!$C$37/'Gearbox Calculator'!$D$37)*('Gearbox Calculator'!$C$24/'Gearbox Calculator'!$D$24)*('Gearbox Calculator'!$C$27*PI())/1000)*('Gearbox Calculator'!$C$25/'Gearbox Calculator'!$D$25) -> 80.996943 | J39: =(B39*60*('Gearbox Calculator'!$C$39/'Gearbox Calculator'!$D$39)*('Gearbox Calculator'!$C$24/'Gearbox Calculator'!$D$24)*('Gearbox Calculator'!$C$27*PI())/1000)*('Gearbox Calculator'!$C$25/'Gearbox Calculator'!$D$25) -> 97.754931 | K39: =(B39*60*('Gearbox Calculator'!$C$41/'Gearbox Calculator'!$D$41)*('Gearbox Calculator'!$C$24/'Gearbox Calculator'!$D$24)*('Gearbox Calculator'!$C$27*PI())/1000)*('Gearbox Calculator'!$C$25/'Gearbox Calculator'!$D$25) -> 110.88867 | L39: =(B39*60*('Gearbox Calculator'!$C$43/'Gearbox Calculator'!$D$43)*('Gearbox Calculator'!$C$24/'Gearbox Calculator'!$D$24)*('Gearbox Calculator'!$C$27*PI())/1000)*('Gearbox Calculator'!$C$25/'Gearbox Calculator'!$D$25) -> 124.61068 | N39: =(E39*1000)/(G39*(1000/3600)) -> 2906.4276 | O39: =(E39*1000)/(H39*(1000/3600)) -> 2112.8964 | P39: =(E39*1000)/(I39*(1000/3600)) -> 1657.1737 | Q39: =(E39*1000)/(J39*(1000/3600)) -> 1373.0867 | R39: =(E39*1000)/(K39*(1000/3600)) -> 1210.4573 | S39: =(E39*1000)/(L39*(1000/3600)) -> 1077.1629
B40: 6500 | C40: 53 | D40: 61 | E40: =C40*0.7457 -> 39.5221 | G40: =(B40*60*('Gearbox Calculator'!$C$33/'Gearbox Calculator'!$D$33)*('Gearbox Calculator'!$C$24/'Gearbox Calculator'!$D$24)*('Gearbox Calculator'!$C$27*PI())/1000)*('Gearbox Calculator'!$C$25/'Gearbox Calculator'!$D$25) -> 50.031006 | H40: =(B40*60*('Gearbox Calculator'!$C$35/'Gearbox Calculator'!$D$35)*('Gearbox Calculator'!$C$24/'Gearbox Calculator'!$D$24)*('Gearbox Calculator'!$C$27*PI())/1000)*('Gearbox Calculator'!$C$25/'Gearbox Calculator'!$D$25) -> 68.820932 | I40: =(B40*60*('Gearbox Calculator'!$C$37/'Gearbox Calculator'!$D$37)*('Gearbox Calculator'!$C$24/'Gearbox Calculator'!$D$24)*('Gearbox Calculator'!$C$27*PI())/1000)*('Gearbox Calculator'!$C$25/'Gearbox Calculator'!$D$25) -> 87.746688 | J40: =(B40*60*('Gearbox Calculator'!$C$39/'Gearbox Calculator'!$D$39)*('Gearbox Calculator'!$C$24/'Gearbox Calculator'!$D$24)*('Gearbox Calculator'!$C$27*PI())/1000)*('Gearbox Calculator'!$C$25/'Gearbox Calculator'!$D$25) -> 105.90118 | K40: =(B40*60*('Gearbox Calculator'!$C$41/'Gearbox Calculator'!$D$41)*('Gearbox Calculator'!$C$24/'Gearbox Calculator'!$D$24)*('Gearbox Calculator'!$C$27*PI())/1000)*('Gearbox Calculator'!$C$25/'Gearbox Calculator'!$D$25) -> 120.12939 | L40: =(B40*60*('Gearbox Calculator'!$C$43/'Gearbox Calculator'!$D$43)*('Gearbox Calculator'!$C$24/'Gearbox Calculator'!$D$24)*('Gearbox Calculator'!$C$27*PI())/1000)*('Gearbox Calculator'!$C$25/'Gearbox Calculator'!$D$25) -> 134.9949 | N40: =(E40*1000)/(G40*(1000/3600)) -> 2843.8277 | O40: =(E40*1000)/(H40*(1000/3600)) -> 2067.3879 | P40: =(E40*1000)/(I40*(1000/3600)) -> 1621.4807 | Q40: =(E40*1000)/(J40*(1000/3600)) -> 1343.5126 | R40: =(E40*1000)/(K40*(1000/3600)) -> 1184.3859 | S40: =(E40*1000)/(L40*(1000/3600)) -> 1053.9624
B41: 7000 | C41: 55 | D41: 59 | E41: =C41*0.7457 -> 41.0135 | G41: =(B41*60*('Gearbox Calculator'!$C$33/'Gearbox Calculator'!$D$33)*('Gearbox Calculator'!$C$24/'Gearbox Calculator'!$D$24)*('Gearbox Calculator'!$C$27*PI())/1000)*('Gearbox Calculator'!$C$25/'Gearbox Calculator'!$D$25) -> 53.879545 | H41: =(B41*60*('Gearbox Calculator'!$C$35/'Gearbox Calculator'!$D$35)*('Gearbox Calculator'!$C$24/'Gearbox Calculator'!$D$24)*('Gearbox Calculator'!$C$27*PI())/1000)*('Gearbox Calculator'!$C$25/'Gearbox Calculator'!$D$25) -> 74.11485 | I41: =(B41*60*('Gearbox Calculator'!$C$37/'Gearbox Calculator'!$D$37)*('Gearbox Calculator'!$C$24/'Gearbox Calculator'!$D$24)*('Gearbox Calculator'!$C$27*PI())/1000)*('Gearbox Calculator'!$C$25/'Gearbox Calculator'!$D$25) -> 94.496433 | J41: =(B41*60*('Gearbox Calculator'!$C$39/'Gearbox Calculator'!$D$39)*('Gearbox Calculator'!$C$24/'Gearbox Calculator'!$D$24)*('Gearbox Calculator'!$C$27*PI())/1000)*('Gearbox Calculator'!$C$25/'Gearbox Calculator'!$D$25) -> 114.04742 | K41: =(B41*60*('Gearbox Calculator'!$C$41/'Gearbox Calculator'!$D$41)*('Gearbox Calculator'!$C$24/'Gearbox Calculator'!$D$24)*('Gearbox Calculator'!$C$27*PI())/1000)*('Gearbox Calculator'!$C$25/'Gearbox Calculator'!$D$25) -> 129.37012 | L41: =(B41*60*('Gearbox Calculator'!$C$43/'Gearbox Calculator'!$D$43)*('Gearbox Calculator'!$C$24/'Gearbox Calculator'!$D$24)*('Gearbox Calculator'!$C$27*PI())/1000)*('Gearbox Calculator'!$C$25/'Gearbox Calculator'!$D$25) -> 145.37913 | N41: =(E41*1000)/(G41*(1000/3600)) -> 2740.3461 | O41: =(E41*1000)/(H41*(1000/3600)) -> 1992.1595 | P41: =(E41*1000)/(I41*(1000/3600)) -> 1562.478 | Q41: =(E41*1000)/(J41*(1000/3600)) -> 1294.6246 | R41: =(E41*1000)/(K41*(1000/3600)) -> 1141.2883 | S41: =(E41*1000)/(L41*(1000/3600)) -> 1015.6107
B42: 7500 | C42: 54 | D42: 55 | E42: =C42*0.7457 -> 40.2678 | G42: =(B42*60*('Gearbox Calculator'!$C$33/'Gearbox Calculator'!$D$33)*('Gearbox Calculator'!$C$24/'Gearbox Calculator'!$D$24)*('Gearbox Calculator'!$C$27*PI())/1000)*('Gearbox Calculator'!$C$25/'Gearbox Calculator'!$D$25) -> 57.728084 | H42: =(B42*60*('Gearbox Calculator'!$C$35/'Gearbox Calculator'!$D$35)*('Gearbox Calculator'!$C$24/'Gearbox Calculator'!$D$24)*('Gearbox Calculator'!$C$27*PI())/1000)*('Gearbox Calculator'!$C$25/'Gearbox Calculator'!$D$25) -> 79.408767 | I42: =(B42*60*('Gearbox Calculator'!$C$37/'Gearbox Calculator'!$D$37)*('Gearbox Calculator'!$C$24/'Gearbox Calculator'!$D$24)*('Gearbox Calculator'!$C$27*PI())/1000)*('Gearbox Calculator'!$C$25/'Gearbox Calculator'!$D$25) -> 101.24618 | J42: =(B42*60*('Gearbox Calculator'!$C$39/'Gearbox Calculator'!$D$39)*('Gearbox Calculator'!$C$24/'Gearbox Calculator'!$D$24)*('Gearbox Calculator'!$C$27*PI())/1000)*('Gearbox Calculator'!$C$25/'Gearbox Calculator'!$D$25) -> 122.19366 | K42: =(B42*60*('Gearbox Calculator'!$C$41/'Gearbox Calculator'!$D$41)*('Gearbox Calculator'!$C$24/'Gearbox Calculator'!$D$24)*('Gearbox Calculator'!$C$27*PI())/1000)*('Gearbox Calculator'!$C$25/'Gearbox Calculator'!$D$25) -> 138.61084 | L42: =(B42*60*('Gearbox Calculator'!$C$43/'Gearbox Calculator'!$D$43)*('Gearbox Calculator'!$C$24/'Gearbox Calculator'!$D$24)*('Gearbox Calculator'!$C$27*PI())/1000)*('Gearbox Calculator'!$C$25/'Gearbox Calculator'!$D$25) -> 155.76335 | N42: =(E42*1000)/(G42*(1000/3600)) -> 2511.1535 | O42: =(E42*1000)/(H42*(1000/3600)) -> 1825.5425 | P42: =(E42*1000)/(I42*(1000/3600)) -> 1431.798 | Q42: =(E42*1000)/(J42*(1000/3600)) -> 1186.3469 | R42: =(E42*1000)/(K42*(1000/3600)) -> 1045.8351 | S42: =(E42*1000)/(L42*(1000/3600)) -> 930.66873
B43: 8000 | C43: 59 | D43: 56 | E43: =C43*0.7457 -> 43.9963 | G43: =(B43*60*('Gearbox Calculator'!$C$33/'Gearbox Calculator'!$D$33)*('Gearbox Calculator'!$C$24/'Gearbox Calculator'!$D$24)*('Gearbox Calculator'!$C$27*PI())/1000)*('Gearbox Calculator'!$C$25/'Gearbox Calculator'!$D$25) -> 61.576623 | H43: =(B43*60*('Gearbox Calculator'!$C$35/'Gearbox Calculator'!$D$35)*('Gearbox Calculator'!$C$24/'Gearbox Calculator'!$D$24)*('Gearbox Calculator'!$C$27*PI())/1000)*('Gearbox Calculator'!$C$25/'Gearbox Calculator'!$D$25) -> 84.702685 | I43: =(B43*60*('Gearbox Calculator'!$C$37/'Gearbox Calculator'!$D$37)*('Gearbox Calculator'!$C$24/'Gearbox Calculator'!$D$24)*('Gearbox Calculator'!$C$27*PI())/1000)*('Gearbox Calculator'!$C$25/'Gearbox Calculator'!$D$25) -> 107.99592 | J43: =(B43*60*('Gearbox Calculator'!$C$39/'Gearbox Calculator'!$D$39)*('Gearbox Calculator'!$C$24/'Gearbox Calculator'!$D$24)*('Gearbox Calculator'!$C$27*PI())/1000)*('Gearbox Calculator'!$C$25/'Gearbox Calculator'!$D$25) -> 130.33991 | K43: =(B43*60*('Gearbox Calculator'!$C$41/'Gearbox Calculator'!$D$41)*('Gearbox Calculator'!$C$24/'Gearbox Calculator'!$D$24)*('Gearbox Calculator'!$C$27*PI())/1000)*('Gearbox Calculator'!$C$25/'Gearbox Calculator'!$D$25) -> 147.85156 | L43: =(B43*60*('Gearbox Calculator'!$C$43/'Gearbox Calculator'!$D$43)*('Gearbox Calculator'!$C$24/'Gearbox Calculator'!$D$24)*('Gearbox Calculator'!$C$27*PI())/1000)*('Gearbox Calculator'!$C$25/'Gearbox Calculator'!$D$25) -> 166.14758 | N43: =(E43*1000)/(G43*(1000/3600)) -> 2572.1885 | O43: =(E43*1000)/(H43*(1000/3600)) -> 1869.9133 | P43: =(E43*1000)/(I43*(1000/3600)) -> 1466.5987 | Q43: =(E43*1000)/(J43*(1000/3600)) -> 1215.1818 | R43: =(E43*1000)/(K43*(1000/3600)) -> 1071.2547 | S43: =(E43*1000)/(L43*(1000/3600)) -> 953.28915
B44: 8500 | C44: 69 | D44: 62 | E44: =C44*0.7457 -> 51.4533 | G44: =(B44*60*('Gearbox Calculator'!$C$33/'Gearbox Calculator'!$D$33)*('Gearbox Calculator'!$C$24/'Gearbox Calculator'!$D$24)*('Gearbox Calculator'!$C$27*PI())/1000)*('Gearbox Calculator'!$C$25/'Gearbox Calculator'!$D$25) -> 65.425162 | H44: =(B44*60*('Gearbox Calculator'!$C$35/'Gearbox Calculator'!$D$35)*('Gearbox Calculator'!$C$24/'Gearbox Calculator'!$D$24)*('Gearbox Calculator'!$C$27*PI())/1000)*('Gearbox Calculator'!$C$25/'Gearbox Calculator'!$D$25) -> 89.996603 | I44: =(B44*60*('Gearbox Calculator'!$C$37/'Gearbox Calculator'!$D$37)*('Gearbox Calculator'!$C$24/'Gearbox Calculator'!$D$24)*('Gearbox Calculator'!$C$27*PI())/1000)*('Gearbox Calculator'!$C$25/'Gearbox Calculator'!$D$25) -> 114.74567 | J44: =(B44*60*('Gearbox Calculator'!$C$39/'Gearbox Calculator'!$D$39)*('Gearbox Calculator'!$C$24/'Gearbox Calculator'!$D$24)*('Gearbox Calculator'!$C$27*PI())/1000)*('Gearbox Calculator'!$C$25/'Gearbox Calculator'!$D$25) -> 138.48615 | K44: =(B44*60*('Gearbox Calculator'!$C$41/'Gearbox Calculator'!$D$41)*('Gearbox Calculator'!$C$24/'Gearbox Calculator'!$D$24)*('Gearbox Calculator'!$C$27*PI())/1000)*('Gearbox Calculator'!$C$25/'Gearbox Calculator'!$D$25) -> 157.09228 | L44: =(B44*60*('Gearbox Calculator'!$C$43/'Gearbox Calculator'!$D$43)*('Gearbox Calculator'!$C$24/'Gearbox Calculator'!$D$24)*('Gearbox Calculator'!$C$27*PI())/1000)*('Gearbox Calculator'!$C$25/'Gearbox Calculator'!$D$25) -> 176.5318 | N44: =(E44*1000)/(G44*(1000/3600)) -> 2831.2025 | O44: =(E44*1000)/(H44*(1000/3600)) -> 2058.2097 | P44: =(E44*1000)/(I44*(1000/3600)) -> 1614.2821 | Q44: =(E44*1000)/(J44*(1000/3600)) -> 1337.548 | R44: =(E44*1000)/(K44*(1000/3600)) -> 1179.1278 | S44: =(E44*1000)/(L44*(1000/3600)) -> 1049.2834
B45: 9000 | C45: 80 | D45: 67 | E45: =C45*0.7457 -> 59.656 | G45: =(B45*60*('Gearbox Calculator'!$C$33/'Gearbox Calculator'!$D$33)*('Gearbox Calculator'!$C$24/'Gearbox Calculator'!$D$24)*('Gearbox Calculator'!$C$27*PI())/1000)*('Gearbox Calculator'!$C$25/'Gearbox Calculator'!$D$25) -> 69.273701 | H45: =(B45*60*('Gearbox Calculator'!$C$35/'Gearbox Calculator'!$D$35)*('Gearbox Calculator'!$C$24/'Gearbox Calculator'!$D$24)*('Gearbox Calculator'!$C$27*PI())/1000)*('Gearbox Calculator'!$C$25/'Gearbox Calculator'!$D$25) -> 95.290521 | I45: =(B45*60*('Gearbox Calculator'!$C$37/'Gearbox Calculator'!$D$37)*('Gearbox Calculator'!$C$24/'Gearbox Calculator'!$D$24)*('Gearbox Calculator'!$C$27*PI())/1000)*('Gearbox Calculator'!$C$25/'Gearbox Calculator'!$D$25) -> 121.49541 | J45: =(B45*60*('Gearbox Calculator'!$C$39/'Gearbox Calculator'!$D$39)*('Gearbox Calculator'!$C$24/'Gearbox Calculator'!$D$24)*('Gearbox Calculator'!$C$27*PI())/1000)*('Gearbox Calculator'!$C$25/'Gearbox Calculator'!$D$25) -> 146.6324 | K45: =(B45*60*('Gearbox Calculator'!$C$41/'Gearbox Calculator'!$D$41)*('Gearbox Calculator'!$C$24/'Gearbox Calculator'!$D$24)*('Gearbox Calculator'!$C$27*PI())/1000)*('Gearbox Calculator'!$C$25/'Gearbox Calculator'!$D$25) -> 166.33301 | L45: =(B45*60*('Gearbox Calculator'!$C$43/'Gearbox Calculator'!$D$43)*('Gearbox Calculator'!$C$24/'Gearbox Calculator'!$D$24)*('Gearbox Calculator'!$C$27*PI())/1000)*('Gearbox Calculator'!$C$25/'Gearbox Calculator'!$D$25) -> 186.91602 | N45: =(E45*1000)/(G45*(1000/3600)) -> 3100.1895 | O45: =(E45*1000)/(H45*(1000/3600)) -> 2253.7562 | P45: =(E45*1000)/(I45*(1000/3600)) -> 1767.6519 | Q45: =(E45*1000)/(J45*(1000/3600)) -> 1464.6259 | R45: =(E45*1000)/(K45*(1000/3600)) -> 1291.1544 | S45: =(E45*1000)/(L45*(1000/3600)) -> 1148.9737
... B48: 10500 | C48: 91 | D48: 67 | E48: =C48*0.7457 -> 67.8587 | G48: =(B48*60*('Gearbox Calculator'!$C$33/'Gearbox Calculator'!$D$33)*('Gearbox Calculator'!$C$24/'Gearbox Calculator'!$D$24)*('Gearbox Calculator'!$C$27*PI())/1000)*('Gearbox Calculator'!$C$25/'Gearbox Calculator'!$D$25) -> 80.819318 | H48: =(B48*60*('Gearbox Calculator'!$C$35/'Gearbox Calculator'!$D$35)*('Gearbox Calculator'!$C$24/'Gearbox Calculator'!$D$24)*('Gearbox Calculator'!$C$27*PI())/1000)*('Gearbox Calculator'!$C$25/'Gearbox Calculator'!$D$25) -> 111.17227 | I48: =(B48*60*('Gearbox Calculator'!$C$37/'Gearbox Calculator'!$D$37)*('Gearbox Calculator'!$C$24/'Gearbox Calculator'!$D$24)*('Gearbox Calculator'!$C$27*PI())/1000)*('Gearbox Calculator'!$C$25/'Gearbox Calculator'!$D$25) -> 141.74465 | J48: =(B48*60*('Gearbox Calculator'!$C$39/'Gearbox Calculator'!$D$39)*('Gearbox Calculator'!$C$24/'Gearbox Calculator'!$D$24)*('Gearbox Calculator'!$C$27*PI())/1000)*('Gearbox Calculator'!$C$25/'Gearbox Calculator'!$D$25) -> 171.07113 | K48: =(B48*60*('Gearbox Calculator'!$C$41/'Gearbox Calculator'!$D$41)*('Gearbox Calculator'!$C$24/'Gearbox Calculator'!$D$24)*('Gearbox Calculator'!$C$27*PI())/1000)*('Gearbox Calculator'!$C$25/'Gearbox Calculator'!$D$25) -> 194.05518 | L48: =(B48*60*('Gearbox Calculator'!$C$43/'Gearbox Calculator'!$D$43)*('Gearbox Calculator'!$C$24/'Gearbox Calculator'!$D$24)*('Gearbox Calculator'!$C$27*PI())/1000)*('Gearbox Calculator'!$C$25/'Gearbox Calculator'!$D$25) -> 218.06869 | N48: =(E48*1000)/(G48*(1000/3600)) -> 3022.6848 | O48: =(E48*1000)/(H48*(1000/3600)) -> 2197.4123 | P48: =(E48*1000)/(I48*(1000/3600)) -> 1723.4606 | Q48: =(E48*1000)/(J48*(1000/3600)) -> 1428.0102 | R48: =(E48*1000)/(K48*(1000/3600)) -> 1258.8756 | S48: =(E48*1000)/(L48*(1000/3600)) -> 1120.2494

Sheet Bike Drawings

Sheet ZXR750 Data
A1: ZXR750
B2: Front Wheel Radius (m) | C2: ='Wheel Diameter'!O4/2 -> 0.2999 | E2: Front Wheel | F2: X | G2: Y | I2: Rear Wheel | J2: X | K2: Y | M2: Front Sprocket | N2: X | O2: Y | Q2: Rear Sprocket | R2: X | S2: Y | U2: Swingarm | V2: X | W2: Y | Y2: Forks | Z2: X | AA2: Y | AC2: Steering Axis | AD2: X | AE2: Y | AG2: CoG w/R | AH2: X | AI2: Y | AK2: CoG wo/R | AL2: X | AM2: Y
B3: Rear Wheel Radius (m) | C3: ='Wheel Diameter'!T4/2 -> 0.3179 | E3: 0 | F3: =($C$2)*COS(RADIANS(E3)) -> 0.2999 | G3: =(($C$2)*SIN(RADIANS(E3)))+$C$2 -> 0.2999 | I3: 0 | J3: =($C$3)*COS(RADIANS(I3))+($C$14) -> 1.7629 | K3: =(($C$3)*SIN(RADIANS(E3)))+$C$3 -> 0.3179 | M3: 0 | N3: =($C$8/2000)*COS(RADIANS(M3))+($V$4-($C$12/1000)) -> 0.87611696 | O3: =(($C$8/2000)*SIN(RADIANS(M3)))+($C$10/1000) -> 0.42 | Q3: 0 | R3: =($C$9/2000)*COS(RADIANS(Q3))+($C$14) -> 1.567805 | S3: =(($C$9/2000)*SIN(RADIANS(Q3)))+$C$3 -> 0.3179 | U3: At Wheel | V3: =C14 -> 1.445 | W3: =C3 -> 0.3179 | Y3: At Wheel | Z3: 0 | AA3: =C2 -> 0.2999 | AC3: Top | AD3: =Z4+((COS(DEGREES(C5))*C7)/1000) -> 0.30224679 | AE3: =AA4-((ABS(SIN(DEGREES(C5)))*C7)/1000) -> 0.94629602 | AG3: 0 | AH3: =(0.01)*COS(RADIANS(AG3))+'Centre of Gravity'!$F$17 -> 0.76518971 | AI3: =((0.01)*SIN(RADIANS(AG3)))+'Centre of Gravity'!$F$18 -> 0.7277691 | AK3: 0 | AL3: =(0.01)*COS(RADIANS(AK3))+'Centre of Gravity'!$E$17 -> 0.67898148 | AM3: =((0.01)*SIN(RADIANS(AK3)))+'Centre of Gravity'!$E$18 -> 0.53921708
B4: Rake Angle Specs (degrees) | C4: 24.5 | E4: 1 | F4: =($C$2)*COS(RADIANS(E4)) -> 0.29985432 | G4: =(($C$2)*SIN(RADIANS(E4)))+$C$2 -> 0.30513398 | I4: 1 | J4: =($C$3)*COS(RADIANS(I4))+($C$14) -> 1.7628516 | K4: =(($C$3)*SIN(RADIANS(E4)))+$C$3 -> 0.32344812 | M4: 1 | N4: =($C$8/2000)*COS(RADIANS(M4))+($V$4-($C$12/1000)) -> 0.87611054 | O4: =(($C$8/2000)*SIN(RADIANS(M4)))+($C$10/1000) -> 0.42073553 | Q4: 1 | R4: =($C$9/2000)*COS(RADIANS(Q4))+($C$14) -> 1.5677863 | S4: =(($C$9/2000)*SIN(RADIANS(Q4)))+$C$3 -> 0.32004324 | U4: At Pivot | V4: =(C14)-(SQRT((C13^2)-((C11-(C3*1000))^2))/1000) -> 0.92397196 | W4: =C11/1000 -> 0.42 | Y4: At Top | Z4: =(ABS(SIN(DEGREES(C5)))*C6)/1000 -> 0.27244518 | AA4: =(COS(DEGREES(C5))*C6)/1000+AA3 -> 0.95862186 | AC4: Bottom | AD4: =0-(ABS(TAN(DEGREES(C5)))*(AE3))+AD3 -> -0.089138104 | AE4: 0 | AG4: 1 | AH4: =(0.01)*COS(RADIANS(AG4))+'Centre of Gravity'!$F$17 -> 0.76518819 | AI4: =((0.01)*SIN(RADIANS(AG4)))+'Centre of Gravity'!$F$18 -> 0.72794362 | AK4: 1 | AL4: =(0.01)*COS(RADIANS(AK4))+'Centre of Gravity'!$E$17 -> 0.67897996 | AM4: =((0.01)*SIN(RADIANS(AK4)))+'Centre of Gravity'!$E$18 -> 0.5393916
B5: Rake Angle Measured (degrees) | C5: 20.5 | E5: 2 | F5: =($C$2)*COS(RADIANS(E5)) -> 0.29971731 | G5: =(($C$2)*SIN(RADIANS(E5)))+$C$2 -> 0.31036636 | I5: 2 | J5: =($C$3)*COS(RADIANS(I5))+($C$14) -> 1.7627063 | K5: =(($C$3)*SIN(RADIANS(E5)))+$C$3 -> 0.32899455 | M5: 2 | N5: =($C$8/2000)*COS(RADIANS(M5))+($V$4-($C$12/1000)) -> 0.87609129 | O5: =(($C$8/2000)*SIN(RADIANS(M5)))+($C$10/1000) -> 0.42147084 | Q5: 2 | R5: =($C$9/2000)*COS(RADIANS(Q5))+($C$14) -> 1.5677302 | S5: =(($C$9/2000)*SIN(RADIANS(Q5)))+$C$3 -> 0.32218583 | AG5: 2 | AH5: =(0.01)*COS(RADIANS(AG5))+'Centre of Gravity'!$F$17 -> 0.76518362 | AI5: =((0.01)*SIN(RADIANS(AG5)))+'Centre of Gravity'!$F$18 -> 0.72811809 | AK5: 2 | AL5: =(0.01)*COS(RADIANS(AK5))+'Centre of Gravity'!$E$17 -> 0.67897539 | AM5: =((0.01)*SIN(RADIANS(AK5)))+'Centre of Gravity'!$E$18 -> 0.53956607
B6: Fork Length Measured (mm) | C6: 712.84 | E6: 3 | F6: =($C$2)*COS(RADIANS(E6)) -> 0.299489 | G6: =(($C$2)*SIN(RADIANS(E6)))+$C$2 -> 0.31559555 | I6: 3 | J6: =($C$3)*COS(RADIANS(I6))+($C$14) -> 1.7624643 | K6: =(($C$3)*SIN(RADIANS(E6)))+$C$3 -> 0.3345376 | M6: 3 | N6: =($C$8/2000)*COS(RADIANS(M6))+($V$4-($C$12/1000)) -> 0.8760592 | O6: =(($C$8/2000)*SIN(RADIANS(M6)))+($C$10/1000) -> 0.4222057 | Q6: 3 | R6: =($C$9/2000)*COS(RADIANS(Q6))+($C$14) -> 1.5676367 | S6: =(($C$9/2000)*SIN(RADIANS(Q6)))+$C$3 -> 0.32432712 | AG6: 3 | AH6: =(0.01)*COS(RADIANS(AG6))+'Centre of Gravity'!$F$17 -> 0.76517601 | AI6: =((0.01)*SIN(RADIANS(AG6)))+'Centre of Gravity'!$F$18 -> 0.72829246 | AK6: 3 | AL6: =(0.01)*COS(RADIANS(AK6))+'Centre of Gravity'!$E$17 -> 0.67896778 | AM6: =((0.01)*SIN(RADIANS(AK6)))+'Centre of Gravity'!$E$18 -> 0.53974044
B7: Triple Clamp Offset Measured (mm) | C7: ='Trail Calculation'!F5 -> 32.25 | E7: 4 | F7: =($C$2)*COS(RADIANS(E7)) -> 0.29916946 | G7: =(($C$2)*SIN(RADIANS(E7)))+$C$2 -> 0.32081997 | I7: 4 | J7: =($C$3)*COS(RADIANS(I7))+($C$14) -> 1.7621256 | K7: =(($C$3)*SIN(RADIANS(E7)))+$C$3 -> 0.34007558 | M7: 4 | N7: =($C$8/2000)*COS(RADIANS(M7))+($V$4-($C$12/1000)) -> 0.8760143 | O7: =(($C$8/2000)*SIN(RADIANS(M7)))+($C$10/1000) -> 0.42293989 | Q7: 4 | R7: =($C$9/2000)*COS(RADIANS(Q7))+($C$14) -> 1.5675059 | S7: =(($C$9/2000)*SIN(RADIANS(Q7)))+$C$3 -> 0.32646644 | AG7: 4 | AH7: =(0.01)*COS(RADIANS(AG7))+'Centre of Gravity'!$F$17 -> 0.76516535 | AI7: =((0.01)*SIN(RADIANS(AG7)))+'Centre of Gravity'!$F$18 -> 0.72846666 | AK7: 4 | AL7: =(0.01)*COS(RADIANS(AK7))+'Centre of Gravity'!$E$17 -> 0.67895712 | AM7: =((0.01)*SIN(RADIANS(AK7)))+'Centre of Gravity'!$E$18 -> 0.53991464
B8: Front Sprocket Diameter (mm) | C8: 84.29 | E8: 5 | F8: =($C$2)*COS(RADIANS(E8)) -> 0.29875879 | G8: =(($C$2)*SIN(RADIANS(E8)))+$C$2 -> 0.32603801 | I8: 5 | J8: =($C$3)*COS(RADIANS(I8))+($C$14) -> 1.7616903 | K8: =(($C$3)*SIN(RADIANS(E8)))+$C$3 -> 0.34560681 | M8: 5 | N8: =($C$8/2000)*COS(RADIANS(M8))+($V$4-($C$12/1000)) -> 0.87595659 | O8: =(($C$8/2000)*SIN(RADIANS(M8)))+($C$10/1000) -> 0.42367318 | Q8: 5 | R8: =($C$9/2000)*COS(RADIANS(Q8))+($C$14) -> 1.5673377 | S8: =(($C$9/2000)*SIN(RADIANS(Q8)))+$C$3 -> 0.32860316 | AG8: 5 | AH8: =(0.01)*COS(RADIANS(AG8))+'Centre of Gravity'!$F$17 -> 0.76515166 | AI8: =((0.01)*SIN(RADIANS(AG8)))+'Centre of Gravity'!$F$18 -> 0.72864066 | AK8: 5 | AL8: =(0.01)*COS(RADIANS(AK8))+'Centre of Gravity'!$E$17 -> 0.67894343 | AM8: =((0.01)*SIN(RADIANS(AK8)))+'Centre of Gravity'!$E$18 -> 0.54008863
B9: Rear Sprocket Diameter (mm) | C9: 245.61 | E9: 6 | F9: =($C$2)*COS(RADIANS(E9)) -> 0.29825712 | G9: =(($C$2)*SIN(RADIANS(E9)))+$C$2 -> 0.33124809 | I9: 6 | J9: =($C$3)*COS(RADIANS(I9))+($C$14) -> 1.7611585 | K9: =(($C$3)*SIN(RADIANS(E9)))+$C$3 -> 0.3511296 | M9: 6 | N9: =($C$8/2000)*COS(RADIANS(M9))+($V$4-($C$12/1000)) -> 0.87588608 | O9: =(($C$8/2000)*SIN(RADIANS(M9)))+($C$10/1000) -> 0.42440535 | Q9: 6 | R9: =($C$9/2000)*COS(RADIANS(Q9))+($C$14) -> 1.5671323 | S9: =(($C$9/2000)*SIN(RADIANS(Q9)))+$C$3 -> 0.33073662 | AG9: 6 | AH9: =(0.01)*COS(RADIANS(AG9))+'Centre of Gravity'!$F$17 -> 0.76513493 | AI9: =((0.01)*SIN(RADIANS(AG9)))+'Centre of Gravity'!$F$18 -> 0.72881438 | AK9: 6 | AL9: =(0.01)*COS(RADIANS(AK9))+'Centre of Gravity'!$E$17 -> 0.6789267 | AM9: =((0.01)*SIN(RADIANS(AK9)))+'Centre of Gravity'!$E$18 -> 0.54026236
B10: Front Sprocket Height from floor (mm) | C10: 420 | E10: 7 | F10: =($C$2)*COS(RADIANS(E10)) -> 0.29766459 | G10: =(($C$2)*SIN(RADIANS(E10)))+$C$2 -> 0.33644862 | I10: 7 | J10: =($C$3)*COS(RADIANS(I10))+($C$14) -> 1.7605304 | K10: =(($C$3)*SIN(RADIANS(E10)))+$C$3 -> 0.35664226 | M10: 7 | N10: =($C$8/2000)*COS(RADIANS(M10))+($V$4-($C$12/1000)) -> 0.87580282 | O10: =(($C$8/2000)*SIN(RADIANS(M10)))+($C$10/1000) -> 0.42513618 | Q10: 7 | R10: =($C$9/2000)*COS(RADIANS(Q10))+($C$14) -> 1.5668896 | S10: =(($C$9/2000)*SIN(RADIANS(Q10)))+$C$3 -> 0.33286616 | AG10: 7 | AH10: =(0.01)*COS(RADIANS(AG10))+'Centre of Gravity'!$F$17 -> 0.76511517 | AI10: =((0.01)*SIN(RADIANS(AG10)))+'Centre of Gravity'!$F$18 -> 0.72898779 | AK10: 7 | AL10: =(0.01)*COS(RADIANS(AK10))+'Centre of Gravity'!$E$17 -> 0.67890694 | AM10: =((0.01)*SIN(RADIANS(AK10)))+'Centre of Gravity'!$E$18 -> 0.54043577
B11: Swingarm Pivot Height from floor (mm) | C11: 420 | E11: 8 | F11: =($C$2)*COS(RADIANS(E11)) -> 0.29698139 | G11: =(($C$2)*SIN(RADIANS(E11)))+$C$2 -> 0.34163801 | I11: 8 | J11: =($C$3)*COS(RADIANS(I11))+($C$14) -> 1.7598062 | K11: =(($C$3)*SIN(RADIANS(E11)))+$C$3 -> 0.36214313 | M11: 8 | N11: =($C$8/2000)*COS(RADIANS(M11))+($V$4-($C$12/1000)) -> 0.87570681 | O11: =(($C$8/2000)*SIN(RADIANS(M11)))+($C$10/1000) -> 0.42586545 | Q11: 8 | R11: =($C$9/2000)*COS(RADIANS(Q11))+($C$14) -> 1.5666099 | S11: =(($C$9/2000)*SIN(RADIANS(Q11)))+$C$3 -> 0.33499115 | AG11: 8 | AH11: =(0.01)*COS(RADIANS(AG11))+'Centre of Gravity'!$F$17 -> 0.76509239 | AI11: =((0.01)*SIN(RADIANS(AG11)))+'Centre of Gravity'!$F$18 -> 0.72916083 | AK11: 8 | AL11: =(0.01)*COS(RADIANS(AK11))+'Centre of Gravity'!$E$17 -> 0.67888416 | AM11: =((0.01)*SIN(RADIANS(AK11)))+'Centre of Gravity'!$E$18 -> 0.54060881
B12: Swingarm Pivot to F Sprocket (mm) | C12: 90 | E12: 9 | F12: =($C$2)*COS(RADIANS(E12)) -> 0.29620773 | G12: =(($C$2)*SIN(RADIANS(E12)))+$C$2 -> 0.3468147 | I12: 9 | J12: =($C$3)*COS(RADIANS(I12))+($C$14) -> 1.7589861 | K12: =(($C$3)*SIN(RADIANS(E12)))+$C$3 -> 0.36763052 | M12: 9 | N12: =($C$8/2000)*COS(RADIANS(M12))+($V$4-($C$12/1000)) -> 0.87559808 | O12: =(($C$8/2000)*SIN(RADIANS(M12)))+($C$10/1000) -> 0.42659293 | Q12: 9 | R12: =($C$9/2000)*COS(RADIANS(Q12))+($C$14) -> 1.5662931 | S12: =(($C$9/2000)*SIN(RADIANS(Q12)))+$C$3 -> 0.33711093 | AG12: 9 | AH12: =(0.01)*COS(RADIANS(AG12))+'Centre of Gravity'!$F$17 -> 0.7650666 | AI12: =((0.01)*SIN(RADIANS(AG12)))+'Centre of Gravity'!$F$18 -> 0.72933344 | AK12: 9 | AL12: =(0.01)*COS(RADIANS(AK12))+'Centre of Gravity'!$E$17 -> 0.67885836 | AM12: =((0.01)*SIN(RADIANS(AK12)))+'Centre of Gravity'!$E$18 -> 0.54078142
B13: Swingarm Length (mm) | C13: ='Gearbox Calculator'!N27 -> 530.9375 | E13: 10 | F13: =($C$2)*COS(RADIANS(E13)) -> 0.29534385 | G13: =(($C$2)*SIN(RADIANS(E13)))+$C$2 -> 0.35197709 | I13: 10 | J13: =($C$3)*COS(RADIANS(I13))+($C$14) -> 1.7580704 | K13: =(($C$3)*SIN(RADIANS(E13)))+$C$3 -> 0.37310276 | M13: 10 | N13: =($C$8/2000)*COS(RADIANS(M13))+($V$4-($C$12/1000)) -> 0.87547668 | O13: =(($C$8/2000)*SIN(RADIANS(M13)))+($C$10/1000) -> 0.4273184 | Q13: 10 | R13: =($C$9/2000)*COS(RADIANS(Q13))+($C$14) -> 1.5659393 | S13: =(($C$9/2000)*SIN(RADIANS(Q13)))+$C$3 -> 0.33922486 | AG13: 10 | AH13: =(0.01)*COS(RADIANS(AG13))+'Centre of Gravity'!$F$17 -> 0.76503779 | AI13: =((0.01)*SIN(RADIANS(AG13)))+'Centre of Gravity'!$F$18 -> 0.72950558 | AK13: 10 | AL13: =(0.01)*COS(RADIANS(AK13))+'Centre of Gravity'!$E$17 -> 0.67882956 | AM13: =((0.01)*SIN(RADIANS(AK13)))+'Centre of Gravity'!$E$18 -> 0.54095356
B14: Wheelbase (m) | C14: ='Centre of Gravity'!C16 -> 1.445 | E14: 11 | F14: =($C$2)*COS(RADIANS(E14)) -> 0.29438999 | G14: =(($C$2)*SIN(RADIANS(E14)))+$C$2 -> 0.35712362 | I14: 11 | J14: =($C$3)*COS(RADIANS(I14))+($C$14) -> 1.7570593 | K14: =(($C$3)*SIN(RADIANS(E14)))+$C$3 -> 0.37855818 | M14: 11 | N14: =($C$8/2000)*COS(RADIANS(M14))+($V$4-($C$12/1000)) -> 0.87534264 | O14: =(($C$8/2000)*SIN(RADIANS(M14)))+($C$10/1000) -> 0.42804165 | Q14: 11 | R14: =($C$9/2000)*COS(RADIANS(Q14))+($C$14) -> 1.5655487 | S14: =(($C$9/2000)*SIN(RADIANS(Q14)))+$C$3 -> 0.3413323 | AG14: 11 | AH14: =(0.01)*COS(RADIANS(AG14))+'Centre of Gravity'!$F$17 -> 0.76500598 | AI14: =((0.01)*SIN(RADIANS(AG14)))+'Centre of Gravity'!$F$18 -> 0.72967719 | AK14: 11 | AL14: =(0.01)*COS(RADIANS(AK14))+'Centre of Gravity'!$E$17 -> 0.67879775 | AM14: =((0.01)*SIN(RADIANS(AK14)))+'Centre of Gravity'!$E$18 -> 0.54112517
B15: CoG X | C15: ='Centre of Gravity'!F17 -> 0.75518971 | E15: 12 | F15: =($C$2)*COS(RADIANS(E15)) -> 0.29334647 | G15: =(($C$2)*SIN(RADIANS(E15)))+$C$2 -> 0.36225272 | I15: 12 | J15: =($C$3)*COS(RADIANS(I15))+($C$14) -> 1.7559531 | K15: =(($C$3)*SIN(RADIANS(E15)))+$C$3 -> 0.38399513 | M15: 12 | N15: =($C$8/2000)*COS(RADIANS(M15))+($V$4-($C$12/1000)) -> 0.87519599 | O15: =(($C$8/2000)*SIN(RADIANS(M15)))+($C$10/1000) -> 0.42876244 | Q15: 12 | R15: =($C$9/2000)*COS(RADIANS(Q15))+($C$14) -> 1.5651214 | S15: =(($C$9/2000)*SIN(RADIANS(Q15)))+$C$3 -> 0.3434326 | AG15: 12 | AH15: =(0.01)*COS(RADIANS(AG15))+'Centre of Gravity'!$F$17 -> 0.76497119 | AI15: =((0.01)*SIN(RADIANS(AG15)))+'Centre of Gravity'!$F$18 -> 0.72984822 | AK15: 12 | AL15: =(0.01)*COS(RADIANS(AK15))+'Centre of Gravity'!$E$17 -> 0.67876296 | AM15: =((0.01)*SIN(RADIANS(AK15)))+'Centre of Gravity'!$E$18 -> 0.54129619
B16: CoG Y | C16: ='Centre of Gravity'!F18 -> 0.7277691 | E16: 13 | F16: =($C$2)*COS(RADIANS(E16)) -> 0.29221358 | G16: =(($C$2)*SIN(RADIANS(E16)))+$C$2 -> 0.36736282 | I16: 13 | J16: =($C$3)*COS(RADIANS(I16))+($C$14) -> 1.7547522 | K16: =(($C$3)*SIN(RADIANS(E16)))+$C$3 -> 0.38941194 | M16: 13 | N16: =($C$8/2000)*COS(RADIANS(M16))+($V$4-($C$12/1000)) -> 0.87503679 | O16: =(($C$8/2000)*SIN(RADIANS(M16)))+($C$10/1000) -> 0.42948056 | Q16: 13 | R16: =($C$9/2000)*COS(RADIANS(Q16))+($C$14) -> 1.5646575 | S16: =(($C$9/2000)*SIN(RADIANS(Q16)))+$C$3 -> 0.34552511 | AG16: 13 | AH16: =(0.01)*COS(RADIANS(AG16))+'Centre of Gravity'!$F$17 -> 0.76493341 | AI16: =((0.01)*SIN(RADIANS(AG16)))+'Centre of Gravity'!$F$18 -> 0.73001861 | AK16: 13 | AL16: =(0.01)*COS(RADIANS(AK16))+'Centre of Gravity'!$E$17 -> 0.67872518 | AM16: =((0.01)*SIN(RADIANS(AK16)))+'Centre of Gravity'!$E$18 -> 0.54146659
E17: 14 | F17: =($C$2)*COS(RADIANS(E17)) -> 0.29099169 | G17: =(($C$2)*SIN(RADIANS(E17)))+$C$2 -> 0.37245238 | I17: 14 | J17: =($C$3)*COS(RADIANS(I17))+($C$14) -> 1.753457 | K17: =(($C$3)*SIN(RADIANS(E17)))+$C$3 -> 0.39480697 | M17: 14 | N17: =($C$8/2000)*COS(RADIANS(M17))+($V$4-($C$12/1000)) -> 0.87486507 | O17: =(($C$8/2000)*SIN(RADIANS(M17)))+($C$10/1000) -> 0.4301958 | Q17: 14 | R17: =($C$9/2000)*COS(RADIANS(Q17))+($C$14) -> 1.5641572 | S17: =(($C$9/2000)*SIN(RADIANS(Q17)))+$C$3 -> 0.34760922 | AG17: 14 | AH17: =(0.01)*COS(RADIANS(AG17))+'Centre of Gravity'!$F$17 -> 0.76489267 | AI17: =((0.01)*SIN(RADIANS(AG17)))+'Centre of Gravity'!$F$18 -> 0.73018832 | AK17: 14 | AL17: =(0.01)*COS(RADIANS(AK17))+'Centre of Gravity'!$E$17 -> 0.67868444 | AM17: =((0.01)*SIN(RADIANS(AK17)))+'Centre of Gravity'!$E$18 -> 0.5416363
E18: 15 | F18: =($C$2)*COS(RADIANS(E18)) -> 0.28968116 | G18: =(($C$2)*SIN(RADIANS(E18)))+$C$2 -> 0.37751983 | I18: 15 | J18: =($C$3)*COS(RADIANS(I18))+($C$14) -> 1.7520678 | K18: =(($C$3)*SIN(RADIANS(E18)))+$C$3 -> 0.40017857 | M18: 15 | N18: =($C$8/2000)*COS(RADIANS(M18))+($V$4-($C$12/1000)) -> 0.8746809 | O18: =(($C$8/2000)*SIN(RADIANS(M18)))+($C$10/1000) -> 0.43090793 | Q18: 15 | R18: =($C$9/2000)*COS(RADIANS(Q18))+($C$14) -> 1.5636205 | S18: =(($C$9/2000)*SIN(RADIANS(Q18)))+$C$3 -> 0.34968427 | AG18: 15 | AH18: =(0.01)*COS(RADIANS(AG18))+'Centre of Gravity'!$F$17 -> 0.76484897 | AI18: =((0.01)*SIN(RADIANS(AG18)))+'Centre of Gravity'!$F$18 -> 0.73035729 | AK18: 15 | AL18: =(0.01)*COS(RADIANS(AK18))+'Centre of Gravity'!$E$17 -> 0.67864074 | AM18: =((0.01)*SIN(RADIANS(AK18)))+'Centre of Gravity'!$E$18 -> 0.54180527
E19: 16 | F19: =($C$2)*COS(RADIANS(E19)) -> 0.28828238 | G19: =(($C$2)*SIN(RADIANS(E19)))+$C$2 -> 0.38256364 | I19: 16 | J19: =($C$3)*COS(RADIANS(I19))+($C$14) -> 1.7505851 | K19: =(($C$3)*SIN(RADIANS(E19)))+$C$3 -> 0.40552512 | M19: 16 | N19: =($C$8/2000)*COS(RADIANS(M19))+($V$4-($C$12/1000)) -> 0.87448433 | O19: =(($C$8/2000)*SIN(RADIANS(M19)))+($C$10/1000) -> 0.43161674 | Q19: 16 | R19: =($C$9/2000)*COS(RADIANS(Q19))+($C$14) -> 1.5630477 | S19: =(($C$9/2000)*SIN(RADIANS(Q19)))+$C$3 -> 0.35174965 | AG19: 16 | AH19: =(0.01)*COS(RADIANS(AG19))+'Centre of Gravity'!$F$17 -> 0.76480233 | AI19: =((0.01)*SIN(RADIANS(AG19)))+'Centre of Gravity'!$F$18 -> 0.73052547 | AK19: 16 | AL19: =(0.01)*COS(RADIANS(AK19))+'Centre of Gravity'!$E$17 -> 0.6785941 | AM19: =((0.01)*SIN(RADIANS(AK19)))+'Centre of Gravity'!$E$18 -> 0.54197345
E20: 17 | F20: =($C$2)*COS(RADIANS(E20)) -> 0.2867958 | G20: =(($C$2)*SIN(RADIANS(E20)))+$C$2 -> 0.38758227 | I20: 17 | J20: =($C$3)*COS(RADIANS(I20))+($C$14) -> 1.7490093 | K20: =(($C$3)*SIN(RADIANS(E20)))+$C$3 -> 0.41084496 | M20: 17 | N20: =($C$8/2000)*COS(RADIANS(M20))+($V$4-($C$12/1000)) -> 0.87427542 | O20: =(($C$8/2000)*SIN(RADIANS(M20)))+($C$10/1000) -> 0.43232201 | Q20: 17 | R20: =($C$9/2000)*COS(RADIANS(Q20))+($C$14) -> 1.562439 | S20: =(($C$9/2000)*SIN(RADIANS(Q20)))+$C$3 -> 0.35380471 | AG20: 17 | AH20: =(0.01)*COS(RADIANS(AG20))+'Centre of Gravity'!$F$17 -> 0.76475276 | AI20: =((0.01)*SIN(RADIANS(AG20)))+'Centre of Gravity'!$F$18 -> 0.73069282 | AK20: 17 | AL20: =(0.01)*COS(RADIANS(AK20))+'Centre of Gravity'!$E$17 -> 0.67854453 | AM20: =((0.01)*SIN(RADIANS(AK20)))+'Centre of Gravity'!$E$18 -> 0.54214079
E21: 18 | F21: =($C$2)*COS(RADIANS(E21)) -> 0.28522185 | G21: =(($C$2)*SIN(RADIANS(E21)))+$C$2 -> 0.3925742 | I21: 18 | J21: =($C$3)*COS(RADIANS(I21))+($C$14) -> 1.7473409 | K21: =(($C$3)*SIN(RADIANS(E21)))+$C$3 -> 0.4161365 | M21: 18 | N21: =($C$8/2000)*COS(RADIANS(M21))+($V$4-($C$12/1000)) -> 0.87405424 | O21: =(($C$8/2000)*SIN(RADIANS(M21)))+($C$10/1000) -> 0.43302352 | Q21: 18 | R21: =($C$9/2000)*COS(RADIANS(Q21))+($C$14) -> 1.5617945 | S21: =(($C$9/2000)*SIN(RADIANS(Q21)))+$C$3 -> 0.35584883 | AG21: 18 | AH21: =(0.01)*COS(RADIANS(AG21))+'Centre of Gravity'!$F$17 -> 0.76470028 | AI21: =((0.01)*SIN(RADIANS(AG21)))+'Centre of Gravity'!$F$18 -> 0.73085927 | AK21: 18 | AL21: =(0.01)*COS(RADIANS(AK21))+'Centre of Gravity'!$E$17 -> 0.67849205 | AM21: =((0.01)*SIN(RADIANS(AK21)))+'Centre of Gravity'!$E$18 -> 0.54230725
E22: 19 | F22: =($C$2)*COS(RADIANS(E22)) -> 0.28356102 | G22: =(($C$2)*SIN(RADIANS(E22)))+$C$2 -> 0.39753789 | I22: 19 | J22: =($C$3)*COS(RADIANS(I22))+($C$14) -> 1.7455804 | K22: =(($C$3)*SIN(RADIANS(E22)))+$C$3 -> 0.42139812 | M22: 19 | N22: =($C$8/2000)*COS(RADIANS(M22))+($V$4-($C$12/1000)) -> 0.87382084 | O22: =(($C$8/2000)*SIN(RADIANS(M22)))+($C$10/1000) -> 0.43372107 | Q22: 19 | R22: =($C$9/2000)*COS(RADIANS(Q22))+($C$14) -> 1.5611144 | S22: =(($C$9/2000)*SIN(RADIANS(Q22)))+$C$3 -> 0.3578814 | AG22: 19 | AH22: =(0.01)*COS(RADIANS(AG22))+'Centre of Gravity'!$F$17 -> 0.7646449 | AI22: =((0.01)*SIN(RADIANS(AG22)))+'Centre of Gravity'!$F$18 -> 0.73102478 | AK22: 19 | AL22: =(0.01)*COS(RADIANS(AK22))+'Centre of Gravity'!$E$17 -> 0.67843667 | AM22: =((0.01)*SIN(RADIANS(AK22)))+'Centre of Gravity'!$E$18 -> 0.54247276
E23: 20 | F23: =($C$2)*COS(RADIANS(E23)) -> 0.28181382 | G23: =(($C$2)*SIN(RADIANS(E23)))+$C$2 -> 0.40247184 | I23: 20 | J23: =($C$3)*COS(RADIANS(I23))+($C$14) -> 1.7437283 | K23: =(($C$3)*SIN(RADIANS(E23)))+$C$3 -> 0.4266282 | M23: 20 | N23: =($C$8/2000)*COS(RADIANS(M23))+($V$4-($C$12/1000)) -> 0.87357531 | O23: =(($C$8/2000)*SIN(RADIANS(M23)))+($C$10/1000) -> 0.43441444 | Q23: 20 | R23: =($C$9/2000)*COS(RADIANS(Q23))+($C$14) -> 1.560399 | S23: =(($C$9/2000)*SIN(RADIANS(Q23)))+$C$3 -> 0.35990178 | AG23: 20 | AH23: =(0.01)*COS(RADIANS(AG23))+'Centre of Gravity'!$F$17 -> 0.76458664 | AI23: =((0.01)*SIN(RADIANS(AG23)))+'Centre of Gravity'!$F$18 -> 0.7311893 | AK23: 20 | AL23: =(0.01)*COS(RADIANS(AK23))+'Centre of Gravity'!$E$17 -> 0.67837841 | AM23: =((0.01)*SIN(RADIANS(AK23)))+'Centre of Gravity'!$E$18 -> 0.54263728
E24: 21 | F24: =($C$2)*COS(RADIANS(E24)) -> 0.27998077 | G24: =(($C$2)*SIN(RADIANS(E24)))+$C$2 -> 0.40737455 | I24: 21 | J24: =($C$3)*COS(RADIANS(I24))+($C$14) -> 1.7417852 | K24: =(($C$3)*SIN(RADIANS(E24)))+$C$3 -> 0.43182517 | M24: 21 | N24: =($C$8/2000)*COS(RADIANS(M24))+($V$4-($C$12/1000)) -> 0.87331771 | O24: =(($C$8/2000)*SIN(RADIANS(M24)))+($C$10/1000) -> 0.43510342 | Q24: 21 | R24: =($C$9/2000)*COS(RADIANS(Q24))+($C$14) -> 1.5596483 | S24: =(($C$9/2000)*SIN(RADIANS(Q24)))+$C$3 -> 0.36190938 | AG24: 21 | AH24: =(0.01)*COS(RADIANS(AG24))+'Centre of Gravity'!$F$17 -> 0.76452552 | AI24: =((0.01)*SIN(RADIANS(AG24)))+'Centre of Gravity'!$F$18 -> 0.73135278 | AK24: 21 | AL24: =(0.01)*COS(RADIANS(AK24))+'Centre of Gravity'!$E$17 -> 0.67831729 | AM24: =((0.01)*SIN(RADIANS(AK24)))+'Centre of Gravity'!$E$18 -> 0.54280076
E25: 22 | F25: =($C$2)*COS(RADIANS(E25)) -> 0.27806244 | G25: =(($C$2)*SIN(RADIANS(E25)))+$C$2 -> 0.41224452 | I25: 22 | J25: =($C$3)*COS(RADIANS(I25))+($C$14) -> 1.7397517 | K25: =(($C$3)*SIN(RADIANS(E25)))+$C$3 -> 0.43698744 | M25: 22 | N25: =($C$8/2000)*COS(RADIANS(M25))+($V$4-($C$12/1000)) -> 0.87304812 | O25: =(($C$8/2000)*SIN(RADIANS(M25)))+($C$10/1000) -> 0.43578779 | Q25: 22 | R25: =($C$9/2000)*COS(RADIANS(Q25))+($C$14) -> 1.5588628 | S25: =(($C$9/2000)*SIN(RADIANS(Q25)))+$C$3 -> 0.36390356 | AG25: 22 | AH25: =(0.01)*COS(RADIANS(AG25))+'Centre of Gravity'!$F$17 -> 0.76446155 | AI25: =((0.01)*SIN(RADIANS(AG25)))+'Centre of Gravity'!$F$18 -> 0.73151516 | AK25: 22 | AL25: =(0.01)*COS(RADIANS(AK25))+'Centre of Gravity'!$E$17 -> 0.67825332 | AM25: =((0.01)*SIN(RADIANS(AK25)))+'Centre of Gravity'!$E$18 -> 0.54296314
E26: 23 | F26: =($C$2)*COS(RADIANS(E26)) -> 0.27605941 | G26: =(($C$2)*SIN(RADIANS(E26)))+$C$2 -> 0.41708027 | I26: 23 | J26: =($C$3)*COS(RADIANS(I26))+($C$14) -> 1.7376285 | K26: =(($C$3)*SIN(RADIANS(E26)))+$C$3 -> 0.44211343 | M26: 23 | N26: =($C$8/2000)*COS(RADIANS(M26))+($V$4-($C$12/1000)) -> 0.87276664 | O26: =(($C$8/2000)*SIN(RADIANS(M26)))+($C$10/1000) -> 0.43646736 | Q26: 23 | R26: =($C$9/2000)*COS(RADIANS(Q26))+($C$14) -> 1.5580426 | S26: =(($C$9/2000)*SIN(RADIANS(Q26)))+$C$3 -> 0.36588374 | AG26: 23 | AH26: =(0.01)*COS(RADIANS(AG26))+'Centre of Gravity'!$F$17 -> 0.76439476 | AI26: =((0.01)*SIN(RADIANS(AG26)))+'Centre of Gravity'!$F$18 -> 0.73167641 | AK26: 23 | AL26: =(0.01)*COS(RADIANS(AK26))+'Centre of Gravity'!$E$17 -> 0.67818653 | AM26: =((0.01)*SIN(RADIANS(AK26)))+'Centre of Gravity'!$E$18 -> 0.54312439
E27: 24 | F27: =($C$2)*COS(RADIANS(E27)) -> 0.27397228 | G27: =(($C$2)*SIN(RADIANS(E27)))+$C$2 -> 0.42188032 | I27: 24 | J27: =($C$3)*COS(RADIANS(I27))+($C$14) -> 1.7354161 | K27: =(($C$3)*SIN(RADIANS(E27)))+$C$3 -> 0.44720158 | M27: 24 | N27: =($C$8/2000)*COS(RADIANS(M27))+($V$4-($C$12/1000)) -> 0.87247333 | O27: =(($C$8/2000)*SIN(RADIANS(M27)))+($C$10/1000) -> 0.43714192 | Q27: 24 | R27: =($C$9/2000)*COS(RADIANS(Q27))+($C$14) -> 1.5571879 | S27: =(($C$9/2000)*SIN(RADIANS(Q27)))+$C$3 -> 0.36784929 | AG27: 24 | AH27: =(0.01)*COS(RADIANS(AG27))+'Centre of Gravity'!$F$17 -> 0.76432517 | AI27: =((0.01)*SIN(RADIANS(AG27)))+'Centre of Gravity'!$F$18 -> 0.73183646 | AK27: 24 | AL27: =(0.01)*COS(RADIANS(AK27))+'Centre of Gravity'!$E$17 -> 0.67811694 | AM27: =((0.01)*SIN(RADIANS(AK27)))+'Centre of Gravity'!$E$18 -> 0.54328444
E28: 25 | F28: =($C$2)*COS(RADIANS(E28)) -> 0.27180171 | G28: =(($C$2)*SIN(RADIANS(E28)))+$C$2 -> 0.42664322 | I28: 25 | J28: =($C$3)*COS(RADIANS(I28))+($C$14) -> 1.7331152 | K28: =(($C$3)*SIN(RADIANS(E28)))+$C$3 -> 0.45225035 | M28: 25 | N28: =($C$8/2000)*COS(RADIANS(M28))+($V$4-($C$12/1000)) -> 0.8721683 | O28: =(($C$8/2000)*SIN(RADIANS(M28)))+($C$10/1000) -> 0.43781125 | Q28: 25 | R28: =($C$9/2000)*COS(RADIANS(Q28))+($C$14) -> 1.5562991 | S28: =(($C$9/2000)*SIN(RADIANS(Q28)))+$C$3 -> 0.36979964 | AG28: 25 | AH28: =(0.01)*COS(RADIANS(AG28))+'Centre of Gravity'!$F$17 -> 0.76425279 | AI28: =((0.01)*SIN(RADIANS(AG28)))+'Centre of Gravity'!$F$18 -> 0.73199528 | AK28: 25 | AL28: =(0.01)*COS(RADIANS(AK28))+'Centre of Gravity'!$E$17 -> 0.67804456 | AM28: =((0.01)*SIN(RADIANS(AK28)))+'Centre of Gravity'!$E$18 -> 0.54344326
... E362: 359 | F362: =($C$2)*COS(RADIANS(E362)) -> 0.29985432 | G362: =(($C$2)*SIN(RADIANS(E362)))+$C$2 -> 0.29466602 | I362: 359 | J362: =($C$3)*COS(RADIANS(I362))+($C$14) -> 1.7628516 | K362: =(($C$3)*SIN(RADIANS(E362)))+$C$3 -> 0.31235188 | M362: 359 | N362: =($C$8/2000)*COS(RADIANS(M362))+($V$4-($C$12/1000)) -> 0.87611054 | O362: =(($C$8/2000)*SIN(RADIANS(M362)))+($C$10/1000) -> 0.41926447 | Q362: 359 | R362: =($C$9/2000)*COS(RADIANS(Q362))+($C$14) -> 1.5677863 | S362: =(($C$9/2000)*SIN(RADIANS(Q362)))+$C$3 -> 0.31575676 | AG362: 359 | AH362: =(0.01)*COS(RADIANS(AG362))+'Centre of Gravity'!$F$17 -> 0.76518819 | AI362: =((0.01)*SIN(RADIANS(AG362)))+'Centre of Gravity'!$F$18 -> 0.72759457 | AK362: 359 | AL362: =(0.01)*COS(RADIANS(AK362))+'Centre of Gravity'!$E$17 -> 0.67897996 | AM362: =((0.01)*SIN(RADIANS(AK362)))+'Centre of Gravity'!$E$18 -> 0.53904255

Sheet ER6N Data
A1: ER6N
B2: Front Wheel Radius (m) | C2: ='Wheel Diameter'!E4/2 -> 0.2999 | E2: Front Wheel | F2: X | G2: Y | I2: Rear Wheel | J2: X | K2: Y | M2: Front Sprocket | N2: X | O2: Y | Q2: Rear Sprocket | R2: X | S2: Y | U2: Swingarm | V2: X | W2: Y | Y2: Forks | Z2: X | AA2: Y | AC2: Steering Axis | AD2: X | AE2: Y | AG2: CoG w/R | AH2: X | AI2: Y | AK2: CoG wo/R | AL2: X | AM2: Y
B3: Rear Wheel Radius (m) | C3: ='Wheel Diameter'!J4/2 -> 0.3119 | E3: 0 | F3: =($C$2)*COS(RADIANS(E3)) -> 0.2999 | G3: =(($C$2)*SIN(RADIANS(E3)))+$C$2 -> 0.2999 | I3: 0 | J3: =($C$3)*COS(RADIANS(I3))+($C$14) -> 1.7169 | K3: =(($C$3)*SIN(RADIANS(E3)))+$C$3 -> 0.3119 | M3: 0 | N3: =($C$8/2000)*COS(RADIANS(M3))+($V$4-($C$12/1000)) -> 0.79484334 | O3: =(($C$8/2000)*SIN(RADIANS(M3)))+($C$10/1000) -> 0.42 | Q3: 0 | R3: =($C$9/2000)*COS(RADIANS(Q3))+($C$14) -> 1.52528 | S3: =(($C$9/2000)*SIN(RADIANS(Q3)))+$C$3 -> 0.3119 | U3: At Wheel | V3: =C14 -> 1.405 | W3: =C3 -> 0.3119 | Y3: At Wheel | Z3: 0 | AA3: =C2 -> 0.2999 | AC3: Top | AD3: =Z4+((COS(DEGREES(C5))*C7)/1000) -> 0.26603911 | AE3: =AA4-((ABS(SIN(DEGREES(C5)))*C7)/1000) -> 0.95294861 | AG3: 0 | AH3: =(0.01)*COS(RADIANS(AG3))+'Centre of Gravity'!$F$7 -> 0.80564203 | AI3: =((0.01)*SIN(RADIANS(AG3)))+'Centre of Gravity'!$F$8 -> 0.71562638 | AK3: 0 | AL3: =(0.01)*COS(RADIANS(AK3))+'Centre of Gravity'!$E$7 -> 0.71432184 | AM3: =((0.01)*SIN(RADIANS(AK3)))+'Centre of Gravity'!$E$8 -> 0.53655283
B4: Rake Angle Specs (degrees) | C4: 24.5 | E4: 1 | F4: =($C$2)*COS(RADIANS(E4)) -> 0.29985432 | G4: =(($C$2)*SIN(RADIANS(E4)))+$C$2 -> 0.30513398 | I4: 1 | J4: =($C$3)*COS(RADIANS(I4))+($C$14) -> 1.7168525 | K4: =(($C$3)*SIN(RADIANS(E4)))+$C$3 -> 0.31734341 | M4: 1 | N4: =($C$8/2000)*COS(RADIANS(M4))+($V$4-($C$12/1000)) -> 0.79483692 | O4: =(($C$8/2000)*SIN(RADIANS(M4)))+($C$10/1000) -> 0.42073553 | Q4: 1 | R4: =($C$9/2000)*COS(RADIANS(Q4))+($C$14) -> 1.5252617 | S4: =(($C$9/2000)*SIN(RADIANS(Q4)))+$C$3 -> 0.31399918 | U4: At Pivot | V4: =(C14)-(SQRT((C13^2)-((C11-(C3*1000))^2))/1000) -> 0.85269834 | W4: =C11/1000 -> 0.42 | Y4: At Top | Z4: =(ABS(SIN(DEGREES(C5)))*C6)/1000 -> 0.24494159 | AA4: =(COS(DEGREES(C5))*C6)/1000+AA3 -> 0.96076811 | AC4: Bottom | AD4: =0-(ABS(TAN(DEGREES(C5)))*(AE3))+AD3 -> -0.087158061 | AE4: 0 | AG4: 1 | AH4: =(0.01)*COS(RADIANS(AG4))+'Centre of Gravity'!$F$7 -> 0.80564051 | AI4: =((0.01)*SIN(RADIANS(AG4)))+'Centre of Gravity'!$F$8 -> 0.7158009 | AK4: 1 | AL4: =(0.01)*COS(RADIANS(AK4))+'Centre of Gravity'!$E$7 -> 0.71432031 | AM4: =((0.01)*SIN(RADIANS(AK4)))+'Centre of Gravity'!$E$8 -> 0.53672736
B5: Rake Angle Measured (degrees) | C5: 21.5 | E5: 2 | F5: =($C$2)*COS(RADIANS(E5)) -> 0.29971731 | G5: =(($C$2)*SIN(RADIANS(E5)))+$C$2 -> 0.31036636 | I5: 2 | J5: =($C$3)*COS(RADIANS(I5))+($C$14) -> 1.71671 | K5: =(($C$3)*SIN(RADIANS(E5)))+$C$3 -> 0.32278515 | M5: 2 | N5: =($C$8/2000)*COS(RADIANS(M5))+($V$4-($C$12/1000)) -> 0.79481766 | O5: =(($C$8/2000)*SIN(RADIANS(M5)))+($C$10/1000) -> 0.42147084 | Q5: 2 | R5: =($C$9/2000)*COS(RADIANS(Q5))+($C$14) -> 1.5252067 | S5: =(($C$9/2000)*SIN(RADIANS(Q5)))+$C$3 -> 0.31609771 | AG5: 2 | AH5: =(0.01)*COS(RADIANS(AG5))+'Centre of Gravity'!$F$7 -> 0.80563594 | AI5: =((0.01)*SIN(RADIANS(AG5)))+'Centre of Gravity'!$F$8 -> 0.71597537 | AK5: 2 | AL5: =(0.01)*COS(RADIANS(AK5))+'Centre of Gravity'!$E$7 -> 0.71431574 | AM5: =((0.01)*SIN(RADIANS(AK5)))+'Centre of Gravity'!$E$8 -> 0.53690183
B6: Fork Length Measured (mm) | C6: 704.8 | E6: 3 | F6: =($C$2)*COS(RADIANS(E6)) -> 0.299489 | G6: =(($C$2)*SIN(RADIANS(E6)))+$C$2 -> 0.31559555 | I6: 3 | J6: =($C$3)*COS(RADIANS(I6))+($C$14) -> 1.7164726 | K6: =(($C$3)*SIN(RADIANS(E6)))+$C$3 -> 0.32822358 | M6: 3 | N6: =($C$8/2000)*COS(RADIANS(M6))+($V$4-($C$12/1000)) -> 0.79478558 | O6: =(($C$8/2000)*SIN(RADIANS(M6)))+($C$10/1000) -> 0.4222057 | Q6: 3 | R6: =($C$9/2000)*COS(RADIANS(Q6))+($C$14) -> 1.5251152 | S6: =(($C$9/2000)*SIN(RADIANS(Q6)))+$C$3 -> 0.31819497 | AG6: 3 | AH6: =(0.01)*COS(RADIANS(AG6))+'Centre of Gravity'!$F$7 -> 0.80562833 | AI6: =((0.01)*SIN(RADIANS(AG6)))+'Centre of Gravity'!$F$8 -> 0.71614974 | AK6: 3 | AL6: =(0.01)*COS(RADIANS(AK6))+'Centre of Gravity'!$E$7 -> 0.71430813 | AM6: =((0.01)*SIN(RADIANS(AK6)))+'Centre of Gravity'!$E$8 -> 0.53707619
B7: Triple Clamp Offset Measured (mm) | C7: ='Trail Calculation'!C5 -> 22.5 | E7: 4 | F7: =($C$2)*COS(RADIANS(E7)) -> 0.29916946 | G7: =(($C$2)*SIN(RADIANS(E7)))+$C$2 -> 0.32081997 | I7: 4 | J7: =($C$3)*COS(RADIANS(I7))+($C$14) -> 1.7161402 | K7: =(($C$3)*SIN(RADIANS(E7)))+$C$3 -> 0.33365704 | M7: 4 | N7: =($C$8/2000)*COS(RADIANS(M7))+($V$4-($C$12/1000)) -> 0.79474068 | O7: =(($C$8/2000)*SIN(RADIANS(M7)))+($C$10/1000) -> 0.42293989 | Q7: 4 | R7: =($C$9/2000)*COS(RADIANS(Q7))+($C$14) -> 1.524987 | S7: =(($C$9/2000)*SIN(RADIANS(Q7)))+$C$3 -> 0.32029031 | AG7: 4 | AH7: =(0.01)*COS(RADIANS(AG7))+'Centre of Gravity'!$F$7 -> 0.80561767 | AI7: =((0.01)*SIN(RADIANS(AG7)))+'Centre of Gravity'!$F$8 -> 0.71632394 | AK7: 4 | AL7: =(0.01)*COS(RADIANS(AK7))+'Centre of Gravity'!$E$7 -> 0.71429748 | AM7: =((0.01)*SIN(RADIANS(AK7)))+'Centre of Gravity'!$E$8 -> 0.5372504
B8: Front Sprocket Diameter (mm) | C8: 84.29 | E8: 5 | F8: =($C$2)*COS(RADIANS(E8)) -> 0.29875879 | G8: =(($C$2)*SIN(RADIANS(E8)))+$C$2 -> 0.32603801 | I8: 5 | J8: =($C$3)*COS(RADIANS(I8))+($C$14) -> 1.7157131 | K8: =(($C$3)*SIN(RADIANS(E8)))+$C$3 -> 0.33908388 | M8: 5 | N8: =($C$8/2000)*COS(RADIANS(M8))+($V$4-($C$12/1000)) -> 0.79468296 | O8: =(($C$8/2000)*SIN(RADIANS(M8)))+($C$10/1000) -> 0.42367318 | Q8: 5 | R8: =($C$9/2000)*COS(RADIANS(Q8))+($C$14) -> 1.5248223 | S8: =(($C$9/2000)*SIN(RADIANS(Q8)))+$C$3 -> 0.32238309 | AG8: 5 | AH8: =(0.01)*COS(RADIANS(AG8))+'Centre of Gravity'!$F$7 -> 0.80560398 | AI8: =((0.01)*SIN(RADIANS(AG8)))+'Centre of Gravity'!$F$8 -> 0.71649794 | AK8: 5 | AL8: =(0.01)*COS(RADIANS(AK8))+'Centre of Gravity'!$E$7 -> 0.71428378 | AM8: =((0.01)*SIN(RADIANS(AK8)))+'Centre of Gravity'!$E$8 -> 0.53742439
B9: Rear Sprocket Diameter (mm) | C9: 240.56 | E9: 6 | F9: =($C$2)*COS(RADIANS(E9)) -> 0.29825712 | G9: =(($C$2)*SIN(RADIANS(E9)))+$C$2 -> 0.33124809 | I9: 6 | J9: =($C$3)*COS(RADIANS(I9))+($C$14) -> 1.7151914 | K9: =(($C$3)*SIN(RADIANS(E9)))+$C$3 -> 0.34450243 | M9: 6 | N9: =($C$8/2000)*COS(RADIANS(M9))+($V$4-($C$12/1000)) -> 0.79461246 | O9: =(($C$8/2000)*SIN(RADIANS(M9)))+($C$10/1000) -> 0.42440535 | Q9: 6 | R9: =($C$9/2000)*COS(RADIANS(Q9))+($C$14) -> 1.5246211 | S9: =(($C$9/2000)*SIN(RADIANS(Q9)))+$C$3 -> 0.32447268 | AG9: 6 | AH9: =(0.01)*COS(RADIANS(AG9))+'Centre of Gravity'!$F$7 -> 0.80558725 | AI9: =((0.01)*SIN(RADIANS(AG9)))+'Centre of Gravity'!$F$8 -> 0.71667166 | AK9: 6 | AL9: =(0.01)*COS(RADIANS(AK9))+'Centre of Gravity'!$E$7 -> 0.71426706 | AM9: =((0.01)*SIN(RADIANS(AK9)))+'Centre of Gravity'!$E$8 -> 0.53759812
B10: Front Sprocket Height from floor (mm) | C10: 420 | E10: 7 | F10: =($C$2)*COS(RADIANS(E10)) -> 0.29766459 | G10: =(($C$2)*SIN(RADIANS(E10)))+$C$2 -> 0.33644862 | I10: 7 | J10: =($C$3)*COS(RADIANS(I10))+($C$14) -> 1.7145751 | K10: =(($C$3)*SIN(RADIANS(E10)))+$C$3 -> 0.34991105 | M10: 7 | N10: =($C$8/2000)*COS(RADIANS(M10))+($V$4-($C$12/1000)) -> 0.7945292 | O10: =(($C$8/2000)*SIN(RADIANS(M10)))+($C$10/1000) -> 0.42513618 | Q10: 7 | R10: =($C$9/2000)*COS(RADIANS(Q10))+($C$14) -> 1.5243835 | S10: =(($C$9/2000)*SIN(RADIANS(Q10)))+$C$3 -> 0.32655844 | AG10: 7 | AH10: =(0.01)*COS(RADIANS(AG10))+'Centre of Gravity'!$F$7 -> 0.80556749 | AI10: =((0.01)*SIN(RADIANS(AG10)))+'Centre of Gravity'!$F$8 -> 0.71684507 | AK10: 7 | AL10: =(0.01)*COS(RADIANS(AK10))+'Centre of Gravity'!$E$7 -> 0.7142473 | AM10: =((0.01)*SIN(RADIANS(AK10)))+'Centre of Gravity'!$E$8 -> 0.53777153
B11: Swingarm Pivot Height from floor (mm) | C11: 420 | E11: 8 | F11: =($C$2)*COS(RADIANS(E11)) -> 0.29698139 | G11: =(($C$2)*SIN(RADIANS(E11)))+$C$2 -> 0.34163801 | I11: 8 | J11: =($C$3)*COS(RADIANS(I11))+($C$14) -> 1.7138646 | K11: =(($C$3)*SIN(RADIANS(E11)))+$C$3 -> 0.35530809 | M11: 8 | N11: =($C$8/2000)*COS(RADIANS(M11))+($V$4-($C$12/1000)) -> 0.79443319 | O11: =(($C$8/2000)*SIN(RADIANS(M11)))+($C$10/1000) -> 0.42586545 | Q11: 8 | R11: =($C$9/2000)*COS(RADIANS(Q11))+($C$14) -> 1.5241094 | S11: =(($C$9/2000)*SIN(RADIANS(Q11)))+$C$3 -> 0.32863974 | AG11: 8 | AH11: =(0.01)*COS(RADIANS(AG11))+'Centre of Gravity'!$F$7 -> 0.80554471 | AI11: =((0.01)*SIN(RADIANS(AG11)))+'Centre of Gravity'!$F$8 -> 0.71701811 | AK11: 8 | AL11: =(0.01)*COS(RADIANS(AK11))+'Centre of Gravity'!$E$7 -> 0.71422452 | AM11: =((0.01)*SIN(RADIANS(AK11)))+'Centre of Gravity'!$E$8 -> 0.53794456
B12: Swingarm Pivot to F Sprocket (mm) | C12: 100 | E12: 9 | F12: =($C$2)*COS(RADIANS(E12)) -> 0.29620773 | G12: =(($C$2)*SIN(RADIANS(E12)))+$C$2 -> 0.3468147 | I12: 9 | J12: =($C$3)*COS(RADIANS(I12))+($C$14) -> 1.71306 | K12: =(($C$3)*SIN(RADIANS(E12)))+$C$3 -> 0.36069191 | M12: 9 | N12: =($C$8/2000)*COS(RADIANS(M12))+($V$4-($C$12/1000)) -> 0.79432446 | O12: =(($C$8/2000)*SIN(RADIANS(M12)))+($C$10/1000) -> 0.42659293 | Q12: 9 | R12: =($C$9/2000)*COS(RADIANS(Q12))+($C$14) -> 1.5237992 | S12: =(($C$9/2000)*SIN(RADIANS(Q12)))+$C$3 -> 0.33071594 | AG12: 9 | AH12: =(0.01)*COS(RADIANS(AG12))+'Centre of Gravity'!$F$7 -> 0.80551892 | AI12: =((0.01)*SIN(RADIANS(AG12)))+'Centre of Gravity'!$F$8 -> 0.71719072 | AK12: 9 | AL12: =(0.01)*COS(RADIANS(AK12))+'Centre of Gravity'!$E$7 -> 0.71419872 | AM12: =((0.01)*SIN(RADIANS(AK12)))+'Centre of Gravity'!$E$8 -> 0.53811718
B13: Swingarm Length (mm) | C13: ='Gearbox Calculator'!N5 -> 562.78125 | E13: 10 | F13: =($C$2)*COS(RADIANS(E13)) -> 0.29534385 | G13: =(($C$2)*SIN(RADIANS(E13)))+$C$2 -> 0.35197709 | I13: 10 | J13: =($C$3)*COS(RADIANS(I13))+($C$14) -> 1.7121615 | K13: =(($C$3)*SIN(RADIANS(E13)))+$C$3 -> 0.36606087 | M13: 10 | N13: =($C$8/2000)*COS(RADIANS(M13))+($V$4-($C$12/1000)) -> 0.79420306 | O13: =(($C$8/2000)*SIN(RADIANS(M13)))+($C$10/1000) -> 0.4273184 | Q13: 10 | R13: =($C$9/2000)*COS(RADIANS(Q13))+($C$14) -> 1.5234527 | S13: =(($C$9/2000)*SIN(RADIANS(Q13)))+$C$3 -> 0.3327864 | AG13: 10 | AH13: =(0.01)*COS(RADIANS(AG13))+'Centre of Gravity'!$F$7 -> 0.80549011 | AI13: =((0.01)*SIN(RADIANS(AG13)))+'Centre of Gravity'!$F$8 -> 0.71736286 | AK13: 10 | AL13: =(0.01)*COS(RADIANS(AK13))+'Centre of Gravity'!$E$7 -> 0.71416991 | AM13: =((0.01)*SIN(RADIANS(AK13)))+'Centre of Gravity'!$E$8 -> 0.53828931
B14: Wheelbase (m) | C14: ='Centre of Gravity'!C6 -> 1.405 | E14: 11 | F14: =($C$2)*COS(RADIANS(E14)) -> 0.29438999 | G14: =(($C$2)*SIN(RADIANS(E14)))+$C$2 -> 0.35712362 | I14: 11 | J14: =($C$3)*COS(RADIANS(I14))+($C$14) -> 1.7111695 | K14: =(($C$3)*SIN(RADIANS(E14)))+$C$3 -> 0.37141333 | M14: 11 | N14: =($C$8/2000)*COS(RADIANS(M14))+($V$4-($C$12/1000)) -> 0.79406902 | O14: =(($C$8/2000)*SIN(RADIANS(M14)))+($C$10/1000) -> 0.42804165 | Q14: 11 | R14: =($C$9/2000)*COS(RADIANS(Q14))+($C$14) -> 1.5230701 | S14: =(($C$9/2000)*SIN(RADIANS(Q14)))+$C$3 -> 0.33485051 | AG14: 11 | AH14: =(0.01)*COS(RADIANS(AG14))+'Centre of Gravity'!$F$7 -> 0.8054583 | AI14: =((0.01)*SIN(RADIANS(AG14)))+'Centre of Gravity'!$F$8 -> 0.71753447 | AK14: 11 | AL14: =(0.01)*COS(RADIANS(AK14))+'Centre of Gravity'!$E$7 -> 0.71413811 | AM14: =((0.01)*SIN(RADIANS(AK14)))+'Centre of Gravity'!$E$8 -> 0.53846092
B15: CoG X | C15: ='Centre of Gravity'!F7 -> 0.79564203 | E15: 12 | F15: =($C$2)*COS(RADIANS(E15)) -> 0.29334647 | G15: =(($C$2)*SIN(RADIANS(E15)))+$C$2 -> 0.36225272 | I15: 12 | J15: =($C$3)*COS(RADIANS(I15))+($C$14) -> 1.7100842 | K15: =(($C$3)*SIN(RADIANS(E15)))+$C$3 -> 0.37674766 | M15: 12 | N15: =($C$8/2000)*COS(RADIANS(M15))+($V$4-($C$12/1000)) -> 0.79392237 | O15: =(($C$8/2000)*SIN(RADIANS(M15)))+($C$10/1000) -> 0.42876244 | Q15: 12 | R15: =($C$9/2000)*COS(RADIANS(Q15))+($C$14) -> 1.5226516 | S15: =(($C$9/2000)*SIN(RADIANS(Q15)))+$C$3 -> 0.33690762 | AG15: 12 | AH15: =(0.01)*COS(RADIANS(AG15))+'Centre of Gravity'!$F$7 -> 0.80542351 | AI15: =((0.01)*SIN(RADIANS(AG15)))+'Centre of Gravity'!$F$8 -> 0.71770549 | AK15: 12 | AL15: =(0.01)*COS(RADIANS(AK15))+'Centre of Gravity'!$E$7 -> 0.71410331 | AM15: =((0.01)*SIN(RADIANS(AK15)))+'Centre of Gravity'!$E$8 -> 0.53863195
B16: CoG Y | C16: ='Centre of Gravity'!F8 -> 0.71562638 | E16: 13 | F16: =($C$2)*COS(RADIANS(E16)) -> 0.29221358 | G16: =(($C$2)*SIN(RADIANS(E16)))+$C$2 -> 0.36736282 | I16: 13 | J16: =($C$3)*COS(RADIANS(I16))+($C$14) -> 1.708906 | K16: =(($C$3)*SIN(RADIANS(E16)))+$C$3 -> 0.38206223 | M16: 13 | N16: =($C$8/2000)*COS(RADIANS(M16))+($V$4-($C$12/1000)) -> 0.79376316 | O16: =(($C$8/2000)*SIN(RADIANS(M16)))+($C$10/1000) -> 0.42948056 | Q16: 13 | R16: =($C$9/2000)*COS(RADIANS(Q16))+($C$14) -> 1.5221972 | S16: =(($C$9/2000)*SIN(RADIANS(Q16)))+$C$3 -> 0.33895711 | AG16: 13 | AH16: =(0.01)*COS(RADIANS(AG16))+'Centre of Gravity'!$F$7 -> 0.80538573 | AI16: =((0.01)*SIN(RADIANS(AG16)))+'Centre of Gravity'!$F$8 -> 0.71787589 | AK16: 13 | AL16: =(0.01)*COS(RADIANS(AK16))+'Centre of Gravity'!$E$7 -> 0.71406554 | AM16: =((0.01)*SIN(RADIANS(AK16)))+'Centre of Gravity'!$E$8 -> 0.53880234
E17: 14 | F17: =($C$2)*COS(RADIANS(E17)) -> 0.29099169 | G17: =(($C$2)*SIN(RADIANS(E17)))+$C$2 -> 0.37245238 | I17: 14 | J17: =($C$3)*COS(RADIANS(I17))+($C$14) -> 1.7076352 | K17: =(($C$3)*SIN(RADIANS(E17)))+$C$3 -> 0.38735544 | M17: 14 | N17: =($C$8/2000)*COS(RADIANS(M17))+($V$4-($C$12/1000)) -> 0.79359145 | O17: =(($C$8/2000)*SIN(RADIANS(M17)))+($C$10/1000) -> 0.4301958 | Q17: 14 | R17: =($C$9/2000)*COS(RADIANS(Q17))+($C$14) -> 1.5217072 | S17: =(($C$9/2000)*SIN(RADIANS(Q17)))+$C$3 -> 0.34099837 | AG17: 14 | AH17: =(0.01)*COS(RADIANS(AG17))+'Centre of Gravity'!$F$7 -> 0.80534499 | AI17: =((0.01)*SIN(RADIANS(AG17)))+'Centre of Gravity'!$F$8 -> 0.7180456 | AK17: 14 | AL17: =(0.01)*COS(RADIANS(AK17))+'Centre of Gravity'!$E$7 -> 0.71402479 | AM17: =((0.01)*SIN(RADIANS(AK17)))+'Centre of Gravity'!$E$8 -> 0.53897205
E18: 15 | F18: =($C$2)*COS(RADIANS(E18)) -> 0.28968116 | G18: =(($C$2)*SIN(RADIANS(E18)))+$C$2 -> 0.37751983 | I18: 15 | J18: =($C$3)*COS(RADIANS(I18))+($C$14) -> 1.7062723 | K18: =(($C$3)*SIN(RADIANS(E18)))+$C$3 -> 0.39262566 | M18: 15 | N18: =($C$8/2000)*COS(RADIANS(M18))+($V$4-($C$12/1000)) -> 0.79340728 | O18: =(($C$8/2000)*SIN(RADIANS(M18)))+($C$10/1000) -> 0.43090793 | Q18: 15 | R18: =($C$9/2000)*COS(RADIANS(Q18))+($C$14) -> 1.5211816 | S18: =(($C$9/2000)*SIN(RADIANS(Q18)))+$C$3 -> 0.34303075 | AG18: 15 | AH18: =(0.01)*COS(RADIANS(AG18))+'Centre of Gravity'!$F$7 -> 0.80530129 | AI18: =((0.01)*SIN(RADIANS(AG18)))+'Centre of Gravity'!$F$8 -> 0.71821457 | AK18: 15 | AL18: =(0.01)*COS(RADIANS(AK18))+'Centre of Gravity'!$E$7 -> 0.71398109 | AM18: =((0.01)*SIN(RADIANS(AK18)))+'Centre of Gravity'!$E$8 -> 0.53914102
E19: 16 | F19: =($C$2)*COS(RADIANS(E19)) -> 0.28828238 | G19: =(($C$2)*SIN(RADIANS(E19)))+$C$2 -> 0.38256364 | I19: 16 | J19: =($C$3)*COS(RADIANS(I19))+($C$14) -> 1.7048175 | K19: =(($C$3)*SIN(RADIANS(E19)))+$C$3 -> 0.39787129 | M19: 16 | N19: =($C$8/2000)*COS(RADIANS(M19))+($V$4-($C$12/1000)) -> 0.79321071 | O19: =(($C$8/2000)*SIN(RADIANS(M19)))+($C$10/1000) -> 0.43161674 | Q19: 16 | R19: =($C$9/2000)*COS(RADIANS(Q19))+($C$14) -> 1.5206206 | S19: =(($C$9/2000)*SIN(RADIANS(Q19)))+$C$3 -> 0.34505366 | AG19: 16 | AH19: =(0.01)*COS(RADIANS(AG19))+'Centre of Gravity'!$F$7 -> 0.80525465 | AI19: =((0.01)*SIN(RADIANS(AG19)))+'Centre of Gravity'!$F$8 -> 0.71838275 | AK19: 16 | AL19: =(0.01)*COS(RADIANS(AK19))+'Centre of Gravity'!$E$7 -> 0.71393445 | AM19: =((0.01)*SIN(RADIANS(AK19)))+'Centre of Gravity'!$E$8 -> 0.53930921
E20: 17 | F20: =($C$2)*COS(RADIANS(E20)) -> 0.2867958 | G20: =(($C$2)*SIN(RADIANS(E20)))+$C$2 -> 0.38758227 | I20: 17 | J20: =($C$3)*COS(RADIANS(I20))+($C$14) -> 1.7032715 | K20: =(($C$3)*SIN(RADIANS(E20)))+$C$3 -> 0.40309073 | M20: 17 | N20: =($C$8/2000)*COS(RADIANS(M20))+($V$4-($C$12/1000)) -> 0.7930018 | O20: =(($C$8/2000)*SIN(RADIANS(M20)))+($C$10/1000) -> 0.43232201 | Q20: 17 | R20: =($C$9/2000)*COS(RADIANS(Q20))+($C$14) -> 1.5200243 | S20: =(($C$9/2000)*SIN(RADIANS(Q20)))+$C$3 -> 0.34706647 | AG20: 17 | AH20: =(0.01)*COS(RADIANS(AG20))+'Centre of Gravity'!$F$7 -> 0.80520508 | AI20: =((0.01)*SIN(RADIANS(AG20)))+'Centre of Gravity'!$F$8 -> 0.71855009 | AK20: 17 | AL20: =(0.01)*COS(RADIANS(AK20))+'Centre of Gravity'!$E$7 -> 0.71388488 | AM20: =((0.01)*SIN(RADIANS(AK20)))+'Centre of Gravity'!$E$8 -> 0.53947655
E21: 18 | F21: =($C$2)*COS(RADIANS(E21)) -> 0.28522185 | G21: =(($C$2)*SIN(RADIANS(E21)))+$C$2 -> 0.3925742 | I21: 18 | J21: =($C$3)*COS(RADIANS(I21))+($C$14) -> 1.7016345 | K21: =(($C$3)*SIN(RADIANS(E21)))+$C$3 -> 0.4082824 | M21: 18 | N21: =($C$8/2000)*COS(RADIANS(M21))+($V$4-($C$12/1000)) -> 0.79278062 | O21: =(($C$8/2000)*SIN(RADIANS(M21)))+($C$10/1000) -> 0.43302352 | Q21: 18 | R21: =($C$9/2000)*COS(RADIANS(Q21))+($C$14) -> 1.5193931 | S21: =(($C$9/2000)*SIN(RADIANS(Q21)))+$C$3 -> 0.34906856 | AG21: 18 | AH21: =(0.01)*COS(RADIANS(AG21))+'Centre of Gravity'!$F$7 -> 0.8051526 | AI21: =((0.01)*SIN(RADIANS(AG21)))+'Centre of Gravity'!$F$8 -> 0.71871655 | AK21: 18 | AL21: =(0.01)*COS(RADIANS(AK21))+'Centre of Gravity'!$E$7 -> 0.7138324 | AM21: =((0.01)*SIN(RADIANS(AK21)))+'Centre of Gravity'!$E$8 -> 0.539643
E22: 19 | F22: =($C$2)*COS(RADIANS(E22)) -> 0.28356102 | G22: =(($C$2)*SIN(RADIANS(E22)))+$C$2 -> 0.39753789 | I22: 19 | J22: =($C$3)*COS(RADIANS(I22))+($C$14) -> 1.6999072 | K22: =(($C$3)*SIN(RADIANS(E22)))+$C$3 -> 0.41344471 | M22: 19 | N22: =($C$8/2000)*COS(RADIANS(M22))+($V$4-($C$12/1000)) -> 0.79254722 | O22: =(($C$8/2000)*SIN(RADIANS(M22)))+($C$10/1000) -> 0.43372107 | Q22: 19 | R22: =($C$9/2000)*COS(RADIANS(Q22))+($C$14) -> 1.518727 | S22: =(($C$9/2000)*SIN(RADIANS(Q22)))+$C$3 -> 0.35105934 | AG22: 19 | AH22: =(0.01)*COS(RADIANS(AG22))+'Centre of Gravity'!$F$7 -> 0.80509722 | AI22: =((0.01)*SIN(RADIANS(AG22)))+'Centre of Gravity'!$F$8 -> 0.71888206 | AK22: 19 | AL22: =(0.01)*COS(RADIANS(AK22))+'Centre of Gravity'!$E$7 -> 0.71377702 | AM22: =((0.01)*SIN(RADIANS(AK22)))+'Centre of Gravity'!$E$8 -> 0.53980851
E23: 20 | F23: =($C$2)*COS(RADIANS(E23)) -> 0.28181382 | G23: =(($C$2)*SIN(RADIANS(E23)))+$C$2 -> 0.40247184 | I23: 20 | J23: =($C$3)*COS(RADIANS(I23))+($C$14) -> 1.6980901 | K23: =(($C$3)*SIN(RADIANS(E23)))+$C$3 -> 0.41857608 | M23: 20 | N23: =($C$8/2000)*COS(RADIANS(M23))+($V$4-($C$12/1000)) -> 0.79230168 | O23: =(($C$8/2000)*SIN(RADIANS(M23)))+($C$10/1000) -> 0.43441444 | Q23: 20 | R23: =($C$9/2000)*COS(RADIANS(Q23))+($C$14) -> 1.5180262 | S23: =(($C$9/2000)*SIN(RADIANS(Q23)))+$C$3 -> 0.35303818 | AG23: 20 | AH23: =(0.01)*COS(RADIANS(AG23))+'Centre of Gravity'!$F$7 -> 0.80503896 | AI23: =((0.01)*SIN(RADIANS(AG23)))+'Centre of Gravity'!$F$8 -> 0.71904658 | AK23: 20 | AL23: =(0.01)*COS(RADIANS(AK23))+'Centre of Gravity'!$E$7 -> 0.71371876 | AM23: =((0.01)*SIN(RADIANS(AK23)))+'Centre of Gravity'!$E$8 -> 0.53997303
E24: 21 | F24: =($C$2)*COS(RADIANS(E24)) -> 0.27998077 | G24: =(($C$2)*SIN(RADIANS(E24)))+$C$2 -> 0.40737455 | I24: 21 | J24: =($C$3)*COS(RADIANS(I24))+($C$14) -> 1.6961837 | K24: =(($C$3)*SIN(RADIANS(E24)))+$C$3 -> 0.42367496 | M24: 21 | N24: =($C$8/2000)*COS(RADIANS(M24))+($V$4-($C$12/1000)) -> 0.79204409 | O24: =(($C$8/2000)*SIN(RADIANS(M24)))+($C$10/1000) -> 0.43510342 | Q24: 21 | R24: =($C$9/2000)*COS(RADIANS(Q24))+($C$14) -> 1.5172911 | S24: =(($C$9/2000)*SIN(RADIANS(Q24)))+$C$3 -> 0.3550045 | AG24: 21 | AH24: =(0.01)*COS(RADIANS(AG24))+'Centre of Gravity'!$F$7 -> 0.80497784 | AI24: =((0.01)*SIN(RADIANS(AG24)))+'Centre of Gravity'!$F$8 -> 0.71921006 | AK24: 21 | AL24: =(0.01)*COS(RADIANS(AK24))+'Centre of Gravity'!$E$7 -> 0.71365764 | AM24: =((0.01)*SIN(RADIANS(AK24)))+'Centre of Gravity'!$E$8 -> 0.54013651
E25: 22 | F25: =($C$2)*COS(RADIANS(E25)) -> 0.27806244 | G25: =(($C$2)*SIN(RADIANS(E25)))+$C$2 -> 0.41224452 | I25: 22 | J25: =($C$3)*COS(RADIANS(I25))+($C$14) -> 1.6941886 | K25: =(($C$3)*SIN(RADIANS(E25)))+$C$3 -> 0.4287398 | M25: 22 | N25: =($C$8/2000)*COS(RADIANS(M25))+($V$4-($C$12/1000)) -> 0.7917745 | O25: =(($C$8/2000)*SIN(RADIANS(M25)))+($C$10/1000) -> 0.43578779 | Q25: 22 | R25: =($C$9/2000)*COS(RADIANS(Q25))+($C$14) -> 1.5165217 | S25: =(($C$9/2000)*SIN(RADIANS(Q25)))+$C$3 -> 0.35695768 | AG25: 22 | AH25: =(0.01)*COS(RADIANS(AG25))+'Centre of Gravity'!$F$7 -> 0.80491387 | AI25: =((0.01)*SIN(RADIANS(AG25)))+'Centre of Gravity'!$F$8 -> 0.71937244 | AK25: 22 | AL25: =(0.01)*COS(RADIANS(AK25))+'Centre of Gravity'!$E$7 -> 0.71359367 | AM25: =((0.01)*SIN(RADIANS(AK25)))+'Centre of Gravity'!$E$8 -> 0.5402989
E26: 23 | F26: =($C$2)*COS(RADIANS(E26)) -> 0.27605941 | G26: =(($C$2)*SIN(RADIANS(E26)))+$C$2 -> 0.41708027 | I26: 23 | J26: =($C$3)*COS(RADIANS(I26))+($C$14) -> 1.6921055 | K26: =(($C$3)*SIN(RADIANS(E26)))+$C$3 -> 0.43376904 | M26: 23 | N26: =($C$8/2000)*COS(RADIANS(M26))+($V$4-($C$12/1000)) -> 0.79149302 | O26: =(($C$8/2000)*SIN(RADIANS(M26)))+($C$10/1000) -> 0.43646736 | Q26: 23 | R26: =($C$9/2000)*COS(RADIANS(Q26))+($C$14) -> 1.5157183 | S26: =(($C$9/2000)*SIN(RADIANS(Q26)))+$C$3 -> 0.35889714 | AG26: 23 | AH26: =(0.01)*COS(RADIANS(AG26))+'Centre of Gravity'!$F$7 -> 0.80484708 | AI26: =((0.01)*SIN(RADIANS(AG26)))+'Centre of Gravity'!$F$8 -> 0.71953369 | AK26: 23 | AL26: =(0.01)*COS(RADIANS(AK26))+'Centre of Gravity'!$E$7 -> 0.71352688 | AM26: =((0.01)*SIN(RADIANS(AK26)))+'Centre of Gravity'!$E$8 -> 0.54046014
E27: 24 | F27: =($C$2)*COS(RADIANS(E27)) -> 0.27397228 | G27: =(($C$2)*SIN(RADIANS(E27)))+$C$2 -> 0.42188032 | I27: 24 | J27: =($C$3)*COS(RADIANS(I27))+($C$14) -> 1.6899348 | K27: =(($C$3)*SIN(RADIANS(E27)))+$C$3 -> 0.43876116 | M27: 24 | N27: =($C$8/2000)*COS(RADIANS(M27))+($V$4-($C$12/1000)) -> 0.79119971 | O27: =(($C$8/2000)*SIN(RADIANS(M27)))+($C$10/1000) -> 0.43714192 | Q27: 24 | R27: =($C$9/2000)*COS(RADIANS(Q27))+($C$14) -> 1.5148812 | S27: =(($C$9/2000)*SIN(RADIANS(Q27)))+$C$3 -> 0.36082228 | AG27: 24 | AH27: =(0.01)*COS(RADIANS(AG27))+'Centre of Gravity'!$F$7 -> 0.80477749 | AI27: =((0.01)*SIN(RADIANS(AG27)))+'Centre of Gravity'!$F$8 -> 0.71969374 | AK27: 24 | AL27: =(0.01)*COS(RADIANS(AK27))+'Centre of Gravity'!$E$7 -> 0.71345729 | AM27: =((0.01)*SIN(RADIANS(AK27)))+'Centre of Gravity'!$E$8 -> 0.5406202
E28: 25 | F28: =($C$2)*COS(RADIANS(E28)) -> 0.27180171 | G28: =(($C$2)*SIN(RADIANS(E28)))+$C$2 -> 0.42664322 | I28: 25 | J28: =($C$3)*COS(RADIANS(I28))+($C$14) -> 1.6876774 | K28: =(($C$3)*SIN(RADIANS(E28)))+$C$3 -> 0.44371464 | M28: 25 | N28: =($C$8/2000)*COS(RADIANS(M28))+($V$4-($C$12/1000)) -> 0.79089468 | O28: =(($C$8/2000)*SIN(RADIANS(M28)))+($C$10/1000) -> 0.43781125 | Q28: 25 | R28: =($C$9/2000)*COS(RADIANS(Q28))+($C$14) -> 1.5140107 | S28: =(($C$9/2000)*SIN(RADIANS(Q28)))+$C$3 -> 0.36273252 | AG28: 25 | AH28: =(0.01)*COS(RADIANS(AG28))+'Centre of Gravity'!$F$7 -> 0.80470511 | AI28: =((0.01)*SIN(RADIANS(AG28)))+'Centre of Gravity'!$F$8 -> 0.71985256 | AK28: 25 | AL28: =(0.01)*COS(RADIANS(AK28))+'Centre of Gravity'!$E$7 -> 0.71338491 | AM28: =((0.01)*SIN(RADIANS(AK28)))+'Centre of Gravity'!$E$8 -> 0.54077901
... E362: 359 | F362: =($C$2)*COS(RADIANS(E362)) -> 0.29985432 | G362: =(($C$2)*SIN(RADIANS(E362)))+$C$2 -> 0.29466602 | I362: 359 | J362: =($C$3)*COS(RADIANS(I362))+($C$14) -> 1.7168525 | K362: =(($C$3)*SIN(RADIANS(E362)))+$C$3 -> 0.30645659 | M362: 359 | N362: =($C$8/2000)*COS(RADIANS(M362))+($V$4-($C$12/1000)) -> 0.79483692 | O362: =(($C$8/2000)*SIN(RADIANS(M362)))+($C$10/1000) -> 0.41926447 | Q362: 359 | R362: =($C$9/2000)*COS(RADIANS(Q362))+($C$14) -> 1.5252617 | S362: =(($C$9/2000)*SIN(RADIANS(Q362)))+$C$3 -> 0.30980082 | AG362: 359 | AH362: =(0.01)*COS(RADIANS(AG362))+'Centre of Gravity'!$F$7 -> 0.80564051 | AI362: =((0.01)*SIN(RADIANS(AG362)))+'Centre of Gravity'!$F$8 -> 0.71545185 | AK362: 359 | AL362: =(0.01)*COS(RADIANS(AK362))+'Centre of Gravity'!$E$7 -> 0.71432031 | AM362: =((0.01)*SIN(RADIANS(AK362)))+'Centre of Gravity'!$E$8 -> 0.53637831
