Workbook

Sheet Instructions
B3: Belbin Team Roles
B5: In addition to your functional role within a team (your job), you have a behavioural or team role. It is widely believed that for a team to be most effective you need the correct balance of both functional and team roles. This model of team behaviour was suggested by Dr Meredith Belbin. By observing many teams, Belbin concluded that people fall into one of 8 team roles when they work in a group. And for a team to be most effective, you need all of these roles to be present.
B7: For each section distribute a total of 10 points among the sentences you think best describe your behaviour. These points may be distributed among several sentences: in extreme cases they might be spread among all the sentences or 10 points may be given to a single sentence.
B9: Once all 7 sections have been completed, look at the results sheet to see which team role you exhibit most strongly.
B11: Begin the Belbin Questionnaire:
B13: Questionaire

Sheet Questionnaire
B3: 1) | C3: What I believe I can contribute to the team | N3: Total | O3: =SUM(O5:O12) -> 0
O4: Score
B5: a) | C5: I think I can quickly see and take advantage of new opportunities
B6: b) | C6: I can work well with a wide range of people
B7: c) | C7: Producing new ideas is one of my natural assets
B8: d) | C8: My ability rests in being able to draw people out when I detect they have something of value to contribute to the group objectives
B9: e) | C9: My capacity to follow through has much to do with my personal effectiveness
B10: f) | C10: I am ready to face temporary unpopularity if it leads to worthwhile results in the end
B11: g) | C11: I am quick to sense what is likely to work in a situation with which I am familiar
B12: h) | C12: I can offer a reasoned case for alternative courses of action without introducing bias or prejudice
B16: 2) | C16: If I have a possible shortcoming in teamwork, it could be that: | N16: Total | O16: =SUM(O18:O25) -> 0
O17: Score
B18: a) | C18: I am not at ease unless meetings are well structured and controlled and generally well conducted
B19: b) | C19: I am inclined to be too generous towards others who have a valid viewpoint that has not been given a proper airing
B20: c) | C20: I have a tendency to talk a lot once the group gets onto new ideas
B21: d) | C21: My objective outlook makes it difficult for me to join in readily and enthusiastically with colleagues
B22: e) | C22: I am sometimes forceful and authoritarian if there is a need to get something done
B23: f) | C23: I find it difficult to lead from the front, perhaps because I am over-responsive to group atmosphere
B24: g) | C24: I am apt to get too caught up in ideas that occur to me and so lose track of what is happening
B25: h) | C25: My colleagues tend to see me as worrying unnecessarily over detail and the possibility that things may go wrong
B29: 3) | C29: When involved in a project with other people: | N29: Total | O29: =SUM(O31:O38) -> 0
O30: Score
B31: a) | C31: I have an aptitude for influencing people without pressurising them
B32: b) | C32: My general vigilance prevents careless mistakes and omissions being made
B33: c) | C33: I am ready to press for action to make sure that the meeting does not waste time or lose sight of the main objectives
B34: d) | C34: I can be counted on to contribute something original
B35: e) | C35: I am always ready to back a good suggestion for the common interest
B36: f) | C36: I am keen to look for the latest new ideas and developments
B37: g) | C37: I believe that my capacity for cool judgement is appreciated by others
B38: h) | C38: I can be relied on to see that all essential work is organised
B42: 4) | C42: My characteristic approach to group work is that: | N42: Total | O42: =SUM(O44:O51) -> 0
O43: Score
B44: a) | C44: I have a quiet interest in getting to know colleagues better
B45: b) | C45: I am not reluctant to challenge views of others or to hold a minority view myself
B46: c) | C46: I can usually find a line of argument to refute unsound propositions
B47: d) | C47: I think I have a talent for making things work once a plan has to be put into operation
B48: e) | C48: I have tendency to avoid the obvious and come up with the unexpected
B49: f) | C49: I bring a touch of perfectionism to the job I undertake
B50: g) | C50: I am ready to make contacts outside of the group itself
B51: h) | C51: While I am interested in all views I have no hesitation in making up my mind once a decision has to be made
B55: 5) | C55: I gain satisfaction in a job because: | N55: Total | O55: =SUM(O57:O64) -> 0
O56: Score
B57: a) | C57: I enjoy analysing situations and weighing up all the possible choices
B58: b) | C58: I am interested to finding practical solutions to problems
B59: c) | C59: I like to feel I am fostering good working relationships
B60: d) | C60: I can exert a strong influence on decisions
B61: e) | C61: I can meet people who may have something to offer
B62: f) | C62: I can get people to agree on a necessary course of actions
B63: g) | C63: I feel my element where I can give a task my full attention
B64: h) | C64: I like to find a field that stretches my imagination
B68: 6) | C68: If I am suddenly given a difficult task with limited time and unfamiliar people: | N68: Total | O68: =SUM(O70:O77) -> 0
O69: Score
B70: a) | C70: I would feel like retiring to a corner to devise a way out of the impasse before developing a line
B71: b) | C71: I would be ready to work with the person who showed the most positive approach however difficult he might be
B72: c) | C72: I find some way of reducing the size of the task by establishing what different individuals might best contribute
B73: d) | C73: My natural sense of urgency would help to ensure that we did not fall behind schedule
B74: e) | C74: I believe I would keep cool and maintain my capacity to think straight
B75: f) | C75: I would retain a sense of purpose in spite of the pressures
B76: g) | C76: I would be prepared to take a positive lead if I felt the group was making no progress
B77: h) | C77: I would open discussions with a view to stimulating new thoughts and getting things moving
B81: 7) | C81: With reference to the problems to which I am subject when working in groups: | N81: Total | O81: =SUM(O83:O90) -> 0
O82: Score
B83: a) | C83: I am apt to show my impatience with those who are obstructing progress
B84: b) | C84: Others may criticise me for being too analytical and insufficiently intuitive
B85: c) | C85: My desire to ensure that work is properly done can hold up proceedings
B86: d) | C86: I tend to get bored rather easily and rely on one or two stimulating members to spark me off
B87: e) | C87: I find it difficult to get started unless the objectives are clear
B88: f) | C88: I am sometimes poor at explaining and clarifying complex points that occur to me
B89: g) | C89: I am conscious of demanding from others the things that I cannot do myself
B90: h) | C90: I hesitate to get my point across when I run up against real opposition
B93: See your results:
B95: Results

Sheet Results
B3: Results
B5: Section | C5: Implementer | D5: Coordinator | E5: Shaper | F5: Plant | G5: Resource Investigator | H5: Monitor Evaluator | I5: Team Worker | J5: Completer Finisher
B6: 1 | C6: =Questionnaire!O11 -> 0 | D6: =Questionnaire!O8 -> 0 | E6: =Questionnaire!O10 -> 0 | F6: =Questionnaire!O7 -> 0 | G6: =Questionnaire!O5 -> 0 | H6: =Questionnaire!O12 -> 0 | I6: =Questionnaire!O6 -> 0 | J6: =Questionnaire!O9 -> 0
B7: 2 | C7: =Questionnaire!O18 -> 0 | D7: =Questionnaire!O19 -> 0 | E7: =Questionnaire!O22 -> 0 | F7: =Questionnaire!O24 -> 0 | G7: =Questionnaire!O20 -> 0 | H7: =Questionnaire!O21 -> 0 | I7: =Questionnaire!O23 -> 0 | J7: =Questionnaire!O25 -> 0
B8: 3 | C8: =Questionnaire!O38 -> 0 | D8: =Questionnaire!O31 -> 0 | E8: =Questionnaire!O33 -> 0 | F8: =Questionnaire!O34 -> 0 | G8: =Questionnaire!O36 -> 0 | H8: =Questionnaire!O37 -> 0 | I8: =Questionnaire!O35 -> 0 | J8: =Questionnaire!O32 -> 0
B9: 4 | C9: =Questionnaire!O47 -> 0 | D9: =Questionnaire!O51 -> 0 | E9: =Questionnaire!O45 -> 0 | F9: =Questionnaire!O48 -> 0 | G9: =Questionnaire!O50 -> 0 | H9: =Questionnaire!O46 -> 0 | I9: =Questionnaire!O44 -> 0 | J9: =Questionnaire!O49 -> 0
B10: 5 | C10: =Questionnaire!O58 -> 0 | D10: =Questionnaire!O62 -> 0 | E10: =Questionnaire!O60 -> 0 | F10: =Questionnaire!O64 -> 0 | G10: =Questionnaire!O61 -> 0 | H10: =Questionnaire!O57 -> 0 | I10: =Questionnaire!O59 -> 0 | J10: =Questionnaire!O63 -> 0
B11: 6 | C11: =Questionnaire!O75 -> 0 | D11: =Questionnaire!O72 -> 0 | E11: =Questionnaire!O76 -> 0 | F11: =Questionnaire!O70 -> 0 | G11: =Questionnaire!O77 -> 0 | H11: =Questionnaire!O74 -> 0 | I11: =Questionnaire!O71 -> 0 | J11: =Questionnaire!O73 -> 0
B12: 7 | C12: =Questionnaire!O87 -> 0 | D12: =Questionnaire!O89 -> 0 | E12: =Questionnaire!O83 -> 0 | F12: =Questionnaire!O88 -> 0 | G12: =Questionnaire!O86 -> 0 | H12: =Questionnaire!O84 -> 0 | I12: =Questionnaire!O90 -> 0 | J12: =Questionnaire!O85 -> 0
B13: Total | C13: =SUM(C6:C12) -> 0 | D13: =SUM(D6:D12) -> 0 | E13: =SUM(E6:E12) -> 0 | F13: =SUM(F6:F12) -> 0 | G13: =SUM(G6:G12) -> 0 | H13: =SUM(H6:H12) -> 0 | I13: =SUM(I6:I12) -> 0 | J13: =SUM(J6:J12) -> 0
B16: Your principal team role is: | E16: =IF(C13=J16,"Implementer",IF(D13=J16,"Coordinator",IF(E13=J16,"Shaper",IF(F13=J16,"Plant",IF(G13=J16,"Resource Investigator",IF(H13=J16,"Monitor Evaluator",IF(I13=J16,"Team Worker",IF(J13=J16,"Completer Finisher","Error")))))))) -> Implementer | I16: Max | J16: =MAX(C13:J13) -> 0
B18: See your principal team role description:
B20: Team role description

Sheet Belbin Descriptors
B3: Belbin Team Role Description
B5: Type | C5: Typical Features | D5: Positive Qualities | F5: Allowable Weakness
B6: Implementer | C6: Conservative, dutiful, predictable | D6: Organised ability, practical, common sense, hard working, self discipline | F6: Lack of flexibility, unresponsive to unproven ideas
B7: Chairman/Co-ordinator | C7: Calm, self confident controller | D7: A capacity for treating and welcoming all potential contributors on their merits and without prejudice. A strong sense of objectives | F7: No more than ordinary in terms of intellect or creative ability
B8: Shaper | C8: Highly strung, outgoing, dynamic | D8: Drive and readiness to challenge inertia, ineffectiveness, complacency or self-deception | F8: Proneness to provocation, irritation and impatience
B9: Plant | C9: Individualistic, serious minded, unorthodox | D9: Genius, imagination, intellect, knowledge | F9: Up in the clouds, inclined to disregard practical details or protocol
B10: Resource Investigator | C10: Extroverted, enthusiastic, curious, communicative | D10: A capacity for contacting new people and exploring anything new. An ability to respond to challenges | F10: Liable to lose interest once the initial fascination has passed
B11: Monitor Evaluator | C11: Sober, unemotional, prudent | D11: Judgement, discretion, hard-headedness | F11: Indecisive at moments of crisis
B12: Team Worker | C12: Socially orientated, rather mild, sensitive | D12: An ability to respond to people and to situations, and a team spirit | F12: Indecisive at moments of crisis
B13: Completer Finisher | C13: Painstaking, orderly, conscientious, anxious | D13: A capacity for follow through. Perfectionism | F13: A tendency to worry about small things. A reluctance to let go
B17: These are the descriptions for all the team roles. Do you agree with the description of your team role? | E17: Yes/No
