Workbook

Sheet speed Calc.
C2: Gearing/ Speed calculator | G2: Bike: Rc390
A4: Primary gearing: | D4: 30 | E4: 80
S5: 4500
A6: Secondary gearing: | D6: 15 | E6: 45 | S6: =S5+100 -> 4600
S7: =S6+100 -> 4700
A8: Wheel Diam. : | D8: 0.6 | E8: m | S8: =S7+100 -> 4800
S9: =S8+100 -> 4900
A10: RPM: | D10: 10000 | E10: revs/minute | S10: =S9+100 -> 5000
S11: =S10+100 -> 5100
F12: Ratio: | G12: Speed (km/h): | H12: Revs: | I12: Falls: | S12: =S11+100 -> 5200
S13: =S12+100 -> 5300
B14: 1st | D14: 12 | E14: 32 | F14: =E14/D14 -> 2.6666667 | G14: =$D$10*60*(D14/E14)*($D$4/$E$4)*$D$8*PI()/1000*($D$6/$E$6) -> 53.014376 | H14: =D10 -> 10000 | S14: =S13+100 -> 5400
H15: =D10*(D14/E14)*(E16/D16) -> 6964.2857 | I15: =H14-H15 -> 3035.7143 | S15: =S14+100 -> 5500
B16: 2nd | D16: 14 | E16: 26 | F16: =E16/D16 -> 1.8571429 | G16: =$D$10*60*(D16/E16)*($D$4/$E$4)*$D$8*PI()/1000*($D$6/$E$6) -> 76.123207 | H16: =D10 -> 10000 | S16: =S15+100 -> 5600
H17: =D10*(D16/E16)*(E18/D18) -> 7651.8219 | I17: =H16-H17 -> 2348.1781 | S17: =S16+100 -> 5700
B18: 3rd | D18: 19 | E18: 27 | F18: =E18/D18 -> 1.4210526 | G18: =$D$10*60*(D18/E18)*($D$4/$E$4)*$D$8*PI()/1000*($D$6/$E$6) -> 99.483767 | H18: =D10 -> 10000 | S18: =S17+100 -> 5800
H19: =D10*(D18/E18)*(E20/D20) -> 8042.328 | I19: =H18-H19 -> 1957.672 | S19: =S18+100 -> 5900
B20: 4th | D20: 21 | E20: 24 | F20: =E20/D20 -> 1.1428571 | G20: =$D$10*60*(D20/E20)*($D$4/$E$4)*$D$8*PI()/1000*($D$6/$E$6) -> 123.70021 | H20: =D10 -> 10000 | S20: =S19+100 -> 6000
H21: =D10*(D20/E20)*(E22/D22) -> 8369.5652 | I21: =H20-H21 -> 1630.4348 | S21: =S20+100 -> 6100
B22: 5th | D22: 23 | E22: 22 | F22: =E22/D22 -> 0.95652174 | G22: =$D$10*60*(D22/E22)*($D$4/$E$4)*$D$8*PI()/1000*($D$6/$E$6) -> 147.79765 | H22: =D10 -> 10000 | S22: =S21+100 -> 6200
H23: =D10*(D22/E22)*(E24/D24) -> 8781.8182 | I23: =H22-H23 -> 1218.1818 | S23: =S22+100 -> 6300
B24: 6th | D24: 25 | E24: 21 | F24: =E24/D24 -> 0.84 | G24: =$D$10*60*(D24/E24)*($D$4/$E$4)*$D$8*PI()/1000*($D$6/$E$6) -> 168.29961 | S24: =S23+100 -> 6400
S25: =S24+100 -> 6500
S26: =S25+100 -> 6600
S27: =S26+100 -> 6700
S28: =S27+100 -> 6800
S29: =S28+100 -> 6900
S30: =S29+100 -> 7000
S31: =S30+100 -> 7100
S32: =S31+100 -> 7200
S33: =S32+100 -> 7300
S34: =S33+100 -> 7400
S35: =S34+100 -> 7500
S36: =S35+100 -> 7600
... S130: =S129+100 -> 17000

Sheet power data
B2: RC390: | H2: Road Speed (km/h): | N2: Driving force (N): | T2: Force to overcome (N):
A4: RPM | B4: Power (hp) | C4: Torque (Nm) | D4: Power (Kw) | F4: Speed 1st | G4: Speed 2nd | H4: Speed 3rd | I4: Speed 4th | J4: Speed 5th | K4: Speed 6th | M4: 1st | N4: 2nd | O4: 3rd | P4: 4th | Q4: 5th | R4: 6th | T4: 1st | U4: 2nd | V4: 3rd | W4: 4th | X4: 5th | Y4: 6th
A5: 4000 | B5: 25 | C5: 21 | D5: =0.7457*B5 -> 18.6425 | F5: ='power data'!A5*60*('speed Calc.'!$D$14/'speed Calc.'!$E$14)*('speed Calc.'!$D$4/'speed Calc.'!$E$4)*'speed Calc.'!$D$8*PI()*('speed Calc.'!$D$6/'speed Calc.'!$E$6)/1000 -> 21.20575 | G5: ='power data'!$A5*60*('speed Calc.'!$D$16/'speed Calc.'!$E$16)*('speed Calc.'!$D$4/'speed Calc.'!$E$4)*'speed Calc.'!$D$8*PI()*('speed Calc.'!$D$6/'speed Calc.'!$E$6)/1000 -> 30.449283 | H5: ='power data'!$A5*60*('speed Calc.'!$D$18/'speed Calc.'!$E$18)*('speed Calc.'!$D$4/'speed Calc.'!$E$4)*'speed Calc.'!$D$8*PI()*('speed Calc.'!$D$6/'speed Calc.'!$E$6)/1000 -> 39.793507 | I5: ='power data'!$A5*60*('speed Calc.'!$D$20/'speed Calc.'!$E$20)*('speed Calc.'!$D$4/'speed Calc.'!$E$4)*'speed Calc.'!$D$8*PI()*('speed Calc.'!$D$6/'speed Calc.'!$E$6)/1000 -> 49.480084 | J5: ='power data'!$A5*60*('speed Calc.'!$D$22/'speed Calc.'!$E$22)*('speed Calc.'!$D$4/'speed Calc.'!$E$4)*'speed Calc.'!$D$8*PI()*('speed Calc.'!$D$6/'speed Calc.'!$E$6)/1000 -> 59.119062 | K5: ='power data'!$A5*60*('speed Calc.'!$D$24/'speed Calc.'!$E$24)*('speed Calc.'!$D$4/'speed Calc.'!$E$4)*'speed Calc.'!$D$8*PI()*('speed Calc.'!$D$6/'speed Calc.'!$E$6)/1000 -> 67.319843 | M5: =($D5*1000)/(F5*(1000/3600)) -> 3164.8491 | N5: =($D5*1000)/(G5*(1000/3600)) -> 2204.0913 | O5: =($D5*1000)/(H5*(1000/3600)) -> 1686.5314 | P5: =($D5*1000)/(I5*(1000/3600)) -> 1356.3639 | Q5: =($D5*1000)/(J5*(1000/3600)) -> 1135.2176 | R5: =($D5*1000)/(K5*(1000/3600)) -> 996.92746 | T5: =(0.5*$H$21*$H$20*(F5*1000/3600)*(F5*1000/3600)+(0.02*$H$22*9.81)) -> 47.699564 | U5: =(0.5*$H$21*$H$20*(G5*1000/3600)*(G5*1000/3600)+(0.02*$H$22*9.81)) -> 55.223663 | V5: =(0.5*$H$21*$H$20*(H5*1000/3600)*(H5*1000/3600)+(0.02*$H$22*9.81)) -> 65.56672 | W5: =(0.5*$H$21*$H$20*(I5*1000/3600)*(I5*1000/3600)+(0.02*$H$22*9.81)) -> 79.193626 | X5: =(0.5*$H$21*$H$20*(J5*1000/3600)*(J5*1000/3600)+(0.02*$H$22*9.81)) -> 95.688966 | Y5: =(0.5*$H$21*$H$20*(K5*1000/3600)*(K5*1000/3600)+(0.02*$H$22*9.81)) -> 112.02851
A6: =A5+500 -> 4500 | B6: 24 | C6: 27 | D6: =0.7457*B6 -> 17.8968 | F6: ='power data'!A6*60*('speed Calc.'!$D$14/'speed Calc.'!$E$14)*('speed Calc.'!$D$4/'speed Calc.'!$E$4)*'speed Calc.'!$D$8*PI()*('speed Calc.'!$D$6/'speed Calc.'!$E$6)/1000 -> 23.856469 | G6: ='power data'!$A6*60*('speed Calc.'!$D$16/'speed Calc.'!$E$16)*('speed Calc.'!$D$4/'speed Calc.'!$E$4)*'speed Calc.'!$D$8*PI()*('speed Calc.'!$D$6/'speed Calc.'!$E$6)/1000 -> 34.255443 | H6: ='power data'!$A6*60*('speed Calc.'!$D$18/'speed Calc.'!$E$18)*('speed Calc.'!$D$4/'speed Calc.'!$E$4)*'speed Calc.'!$D$8*PI()*('speed Calc.'!$D$6/'speed Calc.'!$E$6)/1000 -> 44.767695 | I6: ='power data'!$A6*60*('speed Calc.'!$D$20/'speed Calc.'!$E$20)*('speed Calc.'!$D$4/'speed Calc.'!$E$4)*'speed Calc.'!$D$8*PI()*('speed Calc.'!$D$6/'speed Calc.'!$E$6)/1000 -> 55.665095 | J6: ='power data'!$A6*60*('speed Calc.'!$D$22/'speed Calc.'!$E$22)*('speed Calc.'!$D$4/'speed Calc.'!$E$4)*'speed Calc.'!$D$8*PI()*('speed Calc.'!$D$6/'speed Calc.'!$E$6)/1000 -> 66.508944 | K6: ='power data'!$A6*60*('speed Calc.'!$D$24/'speed Calc.'!$E$24)*('speed Calc.'!$D$4/'speed Calc.'!$E$4)*'speed Calc.'!$D$8*PI()*('speed Calc.'!$D$6/'speed Calc.'!$E$6)/1000 -> 75.734823 | M6: =($D6*1000)/(F6*(1000/3600)) -> 2700.6712 | N6: =($D6*1000)/(G6*(1000/3600)) -> 1880.8246 | O6: =($D6*1000)/(H6*(1000/3600)) -> 1439.1735 | P6: =($D6*1000)/(I6*(1000/3600)) -> 1157.4305 | Q6: =($D6*1000)/(J6*(1000/3600)) -> 968.71903 | R6: =($D6*1000)/(K6*(1000/3600)) -> 850.71144 | T6: =(0.5*$H$21*$H$20*(F6*1000/3600)*(F6*1000/3600)+(0.02*$H$22*9.81)) -> 49.581826 | U6: =(0.5*$H$21*$H$20*(G6*1000/3600)*(G6*1000/3600)+(0.02*$H$22*9.81)) -> 59.104514 | V6: =(0.5*$H$21*$H$20*(H6*1000/3600)*(H6*1000/3600)+(0.02*$H$22*9.81)) -> 72.194945 | W6: =(0.5*$H$21*$H$20*(I6*1000/3600)*(I6*1000/3600)+(0.02*$H$22*9.81)) -> 89.441498 | X6: =(0.5*$H$21*$H$20*(J6*1000/3600)*(J6*1000/3600)+(0.02*$H$22*9.81)) -> 110.31841 | Y6: =(0.5*$H$21*$H$20*(K6*1000/3600)*(K6*1000/3600)+(0.02*$H$22*9.81)) -> 130.99814
A7: =A6+500 -> 5000 | B7: 26 | C7: 31 | D7: =0.7457*B7 -> 19.3882 | F7: ='power data'!A7*60*('speed Calc.'!$D$14/'speed Calc.'!$E$14)*('speed Calc.'!$D$4/'speed Calc.'!$E$4)*'speed Calc.'!$D$8*PI()*('speed Calc.'!$D$6/'speed Calc.'!$E$6)/1000 -> 26.507188 | G7: ='power data'!$A7*60*('speed Calc.'!$D$16/'speed Calc.'!$E$16)*('speed Calc.'!$D$4/'speed Calc.'!$E$4)*'speed Calc.'!$D$8*PI()*('speed Calc.'!$D$6/'speed Calc.'!$E$6)/1000 -> 38.061603 | H7: ='power data'!$A7*60*('speed Calc.'!$D$18/'speed Calc.'!$E$18)*('speed Calc.'!$D$4/'speed Calc.'!$E$4)*'speed Calc.'!$D$8*PI()*('speed Calc.'!$D$6/'speed Calc.'!$E$6)/1000 -> 49.741884 | I7: ='power data'!$A7*60*('speed Calc.'!$D$20/'speed Calc.'!$E$20)*('speed Calc.'!$D$4/'speed Calc.'!$E$4)*'speed Calc.'!$D$8*PI()*('speed Calc.'!$D$6/'speed Calc.'!$E$6)/1000 -> 61.850105 | J7: ='power data'!$A7*60*('speed Calc.'!$D$22/'speed Calc.'!$E$22)*('speed Calc.'!$D$4/'speed Calc.'!$E$4)*'speed Calc.'!$D$8*PI()*('speed Calc.'!$D$6/'speed Calc.'!$E$6)/1000 -> 73.898827 | K7: ='power data'!$A7*60*('speed Calc.'!$D$24/'speed Calc.'!$E$24)*('speed Calc.'!$D$4/'speed Calc.'!$E$4)*'speed Calc.'!$D$8*PI()*('speed Calc.'!$D$6/'speed Calc.'!$E$6)/1000 -> 84.149803 | M7: =($D7*1000)/(F7*(1000/3600)) -> 2633.1544 | N7: =($D7*1000)/(G7*(1000/3600)) -> 1833.804 | O7: =($D7*1000)/(H7*(1000/3600)) -> 1403.1941 | P7: =($D7*1000)/(I7*(1000/3600)) -> 1128.4948 | Q7: =($D7*1000)/(J7*(1000/3600)) -> 944.50105 | R7: =($D7*1000)/(K7*(1000/3600)) -> 829.44365 | T7: =(0.5*$H$21*$H$20*(F7*1000/3600)*(F7*1000/3600)+(0.02*$H$22*9.81)) -> 51.685531 | U7: =(0.5*$H$21*$H$20*(G7*1000/3600)*(G7*1000/3600)+(0.02*$H$22*9.81)) -> 63.441936 | V7: =(0.5*$H$21*$H$20*(H7*1000/3600)*(H7*1000/3600)+(0.02*$H$22*9.81)) -> 79.602962 | W7: =(0.5*$H$21*$H$20*(I7*1000/3600)*(I7*1000/3600)+(0.02*$H$22*9.81)) -> 100.895 | X7: =(0.5*$H$21*$H$20*(J7*1000/3600)*(J7*1000/3600)+(0.02*$H$22*9.81)) -> 126.66897 | Y7: =(0.5*$H$21*$H$20*(K7*1000/3600)*(K7*1000/3600)+(0.02*$H$22*9.81)) -> 152.1995
A8: =A7+500 -> 5500 | B8: 29 | C8: 36 | D8: =0.7457*B8 -> 21.6253 | F8: ='power data'!A8*60*('speed Calc.'!$D$14/'speed Calc.'!$E$14)*('speed Calc.'!$D$4/'speed Calc.'!$E$4)*'speed Calc.'!$D$8*PI()*('speed Calc.'!$D$6/'speed Calc.'!$E$6)/1000 -> 29.157907 | G8: ='power data'!$A8*60*('speed Calc.'!$D$16/'speed Calc.'!$E$16)*('speed Calc.'!$D$4/'speed Calc.'!$E$4)*'speed Calc.'!$D$8*PI()*('speed Calc.'!$D$6/'speed Calc.'!$E$6)/1000 -> 41.867764 | H8: ='power data'!$A8*60*('speed Calc.'!$D$18/'speed Calc.'!$E$18)*('speed Calc.'!$D$4/'speed Calc.'!$E$4)*'speed Calc.'!$D$8*PI()*('speed Calc.'!$D$6/'speed Calc.'!$E$6)/1000 -> 54.716072 | I8: ='power data'!$A8*60*('speed Calc.'!$D$20/'speed Calc.'!$E$20)*('speed Calc.'!$D$4/'speed Calc.'!$E$4)*'speed Calc.'!$D$8*PI()*('speed Calc.'!$D$6/'speed Calc.'!$E$6)/1000 -> 68.035116 | J8: ='power data'!$A8*60*('speed Calc.'!$D$22/'speed Calc.'!$E$22)*('speed Calc.'!$D$4/'speed Calc.'!$E$4)*'speed Calc.'!$D$8*PI()*('speed Calc.'!$D$6/'speed Calc.'!$E$6)/1000 -> 81.28871 | K8: ='power data'!$A8*60*('speed Calc.'!$D$24/'speed Calc.'!$E$24)*('speed Calc.'!$D$4/'speed Calc.'!$E$4)*'speed Calc.'!$D$8*PI()*('speed Calc.'!$D$6/'speed Calc.'!$E$6)/1000 -> 92.564784 | M8: =($D8*1000)/(F8*(1000/3600)) -> 2669.9818 | N8: =($D8*1000)/(G8*(1000/3600)) -> 1859.4516 | O8: =($D8*1000)/(H8*(1000/3600)) -> 1422.8192 | P8: =($D8*1000)/(I8*(1000/3600)) -> 1144.2779 | Q8: =($D8*1000)/(J8*(1000/3600)) -> 957.71086 | R8: =($D8*1000)/(K8*(1000/3600)) -> 841.04426 | T8: =(0.5*$H$21*$H$20*(F8*1000/3600)*(F8*1000/3600)+(0.02*$H$22*9.81)) -> 54.010679 | U8: =(0.5*$H$21*$H$20*(G8*1000/3600)*(G8*1000/3600)+(0.02*$H$22*9.81)) -> 68.235929 | V8: =(0.5*$H$21*$H$20*(H8*1000/3600)*(H8*1000/3600)+(0.02*$H$22*9.81)) -> 87.79077 | W8: =(0.5*$H$21*$H$20*(I8*1000/3600)*(I8*1000/3600)+(0.02*$H$22*9.81)) -> 113.55414 | X8: =(0.5*$H$21*$H$20*(J8*1000/3600)*(J8*1000/3600)+(0.02*$H$22*9.81)) -> 144.74064 | Y8: =(0.5*$H$21*$H$20*(K8*1000/3600)*(K8*1000/3600)+(0.02*$H$22*9.81)) -> 175.63259
A9: =A8+500 -> 6000 | B9: 34 | C9: 37.5 | D9: =0.7457*B9 -> 25.3538 | F9: ='power data'!A9*60*('speed Calc.'!$D$14/'speed Calc.'!$E$14)*('speed Calc.'!$D$4/'speed Calc.'!$E$4)*'speed Calc.'!$D$8*PI()*('speed Calc.'!$D$6/'speed Calc.'!$E$6)/1000 -> 31.808626 | G9: ='power data'!$A9*60*('speed Calc.'!$D$16/'speed Calc.'!$E$16)*('speed Calc.'!$D$4/'speed Calc.'!$E$4)*'speed Calc.'!$D$8*PI()*('speed Calc.'!$D$6/'speed Calc.'!$E$6)/1000 -> 45.673924 | H9: ='power data'!$A9*60*('speed Calc.'!$D$18/'speed Calc.'!$E$18)*('speed Calc.'!$D$4/'speed Calc.'!$E$4)*'speed Calc.'!$D$8*PI()*('speed Calc.'!$D$6/'speed Calc.'!$E$6)/1000 -> 59.69026 | I9: ='power data'!$A9*60*('speed Calc.'!$D$20/'speed Calc.'!$E$20)*('speed Calc.'!$D$4/'speed Calc.'!$E$4)*'speed Calc.'!$D$8*PI()*('speed Calc.'!$D$6/'speed Calc.'!$E$6)/1000 -> 74.220126 | J9: ='power data'!$A9*60*('speed Calc.'!$D$22/'speed Calc.'!$E$22)*('speed Calc.'!$D$4/'speed Calc.'!$E$4)*'speed Calc.'!$D$8*PI()*('speed Calc.'!$D$6/'speed Calc.'!$E$6)/1000 -> 88.678593 | K9: ='power data'!$A9*60*('speed Calc.'!$D$24/'speed Calc.'!$E$24)*('speed Calc.'!$D$4/'speed Calc.'!$E$4)*'speed Calc.'!$D$8*PI()*('speed Calc.'!$D$6/'speed Calc.'!$E$6)/1000 -> 100.97976 | M9: =($D9*1000)/(F9*(1000/3600)) -> 2869.4632 | N9: =($D9*1000)/(G9*(1000/3600)) -> 1998.3761 | O9: =($D9*1000)/(H9*(1000/3600)) -> 1529.1218 | P9: =($D9*1000)/(I9*(1000/3600)) -> 1229.7699 | Q9: =($D9*1000)/(J9*(1000/3600)) -> 1029.264 | R9: =($D9*1000)/(K9*(1000/3600)) -> 903.8809 | T9: =(0.5*$H$21*$H$20*(F9*1000/3600)*(F9*1000/3600)+(0.02*$H$22*9.81)) -> 56.557269 | U9: =(0.5*$H$21*$H$20*(G9*1000/3600)*(G9*1000/3600)+(0.02*$H$22*9.81)) -> 73.486492 | V9: =(0.5*$H$21*$H$20*(H9*1000/3600)*(H9*1000/3600)+(0.02*$H$22*9.81)) -> 96.75837 | W9: =(0.5*$H$21*$H$20*(I9*1000/3600)*(I9*1000/3600)+(0.02*$H$22*9.81)) -> 127.41891 | X9: =(0.5*$H$21*$H$20*(J9*1000/3600)*(J9*1000/3600)+(0.02*$H$22*9.81)) -> 164.53342 | Y9: =(0.5*$H$21*$H$20*(K9*1000/3600)*(K9*1000/3600)+(0.02*$H$22*9.81)) -> 201.29739
A10: =A9+500 -> 6500 | B10: 36 | C10: 37 | D10: =0.7457*B10 -> 26.8452 | F10: ='power data'!A10*60*('speed Calc.'!$D$14/'speed Calc.'!$E$14)*('speed Calc.'!$D$4/'speed Calc.'!$E$4)*'speed Calc.'!$D$8*PI()*('speed Calc.'!$D$6/'speed Calc.'!$E$6)/1000 -> 34.459344 | G10: ='power data'!$A10*60*('speed Calc.'!$D$16/'speed Calc.'!$E$16)*('speed Calc.'!$D$4/'speed Calc.'!$E$4)*'speed Calc.'!$D$8*PI()*('speed Calc.'!$D$6/'speed Calc.'!$E$6)/1000 -> 49.480084 | H10: ='power data'!$A10*60*('speed Calc.'!$D$18/'speed Calc.'!$E$18)*('speed Calc.'!$D$4/'speed Calc.'!$E$4)*'speed Calc.'!$D$8*PI()*('speed Calc.'!$D$6/'speed Calc.'!$E$6)/1000 -> 64.664449 | I10: ='power data'!$A10*60*('speed Calc.'!$D$20/'speed Calc.'!$E$20)*('speed Calc.'!$D$4/'speed Calc.'!$E$4)*'speed Calc.'!$D$8*PI()*('speed Calc.'!$D$6/'speed Calc.'!$E$6)/1000 -> 80.405137 | J10: ='power data'!$A10*60*('speed Calc.'!$D$22/'speed Calc.'!$E$22)*('speed Calc.'!$D$4/'speed Calc.'!$E$4)*'speed Calc.'!$D$8*PI()*('speed Calc.'!$D$6/'speed Calc.'!$E$6)/1000 -> 96.068475 | K10: ='power data'!$A10*60*('speed Calc.'!$D$24/'speed Calc.'!$E$24)*('speed Calc.'!$D$4/'speed Calc.'!$E$4)*'speed Calc.'!$D$8*PI()*('speed Calc.'!$D$6/'speed Calc.'!$E$6)/1000 -> 109.39474 | M10: =($D10*1000)/(F10*(1000/3600)) -> 2804.5432 | N10: =($D10*1000)/(G10*(1000/3600)) -> 1953.164 | O10: =($D10*1000)/(H10*(1000/3600)) -> 1494.5263 | P10: =($D10*1000)/(I10*(1000/3600)) -> 1201.9471 | Q10: =($D10*1000)/(J10*(1000/3600)) -> 1005.9775 | R10: =($D10*1000)/(K10*(1000/3600)) -> 883.43111 | T10: =(0.5*$H$21*$H$20*(F10*1000/3600)*(F10*1000/3600)+(0.02*$H$22*9.81)) -> 59.325302 | U10: =(0.5*$H$21*$H$20*(G10*1000/3600)*(G10*1000/3600)+(0.02*$H$22*9.81)) -> 79.193626 | V10: =(0.5*$H$21*$H$20*(H10*1000/3600)*(H10*1000/3600)+(0.02*$H$22*9.81)) -> 106.50576 | W10: =(0.5*$H$21*$H$20*(I10*1000/3600)*(I10*1000/3600)+(0.02*$H$22*9.81)) -> 142.48931 | X10: =(0.5*$H$21*$H$20*(J10*1000/3600)*(J10*1000/3600)+(0.02*$H$22*9.81)) -> 186.04732 | Y10: =(0.5*$H$21*$H$20*(K10*1000/3600)*(K10*1000/3600)+(0.02*$H$22*9.81)) -> 229.19391
A11: =A10+500 -> 7000 | B11: 42 | C11: 42 | D11: =0.7457*B11 -> 31.3194 | F11: ='power data'!A11*60*('speed Calc.'!$D$14/'speed Calc.'!$E$14)*('speed Calc.'!$D$4/'speed Calc.'!$E$4)*'speed Calc.'!$D$8*PI()*('speed Calc.'!$D$6/'speed Calc.'!$E$6)/1000 -> 37.110063 | G11: ='power data'!$A11*60*('speed Calc.'!$D$16/'speed Calc.'!$E$16)*('speed Calc.'!$D$4/'speed Calc.'!$E$4)*'speed Calc.'!$D$8*PI()*('speed Calc.'!$D$6/'speed Calc.'!$E$6)/1000 -> 53.286245 | H11: ='power data'!$A11*60*('speed Calc.'!$D$18/'speed Calc.'!$E$18)*('speed Calc.'!$D$4/'speed Calc.'!$E$4)*'speed Calc.'!$D$8*PI()*('speed Calc.'!$D$6/'speed Calc.'!$E$6)/1000 -> 69.638637 | I11: ='power data'!$A11*60*('speed Calc.'!$D$20/'speed Calc.'!$E$20)*('speed Calc.'!$D$4/'speed Calc.'!$E$4)*'speed Calc.'!$D$8*PI()*('speed Calc.'!$D$6/'speed Calc.'!$E$6)/1000 -> 86.590148 | J11: ='power data'!$A11*60*('speed Calc.'!$D$22/'speed Calc.'!$E$22)*('speed Calc.'!$D$4/'speed Calc.'!$E$4)*'speed Calc.'!$D$8*PI()*('speed Calc.'!$D$6/'speed Calc.'!$E$6)/1000 -> 103.45836 | K11: ='power data'!$A11*60*('speed Calc.'!$D$24/'speed Calc.'!$E$24)*('speed Calc.'!$D$4/'speed Calc.'!$E$4)*'speed Calc.'!$D$8*PI()*('speed Calc.'!$D$6/'speed Calc.'!$E$6)/1000 -> 117.80972 | M11: =($D11*1000)/(F11*(1000/3600)) -> 3038.2551 | N11: =($D11*1000)/(G11*(1000/3600)) -> 2115.9277 | O11: =($D11*1000)/(H11*(1000/3600)) -> 1619.0702 | P11: =($D11*1000)/(I11*(1000/3600)) -> 1302.1093 | Q11: =($D11*1000)/(J11*(1000/3600)) -> 1089.8089 | R11: =($D11*1000)/(K11*(1000/3600)) -> 957.05037 | T11: =(0.5*$H$21*$H$20*(F11*1000/3600)*(F11*1000/3600)+(0.02*$H$22*9.81)) -> 62.314777 | U11: =(0.5*$H$21*$H$20*(G11*1000/3600)*(G11*1000/3600)+(0.02*$H$22*9.81)) -> 85.35733 | V11: =(0.5*$H$21*$H$20*(H11*1000/3600)*(H11*1000/3600)+(0.02*$H$22*9.81)) -> 117.03294 | W11: =(0.5*$H$21*$H$20*(I11*1000/3600)*(I11*1000/3600)+(0.02*$H$22*9.81)) -> 158.76534 | X11: =(0.5*$H$21*$H$20*(J11*1000/3600)*(J11*1000/3600)+(0.02*$H$22*9.81)) -> 209.28232 | Y11: =(0.5*$H$21*$H$20*(K11*1000/3600)*(K11*1000/3600)+(0.02*$H$22*9.81)) -> 259.32216
A12: =A11+500 -> 7500 | B12: 44 | C12: 41 | D12: =0.7457*B12 -> 32.8108 | F12: ='power data'!A12*60*('speed Calc.'!$D$14/'speed Calc.'!$E$14)*('speed Calc.'!$D$4/'speed Calc.'!$E$4)*'speed Calc.'!$D$8*PI()*('speed Calc.'!$D$6/'speed Calc.'!$E$6)/1000 -> 39.760782 | G12: ='power data'!$A12*60*('speed Calc.'!$D$16/'speed Calc.'!$E$16)*('speed Calc.'!$D$4/'speed Calc.'!$E$4)*'speed Calc.'!$D$8*PI()*('speed Calc.'!$D$6/'speed Calc.'!$E$6)/1000 -> 57.092405 | H12: ='power data'!$A12*60*('speed Calc.'!$D$18/'speed Calc.'!$E$18)*('speed Calc.'!$D$4/'speed Calc.'!$E$4)*'speed Calc.'!$D$8*PI()*('speed Calc.'!$D$6/'speed Calc.'!$E$6)/1000 -> 74.612826 | I12: ='power data'!$A12*60*('speed Calc.'!$D$20/'speed Calc.'!$E$20)*('speed Calc.'!$D$4/'speed Calc.'!$E$4)*'speed Calc.'!$D$8*PI()*('speed Calc.'!$D$6/'speed Calc.'!$E$6)/1000 -> 92.775158 | J12: ='power data'!$A12*60*('speed Calc.'!$D$22/'speed Calc.'!$E$22)*('speed Calc.'!$D$4/'speed Calc.'!$E$4)*'speed Calc.'!$D$8*PI()*('speed Calc.'!$D$6/'speed Calc.'!$E$6)/1000 -> 110.84824 | K12: ='power data'!$A12*60*('speed Calc.'!$D$24/'speed Calc.'!$E$24)*('speed Calc.'!$D$4/'speed Calc.'!$E$4)*'speed Calc.'!$D$8*PI()*('speed Calc.'!$D$6/'speed Calc.'!$E$6)/1000 -> 126.2247 | M12: =($D12*1000)/(F12*(1000/3600)) -> 2970.7384 | N12: =($D12*1000)/(G12*(1000/3600)) -> 2068.9071 | O12: =($D12*1000)/(H12*(1000/3600)) -> 1583.0908 | P12: =($D12*1000)/(I12*(1000/3600)) -> 1273.1736 | Q12: =($D12*1000)/(J12*(1000/3600)) -> 1065.5909 | R12: =($D12*1000)/(K12*(1000/3600)) -> 935.78258 | T12: =(0.5*$H$21*$H$20*(F12*1000/3600)*(F12*1000/3600)+(0.02*$H$22*9.81)) -> 65.525695 | U12: =(0.5*$H$21*$H$20*(G12*1000/3600)*(G12*1000/3600)+(0.02*$H$22*9.81)) -> 91.977606 | V12: =(0.5*$H$21*$H$20*(H12*1000/3600)*(H12*1000/3600)+(0.02*$H$22*9.81)) -> 128.33991 | W12: =(0.5*$H$21*$H$20*(I12*1000/3600)*(I12*1000/3600)+(0.02*$H$22*9.81)) -> 176.24701 | X12: =(0.5*$H$21*$H$20*(J12*1000/3600)*(J12*1000/3600)+(0.02*$H$22*9.81)) -> 234.23844 | Y12: =(0.5*$H$21*$H$20*(K12*1000/3600)*(K12*1000/3600)+(0.02*$H$22*9.81)) -> 291.68213
A13: =A12+500 -> 8000 | B13: 47 | C13: 41 | D13: =0.7457*B13 -> 35.0479 | F13: ='power data'!A13*60*('speed Calc.'!$D$14/'speed Calc.'!$E$14)*('speed Calc.'!$D$4/'speed Calc.'!$E$4)*'speed Calc.'!$D$8*PI()*('speed Calc.'!$D$6/'speed Calc.'!$E$6)/1000 -> 42.411501 | G13: ='power data'!$A13*60*('speed Calc.'!$D$16/'speed Calc.'!$E$16)*('speed Calc.'!$D$4/'speed Calc.'!$E$4)*'speed Calc.'!$D$8*PI()*('speed Calc.'!$D$6/'speed Calc.'!$E$6)/1000 -> 60.898565 | H13: ='power data'!$A13*60*('speed Calc.'!$D$18/'speed Calc.'!$E$18)*('speed Calc.'!$D$4/'speed Calc.'!$E$4)*'speed Calc.'!$D$8*PI()*('speed Calc.'!$D$6/'speed Calc.'!$E$6)/1000 -> 79.587014 | I13: ='power data'!$A13*60*('speed Calc.'!$D$20/'speed Calc.'!$E$20)*('speed Calc.'!$D$4/'speed Calc.'!$E$4)*'speed Calc.'!$D$8*PI()*('speed Calc.'!$D$6/'speed Calc.'!$E$6)/1000 -> 98.960169 | J13: ='power data'!$A13*60*('speed Calc.'!$D$22/'speed Calc.'!$E$22)*('speed Calc.'!$D$4/'speed Calc.'!$E$4)*'speed Calc.'!$D$8*PI()*('speed Calc.'!$D$6/'speed Calc.'!$E$6)/1000 -> 118.23812 | K13: ='power data'!$A13*60*('speed Calc.'!$D$24/'speed Calc.'!$E$24)*('speed Calc.'!$D$4/'speed Calc.'!$E$4)*'speed Calc.'!$D$8*PI()*('speed Calc.'!$D$6/'speed Calc.'!$E$6)/1000 -> 134.63969 | M13: =($D13*1000)/(F13*(1000/3600)) -> 2974.9581 | N13: =($D13*1000)/(G13*(1000/3600)) -> 2071.8459 | O13: =($D13*1000)/(H13*(1000/3600)) -> 1585.3395 | P13: =($D13*1000)/(I13*(1000/3600)) -> 1274.9821 | Q13: =($D13*1000)/(J13*(1000/3600)) -> 1067.1046 | R13: =($D13*1000)/(K13*(1000/3600)) -> 937.11182 | T13: =(0.5*$H$21*$H$20*(F13*1000/3600)*(F13*1000/3600)+(0.02*$H$22*9.81)) -> 68.958056 | U13: =(0.5*$H$21*$H$20*(G13*1000/3600)*(G13*1000/3600)+(0.02*$H$22*9.81)) -> 99.054452 | V13: =(0.5*$H$21*$H$20*(H13*1000/3600)*(H13*1000/3600)+(0.02*$H$22*9.81)) -> 140.42668 | W13: =(0.5*$H$21*$H$20*(I13*1000/3600)*(I13*1000/3600)+(0.02*$H$22*9.81)) -> 194.9343 | X13: =(0.5*$H$21*$H$20*(J13*1000/3600)*(J13*1000/3600)+(0.02*$H$22*9.81)) -> 260.91566 | Y13: =(0.5*$H$21*$H$20*(K13*1000/3600)*(K13*1000/3600)+(0.02*$H$22*9.81)) -> 326.27383
A14: =A13+500 -> 8500 | B14: 49 | C14: 40 | D14: =0.7457*B14 -> 36.5393 | F14: ='power data'!A14*60*('speed Calc.'!$D$14/'speed Calc.'!$E$14)*('speed Calc.'!$D$4/'speed Calc.'!$E$4)*'speed Calc.'!$D$8*PI()*('speed Calc.'!$D$6/'speed Calc.'!$E$6)/1000 -> 45.06222 | G14: ='power data'!$A14*60*('speed Calc.'!$D$16/'speed Calc.'!$E$16)*('speed Calc.'!$D$4/'speed Calc.'!$E$4)*'speed Calc.'!$D$8*PI()*('speed Calc.'!$D$6/'speed Calc.'!$E$6)/1000 -> 64.704726 | H14: ='power data'!$A14*60*('speed Calc.'!$D$18/'speed Calc.'!$E$18)*('speed Calc.'!$D$4/'speed Calc.'!$E$4)*'speed Calc.'!$D$8*PI()*('speed Calc.'!$D$6/'speed Calc.'!$E$6)/1000 -> 84.561202 | I14: ='power data'!$A14*60*('speed Calc.'!$D$20/'speed Calc.'!$E$20)*('speed Calc.'!$D$4/'speed Calc.'!$E$4)*'speed Calc.'!$D$8*PI()*('speed Calc.'!$D$6/'speed Calc.'!$E$6)/1000 -> 105.14518 | J14: ='power data'!$A14*60*('speed Calc.'!$D$22/'speed Calc.'!$E$22)*('speed Calc.'!$D$4/'speed Calc.'!$E$4)*'speed Calc.'!$D$8*PI()*('speed Calc.'!$D$6/'speed Calc.'!$E$6)/1000 -> 125.62801 | K14: ='power data'!$A14*60*('speed Calc.'!$D$24/'speed Calc.'!$E$24)*('speed Calc.'!$D$4/'speed Calc.'!$E$4)*'speed Calc.'!$D$8*PI()*('speed Calc.'!$D$6/'speed Calc.'!$E$6)/1000 -> 143.05467 | M14: =($D14*1000)/(F14*(1000/3600)) -> 2919.1079 | N14: =($D14*1000)/(G14*(1000/3600)) -> 2032.9501 | O14: =($D14*1000)/(H14*(1000/3600)) -> 1555.5772 | P14: =($D14*1000)/(I14*(1000/3600)) -> 1251.0462 | Q14: =($D14*1000)/(J14*(1000/3600)) -> 1047.0713 | R14: =($D14*1000)/(K14*(1000/3600)) -> 919.51898 | T14: =(0.5*$H$21*$H$20*(F14*1000/3600)*(F14*1000/3600)+(0.02*$H$22*9.81)) -> 72.611859 | U14: =(0.5*$H$21*$H$20*(G14*1000/3600)*(G14*1000/3600)+(0.02*$H$22*9.81)) -> 106.58787 | V14: =(0.5*$H$21*$H$20*(H14*1000/3600)*(H14*1000/3600)+(0.02*$H$22*9.81)) -> 153.29323 | W14: =(0.5*$H$21*$H$20*(I14*1000/3600)*(I14*1000/3600)+(0.02*$H$22*9.81)) -> 214.82723 | X14: =(0.5*$H$21*$H$20*(J14*1000/3600)*(J14*1000/3600)+(0.02*$H$22*9.81)) -> 289.314 | Y14: =(0.5*$H$21*$H$20*(K14*1000/3600)*(K14*1000/3600)+(0.02*$H$22*9.81)) -> 363.09724
A15: =A14+500 -> 9000 | B15: 50 | C15: 39 | D15: =0.7457*B15 -> 37.285 | F15: ='power data'!A15*60*('speed Calc.'!$D$14/'speed Calc.'!$E$14)*('speed Calc.'!$D$4/'speed Calc.'!$E$4)*'speed Calc.'!$D$8*PI()*('speed Calc.'!$D$6/'speed Calc.'!$E$6)/1000 -> 47.712938 | G15: ='power data'!$A15*60*('speed Calc.'!$D$16/'speed Calc.'!$E$16)*('speed Calc.'!$D$4/'speed Calc.'!$E$4)*'speed Calc.'!$D$8*PI()*('speed Calc.'!$D$6/'speed Calc.'!$E$6)/1000 -> 68.510886 | H15: ='power data'!$A15*60*('speed Calc.'!$D$18/'speed Calc.'!$E$18)*('speed Calc.'!$D$4/'speed Calc.'!$E$4)*'speed Calc.'!$D$8*PI()*('speed Calc.'!$D$6/'speed Calc.'!$E$6)/1000 -> 89.535391 | I15: ='power data'!$A15*60*('speed Calc.'!$D$20/'speed Calc.'!$E$20)*('speed Calc.'!$D$4/'speed Calc.'!$E$4)*'speed Calc.'!$D$8*PI()*('speed Calc.'!$D$6/'speed Calc.'!$E$6)/1000 -> 111.33019 | J15: ='power data'!$A15*60*('speed Calc.'!$D$22/'speed Calc.'!$E$22)*('speed Calc.'!$D$4/'speed Calc.'!$E$4)*'speed Calc.'!$D$8*PI()*('speed Calc.'!$D$6/'speed Calc.'!$E$6)/1000 -> 133.01789 | K15: ='power data'!$A15*60*('speed Calc.'!$D$24/'speed Calc.'!$E$24)*('speed Calc.'!$D$4/'speed Calc.'!$E$4)*'speed Calc.'!$D$8*PI()*('speed Calc.'!$D$6/'speed Calc.'!$E$6)/1000 -> 151.46965 | M15: =($D15*1000)/(F15*(1000/3600)) -> 2813.1992 | N15: =($D15*1000)/(G15*(1000/3600)) -> 1959.1923 | O15: =($D15*1000)/(H15*(1000/3600)) -> 1499.139 | P15: =($D15*1000)/(I15*(1000/3600)) -> 1205.6568 | Q15: =($D15*1000)/(J15*(1000/3600)) -> 1009.0823 | R15: =($D15*1000)/(K15*(1000/3600)) -> 886.15775 | T15: =(0.5*$H$21*$H$20*(F15*1000/3600)*(F15*1000/3600)+(0.02*$H$22*9.81)) -> 76.487105 | U15: =(0.5*$H$21*$H$20*(G15*1000/3600)*(G15*1000/3600)+(0.02*$H$22*9.81)) -> 114.57786 | V15: =(0.5*$H$21*$H$20*(H15*1000/3600)*(H15*1000/3600)+(0.02*$H$22*9.81)) -> 166.93958 | W15: =(0.5*$H$21*$H$20*(I15*1000/3600)*(I15*1000/3600)+(0.02*$H$22*9.81)) -> 235.92579 | X15: =(0.5*$H$21*$H$20*(J15*1000/3600)*(J15*1000/3600)+(0.02*$H$22*9.81)) -> 319.43345 | Y15: =(0.5*$H$21*$H$20*(K15*1000/3600)*(K15*1000/3600)+(0.02*$H$22*9.81)) -> 402.15238
A16: =A15+500 -> 9500 | B16: 52 | C16: 38 | D16: =0.7457*B16 -> 38.7764 | F16: ='power data'!A16*60*('speed Calc.'!$D$14/'speed Calc.'!$E$14)*('speed Calc.'!$D$4/'speed Calc.'!$E$4)*'speed Calc.'!$D$8*PI()*('speed Calc.'!$D$6/'speed Calc.'!$E$6)/1000 -> 50.363657 | G16: ='power data'!$A16*60*('speed Calc.'!$D$16/'speed Calc.'!$E$16)*('speed Calc.'!$D$4/'speed Calc.'!$E$4)*'speed Calc.'!$D$8*PI()*('speed Calc.'!$D$6/'speed Calc.'!$E$6)/1000 -> 72.317046 | H16: ='power data'!$A16*60*('speed Calc.'!$D$18/'speed Calc.'!$E$18)*('speed Calc.'!$D$4/'speed Calc.'!$E$4)*'speed Calc.'!$D$8*PI()*('speed Calc.'!$D$6/'speed Calc.'!$E$6)/1000 -> 94.509579 | I16: ='power data'!$A16*60*('speed Calc.'!$D$20/'speed Calc.'!$E$20)*('speed Calc.'!$D$4/'speed Calc.'!$E$4)*'speed Calc.'!$D$8*PI()*('speed Calc.'!$D$6/'speed Calc.'!$E$6)/1000 -> 117.5152 | J16: ='power data'!$A16*60*('speed Calc.'!$D$22/'speed Calc.'!$E$22)*('speed Calc.'!$D$4/'speed Calc.'!$E$4)*'speed Calc.'!$D$8*PI()*('speed Calc.'!$D$6/'speed Calc.'!$E$6)/1000 -> 140.40777 | K16: ='power data'!$A16*60*('speed Calc.'!$D$24/'speed Calc.'!$E$24)*('speed Calc.'!$D$4/'speed Calc.'!$E$4)*'speed Calc.'!$D$8*PI()*('speed Calc.'!$D$6/'speed Calc.'!$E$6)/1000 -> 159.88463 | M16: =($D16*1000)/(F16*(1000/3600)) -> 2771.7415 | N16: =($D16*1000)/(G16*(1000/3600)) -> 1930.32 | O16: =($D16*1000)/(H16*(1000/3600)) -> 1477.0465 | P16: =($D16*1000)/(I16*(1000/3600)) -> 1187.8892 | Q16: =($D16*1000)/(J16*(1000/3600)) -> 994.21163 | R16: =($D16*1000)/(K16*(1000/3600)) -> 873.09858 | T16: =(0.5*$H$21*$H$20*(F16*1000/3600)*(F16*1000/3600)+(0.02*$H$22*9.81)) -> 80.583793 | U16: =(0.5*$H$21*$H$20*(G16*1000/3600)*(G16*1000/3600)+(0.02*$H$22*9.81)) -> 123.02441 | V16: =(0.5*$H$21*$H$20*(H16*1000/3600)*(H16*1000/3600)+(0.02*$H$22*9.81)) -> 181.36572 | W16: =(0.5*$H$21*$H$20*(I16*1000/3600)*(I16*1000/3600)+(0.02*$H$22*9.81)) -> 258.22999 | X16: =(0.5*$H$21*$H$20*(J16*1000/3600)*(J16*1000/3600)+(0.02*$H$22*9.81)) -> 351.27401 | Y16: =(0.5*$H$21*$H$20*(K16*1000/3600)*(K16*1000/3600)+(0.02*$H$22*9.81)) -> 443.43923
A17: =A16+500 -> 10000 | B17: 53 | C17: 37 | D17: =0.7457*B17 -> 39.5221 | F17: ='power data'!A17*60*('speed Calc.'!$D$14/'speed Calc.'!$E$14)*('speed Calc.'!$D$4/'speed Calc.'!$E$4)*'speed Calc.'!$D$8*PI()*('speed Calc.'!$D$6/'speed Calc.'!$E$6)/1000 -> 53.014376 | G17: ='power data'!$A17*60*('speed Calc.'!$D$16/'speed Calc.'!$E$16)*('speed Calc.'!$D$4/'speed Calc.'!$E$4)*'speed Calc.'!$D$8*PI()*('speed Calc.'!$D$6/'speed Calc.'!$E$6)/1000 -> 76.123207 | H17: ='power data'!$A17*60*('speed Calc.'!$D$18/'speed Calc.'!$E$18)*('speed Calc.'!$D$4/'speed Calc.'!$E$4)*'speed Calc.'!$D$8*PI()*('speed Calc.'!$D$6/'speed Calc.'!$E$6)/1000 -> 99.483767 | I17: ='power data'!$A17*60*('speed Calc.'!$D$20/'speed Calc.'!$E$20)*('speed Calc.'!$D$4/'speed Calc.'!$E$4)*'speed Calc.'!$D$8*PI()*('speed Calc.'!$D$6/'speed Calc.'!$E$6)/1000 -> 123.70021 | J17: ='power data'!$A17*60*('speed Calc.'!$D$22/'speed Calc.'!$E$22)*('speed Calc.'!$D$4/'speed Calc.'!$E$4)*'speed Calc.'!$D$8*PI()*('speed Calc.'!$D$6/'speed Calc.'!$E$6)/1000 -> 147.79765 | K17: ='power data'!$A17*60*('speed Calc.'!$D$24/'speed Calc.'!$E$24)*('speed Calc.'!$D$4/'speed Calc.'!$E$4)*'speed Calc.'!$D$8*PI()*('speed Calc.'!$D$6/'speed Calc.'!$E$6)/1000 -> 168.29961 | M17: =($D17*1000)/(F17*(1000/3600)) -> 2683.792 | N17: =($D17*1000)/(G17*(1000/3600)) -> 1869.0695 | O17: =($D17*1000)/(H17*(1000/3600)) -> 1430.1786 | P17: =($D17*1000)/(I17*(1000/3600)) -> 1150.1966 | Q17: =($D17*1000)/(J17*(1000/3600)) -> 962.66453 | R17: =($D17*1000)/(K17*(1000/3600)) -> 845.39449 | T17: =(0.5*$H$21*$H$20*(F17*1000/3600)*(F17*1000/3600)+(0.02*$H$22*9.81)) -> 84.901924 | U17: =(0.5*$H$21*$H$20*(G17*1000/3600)*(G17*1000/3600)+(0.02*$H$22*9.81)) -> 131.92754 | V17: =(0.5*$H$21*$H$20*(H17*1000/3600)*(H17*1000/3600)+(0.02*$H$22*9.81)) -> 196.57165 | W17: =(0.5*$H$21*$H$20*(I17*1000/3600)*(I17*1000/3600)+(0.02*$H$22*9.81)) -> 281.73981 | X17: =(0.5*$H$21*$H$20*(J17*1000/3600)*(J17*1000/3600)+(0.02*$H$22*9.81)) -> 384.83569 | Y17: =(0.5*$H$21*$H$20*(K17*1000/3600)*(K17*1000/3600)+(0.02*$H$22*9.81)) -> 486.95781
A18: 10200 | B18: 53.9 | C18: 36 | D18: =0.7457*B18 -> 40.19323 | F18: ='power data'!A18*60*('speed Calc.'!$D$14/'speed Calc.'!$E$14)*('speed Calc.'!$D$4/'speed Calc.'!$E$4)*'speed Calc.'!$D$8*PI()*('speed Calc.'!$D$6/'speed Calc.'!$E$6)/1000 -> 54.074664 | G18: ='power data'!$A18*60*('speed Calc.'!$D$16/'speed Calc.'!$E$16)*('speed Calc.'!$D$4/'speed Calc.'!$E$4)*'speed Calc.'!$D$8*PI()*('speed Calc.'!$D$6/'speed Calc.'!$E$6)/1000 -> 77.645671 | H18: ='power data'!$A18*60*('speed Calc.'!$D$18/'speed Calc.'!$E$18)*('speed Calc.'!$D$4/'speed Calc.'!$E$4)*'speed Calc.'!$D$8*PI()*('speed Calc.'!$D$6/'speed Calc.'!$E$6)/1000 -> 101.47344 | I18: ='power data'!$A18*60*('speed Calc.'!$D$20/'speed Calc.'!$E$20)*('speed Calc.'!$D$4/'speed Calc.'!$E$4)*'speed Calc.'!$D$8*PI()*('speed Calc.'!$D$6/'speed Calc.'!$E$6)/1000 -> 126.17421 | J18: ='power data'!$A18*60*('speed Calc.'!$D$22/'speed Calc.'!$E$22)*('speed Calc.'!$D$4/'speed Calc.'!$E$4)*'speed Calc.'!$D$8*PI()*('speed Calc.'!$D$6/'speed Calc.'!$E$6)/1000 -> 150.75361 | K18: ='power data'!$A18*60*('speed Calc.'!$D$24/'speed Calc.'!$E$24)*('speed Calc.'!$D$4/'speed Calc.'!$E$4)*'speed Calc.'!$D$8*PI()*('speed Calc.'!$D$6/'speed Calc.'!$E$6)/1000 -> 171.6656 | M18: =($D18*1000)/(F18*(1000/3600)) -> 2675.8489 | N18: =($D18*1000)/(G18*(1000/3600)) -> 1863.5376 | O18: =($D18*1000)/(H18*(1000/3600)) -> 1425.9458 | P18: =($D18*1000)/(I18*(1000/3600)) -> 1146.7924 | Q18: =($D18*1000)/(J18*(1000/3600)) -> 959.81536 | R18: =($D18*1000)/(K18*(1000/3600)) -> 842.8924 | T18: =(0.5*$H$21*$H$20*(F18*1000/3600)*(F18*1000/3600)+(0.02*$H$22*9.81)) -> 86.691181 | U18: =(0.5*$H$21*$H$20*(G18*1000/3600)*(G18*1000/3600)+(0.02*$H$22*9.81)) -> 135.61664 | V18: =(0.5*$H$21*$H$20*(H18*1000/3600)*(H18*1000/3600)+(0.02*$H$22*9.81)) -> 202.87236 | W18: =(0.5*$H$21*$H$20*(I18*1000/3600)*(I18*1000/3600)+(0.02*$H$22*9.81)) -> 291.48132 | X18: =(0.5*$H$21*$H$20*(J18*1000/3600)*(J18*1000/3600)+(0.02*$H$22*9.81)) -> 398.74227 | Y18: =(0.5*$H$21*$H$20*(K18*1000/3600)*(K18*1000/3600)+(0.02*$H$22*9.81)) -> 504.99013
A20: Drag coefficient * Frontal area (general superbike value, Vittore Cossalter): | H20: 0.35 | I20: m2
F21: Density of air (ρ): | H21: 1.167 | I21: kg/m3
F22: Mass (Rider+bike): | H22: 207 | I22: kg

Sheet COG Calc.
C1: COG Calculator
B3: level | D3: level w rider | G3: lifted | I3: lifted w rider
A5: Front wheel (Kg) | B5: 53.9 | D5: 81.4 | G5: 56.2 | I5: 95
A6: Rear wheel (Kg) | B6: 56.1 | D6: 107 | G6: 55.7 | I6: 94
A9: Wheelbase (m) | B9: 1.475 | G9: Bike weight (Kg) | I9: =B5+B6 -> 110
A10: Rw Rad. (m) | B10: 0.322 | G10: Rider weight (Kg) | I10: =(D5+D6)-I9 -> 78.4
A11: Fw Rad. (m) | B11: 0.305 | G11: Total weight (Kg) | I11: =I10+I9 -> 188.4
A12: Raverage. (m) | B12: =(B11+B10)/2 -> 0.3135
A13: stool height. (m) | B13: 0.345 | G13: Stool weight (Kg) | I13: 5
A14: lifted angle. (Deg) | B14: 11.5
H16: %F | I16: %R
A17: Xcog (m) | B17: =PRODUCT(B6,B9)/ I9 -> 0.75225 | E17: Ycog (m) | F17: =((PRODUCT(B9,B6-G6))/PRODUCT(I9,TAN((RADIANS(B14))))+B12) -> 0.33986311 | H17: =((B9-B17)/B9)*100 -> 49 | I17: =(B17/B9)*100 -> 51
A18: Xcog With Rider (m) | B18: =(D6*B9)/I11 -> 0.83771231 | E18: Ycog W. rider (m) | F18: =((PRODUCT(B9,D6-I6))/PRODUCT(I11,TAN((RADIANS(B14))))+B12) -> 0.8137555 | H18: =((B9-B18)/B9)*100 -> 43.205945 | I18: =(B18/B9)*100 -> 56.794055
C24: COG CRF450 | P24: COG VFR400
B26: level | D26: level w rider | G26: lifted | I26: lifted w rider | N26: level | P26: level w rider | S26: lifted | U26: lifted w rider
A28: Front wheel (Kg) | B28: 47.1 | D28: 79 | G28: 50.3 | I28: 92.5 | M28: Front wheel (Kg) | N28: 79 | P28: 104 | S28: 85.5 | U28: 118
A29: Rear wheel (Kg) | B29: 48.9 | D29: 114 | G29: 45.35 | I29: 97 | M29: Rear wheel (Kg) | N29: 70.5 | P29: 111 | S29: 64 | U29: 96
A32: Wheelbase (m) | B32: 1.49 | G32: Bike weight (Kg) | I32: 96 | M32: Wheelbase (m) | N32: 1.345 | S32: Bike weight (Kg) | U32: 149.5
A33: Rw Rad. (m) | B33: 0.381 | G33: Rider weight (Kg) | I33: 97 | M33: Rw Rad. (m) | N33: 0.29 | S33: Rider weight (Kg) | U33: 65.5
A34: Fw Rad. (m) | B34: 0.319 | G34: Total weight (Kg) | I34: 193 | M34: Fw Rad. (m) | N34: 0.304 | S34: Total weight (Kg) | U34: 215
A35: Raverage. (m) | B35: 0.35 | M35: Raverage. (m) | N35: 0.297
A36: stool height. (m) | B36: 0.345 | G36: Stool weight (Kg) | I36: 5 | M36: stool height. (m) | N36: 0.345 | S36: Stool weight (Kg) | U36: 5
A37: lifted angle. (Deg) | B37: 13.41 | M37: lifted angle. (Deg) | N37: 14.35
H39: %F | I39: %R | T39: %F | U39: %R
A40: Xcog (m) | B40: 0.75896875 | E40: Ycog (m) | F40: 0.58110229 | H40: 49.0625 | I40: 50.9375 | M40: Xcog (m) | N40: 0.63426421 | Q40: Ycog (m) | R40: 0.52558574 | T40: 52.842809 | U40: 47.157191
A41: Xcog With Rider (m) | B41: 0.88010363 | E41: Ycog W. rider (m) | F41: 0.90047646 | H41: 40.932642 | I41: 59.067358 | M41: Xcog With Rider (m) | N41: 0.69439535 | Q41: Ycog W. rider (m) | R41: 0.66380037 | T41: 48.372093 | U41: 51.627907
D45: COG FS450 2020
B47: level | D47: level w rider | G47: lifted | I47: lifted w rider
A49: Front wheel (Kg) | B49: 53.9 | D49: 81.4 | G49: 56.2 | I49: 95
A50: Rear wheel (Kg) | B50: 56.1 | D50: 107 | G50: 55.7 | I50: 94
A53: Wheelbase (m) | B53: 1.475 | G53: Bike weight (Kg) | I53: =B49+B50 -> 110
A54: Rw Rad. (m) | B54: 0.322 | G54: Rider weight (Kg) | I54: =(D49+D50)-I53 -> 78.4
A55: Fw Rad. (m) | B55: 0.305 | G55: Total weight (Kg) | I55: =I54+I53 -> 188.4
A56: Raverage. (m) | B56: =(B55+B54)/2 -> 0.3135
A57: stool height. (m) | B57: 0.345 | G57: Stool weight (Kg) | I57: 5
A58: lifted angle. (Deg) | B58: 11.5
H60: %F | I60: %R
A61: Xcog (m) | B61: =PRODUCT(B50,B53)/ I53 -> 0.75225 | E61: Ycog (m) | F61: =((PRODUCT(B53,B50-G50))/PRODUCT(I53,TAN((RADIANS(B58))))+B56) -> 0.33986311 | H61: =((B53-B61)/B53)*100 -> 49 | I61: =(B61/B53)*100 -> 51
A62: Xcog With Rider (m) | B62: =(D50*B53)/I55 -> 0.83771231 | E62: Ycog W. rider (m) | F62: =((PRODUCT(B53,D50-I50))/PRODUCT(I55,TAN((RADIANS(B58))))+B56) -> 0.8137555 | H62: =((B53-B62)/B53)*100 -> 43.205945 | I62: =(B62/B53)*100 -> 56.794055
