Workbook

Sheet DAV 1
G1: PART 1 | N1: PART 2
A2: Course | B2: GIVEN NAME | C2: FAMILY NAME | D2: Good points | E2: Problems | F2: Improvements | G2: Literature | H2: Presentation | I2: References | J2: TOTAL | K2: PART 1 | L2: Presentation | M2: Answers | N2: Colour | O2: Other elements | P2: Creativity | Q2: TOTAL | R2: PART 2 | S2: GRADE | T2: Attendance | U2: A2? | V2: Comment
A3: BSC-PT_DA6CNS | B3: BENJAMIN | C3: ATKINS | D3: 3 | E3: 3 | F3: 3 | G3: 4 | H3: 5 | I3: 5 | J3: =(0.2*(D3+E3))+(0.3*F3)+(0.1*(G3+H3+I3)) -> 3.5 | K3: =IF(J3>2,(((J3-2)*15)+40),J3*20) -> 62.5 | L3: 3 | M3: 4 | N3: 4 | O3: 4 | P3: 2 | Q3: =(0.35*L3)+(0.15*M3)+(0.2*(N3+O3))+(0.1*P3) -> 3.45 | R3: =IF(Q3>2,(((Q3-2)*15)+40),Q3*20) -> 61.75 | S3: =(K3+R3)/2 -> 62.125 | T3: 0.75 | W3: First | X3: =COUNTIF(S$3:S$78,">=70")/COUNTIF(S$3:S$78,">0") -> 0.096774194
A4: BSC-PT_DA6CNS | B4: JAMES ALEXANDER DAVID | C4: BALL | D4: 4 | E4: 4 | F4: 2 | G4: 5 | H4: 5 | I4: 5 | J4: =(0.2*(D4+E4))+(0.3*F4)+(0.1*(G4+H4+I4)) -> 3.7 | K4: =IF(J4>2,(((J4-2)*15)+40),J4*20) -> 65.5 | L4: 3 | M4: 3 | N4: 3 | O4: 3 | P4: 3.5 | Q4: =(0.35*L4)+(0.15*M4)+(0.2*(N4+O4))+(0.1*P4) -> 3.05 | R4: =IF(Q4>2,(((Q4-2)*15)+40),Q4*20) -> 55.75 | S4: =(K4+R4)/2 -> 60.625 | T4: 0.9375 | W4: Upper Second | X4: =COUNTIFS(S$3:S$78,">=60",S$3:S$78,"<70")/COUNTIF(S$3:S$78,">0") -> 0.35483871
A5: HND_CNSHND | B5: IBRAHIM | C5: BALOGUN | D5: 3 | E5: 3 | F5: 2 | G5: 2 | H5: 4 | I5: 5 | J5: =(0.2*(D5+E5))+(0.3*F5)+(0.1*(G5+H5+I5)) -> 2.9 | K5: =IF(J5>2,(((J5-2)*15)+40),J5*20) -> 53.5 | L5: 2 | M5: 4 | N5: 3 | O5: 2 | P5: 3 | Q5: =(0.35*L5)+(0.15*M5)+(0.2*(N5+O5))+(0.1*P5) -> 2.6 | R5: =IF(Q5>2,(((Q5-2)*15)+40),Q5*20) -> 49 | S5: =(K5+R5)/2 -> 51.25 | T5: 0.5625 | U5: Y | W5: Lower Second | X5: =COUNTIFS(S$3:S$78,">=50",S$3:S$78,"<60")/COUNTIF(S$3:S$78,">0") -> 0.38709677
A6: BSC-PT_DA6CNS | B6: MATTHEW | C6: BANWELL-CLODE | J6: =(0.2*(D6+E6))+(0.3*F6)+(0.1*(G6+H6+I6)) -> 0 | K6: =IF(J6>2,(((J6-2)*15)+40),J6*20) -> 0 | Q6: =(0.35*L6)+(0.15*M6)+(0.2*(N6+O6))+(0.1*P6) -> 0 | R6: =IF(Q6>2,(((Q6-2)*15)+40),Q6*20) -> 0 | S6: =(K6+R6)/2 -> 0 | T6: 0.5 | W6: Third | X6: =COUNTIFS(S$3:S$78,">=40",S$3:S$78,"<50")/COUNTIF(S$3:S$78,">0") -> 0.096774194
A7: BSC_CNSSH | B7: THOMAS | C7: BARNETT | D7: 3 | E7: 3 | F7: 2 | G7: 2 | H7: 4 | I7: 4 | J7: =(0.2*(D7+E7))+(0.3*F7)+(0.1*(G7+H7+I7)) -> 2.8 | K7: =IF(J7>2,(((J7-2)*15)+40),J7*20) -> 52 | L7: 1 | M7: 1 | N7: 3 | O7: 2 | P7: 3 | Q7: =(0.35*L7)+(0.15*M7)+(0.2*(N7+O7))+(0.1*P7) -> 1.8 | R7: =IF(Q7>2,(((Q7-2)*15)+40),Q7*20) -> 36 | S7: =(K7+R7)/2 -> 44 | T7: 0.625 | U7: Y | W7: Condonable | X7: =COUNTIFS(S$3:S$78,">=30",S$3:S$78,"<40")/COUNTIF(S$3:S$78,">0") -> 0.016129032
A8: HND_CNSHND | B8: JAMES | C8: BEARD | D8: 4 | E8: 4 | F8: 4 | G8: 6 | H8: 5 | I8: 6 | J8: =(0.2*(D8+E8))+(0.3*F8)+(0.1*(G8+H8+I8)) -> 4.5 | K8: =IF(J8>2,(((J8-2)*15)+40),J8*20) -> 77.5 | L8: 3 | M8: 4 | N8: 4 | O8: 4 | P8: 3 | Q8: =(0.35*L8)+(0.15*M8)+(0.2*(N8+O8))+(0.1*P8) -> 3.55 | R8: =IF(Q8>2,(((Q8-2)*15)+40),Q8*20) -> 63.25 | S8: =(K8+R8)/2 -> 70.375 | T8: 1 | U8: Y | W8: Fail | X8: =COUNTIFS(S$3:S$78,">=1",S$3:S$78,"<30")/COUNTIF(S$3:S$78,">0") -> 0.048387097
A9: HND_CNSHND | B9: RHYS | C9: CARTER | D9: 3 | E9: 3 | F9: 3 | G9: 3 | H9: 4 | I9: 4 | J9: =(0.2*(D9+E9))+(0.3*F9)+(0.1*(G9+H9+I9)) -> 3.2 | K9: =IF(J9>2,(((J9-2)*15)+40),J9*20) -> 58 | L9: 2 | M9: 3 | N9: 4 | O9: 2 | P9: 3 | Q9: =(0.35*L9)+(0.15*M9)+(0.2*(N9+O9))+(0.1*P9) -> 2.65 | R9: =IF(Q9>2,(((Q9-2)*15)+40),Q9*20) -> 49.75 | S9: =(K9+R9)/2 -> 53.875 | T9: 1 | U9: Y
A10: HND_CNSHND | B10: CALUM DEWI LLOYD | C10: CASE | D10: 4 | E10: 4 | F10: 4 | G10: 5 | H10: 4 | I10: 5 | J10: =(0.2*(D10+E10))+(0.3*F10)+(0.1*(G10+H10+I10)) -> 4.2 | K10: =IF(J10>2,(((J10-2)*15)+40),J10*20) -> 73 | L10: 2 | M10: 2 | N10: 3 | O10: 4 | P10: 4 | Q10: =(0.35*L10)+(0.15*M10)+(0.2*(N10+O10))+(0.1*P10) -> 2.8 | R10: =IF(Q10>2,(((Q10-2)*15)+40),Q10*20) -> 52 | S10: =(K10+R10)/2 -> 62.5 | T10: 0.8125 | U10: Y | V10: Late
A11: BSC_CNSSH | B11: RIZWAN | C11: CHISHTI | D11: 3 | E11: 3 | F11: 2 | G11: 2 | H11: 4 | I11: 5 | J11: =(0.2*(D11+E11))+(0.3*F11)+(0.1*(G11+H11+I11)) -> 2.9 | K11: =IF(J11>2,(((J11-2)*15)+40),J11*20) -> 53.5 | L11: 3 | M11: 3 | N11: 4 | O11: 3 | P11: 3 | Q11: =(0.35*L11)+(0.15*M11)+(0.2*(N11+O11))+(0.1*P11) -> 3.2 | R11: =IF(Q11>2,(((Q11-2)*15)+40),Q11*20) -> 58 | S11: =(K11+R11)/2 -> 55.75 | T11: 0.75 | U11: Y
A12: BSC_CNSSH | B12: CAMERON | C12: CHURCHILL | D12: 3 | E12: 3 | F12: 2 | G12: 1 | H12: 4 | I12: 1 | J12: =(0.2*(D12+E12))+(0.3*F12)+(0.1*(G12+H12+I12)) -> 2.4 | K12: =IF(J12>2,(((J12-2)*15)+40),J12*20) -> 46 | L12: 2 | M12: 1.5 | N12: 1 | O12: 2.5 | P12: 2 | Q12: =(0.35*L12)+(0.15*M12)+(0.2*(N12+O12))+(0.1*P12) -> 1.825 | R12: =IF(Q12>2,(((Q12-2)*15)+40),Q12*20) -> 36.5 | S12: =(K12+R12)/2 -> 41.25 | T12: 0.5
A13: HND_CNSHND | B13: ABUKHAR | C13: DAHIR CABDINUUR | J13: =(0.2*(D13+E13))+(0.3*F13)+(0.1*(G13+H13+I13)) -> 0 | K13: =IF(J13>2,(((J13-2)*15)+40),J13*20) -> 0 | Q13: =(0.35*L13)+(0.15*M13)+(0.2*(N13+O13))+(0.1*P13) -> 0 | R13: =IF(Q13>2,(((Q13-2)*15)+40),Q13*20) -> 0 | S13: =(K13+R13)/2 -> 0 | T13: 0
A14: BSC-PT_DA6CDI | B14: EMMA LOUISE | C14: DAVIES | J14: =(0.2*(D14+E14))+(0.3*F14)+(0.1*(G14+H14+I14)) -> 0 | K14: =IF(J14>2,(((J14-2)*15)+40),J14*20) -> 0 | Q14: =(0.35*L14)+(0.15*M14)+(0.2*(N14+O14))+(0.1*P14) -> 0 | R14: =IF(Q14>2,(((Q14-2)*15)+40),Q14*20) -> 0 | S14: =(K14+R14)/2 -> 0 | T14: 0
A15: BSC-PT_DA6CNS | B15: SHAUN | C15: DAVIES | D15: 4 | E15: 4 | F15: 4 | G15: 4 | H15: 5 | I15: 4 | J15: =(0.2*(D15+E15))+(0.3*F15)+(0.1*(G15+H15+I15)) -> 4.1 | K15: =IF(J15>2,(((J15-2)*15)+40),J15*20) -> 71.5 | L15: 3 | M15: 4 | N15: 4 | O15: 2.5 | P15: 2 | Q15: =(0.35*L15)+(0.15*M15)+(0.2*(N15+O15))+(0.1*P15) -> 3.15 | R15: =IF(Q15>2,(((Q15-2)*15)+40),Q15*20) -> 57.25 | S15: =(K15+R15)/2 -> 64.375 | T15: 0.875
A16: BSC-PT_DA6CNS | B16: SUZANNE MICHELLE | C16: DAVIES | J16: =(0.2*(D16+E16))+(0.3*F16)+(0.1*(G16+H16+I16)) -> 0 | K16: =IF(J16>2,(((J16-2)*15)+40),J16*20) -> 0 | Q16: =(0.35*L16)+(0.15*M16)+(0.2*(N16+O16))+(0.1*P16) -> 0 | R16: =IF(Q16>2,(((Q16-2)*15)+40),Q16*20) -> 0 | S16: =(K16+R16)/2 -> 0 | T16: 0.5
A17: HND_COMHND | B17: THOMAS JOHN | C17: DAVIES | J17: =(0.2*(D17+E17))+(0.3*F17)+(0.1*(G17+H17+I17)) -> 0 | K17: =IF(J17>2,(((J17-2)*15)+40),J17*20) -> 0 | Q17: =(0.35*L17)+(0.15*M17)+(0.2*(N17+O17))+(0.1*P17) -> 0 | R17: =IF(Q17>2,(((Q17-2)*15)+40),Q17*20) -> 0 | S17: =(K17+R17)/2 -> 0 | T17: 0.4375
A18: BSC-PT_DA6CNS | B18: MICHAEL ANDREW | C18: ELLIOTT | J18: =(0.2*(D18+E18))+(0.3*F18)+(0.1*(G18+H18+I18)) -> 0 | K18: =IF(J18>2,(((J18-2)*15)+40),J18*20) -> 0 | Q18: =(0.35*L18)+(0.15*M18)+(0.2*(N18+O18))+(0.1*P18) -> 0 | R18: =IF(Q18>2,(((Q18-2)*15)+40),Q18*20) -> 0 | S18: =(K18+R18)/2 -> 0 | T18: 0.5
A19: BSC-PT_DA6CNS | B19: GARETH JOHN | C19: EVANS | D19: 3.5 | E19: 4 | F19: 3 | G19: 4 | H19: 6 | I19: 4 | J19: =(0.2*(D19+E19))+(0.3*F19)+(0.1*(G19+H19+I19)) -> 3.8 | K19: =IF(J19>2,(((J19-2)*15)+40),J19*20) -> 67 | L19: 4 | M19: 3.5 | N19: 3 | O19: 2.5 | P19: 2 | Q19: =(0.35*L19)+(0.15*M19)+(0.2*(N19+O19))+(0.1*P19) -> 3.225 | R19: =IF(Q19>2,(((Q19-2)*15)+40),Q19*20) -> 58.375 | S19: =(K19+R19)/2 -> 62.6875 | T19: 0.875
A20: BSC-PT_DA6CNS | B20: PETER REES | C20: EVANS | D20: 3.5 | E20: 3.5 | F20: 3.5 | G20: 2 | H20: 5 | I20: 4 | J20: =(0.2*(D20+E20))+(0.3*F20)+(0.1*(G20+H20+I20)) -> 3.55 | K20: =IF(J20>2,(((J20-2)*15)+40),J20*20) -> 63.25 | L20: 4 | M20: 3.5 | N20: 5 | O20: 4 | P20: 5 | Q20: =(0.35*L20)+(0.15*M20)+(0.2*(N20+O20))+(0.1*P20) -> 4.225 | R20: =IF(Q20>2,(((Q20-2)*15)+40),Q20*20) -> 73.375 | S20: =(K20+R20)/2 -> 68.3125 | T20: 0.625
A21: BSC-PT_DA6CNS | B21: THOMAS RHYS | C21: EVANS | D21: 5 | E21: 5 | F21: 4 | G21: 5 | H21: 6 | I21: 5 | J21: =(0.2*(D21+E21))+(0.3*F21)+(0.1*(G21+H21+I21)) -> 4.8 | K21: =IF(J21>2,(((J21-2)*15)+40),J21*20) -> 82 | L21: 3 | M21: 3.5 | N21: 3 | O21: 4 | P21: 2 | Q21: =(0.35*L21)+(0.15*M21)+(0.2*(N21+O21))+(0.1*P21) -> 3.175 | R21: =IF(Q21>2,(((Q21-2)*15)+40),Q21*20) -> 57.625 | S21: =(K21+R21)/2 -> 69.8125 | T21: 0.6875
A22: BSC_CNSSH | B22: TIMOTHY | C22: FERFERS | D22: 3 | E22: 3 | F22: 3 | G22: 3 | H22: 4.5 | I22: 3 | J22: =(0.2*(D22+E22))+(0.3*F22)+(0.1*(G22+H22+I22)) -> 3.15 | K22: =IF(J22>2,(((J22-2)*15)+40),J22*20) -> 57.25 | L22: 2 | M22: 2 | N22: 3 | O22: 2 | P22: 2 | Q22: =(0.35*L22)+(0.15*M22)+(0.2*(N22+O22))+(0.1*P22) -> 2.2 | R22: =IF(Q22>2,(((Q22-2)*15)+40),Q22*20) -> 43 | S22: =(K22+R22)/2 -> 50.125 | T22: 0.5 | U22: Y
A23: BSC_CNSSH | B23: SHAUN | C23: FOX | D23: 3 | E23: 4 | F23: 3 | G23: 3 | H23: 4 | I23: 4.5 | J23: =(0.2*(D23+E23))+(0.3*F23)+(0.1*(G23+H23+I23)) -> 3.45 | K23: =IF(J23>2,(((J23-2)*15)+40),J23*20) -> 61.75 | L23: 3 | M23: 3 | N23: 3 | O23: 3 | P23: 3 | Q23: =(0.35*L23)+(0.15*M23)+(0.2*(N23+O23))+(0.1*P23) -> 3 | R23: =IF(Q23>2,(((Q23-2)*15)+40),Q23*20) -> 55 | S23: =(K23+R23)/2 -> 58.375 | T23: 0.625 | U23: Y
A24: HND_COMHND | B24: KALLUM | C24: GORDON | D24: 3 | E24: 3 | F24: 2 | G24: 2 | H24: 4 | I24: 4 | J24: =(0.2*(D24+E24))+(0.3*F24)+(0.1*(G24+H24+I24)) -> 2.8 | K24: =IF(J24>2,(((J24-2)*15)+40),J24*20) -> 52 | L24: 3 | M24: 5 | N24: 3 | O24: 2.5 | P24: 3 | Q24: =(0.35*L24)+(0.15*M24)+(0.2*(N24+O24))+(0.1*P24) -> 3.2 | R24: =IF(Q24>2,(((Q24-2)*15)+40),Q24*20) -> 58 | S24: =(K24+R24)/2 -> 55 | T24: 0.6875 | U24: Y | V24: DD
A25: BSC_CNSSH | B25: RICHARD JOHN CHARLES | C25: GREEN | J25: =(0.2*(D25+E25))+(0.3*F25)+(0.1*(G25+H25+I25)) -> 0 | K25: =IF(J25>2,(((J25-2)*15)+40),J25*20) -> 0 | Q25: =(0.35*L25)+(0.15*M25)+(0.2*(N25+O25))+(0.1*P25) -> 0 | R25: =IF(Q25>2,(((Q25-2)*15)+40),Q25*20) -> 0 | S25: =(K25+R25)/2 -> 0 | T25: 0
A26: BSC_CWDSH | B26: ZAEEM | C26: GULAMMAMODO | D26: 3 | E26: 3 | F26: 2 | G26: 2 | H26: 4 | I26: 3 | J26: =(0.2*(D26+E26))+(0.3*F26)+(0.1*(G26+H26+I26)) -> 2.7 | K26: =IF(J26>2,(((J26-2)*15)+40),J26*20) -> 50.5 | L26: 3 | M26: 3 | N26: 3 | O26: 4 | P26: 3 | Q26: =(0.35*L26)+(0.15*M26)+(0.2*(N26+O26))+(0.1*P26) -> 3.2 | R26: =IF(Q26>2,(((Q26-2)*15)+40),Q26*20) -> 58 | S26: =(K26+R26)/2 -> 54.25 | T26: 0.4375 | U26: Y
A27: BSC-PT_DA6CDI | B27: ANTON | C27: HALL | D27: 3.5 | E27: 3.5 | F27: 4 | G27: 4 | H27: 5 | I27: 3 | J27: =(0.2*(D27+E27))+(0.3*F27)+(0.1*(G27+H27+I27)) -> 3.8 | K27: =IF(J27>2,(((J27-2)*15)+40),J27*20) -> 67 | L27: 4 | M27: 4.5 | N27: 4.5 | O27: 4 | P27: 4 | Q27: =(0.35*L27)+(0.15*M27)+(0.2*(N27+O27))+(0.1*P27) -> 4.175 | R27: =IF(Q27>2,(((Q27-2)*15)+40),Q27*20) -> 72.625 | S27: =(K27+R27)/2 -> 69.8125 | T27: 0.8125
A28: BSC_CNSSH | B28: JAMES DANIEL | C28: HARRIS | D28: 3 | E28: 3 | F28: 3 | G28: 3 | H28: 4 | I28: 3 | J28: =(0.2*(D28+E28))+(0.3*F28)+(0.1*(G28+H28+I28)) -> 3.1 | K28: =IF(J28>2,(((J28-2)*15)+40),J28*20) -> 56.5 | L28: 3 | M28: 4 | N28: 3 | O28: 3 | P28: 5 | Q28: =(0.35*L28)+(0.15*M28)+(0.2*(N28+O28))+(0.1*P28) -> 3.35 | R28: =IF(Q28>2,(((Q28-2)*15)+40),Q28*20) -> 60.25 | S28: =(K28+R28)/2 -> 58.375 | T28: 0.875 | U28: Y
A29: HND_CNSHND | B29: CORREY | C29: HEARD | D29: 4 | E29: 4 | F29: 4 | G29: 3 | H29: 4 | I29: 3 | J29: =(0.2*(D29+E29))+(0.3*F29)+(0.1*(G29+H29+I29)) -> 3.8 | K29: =IF(J29>2,(((J29-2)*15)+40),J29*20) -> 67 | L29: 3 | M29: 5 | N29: 4 | O29: 3 | P29: 4 | Q29: =(0.35*L29)+(0.15*M29)+(0.2*(N29+O29))+(0.1*P29) -> 3.6 | R29: =IF(Q29>2,(((Q29-2)*15)+40),Q29*20) -> 64 | S29: =(K29+R29)/2 -> 65.5 | T29: 0.875 | U29: Y
A30: BSC-PT_DA6CNS | B30: GERAINT ARFON | C30: HILL | D30: 4 | E30: 4 | F30: 4 | G30: 5 | H30: 5 | I30: 5 | J30: =(0.2*(D30+E30))+(0.3*F30)+(0.1*(G30+H30+I30)) -> 4.3 | K30: =IF(J30>2,(((J30-2)*15)+40),J30*20) -> 74.5 | L30: 2 | M30: 2 | N30: 3 | O30: 4 | P30: 4 | Q30: =(0.35*L30)+(0.15*M30)+(0.2*(N30+O30))+(0.1*P30) -> 2.8 | R30: =IF(Q30>2,(((Q30-2)*15)+40),Q30*20) -> 52 | S30: =(K30+R30)/2 -> 63.25 | T30: 0.8125
A31: HND_CNSHND | B31: JAKE LEWIS | C31: HUGHES | D31: 3 | E31: 4 | F31: 4 | G31: 5 | H31: 4 | I31: 2 | J31: =(0.2*(D31+E31))+(0.3*F31)+(0.1*(G31+H31+I31)) -> 3.7 | K31: =IF(J31>2,(((J31-2)*15)+40),J31*20) -> 65.5 | L31: 2 | M31: 1 | N31: 3 | O31: 3 | P31: 3 | Q31: =(0.35*L31)+(0.15*M31)+(0.2*(N31+O31))+(0.1*P31) -> 2.35 | R31: =IF(Q31>2,(((Q31-2)*15)+40),Q31*20) -> 45.25 | S31: =(K31+R31)/2 -> 55.375 | T31: 0.5 | U31: Y | V31: DD
A32: BSC_CNSSH | B32: JOHN PAUL | C32: HUGHES | D32: 4 | E32: 4 | F32: 4 | G32: 1 | H32: 4 | I32: 1 | J32: =(0.2*(D32+E32))+(0.3*F32)+(0.1*(G32+H32+I32)) -> 3.4 | K32: =IF(J32>2,(((J32-2)*15)+40),J32*20) -> 61 | L32: 4 | M32: 5 | N32: 3 | O32: 4 | P32: 5 | Q32: =(0.35*L32)+(0.15*M32)+(0.2*(N32+O32))+(0.1*P32) -> 4.05 | R32: =IF(Q32>2,(((Q32-2)*15)+40),Q32*20) -> 70.75 | S32: =(K32+R32)/2 -> 65.875 | T32: 0.9375
A33: HND_CWDHND | B33: KALAN JAY | C33: HUGHES | D33: 3.3 | E33: 3.3 | F33: 3 | G33: 4 | H33: 2 | I33: 5 | J33: =(0.2*(D33+E33))+(0.3*F33)+(0.1*(G33+H33+I33)) -> 3.32 | K33: =IF(J33>2,(((J33-2)*15)+40),J33*20) -> 59.8 | L33: 3 | M33: 4 | N33: 3 | O33: 2 | P33: 2 | Q33: =(0.35*L33)+(0.15*M33)+(0.2*(N33+O33))+(0.1*P33) -> 2.85 | R33: =IF(Q33>2,(((Q33-2)*15)+40),Q33*20) -> 52.75 | S33: =(K33+R33)/2 -> 56.275 | T33: 0.8125 | U33: Y
A34: BSC_CNSSH | B34: DAVID | C34: ISAAC | D34: 3.5 | E34: 3.5 | F34: 3 | G34: 4 | H34: 4 | I34: 5 | J34: =(0.2*(D34+E34))+(0.3*F34)+(0.1*(G34+H34+I34)) -> 3.6 | K34: =IF(J34>2,(((J34-2)*15)+40),J34*20) -> 64 | L34: 3 | M34: 3 | N34: 2 | O34: 2 | P34: 3 | Q34: =(0.35*L34)+(0.15*M34)+(0.2*(N34+O34))+(0.1*P34) -> 2.6 | R34: =IF(Q34>2,(((Q34-2)*15)+40),Q34*20) -> 49 | S34: =(K34+R34)/2 -> 56.5 | T34: 0.625
A35: BSC-PT_DA6CNS | B35: MATTHEW LEE | C35: JAMES | D35: 4 | E35: 4 | F35: 4 | G35: 5 | H35: 5 | I35: 5 | J35: =(0.2*(D35+E35))+(0.3*F35)+(0.1*(G35+H35+I35)) -> 4.3 | K35: =IF(J35>2,(((J35-2)*15)+40),J35*20) -> 74.5 | L35: 3 | M35: 3 | N35: 3 | O35: 4 | P35: 3 | Q35: =(0.35*L35)+(0.15*M35)+(0.2*(N35+O35))+(0.1*P35) -> 3.2 | R35: =IF(Q35>2,(((Q35-2)*15)+40),Q35*20) -> 58 | S35: =(K35+R35)/2 -> 66.25 | T35: 0.8125
A36: BSC-PT_DA6CNS | B36: DAVID JOHN | C36: JEFFERY | D36: 5 | E36: 5 | F36: 5 | G36: 5 | H36: 5 | I36: 5 | J36: =(0.2*(D36+E36))+(0.3*F36)+(0.1*(G36+H36+I36)) -> 5 | K36: =IF(J36>2,(((J36-2)*15)+40),J36*20) -> 85 | L36: 6 | M36: 5 | N36: 5 | O36: 6 | P36: 6 | Q36: =(0.35*L36)+(0.15*M36)+(0.2*(N36+O36))+(0.1*P36) -> 5.65 | R36: =IF(Q36>2,(((Q36-2)*15)+40),Q36*20) -> 94.75 | S36: =(K36+R36)/2 -> 89.875 | T36: 0.9375
A37: BSC-PT_DA6CNS | B37: RICHARD OWEN | C37: JONES | D37: 3.5 | E37: 3.5 | F37: 3 | G37: 5 | H37: 4 | I37: 3 | J37: =(0.2*(D37+E37))+(0.3*F37)+(0.1*(G37+H37+I37)) -> 3.5 | K37: =IF(J37>2,(((J37-2)*15)+40),J37*20) -> 62.5 | L37: 4 | M37: 4 | N37: 5 | O37: 5 | P37: 5 | Q37: =(0.35*L37)+(0.15*M37)+(0.2*(N37+O37))+(0.1*P37) -> 4.5 | R37: =IF(Q37>2,(((Q37-2)*15)+40),Q37*20) -> 77.5 | S37: =(K37+R37)/2 -> 70 | T37: 0.9375
A38: MCOMP_MCOMPCNSSH | B38: HARRISON JOHN | C38: KEEVILL | D38: 3 | E38: 2 | F38: 1.5 | G38: 2 | H38: 2 | I38: 2 | J38: =(0.2*(D38+E38))+(0.3*F38)+(0.1*(G38+H38+I38)) -> 2.05 | K38: =IF(J38>2,(((J38-2)*15)+40),J38*20) -> 40.75 | L38: 0 | M38: 0 | N38: 0 | O38: 0 | P38: 0 | Q38: =(0.35*L38)+(0.15*M38)+(0.2*(N38+O38))+(0.1*P38) -> 0 | R38: =IF(Q38>2,(((Q38-2)*15)+40),Q38*20) -> 0 | S38: =(K38+R38)/2 -> 20.375 | T38: 0.4375 | V38: Late beyond 7 days
A39: BSC_CWDSH | B39: RICHARD | C39: LAMNEA | D39: 2 | E39: 2 | F39: 2 | G39: 2 | H39: 2 | I39: 5 | J39: =(0.2*(D39+E39))+(0.3*F39)+(0.1*(G39+H39+I39)) -> 2.3 | K39: =IF(J39>2,(((J39-2)*15)+40),J39*20) -> 44.5 | L39: 5 | M39: 5 | N39: 4 | O39: 4 | P39: 6 | Q39: =(0.35*L39)+(0.15*M39)+(0.2*(N39+O39))+(0.1*P39) -> 4.7 | R39: =IF(Q39>2,(((Q39-2)*15)+40),Q39*20) -> 80.5 | S39: =(K39+R39)/2 -> 62.5 | T39: 0.5 | U39: Y
A40: MCOMP_MCOMPCWDSH | B40: TOMOS JOSEPH | C40: LEGGETT | D40: 3 | E40: 3 | F40: 2 | G40: 1 | H40: 3 | I40: 1 | J40: =(0.2*(D40+E40))+(0.3*F40)+(0.1*(G40+H40+I40)) -> 2.3 | K40: =IF(J40>2,(((J40-2)*15)+40),J40*20) -> 44.5 | L40: 3 | M40: 4 | N40: 4 | O40: 4 | P40: 5 | Q40: =(0.35*L40)+(0.15*M40)+(0.2*(N40+O40))+(0.1*P40) -> 3.75 | R40: =IF(Q40>2,(((Q40-2)*15)+40),Q40*20) -> 66.25 | S40: =(K40+R40)/2 -> 55.375 | T40: 0.75 | U40: Y
...

Sheet DAV 2
A2: Course | B2: GIVEN NAME | C2: FAMILY NAME | D2: Dataset (10%) | E2: Hypotheses (10%) | F2: Techniques (15%) | G2: Analysis (20%) | H2: Interpretation (15%) | I2: Presentation (10%) | J2: Other Factors (10%) | K2: Documentation (10%) | L2: TOTAL | M2: GRADE | N2: Notes
A3: BSC-PT_DA6CNS | B3: BENJAMIN | C3: ATKINS | L3: =(0.1*(D3+E3+I3+J3+K3))+(0.15*(F3+H3))+(0.2*G3) -> 0 | M3: =IF(L3>2,(((L3-2)*20)+40),L3*20) -> 0 | O3: First | P3: =COUNTIF(M$3:M$50,">=70")/COUNTIF(M$3:M$50,">0") -> 0.16666667
A4: BSC-PT_DA6CNS | B4: JAMES ALEXANDER DAVID | C4: BALL | L4: =(0.1*(D4+E4+I4+J4+K4))+(0.15*(F4+H4))+(0.2*G4) -> 0 | M4: =IF(L4>2,(((L4-2)*20)+40),L4*20) -> 0 | O4: Upper Second | P4: =COUNTIFS(M$3:M$50,">=60",M$3:M$50,"<70")/COUNTIF(M$3:M$50,">0") -> 0.33333333
A5: HND_CNSHND | B5: IBRAHIM | C5: BALOGUN | D5: 4 | E5: 3 | F5: 3 | G5: 3 | H5: 2 | I5: 2 | J5: 5 | K5: 3 | L5: =(0.1*(D5+E5+I5+J5+K5))+(0.15*(F5+H5))+(0.2*G5) -> 3.05 | M5: =IF(L5>2,(((L5-2)*20)+40),L5*20) -> 61 | O5: Lower Second | P5: =COUNTIFS(M$3:M$50,">=50",M$3:M$50,"<60")/COUNTIF(M$3:M$50,">0") -> 0.25
A6: BSC-PT_DA6CNS | B6: MATTHEW | C6: BANWELL-CLODE | L6: =(0.1*(D6+E6+I6+J6+K6))+(0.15*(F6+H6))+(0.2*G6) -> 0 | M6: =IF(L6>2,(((L6-2)*20)+40),L6*20) -> 0 | O6: Third | P6: =COUNTIFS(M$3:M$50,">=40",M$3:M$50,"<50")/COUNTIF(M$3:M$50,">0") -> 0.125
A7: BSC_CNSSH | B7: THOMAS | C7: BARNETT | D7: 2 | E7: 3 | F7: 2 | G7: 3 | H7: 3 | I7: 4 | J7: 4 | K7: 3 | L7: =(0.1*(D7+E7+I7+J7+K7))+(0.15*(F7+H7))+(0.2*G7) -> 2.95 | M7: =IF(L7>2,(((L7-2)*20)+40),L7*20) -> 59 | O7: Condonable | P7: =COUNTIFS(M$3:M$50,">=30",M$3:M$50,"<40")/COUNTIF(M$3:M$50,">0") -> 0.083333333
A8: HND_CNSHND | B8: JAMES | C8: BEARD | D8: 2 | E8: 3 | F8: 3 | G8: 3 | H8: 3 | I8: 2 | J8: 5 | K8: 3 | L8: =(0.1*(D8+E8+I8+J8+K8))+(0.15*(F8+H8))+(0.2*G8) -> 3 | M8: =IF(L8>2,(((L8-2)*20)+40),L8*20) -> 60 | O8: Fail | P8: =COUNTIFS(M$3:M$50,">=1",M$3:M$50,"<30")/COUNTIF(M$3:M$50,">0") -> 0.041666667
A9: HND_CNSHND | B9: RHYS | C9: CARTER | D9: 3 | E9: 3 | F9: 1 | G9: 1 | H9: 3 | I9: 1 | J9: 2 | K9: 3 | L9: =(0.1*(D9+E9+I9+J9+K9))+(0.15*(F9+H9))+(0.2*G9) -> 2 | M9: =IF(L9>2,(((L9-2)*20)+40),L9*20) -> 40
A10: HND_CNSHND | B10: CALUM DEWI LLOYD | C10: CASE | D10: 3 | E10: 2 | F10: 1 | G10: 1 | H10: 1 | I10: 2 | J10: 3 | K10: 3 | L10: =(0.1*(D10+E10+I10+J10+K10))+(0.15*(F10+H10))+(0.2*G10) -> 1.8 | M10: =IF(L10>2,(((L10-2)*20)+40),L10*20) -> 36
A11: BSC_CNSSH | B11: RIZWAN | C11: CHISHTI | D11: 3 | E11: 3 | F11: 3 | G11: 3 | H11: 3 | I11: 3 | J11: 1 | K11: 3 | L11: =(0.1*(D11+E11+I11+J11+K11))+(0.15*(F11+H11))+(0.2*G11) -> 2.8 | M11: =IF(L11>2,(((L11-2)*20)+40),L11*20) -> 56
A12: BSC_CNSSH | B12: CAMERON | C12: CHURCHILL | D12: 3 | E12: 1 | F12: 1 | G12: 1 | H12: 1 | I12: 1 | J12: 2 | K12: 2 | L12: =(0.1*(D12+E12+I12+J12+K12))+(0.15*(F12+H12))+(0.2*G12) -> 1.4 | M12: =IF(L12>2,(((L12-2)*20)+40),L12*20) -> 28
A13: HND_CNSHND | B13: ABUKHAR | C13: DAHIR CABDINUUR | L13: =(0.1*(D13+E13+I13+J13+K13))+(0.15*(F13+H13))+(0.2*G13) -> 0 | M13: =IF(L13>2,(((L13-2)*20)+40),L13*20) -> 0
A14: BSC-PT_DA6CDI | B14: EMMA LOUISE | C14: DAVIES | L14: =(0.1*(D14+E14+I14+J14+K14))+(0.15*(F14+H14))+(0.2*G14) -> 0 | M14: =IF(L14>2,(((L14-2)*20)+40),L14*20) -> 0
A15: BSC-PT_DA6CNS | B15: SHAUN | C15: DAVIES | L15: =(0.1*(D15+E15+I15+J15+K15))+(0.15*(F15+H15))+(0.2*G15) -> 0 | M15: =IF(L15>2,(((L15-2)*20)+40),L15*20) -> 0
A16: BSC-PT_DA6CNS | B16: SUZANNE MICHELLE | C16: DAVIES | L16: =(0.1*(D16+E16+I16+J16+K16))+(0.15*(F16+H16))+(0.2*G16) -> 0 | M16: =IF(L16>2,(((L16-2)*20)+40),L16*20) -> 0
A17: HND_COMHND | B17: THOMAS JOHN | C17: DAVIES | L17: =(0.1*(D17+E17+I17+J17+K17))+(0.15*(F17+H17))+(0.2*G17) -> 0 | M17: =IF(L17>2,(((L17-2)*20)+40),L17*20) -> 0
A18: BSC-PT_DA6CNS | B18: MICHAEL ANDREW | C18: ELLIOTT | L18: =(0.1*(D18+E18+I18+J18+K18))+(0.15*(F18+H18))+(0.2*G18) -> 0 | M18: =IF(L18>2,(((L18-2)*20)+40),L18*20) -> 0
A19: BSC-PT_DA6CNS | B19: GARETH JOHN | C19: EVANS | D19: 2 | E19: 3 | F19: 3 | G19: 3 | H19: 3 | I19: 3 | J19: 5 | K19: 4 | L19: =(0.1*(D19+E19+I19+J19+K19))+(0.15*(F19+H19))+(0.2*G19) -> 3.2 | M19: =IF(L19>2,(((L19-2)*20)+40),L19*20) -> 64
A20: BSC-PT_DA6CNS | B20: PETER REES | C20: EVANS | L20: =(0.1*(D20+E20+I20+J20+K20))+(0.15*(F20+H20))+(0.2*G20) -> 0 | M20: =IF(L20>2,(((L20-2)*20)+40),L20*20) -> 0
A21: BSC-PT_DA6CNS | B21: THOMAS RHYS | C21: EVANS | L21: =(0.1*(D21+E21+I21+J21+K21))+(0.15*(F21+H21))+(0.2*G21) -> 0 | M21: =IF(L21>2,(((L21-2)*20)+40),L21*20) -> 0
A22: BSC_CNSSH | B22: TIMOTHY | C22: FERFERS | D22: 3 | E22: 3 | F22: 4 | G22: 4 | H22: 3 | I22: 4 | J22: 5 | K22: 4 | L22: =(0.1*(D22+E22+I22+J22+K22))+(0.15*(F22+H22))+(0.2*G22) -> 3.75 | M22: =IF(L22>2,(((L22-2)*20)+40),L22*20) -> 75
A23: BSC_CNSSH | B23: SHAUN | C23: FOX | D23: 3 | E23: 3 | F23: 5 | G23: 3 | H23: 3 | I23: 4 | J23: 3 | K23: 5 | L23: =(0.1*(D23+E23+I23+J23+K23))+(0.15*(F23+H23))+(0.2*G23) -> 3.6 | M23: =IF(L23>2,(((L23-2)*20)+40),L23*20) -> 72
A24: HND_COMHND | B24: KALLUM | C24: GORDON | D24: 2.5 | E24: 2.5 | F24: 2 | G24: 2 | H24: 2.5 | I24: 3 | J24: 2.5 | K24: 3 | L24: =(0.1*(D24+E24+I24+J24+K24))+(0.15*(F24+H24))+(0.2*G24) -> 2.425 | M24: =IF(L24>2,(((L24-2)*20)+40),L24*20) -> 48.5 | N24: DD 8/5/20
A25: BSC_CNSSH | B25: RICHARD JOHN CHARLES | C25: GREEN | L25: =(0.1*(D25+E25+I25+J25+K25))+(0.15*(F25+H25))+(0.2*G25) -> 0 | M25: =IF(L25>2,(((L25-2)*20)+40),L25*20) -> 0
A26: BSC_CWDSH | B26: ZAEEM | C26: GULAMMAMODO | D26: 2 | E26: 3 | F26: 3 | G26: 3 | H26: 3 | I26: 4 | J26: 2 | K26: 4 | L26: =(0.1*(D26+E26+I26+J26+K26))+(0.15*(F26+H26))+(0.2*G26) -> 3 | M26: =IF(L26>2,(((L26-2)*20)+40),L26*20) -> 60
A27: BSC-PT_DA6CDI | B27: ANTON | C27: HALL | D27: 4 | E27: 3 | F27: 3 | G27: 4 | H27: 3 | I27: 4.5 | J27: 5 | K27: 4.5 | L27: =(0.1*(D27+E27+I27+J27+K27))+(0.15*(F27+H27))+(0.2*G27) -> 3.8 | M27: =IF(L27>2,(((L27-2)*20)+40),L27*20) -> 76
A28: BSC_CNSSH | B28: JAMES DANIEL | C28: HARRIS | D28: 3 | E28: 3 | F28: 3 | G28: 2 | H28: 1 | I28: 3 | J28: 3 | K28: 3 | L28: =(0.1*(D28+E28+I28+J28+K28))+(0.15*(F28+H28))+(0.2*G28) -> 2.5 | M28: =IF(L28>2,(((L28-2)*20)+40),L28*20) -> 50
A29: HND_CNSHND | B29: CORREY | C29: HEARD | D29: 3 | E29: 2 | F29: 3 | G29: 2 | H29: 3 | I29: 2 | J29: 3 | K29: 3 | L29: =(0.1*(D29+E29+I29+J29+K29))+(0.15*(F29+H29))+(0.2*G29) -> 2.6 | M29: =IF(L29>2,(((L29-2)*20)+40),L29*20) -> 52
A30: BSC-PT_DA6CNS | B30: GERAINT ARFON | C30: HILL | L30: =(0.1*(D30+E30+I30+J30+K30))+(0.15*(F30+H30))+(0.2*G30) -> 0 | M30: =IF(L30>2,(((L30-2)*20)+40),L30*20) -> 0
A31: HND_CNSHND | B31: JAKE LEWIS | C31: HUGHES | D31: 3 | E31: 1 | F31: 2 | G31: 1 | H31: 1 | I31: 2 | J31: 3 | K31: 3 | L31: =(0.1*(D31+E31+I31+J31+K31))+(0.15*(F31+H31))+(0.2*G31) -> 1.85 | M31: =IF(L31>2,(((L31-2)*20)+40),L31*20) -> 37
A32: BSC_CNSSH | B32: JOHN PAUL | C32: HUGHES | L32: =(0.1*(D32+E32+I32+J32+K32))+(0.15*(F32+H32))+(0.2*G32) -> 0 | M32: =IF(L32>2,(((L32-2)*20)+40),L32*20) -> 0
A33: HND_CWDHND | B33: KALAN JAY | C33: HUGHES | D33: 4 | E33: 3 | F33: 3 | G33: 3 | H33: 3 | I33: 4 | J33: 5 | K33: 3 | L33: =(0.1*(D33+E33+I33+J33+K33))+(0.15*(F33+H33))+(0.2*G33) -> 3.4 | M33: =IF(L33>2,(((L33-2)*20)+40),L33*20) -> 68
A34: BSC_CNSSH | B34: DAVID | C34: ISAAC | D34: 4 | E34: 3 | F34: 2 | G34: 2 | H34: 3 | I34: 3 | J34: 3 | K34: 4 | L34: =(0.1*(D34+E34+I34+J34+K34))+(0.15*(F34+H34))+(0.2*G34) -> 2.85 | M34: =IF(L34>2,(((L34-2)*20)+40),L34*20) -> 57
A35: BSC-PT_DA6CNS | B35: MATTHEW LEE | C35: JAMES | L35: =(0.1*(D35+E35+I35+J35+K35))+(0.15*(F35+H35))+(0.2*G35) -> 0 | M35: =IF(L35>2,(((L35-2)*20)+40),L35*20) -> 0
A36: BSC-PT_DA6CNS | B36: DAVID JOHN | C36: JEFFERY | L36: =(0.1*(D36+E36+I36+J36+K36))+(0.15*(F36+H36))+(0.2*G36) -> 0 | M36: =IF(L36>2,(((L36-2)*20)+40),L36*20) -> 0
A37: BSC-PT_DA6CNS | B37: RICHARD OWEN | C37: JONES | L37: =(0.1*(D37+E37+I37+J37+K37))+(0.15*(F37+H37))+(0.2*G37) -> 0 | M37: =IF(L37>2,(((L37-2)*20)+40),L37*20) -> 0
A38: MCOMP_MCOMPCNSSH | B38: HARRISON JOHN | C38: KEEVILL | L38: =(0.1*(D38+E38+I38+J38+K38))+(0.15*(F38+H38))+(0.2*G38) -> 0 | M38: =IF(L38>2,(((L38-2)*20)+40),L38*20) -> 0
A39: BSC_CWDSH | B39: RICHARD | C39: LAMNEA | D39: 5 | E39: 3 | F39: 3 | G39: 4 | H39: 3 | I39: 5 | J39: 5 | K39: 5 | L39: =(0.1*(D39+E39+I39+J39+K39))+(0.15*(F39+H39))+(0.2*G39) -> 4 | M39: =IF(L39>2,(((L39-2)*20)+40),L39*20) -> 80 | N39: DD 8/5/20
A40: MCOMP_MCOMPCWDSH | B40: TOMOS JOSEPH | C40: LEGGETT | D40: 3.5 | E40: 3 | F40: 3 | G40: 2.5 | H40: 3 | I40: 3 | J40: 3 | K40: 3 | L40: =(0.1*(D40+E40+I40+J40+K40))+(0.15*(F40+H40))+(0.2*G40) -> 2.95 | M40: =IF(L40>2,(((L40-2)*20)+40),L40*20) -> 59
A41: BSC-PT_DA6CDI | B41: JESSICA ELIZABETH | C41: MARFELL | D41: 4 | E41: 3 | F41: 2 | G41: 2 | H41: 3 | I41: 3 | J41: 5 | K41: 4 | L41: =(0.1*(D41+E41+I41+J41+K41))+(0.15*(F41+H41))+(0.2*G41) -> 3.05 | M41: =IF(L41>2,(((L41-2)*20)+40),L41*20) -> 61
...

Sheet Overall
D1: DAV 1 | E1: DAV 2 | F1: TOTAL
A2: Course | B2: GIVEN NAME | C2: FAMILY NAME
A3: BSC-PT_DA6CNS | B3: BENJAMIN | C3: ATKINS | D3: ='DAV 1'!S3 -> 62.125 | E3: ='DAV 2'!M3 -> 0 | F3: =(D3+E3)/2 -> 31.0625 | G3: DDA | I3: First | J3: =COUNTIF(F$3:F$50,">=70")/COUNTIF(F$3:F$50,">0") -> 0.078947368
A4: BSC-PT_DA6CNS | B4: JAMES ALEXANDER DAVID | C4: BALL | D4: ='DAV 1'!S4 -> 60.625 | E4: ='DAV 2'!M4 -> 0 | F4: =(D4+E4)/2 -> 30.3125 | G4: DDA | I4: Upper Second | J4: =COUNTIFS(F$3:F$50,">=60",F$3:F$50,"<70")/COUNTIF(F$3:F$50,">0") -> 0.18421053
A5: HND_CNSHND | B5: IBRAHIM | C5: BALOGUN | D5: ='DAV 1'!S5 -> 51.25 | E5: ='DAV 2'!M5 -> 61 | F5: =(D5+E5)/2 -> 56.125 | I5: Lower Second | J5: =COUNTIFS(F$3:F$50,">=50",F$3:F$50,"<60")/COUNTIF(F$3:F$50,">0") -> 0.23684211
A6: BSC-PT_DA6CNS | B6: MATTHEW | C6: BANWELL-CLODE | D6: ='DAV 1'!S6 -> 0 | E6: ='DAV 2'!M6 -> 0 | F6: =(D6+E6)/2 -> 0 | G6: DDA | I6: Third | J6: =COUNTIFS(F$3:F$50,">=40",F$3:F$50,"<50")/COUNTIF(F$3:F$50,">0") -> 0.13157895
A7: BSC_CNSSH | B7: THOMAS | C7: BARNETT | D7: ='DAV 1'!S7 -> 44 | E7: ='DAV 2'!M7 -> 59 | F7: =(D7+E7)/2 -> 51.5 | I7: Condonable Fail | J7: =COUNTIFS(F$3:F$50,">=30",F$3:F$50,"<40")/COUNTIF(F$3:F$50,">0") -> 0.31578947
A8: HND_CNSHND | B8: JAMES | C8: BEARD | D8: ='DAV 1'!S8 -> 70.375 | E8: ='DAV 2'!M8 -> 60 | F8: =(D8+E8)/2 -> 65.1875 | I8: Fail | J8: =COUNTIFS(F$3:F$50,">=1",F$3:F$50,"<30")/COUNTIF(F$3:F$50,">0") -> 0.052631579
A9: HND_CNSHND | B9: RHYS | C9: CARTER | D9: ='DAV 1'!S9 -> 53.875 | E9: ='DAV 2'!M9 -> 40 | F9: =(D9+E9)/2 -> 46.9375
A10: HND_CNSHND | B10: CALUM DEWI LLOYD | C10: CASE | D10: ='DAV 1'!S10 -> 62.5 | E10: ='DAV 2'!M10 -> 36 | F10: =(D10+E10)/2 -> 49.25 | J10: Assignment 1 | K10: Assignment 2 | L10: Overall
A11: BSC_CNSSH | B11: RIZWAN | C11: CHISHTI | D11: ='DAV 1'!S11 -> 55.75 | E11: ='DAV 2'!M11 -> 56 | F11: =(D11+E11)/2 -> 55.875 | I11: Mean | J11: =D79 -> 57.498185 | K11: =E79 -> 55.3625 | L11: =F79 -> 46.607964
A12: BSC_CNSSH | B12: CAMERON | C12: CHURCHILL | D12: ='DAV 1'!S12 -> 41.25 | E12: ='DAV 2'!M12 -> 28 | F12: =(D12+E12)/2 -> 34.625 | G12: Not on MyTSD | I12: St. Dev. | J12: =D80 -> 24.972502 | K12: =E80 -> 30.319916 | L12: =F80 -> 23.490876
A13: HND_CNSHND | B13: ABUKHAR | C13: DAHIR CABDINUUR | D13: ='DAV 1'!S13 -> 0 | E13: ='DAV 2'!M13 -> 0 | F13: =(D13+E13)/2 -> 0
A14: BSC-PT_DA6CDI | B14: EMMA LOUISE | C14: DAVIES | D14: ='DAV 1'!S14 -> 0 | E14: ='DAV 2'!M14 -> 0 | F14: =(D14+E14)/2 -> 0 | G14: DDA
A15: BSC-PT_DA6CNS | B15: SHAUN | C15: DAVIES | D15: ='DAV 1'!S15 -> 64.375 | E15: ='DAV 2'!M15 -> 0 | F15: =(D15+E15)/2 -> 32.1875 | G15: DDA
A16: BSC-PT_DA6CNS | B16: SUZANNE MICHELLE | C16: DAVIES | D16: ='DAV 1'!S16 -> 0 | E16: ='DAV 2'!M16 -> 0 | F16: =(D16+E16)/2 -> 0 | G16: DDA
A17: HND_COMHND | B17: THOMAS JOHN | C17: DAVIES | D17: ='DAV 1'!S17 -> 0 | E17: ='DAV 2'!M17 -> 0 | F17: =(D17+E17)/2 -> 0
A18: BSC-PT_DA6CNS | B18: MICHAEL ANDREW | C18: ELLIOTT | D18: ='DAV 1'!S18 -> 0 | E18: ='DAV 2'!M18 -> 0 | F18: =(D18+E18)/2 -> 0 | G18: DDA
A19: BSC-PT_DA6CNS | B19: GARETH JOHN | C19: EVANS | D19: ='DAV 1'!S19 -> 62.6875 | E19: ='DAV 2'!M19 -> 64 | F19: =(D19+E19)/2 -> 63.34375 | G19: DDA
A20: BSC-PT_DA6CNS | B20: PETER REES | C20: EVANS | D20: ='DAV 1'!S20 -> 68.3125 | E20: ='DAV 2'!M20 -> 0 | F20: =(D20+E20)/2 -> 34.15625 | G20: DDA
A21: BSC-PT_DA6CNS | B21: THOMAS RHYS | C21: EVANS | D21: ='DAV 1'!S21 -> 69.8125 | E21: ='DAV 2'!M21 -> 0 | F21: =(D21+E21)/2 -> 34.90625 | G21: DDA
A22: BSC_CNSSH | B22: TIMOTHY | C22: FERFERS | D22: ='DAV 1'!S22 -> 50.125 | E22: ='DAV 2'!M22 -> 75 | F22: =(D22+E22)/2 -> 62.5625
A23: BSC_CNSSH | B23: SHAUN | C23: FOX | D23: ='DAV 1'!S23 -> 58.375 | E23: ='DAV 2'!M23 -> 72 | F23: =(D23+E23)/2 -> 65.1875
A24: HND_COMHND | B24: KALLUM | C24: GORDON | D24: ='DAV 1'!S24 -> 55 | E24: ='DAV 2'!M24 -> 48.5 | F24: =(D24+E24)/2 -> 51.75
A25: BSC_CNSSH | B25: RICHARD JOHN CHARLES | C25: GREEN | D25: ='DAV 1'!S25 -> 0 | E25: ='DAV 2'!M25 -> 0 | F25: =(D25+E25)/2 -> 0
A26: BSC_CWDSH | B26: ZAEEM | C26: GULAMMAMODO | D26: ='DAV 1'!S26 -> 54.25 | E26: ='DAV 2'!M26 -> 60 | F26: =(D26+E26)/2 -> 57.125
A27: BSC-PT_DA6CDI | B27: ANTON | C27: HALL | D27: ='DAV 1'!S27 -> 69.8125 | E27: ='DAV 2'!M27 -> 76 | F27: =(D27+E27)/2 -> 72.90625 | G27: DDA
A28: BSC_CNSSH | B28: JAMES DANIEL | C28: HARRIS | D28: ='DAV 1'!S28 -> 58.375 | E28: ='DAV 2'!M28 -> 50 | F28: =(D28+E28)/2 -> 54.1875
A29: HND_CNSHND | B29: CORREY | C29: HEARD | D29: ='DAV 1'!S29 -> 65.5 | E29: ='DAV 2'!M29 -> 52 | F29: =(D29+E29)/2 -> 58.75
A30: BSC-PT_DA6CNS | B30: GERAINT ARFON | C30: HILL | D30: ='DAV 1'!S30 -> 63.25 | E30: ='DAV 2'!M30 -> 0 | F30: =(D30+E30)/2 -> 31.625 | G30: DDA
A31: HND_CNSHND | B31: JAKE LEWIS | C31: HUGHES | D31: ='DAV 1'!S31 -> 55.375 | E31: ='DAV 2'!M31 -> 37 | F31: =(D31+E31)/2 -> 46.1875
A32: BSC_CNSSH | B32: JOHN PAUL | C32: HUGHES | D32: ='DAV 1'!S32 -> 65.875 | E32: ='DAV 2'!M32 -> 0 | F32: =(D32+E32)/2 -> 32.9375
A33: HND_CWDHND | B33: KALAN JAY | C33: HUGHES | D33: ='DAV 1'!S33 -> 56.275 | E33: ='DAV 2'!M33 -> 68 | F33: =(D33+E33)/2 -> 62.1375
A34: BSC_CNSSH | B34: DAVID | C34: ISAAC | D34: ='DAV 1'!S34 -> 56.5 | E34: ='DAV 2'!M34 -> 57 | F34: =(D34+E34)/2 -> 56.75
A35: BSC-PT_DA6CNS | B35: MATTHEW LEE | C35: JAMES | D35: ='DAV 1'!S35 -> 66.25 | E35: ='DAV 2'!M35 -> 0 | F35: =(D35+E35)/2 -> 33.125 | G35: DDA
A36: BSC-PT_DA6CNS | B36: DAVID JOHN | C36: JEFFERY | D36: ='DAV 1'!S36 -> 89.875 | E36: ='DAV 2'!M36 -> 0 | F36: =(D36+E36)/2 -> 44.9375 | G36: DDA
A37: BSC-PT_DA6CNS | B37: RICHARD OWEN | C37: JONES | D37: ='DAV 1'!S37 -> 70 | E37: ='DAV 2'!M37 -> 0 | F37: =(D37+E37)/2 -> 35 | G37: DDA
A38: MCOMP_MCOMPCNSSH | B38: HARRISON JOHN | C38: KEEVILL | D38: ='DAV 1'!S38 -> 20.375 | E38: ='DAV 2'!M38 -> 0 | F38: =(D38+E38)/2 -> 10.1875
A39: BSC_CWDSH | B39: RICHARD | C39: LAMNEA | D39: ='DAV 1'!S39 -> 62.5 | E39: ='DAV 2'!M39 -> 80 | F39: =(D39+E39)/2 -> 71.25
A40: MCOMP_MCOMPCWDSH | B40: TOMOS JOSEPH | C40: LEGGETT | D40: ='DAV 1'!S40 -> 55.375 | E40: ='DAV 2'!M40 -> 59 | F40: =(D40+E40)/2 -> 57.1875
...

Sheet Graphs
A1: RANGE | B1: Frequency | L1: Bin | M1: Frequency
A2: 30 | B2: =COUNTIFS(Overall!D$3:D$78,">=30",Overall!D$3:D$78,"<35") -> 1 | L2: 30 | M2: =COUNTIFS(Overall!E$3:E$78,">=30",Overall!E$3:E$78,"<35") -> 1
A3: 35 | B3: =COUNTIFS(Overall!D$3:D$78,">=35",Overall!D$3:D$78,"<40") -> 0 | L3: 35 | M3: =COUNTIFS(Overall!E$3:E$78,">=35",Overall!E$3:E$78,"<40") -> 2
A4: 40 | B4: =COUNTIFS(Overall!D$3:D$78,">=40",Overall!D$3:D$78,"<45") -> 4 | L4: 40 | M4: =COUNTIFS(Overall!E$3:E$78,">=40",Overall!E$3:E$78,"<45") -> 3
A5: 45 | B5: =COUNTIFS(Overall!D$3:D$78,">=45",Overall!D$3:D$78,"<50") -> 2 | L5: 45 | M5: =COUNTIFS(Overall!E$3:E$78,">=45",Overall!E$3:E$78,"<50") -> 4
A6: 50 | B6: =COUNTIFS(Overall!D$3:D$78,">=50",Overall!D$3:D$78,"<55") -> 10 | L6: 50 | M6: =COUNTIFS(Overall!E$3:E$78,">=50",Overall!E$3:E$78,"<55") -> 4
A7: 55 | B7: =COUNTIFS(Overall!D$3:D$78,">=55",Overall!D$3:D$78,"<60") -> 14 | L7: 55 | M7: =COUNTIFS(Overall!E$3:E$78,">=55",Overall!E$3:E$78,"<60") -> 4
A8: 60 | B8: =COUNTIFS(Overall!D$3:D$78,">=60",Overall!D$3:D$78,"<65") -> 12 | L8: 60 | M8: =COUNTIFS(Overall!E$3:E$78,">=60",Overall!E$3:E$78,"<65") -> 7
A9: 65 | B9: =COUNTIFS(Overall!D$3:D$78,">=64",Overall!D$3:D$78,"<70") -> 11 | L9: 65 | M9: =COUNTIFS(Overall!E$3:E$78,">=64",Overall!E$3:E$78,"<70") -> 7
A10: 70 | B10: =COUNTIFS(Overall!D$3:D$78,">=70",Overall!D$3:D$78,"<75") -> 2 | L10: 70 | M10: =COUNTIFS(Overall!E$3:E$78,">=70",Overall!E$3:E$78,"<75") -> 2
A11: 75 | B11: =COUNTIFS(Overall!D$3:D$78,">=75",Overall!D$3:D$78,"<80") -> 3 | L11: 75 | M11: =COUNTIFS(Overall!E$3:E$78,">=75",Overall!E$3:E$78,"<80") -> 3
A12: 80 | B12: =COUNTIFS(Overall!D$3:D$78,">=80",Overall!D$3:D$78,"<85") -> 0 | L12: 80 | M12: =COUNTIFS(Overall!E$3:E$78,">=80",Overall!E$3:E$78,"<85") -> 1
A13: 85 | B13: =COUNTIFS(Overall!D$3:D$78,">=85",Overall!D$3:D$78,"<90") -> 1 | L13: 85 | M13: =COUNTIFS(Overall!E$3:E$78,">=85",Overall!E$3:E$78,"<90") -> 1
A14: 90 | B14: =COUNTIFS(Overall!D$3:D$78,">=90",Overall!D$3:D$78,"<95") -> 0 | L14: 90 | M14: =COUNTIFS(Overall!E$3:E$78,">=90",Overall!E$3:E$78,"<95") -> 0
A15: More | B15: 0 | L15: More | M15: 0
A18: RANGE | B18: Frequency
A19: 30 | B19: =B2+B3 -> 1
A20: 40 | B20: =B4+B5 -> 6
A21: 50 | B21: =B6+B7 -> 24
A22: 60 | B22: =B8+B9 -> 23
A23: 70 | B23: =B10+B11 -> 5
A24: 80 | B24: =B12+B13 -> 1
A25: 90 | B25: 0

Sheet Sheet1
A1: BSC-PT_DA6CNS | B1: BENJAMIN | C1: ATKINS
A2: BSC-PT_DA6CNS | B2: JAMES ALEXANDER DAVID | C2: BALL
A3: HND_CNSHND | B3: IBRAHIM | C3: BALOGUN
A4: BSC-PT_DA6CNS | B4: MATTHEW | C4: BANWELL-CLODE
A5: BSC_CNSSH | B5: THOMAS | C5: BARNETT
A6: HND_CNSHND | B6: JAMES | C6: BEARD
A7: HND_CNSHND | B7: RHYS | C7: CARTER
A8: HND_CNSHND | B8: CALUM DEWI LLOYD | C8: CASE
A9: BSC_CNSSH | B9: RIZWAN | C9: CHISHTI
A10: BSC_CNSSH | B10: CAMERON | C10: CHURCHILL
A11: HND_CNSHND | B11: ABUKHAR | C11: DAHIR CABDINUUR
A12: BSC-PT_DA6CDI | B12: EMMA LOUISE | C12: DAVIES
... A76: BSC_CNSSH | B76: MARUF | C76: ZAMAN
