Workbook

Sheet DAV 1
G1: PART 1 | N1: PART 2
A2: Course | B2: GIVEN NAME | C2: FAMILY NAME | D2: Good points | E2: Problems | F2: Improvements | G2: Literature | H2: Presentation | I2: References | J2: TOTAL | K2: PART 1 | L2: Presentation | M2: Answers | N2: Colour | O2: Other elements | P2: Creativity | Q2: TOTAL | R2: PART 2 | S2: GRADE | T2: Attendance | U2: A2? | V2: Comment
A3: BSC-PT_DA6CNS | B3: BENJAMIN | C3: ATKINS | D3: 3 | E3: 3 | F3: 3 | G3: 4 | H3: 5 | I3: 5 | J3: =(0.2*(D3+E3))+(0.3*F3)+(0.1*(G3+H3+I3)) -> 3.5 | K3: =IF(J3>2,(((J3-2)*15)+40),J3*20) -> 62.5 | L3: 3 | M3: 4 | N3: 4 | O3: 4 | P3: 2 | Q3: =(0.35*L3)+(0.15*M3)+(0.2*(N3+O3))+(0.1*P3) -> 3.45 | R3: =IF(Q3>2,(((Q3-2)*15)+40),Q3*20) -> 61.75 | S3: =(K3+R3)/2 -> 62.125 | T3: 0.75 | W3: First | X3: =COUNTIF(S$3:S$78,">=70")/COUNTIF(S$3:S$78,">0") -> 0.096774194
A4: BSC-PT_DA6CNS | B4: JAMES ALEXANDER DAVID | C4: BALL | D4: 4 | E4: 4 | F4: 2 | G4: 5 | H4: 5 | I4: 5 | J4: =(0.2*(D4+E4))+(0.3*F4)+(0.1*(G4+H4+I4)) -> 3.7 | K4: =IF(J4>2,(((J4-2)*15)+40),J4*20) -> 65.5 | L4: 3 | M4: 3 | N4: 3 | O4: 3 | P4: 3.5 | Q4: =(0.35*L4)+(0.15*M4)+(0.2*(N4+O4))+(0.1*P4) -> 3.05 | R4: =IF(Q4>2,(((Q4-2)*15)+40),Q4*20) -> 55.75 | S4: =(K4+R4)/2 -> 60.625 | T4: 0.9375 | W4: Upper Second | X4: =COUNTIFS(S$3:S$78,">=60",S$3:S$78,"<70")/COUNTIF(S$3:S$78,">0") -> 0.35483871
A5: HND_CNSHND | B5: IBRAHIM | C5: BALOGUN | D5: 3 | E5: 3 | F5: 2 | G5: 2 | H5: 4 | I5: 5 | J5: =(0.2*(D5+E5))+(0.3*F5)+(0.1*(G5+H5+I5)) -> 2.9 | K5: =IF(J5>2,(((J5-2)*15)+40),J5*20) -> 53.5 | L5: 2 | M5: 4 | N5: 3 | O5: 2 | P5: 3 | Q5: =(0.35*L5)+(0.15*M5)+(0.2*(N5+O5))+(0.1*P5) -> 2.6 | R5: =IF(Q5>2,(((Q5-2)*15)+40),Q5*20) -> 49 | S5: =(K5+R5)/2 -> 51.25 | T5: 0.5625 | U5: Y | W5: Lower Second | X5: =COUNTIFS(S$3:S$78,">=50",S$3:S$78,"<60")/COUNTIF(S$3:S$78,">0") -> 0.38709677
A6: BSC-PT_DA6CNS | B6: MATTHEW | C6: BANWELL-CLODE | J6: =(0.2*(D6+E6))+(0.3*F6)+(0.1*(G6+H6+I6)) -> 0 | K6: =IF(J6>2,(((J6-2)*15)+40),J6*20) -> 0 | Q6: =(0.35*L6)+(0.15*M6)+(0.2*(N6+O6))+(0.1*P6) -> 0 | R6: =IF(Q6>2,(((Q6-2)*15)+40),Q6*20) -> 0 | S6: =(K6+R6)/2 -> 0 | T6: 0.5 | W6: Third | X6: =COUNTIFS(S$3:S$78,">=40",S$3:S$78,"<50")/COUNTIF(S$3:S$78,">0") -> 0.096774194
A7: BSC_CNSSH | B7: THOMAS | C7: BARNETT | D7: 3 | E7: 3 | F7: 2 | G7: 2 | H7: 4 | I7: 4 | J7: =(0.2*(D7+E7))+(0.3*F7)+(0.1*(G7+H7+I7)) -> 2.8 | K7: =IF(J7>2,(((J7-2)*15)+40),J7*20) -> 52 | L7: 1 | M7: 1 | N7: 3 | O7: 2 | P7: 3 | Q7: =(0.35*L7)+(0.15*M7)+(0.2*(N7+O7))+(0.1*P7) -> 1.8 | R7: =IF(Q7>2,(((Q7-2)*15)+40),Q7*20) -> 36 | S7: =(K7+R7)/2 -> 44 | T7: 0.625 | U7: Y | W7: Condonable | X7: =COUNTIFS(S$3:S$78,">=30",S$3:S$78,"<40")/COUNTIF(S$3:S$78,">0") -> 0.016129032
A8: HND_CNSHND | B8: JAMES | C8: BEARD | D8: 4 | E8: 4 | F8: 4 | G8: 6 | H8: 5 | I8: 6 | J8: =(0.2*(D8+E8))+(0.3*F8)+(0.1*(G8+H8+I8)) -> 4.5 | K8: =IF(J8>2,(((J8-2)*15)+40),J8*20) -> 77.5 | L8: 3 | M8: 4 | N8: 4 | O8: 4 | P8: 3 | Q8: =(0.35*L8)+(0.15*M8)+(0.2*(N8+O8))+(0.1*P8) -> 3.55 | R8: =IF(Q8>2,(((Q8-2)*15)+40),Q8*20) -> 63.25 | S8: =(K8+R8)/2 -> 70.375 | T8: 1 | U8: Y | W8: Fail | X8: =COUNTIFS(S$3:S$78,">=1",S$3:S$78,"<30")/COUNTIF(S$3:S$78,">0") -> 0.048387097
A9: HND_CNSHND | B9: RHYS | C9: CARTER | D9: 3 | E9: 3 | F9: 3 | G9: 3 | H9: 4 | I9: 4 | J9: =(0.2*(D9+E9))+(0.3*F9)+(0.1*(G9+H9+I9)) -> 3.2 | K9: =IF(J9>2,(((J9-2)*15)+40),J9*20) -> 58 | L9: 2 | M9: 3 | N9: 4 | O9: 2 | P9: 3 | Q9: =(0.35*L9)+(0.15*M9)+(0.2*(N9+O9))+(0.1*P9) -> 2.65 | R9: =IF(Q9>2,(((Q9-2)*15)+40),Q9*20) -> 49.75 | S9: =(K9+R9)/2 -> 53.875 | T9: 1 | U9: Y
A10: HND_CNSHND | B10: CALUM DEWI LLOYD | C10: CASE | D10: 4 | E10: 4 | F10: 4 | G10: 5 | H10: 4 | I10: 5 | J10: =(0.2*(D10+E10))+(0.3*F10)+(0.1*(G10+H10+I10)) -> 4.2 | K10: =IF(J10>2,(((J10-2)*15)+40),J10*20) -> 73 | L10: 2 | M10: 2 | N10: 3 | O10: 4 | P10: 4 | Q10: =(0.35*L10)+(0.15*M10)+(0.2*(N10+O10))+(0.1*P10) -> 2.8 | R10: =IF(Q10>2,(((Q10-2)*15)+40),Q10*20) -> 52 | S10: =(K10+R10)/2 -> 62.5 | T10: 0.8125 | U10: Y | V10: Late
A11: BSC_CNSSH | B11: RIZWAN | C11: CHISHTI | D11: 3 | E11: 3 | F11: 2 | G11: 2 | H11: 4 | I11: 5 | J11: =(0.2*(D11+E11))+(0.3*F11)+(0.1*(G11+H11+I11)) -> 2.9 | K11: =IF(J11>2,(((J11-2)*15)+40),J11*20) -> 53.5 | L11: 3 | M11: 3 | N11: 4 | O11: 3 | P11: 3 | Q11: =(0.35*L11)+(0.15*M11)+(0.2*(N11+O11))+(0.1*P11) -> 3.2 | R11: =IF(Q11>2,(((Q11-2)*15)+40),Q11*20) -> 58 | S11: =(K11+R11)/2 -> 55.75 | T11: 0.75 | U11: Y
A12: BSC_CNSSH | B12: CAMERON | C12: CHURCHILL | D12: 3 | E12: 3 | F12: 2 | G12: 1 | H12: 4 | I12: 1 | J12: =(0.2*(D12+E12))+(0.3*F12)+(0.1*(G12+H12+I12)) -> 2.4 | K12: =IF(J12>2,(((J12-2)*15)+40),J12*20) -> 46 | L12: 2 | M12: 1.5 | N12: 1 | O12: 2.5 | P12: 2 | Q12: =(0.35*L12)+(0.15*M12)+(0.2*(N12+O12))+(0.1*P12) -> 1.825 | R12: =IF(Q12>2,(((Q12-2)*15)+40),Q12*20) -> 36.5 | S12: =(K12+R12)/2 -> 41.25 | T12: 0.5
A13: HND_CNSHND | B13: ABUKHAR | C13: DAHIR CABDINUUR | J13: =(0.2*(D13+E13))+(0.3*F13)+(0.1*(G13+H13+I13)) -> 0 | K13: =IF(J13>2,(((J13-2)*15)+40),J13*20) -> 0 | Q13: =(0.35*L13)+(0.15*M13)+(0.2*(N13+O13))+(0.1*P13) -> 0 | R13: =IF(Q13>2,(((Q13-2)*15)+40),Q13*20) -> 0 | S13: =(K13+R13)/2 -> 0 | T13: 0
A14: BSC-PT_DA6CDI | B14: EMMA LOUISE | C14: DAVIES | J14: =(0.2*(D14+E14))+(0.3*F14)+(0.1*(G14+H14+I14)) -> 0 | K14: =IF(J14>2,(((J14-2)*15)+40),J14*20) -> 0 | Q14: =(0.35*L14)+(0.15*M14)+(0.2*(N14+O14))+(0.1*P14) -> 0 | R14: =IF(Q14>2,(((Q14-2)*15)+40),Q14*20) -> 0 | S14: =(K14+R14)/2 -> 0 | T14: 0
A15: BSC-PT_DA6CNS | B15: SHAUN | C15: DAVIES | D15: 4 | E15: 4 | F15: 4 | G15: 4 | H15: 5 | I15: 4 | J15: =(0.2*(D15+E15))+(0.3*F15)+(0.1*(G15+H15+I15)) -> 4.1 | K15: =IF(J15>2,(((J15-2)*15)+40),J15*20) -> 71.5 | L15: 3 | M15: 4 | N15: 4 | O15: 2.5 | P15: 2 | Q15: =(0.35*L15)+(0.15*M15)+(0.2*(N15+O15))+(0.1*P15) -> 3.15 | R15: =IF(Q15>2,(((Q15-2)*15)+40),Q15*20) -> 57.25 | S15: =(K15+R15)/2 -> 64.375 | T15: 0.875
A16: BSC-PT_DA6CNS | B16: SUZANNE MICHELLE | C16: DAVIES | J16: =(0.2*(D16+E16))+(0.3*F16)+(0.1*(G16+H16+I16)) -> 0 | K16: =IF(J16>2,(((J16-2)*15)+40),J16*20) -> 0 | Q16: =(0.35*L16)+(0.15*M16)+(0.2*(N16+O16))+(0.1*P16) -> 0 | R16: =IF(Q16>2,(((Q16-2)*15)+40),Q16*20) -> 0 | S16: =(K16+R16)/2 -> 0 | T16: 0.5
A17: HND_COMHND | B17: THOMAS JOHN | C17: DAVIES | J17: =(0.2*(D17+E17))+(0.3*F17)+(0.1*(G17+H17+I17)) -> 0 | K17: =IF(J17>2,(((J17-2)*15)+40),J17*20) -> 0 | Q17: =(0.35*L17)+(0.15*M17)+(0.2*(N17+O17))+(0.1*P17) -> 0 | R17: =IF(Q17>2,(((Q17-2)*15)+40),Q17*20) -> 0 | S17: =(K17+R17)/2 -> 0 | T17: 0.4375
A18: BSC-PT_DA6CNS | B18: MICHAEL ANDREW | C18: ELLIOTT | J18: =(0.2*(D18+E18))+(0.3*F18)+(0.1*(G18+H18+I18)) -> 0 | K18: =IF(J18>2,(((J18-2)*15)+40),J18*20) -> 0 | Q18: =(0.35*L18)+(0.15*M18)+(0.2*(N18+O18))+(0.1*P18) -> 0 | R18: =IF(Q18>2,(((Q18-2)*15)+40),Q18*20) -> 0 | S18: =(K18+R18)/2 -> 0 | T18: 0.5
A19: BSC-PT_DA6CNS | B19: GARETH JOHN | C19: EVANS | D19: 3.5 | E19: 4 | F19: 3 | G19: 4 | H19: 6 | I19: 4 | J19: =(0.2*(D19+E19))+(0.3*F19)+(0.1*(G19+H19+I19)) -> 3.8 | K19: =IF(J19>2,(((J19-2)*15)+40),J19*20) -> 67 | L19: 4 | M19: 3.5 | N19: 3 | O19: 2.5 | P19: 2 | Q19: =(0.35*L19)+(0.15*M19)+(0.2*(N19+O19))+(0.1*P19) -> 3.225 | R19: =IF(Q19>2,(((Q19-2)*15)+40),Q19*20) -> 58.375 | S19: =(K19+R19)/2 -> 62.6875 | T19: 0.875
A20: BSC-PT_DA6CNS | B20: PETER REES | C20: EVANS | D20: 3.5 | E20: 3.5 | F20: 3.5 | G20: 2 | H20: 5 | I20: 4 | J20: =(0.2*(D20+E20))+(0.3*F20)+(0.1*(G20+H20+I20)) -> 3.55 | K20: =IF(J20>2,(((J20-2)*15)+40),J20*20) -> 63.25 | L20: 4 | M20: 3.5 | N20: 5 | O20: 4 | P20: 5 | Q20: =(0.35*L20)+(0.15*M20)+(0.2*(N20+O20))+(0.1*P20) -> 4.225 | R20: =IF(Q20>2,(((Q20-2)*15)+40),Q20*20) -> 73.375 | S20: =(K20+R20)/2 -> 68.3125 | T20: 0.625
A21: BSC-PT_DA6CNS | B21: THOMAS RHYS | C21: EVANS | D21: 5 | E21: 5 | F21: 4 | G21: 5 | H21: 6 | I21: 5 | J21: =(0.2*(D21+E21))+(0.3*F21)+(0.1*(G21+H21+I21)) -> 4.8 | K21: =IF(J21>2,(((J21-2)*15)+40),J21*20) -> 82 | L21: 3 | M21: 3.5 | N21: 3 | O21: 4 | P21: 2 | Q21: =(0.35*L21)+(0.15*M21)+(0.2*(N21+O21))+(0.1*P21) -> 3.175 | R21: =IF(Q21>2,(((Q21-2)*15)+40),Q21*20) -> 57.625 | S21: =(K21+R21)/2 -> 69.8125 | T21: 0.6875
A22: BSC_CNSSH | B22: TIMOTHY | C22: FERFERS | D22: 3 | E22: 3 | F22: 3 | G22: 3 | H22: 4.5 | I22: 3 | J22: =(0.2*(D22+E22))+(0.3*F22)+(0.1*(G22+H22+I22)) -> 3.15 | K22: =IF(J22>2,(((J22-2)*15)+40),J22*20) -> 57.25 | L22: 2 | M22: 2 | N22: 3 | O22: 2 | P22: 2 | Q22: =(0.35*L22)+(0.15*M22)+(0.2*(N22+O22))+(0.1*P22) -> 2.2 | R22: =IF(Q22>2,(((Q22-2)*15)+40),Q22*20) -> 43 | S22: =(K22+R22)/2 -> 50.125 | T22: 0.5 | U22: Y
A23: BSC_CNSSH | B23: SHAUN | C23: FOX | D23: 3 | E23: 4 | F23: 3 | G23: 3 | H23: 4 | I23: 4.5 | J23: =(0.2*(D23+E23))+(0.3*F23)+(0.1*(G23+H23+I23)) -> 3.45 | K23: =IF(J23>2,(((J23-2)*15)+40),J23*20) -> 61.75 | L23: 3 | M23: 3 | N23: 3 | O23: 3 | P23: 3 | Q23: =(0.35*L23)+(0.15*M23)+(0.2*(N23+O23))+(0.1*P23) -> 3 | R23: =IF(Q23>2,(((Q23-2)*15)+40),Q23*20) -> 55 | S23: =(K23+R23)/2 -> 58.375 | T23: 0.625 | U23: Y
A24: HND_COMHND | B24: KALLUM | C24: GORDON | D24: 3 | E24: 3 | F24: 2 | G24: 2 | H24: 4 | I24: 4 | J24: =(0.2*(D24+E24))+(0.3*F24)+(0.1*(G24+H24+I24)) -> 2.8 | K24: =IF(J24>2,(((J24-2)*15)+40),J24*20) -> 52 | L24: 3 | M24: 5 | N24: 3 | O24: 2.5 | P24: 3 | Q24: =(0.35*L24)+(0.15*M24)+(0.2*(N24+O24))+(0.1*P24) -> 3.2 | R24: =IF(Q24>2,(((Q24-2)*15)+40),Q24*20) -> 58 | S24: =(K24+R24)/2 -> 55 | T24: 0.6875 | U24: Y | V24: DD
A25: BSC_CNSSH | B25: RICHARD JOHN CHARLES | C25: GREEN | J25: =(0.2*(D25+E25))+(0.3*F25)+(0.1*(G25+H25+I25)) -> 0 | K25: =IF(J25>2,(((J25-2)*15)+40),J25*20) -> 0 | Q25: =(0.35*L25)+(0.15*M25)+(0.2*(N25+O25))+(0.1*P25) -> 0 | R25: =IF(Q25>2,(((Q25-2)*15)+40),Q25*20) -> 0 | S25: =(K25+R25)/2 -> 0 | T25: 0
A26: BSC_CWDSH | B26: ZAEEM | C26: GULAMMAMODO | D26: 3 | E26: 3 | F26: 2 | G26: 2 | H26: 4 | I26: 3 | J26: =(0.2*(D26+E26))+(0.3*F26)+(0.1*(G26+H26+I26)) -> 2.7 | K26: =IF(J26>2,(((J26-2)*15)+40),J26*20) -> 50.5 | L26: 3 | M26: 3 | N26: 3 | O26: 4 | P26: 3 | Q26: =(0.35*L26)+(0.15*M26)+(0.2*(N26+O26))+(0.1*P26) -> 3.2 | R26: =IF(Q26>2,(((Q26-2)*15)+40),Q26*20) -> 58 | S26: =(K26+R26)/2 -> 54.25 | T26: 0.4375 | U26: Y
A27: BSC-PT_DA6CDI | B27: ANTON | C27: HALL | D27: 3.5 | E27: 3.5 | F27: 4 | G27: 4 | H27: 5 | I27: 3 | J27: =(0.2*(D27+E27))+(0.3*F27)+(0.1*(G27+H27+I27)) -> 3.8 | K27: =IF(J27>2,(((J27-2)*15)+40),J27*20) -> 67 | L27: 4 | M27: 4.5 | N27: 4.5 | O27: 4 | P27: 4 | Q27: =(0.35*L27)+(0.15*M27)+(0.2*(N27+O27))+(0.1*P27) -> 4.175 | R27: =IF(Q27>2,(((Q27-2)*15)+40),Q27*20) -> 72.625 | S27: =(K27+R27)/2 -> 69.8125 | T27: 0.8125
A28: BSC_CNSSH | B28: JAMES DANIEL | C28: HARRIS | D28: 3 | E28: 3 | F28: 3 | G28: 3 | H28: 4 | I28: 3 | J28: =(0.2*(D28+E28))+(0.3*F28)+(0.1*(G28+H28+I28)) -> 3.1 | K28: =IF(J28>2,(((J28-2)*15)+40),J28*20) -> 56.5 | L28: 3 | M28: 4 | N28: 3 | O28: 3 | P28: 5 | Q28: =(0.35*L28)+(0.15*M28)+(0.2*(N28+O28))+(0.1*P28) -> 3.35 | R28: =IF(Q28>2,(((Q28-2)*15)+40),Q28*20) -> 60.25 | S28: =(K28+R28)/2 -> 58.375 | T28: 0.875 | U28: Y
A29: HND_CNSHND | B29: CORREY | C29: HEARD | D29: 4 | E29: 4 | F29: 4 | G29: 3 | H29: 4 | I29: 3 | J29: =(0.2*(D29+E29))+(0.3*F29)+(0.1*(G29+H29+I29)) -> 3.8 | K29: =IF(J29>2,(((J29-2)*15)+40),J29*20) -> 67 | L29: 3 | M29: 5 | N29: 4 | O29: 3 | P29: 4 | Q29: =(0.35*L29)+(0.15*M29)+(0.2*(N29+O29))+(0.1*P29) -> 3.6 | R29: =IF(Q29>2,(((Q29-2)*15)+40),Q29*20) -> 64 | S29: =(K29+R29)/2 -> 65.5 | T29: 0.875 | U29: Y
A30: BSC-PT_DA6CNS | B30: GERAINT ARFON | C30: HILL | D30: 4 | E30: 4 | F30: 4 | G30: 5 | H30: 5 | I30: 5 | J30: =(0.2*(D30+E30))+(0.3*F30)+(0.1*(G30+H30+I30)) -> 4.3 | K30: =IF(J30>2,(((J30-2)*15)+40),J30*20) -> 74.5 | L30: 2 | M30: 2 | N30: 3 | O30: 4 | P30: 4 | Q30: =(0.35*L30)+(0.15*M30)+(0.2*(N30+O30))+(0.1*P30) -> 2.8 | R30: =IF(Q30>2,(((Q30-2)*15)+40),Q30*20) -> 52 | S30: =(K30+R30)/2 -> 63.25 | T30: 0.8125
A31: HND_CNSHND | B31: JAKE LEWIS | C31: HUGHES | D31: 3 | E31: 4 | F31: 4 | G31: 5 | H31: 4 | I31: 2 | J31: =(0.2*(D31+E31))+(0.3*F31)+(0.1*(G31+H31+I31)) -> 3.7 | K31: =IF(J31>2,(((J31-2)*15)+40),J31*20) -> 65.5 | L31: 2 | M31: 1 | N31: 3 | O31: 3 | P31: 3 | Q31: =(0.35*L31)+(0.15*M31)+(0.2*(N31+O31))+(0.1*P31) -> 2.35 | R31: =IF(Q31>2,(((Q31-2)*15)+40),Q31*20) -> 45.25 | S31: =(K31+R31)/2 -> 55.375 | T31: 0.5 | U31: Y | V31: DD
A32: BSC_CNSSH | B32: JOHN PAUL | C32: HUGHES | D32: 4 | E32: 4 | F32: 4 | G32: 1 | H32: 4 | I32: 1 | J32: =(0.2*(D32+E32))+(0.3*F32)+(0.1*(G32+H32+I32)) -> 3.4 | K32: =IF(J32>2,(((J32-2)*15)+40),J32*20) -> 61 | L32: 4 | M32: 5 | N32: 3 | O32: 4 | P32: 5 | Q32: =(0.35*L32)+(0.15*M32)+(0.2*(N32+O32))+(0.1*P32) -> 4.05 | R32: =IF(Q32>2,(((Q32-2)*15)+40),Q32*20) -> 70.75 | S32: =(K32+R32)/2 -> 65.875 | T32: 0.9375
A33: HND_CWDHND | B33: KALAN JAY | C33: HUGHES | D33: 3.3 | E33: 3.3 | F33: 3 | G33: 4 | H33: 2 | I33: 5 | J33: =(0.2*(D33+E33))+(0.3*F33)+(0.1*(G33+H33+I33)) -> 3.32 | K33: =IF(J33>2,(((J33-2)*15)+40),J33*20) -> 59.8 | L33: 3 | M33: 4 | N33: 3 | O33: 2 | P33: 2 | Q33: =(0.35*L33)+(0.15*M33)+(0.2*(N33+O33))+(0.1*P33) -> 2.85 | R33: =IF(Q33>2,(((Q33-2)*15)+40),Q33*20) -> 52.75 | S33: =(K33+R33)/2 -> 56.275 | T33: 0.8125 | U33: Y
A34: BSC_CNSSH | B34: DAVID | C34: ISAAC | D34: 3.5 | E34: 3.5 | F34: 3 | G34: 4 | H34: 4 | I34: 5 | J34: =(0.2*(D34+E34))+(0.3*F34)+(0.1*(G34+H34+I34)) -> 3.6 | K34: =IF(J34>2,(((J34-2)*15)+40),J34*20) -> 64 | L34: 3 | M34: 3 | N34: 2 | O34: 2 | P34: 3 | Q34: =(0.35*L34)+(0.15*M34)+(0.2*(N34+O34))+(0.1*P34) -> 2.6 | R34: =IF(Q34>2,(((Q34-2)*15)+40),Q34*20) -> 49 | S34: =(K34+R34)/2 -> 56.5 | T34: 0.625
A35: BSC-PT_DA6CNS | B35: MATTHEW LEE | C35: JAMES | D35: 4 | E35: 4 | F35: 4 | G35: 5 | H35: 5 | I35: 5 | J35: =(0.2*(D35+E35))+(0.3*F35)+(0.1*(G35+H35+I35)) -> 4.3 | K35: =IF(J35>2,(((J35-2)*15)+40),J35*20) -> 74.5 | L35: 3 | M35: 3 | N35: 3 | O35: 4 | P35: 3 | Q35: =(0.35*L35)+(0.15*M35)+(0.2*(N35+O35))+(0.1*P35) -> 3.2 | R35: =IF(Q35>2,(((Q35-2)*15)+40),Q35*20) -> 58 | S35: =(K35+R35)/2 -> 66.25 | T35: 0.8125
A36: BSC-PT_DA6CNS | B36: DAVID JOHN | C36: JEFFERY | D36: 5 | E36: 5 | F36: 5 | G36: 5 | H36: 5 | I36: 5 | J36: =(0.2*(D36+E36))+(0.3*F36)+(0.1*(G36+H36+I36)) -> 5 | K36: =IF(J36>2,(((J36-2)*15)+40),J36*20) -> 85 | L36: 6 | M36: 5 | N36: 5 | O36: 6 | P36: 6 | Q36: =(0.35*L36)+(0.15*M36)+(0.2*(N36+O36))+(0.1*P36) -> 5.65 | R36: =IF(Q36>2,(((Q36-2)*15)+40),Q36*20) -> 94.75 | S36: =(K36+R36)/2 -> 89.875 | T36: 0.9375
A37: BSC-PT_DA6CNS | B37: RICHARD OWEN | C37: JONES | D37: 3.5 | E37: 3.5 | F37: 3 | G37: 5 | H37: 4 | I37: 3 | J37: =(0.2*(D37+E37))+(0.3*F37)+(0.1*(G37+H37+I37)) -> 3.5 | K37: =IF(J37>2,(((J37-2)*15)+40),J37*20) -> 62.5 | L37: 4 | M37: 4 | N37: 5 | O37: 5 | P37: 5 | Q37: =(0.35*L37)+(0.15*M37)+(0.2*(N37+O37))+(0.1*P37) -> 4.5 | R37: =IF(Q37>2,(((Q37-2)*15)+40),Q37*20) -> 77.5 | S37: =(K37+R37)/2 -> 70 | T37: 0.9375
A38: MCOMP_MCOMPCNSSH | B38: HARRISON JOHN | C38: KEEVILL | D38: 3 | E38: 2 | F38: 1.5 | G38: 2 | H38: 2 | I38: 2 | J38: =(0.2*(D38+E38))+(0.3*F38)+(0.1*(G38+H38+I38)) -> 2.05 | K38: =IF(J38>2,(((J38-2)*15)+40),J38*20) -> 40.75 | L38: 0 | M38: 0 | N38: 0 | O38: 0 | P38: 0 | Q38: =(0.35*L38)+(0.15*M38)+(0.2*(N38+O38))+(0.1*P38) -> 0 | R38: =IF(Q38>2,(((Q38-2)*15)+40),Q38*20) -> 0 | S38: =(K38+R38)/2 -> 20.375 | T38: 0.4375 | V38: Late beyond 7 days
A39: BSC_CWDSH | B39: RICHARD | C39: LAMNEA | D39: 2 | E39: 2 | F39: 2 | G39: 2 | H39: 2 | I39: 5 | J39: =(0.2*(D39+E39))+(0.3*F39)+(0.1*(G39+H39+I39)) -> 2.3 | K39: =IF(J39>2,(((J39-2)*15)+40),J39*20) -> 44.5 | L39: 5 | M39: 5 | N39: 4 | O39: 4 | P39: 6 | Q39: =(0.35*L39)+(0.15*M39)+(0.2*(N39+O39))+(0.1*P39) -> 4.7 | R39: =IF(Q39>2,(((Q39-2)*15)+40),Q39*20) -> 80.5 | S39: =(K39+R39)/2 -> 62.5 | T39: 0.5 | U39: Y
A40: MCOMP_MCOMPCWDSH | B40: TOMOS JOSEPH | C40: LEGGETT | D40: 3 | E40: 3 | F40: 2 | G40: 1 | H40: 3 | I40: 1 | J40: =(0.2*(D40+E40))+(0.3*F40)+(0.1*(G40+H40+I40)) -> 2.3 | K40: =IF(J40>2,(((J40-2)*15)+40),J40*20) -> 44.5 | L40: 3 | M40: 4 | N40: 4 | O40: 4 | P40: 5 | Q40: =(0.35*L40)+(0.15*M40)+(0.2*(N40+O40))+(0.1*P40) -> 3.75 | R40: =IF(Q40>2,(((Q40-2)*15)+40),Q40*20) -> 66.25 | S40: =(K40+R40)/2 -> 55.375 | T40: 0.75 | U40: Y
A41: BSC-PT_DA6CDI | B41: JESSICA ELIZABETH | C41: MARFELL | D41: 3 | E41: 3 | F41: 3 | G41: 3 | H41: 4 | I41: 5 | J41: =(0.2*(D41+E41))+(0.3*F41)+(0.1*(G41+H41+I41)) -> 3.3 | K41: =IF(J41>2,(((J41-2)*15)+40),J41*20) -> 59.5 | L41: 3 | M41: 3 | N41: 4 | O41: 4 | P41: 5 | Q41: =(0.35*L41)+(0.15*M41)+(0.2*(N41+O41))+(0.1*P41) -> 3.6 | R41: =IF(Q41>2,(((Q41-2)*15)+40),Q41*20) -> 64 | S41: =(K41+R41)/2 -> 61.75 | T41: 0.75
A42: MCOMP_MCOMPCNSSH | B42: DYLAN BARRIE | C42: MARTIN | J42: =(0.2*(D42+E42))+(0.3*F42)+(0.1*(G42+H42+I42)) -> 0 | K42: =IF(J42>2,(((J42-2)*15)+40),J42*20) -> 0 | Q42: =(0.35*L42)+(0.15*M42)+(0.2*(N42+O42))+(0.1*P42) -> 0 | R42: =IF(Q42>2,(((Q42-2)*15)+40),Q42*20) -> 0 | S42: =(K42+R42)/2 -> 0 | T42: 0.0625
A43: HND_CNSHND | B43: DORIS BHOKE | C43: MASEKE | J43: =(0.2*(D43+E43))+(0.3*F43)+(0.1*(G43+H43+I43)) -> 0 | K43: =IF(J43>2,(((J43-2)*15)+40),J43*20) -> 0 | Q43: =(0.35*L43)+(0.15*M43)+(0.2*(N43+O43))+(0.1*P43) -> 0 | R43: =IF(Q43>2,(((Q43-2)*15)+40),Q43*20) -> 0 | S43: =(K43+R43)/2 -> 0 | T43: 0
A44: BSC-PT_DA6CNS | B44: ANNE PATRICIA CLAIRE | C44: MCDONNELL | J44: =(0.2*(D44+E44))+(0.3*F44)+(0.1*(G44+H44+I44)) -> 0 | K44: =IF(J44>2,(((J44-2)*15)+40),J44*20) -> 0 | Q44: =(0.35*L44)+(0.15*M44)+(0.2*(N44+O44))+(0.1*P44) -> 0 | R44: =IF(Q44>2,(((Q44-2)*15)+40),Q44*20) -> 0 | S44: =(K44+R44)/2 -> 0 | T44: 0.5
A45: BSC_CNSSH | B45: MIKOLAJ | C45: MICHALSKI | D45: 3 | E45: 3 | F45: 3 | G45: 4 | H45: 4 | I45: 5 | J45: =(0.2*(D45+E45))+(0.3*F45)+(0.1*(G45+H45+I45)) -> 3.4 | K45: =IF(J45>2,(((J45-2)*15)+40),J45*20) -> 61 | L45: 4 | M45: 5 | N45: 3 | O45: 3 | P45: 3 | Q45: =(0.35*L45)+(0.15*M45)+(0.2*(N45+O45))+(0.1*P45) -> 3.65 | R45: =IF(Q45>2,(((Q45-2)*15)+40),Q45*20) -> 64.75 | S45: =(K45+R45)/2 -> 62.875 | T45: 1 | U45: Y
A46: BSC-PT_DA6CDI | B46: ADAM DAVID | C46: MOORE | D46: 3 | E46: 3 | F46: 3 | G46: 3 | H46: 5 | I46: 4 | J46: =(0.2*(D46+E46))+(0.3*F46)+(0.1*(G46+H46+I46)) -> 3.3 | K46: =IF(J46>2,(((J46-2)*15)+40),J46*20) -> 59.5 | L46: 4 | M46: 5 | N46: 4 | O46: 3.5 | P46: 4 | Q46: =(0.35*L46)+(0.15*M46)+(0.2*(N46+O46))+(0.1*P46) -> 4.05 | R46: =IF(Q46>2,(((Q46-2)*15)+40),Q46*20) -> 70.75 | S46: =(K46+R46)/2 -> 65.125 | T46: 0.625
A47: BSC-PT_DA6CNS | B47: BRIAN PAUL | C47: MORRIS | D47: 3 | E47: 4 | F47: 2 | G47: 3 | H47: 5 | I47: 3 | J47: =(0.2*(D47+E47))+(0.3*F47)+(0.1*(G47+H47+I47)) -> 3.1 | K47: =IF(J47>2,(((J47-2)*15)+40),J47*20) -> 56.5 | L47: 3.5 | M47: 5 | N47: 4 | O47: 2.5 | P47: 3.5 | Q47: =(0.35*L47)+(0.15*M47)+(0.2*(N47+O47))+(0.1*P47) -> 3.625 | R47: =IF(Q47>2,(((Q47-2)*15)+40),Q47*20) -> 64.375 | S47: =(K47+R47)/2 -> 60.4375 | T47: 0.9375
A48: BSC_CWDSH | B48: PAUL SAMUEL | C48: NEWMAN | D48: 1 | E48: 3 | F48: 2 | G48: 1 | H48: 2 | I48: 2 | J48: =(0.2*(D48+E48))+(0.3*F48)+(0.1*(G48+H48+I48)) -> 1.9 | K48: =IF(J48>2,(((J48-2)*15)+40),J48*20) -> 38 | L48: 2 | M48: 2 | N48: 3 | O48: 3 | P48: 2 | Q48: =(0.35*L48)+(0.15*M48)+(0.2*(N48+O48))+(0.1*P48) -> 2.4 | R48: =IF(Q48>2,(((Q48-2)*15)+40),Q48*20) -> 46 | S48: =(K48+R48)/2 -> 42 | T48: 0.8125 | U48: Y | V48: Late
A49: BSC-PT_DA6CNS | B49: NEIL ANDREW | C49: O`MAHONEY | D49: 3 | E49: 3 | F49: 3 | G49: 3 | H49: 5 | I49: 4 | J49: =(0.2*(D49+E49))+(0.3*F49)+(0.1*(G49+H49+I49)) -> 3.3 | K49: =IF(J49>2,(((J49-2)*15)+40),J49*20) -> 59.5 | L49: 3 | M49: 4 | N49: 3 | O49: 3 | P49: 2 | Q49: =(0.35*L49)+(0.15*M49)+(0.2*(N49+O49))+(0.1*P49) -> 3.05 | R49: =IF(Q49>2,(((Q49-2)*15)+40),Q49*20) -> 55.75 | S49: =(K49+R49)/2 -> 57.625 | T49: 1
A50: BSC_CNSSH | B50: JAROMIR | C50: PAUER | D50: 5 | E50: 5 | F50: 4 | G50: 6 | H50: 5 | I50: 5 | J50: =(0.2*(D50+E50))+(0.3*F50)+(0.1*(G50+H50+I50)) -> 4.8 | K50: =IF(J50>2,(((J50-2)*15)+40),J50*20) -> 82 | L50: 3 | M50: 4 | N50: 6 | O50: 4 | P50: 3.5 | Q50: =(0.35*L50)+(0.15*M50)+(0.2*(N50+O50))+(0.1*P50) -> 4 | R50: =IF(Q50>2,(((Q50-2)*15)+40),Q50*20) -> 70 | S50: =(K50+R50)/2 -> 76 | T50: 1 | U50: Y
A51: BSC-PT_DA6CDI | B51: ELIZABETH LOWRIE ROSE | C51: PROCTOR | D51: 4 | E51: 4 | F51: 4 | G51: 4 | H51: 5 | I51: 5 | J51: =(0.2*(D51+E51))+(0.3*F51)+(0.1*(G51+H51+I51)) -> 4.2 | K51: =IF(J51>2,(((J51-2)*15)+40),J51*20) -> 73 | L51: 4 | M51: 4 | N51: 5 | O51: 6 | P51: 6 | Q51: =(0.35*L51)+(0.15*M51)+(0.2*(N51+O51))+(0.1*P51) -> 4.8 | R51: =IF(Q51>2,(((Q51-2)*15)+40),Q51*20) -> 82 | S51: =(K51+R51)/2 -> 77.5 | T51: 1 | U51: Y
A52: BSC4F_CNSSH | B52: PATRYK BENIAMIN | C52: RAPACZ | J52: =(0.2*(D52+E52))+(0.3*F52)+(0.1*(G52+H52+I52)) -> 0 | K52: =IF(J52>2,(((J52-2)*15)+40),J52*20) -> 0 | Q52: =(0.35*L52)+(0.15*M52)+(0.2*(N52+O52))+(0.1*P52) -> 0 | R52: =IF(Q52>2,(((Q52-2)*15)+40),Q52*20) -> 0 | S52: =(K52+R52)/2 -> 0 | T52: 0
A53: BSC-PT_DA6CDI | B53: KATIE | C53: REES | D53: 3.5 | E53: 3.5 | F53: 3 | G53: 3.4 | H53: 5 | I53: 5 | J53: =(0.2*(D53+E53))+(0.3*F53)+(0.1*(G53+H53+I53)) -> 3.64 | K53: =IF(J53>2,(((J53-2)*15)+40),J53*20) -> 64.6 | L53: 4 | M53: 5 | N53: 4 | O53: 3 | P53: 2 | Q53: =(0.35*L53)+(0.15*M53)+(0.2*(N53+O53))+(0.1*P53) -> 3.75 | R53: =IF(Q53>2,(((Q53-2)*15)+40),Q53*20) -> 66.25 | S53: =(K53+R53)/2 -> 65.425 | T53: 0.875
A54: BSC-PT_DA6CNS | B54: PAUL LLEWELLYN | C54: RICHARDS | D54: 3 | E54: 3 | F54: 4 | G54: 3.5 | H54: 4 | I54: 5 | J54: =(0.2*(D54+E54))+(0.3*F54)+(0.1*(G54+H54+I54)) -> 3.65 | K54: =IF(J54>2,(((J54-2)*15)+40),J54*20) -> 64.75 | L54: 2 | M54: 3 | N54: 4 | O54: 3 | P54: 2 | Q54: =(0.35*L54)+(0.15*M54)+(0.2*(N54+O54))+(0.1*P54) -> 2.75 | R54: =IF(Q54>2,(((Q54-2)*15)+40),Q54*20) -> 51.25 | S54: =(K54+R54)/2 -> 58 | T54: 1 | U54: Y
A55: HND_CNSHND | B55: SAMUEL | C55: RICHARDS | D55: 3 | E55: 3 | F55: 3 | G55: 2 | H55: 3 | I55: 2 | J55: =(0.2*(D55+E55))+(0.3*F55)+(0.1*(G55+H55+I55)) -> 2.8 | K55: =IF(J55>2,(((J55-2)*15)+40),J55*20) -> 52 | L55: 3 | M55: 5 | N55: 3 | O55: 3 | P55: 1 | Q55: =(0.35*L55)+(0.15*M55)+(0.2*(N55+O55))+(0.1*P55) -> 3.1 | R55: =IF(Q55>2,(((Q55-2)*15)+40),Q55*20) -> 56.5 | S55: =(K55+R55)/2 -> 54.25 | T55: 0.5625 | U55: Y
A56: BSC_CNSSH | B56: HARRY | C56: ROBERTS | D56: 3 | E56: 3 | F56: 3 | G56: 2 | H56: 4 | I56: 2 | J56: =(0.2*(D56+E56))+(0.3*F56)+(0.1*(G56+H56+I56)) -> 2.9 | K56: =IF(J56>2,(((J56-2)*15)+40),J56*20) -> 53.5 | L56: 2 | M56: 1 | N56: 3 | O56: 2 | P56: 2 | Q56: =(0.35*L56)+(0.15*M56)+(0.2*(N56+O56))+(0.1*P56) -> 2.05 | R56: =IF(Q56>2,(((Q56-2)*15)+40),Q56*20) -> 40.75 | S56: =(K56+R56)/2 -> 47.125 | T56: 0.25 | V56: Late
A57: BSC_CNSSH | B57: IEUAN IDRIS JAMES | C57: ROBERTS | J57: =(0.2*(D57+E57))+(0.3*F57)+(0.1*(G57+H57+I57)) -> 0 | K57: =IF(J57>2,(((J57-2)*15)+40),J57*20) -> 0 | Q57: =(0.35*L57)+(0.15*M57)+(0.2*(N57+O57))+(0.1*P57) -> 0 | R57: =IF(Q57>2,(((Q57-2)*15)+40),Q57*20) -> 0 | S57: =(K57+R57)/2 -> 0 | T57: 0
A58: BSC_CNSSH | B58: JOSEPH | C58: ROSS | D58: 3.5 | E58: 3.5 | F58: 2 | G58: 2 | H58: 4 | I58: 4 | J58: =(0.2*(D58+E58))+(0.3*F58)+(0.1*(G58+H58+I58)) -> 3 | K58: =IF(J58>2,(((J58-2)*15)+40),J58*20) -> 55 | L58: 3 | M58: 3 | N58: 3.5 | O58: 4 | P58: 4 | Q58: =(0.35*L58)+(0.15*M58)+(0.2*(N58+O58))+(0.1*P58) -> 3.4 | R58: =IF(Q58>2,(((Q58-2)*15)+40),Q58*20) -> 61 | S58: =(K58+R58)/2 -> 58 | T58: 0.8125 | U58: Y
A59: BSC_COMSH | B59: JACK THOMAS ALAN | C59: ROUT | D59: 3 | E59: 2 | F59: 1 | G59: 2 | H59: 3 | I59: 3 | J59: =(0.2*(D59+E59))+(0.3*F59)+(0.1*(G59+H59+I59)) -> 2.1 | K59: =IF(J59>2,(((J59-2)*15)+40),J59*20) -> 41.5 | L59: 2 | M59: 3 | N59: 3 | O59: 3 | P59: 2 | Q59: =(0.35*L59)+(0.15*M59)+(0.2*(N59+O59))+(0.1*P59) -> 2.55 | R59: =IF(Q59>2,(((Q59-2)*15)+40),Q59*20) -> 48.25 | S59: =(K59+R59)/2 -> 44.875 | T59: 1 | U59: Y
A60: BSC-PT_DA6CNS | B60: SARAH ANN | C60: RULE | D60: 3 | E60: 4 | F60: 2 | G60: 2 | H60: 5 | I60: 3 | J60: =(0.2*(D60+E60))+(0.3*F60)+(0.1*(G60+H60+I60)) -> 3 | K60: =IF(J60>2,(((J60-2)*15)+40),J60*20) -> 55 | L60: 2 | M60: 2 | N60: 3 | O60: 2.5 | P60: 3 | Q60: =(0.35*L60)+(0.15*M60)+(0.2*(N60+O60))+(0.1*P60) -> 2.4 | R60: =IF(Q60>2,(((Q60-2)*15)+40),Q60*20) -> 46 | S60: =(K60+R60)/2 -> 50.5 | T60: 0.875
A61: BSC_BISSH | B61: JAIME | C61: SERODIO | D61: 3 | E61: 3 | F61: 3 | G61: 4 | H61: 3 | I61: 2 | J61: =(0.2*(D61+E61))+(0.3*F61)+(0.1*(G61+H61+I61)) -> 3 | K61: =IF(J61>2,(((J61-2)*15)+40),J61*20) -> 55 | L61: 0 | M61: 0 | N61: 0 | O61: 0 | P61: 0 | Q61: =(0.35*L61)+(0.15*M61)+(0.2*(N61+O61))+(0.1*P61) -> 0 | R61: =IF(Q61>2,(((Q61-2)*15)+40),Q61*20) -> 0 | S61: =(K61+R61)/2 -> 27.5 | T61: 0 | V61: Late
A62: BSC_CNSSH | B62: THOMAS LUKE | C62: SMITH | D62: 3 | E62: 3 | F62: 2 | G62: 2 | H62: 4 | I62: 2 | J62: =(0.2*(D62+E62))+(0.3*F62)+(0.1*(G62+H62+I62)) -> 2.6 | K62: =IF(J62>2,(((J62-2)*15)+40),J62*20) -> 49 | L62: 3 | M62: 4 | N62: 3 | O62: 4 | P62: 3 | Q62: =(0.35*L62)+(0.15*M62)+(0.2*(N62+O62))+(0.1*P62) -> 3.35 | R62: =IF(Q62>2,(((Q62-2)*15)+40),Q62*20) -> 60.25 | S62: =(K62+R62)/2 -> 54.625 | T62: 0.375 | U62: Y | V62: Late
A63: BSC_COMSH | B63: JORDAN LUKE | C63: SOROKO | D63: 3 | E63: 3 | F63: 2 | G63: 2 | H63: 2 | I63: 1 | J63: =(0.2*(D63+E63))+(0.3*F63)+(0.1*(G63+H63+I63)) -> 2.3 | K63: =IF(J63>2,(((J63-2)*15)+40),J63*20) -> 44.5 | L63: 2 | M63: 4 | N63: 3.5 | O63: 2.5 | P63: 2 | Q63: =(0.35*L63)+(0.15*M63)+(0.2*(N63+O63))+(0.1*P63) -> 2.7 | R63: =IF(Q63>2,(((Q63-2)*15)+40),Q63*20) -> 50.5 | S63: =(K63+R63)/2 -> 47.5 | T63: 0.875 | U63: Y
A64: BSC_CDISH | B64: OSVALDAS | C64: STANELIS | D64: 2 | E64: 2 | F64: 1 | G64: 1 | H64: 1 | I64: 1 | J64: =(0.2*(D64+E64))+(0.3*F64)+(0.1*(G64+H64+I64)) -> 1.4 | K64: =IF(J64>2,(((J64-2)*15)+40),J64*20) -> 28 | L64: 2 | M64: 2 | N64: 2 | O64: 2 | P64: 2 | Q64: =(0.35*L64)+(0.15*M64)+(0.2*(N64+O64))+(0.1*P64) -> 2 | R64: =IF(Q64>2,(((Q64-2)*15)+40),Q64*20) -> 40 | S64: =(K64+R64)/2 -> 34 | T64: 0.75 | U64: Y | V64: Late
A65: MCOMP_MCOMPCNSSH | B65: CURTIS LOUIS | C65: STEPHENS | D65: 3 | E65: 3.5 | F65: 3 | G65: 3.5 | H65: 5 | I65: 3 | J65: =(0.2*(D65+E65))+(0.3*F65)+(0.1*(G65+H65+I65)) -> 3.35 | K65: =IF(J65>2,(((J65-2)*15)+40),J65*20) -> 60.25 | L65: 3 | M65: 4 | N65: 3 | O65: 3 | P65: 4 | Q65: =(0.35*L65)+(0.15*M65)+(0.2*(N65+O65))+(0.1*P65) -> 3.25 | R65: =IF(Q65>2,(((Q65-2)*15)+40),Q65*20) -> 58.75 | S65: =(K65+R65)/2 -> 59.5 | T65: 0.6875 | U65: Y
A66: BSC_CNSSH | B66: HARRISON DAVID JOSEPH | C66: STONE | D66: 3 | E66: 4 | F66: 3 | G66: 4 | H66: 5 | I66: 2 | J66: =(0.2*(D66+E66))+(0.3*F66)+(0.1*(G66+H66+I66)) -> 3.4 | K66: =IF(J66>2,(((J66-2)*15)+40),J66*20) -> 61 | L66: 2 | M66: 4 | N66: 4 | O66: 4 | P66: 4 | Q66: =(0.35*L66)+(0.15*M66)+(0.2*(N66+O66))+(0.1*P66) -> 3.3 | R66: =IF(Q66>2,(((Q66-2)*15)+40),Q66*20) -> 59.5 | S66: =(K66+R66)/2 -> 60.25 | T66: 0.0625
A67: HND_CNSHND | B67: DAWID | C67: TROCHIM | D67: 3 | E67: 3 | F67: 2 | G67: 2 | H67: 4 | I67: 4 | J67: =(0.2*(D67+E67))+(0.3*F67)+(0.1*(G67+H67+I67)) -> 2.8 | K67: =IF(J67>2,(((J67-2)*15)+40),J67*20) -> 52 | L67: 3 | M67: 3 | N67: 4 | O67: 4 | P67: 4 | Q67: =(0.35*L67)+(0.15*M67)+(0.2*(N67+O67))+(0.1*P67) -> 3.5 | R67: =IF(Q67>2,(((Q67-2)*15)+40),Q67*20) -> 62.5 | S67: =(K67+R67)/2 -> 57.25 | T67: 0.9375 | U67: Y
A68: BSC_CNSSH | B68: HAFIZ | C68: UDDIN | D68: 3 | E68: 3 | F68: 2 | G68: 2 | H68: 4 | I68: 5 | J68: =(0.2*(D68+E68))+(0.3*F68)+(0.1*(G68+H68+I68)) -> 2.9 | K68: =IF(J68>2,(((J68-2)*15)+40),J68*20) -> 53.5 | L68: 3 | M68: 4 | N68: 4 | O68: 3 | P68: 4 | Q68: =(0.35*L68)+(0.15*M68)+(0.2*(N68+O68))+(0.1*P68) -> 3.45 | R68: =IF(Q68>2,(((Q68-2)*15)+40),Q68*20) -> 61.75 | S68: =(K68+R68)/2 -> 57.625 | T68: 0.875 | U68: Y
A69: BSC_CWDSH | B69: JERICHO JERMAINE | C69: UZZELL | D69: 3 | E69: 3 | F69: 2 | G69: 2 | H69: 3 | I69: 2 | J69: =(0.2*(D69+E69))+(0.3*F69)+(0.1*(G69+H69+I69)) -> 2.5 | K69: =IF(J69>2,(((J69-2)*15)+40),J69*20) -> 47.5 | L69: 5 | M69: 4 | N69: 4 | O69: 3 | P69: 5 | Q69: =(0.35*L69)+(0.15*M69)+(0.2*(N69+O69))+(0.1*P69) -> 4.25 | R69: =IF(Q69>2,(((Q69-2)*15)+40),Q69*20) -> 73.75 | S69: =(K69+R69)/2 -> 60.625 | T69: 0.625 | U69: Y
A70: BSC_CDISH | B70: MARK LAWRENCE EDWIN | C70: VAUGHAN | D70: 4 | E70: 4 | F70: 4 | G70: 6 | H70: 6 | I70: 6 | J70: =(0.2*(D70+E70))+(0.3*F70)+(0.1*(G70+H70+I70)) -> 4.6 | K70: =IF(J70>2,(((J70-2)*15)+40),J70*20) -> 79 | L70: 4 | M70: 4 | N70: 4 | O70: 4 | P70: 6 | Q70: =(0.35*L70)+(0.15*M70)+(0.2*(N70+O70))+(0.1*P70) -> 4.2 | R70: =IF(Q70>2,(((Q70-2)*15)+40),Q70*20) -> 73 | S70: =(K70+R70)/2 -> 76 | T70: 0.6875 | U70: Y
A71: HND_CNSHND | B71: SHANNON LOUISE | C71: WALLACE | D71: 3 | E71: 3 | F71: 2 | G71: 2 | H71: 2 | I71: 3 | J71: =(0.2*(D71+E71))+(0.3*F71)+(0.1*(G71+H71+I71)) -> 2.5 | K71: =IF(J71>2,(((J71-2)*15)+40),J71*20) -> 47.5 | L71: 3 | M71: 4 | N71: 3 | O71: 2.5 | P71: 3 | Q71: =(0.35*L71)+(0.15*M71)+(0.2*(N71+O71))+(0.1*P71) -> 3.05 | R71: =IF(Q71>2,(((Q71-2)*15)+40),Q71*20) -> 55.75 | S71: =(K71+R71)/2 -> 51.625 | T71: 0.625 | U71: Y
A72: HND_CNSHND | B72: KIMANI | C72: WARD | J72: =(0.2*(D72+E72))+(0.3*F72)+(0.1*(G72+H72+I72)) -> 0 | K72: =IF(J72>2,(((J72-2)*15)+40),J72*20) -> 0 | Q72: =(0.35*L72)+(0.15*M72)+(0.2*(N72+O72))+(0.1*P72) -> 0 | R72: =IF(Q72>2,(((Q72-2)*15)+40),Q72*20) -> 0 | S72: =(K72+R72)/2 -> 0 | T72: 0.125
A73: BSC_CNSSH | B73: JOSEPH RYAN | C73: WILLIAMS | D73: 3 | E73: 3 | F73: 2 | G73: 2 | H73: 3 | I73: 3 | J73: =(0.2*(D73+E73))+(0.3*F73)+(0.1*(G73+H73+I73)) -> 2.6 | K73: =IF(J73>2,(((J73-2)*15)+40),J73*20) -> 49 | L73: 2 | M73: 5 | N73: 2 | O73: 3 | P73: 3 | Q73: =(0.35*L73)+(0.15*M73)+(0.2*(N73+O73))+(0.1*P73) -> 2.75 | R73: =IF(Q73>2,(((Q73-2)*15)+40),Q73*20) -> 51.25 | S73: =(K73+R73)/2 -> 50.125 | T73: 0.9375 | U73: Y
A74: BSC-PT_DA6CNS | B74: LLOYD | C74: WILLIS | D74: 3 | E74: 4 | F74: 2 | G74: 4 | H74: 4 | I74: 2 | J74: =(0.2*(D74+E74))+(0.3*F74)+(0.1*(G74+H74+I74)) -> 3 | K74: =IF(J74>2,(((J74-2)*15)+40),J74*20) -> 55 | L74: 4 | M74: 5 | N74: 4 | O74: 5 | P74: 5 | Q74: =(0.35*L74)+(0.15*M74)+(0.2*(N74+O74))+(0.1*P74) -> 4.45 | R74: =IF(Q74>2,(((Q74-2)*15)+40),Q74*20) -> 76.75 | S74: =(K74+R74)/2 -> 65.875 | T74: 0.86666667
A75: BSC-PT_DA6CNS | B75: DONNA LOUISE | C75: WRIGHT | D75: 3 | E75: 3 | F75: 3 | G75: 3 | H75: 5 | I75: 4 | J75: =(0.2*(D75+E75))+(0.3*F75)+(0.1*(G75+H75+I75)) -> 3.3 | K75: =IF(J75>2,(((J75-2)*15)+40),J75*20) -> 59.5 | L75: 3 | M75: 4 | N75: 5 | O75: 5 | P75: 5 | Q75: =(0.35*L75)+(0.15*M75)+(0.2*(N75+O75))+(0.1*P75) -> 4.15 | R75: =IF(Q75>2,(((Q75-2)*15)+40),Q75*20) -> 72.25 | S75: =(K75+R75)/2 -> 65.875 | T75: 0.6
A76: HND_CNSHND | B76: DYLAN | C76: YEATES | D76: 3 | E76: 3 | F76: 3 | G76: 2 | H76: 4 | I76: 2 | J76: =(0.2*(D76+E76))+(0.3*F76)+(0.1*(G76+H76+I76)) -> 2.9 | K76: =IF(J76>2,(((J76-2)*15)+40),J76*20) -> 53.5 | L76: 2 | M76: 4 | N76: 3 | O76: 3 | P76: 2 | Q76: =(0.35*L76)+(0.15*M76)+(0.2*(N76+O76))+(0.1*P76) -> 2.7 | R76: =IF(Q76>2,(((Q76-2)*15)+40),Q76*20) -> 50.5 | S76: =(K76+R76)/2 -> 52 | T76: 0.625 | U76: Y
A77: HND_CNSHND | B77: KRYSTIAN | C77: ZADROZNY | J77: =(0.2*(D77+E77))+(0.3*F77)+(0.1*(G77+H77+I77)) -> 0 | K77: =IF(J77>2,(((J77-2)*15)+40),J77*20) -> 0 | Q77: =(0.35*L77)+(0.15*M77)+(0.2*(N77+O77))+(0.1*P77) -> 0 | R77: =IF(Q77>2,(((Q77-2)*15)+40),Q77*20) -> 0 | S77: =(K77+R77)/2 -> 0 | T77: 0.0625
A78: BSC_CNSSH | B78: MARUF | C78: ZAMAN | D78: 3 | E78: 3 | F78: 2 | G78: 1 | H78: 4 | I78: 1 | J78: =(0.2*(D78+E78))+(0.3*F78)+(0.1*(G78+H78+I78)) -> 2.4 | K78: =IF(J78>2,(((J78-2)*15)+40),J78*20) -> 46 | L78: 0 | M78: 0 | N78: 0 | O78: 0 | P78: 0 | Q78: =(0.35*L78)+(0.15*M78)+(0.2*(N78+O78))+(0.1*P78) -> 0 | R78: =IF(Q78>2,(((Q78-2)*15)+40),Q78*20) -> 0 | S78: =(K78+R78)/2 -> 23 | T78: 0.125
K79: =SUMIF(K3:K78,">0")/COUNTIF(K3:K78,">0") -> 58.53871 | R79: MEAN | S79: =SUMIF(S3:S78,">0")/COUNTIF(S3:S78,">0") -> 57.498185
R80: SD | S80: =STDEV(S3:S78) -> 24.972502
R81: Skewness | S81: =SKEW(S3:S78) -> -1.0239978

Sheet DAV 2
A2: Course | B2: GIVEN NAME | C2: FAMILY NAME | D2: Dataset (10%) | E2: Hypotheses (10%) | F2: Techniques (15%) | G2: Analysis (20%) | H2: Interpretation (15%) | I2: Presentation (10%) | J2: Other Factors (10%) | K2: Documentation (10%) | L2: TOTAL | M2: GRADE | N2: Notes
A3: BSC-PT_DA6CNS | B3: BENJAMIN | C3: ATKINS | L3: =(0.1*(D3+E3+I3+J3+K3))+(0.15*(F3+H3))+(0.2*G3) -> 0 | M3: =IF(L3>2,(((L3-2)*20)+40),L3*20) -> 0 | O3: First | P3: =COUNTIF(M$3:M$50,">=70")/COUNTIF(M$3:M$50,">0") -> 0.16666667
A4: BSC-PT_DA6CNS | B4: JAMES ALEXANDER DAVID | C4: BALL | L4: =(0.1*(D4+E4+I4+J4+K4))+(0.15*(F4+H4))+(0.2*G4) -> 0 | M4: =IF(L4>2,(((L4-2)*20)+40),L4*20) -> 0 | O4: Upper Second | P4: =COUNTIFS(M$3:M$50,">=60",M$3:M$50,"<70")/COUNTIF(M$3:M$50,">0") -> 0.33333333
A5: HND_CNSHND | B5: IBRAHIM | C5: BALOGUN | D5: 4 | E5: 3 | F5: 3 | G5: 3 | H5: 2 | I5: 2 | J5: 5 | K5: 3 | L5: =(0.1*(D5+E5+I5+J5+K5))+(0.15*(F5+H5))+(0.2*G5) -> 3.05 | M5: =IF(L5>2,(((L5-2)*20)+40),L5*20) -> 61 | O5: Lower Second | P5: =COUNTIFS(M$3:M$50,">=50",M$3:M$50,"<60")/COUNTIF(M$3:M$50,">0") -> 0.25
A6: BSC-PT_DA6CNS | B6: MATTHEW | C6: BANWELL-CLODE | L6: =(0.1*(D6+E6+I6+J6+K6))+(0.15*(F6+H6))+(0.2*G6) -> 0 | M6: =IF(L6>2,(((L6-2)*20)+40),L6*20) -> 0 | O6: Third | P6: =COUNTIFS(M$3:M$50,">=40",M$3:M$50,"<50")/COUNTIF(M$3:M$50,">0") -> 0.125
A7: BSC_CNSSH | B7: THOMAS | C7: BARNETT | D7: 2 | E7: 3 | F7: 2 | G7: 3 | H7: 3 | I7: 4 | J7: 4 | K7: 3 | L7: =(0.1*(D7+E7+I7+J7+K7))+(0.15*(F7+H7))+(0.2*G7) -> 2.95 | M7: =IF(L7>2,(((L7-2)*20)+40),L7*20) -> 59 | O7: Condonable | P7: =COUNTIFS(M$3:M$50,">=30",M$3:M$50,"<40")/COUNTIF(M$3:M$50,">0") -> 0.083333333
A8: HND_CNSHND | B8: JAMES | C8: BEARD | D8: 2 | E8: 3 | F8: 3 | G8: 3 | H8: 3 | I8: 2 | J8: 5 | K8: 3 | L8: =(0.1*(D8+E8+I8+J8+K8))+(0.15*(F8+H8))+(0.2*G8) -> 3 | M8: =IF(L8>2,(((L8-2)*20)+40),L8*20) -> 60 | O8: Fail | P8: =COUNTIFS(M$3:M$50,">=1",M$3:M$50,"<30")/COUNTIF(M$3:M$50,">0") -> 0.041666667
A9: HND_CNSHND | B9: RHYS | C9: CARTER | D9: 3 | E9: 3 | F9: 1 | G9: 1 | H9: 3 | I9: 1 | J9: 2 | K9: 3 | L9: =(0.1*(D9+E9+I9+J9+K9))+(0.15*(F9+H9))+(0.2*G9) -> 2 | M9: =IF(L9>2,(((L9-2)*20)+40),L9*20) -> 40
A10: HND_CNSHND | B10: CALUM DEWI LLOYD | C10: CASE | D10: 3 | E10: 2 | F10: 1 | G10: 1 | H10: 1 | I10: 2 | J10: 3 | K10: 3 | L10: =(0.1*(D10+E10+I10+J10+K10))+(0.15*(F10+H10))+(0.2*G10) -> 1.8 | M10: =IF(L10>2,(((L10-2)*20)+40),L10*20) -> 36
A11: BSC_CNSSH | B11: RIZWAN | C11: CHISHTI | D11: 3 | E11: 3 | F11: 3 | G11: 3 | H11: 3 | I11: 3 | J11: 1 | K11: 3 | L11: =(0.1*(D11+E11+I11+J11+K11))+(0.15*(F11+H11))+(0.2*G11) -> 2.8 | M11: =IF(L11>2,(((L11-2)*20)+40),L11*20) -> 56
A12: BSC_CNSSH | B12: CAMERON | C12: CHURCHILL | D12: 3 | E12: 1 | F12: 1 | G12: 1 | H12: 1 | I12: 1 | J12: 2 | K12: 2 | L12: =(0.1*(D12+E12+I12+J12+K12))+(0.15*(F12+H12))+(0.2*G12) -> 1.4 | M12: =IF(L12>2,(((L12-2)*20)+40),L12*20) -> 28
A13: HND_CNSHND | B13: ABUKHAR | C13: DAHIR CABDINUUR | L13: =(0.1*(D13+E13+I13+J13+K13))+(0.15*(F13+H13))+(0.2*G13) -> 0 | M13: =IF(L13>2,(((L13-2)*20)+40),L13*20) -> 0
A14: BSC-PT_DA6CDI | B14: EMMA LOUISE | C14: DAVIES | L14: =(0.1*(D14+E14+I14+J14+K14))+(0.15*(F14+H14))+(0.2*G14) -> 0 | M14: =IF(L14>2,(((L14-2)*20)+40),L14*20) -> 0
A15: BSC-PT_DA6CNS | B15: SHAUN | C15: DAVIES | L15: =(0.1*(D15+E15+I15+J15+K15))+(0.15*(F15+H15))+(0.2*G15) -> 0 | M15: =IF(L15>2,(((L15-2)*20)+40),L15*20) -> 0
A16: BSC-PT_DA6CNS | B16: SUZANNE MICHELLE | C16: DAVIES | L16: =(0.1*(D16+E16+I16+J16+K16))+(0.15*(F16+H16))+(0.2*G16) -> 0 | M16: =IF(L16>2,(((L16-2)*20)+40),L16*20) -> 0
A17: HND_COMHND | B17: THOMAS JOHN | C17: DAVIES | L17: =(0.1*(D17+E17+I17+J17+K17))+(0.15*(F17+H17))+(0.2*G17) -> 0 | M17: =IF(L17>2,(((L17-2)*20)+40),L17*20) -> 0
A18: BSC-PT_DA6CNS | B18: MICHAEL ANDREW | C18: ELLIOTT | L18: =(0.1*(D18+E18+I18+J18+K18))+(0.15*(F18+H18))+(0.2*G18) -> 0 | M18: =IF(L18>2,(((L18-2)*20)+40),L18*20) -> 0
A19: BSC-PT_DA6CNS | B19: GARETH JOHN | C19: EVANS | D19: 2 | E19: 3 | F19: 3 | G19: 3 | H19: 3 | I19: 3 | J19: 5 | K19: 4 | L19: =(0.1*(D19+E19+I19+J19+K19))+(0.15*(F19+H19))+(0.2*G19) -> 3.2 | M19: =IF(L19>2,(((L19-2)*20)+40),L19*20) -> 64
A20: BSC-PT_DA6CNS | B20: PETER REES | C20: EVANS | L20: =(0.1*(D20+E20+I20+J20+K20))+(0.15*(F20+H20))+(0.2*G20) -> 0 | M20: =IF(L20>2,(((L20-2)*20)+40),L20*20) -> 0
A21: BSC-PT_DA6CNS | B21: THOMAS RHYS | C21: EVANS | L21: =(0.1*(D21+E21+I21+J21+K21))+(0.15*(F21+H21))+(0.2*G21) -> 0 | M21: =IF(L21>2,(((L21-2)*20)+40),L21*20) -> 0
A22: BSC_CNSSH | B22: TIMOTHY | C22: FERFERS | D22: 3 | E22: 3 | F22: 4 | G22: 4 | H22: 3 | I22: 4 | J22: 5 | K22: 4 | L22: =(0.1*(D22+E22+I22+J22+K22))+(0.15*(F22+H22))+(0.2*G22) -> 3.75 | M22: =IF(L22>2,(((L22-2)*20)+40),L22*20) -> 75
A23: BSC_CNSSH | B23: SHAUN | C23: FOX | D23: 3 | E23: 3 | F23: 5 | G23: 3 | H23: 3 | I23: 4 | J23: 3 | K23: 5 | L23: =(0.1*(D23+E23+I23+J23+K23))+(0.15*(F23+H23))+(0.2*G23) -> 3.6 | M23: =IF(L23>2,(((L23-2)*20)+40),L23*20) -> 72
A24: HND_COMHND | B24: KALLUM | C24: GORDON | D24: 2.5 | E24: 2.5 | F24: 2 | G24: 2 | H24: 2.5 | I24: 3 | J24: 2.5 | K24: 3 | L24: =(0.1*(D24+E24+I24+J24+K24))+(0.15*(F24+H24))+(0.2*G24) -> 2.425 | M24: =IF(L24>2,(((L24-2)*20)+40),L24*20) -> 48.5 | N24: DD 8/5/20
A25: BSC_CNSSH | B25: RICHARD JOHN CHARLES | C25: GREEN | L25: =(0.1*(D25+E25+I25+J25+K25))+(0.15*(F25+H25))+(0.2*G25) -> 0 | M25: =IF(L25>2,(((L25-2)*20)+40),L25*20) -> 0
A26: BSC_CWDSH | B26: ZAEEM | C26: GULAMMAMODO | D26: 2 | E26: 3 | F26: 3 | G26: 3 | H26: 3 | I26: 4 | J26: 2 | K26: 4 | L26: =(0.1*(D26+E26+I26+J26+K26))+(0.15*(F26+H26))+(0.2*G26) -> 3 | M26: =IF(L26>2,(((L26-2)*20)+40),L26*20) -> 60
A27: BSC-PT_DA6CDI | B27: ANTON | C27: HALL | D27: 4 | E27: 3 | F27: 3 | G27: 4 | H27: 3 | I27: 4.5 | J27: 5 | K27: 4.5 | L27: =(0.1*(D27+E27+I27+J27+K27))+(0.15*(F27+H27))+(0.2*G27) -> 3.8 | M27: =IF(L27>2,(((L27-2)*20)+40),L27*20) -> 76
A28: BSC_CNSSH | B28: JAMES DANIEL | C28: HARRIS | D28: 3 | E28: 3 | F28: 3 | G28: 2 | H28: 1 | I28: 3 | J28: 3 | K28: 3 | L28: =(0.1*(D28+E28+I28+J28+K28))+(0.15*(F28+H28))+(0.2*G28) -> 2.5 | M28: =IF(L28>2,(((L28-2)*20)+40),L28*20) -> 50
A29: HND_CNSHND | B29: CORREY | C29: HEARD | D29: 3 | E29: 2 | F29: 3 | G29: 2 | H29: 3 | I29: 2 | J29: 3 | K29: 3 | L29: =(0.1*(D29+E29+I29+J29+K29))+(0.15*(F29+H29))+(0.2*G29) -> 2.6 | M29: =IF(L29>2,(((L29-2)*20)+40),L29*20) -> 52
A30: BSC-PT_DA6CNS | B30: GERAINT ARFON | C30: HILL | L30: =(0.1*(D30+E30+I30+J30+K30))+(0.15*(F30+H30))+(0.2*G30) -> 0 | M30: =IF(L30>2,(((L30-2)*20)+40),L30*20) -> 0
A31: HND_CNSHND | B31: JAKE LEWIS | C31: HUGHES | D31: 3 | E31: 1 | F31: 2 | G31: 1 | H31: 1 | I31: 2 | J31: 3 | K31: 3 | L31: =(0.1*(D31+E31+I31+J31+K31))+(0.15*(F31+H31))+(0.2*G31) -> 1.85 | M31: =IF(L31>2,(((L31-2)*20)+40),L31*20) -> 37
A32: BSC_CNSSH | B32: JOHN PAUL | C32: HUGHES | L32: =(0.1*(D32+E32+I32+J32+K32))+(0.15*(F32+H32))+(0.2*G32) -> 0 | M32: =IF(L32>2,(((L32-2)*20)+40),L32*20) -> 0
A33: HND_CWDHND | B33: KALAN JAY | C33: HUGHES | D33: 4 | E33: 3 | F33: 3 | G33: 3 | H33: 3 | I33: 4 | J33: 5 | K33: 3 | L33: =(0.1*(D33+E33+I33+J33+K33))+(0.15*(F33+H33))+(0.2*G33) -> 3.4 | M33: =IF(L33>2,(((L33-2)*20)+40),L33*20) -> 68
A34: BSC_CNSSH | B34: DAVID | C34: ISAAC | D34: 4 | E34: 3 | F34: 2 | G34: 2 | H34: 3 | I34: 3 | J34: 3 | K34: 4 | L34: =(0.1*(D34+E34+I34+J34+K34))+(0.15*(F34+H34))+(0.2*G34) -> 2.85 | M34: =IF(L34>2,(((L34-2)*20)+40),L34*20) -> 57
A35: BSC-PT_DA6CNS | B35: MATTHEW LEE | C35: JAMES | L35: =(0.1*(D35+E35+I35+J35+K35))+(0.15*(F35+H35))+(0.2*G35) -> 0 | M35: =IF(L35>2,(((L35-2)*20)+40),L35*20) -> 0
A36: BSC-PT_DA6CNS | B36: DAVID JOHN | C36: JEFFERY | L36: =(0.1*(D36+E36+I36+J36+K36))+(0.15*(F36+H36))+(0.2*G36) -> 0 | M36: =IF(L36>2,(((L36-2)*20)+40),L36*20) -> 0
A37: BSC-PT_DA6CNS | B37: RICHARD OWEN | C37: JONES | L37: =(0.1*(D37+E37+I37+J37+K37))+(0.15*(F37+H37))+(0.2*G37) -> 0 | M37: =IF(L37>2,(((L37-2)*20)+40),L37*20) -> 0
A38: MCOMP_MCOMPCNSSH | B38: HARRISON JOHN | C38: KEEVILL | L38: =(0.1*(D38+E38+I38+J38+K38))+(0.15*(F38+H38))+(0.2*G38) -> 0 | M38: =IF(L38>2,(((L38-2)*20)+40),L38*20) -> 0
A39: BSC_CWDSH | B39: RICHARD | C39: LAMNEA | D39: 5 | E39: 3 | F39: 3 | G39: 4 | H39: 3 | I39: 5 | J39: 5 | K39: 5 | L39: =(0.1*(D39+E39+I39+J39+K39))+(0.15*(F39+H39))+(0.2*G39) -> 4 | M39: =IF(L39>2,(((L39-2)*20)+40),L39*20) -> 80 | N39: DD 8/5/20
A40: MCOMP_MCOMPCWDSH | B40: TOMOS JOSEPH | C40: LEGGETT | D40: 3.5 | E40: 3 | F40: 3 | G40: 2.5 | H40: 3 | I40: 3 | J40: 3 | K40: 3 | L40: =(0.1*(D40+E40+I40+J40+K40))+(0.15*(F40+H40))+(0.2*G40) -> 2.95 | M40: =IF(L40>2,(((L40-2)*20)+40),L40*20) -> 59
A41: BSC-PT_DA6CDI | B41: JESSICA ELIZABETH | C41: MARFELL | D41: 4 | E41: 3 | F41: 2 | G41: 2 | H41: 3 | I41: 3 | J41: 5 | K41: 4 | L41: =(0.1*(D41+E41+I41+J41+K41))+(0.15*(F41+H41))+(0.2*G41) -> 3.05 | M41: =IF(L41>2,(((L41-2)*20)+40),L41*20) -> 61
A42: MCOMP_MCOMPCNSSH | B42: DYLAN BARRIE | C42: MARTIN | L42: =(0.1*(D42+E42+I42+J42+K42))+(0.15*(F42+H42))+(0.2*G42) -> 0 | M42: =IF(L42>2,(((L42-2)*20)+40),L42*20) -> 0
A43: HND_CNSHND | B43: DORIS BHOKE | C43: MASEKE | L43: =(0.1*(D43+E43+I43+J43+K43))+(0.15*(F43+H43))+(0.2*G43) -> 0 | M43: =IF(L43>2,(((L43-2)*20)+40),L43*20) -> 0
A44: BSC-PT_DA6CNS | B44: ANNE PATRICIA CLAIRE | C44: MCDONNELL | L44: =(0.1*(D44+E44+I44+J44+K44))+(0.15*(F44+H44))+(0.2*G44) -> 0 | M44: =IF(L44>2,(((L44-2)*20)+40),L44*20) -> 0
A45: BSC_CNSSH | B45: MIKOLAJ | C45: MICHALSKI | D45: 3 | E45: 3 | F45: 3 | G45: 4 | H45: 3 | I45: 3 | J45: 5 | K45: 3 | L45: =(0.1*(D45+E45+I45+J45+K45))+(0.15*(F45+H45))+(0.2*G45) -> 3.4 | M45: =IF(L45>2,(((L45-2)*20)+40),L45*20) -> 68
A46: BSC-PT_DA6CDI | B46: ADAM DAVID | C46: MOORE | L46: =(0.1*(D46+E46+I46+J46+K46))+(0.15*(F46+H46))+(0.2*G46) -> 0 | M46: =IF(L46>2,(((L46-2)*20)+40),L46*20) -> 0
A47: BSC-PT_DA6CNS | B47: BRIAN PAUL | C47: MORRIS | L47: =(0.1*(D47+E47+I47+J47+K47))+(0.15*(F47+H47))+(0.2*G47) -> 0 | M47: =IF(L47>2,(((L47-2)*20)+40),L47*20) -> 0
A48: BSC_CWDSH | B48: PAUL SAMUEL | C48: NEWMAN | D48: 3 | E48: 3 | F48: 2 | G48: 2 | H48: 3 | I48: 2 | J48: 1 | K48: 2 | L48: =(0.1*(D48+E48+I48+J48+K48))+(0.15*(F48+H48))+(0.2*G48) -> 2.25 | M48: =IF(L48>2,(((L48-2)*20)+40),L48*20) -> 45 | N48: DD 8/5/20
A49: BSC-PT_DA6CNS | B49: NEIL ANDREW | C49: O`MAHONEY | L49: =(0.1*(D49+E49+I49+J49+K49))+(0.15*(F49+H49))+(0.2*G49) -> 0 | M49: =IF(L49>2,(((L49-2)*20)+40),L49*20) -> 0
A50: BSC_CNSSH | B50: JAROMIR | C50: PAUER | D50: 4 | E50: 3 | F50: 3 | G50: 4 | H50: 3 | I50: 4 | J50: 3 | K50: 4 | L50: =(0.1*(D50+E50+I50+J50+K50))+(0.15*(F50+H50))+(0.2*G50) -> 3.5 | M50: 65 | N50: 70, -5% for over 10% too long
A51: BSC-PT_DA6CDI | B51: ELIZABETH LOWRIE ROSE | C51: PROCTOR | D51: 5 | E51: 3 | F51: 3 | G51: 4 | H51: 3 | I51: 5 | J51: 5 | K51: 4 | L51: =(0.1*(D51+E51+I51+J51+K51))+(0.15*(F51+H51))+(0.2*G51) -> 3.9 | M51: =IF(L51>2,(((L51-2)*20)+40),L51*20) -> 78
A52: BSC4F_CNSSH | B52: PATRYK BENIAMIN | C52: RAPACZ | L52: =(0.1*(D52+E52+I52+J52+K52))+(0.15*(F52+H52))+(0.2*G52) -> 0 | M52: =IF(L52>2,(((L52-2)*20)+40),L52*20) -> 0
A53: BSC-PT_DA6CDI | B53: KATIE | C53: REES | L53: =(0.1*(D53+E53+I53+J53+K53))+(0.15*(F53+H53))+(0.2*G53) -> 0 | M53: =IF(L53>2,(((L53-2)*20)+40),L53*20) -> 0
A54: BSC-PT_DA6CNS | B54: PAUL LLEWELLYN | C54: RICHARDS | D54: 3.5 | E54: 3 | F54: 3 | G54: 3 | H54: 3 | I54: 3 | J54: 5 | K54: 3 | L54: =(0.1*(D54+E54+I54+J54+K54))+(0.15*(F54+H54))+(0.2*G54) -> 3.25 | M54: =IF(L54>2,(((L54-2)*20)+40),L54*20) -> 65
A55: HND_CNSHND | B55: SAMUEL | C55: RICHARDS | D55: 3 | E55: 3 | F55: 2 | G55: 1 | H55: 2.5 | I55: 2 | J55: 3 | K55: 3 | L55: =(0.1*(D55+E55+I55+J55+K55))+(0.15*(F55+H55))+(0.2*G55) -> 2.275 | M55: =IF(L55>2,(((L55-2)*20)+40),L55*20) -> 45.5 | N55: DD 8/5/20
A56: BSC_CNSSH | B56: HARRY | C56: ROBERTS | L56: =(0.1*(D56+E56+I56+J56+K56))+(0.15*(F56+H56))+(0.2*G56) -> 0 | M56: =IF(L56>2,(((L56-2)*20)+40),L56*20) -> 0
A57: BSC_CNSSH | B57: IEUAN IDRIS JAMES | C57: ROBERTS | L57: =(0.1*(D57+E57+I57+J57+K57))+(0.15*(F57+H57))+(0.2*G57) -> 0 | M57: =IF(L57>2,(((L57-2)*20)+40),L57*20) -> 0
A58: BSC_CNSSH | B58: JOSEPH | C58: ROSS | D58: 5 | E58: 3 | F58: 3 | G58: 3 | H58: 3 | I58: 4 | J58: 5 | K58: 3 | L58: =(0.1*(D58+E58+I58+J58+K58))+(0.15*(F58+H58))+(0.2*G58) -> 3.5 | M58: =IF(L58>2,(((L58-2)*20)+40),L58*20) -> 70
A59: BSC_COMSH | B59: JACK THOMAS ALAN | C59: ROUT | D59: 3 | E59: 3 | F59: 2 | G59: 2 | H59: 1 | I59: 2 | J59: 2 | K59: 3 | L59: =(0.1*(D59+E59+I59+J59+K59))+(0.15*(F59+H59))+(0.2*G59) -> 2.15 | M59: =IF(L59>2,(((L59-2)*20)+40),L59*20) -> 43
A60: BSC-PT_DA6CNS | B60: SARAH ANN | C60: RULE | L60: =(0.1*(D60+E60+I60+J60+K60))+(0.15*(F60+H60))+(0.2*G60) -> 0 | M60: =IF(L60>2,(((L60-2)*20)+40),L60*20) -> 0
A61: BSC_BISSH | B61: JAIME | C61: SERODIO | L61: =(0.1*(D61+E61+I61+J61+K61))+(0.15*(F61+H61))+(0.2*G61) -> 0 | M61: =IF(L61>2,(((L61-2)*20)+40),L61*20) -> 0
A62: BSC_CNSSH | B62: THOMAS LUKE | C62: SMITH | D62: 2 | E62: 1 | F62: 0 | G62: 0 | H62: 0 | I62: 0 | J62: 0 | K62: 0 | L62: =(0.1*(D62+E62+I62+J62+K62))+(0.15*(F62+H62))+(0.2*G62) -> 0.3 | M62: =IF(L62>2,(((L62-2)*20)+40),L62*20) -> 6
A63: BSC_COMSH | B63: JORDAN LUKE | C63: SOROKO | D63: 2 | E63: 2 | F63: 1 | G63: 0 | H63: 0 | I63: 1 | J63: 2 | K63: 2.5 | L63: =(0.1*(D63+E63+I63+J63+K63))+(0.15*(F63+H63))+(0.2*G63) -> 1.1 | M63: =IF(L63>2,(((L63-2)*20)+40),L63*20) -> 22
A64: BSC_CDISH | B64: OSVALDAS | C64: STANELIS | D64: 3 | E64: 3 | F64: 3 | G64: 3 | H64: 3 | I64: 3 | J64: 5 | K64: 3 | L64: =(0.1*(D64+E64+I64+J64+K64))+(0.15*(F64+H64))+(0.2*G64) -> 3.2 | M64: =IF(L64>2,(((L64-2)*20)+40),L64*20) -> 64
A65: MCOMP_MCOMPCNSSH | B65: CURTIS LOUIS | C65: STEPHENS | D65: 3 | E65: 3 | F65: 3 | G65: 3 | H65: 3 | I65: 4 | J65: 4.5 | K65: 3 | L65: =(0.1*(D65+E65+I65+J65+K65))+(0.15*(F65+H65))+(0.2*G65) -> 3.25 | M65: =IF(L65>2,(((L65-2)*20)+40),L65*20) -> 65
A66: BSC_CNSSH | B66: HARRISON DAVID JOSEPH | C66: STONE | L66: =(0.1*(D66+E66+I66+J66+K66))+(0.15*(F66+H66))+(0.2*G66) -> 0 | M66: =IF(L66>2,(((L66-2)*20)+40),L66*20) -> 0
A67: HND_CNSHND | B67: DAWID | C67: TROCHIM | D67: 4 | E67: 2 | F67: 2 | G67: 2 | H67: 2 | I67: 2.5 | J67: 4.5 | K67: 3 | L67: =(0.1*(D67+E67+I67+J67+K67))+(0.15*(F67+H67))+(0.2*G67) -> 2.6 | M67: =IF(L67>2,(((L67-2)*20)+40),L67*20) -> 52
A68: BSC_CNSSH | B68: HAFIZ | C68: UDDIN | D68: 4 | E68: 4 | F68: 2 | G68: 3 | H68: 2 | I68: 3 | J68: 5 | K68: 3 | L68: =(0.1*(D68+E68+I68+J68+K68))+(0.15*(F68+H68))+(0.2*G68) -> 3.1 | M68: =IF(L68>2,(((L68-2)*20)+40),L68*20) -> 62
A69: BSC_CWDSH | B69: JERICHO JERMAINE | C69: UZZELL | D69: 2 | E69: 3 | F69: 3 | G69: 2 | H69: 3 | I69: 2 | J69: 2 | K69: 2.5 | L69: =(0.1*(D69+E69+I69+J69+K69))+(0.15*(F69+H69))+(0.2*G69) -> 2.45 | M69: =IF(L69>2,(((L69-2)*20)+40),L69*20) -> 49
A70: BSC_CDISH | B70: MARK LAWRENCE EDWIN | C70: VAUGHAN | D70: 5 | E70: 3 | F70: 3.5 | G70: 4 | H70: 5 | I70: 5 | J70: 5 | K70: 5 | L70: =(0.1*(D70+E70+I70+J70+K70))+(0.15*(F70+H70))+(0.2*G70) -> 4.375 | M70: =IF(L70>2,(((L70-2)*20)+40),L70*20) -> 87.5
A71: HND_CNSHND | B71: SHANNON LOUISE | C71: WALLACE | D71: 4 | E71: 2 | F71: 2 | G71: 1.5 | H71: 1 | I71: 2 | J71: 3 | K71: 3 | L71: =(0.1*(D71+E71+I71+J71+K71))+(0.15*(F71+H71))+(0.2*G71) -> 2.15 | M71: =IF(L71>2,(((L71-2)*20)+40),L71*20) -> 43
A72: HND_CNSHND | B72: KIMANI | C72: WARD | L72: =(0.1*(D72+E72+I72+J72+K72))+(0.15*(F72+H72))+(0.2*G72) -> 0 | M72: =IF(L72>2,(((L72-2)*20)+40),L72*20) -> 0
A73: BSC_CNSSH | B73: JOSEPH RYAN | C73: WILLIAMS | D73: 3 | E73: 1.5 | F73: 3 | G73: 2.5 | H73: 1 | I73: 3 | J73: 4.5 | K73: 4 | L73: =(0.1*(D73+E73+I73+J73+K73))+(0.15*(F73+H73))+(0.2*G73) -> 2.7 | M73: =IF(L73>2,(((L73-2)*20)+40),L73*20) -> 54
A74: BSC-PT_DA6CNS | B74: LLOYD | C74: WILLIS | L74: =(0.1*(D74+E74+I74+J74+K74))+(0.15*(F74+H74))+(0.2*G74) -> 0 | M74: =IF(L74>2,(((L74-2)*20)+40),L74*20) -> 0
A75: BSC-PT_DA6CNS | B75: DONNA LOUISE | C75: WRIGHT | L75: =(0.1*(D75+E75+I75+J75+K75))+(0.15*(F75+H75))+(0.2*G75) -> 0 | M75: =IF(L75>2,(((L75-2)*20)+40),L75*20) -> 0
A76: HND_CNSHND | B76: DYLAN | C76: YEATES | D76: 3 | E76: 1.5 | F76: 1 | G76: 1.5 | H76: 1 | I76: 1 | J76: 2 | K76: 2 | L76: =(0.1*(D76+E76+I76+J76+K76))+(0.15*(F76+H76))+(0.2*G76) -> 1.55 | M76: =IF(L76>2,(((L76-2)*20)+40),L76*20) -> 31
A77: HND_CNSHND | B77: KRYSTIAN | C77: ZADROZNY | L77: =(0.1*(D77+E77+I77+J77+K77))+(0.15*(F77+H77))+(0.2*G77) -> 0 | M77: =IF(L77>2,(((L77-2)*20)+40),L77*20) -> 0
A78: BSC_CNSSH | B78: MARUF | C78: ZAMAN | L78: =(0.1*(D78+E78+I78+J78+K78))+(0.15*(F78+H78))+(0.2*G78) -> 0 | M78: =IF(L78>2,(((L78-2)*20)+40),L78*20) -> 0
L79: =SUMIF(L3:L50,">0")/COUNTIF(L3:L50,">0") -> 2.8802083 | M79: =SUMIF(M3:M78,">0")/COUNTIF(M3:M78,">0") -> 55.3625
L80: SD | M80: =_xlfn.STDEV.P(M3:M78) -> 30.119783
L81: Skewness | M81: =SKEW(M3:M78) -> 0.27656968

Sheet Overall
D1: DAV 1 | E1: DAV 2 | F1: TOTAL
A2: Course | B2: GIVEN NAME | C2: FAMILY NAME
A3: BSC-PT_DA6CNS | B3: BENJAMIN | C3: ATKINS | D3: ='DAV 1'!S3 -> 62.125 | E3: ='DAV 2'!M3 -> 0 | F3: =(D3+E3)/2 -> 31.0625 | G3: DDA | I3: First | J3: =COUNTIF(F$3:F$50,">=70")/COUNTIF(F$3:F$50,">0") -> 0.078947368
A4: BSC-PT_DA6CNS | B4: JAMES ALEXANDER DAVID | C4: BALL | D4: ='DAV 1'!S4 -> 60.625 | E4: ='DAV 2'!M4 -> 0 | F4: =(D4+E4)/2 -> 30.3125 | G4: DDA | I4: Upper Second | J4: =COUNTIFS(F$3:F$50,">=60",F$3:F$50,"<70")/COUNTIF(F$3:F$50,">0") -> 0.18421053
A5: HND_CNSHND | B5: IBRAHIM | C5: BALOGUN | D5: ='DAV 1'!S5 -> 51.25 | E5: ='DAV 2'!M5 -> 61 | F5: =(D5+E5)/2 -> 56.125 | I5: Lower Second | J5: =COUNTIFS(F$3:F$50,">=50",F$3:F$50,"<60")/COUNTIF(F$3:F$50,">0") -> 0.23684211
A6: BSC-PT_DA6CNS | B6: MATTHEW | C6: BANWELL-CLODE | D6: ='DAV 1'!S6 -> 0 | E6: ='DAV 2'!M6 -> 0 | F6: =(D6+E6)/2 -> 0 | G6: DDA | I6: Third | J6: =COUNTIFS(F$3:F$50,">=40",F$3:F$50,"<50")/COUNTIF(F$3:F$50,">0") -> 0.13157895
A7: BSC_CNSSH | B7: THOMAS | C7: BARNETT | D7: ='DAV 1'!S7 -> 44 | E7: ='DAV 2'!M7 -> 59 | F7: =(D7+E7)/2 -> 51.5 | I7: Condonable Fail | J7: =COUNTIFS(F$3:F$50,">=30",F$3:F$50,"<40")/COUNTIF(F$3:F$50,">0") -> 0.31578947
A8: HND_CNSHND | B8: JAMES | C8: BEARD | D8: ='DAV 1'!S8 -> 70.375 | E8: ='DAV 2'!M8 -> 60 | F8: =(D8+E8)/2 -> 65.1875 | I8: Fail | J8: =COUNTIFS(F$3:F$50,">=1",F$3:F$50,"<30")/COUNTIF(F$3:F$50,">0") -> 0.052631579
A9: HND_CNSHND | B9: RHYS | C9: CARTER | D9: ='DAV 1'!S9 -> 53.875 | E9: ='DAV 2'!M9 -> 40 | F9: =(D9+E9)/2 -> 46.9375
A10: HND_CNSHND | B10: CALUM DEWI LLOYD | C10: CASE | D10: ='DAV 1'!S10 -> 62.5 | E10: ='DAV 2'!M10 -> 36 | F10: =(D10+E10)/2 -> 49.25 | J10: Assignment 1 | K10: Assignment 2 | L10: Overall
A11: BSC_CNSSH | B11: RIZWAN | C11: CHISHTI | D11: ='DAV 1'!S11 -> 55.75 | E11: ='DAV 2'!M11 -> 56 | F11: =(D11+E11)/2 -> 55.875 | I11: Mean | J11: =D79 -> 57.498185 | K11: =E79 -> 55.3625 | L11: =F79 -> 46.607964
A12: BSC_CNSSH | B12: CAMERON | C12: CHURCHILL | D12: ='DAV 1'!S12 -> 41.25 | E12: ='DAV 2'!M12 -> 28 | F12: =(D12+E12)/2 -> 34.625 | G12: Not on MyTSD | I12: St. Dev. | J12: =D80 -> 24.972502 | K12: =E80 -> 30.319916 | L12: =F80 -> 23.490876
A13: HND_CNSHND | B13: ABUKHAR | C13: DAHIR CABDINUUR | D13: ='DAV 1'!S13 -> 0 | E13: ='DAV 2'!M13 -> 0 | F13: =(D13+E13)/2 -> 0
A14: BSC-PT_DA6CDI | B14: EMMA LOUISE | C14: DAVIES | D14: ='DAV 1'!S14 -> 0 | E14: ='DAV 2'!M14 -> 0 | F14: =(D14+E14)/2 -> 0 | G14: DDA
A15: BSC-PT_DA6CNS | B15: SHAUN | C15: DAVIES | D15: ='DAV 1'!S15 -> 64.375 | E15: ='DAV 2'!M15 -> 0 | F15: =(D15+E15)/2 -> 32.1875 | G15: DDA
A16: BSC-PT_DA6CNS | B16: SUZANNE MICHELLE | C16: DAVIES | D16: ='DAV 1'!S16 -> 0 | E16: ='DAV 2'!M16 -> 0 | F16: =(D16+E16)/2 -> 0 | G16: DDA
A17: HND_COMHND | B17: THOMAS JOHN | C17: DAVIES | D17: ='DAV 1'!S17 -> 0 | E17: ='DAV 2'!M17 -> 0 | F17: =(D17+E17)/2 -> 0
A18: BSC-PT_DA6CNS | B18: MICHAEL ANDREW | C18: ELLIOTT | D18: ='DAV 1'!S18 -> 0 | E18: ='DAV 2'!M18 -> 0 | F18: =(D18+E18)/2 -> 0 | G18: DDA
A19: BSC-PT_DA6CNS | B19: GARETH JOHN | C19: EVANS | D19: ='DAV 1'!S19 -> 62.6875 | E19: ='DAV 2'!M19 -> 64 | F19: =(D19+E19)/2 -> 63.34375 | G19: DDA
A20: BSC-PT_DA6CNS | B20: PETER REES | C20: EVANS | D20: ='DAV 1'!S20 -> 68.3125 | E20: ='DAV 2'!M20 -> 0 | F20: =(D20+E20)/2 -> 34.15625 | G20: DDA
A21: BSC-PT_DA6CNS | B21: THOMAS RHYS | C21: EVANS | D21: ='DAV 1'!S21 -> 69.8125 | E21: ='DAV 2'!M21 -> 0 | F21: =(D21+E21)/2 -> 34.90625 | G21: DDA
A22: BSC_CNSSH | B22: TIMOTHY | C22: FERFERS | D22: ='DAV 1'!S22 -> 50.125 | E22: ='DAV 2'!M22 -> 75 | F22: =(D22+E22)/2 -> 62.5625
A23: BSC_CNSSH | B23: SHAUN | C23: FOX | D23: ='DAV 1'!S23 -> 58.375 | E23: ='DAV 2'!M23 -> 72 | F23: =(D23+E23)/2 -> 65.1875
A24: HND_COMHND | B24: KALLUM | C24: GORDON | D24: ='DAV 1'!S24 -> 55 | E24: ='DAV 2'!M24 -> 48.5 | F24: =(D24+E24)/2 -> 51.75
A25: BSC_CNSSH | B25: RICHARD JOHN CHARLES | C25: GREEN | D25: ='DAV 1'!S25 -> 0 | E25: ='DAV 2'!M25 -> 0 | F25: =(D25+E25)/2 -> 0
A26: BSC_CWDSH | B26: ZAEEM | C26: GULAMMAMODO | D26: ='DAV 1'!S26 -> 54.25 | E26: ='DAV 2'!M26 -> 60 | F26: =(D26+E26)/2 -> 57.125
A27: BSC-PT_DA6CDI | B27: ANTON | C27: HALL | D27: ='DAV 1'!S27 -> 69.8125 | E27: ='DAV 2'!M27 -> 76 | F27: =(D27+E27)/2 -> 72.90625 | G27: DDA
A28: BSC_CNSSH | B28: JAMES DANIEL | C28: HARRIS | D28: ='DAV 1'!S28 -> 58.375 | E28: ='DAV 2'!M28 -> 50 | F28: =(D28+E28)/2 -> 54.1875
A29: HND_CNSHND | B29: CORREY | C29: HEARD | D29: ='DAV 1'!S29 -> 65.5 | E29: ='DAV 2'!M29 -> 52 | F29: =(D29+E29)/2 -> 58.75
A30: BSC-PT_DA6CNS | B30: GERAINT ARFON | C30: HILL | D30: ='DAV 1'!S30 -> 63.25 | E30: ='DAV 2'!M30 -> 0 | F30: =(D30+E30)/2 -> 31.625 | G30: DDA
A31: HND_CNSHND | B31: JAKE LEWIS | C31: HUGHES | D31: ='DAV 1'!S31 -> 55.375 | E31: ='DAV 2'!M31 -> 37 | F31: =(D31+E31)/2 -> 46.1875
A32: BSC_CNSSH | B32: JOHN PAUL | C32: HUGHES | D32: ='DAV 1'!S32 -> 65.875 | E32: ='DAV 2'!M32 -> 0 | F32: =(D32+E32)/2 -> 32.9375
A33: HND_CWDHND | B33: KALAN JAY | C33: HUGHES | D33: ='DAV 1'!S33 -> 56.275 | E33: ='DAV 2'!M33 -> 68 | F33: =(D33+E33)/2 -> 62.1375
A34: BSC_CNSSH | B34: DAVID | C34: ISAAC | D34: ='DAV 1'!S34 -> 56.5 | E34: ='DAV 2'!M34 -> 57 | F34: =(D34+E34)/2 -> 56.75
A35: BSC-PT_DA6CNS | B35: MATTHEW LEE | C35: JAMES | D35: ='DAV 1'!S35 -> 66.25 | E35: ='DAV 2'!M35 -> 0 | F35: =(D35+E35)/2 -> 33.125 | G35: DDA
A36: BSC-PT_DA6CNS | B36: DAVID JOHN | C36: JEFFERY | D36: ='DAV 1'!S36 -> 89.875 | E36: ='DAV 2'!M36 -> 0 | F36: =(D36+E36)/2 -> 44.9375 | G36: DDA
A37: BSC-PT_DA6CNS | B37: RICHARD OWEN | C37: JONES | D37: ='DAV 1'!S37 -> 70 | E37: ='DAV 2'!M37 -> 0 | F37: =(D37+E37)/2 -> 35 | G37: DDA
A38: MCOMP_MCOMPCNSSH | B38: HARRISON JOHN | C38: KEEVILL | D38: ='DAV 1'!S38 -> 20.375 | E38: ='DAV 2'!M38 -> 0 | F38: =(D38+E38)/2 -> 10.1875
A39: BSC_CWDSH | B39: RICHARD | C39: LAMNEA | D39: ='DAV 1'!S39 -> 62.5 | E39: ='DAV 2'!M39 -> 80 | F39: =(D39+E39)/2 -> 71.25
A40: MCOMP_MCOMPCWDSH | B40: TOMOS JOSEPH | C40: LEGGETT | D40: ='DAV 1'!S40 -> 55.375 | E40: ='DAV 2'!M40 -> 59 | F40: =(D40+E40)/2 -> 57.1875
A41: BSC-PT_DA6CDI | B41: JESSICA ELIZABETH | C41: MARFELL | D41: ='DAV 1'!S41 -> 61.75 | E41: ='DAV 2'!M41 -> 61 | F41: =(D41+E41)/2 -> 61.375
A42: MCOMP_MCOMPCNSSH | B42: DYLAN BARRIE | C42: MARTIN | D42: ='DAV 1'!S42 -> 0 | E42: ='DAV 2'!M42 -> 0 | F42: =(D42+E42)/2 -> 0
A43: HND_CNSHND | B43: DORIS BHOKE | C43: MASEKE | D43: ='DAV 1'!S43 -> 0 | E43: ='DAV 2'!M43 -> 0 | F43: =(D43+E43)/2 -> 0
A44: BSC-PT_DA6CNS | B44: ANNE PATRICIA CLAIRE | C44: MCDONNELL | D44: ='DAV 1'!S44 -> 0 | E44: ='DAV 2'!M44 -> 0 | F44: =(D44+E44)/2 -> 0 | G44: DDA
A45: BSC_CNSSH | B45: MIKOLAJ | C45: MICHALSKI | D45: ='DAV 1'!S45 -> 62.875 | E45: ='DAV 2'!M45 -> 68 | F45: =(D45+E45)/2 -> 65.4375
A46: BSC-PT_DA6CDI | B46: ADAM DAVID | C46: MOORE | D46: ='DAV 1'!S46 -> 65.125 | E46: ='DAV 2'!M46 -> 0 | F46: =(D46+E46)/2 -> 32.5625 | G46: DDA
A47: BSC-PT_DA6CNS | B47: BRIAN PAUL | C47: MORRIS | D47: ='DAV 1'!S47 -> 60.4375 | E47: ='DAV 2'!M47 -> 0 | F47: =(D47+E47)/2 -> 30.21875 | G47: DDA
A48: BSC_CWDSH | B48: PAUL SAMUEL | C48: NEWMAN | D48: ='DAV 1'!S48 -> 42 | E48: ='DAV 2'!M48 -> 45 | F48: =(D48+E48)/2 -> 43.5
A49: BSC-PT_DA6CNS | B49: NEIL ANDREW | C49: O`MAHONEY | D49: ='DAV 1'!S49 -> 57.625 | E49: ='DAV 2'!M49 -> 0 | F49: =(D49+E49)/2 -> 28.8125 | G49: DDA
A50: BSC_CNSSH | B50: JAROMIR | C50: PAUER | D50: ='DAV 1'!S50 -> 76 | E50: ='DAV 2'!M50 -> 65 | F50: =(D50+E50)/2 -> 70.5
A51: BSC-PT_DA6CDI | B51: ELIZABETH LOWRIE ROSE | C51: PROCTOR | D51: ='DAV 1'!S51 -> 77.5 | E51: ='DAV 2'!M51 -> 78 | F51: =(D51+E51)/2 -> 77.75 | G51: DDA
A52: BSC4F_CNSSH | B52: PATRYK BENIAMIN | C52: RAPACZ | D52: ='DAV 1'!S52 -> 0 | E52: ='DAV 2'!M52 -> 0 | F52: =(D52+E52)/2 -> 0
A53: BSC-PT_DA6CDI | B53: KATIE | C53: REES | D53: ='DAV 1'!S53 -> 65.425 | E53: ='DAV 2'!M53 -> 0 | F53: =(D53+E53)/2 -> 32.7125 | G53: DDA
A54: BSC-PT_DA6CNS | B54: PAUL LLEWELLYN | C54: RICHARDS | D54: ='DAV 1'!S54 -> 58 | E54: ='DAV 2'!M54 -> 65 | F54: =(D54+E54)/2 -> 61.5 | G54: DDA
A55: HND_CNSHND | B55: SAMUEL | C55: RICHARDS | D55: ='DAV 1'!S55 -> 54.25 | E55: ='DAV 2'!M55 -> 45.5 | F55: =(D55+E55)/2 -> 49.875
A56: BSC_CNSSH | B56: HARRY | C56: ROBERTS | D56: ='DAV 1'!S56 -> 47.125 | E56: ='DAV 2'!M56 -> 0 | F56: =(D56+E56)/2 -> 23.5625
A57: BSC_CNSSH | B57: IEUAN IDRIS JAMES | C57: ROBERTS | D57: ='DAV 1'!S57 -> 0 | E57: ='DAV 2'!M57 -> 0 | F57: =(D57+E57)/2 -> 0
A58: BSC_CNSSH | B58: JOSEPH | C58: ROSS | D58: ='DAV 1'!S58 -> 58 | E58: ='DAV 2'!M58 -> 70 | F58: =(D58+E58)/2 -> 64
A59: BSC_COMSH | B59: JACK THOMAS ALAN | C59: ROUT | D59: ='DAV 1'!S59 -> 44.875 | E59: ='DAV 2'!M59 -> 43 | F59: =(D59+E59)/2 -> 43.9375
A60: BSC-PT_DA6CNS | B60: SARAH ANN | C60: RULE | D60: ='DAV 1'!S60 -> 50.5 | E60: ='DAV 2'!M60 -> 0 | F60: =(D60+E60)/2 -> 25.25 | G60: DDA
A61: BSC_BISSH | B61: JAIME | C61: SERODIO | D61: ='DAV 1'!S61 -> 27.5 | E61: ='DAV 2'!M61 -> 0 | F61: =(D61+E61)/2 -> 13.75
A62: BSC_CNSSH | B62: THOMAS LUKE | C62: SMITH | D62: ='DAV 1'!S62 -> 54.625 | E62: ='DAV 2'!M62 -> 6 | F62: =(D62+E62)/2 -> 30.3125
A63: BSC_COMSH | B63: JORDAN LUKE | C63: SOROKO | D63: ='DAV 1'!S63 -> 47.5 | E63: ='DAV 2'!M63 -> 22 | F63: =(D63+E63)/2 -> 34.75
A64: BSC_CDISH | B64: OSVALDAS | C64: STANELIS | D64: ='DAV 1'!S64 -> 34 | E64: ='DAV 2'!M64 -> 64 | F64: =(D64+E64)/2 -> 49
A65: MCOMP_MCOMPCNSSH | B65: CURTIS LOUIS | C65: STEPHENS | D65: ='DAV 1'!S65 -> 59.5 | E65: ='DAV 2'!M65 -> 65 | F65: =(D65+E65)/2 -> 62.25
A66: BSC_CNSSH | B66: HARRISON DAVID JOSEPH | C66: STONE | D66: ='DAV 1'!S66 -> 60.25 | E66: ='DAV 2'!M66 -> 0 | F66: =(D66+E66)/2 -> 30.125
A67: HND_CNSHND | B67: DAWID | C67: TROCHIM | D67: ='DAV 1'!S67 -> 57.25 | E67: ='DAV 2'!M67 -> 52 | F67: =(D67+E67)/2 -> 54.625
A68: BSC_CNSSH | B68: HAFIZ | C68: UDDIN | D68: ='DAV 1'!S68 -> 57.625 | E68: ='DAV 2'!M68 -> 62 | F68: =(D68+E68)/2 -> 59.8125
A69: BSC_CWDSH | B69: JERICHO JERMAINE | C69: UZZELL | D69: ='DAV 1'!S69 -> 60.625 | E69: ='DAV 2'!M69 -> 49 | F69: =(D69+E69)/2 -> 54.8125 | G69: Not on MyTSD
A70: BSC_CDISH | B70: MARK LAWRENCE EDWIN | C70: VAUGHAN | D70: ='DAV 1'!S70 -> 76 | E70: ='DAV 2'!M70 -> 87.5 | F70: =(D70+E70)/2 -> 81.75
A71: HND_CNSHND | B71: SHANNON LOUISE | C71: WALLACE | D71: ='DAV 1'!S71 -> 51.625 | E71: ='DAV 2'!M71 -> 43 | F71: =(D71+E71)/2 -> 47.3125
A72: HND_CNSHND | B72: KIMANI | C72: WARD | D72: ='DAV 1'!S72 -> 0 | E72: ='DAV 2'!M72 -> 0 | F72: =(D72+E72)/2 -> 0
A73: BSC_CNSSH | B73: JOSEPH RYAN | C73: WILLIAMS | D73: ='DAV 1'!S73 -> 50.125 | E73: ='DAV 2'!M73 -> 54 | F73: =(D73+E73)/2 -> 52.0625
A74: BSC-PT_DA6CNS | B74: LLOYD | C74: WILLIS | D74: ='DAV 1'!S74 -> 65.875 | E74: ='DAV 2'!M74 -> 0 | F74: =(D74+E74)/2 -> 32.9375 | G74: DDA
A75: BSC-PT_DA6CNS | B75: DONNA LOUISE | C75: WRIGHT | D75: ='DAV 1'!S75 -> 65.875 | E75: ='DAV 2'!M75 -> 0 | F75: =(D75+E75)/2 -> 32.9375 | G75: DDA
A76: HND_CNSHND | B76: DYLAN | C76: YEATES | D76: ='DAV 1'!S76 -> 52 | E76: ='DAV 2'!M76 -> 31 | F76: =(D76+E76)/2 -> 41.5
A77: HND_CNSHND | B77: KRYSTIAN | C77: ZADROZNY | D77: ='DAV 1'!S77 -> 0 | E77: ='DAV 2'!M77 -> 0 | F77: =(D77+E77)/2 -> 0
A78: BSC_CNSSH | B78: MARUF | C78: ZAMAN | D78: ='DAV 1'!S78 -> 23 | E78: ='DAV 2'!M78 -> 0 | F78: =(D78+E78)/2 -> 11.5
D79: =SUMIF(D3:D78,">0")/COUNTIF(D3:D78,">0") -> 57.498185 | E79: =SUMIF(E3:E78,">0")/COUNTIF(E3:E78,">0") -> 55.3625 | F79: =SUMIF(F3:F78,">0")/COUNTIF(F3:F78,">0") -> 46.607964
D80: =STDEV(D3:D78) -> 24.972502 | E80: =STDEV(E3:E78) -> 30.319916 | F80: =STDEV(F3:F78) -> 23.490876

Sheet Graphs
A1: RANGE | B1: Frequency | L1: Bin | M1: Frequency
A2: 30 | B2: =COUNTIFS(Overall!D$3:D$78,">=30",Overall!D$3:D$78,"<35") -> 1 | L2: 30 | M2: =COUNTIFS(Overall!E$3:E$78,">=30",Overall!E$3:E$78,"<35") -> 1
A3: 35 | B3: =COUNTIFS(Overall!D$3:D$78,">=35",Overall!D$3:D$78,"<40") -> 0 | L3: 35 | M3: =COUNTIFS(Overall!E$3:E$78,">=35",Overall!E$3:E$78,"<40") -> 2
A4: 40 | B4: =COUNTIFS(Overall!D$3:D$78,">=40",Overall!D$3:D$78,"<45") -> 4 | L4: 40 | M4: =COUNTIFS(Overall!E$3:E$78,">=40",Overall!E$3:E$78,"<45") -> 3
A5: 45 | B5: =COUNTIFS(Overall!D$3:D$78,">=45",Overall!D$3:D$78,"<50") -> 2 | L5: 45 | M5: =COUNTIFS(Overall!E$3:E$78,">=45",Overall!E$3:E$78,"<50") -> 4
A6: 50 | B6: =COUNTIFS(Overall!D$3:D$78,">=50",Overall!D$3:D$78,"<55") -> 10 | L6: 50 | M6: =COUNTIFS(Overall!E$3:E$78,">=50",Overall!E$3:E$78,"<55") -> 4
A7: 55 | B7: =COUNTIFS(Overall!D$3:D$78,">=55",Overall!D$3:D$78,"<60") -> 14 | L7: 55 | M7: =COUNTIFS(Overall!E$3:E$78,">=55",Overall!E$3:E$78,"<60") -> 4
A8: 60 | B8: =COUNTIFS(Overall!D$3:D$78,">=60",Overall!D$3:D$78,"<65") -> 12 | L8: 60 | M8: =COUNTIFS(Overall!E$3:E$78,">=60",Overall!E$3:E$78,"<65") -> 7
A9: 65 | B9: =COUNTIFS(Overall!D$3:D$78,">=64",Overall!D$3:D$78,"<70") -> 11 | L9: 65 | M9: =COUNTIFS(Overall!E$3:E$78,">=64",Overall!E$3:E$78,"<70") -> 7
A10: 70 | B10: =COUNTIFS(Overall!D$3:D$78,">=70",Overall!D$3:D$78,"<75") -> 2 | L10: 70 | M10: =COUNTIFS(Overall!E$3:E$78,">=70",Overall!E$3:E$78,"<75") -> 2
A11: 75 | B11: =COUNTIFS(Overall!D$3:D$78,">=75",Overall!D$3:D$78,"<80") -> 3 | L11: 75 | M11: =COUNTIFS(Overall!E$3:E$78,">=75",Overall!E$3:E$78,"<80") -> 3
A12: 80 | B12: =COUNTIFS(Overall!D$3:D$78,">=80",Overall!D$3:D$78,"<85") -> 0 | L12: 80 | M12: =COUNTIFS(Overall!E$3:E$78,">=80",Overall!E$3:E$78,"<85") -> 1
A13: 85 | B13: =COUNTIFS(Overall!D$3:D$78,">=85",Overall!D$3:D$78,"<90") -> 1 | L13: 85 | M13: =COUNTIFS(Overall!E$3:E$78,">=85",Overall!E$3:E$78,"<90") -> 1
A14: 90 | B14: =COUNTIFS(Overall!D$3:D$78,">=90",Overall!D$3:D$78,"<95") -> 0 | L14: 90 | M14: =COUNTIFS(Overall!E$3:E$78,">=90",Overall!E$3:E$78,"<95") -> 0
A15: More | B15: 0 | L15: More | M15: 0
A18: RANGE | B18: Frequency
A19: 30 | B19: =B2+B3 -> 1
A20: 40 | B20: =B4+B5 -> 6
A21: 50 | B21: =B6+B7 -> 24
A22: 60 | B22: =B8+B9 -> 23
A23: 70 | B23: =B10+B11 -> 5
A24: 80 | B24: =B12+B13 -> 1
A25: 90 | B25: 0

Sheet Sheet1
A1: BSC-PT_DA6CNS | B1: BENJAMIN | C1: ATKINS
A2: BSC-PT_DA6CNS | B2: JAMES ALEXANDER DAVID | C2: BALL
A3: HND_CNSHND | B3: IBRAHIM | C3: BALOGUN
A4: BSC-PT_DA6CNS | B4: MATTHEW | C4: BANWELL-CLODE
A5: BSC_CNSSH | B5: THOMAS | C5: BARNETT
A6: HND_CNSHND | B6: JAMES | C6: BEARD
A7: HND_CNSHND | B7: RHYS | C7: CARTER
A8: HND_CNSHND | B8: CALUM DEWI LLOYD | C8: CASE
A9: BSC_CNSSH | B9: RIZWAN | C9: CHISHTI
A10: BSC_CNSSH | B10: CAMERON | C10: CHURCHILL
A11: HND_CNSHND | B11: ABUKHAR | C11: DAHIR CABDINUUR
A12: BSC-PT_DA6CDI | B12: EMMA LOUISE | C12: DAVIES
... A76: BSC_CNSSH | B76: MARUF | C76: ZAMAN
