Workbook

Sheet Sheet1
A1: Thermodynamics and Combustion - Engine Cycle Simulation (Task 2)
A3: Author: [Mikel Olaberria]
A4: 2416696
A6: Date: 2026-03-01
A8: Objective:
A9: This workbook analyses real in-cylinder pressure data from a Ford Sigma 1.6L engine at three different engine speeds to characterise its thermodynamic cycle and compare combustion behavior across the operating range.
A12: Owen Williams
A13: Thermodynamics

Sheet Sheet2
A1: Engine Geometry Parameters
A3: Parameter Value Units Notes
A4: Bore (B) 0.079 m From data | F4: 0.079
A5: Stroke (S) 0.0814 m From data | F5: 0.0814
A6: Conrod Length (l) 0.137 m From data | F6: 0.137
A7: Crank Radius (a) 0.0407 m = S/2 | F7: 0.0407
A8: Compression Ratio (CR) 11.16 - From data | F8: 11.16
A10: Calculated Values
A11: Swept Volume (V_s) 0.0003989 m³ = PI()*(B^2)*S/4
A12: Clearance Volume (V_c) 0.0000393 m³ = V_s/(CR-1)

Sheet 6500
A1: C.A.(DEG) | B1: VOL(CC) | C1: MEAN(B) | D1: Pressure (Pa) | E1: Volume m^3) | G1: dp/dθ (bar/deg) | H1: Ln(volume) | I1: Ln(Pressure) | J1: Temperature (k) | K1: Work increment (J)
A2: -360 | B2: 39.27 | C2: 1.097 | D2: =C2*100000 -> 109700 | E2: =B2*1000000 -> 39270000 | G2: =(C3-C2)/(A3-A2) -> 0.038 | H2: =LN(B2) -> 3.6704609 | I2: =LN(D2) -> 11.605505 | J2: =(D2*B2)/(287*350) -> 42.886202 | K2: =D2*(B3-B2) -> 4388
A3: -359 | B3: 39.31 | C3: 1.135 | D3: =C3*100000 -> 113500 | E3: =B3*1000000 -> 39310000 | G3: =(C4-C3)/(A4-A3) -> 0.014 | H3: =LN(B3) -> 3.6714789 | I3: =LN(D3) -> 11.639558 | J3: =(D3*B3)/(287*350) -> 44.416974 | K3: =D3*(B4-B3) -> 13620
A4: -358 | B4: 39.43 | C4: 1.149 | D4: =C4*100000 -> 114900 | E4: =B4*1000000 -> 39430000 | G4: =(C5-C4)/(A5-A4) -> 0.012 | H4: =LN(B4) -> 3.6745269 | I4: =LN(D4) -> 11.651817 | J4: =(D4*B4)/(287*350) -> 45.102111 | K4: =D4*(B5-B4) -> 22980
A5: -357 | B5: 39.63 | C5: 1.161 | D5: =C5*100000 -> 116100 | E5: =B5*1000000 -> 39630000 | G5: =(C6-C5)/(A6-A5) -> 0.012 | H5: =LN(B5) -> 3.6795864 | I5: =LN(D5) -> 11.662207 | J5: =(D5*B5)/(287*350) -> 45.804311 | K5: =D5*(B6-B5) -> 31347
A6: -356 | B6: 39.9 | C6: 1.173 | D6: =C6*100000 -> 117300 | E6: =B6*1000000 -> 39900000 | G6: =(C7-C6)/(A7-A6) -> -0.02 | H6: =LN(B6) -> 3.6863763 | I6: =LN(D6) -> 11.67249 | J6: =(D6*B6)/(287*350) -> 46.593031 | K6: =D6*(B7-B6) -> 42228
A7: -355 | B7: 40.26 | C7: 1.153 | D7: =C7*100000 -> 115300 | E7: =B7*1000000 -> 40260000 | G7: =(C8-C7)/(A8-A7) -> -0.038 | H7: =LN(B7) -> 3.6953584 | I7: =LN(D7) -> 11.655293 | J7: =(D7*B7)/(287*350) -> 46.211827 | K7: =D7*(B8-B7) -> 49579
A8: -354 | B8: 40.69 | C8: 1.115 | D8: =C8*100000 -> 111500 | E8: =B8*1000000 -> 40690000 | G8: =(C9-C8)/(A9-A8) -> -0.046 | H8: =LN(B8) -> 3.7059824 | I8: =LN(D8) -> 11.62178 | J8: =(D8*B8)/(287*350) -> 45.166103 | K8: =D8*(B9-B8) -> 56865
A9: -353 | B9: 41.2 | C9: 1.069 | D9: =C9*100000 -> 106900 | E9: =B9*1000000 -> 41200000 | G9: =(C10-C9)/(A10-A9) -> -0.039 | H9: =LN(B9) -> 3.7184383 | I9: =LN(D9) -> 11.579649 | J9: =(D9*B9)/(287*350) -> 43.845495 | K9: =D9*(B10-B9) -> 63071
A10: -352 | B10: 41.79 | C10: 1.03 | D10: =C10*100000 -> 103000 | E10: =B10*1000000 -> 41790000 | G10: =(C11-C10)/(A11-A10) -> -0.031 | H10: =LN(B10) -> 3.7326571 | I10: =LN(D10) -> 11.542484 | J10: =(D10*B10)/(287*350) -> 42.850871 | K10: =D10*(B11-B10) -> 67980
A11: -351 | B11: 42.45 | C11: 0.999 | D11: =C11*100000 -> 99900 | E11: =B11*1000000 -> 42450000 | G11: =(C12-C11)/(A12-A11) -> -0.061 | H11: =LN(B11) -> 3.7483269 | I11: =LN(D11) -> 11.511925 | J11: =(D11*B11)/(287*350) -> 42.217571 | K11: =D11*(B12-B11) -> 74925
A12: -350 | B12: 43.2 | C12: 0.938 | D12: =C12*100000 -> 93800 | E12: =B12*1000000 -> 43200000 | G12: =(C13-C12)/(A13-A12) -> -0.078 | H12: =LN(B12) -> 3.7658405 | I12: =LN(D12) -> 11.44892 | J12: =(D12*B12)/(287*350) -> 40.34007 | K12: =D12*(B13-B12) -> 76916
A13: -349 | B13: 44.02 | C13: 0.86 | D13: =C13*100000 -> 86000 | E13: =B13*1000000 -> 44020000 | G13: =(C14-C13)/(A14-A13) -> -0.076 | H13: =LN(B13) -> 3.7846441 | I13: =LN(D13) -> 11.362103 | J13: =(D13*B13)/(287*350) -> 37.687606 | K13: =D13*(B14-B13) -> 76540
A14: -348 | B14: 44.91 | C14: 0.784 | D14: =C14*100000 -> 78400 | E14: =B14*1000000 -> 44910000 | G14: =(C15-C14)/(A15-A14) -> -0.076 | H14: =LN(B14) -> 3.8046605 | I14: =LN(D14) -> 11.269579 | J14: =(D14*B14)/(287*350) -> 35.051707 | K14: =D14*(B15-B14) -> 76832
A15: -347 | B15: 45.89 | C15: 0.708 | D15: =C15*100000 -> 70800 | E15: =B15*1000000 -> 45890000 | G15: =(C16-C15)/(A16-A15) -> -0.06 | H15: =LN(B15) -> 3.8262472 | I15: =LN(D15) -> 11.167614 | J15: =(D15*B15)/(287*350) -> 32.344569 | K15: =D15*(B16-B15) -> 73632 | M15: ivc point -140
A16: -346 | B16: 46.93 | C16: 0.648 | D16: =C16*100000 -> 64800 | E16: =B16*1000000 -> 46930000 | G16: =(C17-C16)/(A17-A16) -> -0.031 | H16: =LN(B16) -> 3.8486571 | I16: =LN(D16) -> 11.079061 | J16: =(D16*B16)/(287*350) -> 30.274405 | K16: =D16*(B17-B16) -> 73224
A17: -345 | B17: 48.06 | C17: 0.617 | D17: =C17*100000 -> 61700 | E17: =B17*1000000 -> 48060000 | G17: =(C18-C17)/(A18-A17) -> -0.017 | H17: =LN(B17) -> 3.8724502 | I17: =LN(D17) -> 11.030039 | J17: =(D17*B17)/(287*350) -> 29.520179 | K17: =D17*(B18-B17) -> 74040 | M17: Peak pressure (Bar): | N17: =MAX(C2:C721) -> 67.103
A18: -344 | B18: 49.26 | C18: 0.6 | D18: =C18*100000 -> 60000 | E18: =B18*1000000 -> 49260000 | G18: =(C19-C18)/(A19-A18) -> 0 | H18: =LN(B18) -> 3.8971124 | I18: =LN(D18) -> 11.0021 | J18: =(D18*B18)/(287*350) -> 29.423594 | K18: =D18*(B19-B18) -> 76200 | M18: Peak Temperature (K): | N18: =MAX(J2:J721) -> 3717.1802
A19: -343 | B19: 50.53 | C19: 0.6 | D19: =C19*100000 -> 60000 | E19: =B19*1000000 -> 50530000 | G19: =(C20-C19)/(A20-A19) -> 0.005 | H19: =LN(B19) -> 3.9225672 | I19: =LN(D19) -> 11.0021 | J19: =(D19*B19)/(287*350) -> 30.18218 | K19: =D19*(B20-B19) -> 80400
A20: -342 | B20: 51.87 | C20: 0.605 | D20: =C20*100000 -> 60500 | E20: =B20*1000000 -> 51870000 | G20: =(C21-C20)/(A21-A20) -> 0.002 | H20: =LN(B20) -> 3.9487406 | I20: =LN(D20) -> 11.010399 | J20: =(D20*B20)/(287*350) -> 31.240767 | K20: =D20*(B21-B20) -> 85910
A21: -341 | B21: 53.29 | C21: 0.607 | D21: =C21*100000 -> 60700 | E21: =B21*1000000 -> 53290000 | G21: =(C22-C21)/(A22-A21) -> 0 | H21: =LN(B21) -> 3.9757487 | I21: =LN(D21) -> 11.013699 | J21: =(D21*B21)/(287*350) -> 32.20212 | K21: =D21*(B22-B21) -> 90443
A22: -340 | B22: 54.78 | C22: 0.607 | D22: =C22*100000 -> 60700 | E22: =B22*1000000 -> 54780000 | G22: =(C23-C22)/(A23-A22) -> 0.003 | H22: =LN(B22) -> 4.0033252 | I22: =LN(D22) -> 11.013699 | J22: =(D22*B22)/(287*350) -> 33.102499 | K22: =D22*(B23-B22) -> 94692
A23: -339 | B23: 56.34 | C23: 0.61 | D23: =C23*100000 -> 61000 | E23: =B23*1000000 -> 56340000 | G23: =(C24-C23)/(A24-A23) -> 0.005 | H23: =LN(B23) -> 4.0314048 | I23: =LN(D23) -> 11.018629 | J23: =(D23*B23)/(287*350) -> 34.21344 | K23: =D23*(B24-B23) -> 99430
A24: -338 | B24: 57.97 | C24: 0.615 | D24: =C24*100000 -> 61500 | E24: =B24*1000000 -> 57970000 | G24: =(C25-C24)/(A25-A24) -> 0.015 | H24: =LN(B24) -> 4.0599256 | I24: =LN(D24) -> 11.026792 | J24: =(D24*B24)/(287*350) -> 35.491837 | K24: =D24*(B25-B24) -> 104550
A25: -337 | B25: 59.67 | C25: 0.63 | D25: =C25*100000 -> 63000 | E25: =B25*1000000 -> 59670000 | G25: =(C26-C25)/(A26-A25) -> 0.025 | H25: =LN(B25) -> 4.0888294 | I25: =LN(D25) -> 11.05089 | J25: =(D25*B25)/(287*350) -> 37.423693 | K25: =D25*(B26-B25) -> 111510
A26: -336 | B26: 61.44 | C26: 0.655 | D26: =C26*100000 -> 65500 | E26: =B26*1000000 -> 61440000 | G26: =(C27-C26)/(A27-A26) -> 0.022 | H26: =LN(B26) -> 4.1180611 | I26: =LN(D26) -> 11.089805 | J26: =(D26*B26)/(287*350) -> 40.062917 | K26: =D26*(B27-B26) -> 120520
A27: -335 | B27: 63.28 | C27: 0.677 | D27: =C27*100000 -> 67700 | E27: =B27*1000000 -> 63280000 | G27: =(C28-C27)/(A28-A27) -> 0.005 | H27: =LN(B27) -> 4.1475693 | I27: =LN(D27) -> 11.122841 | J27: =(D27*B27)/(287*350) -> 42.648641 | K27: =D27*(B28-B27) -> 128630
A28: -334 | B28: 65.18 | C28: 0.682 | D28: =C28*100000 -> 68200 | E28: =B28*1000000 -> 65180000 | G28: =(C29-C28)/(A29-A28) -> 0.02 | H28: =LN(B28) -> 4.1771527 | I28: =LN(D28) -> 11.1302 | J28: =(D28*B28)/(287*350) -> 44.253619 | K28: =D28*(B29-B28) -> 134354
A29: -333 | B29: 67.15 | C29: 0.702 | D29: =C29*100000 -> 70200 | E29: =B29*1000000 -> 67150000 | G29: =(C30-C29)/(A30-A29) -> -0.005 | H29: =LN(B29) -> 4.2069289 | I29: =LN(D29) -> 11.159104 | J29: =(D29*B29)/(287*350) -> 46.928123 | K29: =D29*(B30-B29) -> 143208
A30: -332 | B30: 69.19 | C30: 0.697 | D30: =C30*100000 -> 69700 | E30: =B30*1000000 -> 69190000 | G30: =(C31-C30)/(A31-A30) -> 0.019 | H30: =LN(B30) -> 4.2368563 | I30: =LN(D30) -> 11.151956 | J30: =(D30*B30)/(287*350) -> 48.009388 | K30: =D30*(B31-B30) -> 146370
... A721: 359 | B721: 39.31 | C721: 1.063 | D721: =C721*100000 -> 106300 | E721: =B721*1000000 -> 39310000 | G721: =(C722-C721)/(A722-A721) -> 0.0029610028 | H721: =LN(B721) -> 3.6714789 | I721: =LN(D721) -> 11.574021 | J721: =(D721*B721)/(287*350) -> 41.599333 | K721: =D721*(B722-B721) -> -4178653

Sheet 5500
A1: C.A.(DEG) | B1: VOL(CC) | C1: MEAN(B) | D1: pressure (Pa) | E1: Volume (m^3) | G1: dp/dθ (bar/deg) | H1: Ln(volume) | I1: Ln(Pressure) | J1: Temperature (k) | K1: Work increment (J)
A2: -360 | B2: 39.27 | C2: 0.992 | D2: =C2*100000 -> 99200 | E2: =B2*1000000 -> 39270000 | G2: =(C3-C2)/(A3-A2) -> -0.02 | H2: =LN(B2) -> 3.6704609 | I2: =LN(D2) -> 11.504893 | J2: =(D2*B2)/(287*350) -> 38.781324 | K2: =D2*(B3-B2) -> 3968 | M2: Peak pressure (Bar): | N2: =MAX(C2:C721) -> 61.254
A3: -359 | B3: 39.31 | C3: 0.972 | D3: =C3*100000 -> 97200 | E3: =B3*1000000 -> 39310000 | G3: =(C4-C3)/(A4-A3) -> -0.04 | H3: =LN(B3) -> 3.6714789 | I3: =LN(D3) -> 11.484526 | J3: =(D3*B3)/(287*350) -> 38.038148 | K3: =D3*(B4-B3) -> 11664 | M3: Peak Temperature (K): | N3: =MAX(J2:J721) -> 3890.2389
A4: -358 | B4: 39.43 | C4: 0.932 | D4: =C4*100000 -> 93200 | E4: =B4*1000000 -> 39430000 | G4: =(C5-C4)/(A5-A4) -> -0.027 | H4: =LN(B4) -> 3.6745269 | I4: =LN(D4) -> 11.442503 | J4: =(D4*B4)/(287*350) -> 36.584131 | K4: =D4*(B5-B4) -> 18640
A5: -357 | B5: 39.63 | C5: 0.905 | D5: =C5*100000 -> 90500 | E5: =B5*1000000 -> 39630000 | G5: =(C6-C5)/(A6-A5) -> -0.01 | H5: =LN(B5) -> 3.6795864 | I5: =LN(D5) -> 11.413105 | J5: =(D5*B5)/(287*350) -> 35.70448 | K5: =D5*(B6-B5) -> 24435
A6: -356 | B6: 39.9 | C6: 0.895 | D6: =C6*100000 -> 89500 | E6: =B6*1000000 -> 39900000 | G6: =(C7-C6)/(A7-A6) -> -0.012 | H6: =LN(B6) -> 3.6863763 | I6: =LN(D6) -> 11.401994 | J6: =(D6*B6)/(287*350) -> 35.550523 | K6: =D6*(B7-B6) -> 32220
A7: -355 | B7: 40.26 | C7: 0.883 | D7: =C7*100000 -> 88300 | E7: =B7*1000000 -> 40260000 | G7: =(C8-C7)/(A8-A7) -> -0.039 | H7: =LN(B7) -> 3.6953584 | I7: =LN(D7) -> 11.388495 | J7: =(D7*B7)/(287*350) -> 35.390324 | K7: =D7*(B8-B7) -> 37969
A8: -354 | B8: 40.69 | C8: 0.844 | D8: =C8*100000 -> 84400 | E8: =B8*1000000 -> 40690000 | G8: =(C9-C8)/(A9-A8) -> -0.046 | H8: =LN(B8) -> 3.7059824 | I8: =LN(D8) -> 11.343323 | J8: =(D8*B8)/(287*350) -> 34.188512 | K8: =D8*(B9-B8) -> 43044
A9: -353 | B9: 41.2 | C9: 0.798 | D9: =C9*100000 -> 79800 | E9: =B9*1000000 -> 41200000 | G9: =(C10-C9)/(A10-A9) -> -0.047 | H9: =LN(B9) -> 3.7184383 | I9: =LN(D9) -> 11.287279 | J9: =(D9*B9)/(287*350) -> 32.730314 | K9: =D9*(B10-B9) -> 47082
A10: -352 | B10: 41.79 | C10: 0.751 | D10: =C10*100000 -> 75100 | E10: =B10*1000000 -> 41790000 | G10: =(C11-C10)/(A11-A10) -> -0.047 | H10: =LN(B10) -> 3.7326571 | I10: =LN(D10) -> 11.226576 | J10: =(D10*B10)/(287*350) -> 31.243693 | K10: =D10*(B11-B10) -> 49566
A11: -351 | B11: 42.45 | C11: 0.704 | D11: =C11*100000 -> 70400 | E11: =B11*1000000 -> 42450000 | G11: =(C12-C11)/(A12-A11) -> -0.039 | H11: =LN(B11) -> 3.7483269 | I11: =LN(D11) -> 11.161949 | J11: =(D11*B11)/(287*350) -> 29.750921 | K11: =D11*(B12-B11) -> 52800
A12: -350 | B12: 43.2 | C12: 0.665 | D12: =C12*100000 -> 66500 | E12: =B12*1000000 -> 43200000 | G12: =(C13-C12)/(A13-A12) -> -0.012 | H12: =LN(B12) -> 3.7658405 | I12: =LN(D12) -> 11.104957 | J12: =(D12*B12)/(287*350) -> 28.599303 | K12: =D12*(B13-B12) -> 54530
A13: -349 | B13: 44.02 | C13: 0.653 | D13: =C13*100000 -> 65300 | E13: =B13*1000000 -> 44020000 | G13: =(C14-C13)/(A14-A13) -> 0.013 | H13: =LN(B13) -> 3.7846441 | I13: =LN(D13) -> 11.086747 | J13: =(D13*B13)/(287*350) -> 28.616287 | K13: =D13*(B14-B13) -> 58117
A14: -348 | B14: 44.91 | C14: 0.666 | D14: =C14*100000 -> 66600 | E14: =B14*1000000 -> 44910000 | G14: =(C15-C14)/(A15-A14) -> 0.015 | H14: =LN(B14) -> 3.8046605 | I14: =LN(D14) -> 11.10646 | J14: =(D14*B14)/(287*350) -> 29.776068 | K14: =D14*(B15-B14) -> 65268
A15: -347 | B15: 45.89 | C15: 0.681 | D15: =C15*100000 -> 68100 | E15: =B15*1000000 -> 45890000 | G15: =(C16-C15)/(A16-A15) -> 0.001 | H15: =LN(B15) -> 3.8262472 | I15: =LN(D15) -> 11.128732 | J15: =(D15*B15)/(287*350) -> 31.11109 | K15: =D15*(B16-B15) -> 70824
... A721: 359 | B721: 39.31 | C721: 1.005 | D721: =C721*100000 -> 100500 | E721: =B721*1000000 -> 39310000 | G721: =(C722-C721)/(A722-A721) -> 0.0027994429 | H721: =LN(B721) -> 3.6714789 | I721: =LN(D721) -> 11.517913 | J721: =(D721*B721)/(287*350) -> 39.329567 | K721: =D721*(B722-B721) -> -3950655

Sheet 4500
A1: C.A.(DEG) | B1: VOL(CC) | C1: MEAN(B) | D1: pressure (Pa) | E1: Volume (m^3) | G1: dp/dθ (bar/deg) | H1: Ln(volume) | I1: Ln(Pressure) | J1: Temperature (k) | K1: Work increment (J)
A2: -360 | B2: 39.27 | C2: 0.905 | D2: =C2*100000 -> 90500 | E2: =B2*1000000 -> 39270000 | G2: =(C3-C2)/(A3-A2) -> -0.014 | H2: =LN(B2) -> 3.6704609 | I2: =LN(D2) -> 11.413105 | J2: =(D2*B2)/(287*350) -> 35.380139 | K2: =D2*(B3-B2) -> 3620 | M2: Peak pressure (Bar): | N2: =MAX(C2:C721) -> 67.845
A3: -359 | B3: 39.31 | C3: 0.891 | D3: =C3*100000 -> 89100 | E3: =B3*1000000 -> 39310000 | G3: =(C4-C3)/(A4-A3) -> 0 | H3: =LN(B3) -> 3.6714789 | I3: =LN(D3) -> 11.397515 | J3: =(D3*B3)/(287*350) -> 34.868303 | K3: =D3*(B4-B3) -> 10692 | M3: Peak Temperature (K): | N3: =MAX(J2:J721) -> 3800.9775
A4: -358 | B4: 39.43 | C4: 0.891 | D4: =C4*100000 -> 89100 | E4: =B4*1000000 -> 39430000 | G4: =(C5-C4)/(A5-A4) -> -0.013 | H4: =LN(B4) -> 3.6745269 | I4: =LN(D4) -> 11.397515 | J4: =(D4*B4)/(287*350) -> 34.974744 | K4: =D4*(B5-B4) -> 17820
A5: -357 | B5: 39.63 | C5: 0.878 | D5: =C5*100000 -> 87800 | E5: =B5*1000000 -> 39630000 | G5: =(C6-C5)/(A6-A5) -> -0.021 | H5: =LN(B5) -> 3.6795864 | I5: =LN(D5) -> 11.382817 | J5: =(D5*B5)/(287*350) -> 34.639263 | K5: =D5*(B6-B5) -> 23706
A6: -356 | B6: 39.9 | C6: 0.857 | D6: =C6*100000 -> 85700 | E6: =B6*1000000 -> 39900000 | G6: =(C7-C6)/(A7-A6) -> -0.029 | H6: =LN(B6) -> 3.6863763 | I6: =LN(D6) -> 11.358608 | J6: =(D6*B6)/(287*350) -> 34.041115 | K6: =D6*(B7-B6) -> 30852
A7: -355 | B7: 40.26 | C7: 0.828 | D7: =C7*100000 -> 82800 | E7: =B7*1000000 -> 40260000 | G7: =(C8-C7)/(A8-A7) -> -0.033 | H7: =LN(B7) -> 3.6953584 | I7: =LN(D7) -> 11.324183 | J7: =(D7*B7)/(287*350) -> 33.185943 | K7: =D7*(B8-B7) -> 35604
A8: -354 | B8: 40.69 | C8: 0.795 | D8: =C8*100000 -> 79500 | E8: =B8*1000000 -> 40690000 | G8: =(C9-C8)/(A9-A8) -> -0.032 | H8: =LN(B8) -> 3.7059824 | I8: =LN(D8) -> 11.283512 | J8: =(D8*B8)/(287*350) -> 32.203634 | K8: =D8*(B9-B8) -> 40545
A9: -353 | B9: 41.2 | C9: 0.763 | D9: =C9*100000 -> 76300 | E9: =B9*1000000 -> 41200000 | G9: =(C10-C9)/(A10-A9) -> -0.023 | H9: =LN(B9) -> 3.7184383 | I9: =LN(D9) -> 11.242428 | J9: =(D9*B9)/(287*350) -> 31.294774 | K9: =D9*(B10-B9) -> 45017
A10: -352 | B10: 41.79 | C10: 0.74 | D10: =C10*100000 -> 74000 | E10: =B10*1000000 -> 41790000 | G10: =(C11-C10)/(A11-A10) -> -0.012 | H10: =LN(B10) -> 3.7326571 | I10: =LN(D10) -> 11.21182 | J10: =(D10*B10)/(287*350) -> 30.786063 | K10: =D10*(B11-B10) -> 48840
A11: -351 | B11: 42.45 | C11: 0.728 | D11: =C11*100000 -> 72800 | E11: =B11*1000000 -> 42450000 | G11: =(C12-C11)/(A12-A11) -> -0.008 | H11: =LN(B11) -> 3.7483269 | I11: =LN(D11) -> 11.195471 | J11: =(D11*B11)/(287*350) -> 30.765157 | K11: =D11*(B12-B11) -> 54600
A12: -350 | B12: 43.2 | C12: 0.72 | D12: =C12*100000 -> 72000 | E12: =B12*1000000 -> 43200000 | G12: =(C13-C12)/(A13-A12) -> -0.01 | H12: =LN(B12) -> 3.7658405 | I12: =LN(D12) -> 11.184421 | J12: =(D12*B12)/(287*350) -> 30.964659 | K12: =D12*(B13-B12) -> 59040
A13: -349 | B13: 44.02 | C13: 0.71 | D13: =C13*100000 -> 71000 | E13: =B13*1000000 -> 44020000 | G13: =(C14-C13)/(A14-A13) -> -0.007 | H13: =LN(B13) -> 3.7846441 | I13: =LN(D13) -> 11.170435 | J13: =(D13*B13)/(287*350) -> 31.114186 | K13: =D13*(B14-B13) -> 63190
A14: -348 | B14: 44.91 | C14: 0.703 | D14: =C14*100000 -> 70300 | E14: =B14*1000000 -> 44910000 | G14: =(C15-C14)/(A15-A14) -> -0.007 | H14: =LN(B14) -> 3.8046605 | I14: =LN(D14) -> 11.160527 | J14: =(D14*B14)/(287*350) -> 31.430294 | K14: =D14*(B15-B14) -> 68894
A15: -347 | B15: 45.89 | C15: 0.696 | D15: =C15*100000 -> 69600 | E15: =B15*1000000 -> 45890000 | G15: =(C16-C15)/(A16-A15) -> -0.005 | H15: =LN(B15) -> 3.8262472 | I15: =LN(D15) -> 11.15052 | J15: =(D15*B15)/(287*350) -> 31.796356 | K15: =D15*(B16-B15) -> 72384
... A721: 359 | B721: 39.31 | C721: 0.934 | D721: =C721*100000 -> 93400 | E721: =B721*1000000 -> 39310000 | G721: =(C722-C721)/(A722-A721) -> 0.0026016713 | H721: =LN(B721) -> 3.6714789 | I721: =LN(D721) -> 11.444647 | J721: =(D721*B721)/(287*350) -> 36.55106 | K721: =D721*(B722-B721) -> -3671554

Sheet 3500
A1: C.A.(DEG) | B1: VOL(CC) | C1: MEAN(B) | D1: pressure (Pa) | E1: Volume (m^3) | G1: dp/dθ (bar/deg) | H1: Ln(volume) | I1: Ln(Pressure) | J1: Temperature (k) | K1: Work increment (J)
A2: -360 | B2: 39.27 | C2: 0.831 | D2: =C2*100000 -> 83100 | E2: =B2*1000000 -> 39270000 | G2: =(C3-C2)/(A3-A2) -> 0.003 | H2: =LN(B2) -> 3.6704609 | I2: =LN(D2) -> 11.3278 | J2: =(D2*B2)/(287*350) -> 32.487178 | K2: =D2*(B3-B2) -> 3324 | M2: Peak pressure (Bar): | N2: =MAX(C2:C721) -> 66.38
A3: -359 | B3: 39.31 | C3: 0.834 | D3: =C3*100000 -> 83400 | E3: =B3*1000000 -> 39310000 | G3: =(C4-C3)/(A4-A3) -> 0.003 | H3: =LN(B3) -> 3.6714789 | I3: =LN(D3) -> 11.331404 | J3: =(D3*B3)/(287*350) -> 32.63767 | K3: =D3*(B4-B3) -> 10008 | M3: Peak Temperature (K): | N3: =MAX(J2:J721) -> 3629.3553
A4: -358 | B4: 39.43 | C4: 0.837 | D4: =C4*100000 -> 83700 | E4: =B4*1000000 -> 39430000 | G4: =(C5-C4)/(A5-A4) -> 0.008 | H4: =LN(B4) -> 3.6745269 | I4: =LN(D4) -> 11.334994 | J4: =(D4*B4)/(287*350) -> 32.855062 | K4: =D4*(B5-B4) -> 16740
A5: -357 | B5: 39.63 | C5: 0.845 | D5: =C5*100000 -> 84500 | E5: =B5*1000000 -> 39630000 | G5: =(C6-C5)/(A6-A5) -> 0.005 | H5: =LN(B5) -> 3.6795864 | I5: =LN(D5) -> 11.344507 | J5: =(D5*B5)/(287*350) -> 33.337332 | K5: =D5*(B6-B5) -> 22815
A6: -356 | B6: 39.9 | C6: 0.85 | D6: =C6*100000 -> 85000 | E6: =B6*1000000 -> 39900000 | G6: =(C7-C6)/(A7-A6) -> 0.002 | H6: =LN(B6) -> 3.6863763 | I6: =LN(D6) -> 11.350407 | J6: =(D6*B6)/(287*350) -> 33.763066 | K6: =D6*(B7-B6) -> 30600
A7: -355 | B7: 40.26 | C7: 0.852 | D7: =C7*100000 -> 85200 | E7: =B7*1000000 -> 40260000 | G7: =(C8-C7)/(A8-A7) -> -0.001 | H7: =LN(B7) -> 3.6953584 | I7: =LN(D7) -> 11.352757 | J7: =(D7*B7)/(287*350) -> 34.147855 | K7: =D7*(B8-B7) -> 36636
A8: -354 | B8: 40.69 | C8: 0.851 | D8: =C8*100000 -> 85100 | E8: =B8*1000000 -> 40690000 | G8: =(C9-C8)/(A9-A8) -> 0.002 | H8: =LN(B8) -> 3.7059824 | I8: =LN(D8) -> 11.351582 | J8: =(D8*B8)/(287*350) -> 34.472066 | K8: =D8*(B9-B8) -> 43401
A9: -353 | B9: 41.2 | C9: 0.853 | D9: =C9*100000 -> 85300 | E9: =B9*1000000 -> 41200000 | G9: =(C10-C9)/(A10-A9) -> -0.003 | H9: =LN(B9) -> 3.7184383 | I9: =LN(D9) -> 11.35393 | J9: =(D9*B9)/(287*350) -> 34.986162 | K9: =D9*(B10-B9) -> 50327
A10: -352 | B10: 41.79 | C10: 0.85 | D10: =C10*100000 -> 85000 | E10: =B10*1000000 -> 41790000 | G10: =(C11-C10)/(A11-A10) -> -0.002 | H10: =LN(B10) -> 3.7326571 | I10: =LN(D10) -> 11.350407 | J10: =(D10*B10)/(287*350) -> 35.362369 | K10: =D10*(B11-B10) -> 56100
A11: -351 | B11: 42.45 | C11: 0.848 | D11: =C11*100000 -> 84800 | E11: =B11*1000000 -> 42450000 | G11: =(C12-C11)/(A12-A11) -> -0.001 | H11: =LN(B11) -> 3.7483269 | I11: =LN(D11) -> 11.348051 | J11: =(D11*B11)/(287*350) -> 35.836336 | K11: =D11*(B12-B11) -> 63600
A12: -350 | B12: 43.2 | C12: 0.847 | D12: =C12*100000 -> 84700 | E12: =B12*1000000 -> 43200000 | G12: =(C13-C12)/(A13-A12) -> -0.005 | H12: =LN(B12) -> 3.7658405 | I12: =LN(D12) -> 11.346871 | J12: =(D12*B12)/(287*350) -> 36.426481 | K12: =D12*(B13-B12) -> 69454
A13: -349 | B13: 44.02 | C13: 0.842 | D13: =C13*100000 -> 84200 | E13: =B13*1000000 -> 44020000 | G13: =(C14-C13)/(A14-A13) -> -0.008 | H13: =LN(B13) -> 3.7846441 | I13: =LN(D13) -> 11.34095 | J13: =(D13*B13)/(287*350) -> 36.898795 | K13: =D13*(B14-B13) -> 74938
A14: -348 | B14: 44.91 | C14: 0.834 | D14: =C14*100000 -> 83400 | E14: =B14*1000000 -> 44910000 | G14: =(C15-C14)/(A15-A14) -> -0.006 | H14: =LN(B14) -> 3.8046605 | I14: =LN(D14) -> 11.331404 | J14: =(D14*B14)/(287*350) -> 37.287148 | K14: =D14*(B15-B14) -> 81732
A15: -347 | B15: 45.89 | C15: 0.828 | D15: =C15*100000 -> 82800 | E15: =B15*1000000 -> 45890000 | G15: =(C16-C15)/(A16-A15) -> -0.003 | H15: =LN(B15) -> 3.8262472 | I15: =LN(D15) -> 11.324183 | J15: =(D15*B15)/(287*350) -> 37.8267 | K15: =D15*(B16-B15) -> 86112
... A721: 359 | B721: 39.31 | C721: 0.819 | D721: =C721*100000 -> 81900 | E721: =B721*1000000 -> 39310000 | G721: =(C722-C721)/(A722-A721) -> 0.002281337 | H721: =LN(B721) -> 3.6714789 | I721: =LN(D721) -> 11.313254 | J721: =(D721*B721)/(287*350) -> 32.050662 | K721: =D721*(B722-B721) -> -3219489

Sheet 2000
A1: C.A.(DEG) | B1: VOL(CC) | C1: MEAN(B) | D1: pressure (Pa) | E1: Volume (m^3) | G1: dp/dθ (bar/deg) | H1: Ln(volume) | I1: Ln(Pressure) | J1: Temperature (k) | K1: Work increment (J)
A2: -360 | B2: 39.27 | C2: 1.001 | D2: =C2*100000 -> 100100 | E2: =B2*1000000 -> 39270000 | G2: =(C3-C2)/(A3-A2) -> -0.007 | H2: =LN(B2) -> 3.6704609 | I2: =LN(D2) -> 11.513925 | J2: =(D2*B2)/(287*350) -> 39.133171 | K2: =D2*(B3-B2) -> 4004 | M2: Peak pressure (Bar): | N2: =MAX(C2:C721) -> 62.166
A3: -359 | B3: 39.31 | C3: 0.994 | D3: =C3*100000 -> 99400 | E3: =B3*1000000 -> 39310000 | G3: =(C4-C3)/(A4-A3) -> 0.003 | H3: =LN(B3) -> 3.6714789 | I3: =LN(D3) -> 11.506907 | J3: =(D3*B3)/(287*350) -> 38.899094 | K3: =D3*(B4-B3) -> 11928 | M3: Peak Temperature (K): | N3: =MAX(J2:J721) -> 3632.7571
A4: -358 | B4: 39.43 | C4: 0.997 | D4: =C4*100000 -> 99700 | E4: =B4*1000000 -> 39430000 | G4: =(C5-C4)/(A5-A4) -> -0.004 | H4: =LN(B4) -> 3.6745269 | I4: =LN(D4) -> 11.509921 | J4: =(D4*B4)/(287*350) -> 39.1356 | K4: =D4*(B5-B4) -> 19940
A5: -357 | B5: 39.63 | C5: 0.993 | D5: =C5*100000 -> 99300 | E5: =B5*1000000 -> 39630000 | G5: =(C6-C5)/(A6-A5) -> 0.002 | H5: =LN(B5) -> 3.6795864 | I5: =LN(D5) -> 11.505901 | J5: =(D5*B5)/(287*350) -> 39.176297 | K5: =D5*(B6-B5) -> 26811
A6: -356 | B6: 39.9 | C6: 0.995 | D6: =C6*100000 -> 99500 | E6: =B6*1000000 -> 39900000 | G6: =(C7-C6)/(A7-A6) -> -0.004 | H6: =LN(B6) -> 3.6863763 | I6: =LN(D6) -> 11.507913 | J6: =(D6*B6)/(287*350) -> 39.522648 | K6: =D6*(B7-B6) -> 35820
A7: -355 | B7: 40.26 | C7: 0.991 | D7: =C7*100000 -> 99100 | E7: =B7*1000000 -> 40260000 | G7: =(C8-C7)/(A8-A7) -> -0.001 | H7: =LN(B7) -> 3.6953584 | I7: =LN(D7) -> 11.503885 | J7: =(D7*B7)/(287*350) -> 39.718925 | K7: =D7*(B8-B7) -> 42613
A8: -354 | B8: 40.69 | C8: 0.99 | D8: =C8*100000 -> 99000 | E8: =B8*1000000 -> 40690000 | G8: =(C9-C8)/(A9-A8) -> -0.005 | H8: =LN(B8) -> 3.7059824 | I8: =LN(D8) -> 11.502875 | J8: =(D8*B8)/(287*350) -> 40.102638 | K8: =D8*(B9-B8) -> 50490
A9: -353 | B9: 41.2 | C9: 0.985 | D9: =C9*100000 -> 98500 | E9: =B9*1000000 -> 41200000 | G9: =(C10-C9)/(A10-A9) -> -0.001 | H9: =LN(B9) -> 3.7184383 | I9: =LN(D9) -> 11.497812 | J9: =(D9*B9)/(287*350) -> 40.400199 | K9: =D9*(B10-B9) -> 58115
A10: -352 | B10: 41.79 | C10: 0.984 | D10: =C10*100000 -> 98400 | E10: =B10*1000000 -> 41790000 | G10: =(C11-C10)/(A11-A10) -> 0.003 | H10: =LN(B10) -> 3.7326571 | I10: =LN(D10) -> 11.496796 | J10: =(D10*B10)/(287*350) -> 40.937143 | K10: =D10*(B11-B10) -> 64944
A11: -351 | B11: 42.45 | C11: 0.987 | D11: =C11*100000 -> 98700 | E11: =B11*1000000 -> 42450000 | G11: =(C12-C11)/(A12-A11) -> 0.001 | H11: =LN(B11) -> 3.7483269 | I11: =LN(D11) -> 11.49984 | J11: =(D11*B11)/(287*350) -> 41.710453 | K11: =D11*(B12-B11) -> 74025
A12: -350 | B12: 43.2 | C12: 0.988 | D12: =C12*100000 -> 98800 | E12: =B12*1000000 -> 43200000 | G12: =(C13-C12)/(A13-A12) -> 0.003 | H12: =LN(B12) -> 3.7658405 | I12: =LN(D12) -> 11.500853 | J12: =(D12*B12)/(287*350) -> 42.490393 | K12: =D12*(B13-B12) -> 81016
A13: -349 | B13: 44.02 | C13: 0.991 | D13: =C13*100000 -> 99100 | E13: =B13*1000000 -> 44020000 | G13: =(C14-C13)/(A14-A13) -> 0.002 | H13: =LN(B13) -> 3.7846441 | I13: =LN(D13) -> 11.503885 | J13: =(D13*B13)/(287*350) -> 43.428392 | K13: =D13*(B14-B13) -> 88199
A14: -348 | B14: 44.91 | C14: 0.993 | D14: =C14*100000 -> 99300 | E14: =B14*1000000 -> 44910000 | G14: =(C15-C14)/(A15-A14) -> 0.006 | H14: =LN(B14) -> 3.8046605 | I14: =LN(D14) -> 11.505901 | J14: =(D14*B14)/(287*350) -> 44.395849 | K14: =D14*(B15-B14) -> 97314
A15: -347 | B15: 45.89 | C15: 0.999 | D15: =C15*100000 -> 99900 | E15: =B15*1000000 -> 45890000 | G15: =(C16-C15)/(A16-A15) -> 0.004 | H15: =LN(B15) -> 3.8262472 | I15: =LN(D15) -> 11.511925 | J15: =(D15*B15)/(287*350) -> 45.638736 | K15: =D15*(B16-B15) -> 103896
... A721: 359 | B721: 39.31 | C721: 1.001 | D721: =C721*100000 -> 100100 | E721: =B721*1000000 -> 39310000 | G721: =(C722-C721)/(A722-A721) -> 0.0027883008 | H721: =LN(B721) -> 3.6714789 | I721: =LN(D721) -> 11.513925 | J721: =(D721*B721)/(287*350) -> 39.173031 | K721: =D721*(B722-B721) -> -3934931

Sheet 1000
A1: C.A.(DEG) | B1: VOL(CC) | C1: MEAN(B) | D1: pressure (Pa) | E1: Volume (m^3) | G1: dp/dθ (bar/deg) | H1: Ln(volume) | I1: Ln(Pressure) | J1: Temperature (k) | K1: Work increment (J)
A2: -360 | B2: 39.27 | C2: 1.02 | D2: =C2*100000 -> 102000 | E2: =B2*1000000 -> 39270000 | G2: =(C3-C2)/(A3-A2) -> -0.003 | H2: =LN(B2) -> 3.6704609 | I2: =LN(D2) -> 11.532728 | J2: =(D2*B2)/(287*350) -> 39.875958 | K2: =D2*(B3-B2) -> 4080 | M2: Peak pressure (Bar): | N2: =MAX(C2:C721) -> 47.142
A3: -359 | B3: 39.31 | C3: 1.017 | D3: =C3*100000 -> 101700 | E3: =B3*1000000 -> 39310000 | G3: =(C4-C3)/(A4-A3) -> -0.002 | H3: =LN(B3) -> 3.6714789 | I3: =LN(D3) -> 11.529783 | J3: =(D3*B3)/(287*350) -> 39.799174 | K3: =D3*(B4-B3) -> 12204 | M3: Peak Temperature (K): | N3: =MAX(J2:J721) -> 2962.8511
A4: -358 | B4: 39.43 | C4: 1.015 | D4: =C4*100000 -> 101500 | E4: =B4*1000000 -> 39430000 | G4: =(C5-C4)/(A5-A4) -> -0.005 | H4: =LN(B4) -> 3.6745269 | I4: =LN(D4) -> 11.527814 | J4: =(D4*B4)/(287*350) -> 39.84216 | K4: =D4*(B5-B4) -> 20300
A5: -357 | B5: 39.63 | C5: 1.01 | D5: =C5*100000 -> 101000 | E5: =B5*1000000 -> 39630000 | G5: =(C6-C5)/(A6-A5) -> -0.005 | H5: =LN(B5) -> 3.6795864 | I5: =LN(D5) -> 11.522876 | J5: =(D5*B5)/(287*350) -> 39.846989 | K5: =D5*(B6-B5) -> 27270
A6: -356 | B6: 39.9 | C6: 1.005 | D6: =C6*100000 -> 100500 | E6: =B6*1000000 -> 39900000 | G6: =(C7-C6)/(A7-A6) -> 0 | H6: =LN(B6) -> 3.6863763 | I6: =LN(D6) -> 11.517913 | J6: =(D6*B6)/(287*350) -> 39.919861 | K6: =D6*(B7-B6) -> 36180
A7: -355 | B7: 40.26 | C7: 1.005 | D7: =C7*100000 -> 100500 | E7: =B7*1000000 -> 40260000 | G7: =(C8-C7)/(A8-A7) -> -0.005 | H7: =LN(B7) -> 3.6953584 | I7: =LN(D7) -> 11.517913 | J7: =(D7*B7)/(287*350) -> 40.28004 | K7: =D7*(B8-B7) -> 43215
A8: -354 | B8: 40.69 | C8: 1 | D8: =C8*100000 -> 100000 | E8: =B8*1000000 -> 40690000 | G8: =(C9-C8)/(A9-A8) -> 0 | H8: =LN(B8) -> 3.7059824 | I8: =LN(D8) -> 11.512925 | J8: =(D8*B8)/(287*350) -> 40.507715 | K8: =D8*(B9-B8) -> 51000
A9: -353 | B9: 41.2 | C9: 1 | D9: =C9*100000 -> 100000 | E9: =B9*1000000 -> 41200000 | G9: =(C10-C9)/(A10-A9) -> 0 | H9: =LN(B9) -> 3.7184383 | I9: =LN(D9) -> 11.512925 | J9: =(D9*B9)/(287*350) -> 41.015431 | K9: =D9*(B10-B9) -> 59000
A10: -352 | B10: 41.79 | C10: 1 | D10: =C10*100000 -> 100000 | E10: =B10*1000000 -> 41790000 | G10: =(C11-C10)/(A11-A10) -> -0.003 | H10: =LN(B10) -> 3.7326571 | I10: =LN(D10) -> 11.512925 | J10: =(D10*B10)/(287*350) -> 41.602787 | K10: =D10*(B11-B10) -> 66000
A11: -351 | B11: 42.45 | C11: 0.997 | D11: =C11*100000 -> 99700 | E11: =B11*1000000 -> 42450000 | G11: =(C12-C11)/(A12-A11) -> -0.002 | H11: =LN(B11) -> 3.7483269 | I11: =LN(D11) -> 11.509921 | J11: =(D11*B11)/(287*350) -> 42.133051 | K11: =D11*(B12-B11) -> 74775
A12: -350 | B12: 43.2 | C12: 0.995 | D12: =C12*100000 -> 99500 | E12: =B12*1000000 -> 43200000 | G12: =(C13-C12)/(A13-A12) -> -0.002 | H12: =LN(B12) -> 3.7658405 | I12: =LN(D12) -> 11.507913 | J12: =(D12*B12)/(287*350) -> 42.791439 | K12: =D12*(B13-B12) -> 81590
A13: -349 | B13: 44.02 | C13: 0.993 | D13: =C13*100000 -> 99300 | E13: =B13*1000000 -> 44020000 | G13: =(C14-C13)/(A14-A13) -> 0.003 | H13: =LN(B13) -> 3.7846441 | I13: =LN(D13) -> 11.505901 | J13: =(D13*B13)/(287*350) -> 43.516038 | K13: =D13*(B14-B13) -> 88377
A14: -348 | B14: 44.91 | C14: 0.996 | D14: =C14*100000 -> 99600 | E14: =B14*1000000 -> 44910000 | G14: =(C15-C14)/(A15-A14) -> 0.001 | H14: =LN(B14) -> 3.8046605 | I14: =LN(D14) -> 11.508917 | J14: =(D14*B14)/(287*350) -> 44.529975 | K14: =D14*(B15-B14) -> 97608
A15: -347 | B15: 45.89 | C15: 0.997 | D15: =C15*100000 -> 99700 | E15: =B15*1000000 -> 45890000 | G15: =(C16-C15)/(A16-A15) -> 0.002 | H15: =LN(B15) -> 3.8262472 | I15: =LN(D15) -> 11.509921 | J15: =(D15*B15)/(287*350) -> 45.547367 | K15: =D15*(B16-B15) -> 103688
... A721: 359 | B721: 39.31 | C721: 1.025 | D721: =C721*100000 -> 102500 | E721: =B721*1000000 -> 39310000 | G721: =(C722-C721)/(A722-A721) -> 0.0028551532 | H721: =LN(B721) -> 3.6714789 | I721: =LN(D721) -> 11.537618 | J721: =(D721*B721)/(287*350) -> 40.112245 | K721: =D721*(B722-B721) -> -4029275

Sheet comparison
A1: Pressure: | P1: Temperature | AE1: Volume:
B2: 6500 | C2: 5500 | D2: 4500 | E2: 3500 | F2: 2000 | G2: 1000 | Q2: 6500 | R2: 5500 | S2: 4500 | T2: 3500 | U2: 2000 | V2: 1000 | AE2: 39.27
A3: -360 | B3: 1.097 | C3: 0.992 | D3: 0.905 | E3: 0.831 | F3: 1.001 | G3: 1.02 | P3: -360 | Q3: 42.886202 | R3: 38.781324 | S3: 35.380139 | T3: 32.487178 | U3: 39.133171 | V3: 39.875958 | AE3: 39.31
A4: -359 | B4: 1.135 | C4: 0.972 | D4: 0.891 | E4: 0.834 | F4: 0.994 | G4: 1.017 | P4: -359 | Q4: 44.416974 | R4: 38.038148 | S4: 34.868303 | T4: 32.63767 | U4: 38.899094 | V4: 39.799174 | AE4: 39.43
A5: -358 | B5: 1.149 | C5: 0.932 | D5: 0.891 | E5: 0.837 | F5: 0.997 | G5: 1.015 | P5: -358 | Q5: 45.102111 | R5: 36.584131 | S5: 34.974744 | T5: 32.855062 | U5: 39.1356 | V5: 39.84216 | AE5: 39.63
A6: -357 | B6: 1.161 | C6: 0.905 | D6: 0.878 | E6: 0.845 | F6: 0.993 | G6: 1.01 | P6: -357 | Q6: 45.804311 | R6: 35.70448 | S6: 34.639263 | T6: 33.337332 | U6: 39.176297 | V6: 39.846989 | AE6: 39.9
A7: -356 | B7: 1.173 | C7: 0.895 | D7: 0.857 | E7: 0.85 | F7: 0.995 | G7: 1.005 | P7: -356 | Q7: 46.593031 | R7: 35.550523 | S7: 34.041115 | T7: 33.763066 | U7: 39.522648 | V7: 39.919861 | AE7: 40.26
A8: -355 | B8: 1.153 | C8: 0.883 | D8: 0.828 | E8: 0.852 | F8: 0.991 | G8: 1.005 | P8: -355 | Q8: 46.211827 | R8: 35.390324 | S8: 33.185943 | T8: 34.147855 | U8: 39.718925 | V8: 40.28004 | AE8: 40.69
A9: -354 | B9: 1.115 | C9: 0.844 | D9: 0.795 | E9: 0.851 | F9: 0.99 | G9: 1 | P9: -354 | Q9: 45.166103 | R9: 34.188512 | S9: 32.203634 | T9: 34.472066 | U9: 40.102638 | V9: 40.507715 | AE9: 41.2
A10: -353 | B10: 1.069 | C10: 0.798 | D10: 0.763 | E10: 0.853 | F10: 0.985 | G10: 1 | P10: -353 | Q10: 43.845495 | R10: 32.730314 | S10: 31.294774 | T10: 34.986162 | U10: 40.400199 | V10: 41.015431 | AE10: 41.79
A11: -352 | B11: 1.03 | C11: 0.751 | D11: 0.74 | E11: 0.85 | F11: 0.984 | G11: 1 | P11: -352 | Q11: 42.850871 | R11: 31.243693 | S11: 30.786063 | T11: 35.362369 | U11: 40.937143 | V11: 41.602787 | AE11: 42.45
A12: -351 | B12: 0.999 | C12: 0.704 | D12: 0.728 | E12: 0.848 | F12: 0.987 | G12: 0.997 | P12: -351 | Q12: 42.217571 | R12: 29.750921 | S12: 30.765157 | T12: 35.836336 | U12: 41.710453 | V12: 42.133051 | AE12: 43.2
A13: -350 | B13: 0.938 | C13: 0.665 | D13: 0.72 | E13: 0.847 | F13: 0.988 | G13: 0.995 | P13: -350 | Q13: 40.34007 | R13: 28.599303 | S13: 30.964659 | T13: 36.426481 | U13: 42.490393 | V13: 42.791439 | AE13: 44.02
A14: -349 | B14: 0.86 | C14: 0.653 | D14: 0.71 | E14: 0.842 | F14: 0.991 | G14: 0.993 | P14: -349 | Q14: 37.687606 | R14: 28.616287 | S14: 31.114186 | T14: 36.898795 | U14: 43.428392 | V14: 43.516038 | AE14: 44.91
... A59: -304 | B59: 0.654 | C59: 0.35 | D59: 0.754 | E59: 0.771 | F59: 0.958 | G59: 0.998 | P59: -304 | Q59: 96.29328 | R59: 51.533101 | S59: 111.01702 | T59: 113.52006 | U59: 141.05346 | V59: 146.94296 | AE59: 151.3
A60: -303 | B60: 0.654 | C60: 0.349 | D60: 0.753 | E60: 0.787 | F60: 0.95 | G60: 0.997 | M60: I | P60: -303 | Q60: 98.506919 | R60: 52.567148 | S60: 113.41852 | T60: 118.53967 | U60: 143.09109 | V60: 150.17033 | AE60: 154.72
A61: -302 | B61: 0.634 | C61: 0.35 | D61: 0.755 | E61: 0.793 | F61: 0.941 | G61: 0.998 | P61: -302 | Q61: 97.653041 | R61: 53.909408 | S61: 116.29029 | T61: 122.14332 | U61: 144.93929 | V61: 153.71883 | AE61: 158.16
A62: -301 | B62: 0.588 | C62: 0.349 | D62: 0.753 | E62: 0.796 | F62: 0.94 | G62: 0.998 | P62: -301 | Q62: 92.581463 | R62: 54.950562 | S62: 118.56096 | T62: 125.33137 | U62: 148.00438 | V62: 157.13657 | AE62: 161.63
A63: -300 | B63: 0.546 | C63: 0.369 | D63: 0.749 | E63: 0.807 | F63: 0.936 | G63: 0.995 | P63: -300 | Q63: 87.854634 | R63: 59.374286 | S63: 120.51854 | T63: 129.85108 | U63: 150.60794 | V63: 160.10139 | AE63: 165.12
A64: -299 | B64: 0.514 | C64: 0.4 | D64: 0.745 | E64: 0.822 | F64: 0.935 | G64: 0.994 | P64: -299 | Q64: 84.491468 | R64: 65.752115 | S64: 122.46332 | T64: 135.1206 | U64: 153.69557 | V64: 163.39401 | AE64: 168.63
A65: -298 | B65: 0.485 | C65: 0.433 | D65: 0.753 | E65: 0.826 | F65: 0.926 | G65: 0.989 | P65: -298 | Q65: 81.419164 | R65: 72.689686 | S65: 126.40955 | T65: 138.66439 | U65: 155.45185 | V65: 166.02794 | AE65: 172.16
A66: -297 | B66: 0.469 | C66: 0.444 | D66: 0.763 | E66: 0.824 | F66: 0.931 | G66: 0.986 | P66: -297 | Q66: 80.381324 | R66: 76.096605 | S66: 130.76962 | T66: 141.22433 | U66: 159.56293 | V66: 168.98931 | AE66: 175.7
A67: -296 | B67: 0.454 | C67: 0.451 | D67: 0.778 | E67: 0.828 | F67: 0.929 | G67: 0.985 | P67: -296 | Q67: 79.410453 | R67: 78.885714 | S67: 136.08223 | T67: 144.82787 | U67: 162.49408 | V67: 172.2892 | AE67: 179.26
A68: -295 | B68: 0.447 | C68: 0.451 | D68: 0.781 | E68: 0.832 | F68: 0.934 | G68: 0.988 | P68: -295 | Q68: 79.770254 | R68: 80.484082 | S68: 139.37487 | T68: 148.47618 | U68: 166.67879 | V68: 176.31546 | AE68: 182.83
A69: -294 | B69: 0.448 | C69: 0.437 | D69: 0.778 | E69: 0.827 | F69: 0.93 | G69: 0.99 | P69: -294 | Q69: 81.540906 | R69: 79.538785 | S69: 141.60452 | T69: 150.52306 | U69: 169.27018 | V69: 180.19084 | AE69: 186.42
A70: -293 | B70: 0.444 | C70: 0.416 | D70: 0.788 | E70: 0.832 | F70: 0.934 | G70: 0.991 | P70: -293 | Q70: 82.399681 | R70: 77.203305 | S70: 146.24088 | T70: 154.40661 | U70: 173.33627 | V70: 183.9146 | AE70: 190.02
A71: -292 | B71: 0.44 | C71: 0.408 | D71: 0.798 | E71: 0.835 | F71: 0.935 | G71: 0.993 | P71: -292 | Q71: 83.234246 | R71: 77.180846 | S71: 150.95666 | T71: 157.9559 | U71: 176.87277 | V71: 187.84456 | AE71: 193.62
A72: -291 | B72: 0.437 | C72: 0.403 | D72: 0.796 | E72: 0.829 | F72: 0.935 | G72: 0.989 | P72: -291 | Q72: 84.232892 | R72: 77.679303 | S72: 153.43108 | T72: 159.79192 | U72: 180.22369 | V72: 190.63233 | AE72: 197.24
... A721: 358 | B721: 1.045 | C721: 1.006 | D721: 0.961 | E721: 0.803 | F721: 1 | G721: 1.029 | P721: 358 | Q721: 41.019761 | R721: 39.48888 | S721: 37.722479 | T721: 31.520448 | U721: 39.25336 | V721: 40.391707 | AE721: 39.31
A722: 359 | B722: 1.063 | C722: 1.005 | D722: 0.934 | E722: 0.819 | F722: 1.001 | G722: 1.025 | P722: 359 | Q722: 41.599333 | R722: 39.329567 | S722: 36.55106 | T722: 32.050662 | U722: 39.173031 | V722: 40.112245

Sheet Sheet7
A1: Analysis:
A4: FORD SIGMA 1.6L ENGINE CYCLE ANALYSIS SUMMARY
A5: =====================================================
A7: Engine Specifications:
A8: Bore: 0.079 m
A9: Stroke: 0.0814 m
A10: Conrod Length: 0.137 m
A11: Compression Ratio: 11.16
A12: Swept Volume: 0.0003989 m³
A13: Clearance Volume: 0.0000393 m³
A15: Analysis Results:
A17: Parameter | B17: 6500 RPM | C17: 5500 | D17: 4500 RPM | E17: 3500 | F17: 2000 RPM | G17: 1000
A18: Peak Pressure (bar) | B18: 67.103 | C18: 61.254 | D18: 67.845 | E18: 66.38 | F18: 62.166 | G18: 47.142
A19: Crank Angle at Pmax (°aTDC) | B19: 15 | C19: 21 | D19: 17 | E19: 17 | F19: 20 | G19: 24
A20: Peak Temperature (K) | B20: 3717.18 | C20: 3890.2389 | D20: 3800.977 | E20: 3629.3553 | F20: 3632.757 | G20: 2962.8511
A21: Polytropic Index - Compression | B21: 1.2795 | C21: 1.2975 | D21: 1.304 | E21: 1.3153 | F21: 1.3104 | G21: 1.3192
A22: Polytropic Index - Expansion | B22: 1.3189 | C22: 1.3236 | D22: 1.3261 | E22: 1.3278 | F22: 1.3317 | G22: 1.4029
A23: Gross IMEP (bar) | B23: =SUM('6500'!K2:K721)/1000000/0.0003989/100000 -> 12.165204 | C23: =SUMIFS('5500'!K2:K721, '5500'!A2:A721, ">=-140", '5500'!A2:A721, "<=120")/1000000/0.0003989/100000 -> 13.045774 | D23: =SUMIFS('4500'!K2:K721, '4500'!A2:A721, ">=-140", '4500'!A2:A721, "<=120")/1000000/0.0003989/100000 -> 12.972573 | E23: =SUMIFS('3500'!K2:K721, '3500'!A2:A721, ">=-140", '3500'!A2:A721, "<=120")/1000000/0.0003989/100000 -> 12.282442 | F23: =SUMIFS('2000'!K2:K721, '2000'!A2:A721, ">=-140", '2000'!A2:A721, "<=120")/1000000/0.0003989/100000 -> 11.861051 | G23: =SUMIFS('1000'!K2:K721, '1000'!A2:A721, ">=-140", '1000'!A2:A721, "<=120")/1000000/0.0003989/100000 -> 8.7766188
A24: Pumping IMEP (bar) | B24: =SUMIFS('6500'!K2:K721, '6500'!A2:A721, ">120", '6500'!A2:A721, "<540")/1000000/0.0003989/100000 -> -0.82249077 | C24: =SUMIFS('5500'!K2:K721, '5500'!A2:A721, ">120", '5500'!A2:A721, "<540")/1000000/0.0003989/100000 -> -0.50888215 | D24: =SUMIFS('4500'!K2:K721, '4500'!A2:A721, ">120", '4500'!A2:A721, "<540")/1000000/0.0003989/100000 -> -0.3057171 | E24: =SUMIFS('3500'!K2:K721, '3500'!A2:A721, ">120", '3500'!A2:A721, "<540")/1000000/0.0003989/100000 -> -0.17651677 | F24: =SUMIFS('2000'!K2:K721, '2000'!A2:A721, ">120", '2000'!A2:A721, "<540")/1000000/0.0003989/100000 -> -0.091320406 | G24: =SUMIFS('1000'!K2:K721, '1000'!A2:A721, ">120", '1000'!A2:A721, "<540")/1000000/0.0003989/100000 -> -0.51470165
A25: Net IMEP (bar) | B25: =B23+B24 -> 11.342713 | C25: =C23+C24 -> 12.536892 | D25: =D23+D24 -> 12.666856 | E25: =E23+E24 -> 12.105925 | F25: =F23+F24 -> 11.769731 | G25: =G23+G24 -> 8.2619171
A26: Combustion Start (°bTDC) | B26: {=INDEX('6500'!A2:A721, MATCH(TRUE(), INDEX('6500'!G2:G721>0.1, 0), 0))-360} -> -431 | C26: {=INDEX('5500'!A2:A721, MATCH(TRUE(), INDEX('5500'!G2:G721>0.1, 0), 0))-360} -> -433 | D26: {=INDEX('4500'!A2:A721, MATCH(TRUE(), INDEX('4500'!G2:G721>0.1, 0), 0))-360} -> -428 | E26: {=INDEX('3500'!A2:A721, MATCH(TRUE(), INDEX('3500'!G2:G721>0.1, 0), 0))-360} -> -425 | F26: {=INDEX('2000'!A2:A721, MATCH(TRUE(), INDEX('2000'!G2:G721>0.1, 0), 0))-360} -> -425 | G26: {=INDEX('1000'!A2:A721, MATCH(TRUE(), INDEX('1000'!G2:G721>0.1, 0), 0))-360} -> -421
A27: Combustion End (°aTDC) | B27: =B19-5 -> 10 | C27: =C19-5 -> 16 | D27: =D19-5 -> 12 | E27: =E19-5 -> 12 | F27: =F19-5 -> 15 | G27: =G19-5 -> 19
A28: Combustion Duration (°CA) | B28: =B27-B26 -> 441 | C28: =C27-C26 -> 449 | D28: =D27-D26 -> 440 | E28: =E27-E26 -> 437 | F28: =F27-F26 -> 440 | G28: =G27-G26 -> 440

Sheet Task3
A1: ENGINE COMBUSTION PARAMETERS TABLE
A2: Parameter | B2: 6500 RPM | C2: 5500 RPM | D2: 4500 RPM | E2: 3500 RPM | F2: 2000 RPM | G2: 1000 RPM
A3: n_comp (Polytropic - Compression) | B3: 1.2795 | C3: 1.2975 | D3: 1.304 | E3: 1.3153 | F3: 1.3104 | G3: 1.3192
A4: n_exp (Polytropic - Expansion) | B4: 1.3189 | C4: 1.3236 | D4: 1.3261 | E4: 1.3278 | F4: 1.3317 | G4: 1.4029
A5: Wiebe m (Shape Factor) | B5: 2 | C5: 2 | D5: 2 | E5: 2 | F5: 2 | G5: 2
A6: Wiebe a (Efficiency Constant) | B6: 5 | C6: 5 | D6: 5 | E6: 5 | F6: 5 | G6: 5
A7: theta_SOC (Start of Combustion °) | B7: -21 | C7: -17 | D7: -23 | E7: -25 | F7: -26 | G7: -28
A8: Delta_theta_b (Combustion Dur. °) | B8: 45 | C8: 48 | D8: 50 | E8: 53 | F8: 58 | G8: 65
A9: Q_total (J) | B9: 764 | C9: 825 | D9: 834 | E9: 864 | F9: 888 | G9: 756
A10: Gamma | B10: 1.3 | C10: 1.3 | D10: 1.3 | E10: 1.3 | F10: 1.3 | G10: 1.3
A11: R_gas (J/kg.K) | B11: 287 | C11: 287 | D11: 287 | E11: 287 | F11: 287 | G11: 287
A12: T_ref at IVC (K) | B12: 320 | C12: 315 | D12: 318 | E12: 316 | F12: 310 | G12: 305
A13: IVC Angle (deg) | B13: -145 | C13: -145 | D13: -145 | E13: -148 | F13: -150 | G13: -155
A14: P_ivc (bar) - from data | B14: 1.504 | C14: 1.598 | D14: 1.459 | E14: 1.207 | F14: 1.226 | G14: 1.073
A15: P_ivc (Pa) | B15: =B14*100000 -> 150400 | C15: =C14*100000 -> 159800 | D15: =D14*100000 -> 145900 | E15: =E14*100000 -> 120700 | F15: =F14*100000 -> 122600 | G15: =G14*100000 -> 107300
A16: V_ivc (m3) - from data | B16: 0.00041202 | C16: 0.00041202 | D16: 0.00041202 | E16: 0.00041633 | F16: 0.000419 | G16: 0.0004249
A18: MFB / Wiebe Function and Heat Release Rate | AT18: Pressure Analysis
I19: 6500 RPM | O19: 5500 RPM | U19: 4500 RPM | AA19: 3500 RPM | AG19: 2000 RPM | AM19: 1000 RPM | AT19: 6500 RPM | BA19: 5500 RPM | BH19: 4500 RPM | BO19: 3500 RPM | BV19: 2000 RPM | CC19: 1000 RPM
I20: C.A.(DEG) | J20: Volume (m3) | K20: MFB | L20: Burn Rate (dx/dtheta) | M20: dQ/dtheta (J/deg) | N20: Cumulative Q (J) | O20: C.A.(DEG) | P20: Volume (m3) | Q20: MFB | R20: Burn Rate (dx/dtheta) | S20: dQ/dtheta (J/deg) | T20: Cumulative Q (J) | U20: C.A.(DEG) | V20: Volume (m3) | W20: MFB | X20: Burn Rate (dx/dtheta) | Y20: dQ/dtheta (J/deg) | Z20: Cumulative Q (J) | AA20: C.A.(DEG) | AB20: Volume (m3) | AC20: MFB | AD20: Burn Rate (dx/dtheta) | AE20: dQ/dtheta (J/deg) | AF20: Cumulative Q (J) | AG20: C.A.(DEG) | AH20: Volume (m3) | AI20: MFB | AJ20: Burn Rate (dx/dtheta) | AK20: dQ/dtheta (J/deg) | AL20: Cumulative Q (J) | AM20: C.A.(DEG) | AN20: Volume (m3) | AO20: MFB | AP20: Burn Rate (dx/dtheta) | AQ20: dQ/dtheta (J/deg) | AR20: Cumulative Q (J) | AT20: C.A.(DEG) | AU20: Volume (m3) | AV20: Real P (bar) | AW20: Motor P (bar) | AX20: Model P (bar) | AY20: Error (bar) | AZ20: Error (%) | BA20: C.A.(DEG) | BB20: Volume (m3) | BC20: Real P (bar) | BD20: Motor P (bar) | BE20: Model P (bar) | BF20: Error (bar) | BG20: Error (%) | BH20: C.A.(DEG) | BI20: Volume (m3) | BJ20: Real P (bar) | BK20: Motor P (bar) | BL20: Model P (bar) | BM20: Error (bar) | BN20: Error (%) | BO20: C.A.(DEG) | BP20: Volume (m3) | BQ20: Real P (bar) | BR20: Motor P (bar) | BS20: Model P (bar) | BT20: Error (bar) | BU20: Error (%) | BV20: C.A.(DEG) | BW20: Volume (m3) | BX20: Real P (bar) | BY20: Motor P (bar) | BZ20: Model P (bar) | CA20: Error (bar) | CB20: Error (%) | CC20: C.A.(DEG) | CD20: Volume (m3) | CE20: Real P (bar) | CF20: Motor P (bar) | CG20: Model P (bar) | CH20: Error (bar) | CI20: Error (%)
I21: -180 | J21: ='6500'!B182/1000000 -> 0.00043828 | K21: =IF(I21<$B$7,0,MIN(1,1-EXP(-$B$6*((I21-$B$7)/$B$8)^($B$5+1)))) -> 0 | L21: =(K22-K21) -> 0 | M21: =$B$9*L21 -> 0 | N21: =M21 -> 0 | O21: -180 | P21: ='5500'!B182/1000000 -> 0.00043828 | Q21: =IF(O21<$C$7,0,MIN(1,1-EXP(-$C$6*((O21-$C$7)/$C$8)^($C$5+1)))) -> 0 | R21: =(Q22-Q21) -> 0 | S21: =$C$9*R21 -> 0 | T21: =S21 -> 0 | U21: -180 | V21: ='4500'!B182/1000000 -> 0.00043828 | W21: =IF(U21<$D$7,0,MIN(1,1-EXP(-$D$6*((U21-$D$7)/$D$8)^($D$5+1)))) -> 0 | X21: =(W22-W21) -> 0 | Y21: =$D$9*X21 -> 0 | Z21: =Y21 -> 0 | AA21: -180 | AB21: ='3500'!B182/1000000 -> 0.00043828 | AC21: =IF(AA21<$E$7,0,MIN(1,1-EXP(-$E$6*((AA21-$E$7)/$E$8)^($E$5+1)))) -> 0 | AD21: =(AC22-AC21) -> 0 | AE21: =$E$9*AD21 -> 0 | AF21: =AE21 -> 0 | AG21: -180 | AH21: ='2000'!B182/1000000 -> 0.00043828 | AI21: =IF(AG21<$F$7,0,MIN(1,1-EXP(-$F$6*((AG21-$F$7)/$F$8)^($F$5+1)))) -> 0 | AJ21: =(AI22-AI21) -> 0 | AK21: =$F$9*AJ21 -> 0 | AL21: =AK21 -> 0 | AM21: -180 | AN21: ='1000'!B182/1000000 -> 0.00043828 | AO21: =IF(AM21<$G$7,0,MIN(1,1-EXP(-$G$6*((AM21-$G$7)/$G$8)^($G$5+1)))) -> 0 | AP21: =(AO22-AO21) -> 0 | AQ21: =$G$9*AP21 -> 0 | AR21: =AQ21 -> 0 | AT21: -180 | AU21: ='6500'!B182/1000000 -> 0.00043828 | AV21: ='6500'!C182 -> 1.143 | AW21: =IF(AT21<$B$13,0,IF(AT21<=0,$B$15*($B$16/AU21)^$B$3/100000,$B$15*($B$16/('6500'!B362/1000000))^$B$3*(('6500'!B362/1000000)/AU21)^$B$4/100000)) -> 0 | AX21: =AW21+IF(AT21<$B$7,0,($B$10-1)*N21/(AU21*100000)) -> 0 | AY21: =AX21-AV21 -> -1.143 | AZ21: =IF(AV21=0,0,AY21/AV21*100) -> -100 | BA21: -180 | BB21: ='5500'!B182/1000000 -> 0.00043828 | BC21: ='5500'!C182 -> 1.239 | BD21: =IF(BA21<$C$13,0,IF(BA21<=0,$C$15*($C$16/BB21)^$C$3/100000,$C$15*($C$16/('5500'!B362/1000000))^$C$3*(('5500'!B362/1000000)/BB21)^$C$4/100000)) -> 0 | BE21: =BD21+IF(BA21<$C$7,0,($C$10-1)*T21/(BB21*100000)) -> 0 | BF21: =BE21-BC21 -> -1.239 | BG21: =IF(BC21=0,0,BF21/BC21*100) -> -100 | BH21: -180 | BI21: ='4500'!B182/1000000 -> 0.00043828 | BJ21: ='4500'!C182 -> 1.24 | BK21: =IF(BH21<$D$13,0,IF(BH21<=0,$D$15*($D$16/BI21)^$D$3/100000,$D$15*($D$16/('4500'!B362/1000000))^$D$3*(('4500'!B362/1000000)/BI21)^$D$4/100000)) -> 0 | BL21: =BK21+IF(BH21<$D$7,0,($D$10-1)*Z21/(BI21*100000)) -> 0 | BM21: =BL21-BJ21 -> -1.24 | BN21: =IF(BJ21=0,0,BM21/BJ21*100) -> -100 | BO21: -180 | BP21: ='3500'!B182/1000000 -> 0.00043828 | BQ21: ='3500'!C182 -> 1.145 | BR21: =IF(BO21<$E$13,0,IF(BO21<=0,$E$15*($E$16/BP21)^$E$3/100000,$E$15*($E$16/('3500'!B362/1000000))^$E$3*(('3500'!B362/1000000)/BP21)^$E$4/100000)) -> 0 | BS21: =BR21+IF(BO21<$E$7,0,($E$10-1)*AF21/(BP21*100000)) -> 0 | BT21: =BS21-BQ21 -> -1.145 | BU21: =IF(BQ21=0,0,BT21/BQ21*100) -> -100 | BV21: -180 | BW21: ='2000'!B182/1000000 -> 0.00043828 | BX21: ='2000'!C182 -> 1.156 | BY21: =IF(BV21<$F$13,0,IF(BV21<=0,$F$15*($F$16/BW21)^$F$3/100000,$F$15*($F$16/('2000'!B362/1000000))^$F$3*(('2000'!B362/1000000)/BW21)^$F$4/100000)) -> 0 | BZ21: =BY21+IF(BV21<$F$7,0,($F$10-1)*AL21/(BW21*100000)) -> 0 | CA21: =BZ21-BX21 -> -1.156 | CB21: =IF(BX21=0,0,CA21/BX21*100) -> -100 | CC21: -180 | CD21: ='1000'!B182/1000000 -> 0.00043828 | CE21: ='1000'!C182 -> 1.077 | CF21: =IF(CC21<$G$13,0,IF(CC21<=0,$G$15*($G$16/CD21)^$G$3/100000,$G$15*($G$16/('1000'!B362/1000000))^$G$3*(('1000'!B362/1000000)/CD21)^$G$4/100000)) -> 0 | CG21: =CF21+IF(CC21<$G$7,0,($G$10-1)*AR21/(CD21*100000)) -> 0 | CH21: =CG21-CE21 -> -1.077 | CI21: =IF(CE21=0,0,CH21/CE21*100) -> -100
I22: -179 | J22: ='6500'!B183/1000000 -> 0.00043825 | K22: =IF(I22<$B$7,0,MIN(1,1-EXP(-$B$6*((I22-$B$7)/$B$8)^($B$5+1)))) -> 0 | L22: =(K23-K21)/2 -> 0 | M22: =$B$9*L22 -> 0 | N22: =N21+M22 -> 0 | O22: -179 | P22: ='5500'!B183/1000000 -> 0.00043825 | Q22: =IF(O22<$C$7,0,MIN(1,1-EXP(-$C$6*((O22-$C$7)/$C$8)^($C$5+1)))) -> 0 | R22: =(Q23-Q21)/2 -> 0 | S22: =$C$9*R22 -> 0 | T22: =T21+S22 -> 0 | U22: -179 | V22: ='4500'!B183/1000000 -> 0.00043825 | W22: =IF(U22<$D$7,0,MIN(1,1-EXP(-$D$6*((U22-$D$7)/$D$8)^($D$5+1)))) -> 0 | X22: =(W23-W21)/2 -> 0 | Y22: =$D$9*X22 -> 0 | Z22: =Z21+Y22 -> 0 | AA22: -179 | AB22: ='3500'!B183/1000000 -> 0.00043825 | AC22: =IF(AA22<$E$7,0,MIN(1,1-EXP(-$E$6*((AA22-$E$7)/$E$8)^($E$5+1)))) -> 0 | AD22: =(AC23-AC21)/2 -> 0 | AE22: =$E$9*AD22 -> 0 | AF22: =AF21+AE22 -> 0 | AG22: -179 | AH22: ='2000'!B183/1000000 -> 0.00043825 | AI22: =IF(AG22<$F$7,0,MIN(1,1-EXP(-$F$6*((AG22-$F$7)/$F$8)^($F$5+1)))) -> 0 | AJ22: =(AI23-AI21)/2 -> 0 | AK22: =$F$9*AJ22 -> 0 | AL22: =AL21+AK22 -> 0 | AM22: -179 | AN22: ='1000'!B183/1000000 -> 0.00043825 | AO22: =IF(AM22<$G$7,0,MIN(1,1-EXP(-$G$6*((AM22-$G$7)/$G$8)^($G$5+1)))) -> 0 | AP22: =(AO23-AO21)/2 -> 0 | AQ22: =$G$9*AP22 -> 0 | AR22: =AR21+AQ22 -> 0 | AT22: -179 | AU22: ='6500'!B183/1000000 -> 0.00043825 | AV22: ='6500'!C183 -> 1.167 | AW22: =IF(AT22<$B$13,0,IF(AT22<=0,$B$15*($B$16/AU22)^$B$3/100000,$B$15*($B$16/('6500'!B362/1000000))^$B$3*(('6500'!B362/1000000)/AU22)^$B$4/100000)) -> 0 | AX22: =AW22+IF(AT22<$B$7,0,($B$10-1)*N22/(AU22*100000)) -> 0 | AY22: =AX22-AV22 -> -1.167 | AZ22: =IF(AV22=0,0,AY22/AV22*100) -> -100 | BA22: -179 | BB22: ='5500'!B183/1000000 -> 0.00043825 | BC22: ='5500'!C183 -> 1.263 | BD22: =IF(BA22<$C$13,0,IF(BA22<=0,$C$15*($C$16/BB22)^$C$3/100000,$C$15*($C$16/('5500'!B362/1000000))^$C$3*(('5500'!B362/1000000)/BB22)^$C$4/100000)) -> 0 | BE22: =BD22+IF(BA22<$C$7,0,($C$10-1)*T22/(BB22*100000)) -> 0 | BF22: =BE22-BC22 -> -1.263 | BG22: =IF(BC22=0,0,BF22/BC22*100) -> -100 | BH22: -179 | BI22: ='4500'!B183/1000000 -> 0.00043825 | BJ22: ='4500'!C183 -> 1.241 | BK22: =IF(BH22<$D$13,0,IF(BH22<=0,$D$15*($D$16/BI22)^$D$3/100000,$D$15*($D$16/('4500'!B362/1000000))^$D$3*(('4500'!B362/1000000)/BI22)^$D$4/100000)) -> 0 | BL22: =BK22+IF(BH22<$D$7,0,($D$10-1)*Z22/(BI22*100000)) -> 0 | BM22: =BL22-BJ22 -> -1.241 | BN22: =IF(BJ22=0,0,BM22/BJ22*100) -> -100 | BO22: -179 | BP22: ='3500'!B183/1000000 -> 0.00043825 | BQ22: ='3500'!C183 -> 1.138 | BR22: =IF(BO22<$E$13,0,IF(BO22<=0,$E$15*($E$16/BP22)^$E$3/100000,$E$15*($E$16/('3500'!B362/1000000))^$E$3*(('3500'!B362/1000000)/BP22)^$E$4/100000)) -> 0 | BS22: =BR22+IF(BO22<$E$7,0,($E$10-1)*AF22/(BP22*100000)) -> 0 | BT22: =BS22-BQ22 -> -1.138 | BU22: =IF(BQ22=0,0,BT22/BQ22*100) -> -100 | BV22: -179 | BW22: ='2000'!B183/1000000 -> 0.00043825 | BX22: ='2000'!C183 -> 1.15 | BY22: =IF(BV22<$F$13,0,IF(BV22<=0,$F$15*($F$16/BW22)^$F$3/100000,$F$15*($F$16/('2000'!B362/1000000))^$F$3*(('2000'!B362/1000000)/BW22)^$F$4/100000)) -> 0 | BZ22: =BY22+IF(BV22<$F$7,0,($F$10-1)*AL22/(BW22*100000)) -> 0 | CA22: =BZ22-BX22 -> -1.15 | CB22: =IF(BX22=0,0,CA22/BX22*100) -> -100 | CC22: -179 | CD22: ='1000'!B183/1000000 -> 0.00043825 | CE22: ='1000'!C183 -> 1.076 | CF22: =IF(CC22<$G$13,0,IF(CC22<=0,$G$15*($G$16/CD22)^$G$3/100000,$G$15*($G$16/('1000'!B362/1000000))^$G$3*(('1000'!B362/1000000)/CD22)^$G$4/100000)) -> 0 | CG22: =CF22+IF(CC22<$G$7,0,($G$10-1)*AR22/(CD22*100000)) -> 0 | CH22: =CG22-CE22 -> -1.076 | CI22: =IF(CE22=0,0,CH22/CE22*100) -> -100
I23: -178 | J23: ='6500'!B184/1000000 -> 0.00043819 | K23: =IF(I23<$B$7,0,MIN(1,1-EXP(-$B$6*((I23-$B$7)/$B$8)^($B$5+1)))) -> 0 | L23: =(K24-K22)/2 -> 0 | M23: =$B$9*L23 -> 0 | N23: =N22+M23 -> 0 | O23: -178 | P23: ='5500'!B184/1000000 -> 0.00043819 | Q23: =IF(O23<$C$7,0,MIN(1,1-EXP(-$C$6*((O23-$C$7)/$C$8)^($C$5+1)))) -> 0 | R23: =(Q24-Q22)/2 -> 0 | S23: =$C$9*R23 -> 0 | T23: =T22+S23 -> 0 | U23: -178 | V23: ='4500'!B184/1000000 -> 0.00043819 | W23: =IF(U23<$D$7,0,MIN(1,1-EXP(-$D$6*((U23-$D$7)/$D$8)^($D$5+1)))) -> 0 | X23: =(W24-W22)/2 -> 0 | Y23: =$D$9*X23 -> 0 | Z23: =Z22+Y23 -> 0 | AA23: -178 | AB23: ='3500'!B184/1000000 -> 0.00043819 | AC23: =IF(AA23<$E$7,0,MIN(1,1-EXP(-$E$6*((AA23-$E$7)/$E$8)^($E$5+1)))) -> 0 | AD23: =(AC24-AC22)/2 -> 0 | AE23: =$E$9*AD23 -> 0 | AF23: =AF22+AE23 -> 0 | AG23: -178 | AH23: ='2000'!B184/1000000 -> 0.00043819 | AI23: =IF(AG23<$F$7,0,MIN(1,1-EXP(-$F$6*((AG23-$F$7)/$F$8)^($F$5+1)))) -> 0 | AJ23: =(AI24-AI22)/2 -> 0 | AK23: =$F$9*AJ23 -> 0 | AL23: =AL22+AK23 -> 0 | AM23: -178 | AN23: ='1000'!B184/1000000 -> 0.00043819 | AO23: =IF(AM23<$G$7,0,MIN(1,1-EXP(-$G$6*((AM23-$G$7)/$G$8)^($G$5+1)))) -> 0 | AP23: =(AO24-AO22)/2 -> 0 | AQ23: =$G$9*AP23 -> 0 | AR23: =AR22+AQ23 -> 0 | AT23: -178 | AU23: ='6500'!B184/1000000 -> 0.00043819 | AV23: ='6500'!C184 -> 1.193 | AW23: =IF(AT23<$B$13,0,IF(AT23<=0,$B$15*($B$16/AU23)^$B$3/100000,$B$15*($B$16/('6500'!B362/1000000))^$B$3*(('6500'!B362/1000000)/AU23)^$B$4/100000)) -> 0 | AX23: =AW23+IF(AT23<$B$7,0,($B$10-1)*N23/(AU23*100000)) -> 0 | AY23: =AX23-AV23 -> -1.193 | AZ23: =IF(AV23=0,0,AY23/AV23*100) -> -100 | BA23: -178 | BB23: ='5500'!B184/1000000 -> 0.00043819 | BC23: ='5500'!C184 -> 1.286 | BD23: =IF(BA23<$C$13,0,IF(BA23<=0,$C$15*($C$16/BB23)^$C$3/100000,$C$15*($C$16/('5500'!B362/1000000))^$C$3*(('5500'!B362/1000000)/BB23)^$C$4/100000)) -> 0 | BE23: =BD23+IF(BA23<$C$7,0,($C$10-1)*T23/(BB23*100000)) -> 0 | BF23: =BE23-BC23 -> -1.286 | BG23: =IF(BC23=0,0,BF23/BC23*100) -> -100 | BH23: -178 | BI23: ='4500'!B184/1000000 -> 0.00043819 | BJ23: ='4500'!C184 -> 1.243 | BK23: =IF(BH23<$D$13,0,IF(BH23<=0,$D$15*($D$16/BI23)^$D$3/100000,$D$15*($D$16/('4500'!B362/1000000))^$D$3*(('4500'!B362/1000000)/BI23)^$D$4/100000)) -> 0 | BL23: =BK23+IF(BH23<$D$7,0,($D$10-1)*Z23/(BI23*100000)) -> 0 | BM23: =BL23-BJ23 -> -1.243 | BN23: =IF(BJ23=0,0,BM23/BJ23*100) -> -100 | BO23: -178 | BP23: ='3500'!B184/1000000 -> 0.00043819 | BQ23: ='3500'!C184 -> 1.133 | BR23: =IF(BO23<$E$13,0,IF(BO23<=0,$E$15*($E$16/BP23)^$E$3/100000,$E$15*($E$16/('3500'!B362/1000000))^$E$3*(('3500'!B362/1000000)/BP23)^$E$4/100000)) -> 0 | BS23: =BR23+IF(BO23<$E$7,0,($E$10-1)*AF23/(BP23*100000)) -> 0 | BT23: =BS23-BQ23 -> -1.133 | BU23: =IF(BQ23=0,0,BT23/BQ23*100) -> -100 | BV23: -178 | BW23: ='2000'!B184/1000000 -> 0.00043819 | BX23: ='2000'!C184 -> 1.153 | BY23: =IF(BV23<$F$13,0,IF(BV23<=0,$F$15*($F$16/BW23)^$F$3/100000,$F$15*($F$16/('2000'!B362/1000000))^$F$3*(('2000'!B362/1000000)/BW23)^$F$4/100000)) -> 0 | BZ23: =BY23+IF(BV23<$F$7,0,($F$10-1)*AL23/(BW23*100000)) -> 0 | CA23: =BZ23-BX23 -> -1.153 | CB23: =IF(BX23=0,0,CA23/BX23*100) -> -100 | CC23: -178 | CD23: ='1000'!B184/1000000 -> 0.00043819 | CE23: ='1000'!C184 -> 1.086 | CF23: =IF(CC23<$G$13,0,IF(CC23<=0,$G$15*($G$16/CD23)^$G$3/100000,$G$15*($G$16/('1000'!B362/1000000))^$G$3*(('1000'!B362/1000000)/CD23)^$G$4/100000)) -> 0 | CG23: =CF23+IF(CC23<$G$7,0,($G$10-1)*AR23/(CD23*100000)) -> 0 | CH23: =CG23-CE23 -> -1.086 | CI23: =IF(CE23=0,0,CH23/CE23*100) -> -100
I24: -177 | J24: ='6500'!B185/1000000 -> 0.00043808 | K24: =IF(I24<$B$7,0,MIN(1,1-EXP(-$B$6*((I24-$B$7)/$B$8)^($B$5+1)))) -> 0 | L24: =(K25-K23)/2 -> 0 | M24: =$B$9*L24 -> 0 | N24: =N23+M24 -> 0 | O24: -177 | P24: ='5500'!B185/1000000 -> 0.00043808 | Q24: =IF(O24<$C$7,0,MIN(1,1-EXP(-$C$6*((O24-$C$7)/$C$8)^($C$5+1)))) -> 0 | R24: =(Q25-Q23)/2 -> 0 | S24: =$C$9*R24 -> 0 | T24: =T23+S24 -> 0 | U24: -177 | V24: ='4500'!B185/1000000 -> 0.00043808 | W24: =IF(U24<$D$7,0,MIN(1,1-EXP(-$D$6*((U24-$D$7)/$D$8)^($D$5+1)))) -> 0 | X24: =(W25-W23)/2 -> 0 | Y24: =$D$9*X24 -> 0 | Z24: =Z23+Y24 -> 0 | AA24: -177 | AB24: ='3500'!B185/1000000 -> 0.00043808 | AC24: =IF(AA24<$E$7,0,MIN(1,1-EXP(-$E$6*((AA24-$E$7)/$E$8)^($E$5+1)))) -> 0 | AD24: =(AC25-AC23)/2 -> 0 | AE24: =$E$9*AD24 -> 0 | AF24: =AF23+AE24 -> 0 | AG24: -177 | AH24: ='2000'!B185/1000000 -> 0.00043808 | AI24: =IF(AG24<$F$7,0,MIN(1,1-EXP(-$F$6*((AG24-$F$7)/$F$8)^($F$5+1)))) -> 0 | AJ24: =(AI25-AI23)/2 -> 0 | AK24: =$F$9*AJ24 -> 0 | AL24: =AL23+AK24 -> 0 | AM24: -177 | AN24: ='1000'!B185/1000000 -> 0.00043808 | AO24: =IF(AM24<$G$7,0,MIN(1,1-EXP(-$G$6*((AM24-$G$7)/$G$8)^($G$5+1)))) -> 0 | AP24: =(AO25-AO23)/2 -> 0 | AQ24: =$G$9*AP24 -> 0 | AR24: =AR23+AQ24 -> 0 | AT24: -177 | AU24: ='6500'!B185/1000000 -> 0.00043808 | AV24: ='6500'!C185 -> 1.224 | AW24: =IF(AT24<$B$13,0,IF(AT24<=0,$B$15*($B$16/AU24)^$B$3/100000,$B$15*($B$16/('6500'!B362/1000000))^$B$3*(('6500'!B362/1000000)/AU24)^$B$4/100000)) -> 0 | AX24: =AW24+IF(AT24<$B$7,0,($B$10-1)*N24/(AU24*100000)) -> 0 | AY24: =AX24-AV24 -> -1.224 | AZ24: =IF(AV24=0,0,AY24/AV24*100) -> -100 | BA24: -177 | BB24: ='5500'!B185/1000000 -> 0.00043808 | BC24: ='5500'!C185 -> 1.307 | BD24: =IF(BA24<$C$13,0,IF(BA24<=0,$C$15*($C$16/BB24)^$C$3/100000,$C$15*($C$16/('5500'!B362/1000000))^$C$3*(('5500'!B362/1000000)/BB24)^$C$4/100000)) -> 0 | BE24: =BD24+IF(BA24<$C$7,0,($C$10-1)*T24/(BB24*100000)) -> 0 | BF24: =BE24-BC24 -> -1.307 | BG24: =IF(BC24=0,0,BF24/BC24*100) -> -100 | BH24: -177 | BI24: ='4500'!B185/1000000 -> 0.00043808 | BJ24: ='4500'!C185 -> 1.247 | BK24: =IF(BH24<$D$13,0,IF(BH24<=0,$D$15*($D$16/BI24)^$D$3/100000,$D$15*($D$16/('4500'!B362/1000000))^$D$3*(('4500'!B362/1000000)/BI24)^$D$4/100000)) -> 0 | BL24: =BK24+IF(BH24<$D$7,0,($D$10-1)*Z24/(BI24*100000)) -> 0 | BM24: =BL24-BJ24 -> -1.247 | BN24: =IF(BJ24=0,0,BM24/BJ24*100) -> -100 | BO24: -177 | BP24: ='3500'!B185/1000000 -> 0.00043808 | BQ24: ='3500'!C185 -> 1.127 | BR24: =IF(BO24<$E$13,0,IF(BO24<=0,$E$15*($E$16/BP24)^$E$3/100000,$E$15*($E$16/('3500'!B362/1000000))^$E$3*(('3500'!B362/1000000)/BP24)^$E$4/100000)) -> 0 | BS24: =BR24+IF(BO24<$E$7,0,($E$10-1)*AF24/(BP24*100000)) -> 0 | BT24: =BS24-BQ24 -> -1.127 | BU24: =IF(BQ24=0,0,BT24/BQ24*100) -> -100 | BV24: -177 | BW24: ='2000'!B185/1000000 -> 0.00043808 | BX24: ='2000'!C185 -> 1.157 | BY24: =IF(BV24<$F$13,0,IF(BV24<=0,$F$15*($F$16/BW24)^$F$3/100000,$F$15*($F$16/('2000'!B362/1000000))^$F$3*(('2000'!B362/1000000)/BW24)^$F$4/100000)) -> 0 | BZ24: =BY24+IF(BV24<$F$7,0,($F$10-1)*AL24/(BW24*100000)) -> 0 | CA24: =BZ24-BX24 -> -1.157 | CB24: =IF(BX24=0,0,CA24/BX24*100) -> -100 | CC24: -177 | CD24: ='1000'!B185/1000000 -> 0.00043808 | CE24: ='1000'!C185 -> 1.078 | CF24: =IF(CC24<$G$13,0,IF(CC24<=0,$G$15*($G$16/CD24)^$G$3/100000,$G$15*($G$16/('1000'!B362/1000000))^$G$3*(('1000'!B362/1000000)/CD24)^$G$4/100000)) -> 0 | CG24: =CF24+IF(CC24<$G$7,0,($G$10-1)*AR24/(CD24*100000)) -> 0 | CH24: =CG24-CE24 -> -1.078 | CI24: =IF(CE24=0,0,CH24/CE24*100) -> -100
I25: -176 | J25: ='6500'!B186/1000000 -> 0.00043793 | K25: =IF(I25<$B$7,0,MIN(1,1-EXP(-$B$6*((I25-$B$7)/$B$8)^($B$5+1)))) -> 0 | L25: =(K26-K24)/2 -> 0 | M25: =$B$9*L25 -> 0 | N25: =N24+M25 -> 0 | O25: -176 | P25: ='5500'!B186/1000000 -> 0.00043793 | Q25: =IF(O25<$C$7,0,MIN(1,1-EXP(-$C$6*((O25-$C$7)/$C$8)^($C$5+1)))) -> 0 | R25: =(Q26-Q24)/2 -> 0 | S25: =$C$9*R25 -> 0 | T25: =T24+S25 -> 0 | U25: -176 | V25: ='4500'!B186/1000000 -> 0.00043793 | W25: =IF(U25<$D$7,0,MIN(1,1-EXP(-$D$6*((U25-$D$7)/$D$8)^($D$5+1)))) -> 0 | X25: =(W26-W24)/2 -> 0 | Y25: =$D$9*X25 -> 0 | Z25: =Z24+Y25 -> 0 | AA25: -176 | AB25: ='3500'!B186/1000000 -> 0.00043793 | AC25: =IF(AA25<$E$7,0,MIN(1,1-EXP(-$E$6*((AA25-$E$7)/$E$8)^($E$5+1)))) -> 0 | AD25: =(AC26-AC24)/2 -> 0 | AE25: =$E$9*AD25 -> 0 | AF25: =AF24+AE25 -> 0 | AG25: -176 | AH25: ='2000'!B186/1000000 -> 0.00043793 | AI25: =IF(AG25<$F$7,0,MIN(1,1-EXP(-$F$6*((AG25-$F$7)/$F$8)^($F$5+1)))) -> 0 | AJ25: =(AI26-AI24)/2 -> 0 | AK25: =$F$9*AJ25 -> 0 | AL25: =AL24+AK25 -> 0 | AM25: -176 | AN25: ='1000'!B186/1000000 -> 0.00043793 | AO25: =IF(AM25<$G$7,0,MIN(1,1-EXP(-$G$6*((AM25-$G$7)/$G$8)^($G$5+1)))) -> 0 | AP25: =(AO26-AO24)/2 -> 0 | AQ25: =$G$9*AP25 -> 0 | AR25: =AR24+AQ25 -> 0 | AT25: -176 | AU25: ='6500'!B186/1000000 -> 0.00043793 | AV25: ='6500'!C186 -> 1.259 | AW25: =IF(AT25<$B$13,0,IF(AT25<=0,$B$15*($B$16/AU25)^$B$3/100000,$B$15*($B$16/('6500'!B362/1000000))^$B$3*(('6500'!B362/1000000)/AU25)^$B$4/100000)) -> 0 | AX25: =AW25+IF(AT25<$B$7,0,($B$10-1)*N25/(AU25*100000)) -> 0 | AY25: =AX25-AV25 -> -1.259 | AZ25: =IF(AV25=0,0,AY25/AV25*100) -> -100 | BA25: -176 | BB25: ='5500'!B186/1000000 -> 0.00043793 | BC25: ='5500'!C186 -> 1.322 | BD25: =IF(BA25<$C$13,0,IF(BA25<=0,$C$15*($C$16/BB25)^$C$3/100000,$C$15*($C$16/('5500'!B362/1000000))^$C$3*(('5500'!B362/1000000)/BB25)^$C$4/100000)) -> 0 | BE25: =BD25+IF(BA25<$C$7,0,($C$10-1)*T25/(BB25*100000)) -> 0 | BF25: =BE25-BC25 -> -1.322 | BG25: =IF(BC25=0,0,BF25/BC25*100) -> -100 | BH25: -176 | BI25: ='4500'!B186/1000000 -> 0.00043793 | BJ25: ='4500'!C186 -> 1.253 | BK25: =IF(BH25<$D$13,0,IF(BH25<=0,$D$15*($D$16/BI25)^$D$3/100000,$D$15*($D$16/('4500'!B362/1000000))^$D$3*(('4500'!B362/1000000)/BI25)^$D$4/100000)) -> 0 | BL25: =BK25+IF(BH25<$D$7,0,($D$10-1)*Z25/(BI25*100000)) -> 0 | BM25: =BL25-BJ25 -> -1.253 | BN25: =IF(BJ25=0,0,BM25/BJ25*100) -> -100 | BO25: -176 | BP25: ='3500'!B186/1000000 -> 0.00043793 | BQ25: ='3500'!C186 -> 1.123 | BR25: =IF(BO25<$E$13,0,IF(BO25<=0,$E$15*($E$16/BP25)^$E$3/100000,$E$15*($E$16/('3500'!B362/1000000))^$E$3*(('3500'!B362/1000000)/BP25)^$E$4/100000)) -> 0 | BS25: =BR25+IF(BO25<$E$7,0,($E$10-1)*AF25/(BP25*100000)) -> 0 | BT25: =BS25-BQ25 -> -1.123 | BU25: =IF(BQ25=0,0,BT25/BQ25*100) -> -100 | BV25: -176 | BW25: ='2000'!B186/1000000 -> 0.00043793 | BX25: ='2000'!C186 -> 1.168 | BY25: =IF(BV25<$F$13,0,IF(BV25<=0,$F$15*($F$16/BW25)^$F$3/100000,$F$15*($F$16/('2000'!B362/1000000))^$F$3*(('2000'!B362/1000000)/BW25)^$F$4/100000)) -> 0 | BZ25: =BY25+IF(BV25<$F$7,0,($F$10-1)*AL25/(BW25*100000)) -> 0 | CA25: =BZ25-BX25 -> -1.168 | CB25: =IF(BX25=0,0,CA25/BX25*100) -> -100 | CC25: -176 | CD25: ='1000'!B186/1000000 -> 0.00043793 | CE25: ='1000'!C186 -> 1.078 | CF25: =IF(CC25<$G$13,0,IF(CC25<=0,$G$15*($G$16/CD25)^$G$3/100000,$G$15*($G$16/('1000'!B362/1000000))^$G$3*(('1000'!B362/1000000)/CD25)^$G$4/100000)) -> 0 | CG25: =CF25+IF(CC25<$G$7,0,($G$10-1)*AR25/(CD25*100000)) -> 0 | CH25: =CG25-CE25 -> -1.078 | CI25: =IF(CE25=0,0,CH25/CE25*100) -> -100
I26: -175 | J26: ='6500'!B187/1000000 -> 0.00043774 | K26: =IF(I26<$B$7,0,MIN(1,1-EXP(-$B$6*((I26-$B$7)/$B$8)^($B$5+1)))) -> 0 | L26: =(K27-K25)/2 -> 0 | M26: =$B$9*L26 -> 0 | N26: =N25+M26 -> 0 | O26: -175 | P26: ='5500'!B187/1000000 -> 0.00043774 | Q26: =IF(O26<$C$7,0,MIN(1,1-EXP(-$C$6*((O26-$C$7)/$C$8)^($C$5+1)))) -> 0 | R26: =(Q27-Q25)/2 -> 0 | S26: =$C$9*R26 -> 0 | T26: =T25+S26 -> 0 | U26: -175 | V26: ='4500'!B187/1000000 -> 0.00043774 | W26: =IF(U26<$D$7,0,MIN(1,1-EXP(-$D$6*((U26-$D$7)/$D$8)^($D$5+1)))) -> 0 | X26: =(W27-W25)/2 -> 0 | Y26: =$D$9*X26 -> 0 | Z26: =Z25+Y26 -> 0 | AA26: -175 | AB26: ='3500'!B187/1000000 -> 0.00043774 | AC26: =IF(AA26<$E$7,0,MIN(1,1-EXP(-$E$6*((AA26-$E$7)/$E$8)^($E$5+1)))) -> 0 | AD26: =(AC27-AC25)/2 -> 0 | AE26: =$E$9*AD26 -> 0 | AF26: =AF25+AE26 -> 0 | AG26: -175 | AH26: ='2000'!B187/1000000 -> 0.00043774 | AI26: =IF(AG26<$F$7,0,MIN(1,1-EXP(-$F$6*((AG26-$F$7)/$F$8)^($F$5+1)))) -> 0 | AJ26: =(AI27-AI25)/2 -> 0 | AK26: =$F$9*AJ26 -> 0 | AL26: =AL25+AK26 -> 0 | AM26: -175 | AN26: ='1000'!B187/1000000 -> 0.00043774 | AO26: =IF(AM26<$G$7,0,MIN(1,1-EXP(-$G$6*((AM26-$G$7)/$G$8)^($G$5+1)))) -> 0 | AP26: =(AO27-AO25)/2 -> 0 | AQ26: =$G$9*AP26 -> 0 | AR26: =AR25+AQ26 -> 0 | AT26: -175 | AU26: ='6500'!B187/1000000 -> 0.00043774 | AV26: ='6500'!C187 -> 1.28 | AW26: =IF(AT26<$B$13,0,IF(AT26<=0,$B$15*($B$16/AU26)^$B$3/100000,$B$15*($B$16/('6500'!B362/1000000))^$B$3*(('6500'!B362/1000000)/AU26)^$B$4/100000)) -> 0 | AX26: =AW26+IF(AT26<$B$7,0,($B$10-1)*N26/(AU26*100000)) -> 0 | AY26: =AX26-AV26 -> -1.28 | AZ26: =IF(AV26=0,0,AY26/AV26*100) -> -100 | BA26: -175 | BB26: ='5500'!B187/1000000 -> 0.00043774 | BC26: ='5500'!C187 -> 1.331 | BD26: =IF(BA26<$C$13,0,IF(BA26<=0,$C$15*($C$16/BB26)^$C$3/100000,$C$15*($C$16/('5500'!B362/1000000))^$C$3*(('5500'!B362/1000000)/BB26)^$C$4/100000)) -> 0 | BE26: =BD26+IF(BA26<$C$7,0,($C$10-1)*T26/(BB26*100000)) -> 0 | BF26: =BE26-BC26 -> -1.331 | BG26: =IF(BC26=0,0,BF26/BC26*100) -> -100 | BH26: -175 | BI26: ='4500'!B187/1000000 -> 0.00043774 | BJ26: ='4500'!C187 -> 1.258 | BK26: =IF(BH26<$D$13,0,IF(BH26<=0,$D$15*($D$16/BI26)^$D$3/100000,$D$15*($D$16/('4500'!B362/1000000))^$D$3*(('4500'!B362/1000000)/BI26)^$D$4/100000)) -> 0 | BL26: =BK26+IF(BH26<$D$7,0,($D$10-1)*Z26/(BI26*100000)) -> 0 | BM26: =BL26-BJ26 -> -1.258 | BN26: =IF(BJ26=0,0,BM26/BJ26*100) -> -100 | BO26: -175 | BP26: ='3500'!B187/1000000 -> 0.00043774 | BQ26: ='3500'!C187 -> 1.117 | BR26: =IF(BO26<$E$13,0,IF(BO26<=0,$E$15*($E$16/BP26)^$E$3/100000,$E$15*($E$16/('3500'!B362/1000000))^$E$3*(('3500'!B362/1000000)/BP26)^$E$4/100000)) -> 0 | BS26: =BR26+IF(BO26<$E$7,0,($E$10-1)*AF26/(BP26*100000)) -> 0 | BT26: =BS26-BQ26 -> -1.117 | BU26: =IF(BQ26=0,0,BT26/BQ26*100) -> -100 | BV26: -175 | BW26: ='2000'!B187/1000000 -> 0.00043774 | BX26: ='2000'!C187 -> 1.163 | BY26: =IF(BV26<$F$13,0,IF(BV26<=0,$F$15*($F$16/BW26)^$F$3/100000,$F$15*($F$16/('2000'!B362/1000000))^$F$3*(('2000'!B362/1000000)/BW26)^$F$4/100000)) -> 0 | BZ26: =BY26+IF(BV26<$F$7,0,($F$10-1)*AL26/(BW26*100000)) -> 0 | CA26: =BZ26-BX26 -> -1.163 | CB26: =IF(BX26=0,0,CA26/BX26*100) -> -100 | CC26: -175 | CD26: ='1000'!B187/1000000 -> 0.00043774 | CE26: ='1000'!C187 -> 1.084 | CF26: =IF(CC26<$G$13,0,IF(CC26<=0,$G$15*($G$16/CD26)^$G$3/100000,$G$15*($G$16/('1000'!B362/1000000))^$G$3*(('1000'!B362/1000000)/CD26)^$G$4/100000)) -> 0 | CG26: =CF26+IF(CC26<$G$7,0,($G$10-1)*AR26/(CD26*100000)) -> 0 | CH26: =CG26-CE26 -> -1.084 | CI26: =IF(CE26=0,0,CH26/CE26*100) -> -100
I27: -174 | J27: ='6500'!B188/1000000 -> 0.00043751 | K27: =IF(I27<$B$7,0,MIN(1,1-EXP(-$B$6*((I27-$B$7)/$B$8)^($B$5+1)))) -> 0 | L27: =(K28-K26)/2 -> 0 | M27: =$B$9*L27 -> 0 | N27: =N26+M27 -> 0 | O27: -174 | P27: ='5500'!B188/1000000 -> 0.00043751 | Q27: =IF(O27<$C$7,0,MIN(1,1-EXP(-$C$6*((O27-$C$7)/$C$8)^($C$5+1)))) -> 0 | R27: =(Q28-Q26)/2 -> 0 | S27: =$C$9*R27 -> 0 | T27: =T26+S27 -> 0 | U27: -174 | V27: ='4500'!B188/1000000 -> 0.00043751 | W27: =IF(U27<$D$7,0,MIN(1,1-EXP(-$D$6*((U27-$D$7)/$D$8)^($D$5+1)))) -> 0 | X27: =(W28-W26)/2 -> 0 | Y27: =$D$9*X27 -> 0 | Z27: =Z26+Y27 -> 0 | AA27: -174 | AB27: ='3500'!B188/1000000 -> 0.00043751 | AC27: =IF(AA27<$E$7,0,MIN(1,1-EXP(-$E$6*((AA27-$E$7)/$E$8)^($E$5+1)))) -> 0 | AD27: =(AC28-AC26)/2 -> 0 | AE27: =$E$9*AD27 -> 0 | AF27: =AF26+AE27 -> 0 | AG27: -174 | AH27: ='2000'!B188/1000000 -> 0.00043751 | AI27: =IF(AG27<$F$7,0,MIN(1,1-EXP(-$F$6*((AG27-$F$7)/$F$8)^($F$5+1)))) -> 0 | AJ27: =(AI28-AI26)/2 -> 0 | AK27: =$F$9*AJ27 -> 0 | AL27: =AL26+AK27 -> 0 | AM27: -174 | AN27: ='1000'!B188/1000000 -> 0.00043751 | AO27: =IF(AM27<$G$7,0,MIN(1,1-EXP(-$G$6*((AM27-$G$7)/$G$8)^($G$5+1)))) -> 0 | AP27: =(AO28-AO26)/2 -> 0 | AQ27: =$G$9*AP27 -> 0 | AR27: =AR26+AQ27 -> 0 | AT27: -174 | AU27: ='6500'!B188/1000000 -> 0.00043751 | AV27: ='6500'!C188 -> 1.293 | AW27: =IF(AT27<$B$13,0,IF(AT27<=0,$B$15*($B$16/AU27)^$B$3/100000,$B$15*($B$16/('6500'!B362/1000000))^$B$3*(('6500'!B362/1000000)/AU27)^$B$4/100000)) -> 0 | AX27: =AW27+IF(AT27<$B$7,0,($B$10-1)*N27/(AU27*100000)) -> 0 | AY27: =AX27-AV27 -> -1.293 | AZ27: =IF(AV27=0,0,AY27/AV27*100) -> -100 | BA27: -174 | BB27: ='5500'!B188/1000000 -> 0.00043751 | BC27: ='5500'!C188 -> 1.338 | BD27: =IF(BA27<$C$13,0,IF(BA27<=0,$C$15*($C$16/BB27)^$C$3/100000,$C$15*($C$16/('5500'!B362/1000000))^$C$3*(('5500'!B362/1000000)/BB27)^$C$4/100000)) -> 0 | BE27: =BD27+IF(BA27<$C$7,0,($C$10-1)*T27/(BB27*100000)) -> 0 | BF27: =BE27-BC27 -> -1.338 | BG27: =IF(BC27=0,0,BF27/BC27*100) -> -100 | BH27: -174 | BI27: ='4500'!B188/1000000 -> 0.00043751 | BJ27: ='4500'!C188 -> 1.261 | BK27: =IF(BH27<$D$13,0,IF(BH27<=0,$D$15*($D$16/BI27)^$D$3/100000,$D$15*($D$16/('4500'!B362/1000000))^$D$3*(('4500'!B362/1000000)/BI27)^$D$4/100000)) -> 0 | BL27: =BK27+IF(BH27<$D$7,0,($D$10-1)*Z27/(BI27*100000)) -> 0 | BM27: =BL27-BJ27 -> -1.261 | BN27: =IF(BJ27=0,0,BM27/BJ27*100) -> -100 | BO27: -174 | BP27: ='3500'!B188/1000000 -> 0.00043751 | BQ27: ='3500'!C188 -> 1.112 | BR27: =IF(BO27<$E$13,0,IF(BO27<=0,$E$15*($E$16/BP27)^$E$3/100000,$E$15*($E$16/('3500'!B362/1000000))^$E$3*(('3500'!B362/1000000)/BP27)^$E$4/100000)) -> 0 | BS27: =BR27+IF(BO27<$E$7,0,($E$10-1)*AF27/(BP27*100000)) -> 0 | BT27: =BS27-BQ27 -> -1.112 | BU27: =IF(BQ27=0,0,BT27/BQ27*100) -> -100 | BV27: -174 | BW27: ='2000'!B188/1000000 -> 0.00043751 | BX27: ='2000'!C188 -> 1.16 | BY27: =IF(BV27<$F$13,0,IF(BV27<=0,$F$15*($F$16/BW27)^$F$3/100000,$F$15*($F$16/('2000'!B362/1000000))^$F$3*(('2000'!B362/1000000)/BW27)^$F$4/100000)) -> 0 | BZ27: =BY27+IF(BV27<$F$7,0,($F$10-1)*AL27/(BW27*100000)) -> 0 | CA27: =BZ27-BX27 -> -1.16 | CB27: =IF(BX27=0,0,CA27/BX27*100) -> -100 | CC27: -174 | CD27: ='1000'!B188/1000000 -> 0.00043751 | CE27: ='1000'!C188 -> 1.081 | CF27: =IF(CC27<$G$13,0,IF(CC27<=0,$G$15*($G$16/CD27)^$G$3/100000,$G$15*($G$16/('1000'!B362/1000000))^$G$3*(('1000'!B362/1000000)/CD27)^$G$4/100000)) -> 0 | CG27: =CF27+IF(CC27<$G$7,0,($G$10-1)*AR27/(CD27*100000)) -> 0 | CH27: =CG27-CE27 -> -1.081 | CI27: =IF(CE27=0,0,CH27/CE27*100) -> -100
I28: -173 | J28: ='6500'!B189/1000000 -> 0.00043723 | K28: =IF(I28<$B$7,0,MIN(1,1-EXP(-$B$6*((I28-$B$7)/$B$8)^($B$5+1)))) -> 0 | L28: =(K29-K27)/2 -> 0 | M28: =$B$9*L28 -> 0 | N28: =N27+M28 -> 0 | O28: -173 | P28: ='5500'!B189/1000000 -> 0.00043723 | Q28: =IF(O28<$C$7,0,MIN(1,1-EXP(-$C$6*((O28-$C$7)/$C$8)^($C$5+1)))) -> 0 | R28: =(Q29-Q27)/2 -> 0 | S28: =$C$9*R28 -> 0 | T28: =T27+S28 -> 0 | U28: -173 | V28: ='4500'!B189/1000000 -> 0.00043723 | W28: =IF(U28<$D$7,0,MIN(1,1-EXP(-$D$6*((U28-$D$7)/$D$8)^($D$5+1)))) -> 0 | X28: =(W29-W27)/2 -> 0 | Y28: =$D$9*X28 -> 0 | Z28: =Z27+Y28 -> 0 | AA28: -173 | AB28: ='3500'!B189/1000000 -> 0.00043723 | AC28: =IF(AA28<$E$7,0,MIN(1,1-EXP(-$E$6*((AA28-$E$7)/$E$8)^($E$5+1)))) -> 0 | AD28: =(AC29-AC27)/2 -> 0 | AE28: =$E$9*AD28 -> 0 | AF28: =AF27+AE28 -> 0 | AG28: -173 | AH28: ='2000'!B189/1000000 -> 0.00043723 | AI28: =IF(AG28<$F$7,0,MIN(1,1-EXP(-$F$6*((AG28-$F$7)/$F$8)^($F$5+1)))) -> 0 | AJ28: =(AI29-AI27)/2 -> 0 | AK28: =$F$9*AJ28 -> 0 | AL28: =AL27+AK28 -> 0 | AM28: -173 | AN28: ='1000'!B189/1000000 -> 0.00043723 | AO28: =IF(AM28<$G$7,0,MIN(1,1-EXP(-$G$6*((AM28-$G$7)/$G$8)^($G$5+1)))) -> 0 | AP28: =(AO29-AO27)/2 -> 0 | AQ28: =$G$9*AP28 -> 0 | AR28: =AR27+AQ28 -> 0 | AT28: -173 | AU28: ='6500'!B189/1000000 -> 0.00043723 | AV28: ='6500'!C189 -> 1.298 | AW28: =IF(AT28<$B$13,0,IF(AT28<=0,$B$15*($B$16/AU28)^$B$3/100000,$B$15*($B$16/('6500'!B362/1000000))^$B$3*(('6500'!B362/1000000)/AU28)^$B$4/100000)) -> 0 | AX28: =AW28+IF(AT28<$B$7,0,($B$10-1)*N28/(AU28*100000)) -> 0 | AY28: =AX28-AV28 -> -1.298 | AZ28: =IF(AV28=0,0,AY28/AV28*100) -> -100 | BA28: -173 | BB28: ='5500'!B189/1000000 -> 0.00043723 | BC28: ='5500'!C189 -> 1.341 | BD28: =IF(BA28<$C$13,0,IF(BA28<=0,$C$15*($C$16/BB28)^$C$3/100000,$C$15*($C$16/('5500'!B362/1000000))^$C$3*(('5500'!B362/1000000)/BB28)^$C$4/100000)) -> 0 | BE28: =BD28+IF(BA28<$C$7,0,($C$10-1)*T28/(BB28*100000)) -> 0 | BF28: =BE28-BC28 -> -1.341 | BG28: =IF(BC28=0,0,BF28/BC28*100) -> -100 | BH28: -173 | BI28: ='4500'!B189/1000000 -> 0.00043723 | BJ28: ='4500'!C189 -> 1.268 | BK28: =IF(BH28<$D$13,0,IF(BH28<=0,$D$15*($D$16/BI28)^$D$3/100000,$D$15*($D$16/('4500'!B362/1000000))^$D$3*(('4500'!B362/1000000)/BI28)^$D$4/100000)) -> 0 | BL28: =BK28+IF(BH28<$D$7,0,($D$10-1)*Z28/(BI28*100000)) -> 0 | BM28: =BL28-BJ28 -> -1.268 | BN28: =IF(BJ28=0,0,BM28/BJ28*100) -> -100 | BO28: -173 | BP28: ='3500'!B189/1000000 -> 0.00043723 | BQ28: ='3500'!C189 -> 1.107 | BR28: =IF(BO28<$E$13,0,IF(BO28<=0,$E$15*($E$16/BP28)^$E$3/100000,$E$15*($E$16/('3500'!B362/1000000))^$E$3*(('3500'!B362/1000000)/BP28)^$E$4/100000)) -> 0 | BS28: =BR28+IF(BO28<$E$7,0,($E$10-1)*AF28/(BP28*100000)) -> 0 | BT28: =BS28-BQ28 -> -1.107 | BU28: =IF(BQ28=0,0,BT28/BQ28*100) -> -100 | BV28: -173 | BW28: ='2000'!B189/1000000 -> 0.00043723 | BX28: ='2000'!C189 -> 1.159 | BY28: =IF(BV28<$F$13,0,IF(BV28<=0,$F$15*($F$16/BW28)^$F$3/100000,$F$15*($F$16/('2000'!B362/1000000))^$F$3*(('2000'!B362/1000000)/BW28)^$F$4/100000)) -> 0 | BZ28: =BY28+IF(BV28<$F$7,0,($F$10-1)*AL28/(BW28*100000)) -> 0 | CA28: =BZ28-BX28 -> -1.159 | CB28: =IF(BX28=0,0,CA28/BX28*100) -> -100 | CC28: -173 | CD28: ='1000'!B189/1000000 -> 0.00043723 | CE28: ='1000'!C189 -> 1.082 | CF28: =IF(CC28<$G$13,0,IF(CC28<=0,$G$15*($G$16/CD28)^$G$3/100000,$G$15*($G$16/('1000'!B362/1000000))^$G$3*(('1000'!B362/1000000)/CD28)^$G$4/100000)) -> 0 | CG28: =CF28+IF(CC28<$G$7,0,($G$10-1)*AR28/(CD28*100000)) -> 0 | CH28: =CG28-CE28 -> -1.082 | CI28: =IF(CE28=0,0,CH28/CE28*100) -> -100
I29: -172 | J29: ='6500'!B190/1000000 -> 0.00043691 | K29: =IF(I29<$B$7,0,MIN(1,1-EXP(-$B$6*((I29-$B$7)/$B$8)^($B$5+1)))) -> 0 | L29: =(K30-K28)/2 -> 0 | M29: =$B$9*L29 -> 0 | N29: =N28+M29 -> 0 | O29: -172 | P29: ='5500'!B190/1000000 -> 0.00043691 | Q29: =IF(O29<$C$7,0,MIN(1,1-EXP(-$C$6*((O29-$C$7)/$C$8)^($C$5+1)))) -> 0 | R29: =(Q30-Q28)/2 -> 0 | S29: =$C$9*R29 -> 0 | T29: =T28+S29 -> 0 | U29: -172 | V29: ='4500'!B190/1000000 -> 0.00043691 | W29: =IF(U29<$D$7,0,MIN(1,1-EXP(-$D$6*((U29-$D$7)/$D$8)^($D$5+1)))) -> 0 | X29: =(W30-W28)/2 -> 0 | Y29: =$D$9*X29 -> 0 | Z29: =Z28+Y29 -> 0 | AA29: -172 | AB29: ='3500'!B190/1000000 -> 0.00043691 | AC29: =IF(AA29<$E$7,0,MIN(1,1-EXP(-$E$6*((AA29-$E$7)/$E$8)^($E$5+1)))) -> 0 | AD29: =(AC30-AC28)/2 -> 0 | AE29: =$E$9*AD29 -> 0 | AF29: =AF28+AE29 -> 0 | AG29: -172 | AH29: ='2000'!B190/1000000 -> 0.00043691 | AI29: =IF(AG29<$F$7,0,MIN(1,1-EXP(-$F$6*((AG29-$F$7)/$F$8)^($F$5+1)))) -> 0 | AJ29: =(AI30-AI28)/2 -> 0 | AK29: =$F$9*AJ29 -> 0 | AL29: =AL28+AK29 -> 0 | AM29: -172 | AN29: ='1000'!B190/1000000 -> 0.00043691 | AO29: =IF(AM29<$G$7,0,MIN(1,1-EXP(-$G$6*((AM29-$G$7)/$G$8)^($G$5+1)))) -> 0 | AP29: =(AO30-AO28)/2 -> 0 | AQ29: =$G$9*AP29 -> 0 | AR29: =AR28+AQ29 -> 0 | AT29: -172 | AU29: ='6500'!B190/1000000 -> 0.00043691 | AV29: ='6500'!C190 -> 1.297 | AW29: =IF(AT29<$B$13,0,IF(AT29<=0,$B$15*($B$16/AU29)^$B$3/100000,$B$15*($B$16/('6500'!B362/1000000))^$B$3*(('6500'!B362/1000000)/AU29)^$B$4/100000)) -> 0 | AX29: =AW29+IF(AT29<$B$7,0,($B$10-1)*N29/(AU29*100000)) -> 0 | AY29: =AX29-AV29 -> -1.297 | AZ29: =IF(AV29=0,0,AY29/AV29*100) -> -100 | BA29: -172 | BB29: ='5500'!B190/1000000 -> 0.00043691 | BC29: ='5500'!C190 -> 1.339 | BD29: =IF(BA29<$C$13,0,IF(BA29<=0,$C$15*($C$16/BB29)^$C$3/100000,$C$15*($C$16/('5500'!B362/1000000))^$C$3*(('5500'!B362/1000000)/BB29)^$C$4/100000)) -> 0 | BE29: =BD29+IF(BA29<$C$7,0,($C$10-1)*T29/(BB29*100000)) -> 0 | BF29: =BE29-BC29 -> -1.339 | BG29: =IF(BC29=0,0,BF29/BC29*100) -> -100 | BH29: -172 | BI29: ='4500'!B190/1000000 -> 0.00043691 | BJ29: ='4500'!C190 -> 1.275 | BK29: =IF(BH29<$D$13,0,IF(BH29<=0,$D$15*($D$16/BI29)^$D$3/100000,$D$15*($D$16/('4500'!B362/1000000))^$D$3*(('4500'!B362/1000000)/BI29)^$D$4/100000)) -> 0 | BL29: =BK29+IF(BH29<$D$7,0,($D$10-1)*Z29/(BI29*100000)) -> 0 | BM29: =BL29-BJ29 -> -1.275 | BN29: =IF(BJ29=0,0,BM29/BJ29*100) -> -100 | BO29: -172 | BP29: ='3500'!B190/1000000 -> 0.00043691 | BQ29: ='3500'!C190 -> 1.099 | BR29: =IF(BO29<$E$13,0,IF(BO29<=0,$E$15*($E$16/BP29)^$E$3/100000,$E$15*($E$16/('3500'!B362/1000000))^$E$3*(('3500'!B362/1000000)/BP29)^$E$4/100000)) -> 0 | BS29: =BR29+IF(BO29<$E$7,0,($E$10-1)*AF29/(BP29*100000)) -> 0 | BT29: =BS29-BQ29 -> -1.099 | BU29: =IF(BQ29=0,0,BT29/BQ29*100) -> -100 | BV29: -172 | BW29: ='2000'!B190/1000000 -> 0.00043691 | BX29: ='2000'!C190 -> 1.16 | BY29: =IF(BV29<$F$13,0,IF(BV29<=0,$F$15*($F$16/BW29)^$F$3/100000,$F$15*($F$16/('2000'!B362/1000000))^$F$3*(('2000'!B362/1000000)/BW29)^$F$4/100000)) -> 0 | BZ29: =BY29+IF(BV29<$F$7,0,($F$10-1)*AL29/(BW29*100000)) -> 0 | CA29: =BZ29-BX29 -> -1.16 | CB29: =IF(BX29=0,0,CA29/BX29*100) -> -100 | CC29: -172 | CD29: ='1000'!B190/1000000 -> 0.00043691 | CE29: ='1000'!C190 -> 1.086 | CF29: =IF(CC29<$G$13,0,IF(CC29<=0,$G$15*($G$16/CD29)^$G$3/100000,$G$15*($G$16/('1000'!B362/1000000))^$G$3*(('1000'!B362/1000000)/CD29)^$G$4/100000)) -> 0 | CG29: =CF29+IF(CC29<$G$7,0,($G$10-1)*AR29/(CD29*100000)) -> 0 | CH29: =CG29-CE29 -> -1.086 | CI29: =IF(CE29=0,0,CH29/CE29*100) -> -100
I30: -171 | J30: ='6500'!B191/1000000 -> 0.00043654 | K30: =IF(I30<$B$7,0,MIN(1,1-EXP(-$B$6*((I30-$B$7)/$B$8)^($B$5+1)))) -> 0 | L30: =(K31-K29)/2 -> 0 | M30: =$B$9*L30 -> 0 | N30: =N29+M30 -> 0 | O30: -171 | P30: ='5500'!B191/1000000 -> 0.00043654 | Q30: =IF(O30<$C$7,0,MIN(1,1-EXP(-$C$6*((O30-$C$7)/$C$8)^($C$5+1)))) -> 0 | R30: =(Q31-Q29)/2 -> 0 | S30: =$C$9*R30 -> 0 | T30: =T29+S30 -> 0 | U30: -171 | V30: ='4500'!B191/1000000 -> 0.00043654 | W30: =IF(U30<$D$7,0,MIN(1,1-EXP(-$D$6*((U30-$D$7)/$D$8)^($D$5+1)))) -> 0 | X30: =(W31-W29)/2 -> 0 | Y30: =$D$9*X30 -> 0 | Z30: =Z29+Y30 -> 0 | AA30: -171 | AB30: ='3500'!B191/1000000 -> 0.00043654 | AC30: =IF(AA30<$E$7,0,MIN(1,1-EXP(-$E$6*((AA30-$E$7)/$E$8)^($E$5+1)))) -> 0 | AD30: =(AC31-AC29)/2 -> 0 | AE30: =$E$9*AD30 -> 0 | AF30: =AF29+AE30 -> 0 | AG30: -171 | AH30: ='2000'!B191/1000000 -> 0.00043654 | AI30: =IF(AG30<$F$7,0,MIN(1,1-EXP(-$F$6*((AG30-$F$7)/$F$8)^($F$5+1)))) -> 0 | AJ30: =(AI31-AI29)/2 -> 0 | AK30: =$F$9*AJ30 -> 0 | AL30: =AL29+AK30 -> 0 | AM30: -171 | AN30: ='1000'!B191/1000000 -> 0.00043654 | AO30: =IF(AM30<$G$7,0,MIN(1,1-EXP(-$G$6*((AM30-$G$7)/$G$8)^($G$5+1)))) -> 0 | AP30: =(AO31-AO29)/2 -> 0 | AQ30: =$G$9*AP30 -> 0 | AR30: =AR29+AQ30 -> 0 | AT30: -171 | AU30: ='6500'!B191/1000000 -> 0.00043654 | AV30: ='6500'!C191 -> 1.29 | AW30: =IF(AT30<$B$13,0,IF(AT30<=0,$B$15*($B$16/AU30)^$B$3/100000,$B$15*($B$16/('6500'!B362/1000000))^$B$3*(('6500'!B362/1000000)/AU30)^$B$4/100000)) -> 0 | AX30: =AW30+IF(AT30<$B$7,0,($B$10-1)*N30/(AU30*100000)) -> 0 | AY30: =AX30-AV30 -> -1.29 | AZ30: =IF(AV30=0,0,AY30/AV30*100) -> -100 | BA30: -171 | BB30: ='5500'!B191/1000000 -> 0.00043654 | BC30: ='5500'!C191 -> 1.328 | BD30: =IF(BA30<$C$13,0,IF(BA30<=0,$C$15*($C$16/BB30)^$C$3/100000,$C$15*($C$16/('5500'!B362/1000000))^$C$3*(('5500'!B362/1000000)/BB30)^$C$4/100000)) -> 0 | BE30: =BD30+IF(BA30<$C$7,0,($C$10-1)*T30/(BB30*100000)) -> 0 | BF30: =BE30-BC30 -> -1.328 | BG30: =IF(BC30=0,0,BF30/BC30*100) -> -100 | BH30: -171 | BI30: ='4500'!B191/1000000 -> 0.00043654 | BJ30: ='4500'!C191 -> 1.279 | BK30: =IF(BH30<$D$13,0,IF(BH30<=0,$D$15*($D$16/BI30)^$D$3/100000,$D$15*($D$16/('4500'!B362/1000000))^$D$3*(('4500'!B362/1000000)/BI30)^$D$4/100000)) -> 0 | BL30: =BK30+IF(BH30<$D$7,0,($D$10-1)*Z30/(BI30*100000)) -> 0 | BM30: =BL30-BJ30 -> -1.279 | BN30: =IF(BJ30=0,0,BM30/BJ30*100) -> -100 | BO30: -171 | BP30: ='3500'!B191/1000000 -> 0.00043654 | BQ30: ='3500'!C191 -> 1.091 | BR30: =IF(BO30<$E$13,0,IF(BO30<=0,$E$15*($E$16/BP30)^$E$3/100000,$E$15*($E$16/('3500'!B362/1000000))^$E$3*(('3500'!B362/1000000)/BP30)^$E$4/100000)) -> 0 | BS30: =BR30+IF(BO30<$E$7,0,($E$10-1)*AF30/(BP30*100000)) -> 0 | BT30: =BS30-BQ30 -> -1.091 | BU30: =IF(BQ30=0,0,BT30/BQ30*100) -> -100 | BV30: -171 | BW30: ='2000'!B191/1000000 -> 0.00043654 | BX30: ='2000'!C191 -> 1.162 | BY30: =IF(BV30<$F$13,0,IF(BV30<=0,$F$15*($F$16/BW30)^$F$3/100000,$F$15*($F$16/('2000'!B362/1000000))^$F$3*(('2000'!B362/1000000)/BW30)^$F$4/100000)) -> 0 | BZ30: =BY30+IF(BV30<$F$7,0,($F$10-1)*AL30/(BW30*100000)) -> 0 | CA30: =BZ30-BX30 -> -1.162 | CB30: =IF(BX30=0,0,CA30/BX30*100) -> -100 | CC30: -171 | CD30: ='1000'!B191/1000000 -> 0.00043654 | CE30: ='1000'!C191 -> 1.085 | CF30: =IF(CC30<$G$13,0,IF(CC30<=0,$G$15*($G$16/CD30)^$G$3/100000,$G$15*($G$16/('1000'!B362/1000000))^$G$3*(('1000'!B362/1000000)/CD30)^$G$4/100000)) -> 0 | CG30: =CF30+IF(CC30<$G$7,0,($G$10-1)*AR30/(CD30*100000)) -> 0 | CH30: =CG30-CE30 -> -1.085 | CI30: =IF(CE30=0,0,CH30/CE30*100) -> -100
I31: -170 | J31: ='6500'!B192/1000000 -> 0.00043614 | K31: =IF(I31<$B$7,0,MIN(1,1-EXP(-$B$6*((I31-$B$7)/$B$8)^($B$5+1)))) -> 0 | L31: =(K32-K30)/2 -> 0 | M31: =$B$9*L31 -> 0 | N31: =N30+M31 -> 0 | O31: -170 | P31: ='5500'!B192/1000000 -> 0.00043614 | Q31: =IF(O31<$C$7,0,MIN(1,1-EXP(-$C$6*((O31-$C$7)/$C$8)^($C$5+1)))) -> 0 | R31: =(Q32-Q30)/2 -> 0 | S31: =$C$9*R31 -> 0 | T31: =T30+S31 -> 0 | U31: -170 | V31: ='4500'!B192/1000000 -> 0.00043614 | W31: =IF(U31<$D$7,0,MIN(1,1-EXP(-$D$6*((U31-$D$7)/$D$8)^($D$5+1)))) -> 0 | X31: =(W32-W30)/2 -> 0 | Y31: =$D$9*X31 -> 0 | Z31: =Z30+Y31 -> 0 | AA31: -170 | AB31: ='3500'!B192/1000000 -> 0.00043614 | AC31: =IF(AA31<$E$7,0,MIN(1,1-EXP(-$E$6*((AA31-$E$7)/$E$8)^($E$5+1)))) -> 0 | AD31: =(AC32-AC30)/2 -> 0 | AE31: =$E$9*AD31 -> 0 | AF31: =AF30+AE31 -> 0 | AG31: -170 | AH31: ='2000'!B192/1000000 -> 0.00043614 | AI31: =IF(AG31<$F$7,0,MIN(1,1-EXP(-$F$6*((AG31-$F$7)/$F$8)^($F$5+1)))) -> 0 | AJ31: =(AI32-AI30)/2 -> 0 | AK31: =$F$9*AJ31 -> 0 | AL31: =AL30+AK31 -> 0 | AM31: -170 | AN31: ='1000'!B192/1000000 -> 0.00043614 | AO31: =IF(AM31<$G$7,0,MIN(1,1-EXP(-$G$6*((AM31-$G$7)/$G$8)^($G$5+1)))) -> 0 | AP31: =(AO32-AO30)/2 -> 0 | AQ31: =$G$9*AP31 -> 0 | AR31: =AR30+AQ31 -> 0 | AT31: -170 | AU31: ='6500'!B192/1000000 -> 0.00043614 | AV31: ='6500'!C192 -> 1.265 | AW31: =IF(AT31<$B$13,0,IF(AT31<=0,$B$15*($B$16/AU31)^$B$3/100000,$B$15*($B$16/('6500'!B362/1000000))^$B$3*(('6500'!B362/1000000)/AU31)^$B$4/100000)) -> 0 | AX31: =AW31+IF(AT31<$B$7,0,($B$10-1)*N31/(AU31*100000)) -> 0 | AY31: =AX31-AV31 -> -1.265 | AZ31: =IF(AV31=0,0,AY31/AV31*100) -> -100 | BA31: -170 | BB31: ='5500'!B192/1000000 -> 0.00043614 | BC31: ='5500'!C192 -> 1.316 | BD31: =IF(BA31<$C$13,0,IF(BA31<=0,$C$15*($C$16/BB31)^$C$3/100000,$C$15*($C$16/('5500'!B362/1000000))^$C$3*(('5500'!B362/1000000)/BB31)^$C$4/100000)) -> 0 | BE31: =BD31+IF(BA31<$C$7,0,($C$10-1)*T31/(BB31*100000)) -> 0 | BF31: =BE31-BC31 -> -1.316 | BG31: =IF(BC31=0,0,BF31/BC31*100) -> -100 | BH31: -170 | BI31: ='4500'!B192/1000000 -> 0.00043614 | BJ31: ='4500'!C192 -> 1.276 | BK31: =IF(BH31<$D$13,0,IF(BH31<=0,$D$15*($D$16/BI31)^$D$3/100000,$D$15*($D$16/('4500'!B362/1000000))^$D$3*(('4500'!B362/1000000)/BI31)^$D$4/100000)) -> 0 | BL31: =BK31+IF(BH31<$D$7,0,($D$10-1)*Z31/(BI31*100000)) -> 0 | BM31: =BL31-BJ31 -> -1.276 | BN31: =IF(BJ31=0,0,BM31/BJ31*100) -> -100 | BO31: -170 | BP31: ='3500'!B192/1000000 -> 0.00043614 | BQ31: ='3500'!C192 -> 1.085 | BR31: =IF(BO31<$E$13,0,IF(BO31<=0,$E$15*($E$16/BP31)^$E$3/100000,$E$15*($E$16/('3500'!B362/1000000))^$E$3*(('3500'!B362/1000000)/BP31)^$E$4/100000)) -> 0 | BS31: =BR31+IF(BO31<$E$7,0,($E$10-1)*AF31/(BP31*100000)) -> 0 | BT31: =BS31-BQ31 -> -1.085 | BU31: =IF(BQ31=0,0,BT31/BQ31*100) -> -100 | BV31: -170 | BW31: ='2000'!B192/1000000 -> 0.00043614 | BX31: ='2000'!C192 -> 1.163 | BY31: =IF(BV31<$F$13,0,IF(BV31<=0,$F$15*($F$16/BW31)^$F$3/100000,$F$15*($F$16/('2000'!B362/1000000))^$F$3*(('2000'!B362/1000000)/BW31)^$F$4/100000)) -> 0 | BZ31: =BY31+IF(BV31<$F$7,0,($F$10-1)*AL31/(BW31*100000)) -> 0 | CA31: =BZ31-BX31 -> -1.163 | CB31: =IF(BX31=0,0,CA31/BX31*100) -> -100 | CC31: -170 | CD31: ='1000'!B192/1000000 -> 0.00043614 | CE31: ='1000'!C192 -> 1.084 | CF31: =IF(CC31<$G$13,0,IF(CC31<=0,$G$15*($G$16/CD31)^$G$3/100000,$G$15*($G$16/('1000'!B362/1000000))^$G$3*(('1000'!B362/1000000)/CD31)^$G$4/100000)) -> 0 | CG31: =CF31+IF(CC31<$G$7,0,($G$10-1)*AR31/(CD31*100000)) -> 0 | CH31: =CG31-CE31 -> -1.084 | CI31: =IF(CE31=0,0,CH31/CE31*100) -> -100
I32: -169 | J32: ='6500'!B193/1000000 -> 0.00043569 | K32: =IF(I32<$B$7,0,MIN(1,1-EXP(-$B$6*((I32-$B$7)/$B$8)^($B$5+1)))) -> 0 | L32: =(K33-K31)/2 -> 0 | M32: =$B$9*L32 -> 0 | N32: =N31+M32 -> 0 | O32: -169 | P32: ='5500'!B193/1000000 -> 0.00043569 | Q32: =IF(O32<$C$7,0,MIN(1,1-EXP(-$C$6*((O32-$C$7)/$C$8)^($C$5+1)))) -> 0 | R32: =(Q33-Q31)/2 -> 0 | S32: =$C$9*R32 -> 0 | T32: =T31+S32 -> 0 | U32: -169 | V32: ='4500'!B193/1000000 -> 0.00043569 | W32: =IF(U32<$D$7,0,MIN(1,1-EXP(-$D$6*((U32-$D$7)/$D$8)^($D$5+1)))) -> 0 | X32: =(W33-W31)/2 -> 0 | Y32: =$D$9*X32 -> 0 | Z32: =Z31+Y32 -> 0 | AA32: -169 | AB32: ='3500'!B193/1000000 -> 0.00043569 | AC32: =IF(AA32<$E$7,0,MIN(1,1-EXP(-$E$6*((AA32-$E$7)/$E$8)^($E$5+1)))) -> 0 | AD32: =(AC33-AC31)/2 -> 0 | AE32: =$E$9*AD32 -> 0 | AF32: =AF31+AE32 -> 0 | AG32: -169 | AH32: ='2000'!B193/1000000 -> 0.00043569 | AI32: =IF(AG32<$F$7,0,MIN(1,1-EXP(-$F$6*((AG32-$F$7)/$F$8)^($F$5+1)))) -> 0 | AJ32: =(AI33-AI31)/2 -> 0 | AK32: =$F$9*AJ32 -> 0 | AL32: =AL31+AK32 -> 0 | AM32: -169 | AN32: ='1000'!B193/1000000 -> 0.00043569 | AO32: =IF(AM32<$G$7,0,MIN(1,1-EXP(-$G$6*((AM32-$G$7)/$G$8)^($G$5+1)))) -> 0 | AP32: =(AO33-AO31)/2 -> 0 | AQ32: =$G$9*AP32 -> 0 | AR32: =AR31+AQ32 -> 0 | AT32: -169 | AU32: ='6500'!B193/1000000 -> 0.00043569 | AV32: ='6500'!C193 -> 1.23 | AW32: =IF(AT32<$B$13,0,IF(AT32<=0,$B$15*($B$16/AU32)^$B$3/100000,$B$15*($B$16/('6500'!B362/1000000))^$B$3*(('6500'!B362/1000000)/AU32)^$B$4/100000)) -> 0 | AX32: =AW32+IF(AT32<$B$7,0,($B$10-1)*N32/(AU32*100000)) -> 0 | AY32: =AX32-AV32 -> -1.23 | AZ32: =IF(AV32=0,0,AY32/AV32*100) -> -100 | BA32: -169 | BB32: ='5500'!B193/1000000 -> 0.00043569 | BC32: ='5500'!C193 -> 1.306 | BD32: =IF(BA32<$C$13,0,IF(BA32<=0,$C$15*($C$16/BB32)^$C$3/100000,$C$15*($C$16/('5500'!B362/1000000))^$C$3*(('5500'!B362/1000000)/BB32)^$C$4/100000)) -> 0 | BE32: =BD32+IF(BA32<$C$7,0,($C$10-1)*T32/(BB32*100000)) -> 0 | BF32: =BE32-BC32 -> -1.306 | BG32: =IF(BC32=0,0,BF32/BC32*100) -> -100 | BH32: -169 | BI32: ='4500'!B193/1000000 -> 0.00043569 | BJ32: ='4500'!C193 -> 1.267 | BK32: =IF(BH32<$D$13,0,IF(BH32<=0,$D$15*($D$16/BI32)^$D$3/100000,$D$15*($D$16/('4500'!B362/1000000))^$D$3*(('4500'!B362/1000000)/BI32)^$D$4/100000)) -> 0 | BL32: =BK32+IF(BH32<$D$7,0,($D$10-1)*Z32/(BI32*100000)) -> 0 | BM32: =BL32-BJ32 -> -1.267 | BN32: =IF(BJ32=0,0,BM32/BJ32*100) -> -100 | BO32: -169 | BP32: ='3500'!B193/1000000 -> 0.00043569 | BQ32: ='3500'!C193 -> 1.079 | BR32: =IF(BO32<$E$13,0,IF(BO32<=0,$E$15*($E$16/BP32)^$E$3/100000,$E$15*($E$16/('3500'!B362/1000000))^$E$3*(('3500'!B362/1000000)/BP32)^$E$4/100000)) -> 0 | BS32: =BR32+IF(BO32<$E$7,0,($E$10-1)*AF32/(BP32*100000)) -> 0 | BT32: =BS32-BQ32 -> -1.079 | BU32: =IF(BQ32=0,0,BT32/BQ32*100) -> -100 | BV32: -169 | BW32: ='2000'!B193/1000000 -> 0.00043569 | BX32: ='2000'!C193 -> 1.167 | BY32: =IF(BV32<$F$13,0,IF(BV32<=0,$F$15*($F$16/BW32)^$F$3/100000,$F$15*($F$16/('2000'!B362/1000000))^$F$3*(('2000'!B362/1000000)/BW32)^$F$4/100000)) -> 0 | BZ32: =BY32+IF(BV32<$F$7,0,($F$10-1)*AL32/(BW32*100000)) -> 0 | CA32: =BZ32-BX32 -> -1.167 | CB32: =IF(BX32=0,0,CA32/BX32*100) -> -100 | CC32: -169 | CD32: ='1000'!B193/1000000 -> 0.00043569 | CE32: ='1000'!C193 -> 1.085 | CF32: =IF(CC32<$G$13,0,IF(CC32<=0,$G$15*($G$16/CD32)^$G$3/100000,$G$15*($G$16/('1000'!B362/1000000))^$G$3*(('1000'!B362/1000000)/CD32)^$G$4/100000)) -> 0 | CG32: =CF32+IF(CC32<$G$7,0,($G$10-1)*AR32/(CD32*100000)) -> 0 | CH32: =CG32-CE32 -> -1.085 | CI32: =IF(CE32=0,0,CH32/CE32*100) -> -100
I33: -168 | J33: ='6500'!B194/1000000 -> 0.0004352 | K33: =IF(I33<$B$7,0,MIN(1,1-EXP(-$B$6*((I33-$B$7)/$B$8)^($B$5+1)))) -> 0 | L33: =(K34-K32)/2 -> 0 | M33: =$B$9*L33 -> 0 | N33: =N32+M33 -> 0 | O33: -168 | P33: ='5500'!B194/1000000 -> 0.0004352 | Q33: =IF(O33<$C$7,0,MIN(1,1-EXP(-$C$6*((O33-$C$7)/$C$8)^($C$5+1)))) -> 0 | R33: =(Q34-Q32)/2 -> 0 | S33: =$C$9*R33 -> 0 | T33: =T32+S33 -> 0 | U33: -168 | V33: ='4500'!B194/1000000 -> 0.0004352 | W33: =IF(U33<$D$7,0,MIN(1,1-EXP(-$D$6*((U33-$D$7)/$D$8)^($D$5+1)))) -> 0 | X33: =(W34-W32)/2 -> 0 | Y33: =$D$9*X33 -> 0 | Z33: =Z32+Y33 -> 0 | AA33: -168 | AB33: ='3500'!B194/1000000 -> 0.0004352 | AC33: =IF(AA33<$E$7,0,MIN(1,1-EXP(-$E$6*((AA33-$E$7)/$E$8)^($E$5+1)))) -> 0 | AD33: =(AC34-AC32)/2 -> 0 | AE33: =$E$9*AD33 -> 0 | AF33: =AF32+AE33 -> 0 | AG33: -168 | AH33: ='2000'!B194/1000000 -> 0.0004352 | AI33: =IF(AG33<$F$7,0,MIN(1,1-EXP(-$F$6*((AG33-$F$7)/$F$8)^($F$5+1)))) -> 0 | AJ33: =(AI34-AI32)/2 -> 0 | AK33: =$F$9*AJ33 -> 0 | AL33: =AL32+AK33 -> 0 | AM33: -168 | AN33: ='1000'!B194/1000000 -> 0.0004352 | AO33: =IF(AM33<$G$7,0,MIN(1,1-EXP(-$G$6*((AM33-$G$7)/$G$8)^($G$5+1)))) -> 0 | AP33: =(AO34-AO32)/2 -> 0 | AQ33: =$G$9*AP33 -> 0 | AR33: =AR32+AQ33 -> 0 | AT33: -168 | AU33: ='6500'!B194/1000000 -> 0.0004352 | AV33: ='6500'!C194 -> 1.2 | AW33: =IF(AT33<$B$13,0,IF(AT33<=0,$B$15*($B$16/AU33)^$B$3/100000,$B$15*($B$16/('6500'!B362/1000000))^$B$3*(('6500'!B362/1000000)/AU33)^$B$4/100000)) -> 0 | AX33: =AW33+IF(AT33<$B$7,0,($B$10-1)*N33/(AU33*100000)) -> 0 | AY33: =AX33-AV33 -> -1.2 | AZ33: =IF(AV33=0,0,AY33/AV33*100) -> -100 | BA33: -168 | BB33: ='5500'!B194/1000000 -> 0.0004352 | BC33: ='5500'!C194 -> 1.304 | BD33: =IF(BA33<$C$13,0,IF(BA33<=0,$C$15*($C$16/BB33)^$C$3/100000,$C$15*($C$16/('5500'!B362/1000000))^$C$3*(('5500'!B362/1000000)/BB33)^$C$4/100000)) -> 0 | BE33: =BD33+IF(BA33<$C$7,0,($C$10-1)*T33/(BB33*100000)) -> 0 | BF33: =BE33-BC33 -> -1.304 | BG33: =IF(BC33=0,0,BF33/BC33*100) -> -100 | BH33: -168 | BI33: ='4500'!B194/1000000 -> 0.0004352 | BJ33: ='4500'!C194 -> 1.255 | BK33: =IF(BH33<$D$13,0,IF(BH33<=0,$D$15*($D$16/BI33)^$D$3/100000,$D$15*($D$16/('4500'!B362/1000000))^$D$3*(('4500'!B362/1000000)/BI33)^$D$4/100000)) -> 0 | BL33: =BK33+IF(BH33<$D$7,0,($D$10-1)*Z33/(BI33*100000)) -> 0 | BM33: =BL33-BJ33 -> -1.255 | BN33: =IF(BJ33=0,0,BM33/BJ33*100) -> -100 | BO33: -168 | BP33: ='3500'!B194/1000000 -> 0.0004352 | BQ33: ='3500'!C194 -> 1.077 | BR33: =IF(BO33<$E$13,0,IF(BO33<=0,$E$15*($E$16/BP33)^$E$3/100000,$E$15*($E$16/('3500'!B362/1000000))^$E$3*(('3500'!B362/1000000)/BP33)^$E$4/100000)) -> 0 | BS33: =BR33+IF(BO33<$E$7,0,($E$10-1)*AF33/(BP33*100000)) -> 0 | BT33: =BS33-BQ33 -> -1.077 | BU33: =IF(BQ33=0,0,BT33/BQ33*100) -> -100 | BV33: -168 | BW33: ='2000'!B194/1000000 -> 0.0004352 | BX33: ='2000'!C194 -> 1.166 | BY33: =IF(BV33<$F$13,0,IF(BV33<=0,$F$15*($F$16/BW33)^$F$3/100000,$F$15*($F$16/('2000'!B362/1000000))^$F$3*(('2000'!B362/1000000)/BW33)^$F$4/100000)) -> 0 | BZ33: =BY33+IF(BV33<$F$7,0,($F$10-1)*AL33/(BW33*100000)) -> 0 | CA33: =BZ33-BX33 -> -1.166 | CB33: =IF(BX33=0,0,CA33/BX33*100) -> -100 | CC33: -168 | CD33: ='1000'!B194/1000000 -> 0.0004352 | CE33: ='1000'!C194 -> 1.084 | CF33: =IF(CC33<$G$13,0,IF(CC33<=0,$G$15*($G$16/CD33)^$G$3/100000,$G$15*($G$16/('1000'!B362/1000000))^$G$3*(('1000'!B362/1000000)/CD33)^$G$4/100000)) -> 0 | CG33: =CF33+IF(CC33<$G$7,0,($G$10-1)*AR33/(CD33*100000)) -> 0 | CH33: =CG33-CE33 -> -1.084 | CI33: =IF(CE33=0,0,CH33/CE33*100) -> -100
I34: -167 | J34: ='6500'!B195/1000000 -> 0.00043466 | K34: =IF(I34<$B$7,0,MIN(1,1-EXP(-$B$6*((I34-$B$7)/$B$8)^($B$5+1)))) -> 0 | L34: =(K35-K33)/2 -> 0 | M34: =$B$9*L34 -> 0 | N34: =N33+M34 -> 0 | O34: -167 | P34: ='5500'!B195/1000000 -> 0.00043466 | Q34: =IF(O34<$C$7,0,MIN(1,1-EXP(-$C$6*((O34-$C$7)/$C$8)^($C$5+1)))) -> 0 | R34: =(Q35-Q33)/2 -> 0 | S34: =$C$9*R34 -> 0 | T34: =T33+S34 -> 0 | U34: -167 | V34: ='4500'!B195/1000000 -> 0.00043466 | W34: =IF(U34<$D$7,0,MIN(1,1-EXP(-$D$6*((U34-$D$7)/$D$8)^($D$5+1)))) -> 0 | X34: =(W35-W33)/2 -> 0 | Y34: =$D$9*X34 -> 0 | Z34: =Z33+Y34 -> 0 | AA34: -167 | AB34: ='3500'!B195/1000000 -> 0.00043466 | AC34: =IF(AA34<$E$7,0,MIN(1,1-EXP(-$E$6*((AA34-$E$7)/$E$8)^($E$5+1)))) -> 0 | AD34: =(AC35-AC33)/2 -> 0 | AE34: =$E$9*AD34 -> 0 | AF34: =AF33+AE34 -> 0 | AG34: -167 | AH34: ='2000'!B195/1000000 -> 0.00043466 | AI34: =IF(AG34<$F$7,0,MIN(1,1-EXP(-$F$6*((AG34-$F$7)/$F$8)^($F$5+1)))) -> 0 | AJ34: =(AI35-AI33)/2 -> 0 | AK34: =$F$9*AJ34 -> 0 | AL34: =AL33+AK34 -> 0 | AM34: -167 | AN34: ='1000'!B195/1000000 -> 0.00043466 | AO34: =IF(AM34<$G$7,0,MIN(1,1-EXP(-$G$6*((AM34-$G$7)/$G$8)^($G$5+1)))) -> 0 | AP34: =(AO35-AO33)/2 -> 0 | AQ34: =$G$9*AP34 -> 0 | AR34: =AR33+AQ34 -> 0 | AT34: -167 | AU34: ='6500'!B195/1000000 -> 0.00043466 | AV34: ='6500'!C195 -> 1.172 | AW34: =IF(AT34<$B$13,0,IF(AT34<=0,$B$15*($B$16/AU34)^$B$3/100000,$B$15*($B$16/('6500'!B362/1000000))^$B$3*(('6500'!B362/1000000)/AU34)^$B$4/100000)) -> 0 | AX34: =AW34+IF(AT34<$B$7,0,($B$10-1)*N34/(AU34*100000)) -> 0 | AY34: =AX34-AV34 -> -1.172 | AZ34: =IF(AV34=0,0,AY34/AV34*100) -> -100 | BA34: -167 | BB34: ='5500'!B195/1000000 -> 0.00043466 | BC34: ='5500'!C195 -> 1.3 | BD34: =IF(BA34<$C$13,0,IF(BA34<=0,$C$15*($C$16/BB34)^$C$3/100000,$C$15*($C$16/('5500'!B362/1000000))^$C$3*(('5500'!B362/1000000)/BB34)^$C$4/100000)) -> 0 | BE34: =BD34+IF(BA34<$C$7,0,($C$10-1)*T34/(BB34*100000)) -> 0 | BF34: =BE34-BC34 -> -1.3 | BG34: =IF(BC34=0,0,BF34/BC34*100) -> -100 | BH34: -167 | BI34: ='4500'!B195/1000000 -> 0.00043466 | BJ34: ='4500'!C195 -> 1.242 | BK34: =IF(BH34<$D$13,0,IF(BH34<=0,$D$15*($D$16/BI34)^$D$3/100000,$D$15*($D$16/('4500'!B362/1000000))^$D$3*(('4500'!B362/1000000)/BI34)^$D$4/100000)) -> 0 | BL34: =BK34+IF(BH34<$D$7,0,($D$10-1)*Z34/(BI34*100000)) -> 0 | BM34: =BL34-BJ34 -> -1.242 | BN34: =IF(BJ34=0,0,BM34/BJ34*100) -> -100 | BO34: -167 | BP34: ='3500'!B195/1000000 -> 0.00043466 | BQ34: ='3500'!C195 -> 1.077 | BR34: =IF(BO34<$E$13,0,IF(BO34<=0,$E$15*($E$16/BP34)^$E$3/100000,$E$15*($E$16/('3500'!B362/1000000))^$E$3*(('3500'!B362/1000000)/BP34)^$E$4/100000)) -> 0 | BS34: =BR34+IF(BO34<$E$7,0,($E$10-1)*AF34/(BP34*100000)) -> 0 | BT34: =BS34-BQ34 -> -1.077 | BU34: =IF(BQ34=0,0,BT34/BQ34*100) -> -100 | BV34: -167 | BW34: ='2000'!B195/1000000 -> 0.00043466 | BX34: ='2000'!C195 -> 1.169 | BY34: =IF(BV34<$F$13,0,IF(BV34<=0,$F$15*($F$16/BW34)^$F$3/100000,$F$15*($F$16/('2000'!B362/1000000))^$F$3*(('2000'!B362/1000000)/BW34)^$F$4/100000)) -> 0 | BZ34: =BY34+IF(BV34<$F$7,0,($F$10-1)*AL34/(BW34*100000)) -> 0 | CA34: =BZ34-BX34 -> -1.169 | CB34: =IF(BX34=0,0,CA34/BX34*100) -> -100 | CC34: -167 | CD34: ='1000'!B195/1000000 -> 0.00043466 | CE34: ='1000'!C195 -> 1.085 | CF34: =IF(CC34<$G$13,0,IF(CC34<=0,$G$15*($G$16/CD34)^$G$3/100000,$G$15*($G$16/('1000'!B362/1000000))^$G$3*(('1000'!B362/1000000)/CD34)^$G$4/100000)) -> 0 | CG34: =CF34+IF(CC34<$G$7,0,($G$10-1)*AR34/(CD34*100000)) -> 0 | CH34: =CG34-CE34 -> -1.085 | CI34: =IF(CE34=0,0,CH34/CE34*100) -> -100
I35: -166 | J35: ='6500'!B196/1000000 -> 0.00043409 | K35: =IF(I35<$B$7,0,MIN(1,1-EXP(-$B$6*((I35-$B$7)/$B$8)^($B$5+1)))) -> 0 | L35: =(K36-K34)/2 -> 0 | M35: =$B$9*L35 -> 0 | N35: =N34+M35 -> 0 | O35: -166 | P35: ='5500'!B196/1000000 -> 0.00043409 | Q35: =IF(O35<$C$7,0,MIN(1,1-EXP(-$C$6*((O35-$C$7)/$C$8)^($C$5+1)))) -> 0 | R35: =(Q36-Q34)/2 -> 0 | S35: =$C$9*R35 -> 0 | T35: =T34+S35 -> 0 | U35: -166 | V35: ='4500'!B196/1000000 -> 0.00043409 | W35: =IF(U35<$D$7,0,MIN(1,1-EXP(-$D$6*((U35-$D$7)/$D$8)^($D$5+1)))) -> 0 | X35: =(W36-W34)/2 -> 0 | Y35: =$D$9*X35 -> 0 | Z35: =Z34+Y35 -> 0 | AA35: -166 | AB35: ='3500'!B196/1000000 -> 0.00043409 | AC35: =IF(AA35<$E$7,0,MIN(1,1-EXP(-$E$6*((AA35-$E$7)/$E$8)^($E$5+1)))) -> 0 | AD35: =(AC36-AC34)/2 -> 0 | AE35: =$E$9*AD35 -> 0 | AF35: =AF34+AE35 -> 0 | AG35: -166 | AH35: ='2000'!B196/1000000 -> 0.00043409 | AI35: =IF(AG35<$F$7,0,MIN(1,1-EXP(-$F$6*((AG35-$F$7)/$F$8)^($F$5+1)))) -> 0 | AJ35: =(AI36-AI34)/2 -> 0 | AK35: =$F$9*AJ35 -> 0 | AL35: =AL34+AK35 -> 0 | AM35: -166 | AN35: ='1000'!B196/1000000 -> 0.00043409 | AO35: =IF(AM35<$G$7,0,MIN(1,1-EXP(-$G$6*((AM35-$G$7)/$G$8)^($G$5+1)))) -> 0 | AP35: =(AO36-AO34)/2 -> 0 | AQ35: =$G$9*AP35 -> 0 | AR35: =AR34+AQ35 -> 0 | AT35: -166 | AU35: ='6500'!B196/1000000 -> 0.00043409 | AV35: ='6500'!C196 -> 1.149 | AW35: =IF(AT35<$B$13,0,IF(AT35<=0,$B$15*($B$16/AU35)^$B$3/100000,$B$15*($B$16/('6500'!B362/1000000))^$B$3*(('6500'!B362/1000000)/AU35)^$B$4/100000)) -> 0 | AX35: =AW35+IF(AT35<$B$7,0,($B$10-1)*N35/(AU35*100000)) -> 0 | AY35: =AX35-AV35 -> -1.149 | AZ35: =IF(AV35=0,0,AY35/AV35*100) -> -100 | BA35: -166 | BB35: ='5500'!B196/1000000 -> 0.00043409 | BC35: ='5500'!C196 -> 1.295 | BD35: =IF(BA35<$C$13,0,IF(BA35<=0,$C$15*($C$16/BB35)^$C$3/100000,$C$15*($C$16/('5500'!B362/1000000))^$C$3*(('5500'!B362/1000000)/BB35)^$C$4/100000)) -> 0 | BE35: =BD35+IF(BA35<$C$7,0,($C$10-1)*T35/(BB35*100000)) -> 0 | BF35: =BE35-BC35 -> -1.295 | BG35: =IF(BC35=0,0,BF35/BC35*100) -> -100 | BH35: -166 | BI35: ='4500'!B196/1000000 -> 0.00043409 | BJ35: ='4500'!C196 -> 1.23 | BK35: =IF(BH35<$D$13,0,IF(BH35<=0,$D$15*($D$16/BI35)^$D$3/100000,$D$15*($D$16/('4500'!B362/1000000))^$D$3*(('4500'!B362/1000000)/BI35)^$D$4/100000)) -> 0 | BL35: =BK35+IF(BH35<$D$7,0,($D$10-1)*Z35/(BI35*100000)) -> 0 | BM35: =BL35-BJ35 -> -1.23 | BN35: =IF(BJ35=0,0,BM35/BJ35*100) -> -100 | BO35: -166 | BP35: ='3500'!B196/1000000 -> 0.00043409 | BQ35: ='3500'!C196 -> 1.076 | BR35: =IF(BO35<$E$13,0,IF(BO35<=0,$E$15*($E$16/BP35)^$E$3/100000,$E$15*($E$16/('3500'!B362/1000000))^$E$3*(('3500'!B362/1000000)/BP35)^$E$4/100000)) -> 0 | BS35: =BR35+IF(BO35<$E$7,0,($E$10-1)*AF35/(BP35*100000)) -> 0 | BT35: =BS35-BQ35 -> -1.076 | BU35: =IF(BQ35=0,0,BT35/BQ35*100) -> -100 | BV35: -166 | BW35: ='2000'!B196/1000000 -> 0.00043409 | BX35: ='2000'!C196 -> 1.168 | BY35: =IF(BV35<$F$13,0,IF(BV35<=0,$F$15*($F$16/BW35)^$F$3/100000,$F$15*($F$16/('2000'!B362/1000000))^$F$3*(('2000'!B362/1000000)/BW35)^$F$4/100000)) -> 0 | BZ35: =BY35+IF(BV35<$F$7,0,($F$10-1)*AL35/(BW35*100000)) -> 0 | CA35: =BZ35-BX35 -> -1.168 | CB35: =IF(BX35=0,0,CA35/BX35*100) -> -100 | CC35: -166 | CD35: ='1000'!B196/1000000 -> 0.00043409 | CE35: ='1000'!C196 -> 1.082 | CF35: =IF(CC35<$G$13,0,IF(CC35<=0,$G$15*($G$16/CD35)^$G$3/100000,$G$15*($G$16/('1000'!B362/1000000))^$G$3*(('1000'!B362/1000000)/CD35)^$G$4/100000)) -> 0 | CG35: =CF35+IF(CC35<$G$7,0,($G$10-1)*AR35/(CD35*100000)) -> 0 | CH35: =CG35-CE35 -> -1.082 | CI35: =IF(CE35=0,0,CH35/CE35*100) -> -100
I36: -165 | J36: ='6500'!B197/1000000 -> 0.00043347 | K36: =IF(I36<$B$7,0,MIN(1,1-EXP(-$B$6*((I36-$B$7)/$B$8)^($B$5+1)))) -> 0 | L36: =(K37-K35)/2 -> 0 | M36: =$B$9*L36 -> 0 | N36: =N35+M36 -> 0 | O36: -165 | P36: ='5500'!B197/1000000 -> 0.00043347 | Q36: =IF(O36<$C$7,0,MIN(1,1-EXP(-$C$6*((O36-$C$7)/$C$8)^($C$5+1)))) -> 0 | R36: =(Q37-Q35)/2 -> 0 | S36: =$C$9*R36 -> 0 | T36: =T35+S36 -> 0 | U36: -165 | V36: ='4500'!B197/1000000 -> 0.00043347 | W36: =IF(U36<$D$7,0,MIN(1,1-EXP(-$D$6*((U36-$D$7)/$D$8)^($D$5+1)))) -> 0 | X36: =(W37-W35)/2 -> 0 | Y36: =$D$9*X36 -> 0 | Z36: =Z35+Y36 -> 0 | AA36: -165 | AB36: ='3500'!B197/1000000 -> 0.00043347 | AC36: =IF(AA36<$E$7,0,MIN(1,1-EXP(-$E$6*((AA36-$E$7)/$E$8)^($E$5+1)))) -> 0 | AD36: =(AC37-AC35)/2 -> 0 | AE36: =$E$9*AD36 -> 0 | AF36: =AF35+AE36 -> 0 | AG36: -165 | AH36: ='2000'!B197/1000000 -> 0.00043347 | AI36: =IF(AG36<$F$7,0,MIN(1,1-EXP(-$F$6*((AG36-$F$7)/$F$8)^($F$5+1)))) -> 0 | AJ36: =(AI37-AI35)/2 -> 0 | AK36: =$F$9*AJ36 -> 0 | AL36: =AL35+AK36 -> 0 | AM36: -165 | AN36: ='1000'!B197/1000000 -> 0.00043347 | AO36: =IF(AM36<$G$7,0,MIN(1,1-EXP(-$G$6*((AM36-$G$7)/$G$8)^($G$5+1)))) -> 0 | AP36: =(AO37-AO35)/2 -> 0 | AQ36: =$G$9*AP36 -> 0 | AR36: =AR35+AQ36 -> 0 | AT36: -165 | AU36: ='6500'!B197/1000000 -> 0.00043347 | AV36: ='6500'!C197 -> 1.123 | AW36: =IF(AT36<$B$13,0,IF(AT36<=0,$B$15*($B$16/AU36)^$B$3/100000,$B$15*($B$16/('6500'!B362/1000000))^$B$3*(('6500'!B362/1000000)/AU36)^$B$4/100000)) -> 0 | AX36: =AW36+IF(AT36<$B$7,0,($B$10-1)*N36/(AU36*100000)) -> 0 | AY36: =AX36-AV36 -> -1.123 | AZ36: =IF(AV36=0,0,AY36/AV36*100) -> -100 | BA36: -165 | BB36: ='5500'!B197/1000000 -> 0.00043347 | BC36: ='5500'!C197 -> 1.296 | BD36: =IF(BA36<$C$13,0,IF(BA36<=0,$C$15*($C$16/BB36)^$C$3/100000,$C$15*($C$16/('5500'!B362/1000000))^$C$3*(('5500'!B362/1000000)/BB36)^$C$4/100000)) -> 0 | BE36: =BD36+IF(BA36<$C$7,0,($C$10-1)*T36/(BB36*100000)) -> 0 | BF36: =BE36-BC36 -> -1.296 | BG36: =IF(BC36=0,0,BF36/BC36*100) -> -100 | BH36: -165 | BI36: ='4500'!B197/1000000 -> 0.00043347 | BJ36: ='4500'!C197 -> 1.224 | BK36: =IF(BH36<$D$13,0,IF(BH36<=0,$D$15*($D$16/BI36)^$D$3/100000,$D$15*($D$16/('4500'!B362/1000000))^$D$3*(('4500'!B362/1000000)/BI36)^$D$4/100000)) -> 0 | BL36: =BK36+IF(BH36<$D$7,0,($D$10-1)*Z36/(BI36*100000)) -> 0 | BM36: =BL36-BJ36 -> -1.224 | BN36: =IF(BJ36=0,0,BM36/BJ36*100) -> -100 | BO36: -165 | BP36: ='3500'!B197/1000000 -> 0.00043347 | BQ36: ='3500'!C197 -> 1.077 | BR36: =IF(BO36<$E$13,0,IF(BO36<=0,$E$15*($E$16/BP36)^$E$3/100000,$E$15*($E$16/('3500'!B362/1000000))^$E$3*(('3500'!B362/1000000)/BP36)^$E$4/100000)) -> 0 | BS36: =BR36+IF(BO36<$E$7,0,($E$10-1)*AF36/(BP36*100000)) -> 0 | BT36: =BS36-BQ36 -> -1.077 | BU36: =IF(BQ36=0,0,BT36/BQ36*100) -> -100 | BV36: -165 | BW36: ='2000'!B197/1000000 -> 0.00043347 | BX36: ='2000'!C197 -> 1.166 | BY36: =IF(BV36<$F$13,0,IF(BV36<=0,$F$15*($F$16/BW36)^$F$3/100000,$F$15*($F$16/('2000'!B362/1000000))^$F$3*(('2000'!B362/1000000)/BW36)^$F$4/100000)) -> 0 | BZ36: =BY36+IF(BV36<$F$7,0,($F$10-1)*AL36/(BW36*100000)) -> 0 | CA36: =BZ36-BX36 -> -1.166 | CB36: =IF(BX36=0,0,CA36/BX36*100) -> -100 | CC36: -165 | CD36: ='1000'!B197/1000000 -> 0.00043347 | CE36: ='1000'!C197 -> 1.081 | CF36: =IF(CC36<$G$13,0,IF(CC36<=0,$G$15*($G$16/CD36)^$G$3/100000,$G$15*($G$16/('1000'!B362/1000000))^$G$3*(('1000'!B362/1000000)/CD36)^$G$4/100000)) -> 0 | CG36: =CF36+IF(CC36<$G$7,0,($G$10-1)*AR36/(CD36*100000)) -> 0 | CH36: =CG36-CE36 -> -1.081 | CI36: =IF(CE36=0,0,CH36/CE36*100) -> -100
I37: -164 | J37: ='6500'!B198/1000000 -> 0.0004328 | K37: =IF(I37<$B$7,0,MIN(1,1-EXP(-$B$6*((I37-$B$7)/$B$8)^($B$5+1)))) -> 0 | L37: =(K38-K36)/2 -> 0 | M37: =$B$9*L37 -> 0 | N37: =N36+M37 -> 0 | O37: -164 | P37: ='5500'!B198/1000000 -> 0.0004328 | Q37: =IF(O37<$C$7,0,MIN(1,1-EXP(-$C$6*((O37-$C$7)/$C$8)^($C$5+1)))) -> 0 | R37: =(Q38-Q36)/2 -> 0 | S37: =$C$9*R37 -> 0 | T37: =T36+S37 -> 0 | U37: -164 | V37: ='4500'!B198/1000000 -> 0.0004328 | W37: =IF(U37<$D$7,0,MIN(1,1-EXP(-$D$6*((U37-$D$7)/$D$8)^($D$5+1)))) -> 0 | X37: =(W38-W36)/2 -> 0 | Y37: =$D$9*X37 -> 0 | Z37: =Z36+Y37 -> 0 | AA37: -164 | AB37: ='3500'!B198/1000000 -> 0.0004328 | AC37: =IF(AA37<$E$7,0,MIN(1,1-EXP(-$E$6*((AA37-$E$7)/$E$8)^($E$5+1)))) -> 0 | AD37: =(AC38-AC36)/2 -> 0 | AE37: =$E$9*AD37 -> 0 | AF37: =AF36+AE37 -> 0 | AG37: -164 | AH37: ='2000'!B198/1000000 -> 0.0004328 | AI37: =IF(AG37<$F$7,0,MIN(1,1-EXP(-$F$6*((AG37-$F$7)/$F$8)^($F$5+1)))) -> 0 | AJ37: =(AI38-AI36)/2 -> 0 | AK37: =$F$9*AJ37 -> 0 | AL37: =AL36+AK37 -> 0 | AM37: -164 | AN37: ='1000'!B198/1000000 -> 0.0004328 | AO37: =IF(AM37<$G$7,0,MIN(1,1-EXP(-$G$6*((AM37-$G$7)/$G$8)^($G$5+1)))) -> 0 | AP37: =(AO38-AO36)/2 -> 0 | AQ37: =$G$9*AP37 -> 0 | AR37: =AR36+AQ37 -> 0 | AT37: -164 | AU37: ='6500'!B198/1000000 -> 0.0004328 | AV37: ='6500'!C198 -> 1.1 | AW37: =IF(AT37<$B$13,0,IF(AT37<=0,$B$15*($B$16/AU37)^$B$3/100000,$B$15*($B$16/('6500'!B362/1000000))^$B$3*(('6500'!B362/1000000)/AU37)^$B$4/100000)) -> 0 | AX37: =AW37+IF(AT37<$B$7,0,($B$10-1)*N37/(AU37*100000)) -> 0 | AY37: =AX37-AV37 -> -1.1 | AZ37: =IF(AV37=0,0,AY37/AV37*100) -> -100 | BA37: -164 | BB37: ='5500'!B198/1000000 -> 0.0004328 | BC37: ='5500'!C198 -> 1.301 | BD37: =IF(BA37<$C$13,0,IF(BA37<=0,$C$15*($C$16/BB37)^$C$3/100000,$C$15*($C$16/('5500'!B362/1000000))^$C$3*(('5500'!B362/1000000)/BB37)^$C$4/100000)) -> 0 | BE37: =BD37+IF(BA37<$C$7,0,($C$10-1)*T37/(BB37*100000)) -> 0 | BF37: =BE37-BC37 -> -1.301 | BG37: =IF(BC37=0,0,BF37/BC37*100) -> -100 | BH37: -164 | BI37: ='4500'!B198/1000000 -> 0.0004328 | BJ37: ='4500'!C198 -> 1.222 | BK37: =IF(BH37<$D$13,0,IF(BH37<=0,$D$15*($D$16/BI37)^$D$3/100000,$D$15*($D$16/('4500'!B362/1000000))^$D$3*(('4500'!B362/1000000)/BI37)^$D$4/100000)) -> 0 | BL37: =BK37+IF(BH37<$D$7,0,($D$10-1)*Z37/(BI37*100000)) -> 0 | BM37: =BL37-BJ37 -> -1.222 | BN37: =IF(BJ37=0,0,BM37/BJ37*100) -> -100 | BO37: -164 | BP37: ='3500'!B198/1000000 -> 0.0004328 | BQ37: ='3500'!C198 -> 1.085 | BR37: =IF(BO37<$E$13,0,IF(BO37<=0,$E$15*($E$16/BP37)^$E$3/100000,$E$15*($E$16/('3500'!B362/1000000))^$E$3*(('3500'!B362/1000000)/BP37)^$E$4/100000)) -> 0 | BS37: =BR37+IF(BO37<$E$7,0,($E$10-1)*AF37/(BP37*100000)) -> 0 | BT37: =BS37-BQ37 -> -1.085 | BU37: =IF(BQ37=0,0,BT37/BQ37*100) -> -100 | BV37: -164 | BW37: ='2000'!B198/1000000 -> 0.0004328 | BX37: ='2000'!C198 -> 1.171 | BY37: =IF(BV37<$F$13,0,IF(BV37<=0,$F$15*($F$16/BW37)^$F$3/100000,$F$15*($F$16/('2000'!B362/1000000))^$F$3*(('2000'!B362/1000000)/BW37)^$F$4/100000)) -> 0 | BZ37: =BY37+IF(BV37<$F$7,0,($F$10-1)*AL37/(BW37*100000)) -> 0 | CA37: =BZ37-BX37 -> -1.171 | CB37: =IF(BX37=0,0,CA37/BX37*100) -> -100 | CC37: -164 | CD37: ='1000'!B198/1000000 -> 0.0004328 | CE37: ='1000'!C198 -> 1.081 | CF37: =IF(CC37<$G$13,0,IF(CC37<=0,$G$15*($G$16/CD37)^$G$3/100000,$G$15*($G$16/('1000'!B362/1000000))^$G$3*(('1000'!B362/1000000)/CD37)^$G$4/100000)) -> 0 | CG37: =CF37+IF(CC37<$G$7,0,($G$10-1)*AR37/(CD37*100000)) -> 0 | CH37: =CG37-CE37 -> -1.081 | CI37: =IF(CE37=0,0,CH37/CE37*100) -> -100
I38: -163 | J38: ='6500'!B199/1000000 -> 0.0004321 | K38: =IF(I38<$B$7,0,MIN(1,1-EXP(-$B$6*((I38-$B$7)/$B$8)^($B$5+1)))) -> 0 | L38: =(K39-K37)/2 -> 0 | M38: =$B$9*L38 -> 0 | N38: =N37+M38 -> 0 | O38: -163 | P38: ='5500'!B199/1000000 -> 0.0004321 | Q38: =IF(O38<$C$7,0,MIN(1,1-EXP(-$C$6*((O38-$C$7)/$C$8)^($C$5+1)))) -> 0 | R38: =(Q39-Q37)/2 -> 0 | S38: =$C$9*R38 -> 0 | T38: =T37+S38 -> 0 | U38: -163 | V38: ='4500'!B199/1000000 -> 0.0004321 | W38: =IF(U38<$D$7,0,MIN(1,1-EXP(-$D$6*((U38-$D$7)/$D$8)^($D$5+1)))) -> 0 | X38: =(W39-W37)/2 -> 0 | Y38: =$D$9*X38 -> 0 | Z38: =Z37+Y38 -> 0 | AA38: -163 | AB38: ='3500'!B199/1000000 -> 0.0004321 | AC38: =IF(AA38<$E$7,0,MIN(1,1-EXP(-$E$6*((AA38-$E$7)/$E$8)^($E$5+1)))) -> 0 | AD38: =(AC39-AC37)/2 -> 0 | AE38: =$E$9*AD38 -> 0 | AF38: =AF37+AE38 -> 0 | AG38: -163 | AH38: ='2000'!B199/1000000 -> 0.0004321 | AI38: =IF(AG38<$F$7,0,MIN(1,1-EXP(-$F$6*((AG38-$F$7)/$F$8)^($F$5+1)))) -> 0 | AJ38: =(AI39-AI37)/2 -> 0 | AK38: =$F$9*AJ38 -> 0 | AL38: =AL37+AK38 -> 0 | AM38: -163 | AN38: ='1000'!B199/1000000 -> 0.0004321 | AO38: =IF(AM38<$G$7,0,MIN(1,1-EXP(-$G$6*((AM38-$G$7)/$G$8)^($G$5+1)))) -> 0 | AP38: =(AO39-AO37)/2 -> 0 | AQ38: =$G$9*AP38 -> 0 | AR38: =AR37+AQ38 -> 0 | AT38: -163 | AU38: ='6500'!B199/1000000 -> 0.0004321 | AV38: ='6500'!C199 -> 1.1 | AW38: =IF(AT38<$B$13,0,IF(AT38<=0,$B$15*($B$16/AU38)^$B$3/100000,$B$15*($B$16/('6500'!B362/1000000))^$B$3*(('6500'!B362/1000000)/AU38)^$B$4/100000)) -> 0 | AX38: =AW38+IF(AT38<$B$7,0,($B$10-1)*N38/(AU38*100000)) -> 0 | AY38: =AX38-AV38 -> -1.1 | AZ38: =IF(AV38=0,0,AY38/AV38*100) -> -100 | BA38: -163 | BB38: ='5500'!B199/1000000 -> 0.0004321 | BC38: ='5500'!C199 -> 1.303 | BD38: =IF(BA38<$C$13,0,IF(BA38<=0,$C$15*($C$16/BB38)^$C$3/100000,$C$15*($C$16/('5500'!B362/1000000))^$C$3*(('5500'!B362/1000000)/BB38)^$C$4/100000)) -> 0 | BE38: =BD38+IF(BA38<$C$7,0,($C$10-1)*T38/(BB38*100000)) -> 0 | BF38: =BE38-BC38 -> -1.303 | BG38: =IF(BC38=0,0,BF38/BC38*100) -> -100 | BH38: -163 | BI38: ='4500'!B199/1000000 -> 0.0004321 | BJ38: ='4500'!C199 -> 1.229 | BK38: =IF(BH38<$D$13,0,IF(BH38<=0,$D$15*($D$16/BI38)^$D$3/100000,$D$15*($D$16/('4500'!B362/1000000))^$D$3*(('4500'!B362/1000000)/BI38)^$D$4/100000)) -> 0 | BL38: =BK38+IF(BH38<$D$7,0,($D$10-1)*Z38/(BI38*100000)) -> 0 | BM38: =BL38-BJ38 -> -1.229 | BN38: =IF(BJ38=0,0,BM38/BJ38*100) -> -100 | BO38: -163 | BP38: ='3500'!B199/1000000 -> 0.0004321 | BQ38: ='3500'!C199 -> 1.094 | BR38: =IF(BO38<$E$13,0,IF(BO38<=0,$E$15*($E$16/BP38)^$E$3/100000,$E$15*($E$16/('3500'!B362/1000000))^$E$3*(('3500'!B362/1000000)/BP38)^$E$4/100000)) -> 0 | BS38: =BR38+IF(BO38<$E$7,0,($E$10-1)*AF38/(BP38*100000)) -> 0 | BT38: =BS38-BQ38 -> -1.094 | BU38: =IF(BQ38=0,0,BT38/BQ38*100) -> -100 | BV38: -163 | BW38: ='2000'!B199/1000000 -> 0.0004321 | BX38: ='2000'!C199 -> 1.171 | BY38: =IF(BV38<$F$13,0,IF(BV38<=0,$F$15*($F$16/BW38)^$F$3/100000,$F$15*($F$16/('2000'!B362/1000000))^$F$3*(('2000'!B362/1000000)/BW38)^$F$4/100000)) -> 0 | BZ38: =BY38+IF(BV38<$F$7,0,($F$10-1)*AL38/(BW38*100000)) -> 0 | CA38: =BZ38-BX38 -> -1.171 | CB38: =IF(BX38=0,0,CA38/BX38*100) -> -100 | CC38: -163 | CD38: ='1000'!B199/1000000 -> 0.0004321 | CE38: ='1000'!C199 -> 1.081 | CF38: =IF(CC38<$G$13,0,IF(CC38<=0,$G$15*($G$16/CD38)^$G$3/100000,$G$15*($G$16/('1000'!B362/1000000))^$G$3*(('1000'!B362/1000000)/CD38)^$G$4/100000)) -> 0 | CG38: =CF38+IF(CC38<$G$7,0,($G$10-1)*AR38/(CD38*100000)) -> 0 | CH38: =CG38-CE38 -> -1.081 | CI38: =IF(CE38=0,0,CH38/CE38*100) -> -100
I39: -162 | J39: ='6500'!B200/1000000 -> 0.00043135 | K39: =IF(I39<$B$7,0,MIN(1,1-EXP(-$B$6*((I39-$B$7)/$B$8)^($B$5+1)))) -> 0 | L39: =(K40-K38)/2 -> 0 | M39: =$B$9*L39 -> 0 | N39: =N38+M39 -> 0 | O39: -162 | P39: ='5500'!B200/1000000 -> 0.00043135 | Q39: =IF(O39<$C$7,0,MIN(1,1-EXP(-$C$6*((O39-$C$7)/$C$8)^($C$5+1)))) -> 0 | R39: =(Q40-Q38)/2 -> 0 | S39: =$C$9*R39 -> 0 | T39: =T38+S39 -> 0 | U39: -162 | V39: ='4500'!B200/1000000 -> 0.00043135 | W39: =IF(U39<$D$7,0,MIN(1,1-EXP(-$D$6*((U39-$D$7)/$D$8)^($D$5+1)))) -> 0 | X39: =(W40-W38)/2 -> 0 | Y39: =$D$9*X39 -> 0 | Z39: =Z38+Y39 -> 0 | AA39: -162 | AB39: ='3500'!B200/1000000 -> 0.00043135 | AC39: =IF(AA39<$E$7,0,MIN(1,1-EXP(-$E$6*((AA39-$E$7)/$E$8)^($E$5+1)))) -> 0 | AD39: =(AC40-AC38)/2 -> 0 | AE39: =$E$9*AD39 -> 0 | AF39: =AF38+AE39 -> 0 | AG39: -162 | AH39: ='2000'!B200/1000000 -> 0.00043135 | AI39: =IF(AG39<$F$7,0,MIN(1,1-EXP(-$F$6*((AG39-$F$7)/$F$8)^($F$5+1)))) -> 0 | AJ39: =(AI40-AI38)/2 -> 0 | AK39: =$F$9*AJ39 -> 0 | AL39: =AL38+AK39 -> 0 | AM39: -162 | AN39: ='1000'!B200/1000000 -> 0.00043135 | AO39: =IF(AM39<$G$7,0,MIN(1,1-EXP(-$G$6*((AM39-$G$7)/$G$8)^($G$5+1)))) -> 0 | AP39: =(AO40-AO38)/2 -> 0 | AQ39: =$G$9*AP39 -> 0 | AR39: =AR38+AQ39 -> 0 | AT39: -162 | AU39: ='6500'!B200/1000000 -> 0.00043135 | AV39: ='6500'!C200 -> 1.117 | AW39: =IF(AT39<$B$13,0,IF(AT39<=0,$B$15*($B$16/AU39)^$B$3/100000,$B$15*($B$16/('6500'!B362/1000000))^$B$3*(('6500'!B362/1000000)/AU39)^$B$4/100000)) -> 0 | AX39: =AW39+IF(AT39<$B$7,0,($B$10-1)*N39/(AU39*100000)) -> 0 | AY39: =AX39-AV39 -> -1.117 | AZ39: =IF(AV39=0,0,AY39/AV39*100) -> -100 | BA39: -162 | BB39: ='5500'!B200/1000000 -> 0.00043135 | BC39: ='5500'!C200 -> 1.3 | BD39: =IF(BA39<$C$13,0,IF(BA39<=0,$C$15*($C$16/BB39)^$C$3/100000,$C$15*($C$16/('5500'!B362/1000000))^$C$3*(('5500'!B362/1000000)/BB39)^$C$4/100000)) -> 0 | BE39: =BD39+IF(BA39<$C$7,0,($C$10-1)*T39/(BB39*100000)) -> 0 | BF39: =BE39-BC39 -> -1.3 | BG39: =IF(BC39=0,0,BF39/BC39*100) -> -100 | BH39: -162 | BI39: ='4500'!B200/1000000 -> 0.00043135 | BJ39: ='4500'!C200 -> 1.242 | BK39: =IF(BH39<$D$13,0,IF(BH39<=0,$D$15*($D$16/BI39)^$D$3/100000,$D$15*($D$16/('4500'!B362/1000000))^$D$3*(('4500'!B362/1000000)/BI39)^$D$4/100000)) -> 0 | BL39: =BK39+IF(BH39<$D$7,0,($D$10-1)*Z39/(BI39*100000)) -> 0 | BM39: =BL39-BJ39 -> -1.242 | BN39: =IF(BJ39=0,0,BM39/BJ39*100) -> -100 | BO39: -162 | BP39: ='3500'!B200/1000000 -> 0.00043135 | BQ39: ='3500'!C200 -> 1.1 | BR39: =IF(BO39<$E$13,0,IF(BO39<=0,$E$15*($E$16/BP39)^$E$3/100000,$E$15*($E$16/('3500'!B362/1000000))^$E$3*(('3500'!B362/1000000)/BP39)^$E$4/100000)) -> 0 | BS39: =BR39+IF(BO39<$E$7,0,($E$10-1)*AF39/(BP39*100000)) -> 0 | BT39: =BS39-BQ39 -> -1.1 | BU39: =IF(BQ39=0,0,BT39/BQ39*100) -> -100 | BV39: -162 | BW39: ='2000'!B200/1000000 -> 0.00043135 | BX39: ='2000'!C200 -> 1.173 | BY39: =IF(BV39<$F$13,0,IF(BV39<=0,$F$15*($F$16/BW39)^$F$3/100000,$F$15*($F$16/('2000'!B362/1000000))^$F$3*(('2000'!B362/1000000)/BW39)^$F$4/100000)) -> 0 | BZ39: =BY39+IF(BV39<$F$7,0,($F$10-1)*AL39/(BW39*100000)) -> 0 | CA39: =BZ39-BX39 -> -1.173 | CB39: =IF(BX39=0,0,CA39/BX39*100) -> -100 | CC39: -162 | CD39: ='1000'!B200/1000000 -> 0.00043135 | CE39: ='1000'!C200 -> 1.08 | CF39: =IF(CC39<$G$13,0,IF(CC39<=0,$G$15*($G$16/CD39)^$G$3/100000,$G$15*($G$16/('1000'!B362/1000000))^$G$3*(('1000'!B362/1000000)/CD39)^$G$4/100000)) -> 0 | CG39: =CF39+IF(CC39<$G$7,0,($G$10-1)*AR39/(CD39*100000)) -> 0 | CH39: =CG39-CE39 -> -1.08 | CI39: =IF(CE39=0,0,CH39/CE39*100) -> -100
I40: -161 | J40: ='6500'!B201/1000000 -> 0.00043055 | K40: =IF(I40<$B$7,0,MIN(1,1-EXP(-$B$6*((I40-$B$7)/$B$8)^($B$5+1)))) -> 0 | L40: =(K41-K39)/2 -> 0 | M40: =$B$9*L40 -> 0 | N40: =N39+M40 -> 0 | O40: -161 | P40: ='5500'!B201/1000000 -> 0.00043055 | Q40: =IF(O40<$C$7,0,MIN(1,1-EXP(-$C$6*((O40-$C$7)/$C$8)^($C$5+1)))) -> 0 | R40: =(Q41-Q39)/2 -> 0 | S40: =$C$9*R40 -> 0 | T40: =T39+S40 -> 0 | U40: -161 | V40: ='4500'!B201/1000000 -> 0.00043055 | W40: =IF(U40<$D$7,0,MIN(1,1-EXP(-$D$6*((U40-$D$7)/$D$8)^($D$5+1)))) -> 0 | X40: =(W41-W39)/2 -> 0 | Y40: =$D$9*X40 -> 0 | Z40: =Z39+Y40 -> 0 | AA40: -161 | AB40: ='3500'!B201/1000000 -> 0.00043055 | AC40: =IF(AA40<$E$7,0,MIN(1,1-EXP(-$E$6*((AA40-$E$7)/$E$8)^($E$5+1)))) -> 0 | AD40: =(AC41-AC39)/2 -> 0 | AE40: =$E$9*AD40 -> 0 | AF40: =AF39+AE40 -> 0 | AG40: -161 | AH40: ='2000'!B201/1000000 -> 0.00043055 | AI40: =IF(AG40<$F$7,0,MIN(1,1-EXP(-$F$6*((AG40-$F$7)/$F$8)^($F$5+1)))) -> 0 | AJ40: =(AI41-AI39)/2 -> 0 | AK40: =$F$9*AJ40 -> 0 | AL40: =AL39+AK40 -> 0 | AM40: -161 | AN40: ='1000'!B201/1000000 -> 0.00043055 | AO40: =IF(AM40<$G$7,0,MIN(1,1-EXP(-$G$6*((AM40-$G$7)/$G$8)^($G$5+1)))) -> 0 | AP40: =(AO41-AO39)/2 -> 0 | AQ40: =$G$9*AP40 -> 0 | AR40: =AR39+AQ40 -> 0 | AT40: -161 | AU40: ='6500'!B201/1000000 -> 0.00043055 | AV40: ='6500'!C201 -> 1.137 | AW40: =IF(AT40<$B$13,0,IF(AT40<=0,$B$15*($B$16/AU40)^$B$3/100000,$B$15*($B$16/('6500'!B362/1000000))^$B$3*(('6500'!B362/1000000)/AU40)^$B$4/100000)) -> 0 | AX40: =AW40+IF(AT40<$B$7,0,($B$10-1)*N40/(AU40*100000)) -> 0 | AY40: =AX40-AV40 -> -1.137 | AZ40: =IF(AV40=0,0,AY40/AV40*100) -> -100 | BA40: -161 | BB40: ='5500'!B201/1000000 -> 0.00043055 | BC40: ='5500'!C201 -> 1.299 | BD40: =IF(BA40<$C$13,0,IF(BA40<=0,$C$15*($C$16/BB40)^$C$3/100000,$C$15*($C$16/('5500'!B362/1000000))^$C$3*(('5500'!B362/1000000)/BB40)^$C$4/100000)) -> 0 | BE40: =BD40+IF(BA40<$C$7,0,($C$10-1)*T40/(BB40*100000)) -> 0 | BF40: =BE40-BC40 -> -1.299 | BG40: =IF(BC40=0,0,BF40/BC40*100) -> -100 | BH40: -161 | BI40: ='4500'!B201/1000000 -> 0.00043055 | BJ40: ='4500'!C201 -> 1.257 | BK40: =IF(BH40<$D$13,0,IF(BH40<=0,$D$15*($D$16/BI40)^$D$3/100000,$D$15*($D$16/('4500'!B362/1000000))^$D$3*(('4500'!B362/1000000)/BI40)^$D$4/100000)) -> 0 | BL40: =BK40+IF(BH40<$D$7,0,($D$10-1)*Z40/(BI40*100000)) -> 0 | BM40: =BL40-BJ40 -> -1.257 | BN40: =IF(BJ40=0,0,BM40/BJ40*100) -> -100 | BO40: -161 | BP40: ='3500'!B201/1000000 -> 0.00043055 | BQ40: ='3500'!C201 -> 1.111 | BR40: =IF(BO40<$E$13,0,IF(BO40<=0,$E$15*($E$16/BP40)^$E$3/100000,$E$15*($E$16/('3500'!B362/1000000))^$E$3*(('3500'!B362/1000000)/BP40)^$E$4/100000)) -> 0 | BS40: =BR40+IF(BO40<$E$7,0,($E$10-1)*AF40/(BP40*100000)) -> 0 | BT40: =BS40-BQ40 -> -1.111 | BU40: =IF(BQ40=0,0,BT40/BQ40*100) -> -100 | BV40: -161 | BW40: ='2000'!B201/1000000 -> 0.00043055 | BX40: ='2000'!C201 -> 1.174 | BY40: =IF(BV40<$F$13,0,IF(BV40<=0,$F$15*($F$16/BW40)^$F$3/100000,$F$15*($F$16/('2000'!B362/1000000))^$F$3*(('2000'!B362/1000000)/BW40)^$F$4/100000)) -> 0 | BZ40: =BY40+IF(BV40<$F$7,0,($F$10-1)*AL40/(BW40*100000)) -> 0 | CA40: =BZ40-BX40 -> -1.174 | CB40: =IF(BX40=0,0,CA40/BX40*100) -> -100 | CC40: -161 | CD40: ='1000'!B201/1000000 -> 0.00043055 | CE40: ='1000'!C201 -> 1.078 | CF40: =IF(CC40<$G$13,0,IF(CC40<=0,$G$15*($G$16/CD40)^$G$3/100000,$G$15*($G$16/('1000'!B362/1000000))^$G$3*(('1000'!B362/1000000)/CD40)^$G$4/100000)) -> 0 | CG40: =CF40+IF(CC40<$G$7,0,($G$10-1)*AR40/(CD40*100000)) -> 0 | CH40: =CG40-CE40 -> -1.078 | CI40: =IF(CE40=0,0,CH40/CE40*100) -> -100
I41: -160 | J41: ='6500'!B202/1000000 -> 0.00042972 | K41: =IF(I41<$B$7,0,MIN(1,1-EXP(-$B$6*((I41-$B$7)/$B$8)^($B$5+1)))) -> 0 | L41: =(K42-K40)/2 -> 0 | M41: =$B$9*L41 -> 0 | N41: =N40+M41 -> 0 | O41: -160 | P41: ='5500'!B202/1000000 -> 0.00042972 | Q41: =IF(O41<$C$7,0,MIN(1,1-EXP(-$C$6*((O41-$C$7)/$C$8)^($C$5+1)))) -> 0 | R41: =(Q42-Q40)/2 -> 0 | S41: =$C$9*R41 -> 0 | T41: =T40+S41 -> 0 | U41: -160 | V41: ='4500'!B202/1000000 -> 0.00042972 | W41: =IF(U41<$D$7,0,MIN(1,1-EXP(-$D$6*((U41-$D$7)/$D$8)^($D$5+1)))) -> 0 | X41: =(W42-W40)/2 -> 0 | Y41: =$D$9*X41 -> 0 | Z41: =Z40+Y41 -> 0 | AA41: -160 | AB41: ='3500'!B202/1000000 -> 0.00042972 | AC41: =IF(AA41<$E$7,0,MIN(1,1-EXP(-$E$6*((AA41-$E$7)/$E$8)^($E$5+1)))) -> 0 | AD41: =(AC42-AC40)/2 -> 0 | AE41: =$E$9*AD41 -> 0 | AF41: =AF40+AE41 -> 0 | AG41: -160 | AH41: ='2000'!B202/1000000 -> 0.00042972 | AI41: =IF(AG41<$F$7,0,MIN(1,1-EXP(-$F$6*((AG41-$F$7)/$F$8)^($F$5+1)))) -> 0 | AJ41: =(AI42-AI40)/2 -> 0 | AK41: =$F$9*AJ41 -> 0 | AL41: =AL40+AK41 -> 0 | AM41: -160 | AN41: ='1000'!B202/1000000 -> 0.00042972 | AO41: =IF(AM41<$G$7,0,MIN(1,1-EXP(-$G$6*((AM41-$G$7)/$G$8)^($G$5+1)))) -> 0 | AP41: =(AO42-AO40)/2 -> 0 | AQ41: =$G$9*AP41 -> 0 | AR41: =AR40+AQ41 -> 0 | AT41: -160 | AU41: ='6500'!B202/1000000 -> 0.00042972 | AV41: ='6500'!C202 -> 1.161 | AW41: =IF(AT41<$B$13,0,IF(AT41<=0,$B$15*($B$16/AU41)^$B$3/100000,$B$15*($B$16/('6500'!B362/1000000))^$B$3*(('6500'!B362/1000000)/AU41)^$B$4/100000)) -> 0 | AX41: =AW41+IF(AT41<$B$7,0,($B$10-1)*N41/(AU41*100000)) -> 0 | AY41: =AX41-AV41 -> -1.161 | AZ41: =IF(AV41=0,0,AY41/AV41*100) -> -100 | BA41: -160 | BB41: ='5500'!B202/1000000 -> 0.00042972 | BC41: ='5500'!C202 -> 1.3 | BD41: =IF(BA41<$C$13,0,IF(BA41<=0,$C$15*($C$16/BB41)^$C$3/100000,$C$15*($C$16/('5500'!B362/1000000))^$C$3*(('5500'!B362/1000000)/BB41)^$C$4/100000)) -> 0 | BE41: =BD41+IF(BA41<$C$7,0,($C$10-1)*T41/(BB41*100000)) -> 0 | BF41: =BE41-BC41 -> -1.3 | BG41: =IF(BC41=0,0,BF41/BC41*100) -> -100 | BH41: -160 | BI41: ='4500'!B202/1000000 -> 0.00042972 | BJ41: ='4500'!C202 -> 1.277 | BK41: =IF(BH41<$D$13,0,IF(BH41<=0,$D$15*($D$16/BI41)^$D$3/100000,$D$15*($D$16/('4500'!B362/1000000))^$D$3*(('4500'!B362/1000000)/BI41)^$D$4/100000)) -> 0 | BL41: =BK41+IF(BH41<$D$7,0,($D$10-1)*Z41/(BI41*100000)) -> 0 | BM41: =BL41-BJ41 -> -1.277 | BN41: =IF(BJ41=0,0,BM41/BJ41*100) -> -100 | BO41: -160 | BP41: ='3500'!B202/1000000 -> 0.00042972 | BQ41: ='3500'!C202 -> 1.122 | BR41: =IF(BO41<$E$13,0,IF(BO41<=0,$E$15*($E$16/BP41)^$E$3/100000,$E$15*($E$16/('3500'!B362/1000000))^$E$3*(('3500'!B362/1000000)/BP41)^$E$4/100000)) -> 0 | BS41: =BR41+IF(BO41<$E$7,0,($E$10-1)*AF41/(BP41*100000)) -> 0 | BT41: =BS41-BQ41 -> -1.122 | BU41: =IF(BQ41=0,0,BT41/BQ41*100) -> -100 | BV41: -160 | BW41: ='2000'!B202/1000000 -> 0.00042972 | BX41: ='2000'!C202 -> 1.18 | BY41: =IF(BV41<$F$13,0,IF(BV41<=0,$F$15*($F$16/BW41)^$F$3/100000,$F$15*($F$16/('2000'!B362/1000000))^$F$3*(('2000'!B362/1000000)/BW41)^$F$4/100000)) -> 0 | BZ41: =BY41+IF(BV41<$F$7,0,($F$10-1)*AL41/(BW41*100000)) -> 0 | CA41: =BZ41-BX41 -> -1.18 | CB41: =IF(BX41=0,0,CA41/BX41*100) -> -100 | CC41: -160 | CD41: ='1000'!B202/1000000 -> 0.00042972 | CE41: ='1000'!C202 -> 1.079 | CF41: =IF(CC41<$G$13,0,IF(CC41<=0,$G$15*($G$16/CD41)^$G$3/100000,$G$15*($G$16/('1000'!B362/1000000))^$G$3*(('1000'!B362/1000000)/CD41)^$G$4/100000)) -> 0 | CG41: =CF41+IF(CC41<$G$7,0,($G$10-1)*AR41/(CD41*100000)) -> 0 | CH41: =CG41-CE41 -> -1.079 | CI41: =IF(CE41=0,0,CH41/CE41*100) -> -100
I42: -159 | J42: ='6500'!B203/1000000 -> 0.00042884 | K42: =IF(I42<$B$7,0,MIN(1,1-EXP(-$B$6*((I42-$B$7)/$B$8)^($B$5+1)))) -> 0 | L42: =(K43-K41)/2 -> 0 | M42: =$B$9*L42 -> 0 | N42: =N41+M42 -> 0 | O42: -159 | P42: ='5500'!B203/1000000 -> 0.00042884 | Q42: =IF(O42<$C$7,0,MIN(1,1-EXP(-$C$6*((O42-$C$7)/$C$8)^($C$5+1)))) -> 0 | R42: =(Q43-Q41)/2 -> 0 | S42: =$C$9*R42 -> 0 | T42: =T41+S42 -> 0 | U42: -159 | V42: ='4500'!B203/1000000 -> 0.00042884 | W42: =IF(U42<$D$7,0,MIN(1,1-EXP(-$D$6*((U42-$D$7)/$D$8)^($D$5+1)))) -> 0 | X42: =(W43-W41)/2 -> 0 | Y42: =$D$9*X42 -> 0 | Z42: =Z41+Y42 -> 0 | AA42: -159 | AB42: ='3500'!B203/1000000 -> 0.00042884 | AC42: =IF(AA42<$E$7,0,MIN(1,1-EXP(-$E$6*((AA42-$E$7)/$E$8)^($E$5+1)))) -> 0 | AD42: =(AC43-AC41)/2 -> 0 | AE42: =$E$9*AD42 -> 0 | AF42: =AF41+AE42 -> 0 | AG42: -159 | AH42: ='2000'!B203/1000000 -> 0.00042884 | AI42: =IF(AG42<$F$7,0,MIN(1,1-EXP(-$F$6*((AG42-$F$7)/$F$8)^($F$5+1)))) -> 0 | AJ42: =(AI43-AI41)/2 -> 0 | AK42: =$F$9*AJ42 -> 0 | AL42: =AL41+AK42 -> 0 | AM42: -159 | AN42: ='1000'!B203/1000000 -> 0.00042884 | AO42: =IF(AM42<$G$7,0,MIN(1,1-EXP(-$G$6*((AM42-$G$7)/$G$8)^($G$5+1)))) -> 0 | AP42: =(AO43-AO41)/2 -> 0 | AQ42: =$G$9*AP42 -> 0 | AR42: =AR41+AQ42 -> 0 | AT42: -159 | AU42: ='6500'!B203/1000000 -> 0.00042884 | AV42: ='6500'!C203 -> 1.187 | AW42: =IF(AT42<$B$13,0,IF(AT42<=0,$B$15*($B$16/AU42)^$B$3/100000,$B$15*($B$16/('6500'!B362/1000000))^$B$3*(('6500'!B362/1000000)/AU42)^$B$4/100000)) -> 0 | AX42: =AW42+IF(AT42<$B$7,0,($B$10-1)*N42/(AU42*100000)) -> 0 | AY42: =AX42-AV42 -> -1.187 | AZ42: =IF(AV42=0,0,AY42/AV42*100) -> -100 | BA42: -159 | BB42: ='5500'!B203/1000000 -> 0.00042884 | BC42: ='5500'!C203 -> 1.301 | BD42: =IF(BA42<$C$13,0,IF(BA42<=0,$C$15*($C$16/BB42)^$C$3/100000,$C$15*($C$16/('5500'!B362/1000000))^$C$3*(('5500'!B362/1000000)/BB42)^$C$4/100000)) -> 0 | BE42: =BD42+IF(BA42<$C$7,0,($C$10-1)*T42/(BB42*100000)) -> 0 | BF42: =BE42-BC42 -> -1.301 | BG42: =IF(BC42=0,0,BF42/BC42*100) -> -100 | BH42: -159 | BI42: ='4500'!B203/1000000 -> 0.00042884 | BJ42: ='4500'!C203 -> 1.304 | BK42: =IF(BH42<$D$13,0,IF(BH42<=0,$D$15*($D$16/BI42)^$D$3/100000,$D$15*($D$16/('4500'!B362/1000000))^$D$3*(('4500'!B362/1000000)/BI42)^$D$4/100000)) -> 0 | BL42: =BK42+IF(BH42<$D$7,0,($D$10-1)*Z42/(BI42*100000)) -> 0 | BM42: =BL42-BJ42 -> -1.304 | BN42: =IF(BJ42=0,0,BM42/BJ42*100) -> -100 | BO42: -159 | BP42: ='3500'!B203/1000000 -> 0.00042884 | BQ42: ='3500'!C203 -> 1.13 | BR42: =IF(BO42<$E$13,0,IF(BO42<=0,$E$15*($E$16/BP42)^$E$3/100000,$E$15*($E$16/('3500'!B362/1000000))^$E$3*(('3500'!B362/1000000)/BP42)^$E$4/100000)) -> 0 | BS42: =BR42+IF(BO42<$E$7,0,($E$10-1)*AF42/(BP42*100000)) -> 0 | BT42: =BS42-BQ42 -> -1.13 | BU42: =IF(BQ42=0,0,BT42/BQ42*100) -> -100 | BV42: -159 | BW42: ='2000'!B203/1000000 -> 0.00042884 | BX42: ='2000'!C203 -> 1.183 | BY42: =IF(BV42<$F$13,0,IF(BV42<=0,$F$15*($F$16/BW42)^$F$3/100000,$F$15*($F$16/('2000'!B362/1000000))^$F$3*(('2000'!B362/1000000)/BW42)^$F$4/100000)) -> 0 | BZ42: =BY42+IF(BV42<$F$7,0,($F$10-1)*AL42/(BW42*100000)) -> 0 | CA42: =BZ42-BX42 -> -1.183 | CB42: =IF(BX42=0,0,CA42/BX42*100) -> -100 | CC42: -159 | CD42: ='1000'!B203/1000000 -> 0.00042884 | CE42: ='1000'!C203 -> 1.075 | CF42: =IF(CC42<$G$13,0,IF(CC42<=0,$G$15*($G$16/CD42)^$G$3/100000,$G$15*($G$16/('1000'!B362/1000000))^$G$3*(('1000'!B362/1000000)/CD42)^$G$4/100000)) -> 0 | CG42: =CF42+IF(CC42<$G$7,0,($G$10-1)*AR42/(CD42*100000)) -> 0 | CH42: =CG42-CE42 -> -1.075 | CI42: =IF(CE42=0,0,CH42/CE42*100) -> -100
I43: -158 | J43: ='6500'!B204/1000000 -> 0.00042792 | K43: =IF(I43<$B$7,0,MIN(1,1-EXP(-$B$6*((I43-$B$7)/$B$8)^($B$5+1)))) -> 0 | L43: =(K44-K42)/2 -> 0 | M43: =$B$9*L43 -> 0 | N43: =N42+M43 -> 0 | O43: -158 | P43: ='5500'!B204/1000000 -> 0.00042792 | Q43: =IF(O43<$C$7,0,MIN(1,1-EXP(-$C$6*((O43-$C$7)/$C$8)^($C$5+1)))) -> 0 | R43: =(Q44-Q42)/2 -> 0 | S43: =$C$9*R43 -> 0 | T43: =T42+S43 -> 0 | U43: -158 | V43: ='4500'!B204/1000000 -> 0.00042792 | W43: =IF(U43<$D$7,0,MIN(1,1-EXP(-$D$6*((U43-$D$7)/$D$8)^($D$5+1)))) -> 0 | X43: =(W44-W42)/2 -> 0 | Y43: =$D$9*X43 -> 0 | Z43: =Z42+Y43 -> 0 | AA43: -158 | AB43: ='3500'!B204/1000000 -> 0.00042792 | AC43: =IF(AA43<$E$7,0,MIN(1,1-EXP(-$E$6*((AA43-$E$7)/$E$8)^($E$5+1)))) -> 0 | AD43: =(AC44-AC42)/2 -> 0 | AE43: =$E$9*AD43 -> 0 | AF43: =AF42+AE43 -> 0 | AG43: -158 | AH43: ='2000'!B204/1000000 -> 0.00042792 | AI43: =IF(AG43<$F$7,0,MIN(1,1-EXP(-$F$6*((AG43-$F$7)/$F$8)^($F$5+1)))) -> 0 | AJ43: =(AI44-AI42)/2 -> 0 | AK43: =$F$9*AJ43 -> 0 | AL43: =AL42+AK43 -> 0 | AM43: -158 | AN43: ='1000'!B204/1000000 -> 0.00042792 | AO43: =IF(AM43<$G$7,0,MIN(1,1-EXP(-$G$6*((AM43-$G$7)/$G$8)^($G$5+1)))) -> 0 | AP43: =(AO44-AO42)/2 -> 0 | AQ43: =$G$9*AP43 -> 0 | AR43: =AR42+AQ43 -> 0 | AT43: -158 | AU43: ='6500'!B204/1000000 -> 0.00042792 | AV43: ='6500'!C204 -> 1.218 | AW43: =IF(AT43<$B$13,0,IF(AT43<=0,$B$15*($B$16/AU43)^$B$3/100000,$B$15*($B$16/('6500'!B362/1000000))^$B$3*(('6500'!B362/1000000)/AU43)^$B$4/100000)) -> 0 | AX43: =AW43+IF(AT43<$B$7,0,($B$10-1)*N43/(AU43*100000)) -> 0 | AY43: =AX43-AV43 -> -1.218 | AZ43: =IF(AV43=0,0,AY43/AV43*100) -> -100 | BA43: -158 | BB43: ='5500'!B204/1000000 -> 0.00042792 | BC43: ='5500'!C204 -> 1.302 | BD43: =IF(BA43<$C$13,0,IF(BA43<=0,$C$15*($C$16/BB43)^$C$3/100000,$C$15*($C$16/('5500'!B362/1000000))^$C$3*(('5500'!B362/1000000)/BB43)^$C$4/100000)) -> 0 | BE43: =BD43+IF(BA43<$C$7,0,($C$10-1)*T43/(BB43*100000)) -> 0 | BF43: =BE43-BC43 -> -1.302 | BG43: =IF(BC43=0,0,BF43/BC43*100) -> -100 | BH43: -158 | BI43: ='4500'!B204/1000000 -> 0.00042792 | BJ43: ='4500'!C204 -> 1.33 | BK43: =IF(BH43<$D$13,0,IF(BH43<=0,$D$15*($D$16/BI43)^$D$3/100000,$D$15*($D$16/('4500'!B362/1000000))^$D$3*(('4500'!B362/1000000)/BI43)^$D$4/100000)) -> 0 | BL43: =BK43+IF(BH43<$D$7,0,($D$10-1)*Z43/(BI43*100000)) -> 0 | BM43: =BL43-BJ43 -> -1.33 | BN43: =IF(BJ43=0,0,BM43/BJ43*100) -> -100 | BO43: -158 | BP43: ='3500'!B204/1000000 -> 0.00042792 | BQ43: ='3500'!C204 -> 1.144 | BR43: =IF(BO43<$E$13,0,IF(BO43<=0,$E$15*($E$16/BP43)^$E$3/100000,$E$15*($E$16/('3500'!B362/1000000))^$E$3*(('3500'!B362/1000000)/BP43)^$E$4/100000)) -> 0 | BS43: =BR43+IF(BO43<$E$7,0,($E$10-1)*AF43/(BP43*100000)) -> 0 | BT43: =BS43-BQ43 -> -1.144 | BU43: =IF(BQ43=0,0,BT43/BQ43*100) -> -100 | BV43: -158 | BW43: ='2000'!B204/1000000 -> 0.00042792 | BX43: ='2000'!C204 -> 1.191 | BY43: =IF(BV43<$F$13,0,IF(BV43<=0,$F$15*($F$16/BW43)^$F$3/100000,$F$15*($F$16/('2000'!B362/1000000))^$F$3*(('2000'!B362/1000000)/BW43)^$F$4/100000)) -> 0 | BZ43: =BY43+IF(BV43<$F$7,0,($F$10-1)*AL43/(BW43*100000)) -> 0 | CA43: =BZ43-BX43 -> -1.191 | CB43: =IF(BX43=0,0,CA43/BX43*100) -> -100 | CC43: -158 | CD43: ='1000'!B204/1000000 -> 0.00042792 | CE43: ='1000'!C204 -> 1.07 | CF43: =IF(CC43<$G$13,0,IF(CC43<=0,$G$15*($G$16/CD43)^$G$3/100000,$G$15*($G$16/('1000'!B362/1000000))^$G$3*(('1000'!B362/1000000)/CD43)^$G$4/100000)) -> 0 | CG43: =CF43+IF(CC43<$G$7,0,($G$10-1)*AR43/(CD43*100000)) -> 0 | CH43: =CG43-CE43 -> -1.07 | CI43: =IF(CE43=0,0,CH43/CE43*100) -> -100
I44: -157 | J44: ='6500'!B205/1000000 -> 0.00042696 | K44: =IF(I44<$B$7,0,MIN(1,1-EXP(-$B$6*((I44-$B$7)/$B$8)^($B$5+1)))) -> 0 | L44: =(K45-K43)/2 -> 0 | M44: =$B$9*L44 -> 0 | N44: =N43+M44 -> 0 | O44: -157 | P44: ='5500'!B205/1000000 -> 0.00042696 | Q44: =IF(O44<$C$7,0,MIN(1,1-EXP(-$C$6*((O44-$C$7)/$C$8)^($C$5+1)))) -> 0 | R44: =(Q45-Q43)/2 -> 0 | S44: =$C$9*R44 -> 0 | T44: =T43+S44 -> 0 | U44: -157 | V44: ='4500'!B205/1000000 -> 0.00042696 | W44: =IF(U44<$D$7,0,MIN(1,1-EXP(-$D$6*((U44-$D$7)/$D$8)^($D$5+1)))) -> 0 | X44: =(W45-W43)/2 -> 0 | Y44: =$D$9*X44 -> 0 | Z44: =Z43+Y44 -> 0 | AA44: -157 | AB44: ='3500'!B205/1000000 -> 0.00042696 | AC44: =IF(AA44<$E$7,0,MIN(1,1-EXP(-$E$6*((AA44-$E$7)/$E$8)^($E$5+1)))) -> 0 | AD44: =(AC45-AC43)/2 -> 0 | AE44: =$E$9*AD44 -> 0 | AF44: =AF43+AE44 -> 0 | AG44: -157 | AH44: ='2000'!B205/1000000 -> 0.00042696 | AI44: =IF(AG44<$F$7,0,MIN(1,1-EXP(-$F$6*((AG44-$F$7)/$F$8)^($F$5+1)))) -> 0 | AJ44: =(AI45-AI43)/2 -> 0 | AK44: =$F$9*AJ44 -> 0 | AL44: =AL43+AK44 -> 0 | AM44: -157 | AN44: ='1000'!B205/1000000 -> 0.00042696 | AO44: =IF(AM44<$G$7,0,MIN(1,1-EXP(-$G$6*((AM44-$G$7)/$G$8)^($G$5+1)))) -> 0 | AP44: =(AO45-AO43)/2 -> 0 | AQ44: =$G$9*AP44 -> 0 | AR44: =AR43+AQ44 -> 0 | AT44: -157 | AU44: ='6500'!B205/1000000 -> 0.00042696 | AV44: ='6500'!C205 -> 1.243 | AW44: =IF(AT44<$B$13,0,IF(AT44<=0,$B$15*($B$16/AU44)^$B$3/100000,$B$15*($B$16/('6500'!B362/1000000))^$B$3*(('6500'!B362/1000000)/AU44)^$B$4/100000)) -> 0 | AX44: =AW44+IF(AT44<$B$7,0,($B$10-1)*N44/(AU44*100000)) -> 0 | AY44: =AX44-AV44 -> -1.243 | AZ44: =IF(AV44=0,0,AY44/AV44*100) -> -100 | BA44: -157 | BB44: ='5500'!B205/1000000 -> 0.00042696 | BC44: ='5500'!C205 -> 1.301 | BD44: =IF(BA44<$C$13,0,IF(BA44<=0,$C$15*($C$16/BB44)^$C$3/100000,$C$15*($C$16/('5500'!B362/1000000))^$C$3*(('5500'!B362/1000000)/BB44)^$C$4/100000)) -> 0 | BE44: =BD44+IF(BA44<$C$7,0,($C$10-1)*T44/(BB44*100000)) -> 0 | BF44: =BE44-BC44 -> -1.301 | BG44: =IF(BC44=0,0,BF44/BC44*100) -> -100 | BH44: -157 | BI44: ='4500'!B205/1000000 -> 0.00042696 | BJ44: ='4500'!C205 -> 1.354 | BK44: =IF(BH44<$D$13,0,IF(BH44<=0,$D$15*($D$16/BI44)^$D$3/100000,$D$15*($D$16/('4500'!B362/1000000))^$D$3*(('4500'!B362/1000000)/BI44)^$D$4/100000)) -> 0 | BL44: =BK44+IF(BH44<$D$7,0,($D$10-1)*Z44/(BI44*100000)) -> 0 | BM44: =BL44-BJ44 -> -1.354 | BN44: =IF(BJ44=0,0,BM44/BJ44*100) -> -100 | BO44: -157 | BP44: ='3500'!B205/1000000 -> 0.00042696 | BQ44: ='3500'!C205 -> 1.161 | BR44: =IF(BO44<$E$13,0,IF(BO44<=0,$E$15*($E$16/BP44)^$E$3/100000,$E$15*($E$16/('3500'!B362/1000000))^$E$3*(('3500'!B362/1000000)/BP44)^$E$4/100000)) -> 0 | BS44: =BR44+IF(BO44<$E$7,0,($E$10-1)*AF44/(BP44*100000)) -> 0 | BT44: =BS44-BQ44 -> -1.161 | BU44: =IF(BQ44=0,0,BT44/BQ44*100) -> -100 | BV44: -157 | BW44: ='2000'!B205/1000000 -> 0.00042696 | BX44: ='2000'!C205 -> 1.196 | BY44: =IF(BV44<$F$13,0,IF(BV44<=0,$F$15*($F$16/BW44)^$F$3/100000,$F$15*($F$16/('2000'!B362/1000000))^$F$3*(('2000'!B362/1000000)/BW44)^$F$4/100000)) -> 0 | BZ44: =BY44+IF(BV44<$F$7,0,($F$10-1)*AL44/(BW44*100000)) -> 0 | CA44: =BZ44-BX44 -> -1.196 | CB44: =IF(BX44=0,0,CA44/BX44*100) -> -100 | CC44: -157 | CD44: ='1000'!B205/1000000 -> 0.00042696 | CE44: ='1000'!C205 -> 1.068 | CF44: =IF(CC44<$G$13,0,IF(CC44<=0,$G$15*($G$16/CD44)^$G$3/100000,$G$15*($G$16/('1000'!B362/1000000))^$G$3*(('1000'!B362/1000000)/CD44)^$G$4/100000)) -> 0 | CG44: =CF44+IF(CC44<$G$7,0,($G$10-1)*AR44/(CD44*100000)) -> 0 | CH44: =CG44-CE44 -> -1.068 | CI44: =IF(CE44=0,0,CH44/CE44*100) -> -100
I45: -156 | J45: ='6500'!B206/1000000 -> 0.00042595 | K45: =IF(I45<$B$7,0,MIN(1,1-EXP(-$B$6*((I45-$B$7)/$B$8)^($B$5+1)))) -> 0 | L45: =(K46-K44)/2 -> 0 | M45: =$B$9*L45 -> 0 | N45: =N44+M45 -> 0 | O45: -156 | P45: ='5500'!B206/1000000 -> 0.00042595 | Q45: =IF(O45<$C$7,0,MIN(1,1-EXP(-$C$6*((O45-$C$7)/$C$8)^($C$5+1)))) -> 0 | R45: =(Q46-Q44)/2 -> 0 | S45: =$C$9*R45 -> 0 | T45: =T44+S45 -> 0 | U45: -156 | V45: ='4500'!B206/1000000 -> 0.00042595 | W45: =IF(U45<$D$7,0,MIN(1,1-EXP(-$D$6*((U45-$D$7)/$D$8)^($D$5+1)))) -> 0 | X45: =(W46-W44)/2 -> 0 | Y45: =$D$9*X45 -> 0 | Z45: =Z44+Y45 -> 0 | AA45: -156 | AB45: ='3500'!B206/1000000 -> 0.00042595 | AC45: =IF(AA45<$E$7,0,MIN(1,1-EXP(-$E$6*((AA45-$E$7)/$E$8)^($E$5+1)))) -> 0 | AD45: =(AC46-AC44)/2 -> 0 | AE45: =$E$9*AD45 -> 0 | AF45: =AF44+AE45 -> 0 | AG45: -156 | AH45: ='2000'!B206/1000000 -> 0.00042595 | AI45: =IF(AG45<$F$7,0,MIN(1,1-EXP(-$F$6*((AG45-$F$7)/$F$8)^($F$5+1)))) -> 0 | AJ45: =(AI46-AI44)/2 -> 0 | AK45: =$F$9*AJ45 -> 0 | AL45: =AL44+AK45 -> 0 | AM45: -156 | AN45: ='1000'!B206/1000000 -> 0.00042595 | AO45: =IF(AM45<$G$7,0,MIN(1,1-EXP(-$G$6*((AM45-$G$7)/$G$8)^($G$5+1)))) -> 0 | AP45: =(AO46-AO44)/2 -> 0 | AQ45: =$G$9*AP45 -> 0 | AR45: =AR44+AQ45 -> 0 | AT45: -156 | AU45: ='6500'!B206/1000000 -> 0.00042595 | AV45: ='6500'!C206 -> 1.268 | AW45: =IF(AT45<$B$13,0,IF(AT45<=0,$B$15*($B$16/AU45)^$B$3/100000,$B$15*($B$16/('6500'!B362/1000000))^$B$3*(('6500'!B362/1000000)/AU45)^$B$4/100000)) -> 0 | AX45: =AW45+IF(AT45<$B$7,0,($B$10-1)*N45/(AU45*100000)) -> 0 | AY45: =AX45-AV45 -> -1.268 | AZ45: =IF(AV45=0,0,AY45/AV45*100) -> -100 | BA45: -156 | BB45: ='5500'!B206/1000000 -> 0.00042595 | BC45: ='5500'!C206 -> 1.305 | BD45: =IF(BA45<$C$13,0,IF(BA45<=0,$C$15*($C$16/BB45)^$C$3/100000,$C$15*($C$16/('5500'!B362/1000000))^$C$3*(('5500'!B362/1000000)/BB45)^$C$4/100000)) -> 0 | BE45: =BD45+IF(BA45<$C$7,0,($C$10-1)*T45/(BB45*100000)) -> 0 | BF45: =BE45-BC45 -> -1.305 | BG45: =IF(BC45=0,0,BF45/BC45*100) -> -100 | BH45: -156 | BI45: ='4500'!B206/1000000 -> 0.00042595 | BJ45: ='4500'!C206 -> 1.376 | BK45: =IF(BH45<$D$13,0,IF(BH45<=0,$D$15*($D$16/BI45)^$D$3/100000,$D$15*($D$16/('4500'!B362/1000000))^$D$3*(('4500'!B362/1000000)/BI45)^$D$4/100000)) -> 0 | BL45: =BK45+IF(BH45<$D$7,0,($D$10-1)*Z45/(BI45*100000)) -> 0 | BM45: =BL45-BJ45 -> -1.376 | BN45: =IF(BJ45=0,0,BM45/BJ45*100) -> -100 | BO45: -156 | BP45: ='3500'!B206/1000000 -> 0.00042595 | BQ45: ='3500'!C206 -> 1.173 | BR45: =IF(BO45<$E$13,0,IF(BO45<=0,$E$15*($E$16/BP45)^$E$3/100000,$E$15*($E$16/('3500'!B362/1000000))^$E$3*(('3500'!B362/1000000)/BP45)^$E$4/100000)) -> 0 | BS45: =BR45+IF(BO45<$E$7,0,($E$10-1)*AF45/(BP45*100000)) -> 0 | BT45: =BS45-BQ45 -> -1.173 | BU45: =IF(BQ45=0,0,BT45/BQ45*100) -> -100 | BV45: -156 | BW45: ='2000'!B206/1000000 -> 0.00042595 | BX45: ='2000'!C206 -> 1.204 | BY45: =IF(BV45<$F$13,0,IF(BV45<=0,$F$15*($F$16/BW45)^$F$3/100000,$F$15*($F$16/('2000'!B362/1000000))^$F$3*(('2000'!B362/1000000)/BW45)^$F$4/100000)) -> 0 | BZ45: =BY45+IF(BV45<$F$7,0,($F$10-1)*AL45/(BW45*100000)) -> 0 | CA45: =BZ45-BX45 -> -1.204 | CB45: =IF(BX45=0,0,CA45/BX45*100) -> -100 | CC45: -156 | CD45: ='1000'!B206/1000000 -> 0.00042595 | CE45: ='1000'!C206 -> 1.071 | CF45: =IF(CC45<$G$13,0,IF(CC45<=0,$G$15*($G$16/CD45)^$G$3/100000,$G$15*($G$16/('1000'!B362/1000000))^$G$3*(('1000'!B362/1000000)/CD45)^$G$4/100000)) -> 0 | CG45: =CF45+IF(CC45<$G$7,0,($G$10-1)*AR45/(CD45*100000)) -> 0 | CH45: =CG45-CE45 -> -1.071 | CI45: =IF(CE45=0,0,CH45/CE45*100) -> -100
I46: -155 | J46: ='6500'!B207/1000000 -> 0.0004249 | K46: =IF(I46<$B$7,0,MIN(1,1-EXP(-$B$6*((I46-$B$7)/$B$8)^($B$5+1)))) -> 0 | L46: =(K47-K45)/2 -> 0 | M46: =$B$9*L46 -> 0 | N46: =N45+M46 -> 0 | O46: -155 | P46: ='5500'!B207/1000000 -> 0.0004249 | Q46: =IF(O46<$C$7,0,MIN(1,1-EXP(-$C$6*((O46-$C$7)/$C$8)^($C$5+1)))) -> 0 | R46: =(Q47-Q45)/2 -> 0 | S46: =$C$9*R46 -> 0 | T46: =T45+S46 -> 0 | U46: -155 | V46: ='4500'!B207/1000000 -> 0.0004249 | W46: =IF(U46<$D$7,0,MIN(1,1-EXP(-$D$6*((U46-$D$7)/$D$8)^($D$5+1)))) -> 0 | X46: =(W47-W45)/2 -> 0 | Y46: =$D$9*X46 -> 0 | Z46: =Z45+Y46 -> 0 | AA46: -155 | AB46: ='3500'!B207/1000000 -> 0.0004249 | AC46: =IF(AA46<$E$7,0,MIN(1,1-EXP(-$E$6*((AA46-$E$7)/$E$8)^($E$5+1)))) -> 0 | AD46: =(AC47-AC45)/2 -> 0 | AE46: =$E$9*AD46 -> 0 | AF46: =AF45+AE46 -> 0 | AG46: -155 | AH46: ='2000'!B207/1000000 -> 0.0004249 | AI46: =IF(AG46<$F$7,0,MIN(1,1-EXP(-$F$6*((AG46-$F$7)/$F$8)^($F$5+1)))) -> 0 | AJ46: =(AI47-AI45)/2 -> 0 | AK46: =$F$9*AJ46 -> 0 | AL46: =AL45+AK46 -> 0 | AM46: -155 | AN46: ='1000'!B207/1000000 -> 0.0004249 | AO46: =IF(AM46<$G$7,0,MIN(1,1-EXP(-$G$6*((AM46-$G$7)/$G$8)^($G$5+1)))) -> 0 | AP46: =(AO47-AO45)/2 -> 0 | AQ46: =$G$9*AP46 -> 0 | AR46: =AR45+AQ46 -> 0 | AT46: -155 | AU46: ='6500'!B207/1000000 -> 0.0004249 | AV46: ='6500'!C207 -> 1.287 | AW46: =IF(AT46<$B$13,0,IF(AT46<=0,$B$15*($B$16/AU46)^$B$3/100000,$B$15*($B$16/('6500'!B362/1000000))^$B$3*(('6500'!B362/1000000)/AU46)^$B$4/100000)) -> 0 | AX46: =AW46+IF(AT46<$B$7,0,($B$10-1)*N46/(AU46*100000)) -> 0 | AY46: =AX46-AV46 -> -1.287 | AZ46: =IF(AV46=0,0,AY46/AV46*100) -> -100 | BA46: -155 | BB46: ='5500'!B207/1000000 -> 0.0004249 | BC46: ='5500'!C207 -> 1.314 | BD46: =IF(BA46<$C$13,0,IF(BA46<=0,$C$15*($C$16/BB46)^$C$3/100000,$C$15*($C$16/('5500'!B362/1000000))^$C$3*(('5500'!B362/1000000)/BB46)^$C$4/100000)) -> 0 | BE46: =BD46+IF(BA46<$C$7,0,($C$10-1)*T46/(BB46*100000)) -> 0 | BF46: =BE46-BC46 -> -1.314 | BG46: =IF(BC46=0,0,BF46/BC46*100) -> -100 | BH46: -155 | BI46: ='4500'!B207/1000000 -> 0.0004249 | BJ46: ='4500'!C207 -> 1.392 | BK46: =IF(BH46<$D$13,0,IF(BH46<=0,$D$15*($D$16/BI46)^$D$3/100000,$D$15*($D$16/('4500'!B362/1000000))^$D$3*(('4500'!B362/1000000)/BI46)^$D$4/100000)) -> 0 | BL46: =BK46+IF(BH46<$D$7,0,($D$10-1)*Z46/(BI46*100000)) -> 0 | BM46: =BL46-BJ46 -> -1.392 | BN46: =IF(BJ46=0,0,BM46/BJ46*100) -> -100 | BO46: -155 | BP46: ='3500'!B207/1000000 -> 0.0004249 | BQ46: ='3500'!C207 -> 1.186 | BR46: =IF(BO46<$E$13,0,IF(BO46<=0,$E$15*($E$16/BP46)^$E$3/100000,$E$15*($E$16/('3500'!B362/1000000))^$E$3*(('3500'!B362/1000000)/BP46)^$E$4/100000)) -> 0 | BS46: =BR46+IF(BO46<$E$7,0,($E$10-1)*AF46/(BP46*100000)) -> 0 | BT46: =BS46-BQ46 -> -1.186 | BU46: =IF(BQ46=0,0,BT46/BQ46*100) -> -100 | BV46: -155 | BW46: ='2000'!B207/1000000 -> 0.0004249 | BX46: ='2000'!C207 -> 1.21 | BY46: =IF(BV46<$F$13,0,IF(BV46<=0,$F$15*($F$16/BW46)^$F$3/100000,$F$15*($F$16/('2000'!B362/1000000))^$F$3*(('2000'!B362/1000000)/BW46)^$F$4/100000)) -> 0 | BZ46: =BY46+IF(BV46<$F$7,0,($F$10-1)*AL46/(BW46*100000)) -> 0 | CA46: =BZ46-BX46 -> -1.21 | CB46: =IF(BX46=0,0,CA46/BX46*100) -> -100 | CC46: -155 | CD46: ='1000'!B207/1000000 -> 0.0004249 | CE46: ='1000'!C207 -> 1.073 | CF46: =IF(CC46<$G$13,0,IF(CC46<=0,$G$15*($G$16/CD46)^$G$3/100000,$G$15*($G$16/('1000'!B362/1000000))^$G$3*(('1000'!B362/1000000)/CD46)^$G$4/100000)) -> 1.073 | CG46: =CF46+IF(CC46<$G$7,0,($G$10-1)*AR46/(CD46*100000)) -> 1.073 | CH46: =CG46-CE46 -> 0 | CI46: =IF(CE46=0,0,CH46/CE46*100) -> 0
I47: -154 | J47: ='6500'!B208/1000000 -> 0.0004238 | K47: =IF(I47<$B$7,0,MIN(1,1-EXP(-$B$6*((I47-$B$7)/$B$8)^($B$5+1)))) -> 0 | L47: =(K48-K46)/2 -> 0 | M47: =$B$9*L47 -> 0 | N47: =N46+M47 -> 0 | O47: -154 | P47: ='5500'!B208/1000000 -> 0.0004238 | Q47: =IF(O47<$C$7,0,MIN(1,1-EXP(-$C$6*((O47-$C$7)/$C$8)^($C$5+1)))) -> 0 | R47: =(Q48-Q46)/2 -> 0 | S47: =$C$9*R47 -> 0 | T47: =T46+S47 -> 0 | U47: -154 | V47: ='4500'!B208/1000000 -> 0.0004238 | W47: =IF(U47<$D$7,0,MIN(1,1-EXP(-$D$6*((U47-$D$7)/$D$8)^($D$5+1)))) -> 0 | X47: =(W48-W46)/2 -> 0 | Y47: =$D$9*X47 -> 0 | Z47: =Z46+Y47 -> 0 | AA47: -154 | AB47: ='3500'!B208/1000000 -> 0.0004238 | AC47: =IF(AA47<$E$7,0,MIN(1,1-EXP(-$E$6*((AA47-$E$7)/$E$8)^($E$5+1)))) -> 0 | AD47: =(AC48-AC46)/2 -> 0 | AE47: =$E$9*AD47 -> 0 | AF47: =AF46+AE47 -> 0 | AG47: -154 | AH47: ='2000'!B208/1000000 -> 0.0004238 | AI47: =IF(AG47<$F$7,0,MIN(1,1-EXP(-$F$6*((AG47-$F$7)/$F$8)^($F$5+1)))) -> 0 | AJ47: =(AI48-AI46)/2 -> 0 | AK47: =$F$9*AJ47 -> 0 | AL47: =AL46+AK47 -> 0 | AM47: -154 | AN47: ='1000'!B208/1000000 -> 0.0004238 | AO47: =IF(AM47<$G$7,0,MIN(1,1-EXP(-$G$6*((AM47-$G$7)/$G$8)^($G$5+1)))) -> 0 | AP47: =(AO48-AO46)/2 -> 0 | AQ47: =$G$9*AP47 -> 0 | AR47: =AR46+AQ47 -> 0 | AT47: -154 | AU47: ='6500'!B208/1000000 -> 0.0004238 | AV47: ='6500'!C208 -> 1.305 | AW47: =IF(AT47<$B$13,0,IF(AT47<=0,$B$15*($B$16/AU47)^$B$3/100000,$B$15*($B$16/('6500'!B362/1000000))^$B$3*(('6500'!B362/1000000)/AU47)^$B$4/100000)) -> 0 | AX47: =AW47+IF(AT47<$B$7,0,($B$10-1)*N47/(AU47*100000)) -> 0 | AY47: =AX47-AV47 -> -1.305 | AZ47: =IF(AV47=0,0,AY47/AV47*100) -> -100 | BA47: -154 | BB47: ='5500'!B208/1000000 -> 0.0004238 | BC47: ='5500'!C208 -> 1.327 | BD47: =IF(BA47<$C$13,0,IF(BA47<=0,$C$15*($C$16/BB47)^$C$3/100000,$C$15*($C$16/('5500'!B362/1000000))^$C$3*(('5500'!B362/1000000)/BB47)^$C$4/100000)) -> 0 | BE47: =BD47+IF(BA47<$C$7,0,($C$10-1)*T47/(BB47*100000)) -> 0 | BF47: =BE47-BC47 -> -1.327 | BG47: =IF(BC47=0,0,BF47/BC47*100) -> -100 | BH47: -154 | BI47: ='4500'!B208/1000000 -> 0.0004238 | BJ47: ='4500'!C208 -> 1.409 | BK47: =IF(BH47<$D$13,0,IF(BH47<=0,$D$15*($D$16/BI47)^$D$3/100000,$D$15*($D$16/('4500'!B362/1000000))^$D$3*(('4500'!B362/1000000)/BI47)^$D$4/100000)) -> 0 | BL47: =BK47+IF(BH47<$D$7,0,($D$10-1)*Z47/(BI47*100000)) -> 0 | BM47: =BL47-BJ47 -> -1.409 | BN47: =IF(BJ47=0,0,BM47/BJ47*100) -> -100 | BO47: -154 | BP47: ='3500'!B208/1000000 -> 0.0004238 | BQ47: ='3500'!C208 -> 1.198 | BR47: =IF(BO47<$E$13,0,IF(BO47<=0,$E$15*($E$16/BP47)^$E$3/100000,$E$15*($E$16/('3500'!B362/1000000))^$E$3*(('3500'!B362/1000000)/BP47)^$E$4/100000)) -> 0 | BS47: =BR47+IF(BO47<$E$7,0,($E$10-1)*AF47/(BP47*100000)) -> 0 | BT47: =BS47-BQ47 -> -1.198 | BU47: =IF(BQ47=0,0,BT47/BQ47*100) -> -100 | BV47: -154 | BW47: ='2000'!B208/1000000 -> 0.0004238 | BX47: ='2000'!C208 -> 1.216 | BY47: =IF(BV47<$F$13,0,IF(BV47<=0,$F$15*($F$16/BW47)^$F$3/100000,$F$15*($F$16/('2000'!B362/1000000))^$F$3*(('2000'!B362/1000000)/BW47)^$F$4/100000)) -> 0 | BZ47: =BY47+IF(BV47<$F$7,0,($F$10-1)*AL47/(BW47*100000)) -> 0 | CA47: =BZ47-BX47 -> -1.216 | CB47: =IF(BX47=0,0,CA47/BX47*100) -> -100 | CC47: -154 | CD47: ='1000'!B208/1000000 -> 0.0004238 | CE47: ='1000'!C208 -> 1.071 | CF47: =IF(CC47<$G$13,0,IF(CC47<=0,$G$15*($G$16/CD47)^$G$3/100000,$G$15*($G$16/('1000'!B362/1000000))^$G$3*(('1000'!B362/1000000)/CD47)^$G$4/100000)) -> 1.0766755 | CG47: =CF47+IF(CC47<$G$7,0,($G$10-1)*AR47/(CD47*100000)) -> 1.0766755 | CH47: =CG47-CE47 -> 0.005675546 | CI47: =IF(CE47=0,0,CH47/CE47*100) -> 0.5299296
I48: -153 | J48: ='6500'!B209/1000000 -> 0.00042267 | K48: =IF(I48<$B$7,0,MIN(1,1-EXP(-$B$6*((I48-$B$7)/$B$8)^($B$5+1)))) -> 0 | L48: =(K49-K47)/2 -> 0 | M48: =$B$9*L48 -> 0 | N48: =N47+M48 -> 0 | O48: -153 | P48: ='5500'!B209/1000000 -> 0.00042267 | Q48: =IF(O48<$C$7,0,MIN(1,1-EXP(-$C$6*((O48-$C$7)/$C$8)^($C$5+1)))) -> 0 | R48: =(Q49-Q47)/2 -> 0 | S48: =$C$9*R48 -> 0 | T48: =T47+S48 -> 0 | U48: -153 | V48: ='4500'!B209/1000000 -> 0.00042267 | W48: =IF(U48<$D$7,0,MIN(1,1-EXP(-$D$6*((U48-$D$7)/$D$8)^($D$5+1)))) -> 0 | X48: =(W49-W47)/2 -> 0 | Y48: =$D$9*X48 -> 0 | Z48: =Z47+Y48 -> 0 | AA48: -153 | AB48: ='3500'!B209/1000000 -> 0.00042267 | AC48: =IF(AA48<$E$7,0,MIN(1,1-EXP(-$E$6*((AA48-$E$7)/$E$8)^($E$5+1)))) -> 0 | AD48: =(AC49-AC47)/2 -> 0 | AE48: =$E$9*AD48 -> 0 | AF48: =AF47+AE48 -> 0 | AG48: -153 | AH48: ='2000'!B209/1000000 -> 0.00042267 | AI48: =IF(AG48<$F$7,0,MIN(1,1-EXP(-$F$6*((AG48-$F$7)/$F$8)^($F$5+1)))) -> 0 | AJ48: =(AI49-AI47)/2 -> 0 | AK48: =$F$9*AJ48 -> 0 | AL48: =AL47+AK48 -> 0 | AM48: -153 | AN48: ='1000'!B209/1000000 -> 0.00042267 | AO48: =IF(AM48<$G$7,0,MIN(1,1-EXP(-$G$6*((AM48-$G$7)/$G$8)^($G$5+1)))) -> 0 | AP48: =(AO49-AO47)/2 -> 0 | AQ48: =$G$9*AP48 -> 0 | AR48: =AR47+AQ48 -> 0 | AT48: -153 | AU48: ='6500'!B209/1000000 -> 0.00042267 | AV48: ='6500'!C209 -> 1.322 | AW48: =IF(AT48<$B$13,0,IF(AT48<=0,$B$15*($B$16/AU48)^$B$3/100000,$B$15*($B$16/('6500'!B362/1000000))^$B$3*(('6500'!B362/1000000)/AU48)^$B$4/100000)) -> 0 | AX48: =AW48+IF(AT48<$B$7,0,($B$10-1)*N48/(AU48*100000)) -> 0 | AY48: =AX48-AV48 -> -1.322 | AZ48: =IF(AV48=0,0,AY48/AV48*100) -> -100 | BA48: -153 | BB48: ='5500'!B209/1000000 -> 0.00042267 | BC48: ='5500'!C209 -> 1.343 | BD48: =IF(BA48<$C$13,0,IF(BA48<=0,$C$15*($C$16/BB48)^$C$3/100000,$C$15*($C$16/('5500'!B362/1000000))^$C$3*(('5500'!B362/1000000)/BB48)^$C$4/100000)) -> 0 | BE48: =BD48+IF(BA48<$C$7,0,($C$10-1)*T48/(BB48*100000)) -> 0 | BF48: =BE48-BC48 -> -1.343 | BG48: =IF(BC48=0,0,BF48/BC48*100) -> -100 | BH48: -153 | BI48: ='4500'!B209/1000000 -> 0.00042267 | BJ48: ='4500'!C209 -> 1.417 | BK48: =IF(BH48<$D$13,0,IF(BH48<=0,$D$15*($D$16/BI48)^$D$3/100000,$D$15*($D$16/('4500'!B362/1000000))^$D$3*(('4500'!B362/1000000)/BI48)^$D$4/100000)) -> 0 | BL48: =BK48+IF(BH48<$D$7,0,($D$10-1)*Z48/(BI48*100000)) -> 0 | BM48: =BL48-BJ48 -> -1.417 | BN48: =IF(BJ48=0,0,BM48/BJ48*100) -> -100 | BO48: -153 | BP48: ='3500'!B209/1000000 -> 0.00042267 | BQ48: ='3500'!C209 -> 1.203 | BR48: =IF(BO48<$E$13,0,IF(BO48<=0,$E$15*($E$16/BP48)^$E$3/100000,$E$15*($E$16/('3500'!B362/1000000))^$E$3*(('3500'!B362/1000000)/BP48)^$E$4/100000)) -> 0 | BS48: =BR48+IF(BO48<$E$7,0,($E$10-1)*AF48/(BP48*100000)) -> 0 | BT48: =BS48-BQ48 -> -1.203 | BU48: =IF(BQ48=0,0,BT48/BQ48*100) -> -100 | BV48: -153 | BW48: ='2000'!B209/1000000 -> 0.00042267 | BX48: ='2000'!C209 -> 1.219 | BY48: =IF(BV48<$F$13,0,IF(BV48<=0,$F$15*($F$16/BW48)^$F$3/100000,$F$15*($F$16/('2000'!B362/1000000))^$F$3*(('2000'!B362/1000000)/BW48)^$F$4/100000)) -> 0 | BZ48: =BY48+IF(BV48<$F$7,0,($F$10-1)*AL48/(BW48*100000)) -> 0 | CA48: =BZ48-BX48 -> -1.219 | CB48: =IF(BX48=0,0,CA48/BX48*100) -> -100 | CC48: -153 | CD48: ='1000'!B209/1000000 -> 0.00042267 | CE48: ='1000'!C209 -> 1.068 | CF48: =IF(CC48<$G$13,0,IF(CC48<=0,$G$15*($G$16/CD48)^$G$3/100000,$G$15*($G$16/('1000'!B362/1000000))^$G$3*(('1000'!B362/1000000)/CD48)^$G$4/100000)) -> 1.0804744 | CG48: =CF48+IF(CC48<$G$7,0,($G$10-1)*AR48/(CD48*100000)) -> 1.0804744 | CH48: =CG48-CE48 -> 0.012474444 | CI48: =IF(CE48=0,0,CH48/CE48*100) -> 1.1680191
I49: -152 | J49: ='6500'!B210/1000000 -> 0.00042149 | K49: =IF(I49<$B$7,0,MIN(1,1-EXP(-$B$6*((I49-$B$7)/$B$8)^($B$5+1)))) -> 0 | L49: =(K50-K48)/2 -> 0 | M49: =$B$9*L49 -> 0 | N49: =N48+M49 -> 0 | O49: -152 | P49: ='5500'!B210/1000000 -> 0.00042149 | Q49: =IF(O49<$C$7,0,MIN(1,1-EXP(-$C$6*((O49-$C$7)/$C$8)^($C$5+1)))) -> 0 | R49: =(Q50-Q48)/2 -> 0 | S49: =$C$9*R49 -> 0 | T49: =T48+S49 -> 0 | U49: -152 | V49: ='4500'!B210/1000000 -> 0.00042149 | W49: =IF(U49<$D$7,0,MIN(1,1-EXP(-$D$6*((U49-$D$7)/$D$8)^($D$5+1)))) -> 0 | X49: =(W50-W48)/2 -> 0 | Y49: =$D$9*X49 -> 0 | Z49: =Z48+Y49 -> 0 | AA49: -152 | AB49: ='3500'!B210/1000000 -> 0.00042149 | AC49: =IF(AA49<$E$7,0,MIN(1,1-EXP(-$E$6*((AA49-$E$7)/$E$8)^($E$5+1)))) -> 0 | AD49: =(AC50-AC48)/2 -> 0 | AE49: =$E$9*AD49 -> 0 | AF49: =AF48+AE49 -> 0 | AG49: -152 | AH49: ='2000'!B210/1000000 -> 0.00042149 | AI49: =IF(AG49<$F$7,0,MIN(1,1-EXP(-$F$6*((AG49-$F$7)/$F$8)^($F$5+1)))) -> 0 | AJ49: =(AI50-AI48)/2 -> 0 | AK49: =$F$9*AJ49 -> 0 | AL49: =AL48+AK49 -> 0 | AM49: -152 | AN49: ='1000'!B210/1000000 -> 0.00042149 | AO49: =IF(AM49<$G$7,0,MIN(1,1-EXP(-$G$6*((AM49-$G$7)/$G$8)^($G$5+1)))) -> 0 | AP49: =(AO50-AO48)/2 -> 0 | AQ49: =$G$9*AP49 -> 0 | AR49: =AR48+AQ49 -> 0 | AT49: -152 | AU49: ='6500'!B210/1000000 -> 0.00042149 | AV49: ='6500'!C210 -> 1.338 | AW49: =IF(AT49<$B$13,0,IF(AT49<=0,$B$15*($B$16/AU49)^$B$3/100000,$B$15*($B$16/('6500'!B362/1000000))^$B$3*(('6500'!B362/1000000)/AU49)^$B$4/100000)) -> 0 | AX49: =AW49+IF(AT49<$B$7,0,($B$10-1)*N49/(AU49*100000)) -> 0 | AY49: =AX49-AV49 -> -1.338 | AZ49: =IF(AV49=0,0,AY49/AV49*100) -> -100 | BA49: -152 | BB49: ='5500'!B210/1000000 -> 0.00042149 | BC49: ='5500'!C210 -> 1.364 | BD49: =IF(BA49<$C$13,0,IF(BA49<=0,$C$15*($C$16/BB49)^$C$3/100000,$C$15*($C$16/('5500'!B362/1000000))^$C$3*(('5500'!B362/1000000)/BB49)^$C$4/100000)) -> 0 | BE49: =BD49+IF(BA49<$C$7,0,($C$10-1)*T49/(BB49*100000)) -> 0 | BF49: =BE49-BC49 -> -1.364 | BG49: =IF(BC49=0,0,BF49/BC49*100) -> -100 | BH49: -152 | BI49: ='4500'!B210/1000000 -> 0.00042149 | BJ49: ='4500'!C210 -> 1.42 | BK49: =IF(BH49<$D$13,0,IF(BH49<=0,$D$15*($D$16/BI49)^$D$3/100000,$D$15*($D$16/('4500'!B362/1000000))^$D$3*(('4500'!B362/1000000)/BI49)^$D$4/100000)) -> 0 | BL49: =BK49+IF(BH49<$D$7,0,($D$10-1)*Z49/(BI49*100000)) -> 0 | BM49: =BL49-BJ49 -> -1.42 | BN49: =IF(BJ49=0,0,BM49/BJ49*100) -> -100 | BO49: -152 | BP49: ='3500'!B210/1000000 -> 0.00042149 | BQ49: ='3500'!C210 -> 1.205 | BR49: =IF(BO49<$E$13,0,IF(BO49<=0,$E$15*($E$16/BP49)^$E$3/100000,$E$15*($E$16/('3500'!B362/1000000))^$E$3*(('3500'!B362/1000000)/BP49)^$E$4/100000)) -> 0 | BS49: =BR49+IF(BO49<$E$7,0,($E$10-1)*AF49/(BP49*100000)) -> 0 | BT49: =BS49-BQ49 -> -1.205 | BU49: =IF(BQ49=0,0,BT49/BQ49*100) -> -100 | BV49: -152 | BW49: ='2000'!B210/1000000 -> 0.00042149 | BX49: ='2000'!C210 -> 1.222 | BY49: =IF(BV49<$F$13,0,IF(BV49<=0,$F$15*($F$16/BW49)^$F$3/100000,$F$15*($F$16/('2000'!B362/1000000))^$F$3*(('2000'!B362/1000000)/BW49)^$F$4/100000)) -> 0 | BZ49: =BY49+IF(BV49<$F$7,0,($F$10-1)*AL49/(BW49*100000)) -> 0 | CA49: =BZ49-BX49 -> -1.222 | CB49: =IF(BX49=0,0,CA49/BX49*100) -> -100 | CC49: -152 | CD49: ='1000'!B210/1000000 -> 0.00042149 | CE49: ='1000'!C210 -> 1.067 | CF49: =IF(CC49<$G$13,0,IF(CC49<=0,$G$15*($G$16/CD49)^$G$3/100000,$G$15*($G$16/('1000'!B362/1000000))^$G$3*(('1000'!B362/1000000)/CD49)^$G$4/100000)) -> 1.0844667 | CG49: =CF49+IF(CC49<$G$7,0,($G$10-1)*AR49/(CD49*100000)) -> 1.0844667 | CH49: =CG49-CE49 -> 0.017466658 | CI49: =IF(CE49=0,0,CH49/CE49*100) -> 1.6369876
I50: -151 | J50: ='6500'!B211/1000000 -> 0.00042026 | K50: =IF(I50<$B$7,0,MIN(1,1-EXP(-$B$6*((I50-$B$7)/$B$8)^($B$5+1)))) -> 0 | L50: =(K51-K49)/2 -> 0 | M50: =$B$9*L50 -> 0 | N50: =N49+M50 -> 0 | O50: -151 | P50: ='5500'!B211/1000000 -> 0.00042026 | Q50: =IF(O50<$C$7,0,MIN(1,1-EXP(-$C$6*((O50-$C$7)/$C$8)^($C$5+1)))) -> 0 | R50: =(Q51-Q49)/2 -> 0 | S50: =$C$9*R50 -> 0 | T50: =T49+S50 -> 0 | U50: -151 | V50: ='4500'!B211/1000000 -> 0.00042026 | W50: =IF(U50<$D$7,0,MIN(1,1-EXP(-$D$6*((U50-$D$7)/$D$8)^($D$5+1)))) -> 0 | X50: =(W51-W49)/2 -> 0 | Y50: =$D$9*X50 -> 0 | Z50: =Z49+Y50 -> 0 | AA50: -151 | AB50: ='3500'!B211/1000000 -> 0.00042026 | AC50: =IF(AA50<$E$7,0,MIN(1,1-EXP(-$E$6*((AA50-$E$7)/$E$8)^($E$5+1)))) -> 0 | AD50: =(AC51-AC49)/2 -> 0 | AE50: =$E$9*AD50 -> 0 | AF50: =AF49+AE50 -> 0 | AG50: -151 | AH50: ='2000'!B211/1000000 -> 0.00042026 | AI50: =IF(AG50<$F$7,0,MIN(1,1-EXP(-$F$6*((AG50-$F$7)/$F$8)^($F$5+1)))) -> 0 | AJ50: =(AI51-AI49)/2 -> 0 | AK50: =$F$9*AJ50 -> 0 | AL50: =AL49+AK50 -> 0 | AM50: -151 | AN50: ='1000'!B211/1000000 -> 0.00042026 | AO50: =IF(AM50<$G$7,0,MIN(1,1-EXP(-$G$6*((AM50-$G$7)/$G$8)^($G$5+1)))) -> 0 | AP50: =(AO51-AO49)/2 -> 0 | AQ50: =$G$9*AP50 -> 0 | AR50: =AR49+AQ50 -> 0 | AT50: -151 | AU50: ='6500'!B211/1000000 -> 0.00042026 | AV50: ='6500'!C211 -> 1.353 | AW50: =IF(AT50<$B$13,0,IF(AT50<=0,$B$15*($B$16/AU50)^$B$3/100000,$B$15*($B$16/('6500'!B362/1000000))^$B$3*(('6500'!B362/1000000)/AU50)^$B$4/100000)) -> 0 | AX50: =AW50+IF(AT50<$B$7,0,($B$10-1)*N50/(AU50*100000)) -> 0 | AY50: =AX50-AV50 -> -1.353 | AZ50: =IF(AV50=0,0,AY50/AV50*100) -> -100 | BA50: -151 | BB50: ='5500'!B211/1000000 -> 0.00042026 | BC50: ='5500'!C211 -> 1.392 | BD50: =IF(BA50<$C$13,0,IF(BA50<=0,$C$15*($C$16/BB50)^$C$3/100000,$C$15*($C$16/('5500'!B362/1000000))^$C$3*(('5500'!B362/1000000)/BB50)^$C$4/100000)) -> 0 | BE50: =BD50+IF(BA50<$C$7,0,($C$10-1)*T50/(BB50*100000)) -> 0 | BF50: =BE50-BC50 -> -1.392 | BG50: =IF(BC50=0,0,BF50/BC50*100) -> -100 | BH50: -151 | BI50: ='4500'!B211/1000000 -> 0.00042026 | BJ50: ='4500'!C211 -> 1.425 | BK50: =IF(BH50<$D$13,0,IF(BH50<=0,$D$15*($D$16/BI50)^$D$3/100000,$D$15*($D$16/('4500'!B362/1000000))^$D$3*(('4500'!B362/1000000)/BI50)^$D$4/100000)) -> 0 | BL50: =BK50+IF(BH50<$D$7,0,($D$10-1)*Z50/(BI50*100000)) -> 0 | BM50: =BL50-BJ50 -> -1.425 | BN50: =IF(BJ50=0,0,BM50/BJ50*100) -> -100 | BO50: -151 | BP50: ='3500'!B211/1000000 -> 0.00042026 | BQ50: ='3500'!C211 -> 1.21 | BR50: =IF(BO50<$E$13,0,IF(BO50<=0,$E$15*($E$16/BP50)^$E$3/100000,$E$15*($E$16/('3500'!B362/1000000))^$E$3*(('3500'!B362/1000000)/BP50)^$E$4/100000)) -> 0 | BS50: =BR50+IF(BO50<$E$7,0,($E$10-1)*AF50/(BP50*100000)) -> 0 | BT50: =BS50-BQ50 -> -1.21 | BU50: =IF(BQ50=0,0,BT50/BQ50*100) -> -100 | BV50: -151 | BW50: ='2000'!B211/1000000 -> 0.00042026 | BX50: ='2000'!C211 -> 1.225 | BY50: =IF(BV50<$F$13,0,IF(BV50<=0,$F$15*($F$16/BW50)^$F$3/100000,$F$15*($F$16/('2000'!B362/1000000))^$F$3*(('2000'!B362/1000000)/BW50)^$F$4/100000)) -> 0 | BZ50: =BY50+IF(BV50<$F$7,0,($F$10-1)*AL50/(BW50*100000)) -> 0 | CA50: =BZ50-BX50 -> -1.225 | CB50: =IF(BX50=0,0,CA50/BX50*100) -> -100 | CC50: -151 | CD50: ='1000'!B211/1000000 -> 0.00042026 | CE50: ='1000'!C211 -> 1.064 | CF50: =IF(CC50<$G$13,0,IF(CC50<=0,$G$15*($G$16/CD50)^$G$3/100000,$G$15*($G$16/('1000'!B362/1000000))^$G$3*(('1000'!B362/1000000)/CD50)^$G$4/100000)) -> 1.0886557 | CG50: =CF50+IF(CC50<$G$7,0,($G$10-1)*AR50/(CD50*100000)) -> 1.0886557 | CH50: =CG50-CE50 -> 0.024655718 | CI50: =IF(CE50=0,0,CH50/CE50*100) -> 2.3172667
I51: -150 | J51: ='6500'!B212/1000000 -> 0.000419 | K51: =IF(I51<$B$7,0,MIN(1,1-EXP(-$B$6*((I51-$B$7)/$B$8)^($B$5+1)))) -> 0 | L51: =(K52-K50)/2 -> 0 | M51: =$B$9*L51 -> 0 | N51: =N50+M51 -> 0 | O51: -150 | P51: ='5500'!B212/1000000 -> 0.000419 | Q51: =IF(O51<$C$7,0,MIN(1,1-EXP(-$C$6*((O51-$C$7)/$C$8)^($C$5+1)))) -> 0 | R51: =(Q52-Q50)/2 -> 0 | S51: =$C$9*R51 -> 0 | T51: =T50+S51 -> 0 | U51: -150 | V51: ='4500'!B212/1000000 -> 0.000419 | W51: =IF(U51<$D$7,0,MIN(1,1-EXP(-$D$6*((U51-$D$7)/$D$8)^($D$5+1)))) -> 0 | X51: =(W52-W50)/2 -> 0 | Y51: =$D$9*X51 -> 0 | Z51: =Z50+Y51 -> 0 | AA51: -150 | AB51: ='3500'!B212/1000000 -> 0.000419 | AC51: =IF(AA51<$E$7,0,MIN(1,1-EXP(-$E$6*((AA51-$E$7)/$E$8)^($E$5+1)))) -> 0 | AD51: =(AC52-AC50)/2 -> 0 | AE51: =$E$9*AD51 -> 0 | AF51: =AF50+AE51 -> 0 | AG51: -150 | AH51: ='2000'!B212/1000000 -> 0.000419 | AI51: =IF(AG51<$F$7,0,MIN(1,1-EXP(-$F$6*((AG51-$F$7)/$F$8)^($F$5+1)))) -> 0 | AJ51: =(AI52-AI50)/2 -> 0 | AK51: =$F$9*AJ51 -> 0 | AL51: =AL50+AK51 -> 0 | AM51: -150 | AN51: ='1000'!B212/1000000 -> 0.000419 | AO51: =IF(AM51<$G$7,0,MIN(1,1-EXP(-$G$6*((AM51-$G$7)/$G$8)^($G$5+1)))) -> 0 | AP51: =(AO52-AO50)/2 -> 0 | AQ51: =$G$9*AP51 -> 0 | AR51: =AR50+AQ51 -> 0 | AT51: -150 | AU51: ='6500'!B212/1000000 -> 0.000419 | AV51: ='6500'!C212 -> 1.375 | AW51: =IF(AT51<$B$13,0,IF(AT51<=0,$B$15*($B$16/AU51)^$B$3/100000,$B$15*($B$16/('6500'!B362/1000000))^$B$3*(('6500'!B362/1000000)/AU51)^$B$4/100000)) -> 0 | AX51: =AW51+IF(AT51<$B$7,0,($B$10-1)*N51/(AU51*100000)) -> 0 | AY51: =AX51-AV51 -> -1.375 | AZ51: =IF(AV51=0,0,AY51/AV51*100) -> -100 | BA51: -150 | BB51: ='5500'!B212/1000000 -> 0.000419 | BC51: ='5500'!C212 -> 1.427 | BD51: =IF(BA51<$C$13,0,IF(BA51<=0,$C$15*($C$16/BB51)^$C$3/100000,$C$15*($C$16/('5500'!B362/1000000))^$C$3*(('5500'!B362/1000000)/BB51)^$C$4/100000)) -> 0 | BE51: =BD51+IF(BA51<$C$7,0,($C$10-1)*T51/(BB51*100000)) -> 0 | BF51: =BE51-BC51 -> -1.427 | BG51: =IF(BC51=0,0,BF51/BC51*100) -> -100 | BH51: -150 | BI51: ='4500'!B212/1000000 -> 0.000419 | BJ51: ='4500'!C212 -> 1.432 | BK51: =IF(BH51<$D$13,0,IF(BH51<=0,$D$15*($D$16/BI51)^$D$3/100000,$D$15*($D$16/('4500'!B362/1000000))^$D$3*(('4500'!B362/1000000)/BI51)^$D$4/100000)) -> 0 | BL51: =BK51+IF(BH51<$D$7,0,($D$10-1)*Z51/(BI51*100000)) -> 0 | BM51: =BL51-BJ51 -> -1.432 | BN51: =IF(BJ51=0,0,BM51/BJ51*100) -> -100 | BO51: -150 | BP51: ='3500'!B212/1000000 -> 0.000419 | BQ51: ='3500'!C212 -> 1.209 | BR51: =IF(BO51<$E$13,0,IF(BO51<=0,$E$15*($E$16/BP51)^$E$3/100000,$E$15*($E$16/('3500'!B362/1000000))^$E$3*(('3500'!B362/1000000)/BP51)^$E$4/100000)) -> 0 | BS51: =BR51+IF(BO51<$E$7,0,($E$10-1)*AF51/(BP51*100000)) -> 0 | BT51: =BS51-BQ51 -> -1.209 | BU51: =IF(BQ51=0,0,BT51/BQ51*100) -> -100 | BV51: -150 | BW51: ='2000'!B212/1000000 -> 0.000419 | BX51: ='2000'!C212 -> 1.226 | BY51: =IF(BV51<$F$13,0,IF(BV51<=0,$F$15*($F$16/BW51)^$F$3/100000,$F$15*($F$16/('2000'!B362/1000000))^$F$3*(('2000'!B362/1000000)/BW51)^$F$4/100000)) -> 1.226 | BZ51: =BY51+IF(BV51<$F$7,0,($F$10-1)*AL51/(BW51*100000)) -> 1.226 | CA51: =BZ51-BX51 -> 0 | CB51: =IF(BX51=0,0,CA51/BX51*100) -> 0 | CC51: -150 | CD51: ='1000'!B212/1000000 -> 0.000419 | CE51: ='1000'!C212 -> 1.063 | CF51: =IF(CC51<$G$13,0,IF(CC51<=0,$G$15*($G$16/CD51)^$G$3/100000,$G$15*($G$16/('1000'!B362/1000000))^$G$3*(('1000'!B362/1000000)/CD51)^$G$4/100000)) -> 1.0929765 | CG51: =CF51+IF(CC51<$G$7,0,($G$10-1)*AR51/(CD51*100000)) -> 1.0929765 | CH51: =CG51-CE51 -> 0.029976536 | CI51: =IF(CE51=0,0,CH51/CE51*100) -> 2.819994
I52: -149 | J52: ='6500'!B213/1000000 -> 0.00041769 | K52: =IF(I52<$B$7,0,MIN(1,1-EXP(-$B$6*((I52-$B$7)/$B$8)^($B$5+1)))) -> 0 | L52: =(K53-K51)/2 -> 0 | M52: =$B$9*L52 -> 0 | N52: =N51+M52 -> 0 | O52: -149 | P52: ='5500'!B213/1000000 -> 0.00041769 | Q52: =IF(O52<$C$7,0,MIN(1,1-EXP(-$C$6*((O52-$C$7)/$C$8)^($C$5+1)))) -> 0 | R52: =(Q53-Q51)/2 -> 0 | S52: =$C$9*R52 -> 0 | T52: =T51+S52 -> 0 | U52: -149 | V52: ='4500'!B213/1000000 -> 0.00041769 | W52: =IF(U52<$D$7,0,MIN(1,1-EXP(-$D$6*((U52-$D$7)/$D$8)^($D$5+1)))) -> 0 | X52: =(W53-W51)/2 -> 0 | Y52: =$D$9*X52 -> 0 | Z52: =Z51+Y52 -> 0 | AA52: -149 | AB52: ='3500'!B213/1000000 -> 0.00041769 | AC52: =IF(AA52<$E$7,0,MIN(1,1-EXP(-$E$6*((AA52-$E$7)/$E$8)^($E$5+1)))) -> 0 | AD52: =(AC53-AC51)/2 -> 0 | AE52: =$E$9*AD52 -> 0 | AF52: =AF51+AE52 -> 0 | AG52: -149 | AH52: ='2000'!B213/1000000 -> 0.00041769 | AI52: =IF(AG52<$F$7,0,MIN(1,1-EXP(-$F$6*((AG52-$F$7)/$F$8)^($F$5+1)))) -> 0 | AJ52: =(AI53-AI51)/2 -> 0 | AK52: =$F$9*AJ52 -> 0 | AL52: =AL51+AK52 -> 0 | AM52: -149 | AN52: ='1000'!B213/1000000 -> 0.00041769 | AO52: =IF(AM52<$G$7,0,MIN(1,1-EXP(-$G$6*((AM52-$G$7)/$G$8)^($G$5+1)))) -> 0 | AP52: =(AO53-AO51)/2 -> 0 | AQ52: =$G$9*AP52 -> 0 | AR52: =AR51+AQ52 -> 0 | AT52: -149 | AU52: ='6500'!B213/1000000 -> 0.00041769 | AV52: ='6500'!C213 -> 1.401 | AW52: =IF(AT52<$B$13,0,IF(AT52<=0,$B$15*($B$16/AU52)^$B$3/100000,$B$15*($B$16/('6500'!B362/1000000))^$B$3*(('6500'!B362/1000000)/AU52)^$B$4/100000)) -> 0 | AX52: =AW52+IF(AT52<$B$7,0,($B$10-1)*N52/(AU52*100000)) -> 0 | AY52: =AX52-AV52 -> -1.401 | AZ52: =IF(AV52=0,0,AY52/AV52*100) -> -100 | BA52: -149 | BB52: ='5500'!B213/1000000 -> 0.00041769 | BC52: ='5500'!C213 -> 1.464 | BD52: =IF(BA52<$C$13,0,IF(BA52<=0,$C$15*($C$16/BB52)^$C$3/100000,$C$15*($C$16/('5500'!B362/1000000))^$C$3*(('5500'!B362/1000000)/BB52)^$C$4/100000)) -> 0 | BE52: =BD52+IF(BA52<$C$7,0,($C$10-1)*T52/(BB52*100000)) -> 0 | BF52: =BE52-BC52 -> -1.464 | BG52: =IF(BC52=0,0,BF52/BC52*100) -> -100 | BH52: -149 | BI52: ='4500'!B213/1000000 -> 0.00041769 | BJ52: ='4500'!C213 -> 1.438 | BK52: =IF(BH52<$D$13,0,IF(BH52<=0,$D$15*($D$16/BI52)^$D$3/100000,$D$15*($D$16/('4500'!B362/1000000))^$D$3*(('4500'!B362/1000000)/BI52)^$D$4/100000)) -> 0 | BL52: =BK52+IF(BH52<$D$7,0,($D$10-1)*Z52/(BI52*100000)) -> 0 | BM52: =BL52-BJ52 -> -1.438 | BN52: =IF(BJ52=0,0,BM52/BJ52*100) -> -100 | BO52: -149 | BP52: ='3500'!B213/1000000 -> 0.00041769 | BQ52: ='3500'!C213 -> 1.202 | BR52: =IF(BO52<$E$13,0,IF(BO52<=0,$E$15*($E$16/BP52)^$E$3/100000,$E$15*($E$16/('3500'!B362/1000000))^$E$3*(('3500'!B362/1000000)/BP52)^$E$4/100000)) -> 0 | BS52: =BR52+IF(BO52<$E$7,0,($E$10-1)*AF52/(BP52*100000)) -> 0 | BT52: =BS52-BQ52 -> -1.202 | BU52: =IF(BQ52=0,0,BT52/BQ52*100) -> -100 | BV52: -149 | BW52: ='2000'!B213/1000000 -> 0.00041769 | BX52: ='2000'!C213 -> 1.226 | BY52: =IF(BV52<$F$13,0,IF(BV52<=0,$F$15*($F$16/BW52)^$F$3/100000,$F$15*($F$16/('2000'!B362/1000000))^$F$3*(('2000'!B362/1000000)/BW52)^$F$4/100000)) -> 1.2310411 | BZ52: =BY52+IF(BV52<$F$7,0,($F$10-1)*AL52/(BW52*100000)) -> 1.2310411 | CA52: =BZ52-BX52 -> 0.0050410704 | CB52: =IF(BX52=0,0,CA52/BX52*100) -> 0.41118029 | CC52: -149 | CD52: ='1000'!B213/1000000 -> 0.00041769 | CE52: ='1000'!C213 -> 1.063 | CF52: =IF(CC52<$G$13,0,IF(CC52<=0,$G$15*($G$16/CD52)^$G$3/100000,$G$15*($G$16/('1000'!B362/1000000))^$G$3*(('1000'!B362/1000000)/CD52)^$G$4/100000)) -> 1.0975009 | CG52: =CF52+IF(CC52<$G$7,0,($G$10-1)*AR52/(CD52*100000)) -> 1.0975009 | CH52: =CG52-CE52 -> 0.034500882 | CI52: =IF(CE52=0,0,CH52/CE52*100) -> 3.2456145
I53: -148 | J53: ='6500'!B214/1000000 -> 0.00041633 | K53: =IF(I53<$B$7,0,MIN(1,1-EXP(-$B$6*((I53-$B$7)/$B$8)^($B$5+1)))) -> 0 | L53: =(K54-K52)/2 -> 0 | M53: =$B$9*L53 -> 0 | N53: =N52+M53 -> 0 | O53: -148 | P53: ='5500'!B214/1000000 -> 0.00041633 | Q53: =IF(O53<$C$7,0,MIN(1,1-EXP(-$C$6*((O53-$C$7)/$C$8)^($C$5+1)))) -> 0 | R53: =(Q54-Q52)/2 -> 0 | S53: =$C$9*R53 -> 0 | T53: =T52+S53 -> 0 | U53: -148 | V53: ='4500'!B214/1000000 -> 0.00041633 | W53: =IF(U53<$D$7,0,MIN(1,1-EXP(-$D$6*((U53-$D$7)/$D$8)^($D$5+1)))) -> 0 | X53: =(W54-W52)/2 -> 0 | Y53: =$D$9*X53 -> 0 | Z53: =Z52+Y53 -> 0 | AA53: -148 | AB53: ='3500'!B214/1000000 -> 0.00041633 | AC53: =IF(AA53<$E$7,0,MIN(1,1-EXP(-$E$6*((AA53-$E$7)/$E$8)^($E$5+1)))) -> 0 | AD53: =(AC54-AC52)/2 -> 0 | AE53: =$E$9*AD53 -> 0 | AF53: =AF52+AE53 -> 0 | AG53: -148 | AH53: ='2000'!B214/1000000 -> 0.00041633 | AI53: =IF(AG53<$F$7,0,MIN(1,1-EXP(-$F$6*((AG53-$F$7)/$F$8)^($F$5+1)))) -> 0 | AJ53: =(AI54-AI52)/2 -> 0 | AK53: =$F$9*AJ53 -> 0 | AL53: =AL52+AK53 -> 0 | AM53: -148 | AN53: ='1000'!B214/1000000 -> 0.00041633 | AO53: =IF(AM53<$G$7,0,MIN(1,1-EXP(-$G$6*((AM53-$G$7)/$G$8)^($G$5+1)))) -> 0 | AP53: =(AO54-AO52)/2 -> 0 | AQ53: =$G$9*AP53 -> 0 | AR53: =AR52+AQ53 -> 0 | AT53: -148 | AU53: ='6500'!B214/1000000 -> 0.00041633 | AV53: ='6500'!C214 -> 1.422 | AW53: =IF(AT53<$B$13,0,IF(AT53<=0,$B$15*($B$16/AU53)^$B$3/100000,$B$15*($B$16/('6500'!B362/1000000))^$B$3*(('6500'!B362/1000000)/AU53)^$B$4/100000)) -> 0 | AX53: =AW53+IF(AT53<$B$7,0,($B$10-1)*N53/(AU53*100000)) -> 0 | AY53: =AX53-AV53 -> -1.422 | AZ53: =IF(AV53=0,0,AY53/AV53*100) -> -100 | BA53: -148 | BB53: ='5500'!B214/1000000 -> 0.00041633 | BC53: ='5500'!C214 -> 1.502 | BD53: =IF(BA53<$C$13,0,IF(BA53<=0,$C$15*($C$16/BB53)^$C$3/100000,$C$15*($C$16/('5500'!B362/1000000))^$C$3*(('5500'!B362/1000000)/BB53)^$C$4/100000)) -> 0 | BE53: =BD53+IF(BA53<$C$7,0,($C$10-1)*T53/(BB53*100000)) -> 0 | BF53: =BE53-BC53 -> -1.502 | BG53: =IF(BC53=0,0,BF53/BC53*100) -> -100 | BH53: -148 | BI53: ='4500'!B214/1000000 -> 0.00041633 | BJ53: ='4500'!C214 -> 1.444 | BK53: =IF(BH53<$D$13,0,IF(BH53<=0,$D$15*($D$16/BI53)^$D$3/100000,$D$15*($D$16/('4500'!B362/1000000))^$D$3*(('4500'!B362/1000000)/BI53)^$D$4/100000)) -> 0 | BL53: =BK53+IF(BH53<$D$7,0,($D$10-1)*Z53/(BI53*100000)) -> 0 | BM53: =BL53-BJ53 -> -1.444 | BN53: =IF(BJ53=0,0,BM53/BJ53*100) -> -100 | BO53: -148 | BP53: ='3500'!B214/1000000 -> 0.00041633 | BQ53: ='3500'!C214 -> 1.207 | BR53: =IF(BO53<$E$13,0,IF(BO53<=0,$E$15*($E$16/BP53)^$E$3/100000,$E$15*($E$16/('3500'!B362/1000000))^$E$3*(('3500'!B362/1000000)/BP53)^$E$4/100000)) -> 1.207 | BS53: =BR53+IF(BO53<$E$7,0,($E$10-1)*AF53/(BP53*100000)) -> 1.207 | BT53: =BS53-BQ53 -> 0 | BU53: =IF(BQ53=0,0,BT53/BQ53*100) -> 0 | BV53: -148 | BW53: ='2000'!B214/1000000 -> 0.00041633 | BX53: ='2000'!C214 -> 1.224 | BY53: =IF(BV53<$F$13,0,IF(BV53<=0,$F$15*($F$16/BW53)^$F$3/100000,$F$15*($F$16/('2000'!B362/1000000))^$F$3*(('2000'!B362/1000000)/BW53)^$F$4/100000)) -> 1.2363133 | BZ53: =BY53+IF(BV53<$F$7,0,($F$10-1)*AL53/(BW53*100000)) -> 1.2363133 | CA53: =BZ53-BX53 -> 0.01231334 | CB53: =IF(BX53=0,0,CA53/BX53*100) -> 1.0059918 | CC53: -148 | CD53: ='1000'!B214/1000000 -> 0.00041633 | CE53: ='1000'!C214 -> 1.064 | CF53: =IF(CC53<$G$13,0,IF(CC53<=0,$G$15*($G$16/CD53)^$G$3/100000,$G$15*($G$16/('1000'!B362/1000000))^$G$3*(('1000'!B362/1000000)/CD53)^$G$4/100000)) -> 1.1022329 | CG53: =CF53+IF(CC53<$G$7,0,($G$10-1)*AR53/(CD53*100000)) -> 1.1022329 | CH53: =CG53-CE53 -> 0.038232863 | CI53: =IF(CE53=0,0,CH53/CE53*100) -> 3.5933142
I54: -147 | J54: ='6500'!B215/1000000 -> 0.00041494 | K54: =IF(I54<$B$7,0,MIN(1,1-EXP(-$B$6*((I54-$B$7)/$B$8)^($B$5+1)))) -> 0 | L54: =(K55-K53)/2 -> 0 | M54: =$B$9*L54 -> 0 | N54: =N53+M54 -> 0 | O54: -147 | P54: ='5500'!B215/1000000 -> 0.00041494 | Q54: =IF(O54<$C$7,0,MIN(1,1-EXP(-$C$6*((O54-$C$7)/$C$8)^($C$5+1)))) -> 0 | R54: =(Q55-Q53)/2 -> 0 | S54: =$C$9*R54 -> 0 | T54: =T53+S54 -> 0 | U54: -147 | V54: ='4500'!B215/1000000 -> 0.00041494 | W54: =IF(U54<$D$7,0,MIN(1,1-EXP(-$D$6*((U54-$D$7)/$D$8)^($D$5+1)))) -> 0 | X54: =(W55-W53)/2 -> 0 | Y54: =$D$9*X54 -> 0 | Z54: =Z53+Y54 -> 0 | AA54: -147 | AB54: ='3500'!B215/1000000 -> 0.00041494 | AC54: =IF(AA54<$E$7,0,MIN(1,1-EXP(-$E$6*((AA54-$E$7)/$E$8)^($E$5+1)))) -> 0 | AD54: =(AC55-AC53)/2 -> 0 | AE54: =$E$9*AD54 -> 0 | AF54: =AF53+AE54 -> 0 | AG54: -147 | AH54: ='2000'!B215/1000000 -> 0.00041494 | AI54: =IF(AG54<$F$7,0,MIN(1,1-EXP(-$F$6*((AG54-$F$7)/$F$8)^($F$5+1)))) -> 0 | AJ54: =(AI55-AI53)/2 -> 0 | AK54: =$F$9*AJ54 -> 0 | AL54: =AL53+AK54 -> 0 | AM54: -147 | AN54: ='1000'!B215/1000000 -> 0.00041494 | AO54: =IF(AM54<$G$7,0,MIN(1,1-EXP(-$G$6*((AM54-$G$7)/$G$8)^($G$5+1)))) -> 0 | AP54: =(AO55-AO53)/2 -> 0 | AQ54: =$G$9*AP54 -> 0 | AR54: =AR53+AQ54 -> 0 | AT54: -147 | AU54: ='6500'!B215/1000000 -> 0.00041494 | AV54: ='6500'!C215 -> 1.448 | AW54: =IF(AT54<$B$13,0,IF(AT54<=0,$B$15*($B$16/AU54)^$B$3/100000,$B$15*($B$16/('6500'!B362/1000000))^$B$3*(('6500'!B362/1000000)/AU54)^$B$4/100000)) -> 0 | AX54: =AW54+IF(AT54<$B$7,0,($B$10-1)*N54/(AU54*100000)) -> 0 | AY54: =AX54-AV54 -> -1.448 | AZ54: =IF(AV54=0,0,AY54/AV54*100) -> -100 | BA54: -147 | BB54: ='5500'!B215/1000000 -> 0.00041494 | BC54: ='5500'!C215 -> 1.537 | BD54: =IF(BA54<$C$13,0,IF(BA54<=0,$C$15*($C$16/BB54)^$C$3/100000,$C$15*($C$16/('5500'!B362/1000000))^$C$3*(('5500'!B362/1000000)/BB54)^$C$4/100000)) -> 0 | BE54: =BD54+IF(BA54<$C$7,0,($C$10-1)*T54/(BB54*100000)) -> 0 | BF54: =BE54-BC54 -> -1.537 | BG54: =IF(BC54=0,0,BF54/BC54*100) -> -100 | BH54: -147 | BI54: ='4500'!B215/1000000 -> 0.00041494 | BJ54: ='4500'!C215 -> 1.451 | BK54: =IF(BH54<$D$13,0,IF(BH54<=0,$D$15*($D$16/BI54)^$D$3/100000,$D$15*($D$16/('4500'!B362/1000000))^$D$3*(('4500'!B362/1000000)/BI54)^$D$4/100000)) -> 0 | BL54: =BK54+IF(BH54<$D$7,0,($D$10-1)*Z54/(BI54*100000)) -> 0 | BM54: =BL54-BJ54 -> -1.451 | BN54: =IF(BJ54=0,0,BM54/BJ54*100) -> -100 | BO54: -147 | BP54: ='3500'!B215/1000000 -> 0.00041494 | BQ54: ='3500'!C215 -> 1.216 | BR54: =IF(BO54<$E$13,0,IF(BO54<=0,$E$15*($E$16/BP54)^$E$3/100000,$E$15*($E$16/('3500'!B362/1000000))^$E$3*(('3500'!B362/1000000)/BP54)^$E$4/100000)) -> 1.212321 | BS54: =BR54+IF(BO54<$E$7,0,($E$10-1)*AF54/(BP54*100000)) -> 1.212321 | BT54: =BS54-BQ54 -> -0.0036790313 | BU54: =IF(BQ54=0,0,BT54/BQ54*100) -> -0.30255191 | BV54: -147 | BW54: ='2000'!B215/1000000 -> 0.00041494 | BX54: ='2000'!C215 -> 1.229 | BY54: =IF(BV54<$F$13,0,IF(BV54<=0,$F$15*($F$16/BW54)^$F$3/100000,$F$15*($F$16/('2000'!B362/1000000))^$F$3*(('2000'!B362/1000000)/BW54)^$F$4/100000)) -> 1.2417432 | BZ54: =BY54+IF(BV54<$F$7,0,($F$10-1)*AL54/(BW54*100000)) -> 1.2417432 | CA54: =BZ54-BX54 -> 0.012743186 | CB54: =IF(BX54=0,0,CA54/BX54*100) -> 1.0368743 | CC54: -147 | CD54: ='1000'!B215/1000000 -> 0.00041494 | CE54: ='1000'!C215 -> 1.061 | CF54: =IF(CC54<$G$13,0,IF(CC54<=0,$G$15*($G$16/CD54)^$G$3/100000,$G$15*($G$16/('1000'!B362/1000000))^$G$3*(('1000'!B362/1000000)/CD54)^$G$4/100000)) -> 1.1071064 | CG54: =CF54+IF(CC54<$G$7,0,($G$10-1)*AR54/(CD54*100000)) -> 1.1071064 | CH54: =CG54-CE54 -> 0.046106413 | CI54: =IF(CE54=0,0,CH54/CE54*100) -> 4.345562
I55: -146 | J55: ='6500'!B216/1000000 -> 0.0004135 | K55: =IF(I55<$B$7,0,MIN(1,1-EXP(-$B$6*((I55-$B$7)/$B$8)^($B$5+1)))) -> 0 | L55: =(K56-K54)/2 -> 0 | M55: =$B$9*L55 -> 0 | N55: =N54+M55 -> 0 | O55: -146 | P55: ='5500'!B216/1000000 -> 0.0004135 | Q55: =IF(O55<$C$7,0,MIN(1,1-EXP(-$C$6*((O55-$C$7)/$C$8)^($C$5+1)))) -> 0 | R55: =(Q56-Q54)/2 -> 0 | S55: =$C$9*R55 -> 0 | T55: =T54+S55 -> 0 | U55: -146 | V55: ='4500'!B216/1000000 -> 0.0004135 | W55: =IF(U55<$D$7,0,MIN(1,1-EXP(-$D$6*((U55-$D$7)/$D$8)^($D$5+1)))) -> 0 | X55: =(W56-W54)/2 -> 0 | Y55: =$D$9*X55 -> 0 | Z55: =Z54+Y55 -> 0 | AA55: -146 | AB55: ='3500'!B216/1000000 -> 0.0004135 | AC55: =IF(AA55<$E$7,0,MIN(1,1-EXP(-$E$6*((AA55-$E$7)/$E$8)^($E$5+1)))) -> 0 | AD55: =(AC56-AC54)/2 -> 0 | AE55: =$E$9*AD55 -> 0 | AF55: =AF54+AE55 -> 0 | AG55: -146 | AH55: ='2000'!B216/1000000 -> 0.0004135 | AI55: =IF(AG55<$F$7,0,MIN(1,1-EXP(-$F$6*((AG55-$F$7)/$F$8)^($F$5+1)))) -> 0 | AJ55: =(AI56-AI54)/2 -> 0 | AK55: =$F$9*AJ55 -> 0 | AL55: =AL54+AK55 -> 0 | AM55: -146 | AN55: ='1000'!B216/1000000 -> 0.0004135 | AO55: =IF(AM55<$G$7,0,MIN(1,1-EXP(-$G$6*((AM55-$G$7)/$G$8)^($G$5+1)))) -> 0 | AP55: =(AO56-AO54)/2 -> 0 | AQ55: =$G$9*AP55 -> 0 | AR55: =AR54+AQ55 -> 0 | AT55: -146 | AU55: ='6500'!B216/1000000 -> 0.0004135 | AV55: ='6500'!C216 -> 1.476 | AW55: =IF(AT55<$B$13,0,IF(AT55<=0,$B$15*($B$16/AU55)^$B$3/100000,$B$15*($B$16/('6500'!B362/1000000))^$B$3*(('6500'!B362/1000000)/AU55)^$B$4/100000)) -> 0 | AX55: =AW55+IF(AT55<$B$7,0,($B$10-1)*N55/(AU55*100000)) -> 0 | AY55: =AX55-AV55 -> -1.476 | AZ55: =IF(AV55=0,0,AY55/AV55*100) -> -100 | BA55: -146 | BB55: ='5500'!B216/1000000 -> 0.0004135 | BC55: ='5500'!C216 -> 1.57 | BD55: =IF(BA55<$C$13,0,IF(BA55<=0,$C$15*($C$16/BB55)^$C$3/100000,$C$15*($C$16/('5500'!B362/1000000))^$C$3*(('5500'!B362/1000000)/BB55)^$C$4/100000)) -> 0 | BE55: =BD55+IF(BA55<$C$7,0,($C$10-1)*T55/(BB55*100000)) -> 0 | BF55: =BE55-BC55 -> -1.57 | BG55: =IF(BC55=0,0,BF55/BC55*100) -> -100 | BH55: -146 | BI55: ='4500'!B216/1000000 -> 0.0004135 | BJ55: ='4500'!C216 -> 1.455 | BK55: =IF(BH55<$D$13,0,IF(BH55<=0,$D$15*($D$16/BI55)^$D$3/100000,$D$15*($D$16/('4500'!B362/1000000))^$D$3*(('4500'!B362/1000000)/BI55)^$D$4/100000)) -> 0 | BL55: =BK55+IF(BH55<$D$7,0,($D$10-1)*Z55/(BI55*100000)) -> 0 | BM55: =BL55-BJ55 -> -1.455 | BN55: =IF(BJ55=0,0,BM55/BJ55*100) -> -100 | BO55: -146 | BP55: ='3500'!B216/1000000 -> 0.0004135 | BQ55: ='3500'!C216 -> 1.218 | BR55: =IF(BO55<$E$13,0,IF(BO55<=0,$E$15*($E$16/BP55)^$E$3/100000,$E$15*($E$16/('3500'!B362/1000000))^$E$3*(('3500'!B362/1000000)/BP55)^$E$4/100000)) -> 1.217877 | BS55: =BR55+IF(BO55<$E$7,0,($E$10-1)*AF55/(BP55*100000)) -> 1.217877 | BT55: =BS55-BQ55 -> -0.00012296274 | BU55: =IF(BQ55=0,0,BT55/BQ55*100) -> -0.010095463 | BV55: -146 | BW55: ='2000'!B216/1000000 -> 0.0004135 | BX55: ='2000'!C216 -> 1.236 | BY55: =IF(BV55<$F$13,0,IF(BV55<=0,$F$15*($F$16/BW55)^$F$3/100000,$F$15*($F$16/('2000'!B362/1000000))^$F$3*(('2000'!B362/1000000)/BW55)^$F$4/100000)) -> 1.2474128 | BZ55: =BY55+IF(BV55<$F$7,0,($F$10-1)*AL55/(BW55*100000)) -> 1.2474128 | CA55: =BZ55-BX55 -> 0.011412847 | CB55: =IF(BX55=0,0,CA55/BX55*100) -> 0.92336949 | CC55: -146 | CD55: ='1000'!B216/1000000 -> 0.0004135 | CE55: ='1000'!C216 -> 1.059 | CF55: =IF(CC55<$G$13,0,IF(CC55<=0,$G$15*($G$16/CD55)^$G$3/100000,$G$15*($G$16/('1000'!B362/1000000))^$G$3*(('1000'!B362/1000000)/CD55)^$G$4/100000)) -> 1.1121954 | CG55: =CF55+IF(CC55<$G$7,0,($G$10-1)*AR55/(CD55*100000)) -> 1.1121954 | CH55: =CG55-CE55 -> 0.053195362 | CI55: =IF(CE55=0,0,CH55/CE55*100) -> 5.0231692
I56: -145 | J56: ='6500'!B217/1000000 -> 0.00041202 | K56: =IF(I56<$B$7,0,MIN(1,1-EXP(-$B$6*((I56-$B$7)/$B$8)^($B$5+1)))) -> 0 | L56: =(K57-K55)/2 -> 0 | M56: =$B$9*L56 -> 0 | N56: =N55+M56 -> 0 | O56: -145 | P56: ='5500'!B217/1000000 -> 0.00041202 | Q56: =IF(O56<$C$7,0,MIN(1,1-EXP(-$C$6*((O56-$C$7)/$C$8)^($C$5+1)))) -> 0 | R56: =(Q57-Q55)/2 -> 0 | S56: =$C$9*R56 -> 0 | T56: =T55+S56 -> 0 | U56: -145 | V56: ='4500'!B217/1000000 -> 0.00041202 | W56: =IF(U56<$D$7,0,MIN(1,1-EXP(-$D$6*((U56-$D$7)/$D$8)^($D$5+1)))) -> 0 | X56: =(W57-W55)/2 -> 0 | Y56: =$D$9*X56 -> 0 | Z56: =Z55+Y56 -> 0 | AA56: -145 | AB56: ='3500'!B217/1000000 -> 0.00041202 | AC56: =IF(AA56<$E$7,0,MIN(1,1-EXP(-$E$6*((AA56-$E$7)/$E$8)^($E$5+1)))) -> 0 | AD56: =(AC57-AC55)/2 -> 0 | AE56: =$E$9*AD56 -> 0 | AF56: =AF55+AE56 -> 0 | AG56: -145 | AH56: ='2000'!B217/1000000 -> 0.00041202 | AI56: =IF(AG56<$F$7,0,MIN(1,1-EXP(-$F$6*((AG56-$F$7)/$F$8)^($F$5+1)))) -> 0 | AJ56: =(AI57-AI55)/2 -> 0 | AK56: =$F$9*AJ56 -> 0 | AL56: =AL55+AK56 -> 0 | AM56: -145 | AN56: ='1000'!B217/1000000 -> 0.00041202 | AO56: =IF(AM56<$G$7,0,MIN(1,1-EXP(-$G$6*((AM56-$G$7)/$G$8)^($G$5+1)))) -> 0 | AP56: =(AO57-AO55)/2 -> 0 | AQ56: =$G$9*AP56 -> 0 | AR56: =AR55+AQ56 -> 0 | AT56: -145 | AU56: ='6500'!B217/1000000 -> 0.00041202 | AV56: ='6500'!C217 -> 1.504 | AW56: =IF(AT56<$B$13,0,IF(AT56<=0,$B$15*($B$16/AU56)^$B$3/100000,$B$15*($B$16/('6500'!B362/1000000))^$B$3*(('6500'!B362/1000000)/AU56)^$B$4/100000)) -> 1.504 | AX56: =AW56+IF(AT56<$B$7,0,($B$10-1)*N56/(AU56*100000)) -> 1.504 | AY56: =AX56-AV56 -> 0 | AZ56: =IF(AV56=0,0,AY56/AV56*100) -> 0 | BA56: -145 | BB56: ='5500'!B217/1000000 -> 0.00041202 | BC56: ='5500'!C217 -> 1.598 | BD56: =IF(BA56<$C$13,0,IF(BA56<=0,$C$15*($C$16/BB56)^$C$3/100000,$C$15*($C$16/('5500'!B362/1000000))^$C$3*(('5500'!B362/1000000)/BB56)^$C$4/100000)) -> 1.598 | BE56: =BD56+IF(BA56<$C$7,0,($C$10-1)*T56/(BB56*100000)) -> 1.598 | BF56: =BE56-BC56 -> 0 | BG56: =IF(BC56=0,0,BF56/BC56*100) -> 0 | BH56: -145 | BI56: ='4500'!B217/1000000 -> 0.00041202 | BJ56: ='4500'!C217 -> 1.459 | BK56: =IF(BH56<$D$13,0,IF(BH56<=0,$D$15*($D$16/BI56)^$D$3/100000,$D$15*($D$16/('4500'!B362/1000000))^$D$3*(('4500'!B362/1000000)/BI56)^$D$4/100000)) -> 1.459 | BL56: =BK56+IF(BH56<$D$7,0,($D$10-1)*Z56/(BI56*100000)) -> 1.459 | BM56: =BL56-BJ56 -> 0 | BN56: =IF(BJ56=0,0,BM56/BJ56*100) -> 0 | BO56: -145 | BP56: ='3500'!B217/1000000 -> 0.00041202 | BQ56: ='3500'!C217 -> 1.217 | BR56: =IF(BO56<$E$13,0,IF(BO56<=0,$E$15*($E$16/BP56)^$E$3/100000,$E$15*($E$16/('3500'!B362/1000000))^$E$3*(('3500'!B362/1000000)/BP56)^$E$4/100000)) -> 1.2236343 | BS56: =BR56+IF(BO56<$E$7,0,($E$10-1)*AF56/(BP56*100000)) -> 1.2236343 | BT56: =BS56-BQ56 -> 0.0066343172 | BU56: =IF(BQ56=0,0,BT56/BQ56*100) -> 0.54513699 | BV56: -145 | BW56: ='2000'!B217/1000000 -> 0.00041202 | BX56: ='2000'!C217 -> 1.246 | BY56: =IF(BV56<$F$13,0,IF(BV56<=0,$F$15*($F$16/BW56)^$F$3/100000,$F$15*($F$16/('2000'!B362/1000000))^$F$3*(('2000'!B362/1000000)/BW56)^$F$4/100000)) -> 1.2532877 | BZ56: =BY56+IF(BV56<$F$7,0,($F$10-1)*AL56/(BW56*100000)) -> 1.2532877 | CA56: =BZ56-BX56 -> 0.0072877318 | CB56: =IF(BX56=0,0,CA56/BX56*100) -> 0.58489019 | CC56: -145 | CD56: ='1000'!B217/1000000 -> 0.00041202 | CE56: ='1000'!C217 -> 1.056 | CF56: =IF(CC56<$G$13,0,IF(CC56<=0,$G$15*($G$16/CD56)^$G$3/100000,$G$15*($G$16/('1000'!B362/1000000))^$G$3*(('1000'!B362/1000000)/CD56)^$G$4/100000)) -> 1.1174687 | CG56: =CF56+IF(CC56<$G$7,0,($G$10-1)*AR56/(CD56*100000)) -> 1.1174687 | CH56: =CG56-CE56 -> 0.061468679 | CI56: =IF(CE56=0,0,CH56/CE56*100) -> 5.8208976
I57: -144 | J57: ='6500'!B218/1000000 -> 0.00041049 | K57: =IF(I57<$B$7,0,MIN(1,1-EXP(-$B$6*((I57-$B$7)/$B$8)^($B$5+1)))) -> 0 | L57: =(K58-K56)/2 -> 0 | M57: =$B$9*L57 -> 0 | N57: =N56+M57 -> 0 | O57: -144 | P57: ='5500'!B218/1000000 -> 0.00041049 | Q57: =IF(O57<$C$7,0,MIN(1,1-EXP(-$C$6*((O57-$C$7)/$C$8)^($C$5+1)))) -> 0 | R57: =(Q58-Q56)/2 -> 0 | S57: =$C$9*R57 -> 0 | T57: =T56+S57 -> 0 | U57: -144 | V57: ='4500'!B218/1000000 -> 0.00041049 | W57: =IF(U57<$D$7,0,MIN(1,1-EXP(-$D$6*((U57-$D$7)/$D$8)^($D$5+1)))) -> 0 | X57: =(W58-W56)/2 -> 0 | Y57: =$D$9*X57 -> 0 | Z57: =Z56+Y57 -> 0 | AA57: -144 | AB57: ='3500'!B218/1000000 -> 0.00041049 | AC57: =IF(AA57<$E$7,0,MIN(1,1-EXP(-$E$6*((AA57-$E$7)/$E$8)^($E$5+1)))) -> 0 | AD57: =(AC58-AC56)/2 -> 0 | AE57: =$E$9*AD57 -> 0 | AF57: =AF56+AE57 -> 0 | AG57: -144 | AH57: ='2000'!B218/1000000 -> 0.00041049 | AI57: =IF(AG57<$F$7,0,MIN(1,1-EXP(-$F$6*((AG57-$F$7)/$F$8)^($F$5+1)))) -> 0 | AJ57: =(AI58-AI56)/2 -> 0 | AK57: =$F$9*AJ57 -> 0 | AL57: =AL56+AK57 -> 0 | AM57: -144 | AN57: ='1000'!B218/1000000 -> 0.00041049 | AO57: =IF(AM57<$G$7,0,MIN(1,1-EXP(-$G$6*((AM57-$G$7)/$G$8)^($G$5+1)))) -> 0 | AP57: =(AO58-AO56)/2 -> 0 | AQ57: =$G$9*AP57 -> 0 | AR57: =AR56+AQ57 -> 0 | AT57: -144 | AU57: ='6500'!B218/1000000 -> 0.00041049 | AV57: ='6500'!C218 -> 1.539 | AW57: =IF(AT57<$B$13,0,IF(AT57<=0,$B$15*($B$16/AU57)^$B$3/100000,$B$15*($B$16/('6500'!B362/1000000))^$B$3*(('6500'!B362/1000000)/AU57)^$B$4/100000)) -> 1.5111763 | AX57: =AW57+IF(AT57<$B$7,0,($B$10-1)*N57/(AU57*100000)) -> 1.5111763 | AY57: =AX57-AV57 -> -0.027823661 | AZ57: =IF(AV57=0,0,AY57/AV57*100) -> -1.8079052 | BA57: -144 | BB57: ='5500'!B218/1000000 -> 0.00041049 | BC57: ='5500'!C218 -> 1.625 | BD57: =IF(BA57<$C$13,0,IF(BA57<=0,$C$15*($C$16/BB57)^$C$3/100000,$C$15*($C$16/('5500'!B362/1000000))^$C$3*(('5500'!B362/1000000)/BB57)^$C$4/100000)) -> 1.6057324 | BE57: =BD57+IF(BA57<$C$7,0,($C$10-1)*T57/(BB57*100000)) -> 1.6057324 | BF57: =BE57-BC57 -> -0.019267614 | BG57: =IF(BC57=0,0,BF57/BC57*100) -> -1.1856994 | BH57: -144 | BI57: ='4500'!B218/1000000 -> 0.00041049 | BJ57: ='4500'!C218 -> 1.462 | BK57: =IF(BH57<$D$13,0,IF(BH57<=0,$D$15*($D$16/BI57)^$D$3/100000,$D$15*($D$16/('4500'!B362/1000000))^$D$3*(('4500'!B362/1000000)/BI57)^$D$4/100000)) -> 1.4660952 | BL57: =BK57+IF(BH57<$D$7,0,($D$10-1)*Z57/(BI57*100000)) -> 1.4660952 | BM57: =BL57-BJ57 -> 0.0040952466 | BN57: =IF(BJ57=0,0,BM57/BJ57*100) -> 0.28011263 | BO57: -144 | BP57: ='3500'!B218/1000000 -> 0.00041049 | BQ57: ='3500'!C218 -> 1.227 | BR57: =IF(BO57<$E$13,0,IF(BO57<=0,$E$15*($E$16/BP57)^$E$3/100000,$E$15*($E$16/('3500'!B362/1000000))^$E$3*(('3500'!B362/1000000)/BP57)^$E$4/100000)) -> 1.2296367 | BS57: =BR57+IF(BO57<$E$7,0,($E$10-1)*AF57/(BP57*100000)) -> 1.2296367 | BT57: =BS57-BQ57 -> 0.002636652 | BU57: =IF(BQ57=0,0,BT57/BQ57*100) -> 0.21488606 | BV57: -144 | BW57: ='2000'!B218/1000000 -> 0.00041049 | BX57: ='2000'!C218 -> 1.255 | BY57: =IF(BV57<$F$13,0,IF(BV57<=0,$F$15*($F$16/BW57)^$F$3/100000,$F$15*($F$16/('2000'!B362/1000000))^$F$3*(('2000'!B362/1000000)/BW57)^$F$4/100000)) -> 1.2594126 | BZ57: =BY57+IF(BV57<$F$7,0,($F$10-1)*AL57/(BW57*100000)) -> 1.2594126 | CA57: =BZ57-BX57 -> 0.0044125678 | CB57: =IF(BX57=0,0,CA57/BX57*100) -> 0.35159903 | CC57: -144 | CD57: ='1000'!B218/1000000 -> 0.00041049 | CE57: ='1000'!C218 -> 1.058 | CF57: =IF(CC57<$G$13,0,IF(CC57<=0,$G$15*($G$16/CD57)^$G$3/100000,$G$15*($G$16/('1000'!B362/1000000))^$G$3*(('1000'!B362/1000000)/CD57)^$G$4/100000)) -> 1.1229665 | CG57: =CF57+IF(CC57<$G$7,0,($G$10-1)*AR57/(CD57*100000)) -> 1.1229665 | CH57: =CG57-CE57 -> 0.064966529 | CI57: =IF(CE57=0,0,CH57/CE57*100) -> 6.1405037
I58: -143 | J58: ='6500'!B219/1000000 -> 0.00040892 | K58: =IF(I58<$B$7,0,MIN(1,1-EXP(-$B$6*((I58-$B$7)/$B$8)^($B$5+1)))) -> 0 | L58: =(K59-K57)/2 -> 0 | M58: =$B$9*L58 -> 0 | N58: =N57+M58 -> 0 | O58: -143 | P58: ='5500'!B219/1000000 -> 0.00040892 | Q58: =IF(O58<$C$7,0,MIN(1,1-EXP(-$C$6*((O58-$C$7)/$C$8)^($C$5+1)))) -> 0 | R58: =(Q59-Q57)/2 -> 0 | S58: =$C$9*R58 -> 0 | T58: =T57+S58 -> 0 | U58: -143 | V58: ='4500'!B219/1000000 -> 0.00040892 | W58: =IF(U58<$D$7,0,MIN(1,1-EXP(-$D$6*((U58-$D$7)/$D$8)^($D$5+1)))) -> 0 | X58: =(W59-W57)/2 -> 0 | Y58: =$D$9*X58 -> 0 | Z58: =Z57+Y58 -> 0 | AA58: -143 | AB58: ='3500'!B219/1000000 -> 0.00040892 | AC58: =IF(AA58<$E$7,0,MIN(1,1-EXP(-$E$6*((AA58-$E$7)/$E$8)^($E$5+1)))) -> 0 | AD58: =(AC59-AC57)/2 -> 0 | AE58: =$E$9*AD58 -> 0 | AF58: =AF57+AE58 -> 0 | AG58: -143 | AH58: ='2000'!B219/1000000 -> 0.00040892 | AI58: =IF(AG58<$F$7,0,MIN(1,1-EXP(-$F$6*((AG58-$F$7)/$F$8)^($F$5+1)))) -> 0 | AJ58: =(AI59-AI57)/2 -> 0 | AK58: =$F$9*AJ58 -> 0 | AL58: =AL57+AK58 -> 0 | AM58: -143 | AN58: ='1000'!B219/1000000 -> 0.00040892 | AO58: =IF(AM58<$G$7,0,MIN(1,1-EXP(-$G$6*((AM58-$G$7)/$G$8)^($G$5+1)))) -> 0 | AP58: =(AO59-AO57)/2 -> 0 | AQ58: =$G$9*AP58 -> 0 | AR58: =AR57+AQ58 -> 0 | AT58: -143 | AU58: ='6500'!B219/1000000 -> 0.00040892 | AV58: ='6500'!C219 -> 1.572 | AW58: =IF(AT58<$B$13,0,IF(AT58<=0,$B$15*($B$16/AU58)^$B$3/100000,$B$15*($B$16/('6500'!B362/1000000))^$B$3*(('6500'!B362/1000000)/AU58)^$B$4/100000)) -> 1.518604 | AX58: =AW58+IF(AT58<$B$7,0,($B$10-1)*N58/(AU58*100000)) -> 1.518604 | AY58: =AX58-AV58 -> -0.053396045 | AZ58: =IF(AV58=0,0,AY58/AV58*100) -> -3.3966949 | BA58: -143 | BB58: ='5500'!B219/1000000 -> 0.00040892 | BC58: ='5500'!C219 -> 1.644 | BD58: =IF(BA58<$C$13,0,IF(BA58<=0,$C$15*($C$16/BB58)^$C$3/100000,$C$15*($C$16/('5500'!B362/1000000))^$C$3*(('5500'!B362/1000000)/BB58)^$C$4/100000)) -> 1.6137361 | BE58: =BD58+IF(BA58<$C$7,0,($C$10-1)*T58/(BB58*100000)) -> 1.6137361 | BF58: =BE58-BC58 -> -0.030263937 | BG58: =IF(BC58=0,0,BF58/BC58*100) -> -1.8408721 | BH58: -143 | BI58: ='4500'!B219/1000000 -> 0.00040892 | BJ58: ='4500'!C219 -> 1.462 | BK58: =IF(BH58<$D$13,0,IF(BH58<=0,$D$15*($D$16/BI58)^$D$3/100000,$D$15*($D$16/('4500'!B362/1000000))^$D$3*(('4500'!B362/1000000)/BI58)^$D$4/100000)) -> 1.4734396 | BL58: =BK58+IF(BH58<$D$7,0,($D$10-1)*Z58/(BI58*100000)) -> 1.4734396 | BM58: =BL58-BJ58 -> 0.011439611 | BN58: =IF(BJ58=0,0,BM58/BJ58*100) -> 0.78246315 | BO58: -143 | BP58: ='3500'!B219/1000000 -> 0.00040892 | BQ58: ='3500'!C219 -> 1.232 | BR58: =IF(BO58<$E$13,0,IF(BO58<=0,$E$15*($E$16/BP58)^$E$3/100000,$E$15*($E$16/('3500'!B362/1000000))^$E$3*(('3500'!B362/1000000)/BP58)^$E$4/100000)) -> 1.23585 | BS58: =BR58+IF(BO58<$E$7,0,($E$10-1)*AF58/(BP58*100000)) -> 1.23585 | BT58: =BS58-BQ58 -> 0.0038499972 | BU58: =IF(BQ58=0,0,BT58/BQ58*100) -> 0.31249977 | BV58: -143 | BW58: ='2000'!B219/1000000 -> 0.00040892 | BX58: ='2000'!C219 -> 1.261 | BY58: =IF(BV58<$F$13,0,IF(BV58<=0,$F$15*($F$16/BW58)^$F$3/100000,$F$15*($F$16/('2000'!B362/1000000))^$F$3*(('2000'!B362/1000000)/BW58)^$F$4/100000)) -> 1.2657526 | BZ58: =BY58+IF(BV58<$F$7,0,($F$10-1)*AL58/(BW58*100000)) -> 1.2657526 | CA58: =BZ58-BX58 -> 0.0047526032 | CB58: =IF(BX58=0,0,CA58/BX58*100) -> 0.37689161 | CC58: -143 | CD58: ='1000'!B219/1000000 -> 0.00040892 | CE58: ='1000'!C219 -> 1.06 | CF58: =IF(CC58<$G$13,0,IF(CC58<=0,$G$15*($G$16/CD58)^$G$3/100000,$G$15*($G$16/('1000'!B362/1000000))^$G$3*(('1000'!B362/1000000)/CD58)^$G$4/100000)) -> 1.1286577 | CG58: =CF58+IF(CC58<$G$7,0,($G$10-1)*AR58/(CD58*100000)) -> 1.1286577 | CH58: =CG58-CE58 -> 0.068657738 | CI58: =IF(CE58=0,0,CH58/CE58*100) -> 6.4771451
I59: -142 | J59: ='6500'!B220/1000000 -> 0.00040731 | K59: =IF(I59<$B$7,0,MIN(1,1-EXP(-$B$6*((I59-$B$7)/$B$8)^($B$5+1)))) -> 0 | L59: =(K60-K58)/2 -> 0 | M59: =$B$9*L59 -> 0 | N59: =N58+M59 -> 0 | O59: -142 | P59: ='5500'!B220/1000000 -> 0.00040731 | Q59: =IF(O59<$C$7,0,MIN(1,1-EXP(-$C$6*((O59-$C$7)/$C$8)^($C$5+1)))) -> 0 | R59: =(Q60-Q58)/2 -> 0 | S59: =$C$9*R59 -> 0 | T59: =T58+S59 -> 0 | U59: -142 | V59: ='4500'!B220/1000000 -> 0.00040731 | W59: =IF(U59<$D$7,0,MIN(1,1-EXP(-$D$6*((U59-$D$7)/$D$8)^($D$5+1)))) -> 0 | X59: =(W60-W58)/2 -> 0 | Y59: =$D$9*X59 -> 0 | Z59: =Z58+Y59 -> 0 | AA59: -142 | AB59: ='3500'!B220/1000000 -> 0.00040731 | AC59: =IF(AA59<$E$7,0,MIN(1,1-EXP(-$E$6*((AA59-$E$7)/$E$8)^($E$5+1)))) -> 0 | AD59: =(AC60-AC58)/2 -> 0 | AE59: =$E$9*AD59 -> 0 | AF59: =AF58+AE59 -> 0 | AG59: -142 | AH59: ='2000'!B220/1000000 -> 0.00040731 | AI59: =IF(AG59<$F$7,0,MIN(1,1-EXP(-$F$6*((AG59-$F$7)/$F$8)^($F$5+1)))) -> 0 | AJ59: =(AI60-AI58)/2 -> 0 | AK59: =$F$9*AJ59 -> 0 | AL59: =AL58+AK59 -> 0 | AM59: -142 | AN59: ='1000'!B220/1000000 -> 0.00040731 | AO59: =IF(AM59<$G$7,0,MIN(1,1-EXP(-$G$6*((AM59-$G$7)/$G$8)^($G$5+1)))) -> 0 | AP59: =(AO60-AO58)/2 -> 0 | AQ59: =$G$9*AP59 -> 0 | AR59: =AR58+AQ59 -> 0 | AT59: -142 | AU59: ='6500'!B220/1000000 -> 0.00040731 | AV59: ='6500'!C220 -> 1.592 | AW59: =IF(AT59<$B$13,0,IF(AT59<=0,$B$15*($B$16/AU59)^$B$3/100000,$B$15*($B$16/('6500'!B362/1000000))^$B$3*(('6500'!B362/1000000)/AU59)^$B$4/100000)) -> 1.5262886 | AX59: =AW59+IF(AT59<$B$7,0,($B$10-1)*N59/(AU59*100000)) -> 1.5262886 | AY59: =AX59-AV59 -> -0.065711374 | AZ59: =IF(AV59=0,0,AY59/AV59*100) -> -4.1275989 | BA59: -142 | BB59: ='5500'!B220/1000000 -> 0.00040731 | BC59: ='5500'!C220 -> 1.657 | BD59: =IF(BA59<$C$13,0,IF(BA59<=0,$C$15*($C$16/BB59)^$C$3/100000,$C$15*($C$16/('5500'!B362/1000000))^$C$3*(('5500'!B362/1000000)/BB59)^$C$4/100000)) -> 1.6220173 | BE59: =BD59+IF(BA59<$C$7,0,($C$10-1)*T59/(BB59*100000)) -> 1.6220173 | BF59: =BE59-BC59 -> -0.034982691 | BG59: =IF(BC59=0,0,BF59/BC59*100) -> -2.1112064 | BH59: -142 | BI59: ='4500'!B220/1000000 -> 0.00040731 | BJ59: ='4500'!C220 -> 1.455 | BK59: =IF(BH59<$D$13,0,IF(BH59<=0,$D$15*($D$16/BI59)^$D$3/100000,$D$15*($D$16/('4500'!B362/1000000))^$D$3*(('4500'!B362/1000000)/BI59)^$D$4/100000)) -> 1.4810389 | BL59: =BK59+IF(BH59<$D$7,0,($D$10-1)*Z59/(BI59*100000)) -> 1.4810389 | BM59: =BL59-BJ59 -> 0.026038872 | BN59: =IF(BJ59=0,0,BM59/BJ59*100) -> 1.7896132 | BO59: -142 | BP59: ='3500'!B220/1000000 -> 0.00040731 | BQ59: ='3500'!C220 -> 1.242 | BR59: =IF(BO59<$E$13,0,IF(BO59<=0,$E$15*($E$16/BP59)^$E$3/100000,$E$15*($E$16/('3500'!B362/1000000))^$E$3*(('3500'!B362/1000000)/BP59)^$E$4/100000)) -> 1.2422793 | BS59: =BR59+IF(BO59<$E$7,0,($E$10-1)*AF59/(BP59*100000)) -> 1.2422793 | BT59: =BS59-BQ59 -> 0.00027926751 | BU59: =IF(BQ59=0,0,BT59/BQ59*100) -> 0.022485307 | BV59: -142 | BW59: ='2000'!B220/1000000 -> 0.00040731 | BX59: ='2000'!C220 -> 1.268 | BY59: =IF(BV59<$F$13,0,IF(BV59<=0,$F$15*($F$16/BW59)^$F$3/100000,$F$15*($F$16/('2000'!B362/1000000))^$F$3*(('2000'!B362/1000000)/BW59)^$F$4/100000)) -> 1.2723128 | BZ59: =BY59+IF(BV59<$F$7,0,($F$10-1)*AL59/(BW59*100000)) -> 1.2723128 | CA59: =BZ59-BX59 -> 0.0043128416 | CB59: =IF(BX59=0,0,CA59/BX59*100) -> 0.34012946 | CC59: -142 | CD59: ='1000'!B220/1000000 -> 0.00040731 | CE59: ='1000'!C220 -> 1.062 | CF59: =IF(CC59<$G$13,0,IF(CC59<=0,$G$15*($G$16/CD59)^$G$3/100000,$G$15*($G$16/('1000'!B362/1000000))^$G$3*(('1000'!B362/1000000)/CD59)^$G$4/100000)) -> 1.1345468 | CG59: =CF59+IF(CC59<$G$7,0,($G$10-1)*AR59/(CD59*100000)) -> 1.1345468 | CH59: =CG59-CE59 -> 0.072546817 | CI59: =IF(CE59=0,0,CH59/CE59*100) -> 6.8311504
I60: -141 | J60: ='6500'!B221/1000000 -> 0.00040566 | K60: =IF(I60<$B$7,0,MIN(1,1-EXP(-$B$6*((I60-$B$7)/$B$8)^($B$5+1)))) -> 0 | L60: =(K61-K59)/2 -> 0 | M60: =$B$9*L60 -> 0 | N60: =N59+M60 -> 0 | O60: -141 | P60: ='5500'!B221/1000000 -> 0.00040566 | Q60: =IF(O60<$C$7,0,MIN(1,1-EXP(-$C$6*((O60-$C$7)/$C$8)^($C$5+1)))) -> 0 | R60: =(Q61-Q59)/2 -> 0 | S60: =$C$9*R60 -> 0 | T60: =T59+S60 -> 0 | U60: -141 | V60: ='4500'!B221/1000000 -> 0.00040566 | W60: =IF(U60<$D$7,0,MIN(1,1-EXP(-$D$6*((U60-$D$7)/$D$8)^($D$5+1)))) -> 0 | X60: =(W61-W59)/2 -> 0 | Y60: =$D$9*X60 -> 0 | Z60: =Z59+Y60 -> 0 | AA60: -141 | AB60: ='3500'!B221/1000000 -> 0.00040566 | AC60: =IF(AA60<$E$7,0,MIN(1,1-EXP(-$E$6*((AA60-$E$7)/$E$8)^($E$5+1)))) -> 0 | AD60: =(AC61-AC59)/2 -> 0 | AE60: =$E$9*AD60 -> 0 | AF60: =AF59+AE60 -> 0 | AG60: -141 | AH60: ='2000'!B221/1000000 -> 0.00040566 | AI60: =IF(AG60<$F$7,0,MIN(1,1-EXP(-$F$6*((AG60-$F$7)/$F$8)^($F$5+1)))) -> 0 | AJ60: =(AI61-AI59)/2 -> 0 | AK60: =$F$9*AJ60 -> 0 | AL60: =AL59+AK60 -> 0 | AM60: -141 | AN60: ='1000'!B221/1000000 -> 0.00040566 | AO60: =IF(AM60<$G$7,0,MIN(1,1-EXP(-$G$6*((AM60-$G$7)/$G$8)^($G$5+1)))) -> 0 | AP60: =(AO61-AO59)/2 -> 0 | AQ60: =$G$9*AP60 -> 0 | AR60: =AR59+AQ60 -> 0 | AT60: -141 | AU60: ='6500'!B221/1000000 -> 0.00040566 | AV60: ='6500'!C221 -> 1.609 | AW60: =IF(AT60<$B$13,0,IF(AT60<=0,$B$15*($B$16/AU60)^$B$3/100000,$B$15*($B$16/('6500'!B362/1000000))^$B$3*(('6500'!B362/1000000)/AU60)^$B$4/100000)) -> 1.5342364 | AX60: =AW60+IF(AT60<$B$7,0,($B$10-1)*N60/(AU60*100000)) -> 1.5342364 | AY60: =AX60-AV60 -> -0.074763605 | AZ60: =IF(AV60=0,0,AY60/AV60*100) -> -4.6465882 | BA60: -141 | BB60: ='5500'!B221/1000000 -> 0.00040566 | BC60: ='5500'!C221 -> 1.662 | BD60: =IF(BA60<$C$13,0,IF(BA60<=0,$C$15*($C$16/BB60)^$C$3/100000,$C$15*($C$16/('5500'!B362/1000000))^$C$3*(('5500'!B362/1000000)/BB60)^$C$4/100000)) -> 1.6305827 | BE60: =BD60+IF(BA60<$C$7,0,($C$10-1)*T60/(BB60*100000)) -> 1.6305827 | BF60: =BE60-BC60 -> -0.031417303 | BG60: =IF(BC60=0,0,BF60/BC60*100) -> -1.8903311 | BH60: -141 | BI60: ='4500'!B221/1000000 -> 0.00040566 | BJ60: ='4500'!C221 -> 1.455 | BK60: =IF(BH60<$D$13,0,IF(BH60<=0,$D$15*($D$16/BI60)^$D$3/100000,$D$15*($D$16/('4500'!B362/1000000))^$D$3*(('4500'!B362/1000000)/BI60)^$D$4/100000)) -> 1.4888991 | BL60: =BK60+IF(BH60<$D$7,0,($D$10-1)*Z60/(BI60*100000)) -> 1.4888991 | BM60: =BL60-BJ60 -> 0.033899079 | BN60: =IF(BJ60=0,0,BM60/BJ60*100) -> 2.3298336 | BO60: -141 | BP60: ='3500'!B221/1000000 -> 0.00040566 | BQ60: ='3500'!C221 -> 1.257 | BR60: =IF(BO60<$E$13,0,IF(BO60<=0,$E$15*($E$16/BP60)^$E$3/100000,$E$15*($E$16/('3500'!B362/1000000))^$E$3*(('3500'!B362/1000000)/BP60)^$E$4/100000)) -> 1.2489296 | BS60: =BR60+IF(BO60<$E$7,0,($E$10-1)*AF60/(BP60*100000)) -> 1.2489296 | BT60: =BS60-BQ60 -> -0.0080703909 | BU60: =IF(BQ60=0,0,BT60/BQ60*100) -> -0.64203587 | BV60: -141 | BW60: ='2000'!B221/1000000 -> 0.00040566 | BX60: ='2000'!C221 -> 1.277 | BY60: =IF(BV60<$F$13,0,IF(BV60<=0,$F$15*($F$16/BW60)^$F$3/100000,$F$15*($F$16/('2000'!B362/1000000))^$F$3*(('2000'!B362/1000000)/BW60)^$F$4/100000)) -> 1.2790985 | BZ60: =BY60+IF(BV60<$F$7,0,($F$10-1)*AL60/(BW60*100000)) -> 1.2790985 | CA60: =BZ60-BX60 -> 0.0020985215 | CB60: =IF(BX60=0,0,CA60/BX60*100) -> 0.16433214 | CC60: -141 | CD60: ='1000'!B221/1000000 -> 0.00040566 | CE60: ='1000'!C221 -> 1.065 | CF60: =IF(CC60<$G$13,0,IF(CC60<=0,$G$15*($G$16/CD60)^$G$3/100000,$G$15*($G$16/('1000'!B362/1000000))^$G$3*(('1000'!B362/1000000)/CD60)^$G$4/100000)) -> 1.1406385 | CG60: =CF60+IF(CC60<$G$7,0,($G$10-1)*AR60/(CD60*100000)) -> 1.1406385 | CH60: =CG60-CE60 -> 0.075638487 | CI60: =IF(CE60=0,0,CH60/CE60*100) -> 7.1022054
I61: -140 | J61: ='6500'!B222/1000000 -> 0.00040396 | K61: =IF(I61<$B$7,0,MIN(1,1-EXP(-$B$6*((I61-$B$7)/$B$8)^($B$5+1)))) -> 0 | L61: =(K62-K60)/2 -> 0 | M61: =$B$9*L61 -> 0 | N61: =N60+M61 -> 0 | O61: -140 | P61: ='5500'!B222/1000000 -> 0.00040396 | Q61: =IF(O61<$C$7,0,MIN(1,1-EXP(-$C$6*((O61-$C$7)/$C$8)^($C$5+1)))) -> 0 | R61: =(Q62-Q60)/2 -> 0 | S61: =$C$9*R61 -> 0 | T61: =T60+S61 -> 0 | U61: -140 | V61: ='4500'!B222/1000000 -> 0.00040396 | W61: =IF(U61<$D$7,0,MIN(1,1-EXP(-$D$6*((U61-$D$7)/$D$8)^($D$5+1)))) -> 0 | X61: =(W62-W60)/2 -> 0 | Y61: =$D$9*X61 -> 0 | Z61: =Z60+Y61 -> 0 | AA61: -140 | AB61: ='3500'!B222/1000000 -> 0.00040396 | AC61: =IF(AA61<$E$7,0,MIN(1,1-EXP(-$E$6*((AA61-$E$7)/$E$8)^($E$5+1)))) -> 0 | AD61: =(AC62-AC60)/2 -> 0 | AE61: =$E$9*AD61 -> 0 | AF61: =AF60+AE61 -> 0 | AG61: -140 | AH61: ='2000'!B222/1000000 -> 0.00040396 | AI61: =IF(AG61<$F$7,0,MIN(1,1-EXP(-$F$6*((AG61-$F$7)/$F$8)^($F$5+1)))) -> 0 | AJ61: =(AI62-AI60)/2 -> 0 | AK61: =$F$9*AJ61 -> 0 | AL61: =AL60+AK61 -> 0 | AM61: -140 | AN61: ='1000'!B222/1000000 -> 0.00040396 | AO61: =IF(AM61<$G$7,0,MIN(1,1-EXP(-$G$6*((AM61-$G$7)/$G$8)^($G$5+1)))) -> 0 | AP61: =(AO62-AO60)/2 -> 0 | AQ61: =$G$9*AP61 -> 0 | AR61: =AR60+AQ61 -> 0 | AT61: -140 | AU61: ='6500'!B222/1000000 -> 0.00040396 | AV61: ='6500'!C222 -> 1.625 | AW61: =IF(AT61<$B$13,0,IF(AT61<=0,$B$15*($B$16/AU61)^$B$3/100000,$B$15*($B$16/('6500'!B362/1000000))^$B$3*(('6500'!B362/1000000)/AU61)^$B$4/100000)) -> 1.5425024 | AX61: =AW61+IF(AT61<$B$7,0,($B$10-1)*N61/(AU61*100000)) -> 1.5425024 | AY61: =AX61-AV61 -> -0.082497551 | AZ61: =IF(AV61=0,0,AY61/AV61*100) -> -5.0767724 | BA61: -140 | BB61: ='5500'!B222/1000000 -> 0.00040396 | BC61: ='5500'!C222 -> 1.663 | BD61: =IF(BA61<$C$13,0,IF(BA61<=0,$C$15*($C$16/BB61)^$C$3/100000,$C$15*($C$16/('5500'!B362/1000000))^$C$3*(('5500'!B362/1000000)/BB61)^$C$4/100000)) -> 1.6394918 | BE61: =BD61+IF(BA61<$C$7,0,($C$10-1)*T61/(BB61*100000)) -> 1.6394918 | BF61: =BE61-BC61 -> -0.023508235 | BG61: =IF(BC61=0,0,BF61/BC61*100) -> -1.413604 | BH61: -140 | BI61: ='4500'!B222/1000000 -> 0.00040396 | BJ61: ='4500'!C222 -> 1.452 | BK61: =IF(BH61<$D$13,0,IF(BH61<=0,$D$15*($D$16/BI61)^$D$3/100000,$D$15*($D$16/('4500'!B362/1000000))^$D$3*(('4500'!B362/1000000)/BI61)^$D$4/100000)) -> 1.4970749 | BL61: =BK61+IF(BH61<$D$7,0,($D$10-1)*Z61/(BI61*100000)) -> 1.4970749 | BM61: =BL61-BJ61 -> 0.04507489 | BN61: =IF(BJ61=0,0,BM61/BJ61*100) -> 3.1043313 | BO61: -140 | BP61: ='3500'!B222/1000000 -> 0.00040396 | BQ61: ='3500'!C222 -> 1.278 | BR61: =IF(BO61<$E$13,0,IF(BO61<=0,$E$15*($E$16/BP61)^$E$3/100000,$E$15*($E$16/('3500'!B362/1000000))^$E$3*(('3500'!B362/1000000)/BP61)^$E$4/100000)) -> 1.2558473 | BS61: =BR61+IF(BO61<$E$7,0,($E$10-1)*AF61/(BP61*100000)) -> 1.2558473 | BT61: =BS61-BQ61 -> -0.022152701 | BU61: =IF(BQ61=0,0,BT61/BQ61*100) -> -1.7333882 | BV61: -140 | BW61: ='2000'!B222/1000000 -> 0.00040396 | BX61: ='2000'!C222 -> 1.277 | BY61: =IF(BV61<$F$13,0,IF(BV61<=0,$F$15*($F$16/BW61)^$F$3/100000,$F$15*($F$16/('2000'!B362/1000000))^$F$3*(('2000'!B362/1000000)/BW61)^$F$4/100000)) -> 1.2861568 | BZ61: =BY61+IF(BV61<$F$7,0,($F$10-1)*AL61/(BW61*100000)) -> 1.2861568 | CA61: =BZ61-BX61 -> 0.0091568477 | CB61: =IF(BX61=0,0,CA61/BX61*100) -> 0.71705933 | CC61: -140 | CD61: ='1000'!B222/1000000 -> 0.00040396 | CE61: ='1000'!C222 -> 1.067 | CF61: =IF(CC61<$G$13,0,IF(CC61<=0,$G$15*($G$16/CD61)^$G$3/100000,$G$15*($G$16/('1000'!B362/1000000))^$G$3*(('1000'!B362/1000000)/CD61)^$G$4/100000)) -> 1.1469751 | CG61: =CF61+IF(CC61<$G$7,0,($G$10-1)*AR61/(CD61*100000)) -> 1.1469751 | CH61: =CG61-CE61 -> 0.079975149 | CI61: =IF(CE61=0,0,CH61/CE61*100) -> 7.495328
I62: -139 | J62: ='6500'!B223/1000000 -> 0.00040222 | K62: =IF(I62<$B$7,0,MIN(1,1-EXP(-$B$6*((I62-$B$7)/$B$8)^($B$5+1)))) -> 0 | L62: =(K63-K61)/2 -> 0 | M62: =$B$9*L62 -> 0 | N62: =N61+M62 -> 0 | O62: -139 | P62: ='5500'!B223/1000000 -> 0.00040222 | Q62: =IF(O62<$C$7,0,MIN(1,1-EXP(-$C$6*((O62-$C$7)/$C$8)^($C$5+1)))) -> 0 | R62: =(Q63-Q61)/2 -> 0 | S62: =$C$9*R62 -> 0 | T62: =T61+S62 -> 0 | U62: -139 | V62: ='4500'!B223/1000000 -> 0.00040222 | W62: =IF(U62<$D$7,0,MIN(1,1-EXP(-$D$6*((U62-$D$7)/$D$8)^($D$5+1)))) -> 0 | X62: =(W63-W61)/2 -> 0 | Y62: =$D$9*X62 -> 0 | Z62: =Z61+Y62 -> 0 | AA62: -139 | AB62: ='3500'!B223/1000000 -> 0.00040222 | AC62: =IF(AA62<$E$7,0,MIN(1,1-EXP(-$E$6*((AA62-$E$7)/$E$8)^($E$5+1)))) -> 0 | AD62: =(AC63-AC61)/2 -> 0 | AE62: =$E$9*AD62 -> 0 | AF62: =AF61+AE62 -> 0 | AG62: -139 | AH62: ='2000'!B223/1000000 -> 0.00040222 | AI62: =IF(AG62<$F$7,0,MIN(1,1-EXP(-$F$6*((AG62-$F$7)/$F$8)^($F$5+1)))) -> 0 | AJ62: =(AI63-AI61)/2 -> 0 | AK62: =$F$9*AJ62 -> 0 | AL62: =AL61+AK62 -> 0 | AM62: -139 | AN62: ='1000'!B223/1000000 -> 0.00040222 | AO62: =IF(AM62<$G$7,0,MIN(1,1-EXP(-$G$6*((AM62-$G$7)/$G$8)^($G$5+1)))) -> 0 | AP62: =(AO63-AO61)/2 -> 0 | AQ62: =$G$9*AP62 -> 0 | AR62: =AR61+AQ62 -> 0 | AT62: -139 | AU62: ='6500'!B223/1000000 -> 0.00040222 | AV62: ='6500'!C223 -> 1.634 | AW62: =IF(AT62<$B$13,0,IF(AT62<=0,$B$15*($B$16/AU62)^$B$3/100000,$B$15*($B$16/('6500'!B362/1000000))^$B$3*(('6500'!B362/1000000)/AU62)^$B$4/100000)) -> 1.5510455 | AX62: =AW62+IF(AT62<$B$7,0,($B$10-1)*N62/(AU62*100000)) -> 1.5510455 | AY62: =AX62-AV62 -> -0.082954482 | AZ62: =IF(AV62=0,0,AY62/AV62*100) -> -5.0767737 | BA62: -139 | BB62: ='5500'!B223/1000000 -> 0.00040222 | BC62: ='5500'!C223 -> 1.659 | BD62: =IF(BA62<$C$13,0,IF(BA62<=0,$C$15*($C$16/BB62)^$C$3/100000,$C$15*($C$16/('5500'!B362/1000000))^$C$3*(('5500'!B362/1000000)/BB62)^$C$4/100000)) -> 1.6487001 | BE62: =BD62+IF(BA62<$C$7,0,($C$10-1)*T62/(BB62*100000)) -> 1.6487001 | BF62: =BE62-BC62 -> -0.010299896 | BG62: =IF(BC62=0,0,BF62/BC62*100) -> -0.62084967 | BH62: -139 | BI62: ='4500'!B223/1000000 -> 0.00040222 | BJ62: ='4500'!C223 -> 1.448 | BK62: =IF(BH62<$D$13,0,IF(BH62<=0,$D$15*($D$16/BI62)^$D$3/100000,$D$15*($D$16/('4500'!B362/1000000))^$D$3*(('4500'!B362/1000000)/BI62)^$D$4/100000)) -> 1.5055256 | BL62: =BK62+IF(BH62<$D$7,0,($D$10-1)*Z62/(BI62*100000)) -> 1.5055256 | BM62: =BL62-BJ62 -> 0.057525575 | BN62: =IF(BJ62=0,0,BM62/BJ62*100) -> 3.9727607 | BO62: -139 | BP62: ='3500'!B223/1000000 -> 0.00040222 | BQ62: ='3500'!C223 -> 1.302 | BR62: =IF(BO62<$E$13,0,IF(BO62<=0,$E$15*($E$16/BP62)^$E$3/100000,$E$15*($E$16/('3500'!B362/1000000))^$E$3*(('3500'!B362/1000000)/BP62)^$E$4/100000)) -> 1.2629979 | BS62: =BR62+IF(BO62<$E$7,0,($E$10-1)*AF62/(BP62*100000)) -> 1.2629979 | BT62: =BS62-BQ62 -> -0.039002092 | BU62: =IF(BQ62=0,0,BT62/BQ62*100) -> -2.9955524 | BV62: -139 | BW62: ='2000'!B223/1000000 -> 0.00040222 | BX62: ='2000'!C223 -> 1.276 | BY62: =IF(BV62<$F$13,0,IF(BV62<=0,$F$15*($F$16/BW62)^$F$3/100000,$F$15*($F$16/('2000'!B362/1000000))^$F$3*(('2000'!B362/1000000)/BW62)^$F$4/100000)) -> 1.2934527 | BZ62: =BY62+IF(BV62<$F$7,0,($F$10-1)*AL62/(BW62*100000)) -> 1.2934527 | CA62: =BZ62-BX62 -> 0.017452676 | CB62: =IF(BX62=0,0,CA62/BX62*100) -> 1.3677646 | CC62: -139 | CD62: ='1000'!B223/1000000 -> 0.00040222 | CE62: ='1000'!C223 -> 1.068 | CF62: =IF(CC62<$G$13,0,IF(CC62<=0,$G$15*($G$16/CD62)^$G$3/100000,$G$15*($G$16/('1000'!B362/1000000))^$G$3*(('1000'!B362/1000000)/CD62)^$G$4/100000)) -> 1.1535253 | CG62: =CF62+IF(CC62<$G$7,0,($G$10-1)*AR62/(CD62*100000)) -> 1.1535253 | CH62: =CG62-CE62 -> 0.085525276 | CI62: =IF(CE62=0,0,CH62/CE62*100) -> 8.0079846
I63: -138 | J63: ='6500'!B224/1000000 -> 0.00040043 | K63: =IF(I63<$B$7,0,MIN(1,1-EXP(-$B$6*((I63-$B$7)/$B$8)^($B$5+1)))) -> 0 | L63: =(K64-K62)/2 -> 0 | M63: =$B$9*L63 -> 0 | N63: =N62+M63 -> 0 | O63: -138 | P63: ='5500'!B224/1000000 -> 0.00040043 | Q63: =IF(O63<$C$7,0,MIN(1,1-EXP(-$C$6*((O63-$C$7)/$C$8)^($C$5+1)))) -> 0 | R63: =(Q64-Q62)/2 -> 0 | S63: =$C$9*R63 -> 0 | T63: =T62+S63 -> 0 | U63: -138 | V63: ='4500'!B224/1000000 -> 0.00040043 | W63: =IF(U63<$D$7,0,MIN(1,1-EXP(-$D$6*((U63-$D$7)/$D$8)^($D$5+1)))) -> 0 | X63: =(W64-W62)/2 -> 0 | Y63: =$D$9*X63 -> 0 | Z63: =Z62+Y63 -> 0 | AA63: -138 | AB63: ='3500'!B224/1000000 -> 0.00040043 | AC63: =IF(AA63<$E$7,0,MIN(1,1-EXP(-$E$6*((AA63-$E$7)/$E$8)^($E$5+1)))) -> 0 | AD63: =(AC64-AC62)/2 -> 0 | AE63: =$E$9*AD63 -> 0 | AF63: =AF62+AE63 -> 0 | AG63: -138 | AH63: ='2000'!B224/1000000 -> 0.00040043 | AI63: =IF(AG63<$F$7,0,MIN(1,1-EXP(-$F$6*((AG63-$F$7)/$F$8)^($F$5+1)))) -> 0 | AJ63: =(AI64-AI62)/2 -> 0 | AK63: =$F$9*AJ63 -> 0 | AL63: =AL62+AK63 -> 0 | AM63: -138 | AN63: ='1000'!B224/1000000 -> 0.00040043 | AO63: =IF(AM63<$G$7,0,MIN(1,1-EXP(-$G$6*((AM63-$G$7)/$G$8)^($G$5+1)))) -> 0 | AP63: =(AO64-AO62)/2 -> 0 | AQ63: =$G$9*AP63 -> 0 | AR63: =AR62+AQ63 -> 0 | AT63: -138 | AU63: ='6500'!B224/1000000 -> 0.00040043 | AV63: ='6500'!C224 -> 1.641 | AW63: =IF(AT63<$B$13,0,IF(AT63<=0,$B$15*($B$16/AU63)^$B$3/100000,$B$15*($B$16/('6500'!B362/1000000))^$B$3*(('6500'!B362/1000000)/AU63)^$B$4/100000)) -> 1.5599224 | AX63: =AW63+IF(AT63<$B$7,0,($B$10-1)*N63/(AU63*100000)) -> 1.5599224 | AY63: =AX63-AV63 -> -0.081077564 | AZ63: =IF(AV63=0,0,AY63/AV63*100) -> -4.9407413 | BA63: -138 | BB63: ='5500'!B224/1000000 -> 0.00040043 | BC63: ='5500'!C224 -> 1.652 | BD63: =IF(BA63<$C$13,0,IF(BA63<=0,$C$15*($C$16/BB63)^$C$3/100000,$C$15*($C$16/('5500'!B362/1000000))^$C$3*(('5500'!B362/1000000)/BB63)^$C$4/100000)) -> 1.658269 | BE63: =BD63+IF(BA63<$C$7,0,($C$10-1)*T63/(BB63*100000)) -> 1.658269 | BF63: =BE63-BC63 -> 0.0062690441 | BG63: =IF(BC63=0,0,BF63/BC63*100) -> 0.37948209 | BH63: -138 | BI63: ='4500'!B224/1000000 -> 0.00040043 | BJ63: ='4500'!C224 -> 1.453 | BK63: =IF(BH63<$D$13,0,IF(BH63<=0,$D$15*($D$16/BI63)^$D$3/100000,$D$15*($D$16/('4500'!B362/1000000))^$D$3*(('4500'!B362/1000000)/BI63)^$D$4/100000)) -> 1.5143074 | BL63: =BK63+IF(BH63<$D$7,0,($D$10-1)*Z63/(BI63*100000)) -> 1.5143074 | BM63: =BL63-BJ63 -> 0.061307441 | BN63: =IF(BJ63=0,0,BM63/BJ63*100) -> 4.2193697 | BO63: -138 | BP63: ='3500'!B224/1000000 -> 0.00040043 | BQ63: ='3500'!C224 -> 1.3 | BR63: =IF(BO63<$E$13,0,IF(BO63<=0,$E$15*($E$16/BP63)^$E$3/100000,$E$15*($E$16/('3500'!B362/1000000))^$E$3*(('3500'!B362/1000000)/BP63)^$E$4/100000)) -> 1.2704291 | BS63: =BR63+IF(BO63<$E$7,0,($E$10-1)*AF63/(BP63*100000)) -> 1.2704291 | BT63: =BS63-BQ63 -> -0.029570882 | BU63: =IF(BQ63=0,0,BT63/BQ63*100) -> -2.2746832 | BV63: -138 | BW63: ='2000'!B224/1000000 -> 0.00040043 | BX63: ='2000'!C224 -> 1.291 | BY63: =IF(BV63<$F$13,0,IF(BV63<=0,$F$15*($F$16/BW63)^$F$3/100000,$F$15*($F$16/('2000'!B362/1000000))^$F$3*(('2000'!B362/1000000)/BW63)^$F$4/100000)) -> 1.3010346 | BZ63: =BY63+IF(BV63<$F$7,0,($F$10-1)*AL63/(BW63*100000)) -> 1.3010346 | CA63: =BZ63-BX63 -> 0.01003464 | CB63: =IF(BX63=0,0,CA63/BX63*100) -> 0.77727655 | CC63: -138 | CD63: ='1000'!B224/1000000 -> 0.00040043 | CE63: ='1000'!C224 -> 1.069 | CF63: =IF(CC63<$G$13,0,IF(CC63<=0,$G$15*($G$16/CD63)^$G$3/100000,$G$15*($G$16/('1000'!B362/1000000))^$G$3*(('1000'!B362/1000000)/CD63)^$G$4/100000)) -> 1.1603326 | CG63: =CF63+IF(CC63<$G$7,0,($G$10-1)*AR63/(CD63*100000)) -> 1.1603326 | CH63: =CG63-CE63 -> 0.091332556 | CI63: =IF(CE63=0,0,CH63/CE63*100) -> 8.5437377
I64: -137 | J64: ='6500'!B225/1000000 -> 0.00039861 | K64: =IF(I64<$B$7,0,MIN(1,1-EXP(-$B$6*((I64-$B$7)/$B$8)^($B$5+1)))) -> 0 | L64: =(K65-K63)/2 -> 0 | M64: =$B$9*L64 -> 0 | N64: =N63+M64 -> 0 | O64: -137 | P64: ='5500'!B225/1000000 -> 0.00039861 | Q64: =IF(O64<$C$7,0,MIN(1,1-EXP(-$C$6*((O64-$C$7)/$C$8)^($C$5+1)))) -> 0 | R64: =(Q65-Q63)/2 -> 0 | S64: =$C$9*R64 -> 0 | T64: =T63+S64 -> 0 | U64: -137 | V64: ='4500'!B225/1000000 -> 0.00039861 | W64: =IF(U64<$D$7,0,MIN(1,1-EXP(-$D$6*((U64-$D$7)/$D$8)^($D$5+1)))) -> 0 | X64: =(W65-W63)/2 -> 0 | Y64: =$D$9*X64 -> 0 | Z64: =Z63+Y64 -> 0 | AA64: -137 | AB64: ='3500'!B225/1000000 -> 0.00039861 | AC64: =IF(AA64<$E$7,0,MIN(1,1-EXP(-$E$6*((AA64-$E$7)/$E$8)^($E$5+1)))) -> 0 | AD64: =(AC65-AC63)/2 -> 0 | AE64: =$E$9*AD64 -> 0 | AF64: =AF63+AE64 -> 0 | AG64: -137 | AH64: ='2000'!B225/1000000 -> 0.00039861 | AI64: =IF(AG64<$F$7,0,MIN(1,1-EXP(-$F$6*((AG64-$F$7)/$F$8)^($F$5+1)))) -> 0 | AJ64: =(AI65-AI63)/2 -> 0 | AK64: =$F$9*AJ64 -> 0 | AL64: =AL63+AK64 -> 0 | AM64: -137 | AN64: ='1000'!B225/1000000 -> 0.00039861 | AO64: =IF(AM64<$G$7,0,MIN(1,1-EXP(-$G$6*((AM64-$G$7)/$G$8)^($G$5+1)))) -> 0 | AP64: =(AO65-AO63)/2 -> 0 | AQ64: =$G$9*AP64 -> 0 | AR64: =AR63+AQ64 -> 0 | AT64: -137 | AU64: ='6500'!B225/1000000 -> 0.00039861 | AV64: ='6500'!C225 -> 1.64 | AW64: =IF(AT64<$B$13,0,IF(AT64<=0,$B$15*($B$16/AU64)^$B$3/100000,$B$15*($B$16/('6500'!B362/1000000))^$B$3*(('6500'!B362/1000000)/AU64)^$B$4/100000)) -> 1.5690414 | AX64: =AW64+IF(AT64<$B$7,0,($B$10-1)*N64/(AU64*100000)) -> 1.5690414 | AY64: =AX64-AV64 -> -0.070958648 | AZ64: =IF(AV64=0,0,AY64/AV64*100) -> -4.3267468 | BA64: -137 | BB64: ='5500'!B225/1000000 -> 0.00039861 | BC64: ='5500'!C225 -> 1.642 | BD64: =IF(BA64<$C$13,0,IF(BA64<=0,$C$15*($C$16/BB64)^$C$3/100000,$C$15*($C$16/('5500'!B362/1000000))^$C$3*(('5500'!B362/1000000)/BB64)^$C$4/100000)) -> 1.6680996 | BE64: =BD64+IF(BA64<$C$7,0,($C$10-1)*T64/(BB64*100000)) -> 1.6680996 | BF64: =BE64-BC64 -> 0.026099646 | BG64: =IF(BC64=0,0,BF64/BC64*100) -> 1.5895034 | BH64: -137 | BI64: ='4500'!B225/1000000 -> 0.00039861 | BJ64: ='4500'!C225 -> 1.463 | BK64: =IF(BH64<$D$13,0,IF(BH64<=0,$D$15*($D$16/BI64)^$D$3/100000,$D$15*($D$16/('4500'!B362/1000000))^$D$3*(('4500'!B362/1000000)/BI64)^$D$4/100000)) -> 1.5233297 | BL64: =BK64+IF(BH64<$D$7,0,($D$10-1)*Z64/(BI64*100000)) -> 1.5233297 | BM64: =BL64-BJ64 -> 0.060329712 | BN64: =IF(BJ64=0,0,BM64/BJ64*100) -> 4.1236987 | BO64: -137 | BP64: ='3500'!B225/1000000 -> 0.00039861 | BQ64: ='3500'!C225 -> 1.3 | BR64: =IF(BO64<$E$13,0,IF(BO64<=0,$E$15*($E$16/BP64)^$E$3/100000,$E$15*($E$16/('3500'!B362/1000000))^$E$3*(('3500'!B362/1000000)/BP64)^$E$4/100000)) -> 1.2780641 | BS64: =BR64+IF(BO64<$E$7,0,($E$10-1)*AF64/(BP64*100000)) -> 1.2780641 | BT64: =BS64-BQ64 -> -0.021935854 | BU64: =IF(BQ64=0,0,BT64/BQ64*100) -> -1.6873734 | BV64: -137 | BW64: ='2000'!B225/1000000 -> 0.00039861 | BX64: ='2000'!C225 -> 1.294 | BY64: =IF(BV64<$F$13,0,IF(BV64<=0,$F$15*($F$16/BW64)^$F$3/100000,$F$15*($F$16/('2000'!B362/1000000))^$F$3*(('2000'!B362/1000000)/BW64)^$F$4/100000)) -> 1.3088244 | BZ64: =BY64+IF(BV64<$F$7,0,($F$10-1)*AL64/(BW64*100000)) -> 1.3088244 | CA64: =BZ64-BX64 -> 0.014824386 | CB64: =IF(BX64=0,0,CA64/BX64*100) -> 1.1456249 | CC64: -137 | CD64: ='1000'!B225/1000000 -> 0.00039861 | CE64: ='1000'!C225 -> 1.07 | CF64: =IF(CC64<$G$13,0,IF(CC64<=0,$G$15*($G$16/CD64)^$G$3/100000,$G$15*($G$16/('1000'!B362/1000000))^$G$3*(('1000'!B362/1000000)/CD64)^$G$4/100000)) -> 1.1673267 | CG64: =CF64+IF(CC64<$G$7,0,($G$10-1)*AR64/(CD64*100000)) -> 1.1673267 | CH64: =CG64-CE64 -> 0.097326664 | CI64: =IF(CE64=0,0,CH64/CE64*100) -> 9.0959499
