Workbook

Sheet Sheet1
A1: Thermodynamics and Combustion - Engine Cycle Simulation (Task 2)
A3: Author: [Mikel Olaberria]
A4: 2416696
A6: Date: 2026-03-01
A8: Objective:
A9: This workbook analyses real in-cylinder pressure data from a Ford Sigma 1.6L engine at three different engine speeds to characterise its thermodynamic cycle and compare combustion behavior across the operating range.
A12: Owen Williams
A13: Thermodynamics

Sheet Sheet2
A1: Engine Geometry Parameters
A3: Parameter Value Units Notes
A4: Bore (B) 0.079 m From data | F4: 0.079
A5: Stroke (S) 0.0814 m From data | F5: 0.0814
A6: Conrod Length (l) 0.137 m From data | F6: 0.137
A7: Crank Radius (a) 0.0407 m = S/2 | F7: 0.0407
A8: Compression Ratio (CR) 11.16 - From data | F8: 11.16
A10: Calculated Values
A11: Swept Volume (V_s) 0.0003989 m³ = PI()*(B^2)*S/4
A12: Clearance Volume (V_c) 0.0000393 m³ = V_s/(CR-1)

Sheet 6500
A1: C.A.(DEG) | B1: VOL(CC) | C1: MEAN(B) | D1: Pressure (Pa) | E1: Volume m^3) | G1: dp/dθ (bar/deg) | H1: Ln(volume) | I1: Ln(Pressure) | J1: Temperature (k) | K1: Work increment (J)
A2: -360 | B2: 39.27 | C2: 1.097 | D2: =C2*100000 -> 109700 | E2: =B2*1000000 -> 39270000 | G2: =(C3-C2)/(A3-A2) -> 0.038 | H2: =LN(B2) -> 3.6704609 | I2: =LN(D2) -> 11.605505 | J2: =(D2*B2)/(287*350) -> 42.886202 | K2: =D2*(B3-B2) -> 4388
A3: -359 | B3: 39.31 | C3: 1.135 | D3: =C3*100000 -> 113500 | E3: =B3*1000000 -> 39310000 | G3: =(C4-C3)/(A4-A3) -> 0.014 | H3: =LN(B3) -> 3.6714789 | I3: =LN(D3) -> 11.639558 | J3: =(D3*B3)/(287*350) -> 44.416974 | K3: =D3*(B4-B3) -> 13620
A4: -358 | B4: 39.43 | C4: 1.149 | D4: =C4*100000 -> 114900 | E4: =B4*1000000 -> 39430000 | G4: =(C5-C4)/(A5-A4) -> 0.012 | H4: =LN(B4) -> 3.6745269 | I4: =LN(D4) -> 11.651817 | J4: =(D4*B4)/(287*350) -> 45.102111 | K4: =D4*(B5-B4) -> 22980
A5: -357 | B5: 39.63 | C5: 1.161 | D5: =C5*100000 -> 116100 | E5: =B5*1000000 -> 39630000 | G5: =(C6-C5)/(A6-A5) -> 0.012 | H5: =LN(B5) -> 3.6795864 | I5: =LN(D5) -> 11.662207 | J5: =(D5*B5)/(287*350) -> 45.804311 | K5: =D5*(B6-B5) -> 31347
A6: -356 | B6: 39.9 | C6: 1.173 | D6: =C6*100000 -> 117300 | E6: =B6*1000000 -> 39900000 | G6: =(C7-C6)/(A7-A6) -> -0.02 | H6: =LN(B6) -> 3.6863763 | I6: =LN(D6) -> 11.67249 | J6: =(D6*B6)/(287*350) -> 46.593031 | K6: =D6*(B7-B6) -> 42228
A7: -355 | B7: 40.26 | C7: 1.153 | D7: =C7*100000 -> 115300 | E7: =B7*1000000 -> 40260000 | G7: =(C8-C7)/(A8-A7) -> -0.038 | H7: =LN(B7) -> 3.6953584 | I7: =LN(D7) -> 11.655293 | J7: =(D7*B7)/(287*350) -> 46.211827 | K7: =D7*(B8-B7) -> 49579
A8: -354 | B8: 40.69 | C8: 1.115 | D8: =C8*100000 -> 111500 | E8: =B8*1000000 -> 40690000 | G8: =(C9-C8)/(A9-A8) -> -0.046 | H8: =LN(B8) -> 3.7059824 | I8: =LN(D8) -> 11.62178 | J8: =(D8*B8)/(287*350) -> 45.166103 | K8: =D8*(B9-B8) -> 56865
A9: -353 | B9: 41.2 | C9: 1.069 | D9: =C9*100000 -> 106900 | E9: =B9*1000000 -> 41200000 | G9: =(C10-C9)/(A10-A9) -> -0.039 | H9: =LN(B9) -> 3.7184383 | I9: =LN(D9) -> 11.579649 | J9: =(D9*B9)/(287*350) -> 43.845495 | K9: =D9*(B10-B9) -> 63071
A10: -352 | B10: 41.79 | C10: 1.03 | D10: =C10*100000 -> 103000 | E10: =B10*1000000 -> 41790000 | G10: =(C11-C10)/(A11-A10) -> -0.031 | H10: =LN(B10) -> 3.7326571 | I10: =LN(D10) -> 11.542484 | J10: =(D10*B10)/(287*350) -> 42.850871 | K10: =D10*(B11-B10) -> 67980
A11: -351 | B11: 42.45 | C11: 0.999 | D11: =C11*100000 -> 99900 | E11: =B11*1000000 -> 42450000 | G11: =(C12-C11)/(A12-A11) -> -0.061 | H11: =LN(B11) -> 3.7483269 | I11: =LN(D11) -> 11.511925 | J11: =(D11*B11)/(287*350) -> 42.217571 | K11: =D11*(B12-B11) -> 74925
A12: -350 | B12: 43.2 | C12: 0.938 | D12: =C12*100000 -> 93800 | E12: =B12*1000000 -> 43200000 | G12: =(C13-C12)/(A13-A12) -> -0.078 | H12: =LN(B12) -> 3.7658405 | I12: =LN(D12) -> 11.44892 | J12: =(D12*B12)/(287*350) -> 40.34007 | K12: =D12*(B13-B12) -> 76916
A13: -349 | B13: 44.02 | C13: 0.86 | D13: =C13*100000 -> 86000 | E13: =B13*1000000 -> 44020000 | G13: =(C14-C13)/(A14-A13) -> -0.076 | H13: =LN(B13) -> 3.7846441 | I13: =LN(D13) -> 11.362103 | J13: =(D13*B13)/(287*350) -> 37.687606 | K13: =D13*(B14-B13) -> 76540
A14: -348 | B14: 44.91 | C14: 0.784 | D14: =C14*100000 -> 78400 | E14: =B14*1000000 -> 44910000 | G14: =(C15-C14)/(A15-A14) -> -0.076 | H14: =LN(B14) -> 3.8046605 | I14: =LN(D14) -> 11.269579 | J14: =(D14*B14)/(287*350) -> 35.051707 | K14: =D14*(B15-B14) -> 76832
A15: -347 | B15: 45.89 | C15: 0.708 | D15: =C15*100000 -> 70800 | E15: =B15*1000000 -> 45890000 | G15: =(C16-C15)/(A16-A15) -> -0.06 | H15: =LN(B15) -> 3.8262472 | I15: =LN(D15) -> 11.167614 | J15: =(D15*B15)/(287*350) -> 32.344569 | K15: =D15*(B16-B15) -> 73632 | M15: ivc point -140
A16: -346 | B16: 46.93 | C16: 0.648 | D16: =C16*100000 -> 64800 | E16: =B16*1000000 -> 46930000 | G16: =(C17-C16)/(A17-A16) -> -0.031 | H16: =LN(B16) -> 3.8486571 | I16: =LN(D16) -> 11.079061 | J16: =(D16*B16)/(287*350) -> 30.274405 | K16: =D16*(B17-B16) -> 73224
A17: -345 | B17: 48.06 | C17: 0.617 | D17: =C17*100000 -> 61700 | E17: =B17*1000000 -> 48060000 | G17: =(C18-C17)/(A18-A17) -> -0.017 | H17: =LN(B17) -> 3.8724502 | I17: =LN(D17) -> 11.030039 | J17: =(D17*B17)/(287*350) -> 29.520179 | K17: =D17*(B18-B17) -> 74040 | M17: Peak pressure (Bar): | N17: =MAX(C2:C721) -> 67.103
A18: -344 | B18: 49.26 | C18: 0.6 | D18: =C18*100000 -> 60000 | E18: =B18*1000000 -> 49260000 | G18: =(C19-C18)/(A19-A18) -> 0 | H18: =LN(B18) -> 3.8971124 | I18: =LN(D18) -> 11.0021 | J18: =(D18*B18)/(287*350) -> 29.423594 | K18: =D18*(B19-B18) -> 76200 | M18: Peak Temperature (K): | N18: =MAX(J2:J721) -> 3717.1802
A19: -343 | B19: 50.53 | C19: 0.6 | D19: =C19*100000 -> 60000 | E19: =B19*1000000 -> 50530000 | G19: =(C20-C19)/(A20-A19) -> 0.005 | H19: =LN(B19) -> 3.9225672 | I19: =LN(D19) -> 11.0021 | J19: =(D19*B19)/(287*350) -> 30.18218 | K19: =D19*(B20-B19) -> 80400
A20: -342 | B20: 51.87 | C20: 0.605 | D20: =C20*100000 -> 60500 | E20: =B20*1000000 -> 51870000 | G20: =(C21-C20)/(A21-A20) -> 0.002 | H20: =LN(B20) -> 3.9487406 | I20: =LN(D20) -> 11.010399 | J20: =(D20*B20)/(287*350) -> 31.240767 | K20: =D20*(B21-B20) -> 85910
A21: -341 | B21: 53.29 | C21: 0.607 | D21: =C21*100000 -> 60700 | E21: =B21*1000000 -> 53290000 | G21: =(C22-C21)/(A22-A21) -> 0 | H21: =LN(B21) -> 3.9757487 | I21: =LN(D21) -> 11.013699 | J21: =(D21*B21)/(287*350) -> 32.20212 | K21: =D21*(B22-B21) -> 90443
A22: -340 | B22: 54.78 | C22: 0.607 | D22: =C22*100000 -> 60700 | E22: =B22*1000000 -> 54780000 | G22: =(C23-C22)/(A23-A22) -> 0.003 | H22: =LN(B22) -> 4.0033252 | I22: =LN(D22) -> 11.013699 | J22: =(D22*B22)/(287*350) -> 33.102499 | K22: =D22*(B23-B22) -> 94692
A23: -339 | B23: 56.34 | C23: 0.61 | D23: =C23*100000 -> 61000 | E23: =B23*1000000 -> 56340000 | G23: =(C24-C23)/(A24-A23) -> 0.005 | H23: =LN(B23) -> 4.0314048 | I23: =LN(D23) -> 11.018629 | J23: =(D23*B23)/(287*350) -> 34.21344 | K23: =D23*(B24-B23) -> 99430
A24: -338 | B24: 57.97 | C24: 0.615 | D24: =C24*100000 -> 61500 | E24: =B24*1000000 -> 57970000 | G24: =(C25-C24)/(A25-A24) -> 0.015 | H24: =LN(B24) -> 4.0599256 | I24: =LN(D24) -> 11.026792 | J24: =(D24*B24)/(287*350) -> 35.491837 | K24: =D24*(B25-B24) -> 104550
A25: -337 | B25: 59.67 | C25: 0.63 | D25: =C25*100000 -> 63000 | E25: =B25*1000000 -> 59670000 | G25: =(C26-C25)/(A26-A25) -> 0.025 | H25: =LN(B25) -> 4.0888294 | I25: =LN(D25) -> 11.05089 | J25: =(D25*B25)/(287*350) -> 37.423693 | K25: =D25*(B26-B25) -> 111510
A26: -336 | B26: 61.44 | C26: 0.655 | D26: =C26*100000 -> 65500 | E26: =B26*1000000 -> 61440000 | G26: =(C27-C26)/(A27-A26) -> 0.022 | H26: =LN(B26) -> 4.1180611 | I26: =LN(D26) -> 11.089805 | J26: =(D26*B26)/(287*350) -> 40.062917 | K26: =D26*(B27-B26) -> 120520
A27: -335 | B27: 63.28 | C27: 0.677 | D27: =C27*100000 -> 67700 | E27: =B27*1000000 -> 63280000 | G27: =(C28-C27)/(A28-A27) -> 0.005 | H27: =LN(B27) -> 4.1475693 | I27: =LN(D27) -> 11.122841 | J27: =(D27*B27)/(287*350) -> 42.648641 | K27: =D27*(B28-B27) -> 128630
A28: -334 | B28: 65.18 | C28: 0.682 | D28: =C28*100000 -> 68200 | E28: =B28*1000000 -> 65180000 | G28: =(C29-C28)/(A29-A28) -> 0.02 | H28: =LN(B28) -> 4.1771527 | I28: =LN(D28) -> 11.1302 | J28: =(D28*B28)/(287*350) -> 44.253619 | K28: =D28*(B29-B28) -> 134354
A29: -333 | B29: 67.15 | C29: 0.702 | D29: =C29*100000 -> 70200 | E29: =B29*1000000 -> 67150000 | G29: =(C30-C29)/(A30-A29) -> -0.005 | H29: =LN(B29) -> 4.2069289 | I29: =LN(D29) -> 11.159104 | J29: =(D29*B29)/(287*350) -> 46.928123 | K29: =D29*(B30-B29) -> 143208
A30: -332 | B30: 69.19 | C30: 0.697 | D30: =C30*100000 -> 69700 | E30: =B30*1000000 -> 69190000 | G30: =(C31-C30)/(A31-A30) -> 0.019 | H30: =LN(B30) -> 4.2368563 | I30: =LN(D30) -> 11.151956 | J30: =(D30*B30)/(287*350) -> 48.009388 | K30: =D30*(B31-B30) -> 146370
... A721: 359 | B721: 39.31 | C721: 1.063 | D721: =C721*100000 -> 106300 | E721: =B721*1000000 -> 39310000 | G721: =(C722-C721)/(A722-A721) -> 0.0029610028 | H721: =LN(B721) -> 3.6714789 | I721: =LN(D721) -> 11.574021 | J721: =(D721*B721)/(287*350) -> 41.599333 | K721: =D721*(B722-B721) -> -4178653

Sheet 5500
A1: C.A.(DEG) | B1: VOL(CC) | C1: MEAN(B) | D1: pressure (Pa) | E1: Volume (m^3) | G1: dp/dθ (bar/deg) | H1: Ln(volume) | I1: Ln(Pressure) | J1: Temperature (k) | K1: Work increment (J)
A2: -360 | B2: 39.27 | C2: 0.992 | D2: =C2*100000 -> 99200 | E2: =B2*1000000 -> 39270000 | G2: =(C3-C2)/(A3-A2) -> -0.02 | H2: =LN(B2) -> 3.6704609 | I2: =LN(D2) -> 11.504893 | J2: =(D2*B2)/(287*350) -> 38.781324 | K2: =D2*(B3-B2) -> 3968 | M2: Peak pressure (Bar): | N2: =MAX(C2:C721) -> 61.254
A3: -359 | B3: 39.31 | C3: 0.972 | D3: =C3*100000 -> 97200 | E3: =B3*1000000 -> 39310000 | G3: =(C4-C3)/(A4-A3) -> -0.04 | H3: =LN(B3) -> 3.6714789 | I3: =LN(D3) -> 11.484526 | J3: =(D3*B3)/(287*350) -> 38.038148 | K3: =D3*(B4-B3) -> 11664 | M3: Peak Temperature (K): | N3: =MAX(J2:J721) -> 3890.2389
A4: -358 | B4: 39.43 | C4: 0.932 | D4: =C4*100000 -> 93200 | E4: =B4*1000000 -> 39430000 | G4: =(C5-C4)/(A5-A4) -> -0.027 | H4: =LN(B4) -> 3.6745269 | I4: =LN(D4) -> 11.442503 | J4: =(D4*B4)/(287*350) -> 36.584131 | K4: =D4*(B5-B4) -> 18640
A5: -357 | B5: 39.63 | C5: 0.905 | D5: =C5*100000 -> 90500 | E5: =B5*1000000 -> 39630000 | G5: =(C6-C5)/(A6-A5) -> -0.01 | H5: =LN(B5) -> 3.6795864 | I5: =LN(D5) -> 11.413105 | J5: =(D5*B5)/(287*350) -> 35.70448 | K5: =D5*(B6-B5) -> 24435
A6: -356 | B6: 39.9 | C6: 0.895 | D6: =C6*100000 -> 89500 | E6: =B6*1000000 -> 39900000 | G6: =(C7-C6)/(A7-A6) -> -0.012 | H6: =LN(B6) -> 3.6863763 | I6: =LN(D6) -> 11.401994 | J6: =(D6*B6)/(287*350) -> 35.550523 | K6: =D6*(B7-B6) -> 32220
A7: -355 | B7: 40.26 | C7: 0.883 | D7: =C7*100000 -> 88300 | E7: =B7*1000000 -> 40260000 | G7: =(C8-C7)/(A8-A7) -> -0.039 | H7: =LN(B7) -> 3.6953584 | I7: =LN(D7) -> 11.388495 | J7: =(D7*B7)/(287*350) -> 35.390324 | K7: =D7*(B8-B7) -> 37969
A8: -354 | B8: 40.69 | C8: 0.844 | D8: =C8*100000 -> 84400 | E8: =B8*1000000 -> 40690000 | G8: =(C9-C8)/(A9-A8) -> -0.046 | H8: =LN(B8) -> 3.7059824 | I8: =LN(D8) -> 11.343323 | J8: =(D8*B8)/(287*350) -> 34.188512 | K8: =D8*(B9-B8) -> 43044
A9: -353 | B9: 41.2 | C9: 0.798 | D9: =C9*100000 -> 79800 | E9: =B9*1000000 -> 41200000 | G9: =(C10-C9)/(A10-A9) -> -0.047 | H9: =LN(B9) -> 3.7184383 | I9: =LN(D9) -> 11.287279 | J9: =(D9*B9)/(287*350) -> 32.730314 | K9: =D9*(B10-B9) -> 47082
A10: -352 | B10: 41.79 | C10: 0.751 | D10: =C10*100000 -> 75100 | E10: =B10*1000000 -> 41790000 | G10: =(C11-C10)/(A11-A10) -> -0.047 | H10: =LN(B10) -> 3.7326571 | I10: =LN(D10) -> 11.226576 | J10: =(D10*B10)/(287*350) -> 31.243693 | K10: =D10*(B11-B10) -> 49566
A11: -351 | B11: 42.45 | C11: 0.704 | D11: =C11*100000 -> 70400 | E11: =B11*1000000 -> 42450000 | G11: =(C12-C11)/(A12-A11) -> -0.039 | H11: =LN(B11) -> 3.7483269 | I11: =LN(D11) -> 11.161949 | J11: =(D11*B11)/(287*350) -> 29.750921 | K11: =D11*(B12-B11) -> 52800
A12: -350 | B12: 43.2 | C12: 0.665 | D12: =C12*100000 -> 66500 | E12: =B12*1000000 -> 43200000 | G12: =(C13-C12)/(A13-A12) -> -0.012 | H12: =LN(B12) -> 3.7658405 | I12: =LN(D12) -> 11.104957 | J12: =(D12*B12)/(287*350) -> 28.599303 | K12: =D12*(B13-B12) -> 54530
A13: -349 | B13: 44.02 | C13: 0.653 | D13: =C13*100000 -> 65300 | E13: =B13*1000000 -> 44020000 | G13: =(C14-C13)/(A14-A13) -> 0.013 | H13: =LN(B13) -> 3.7846441 | I13: =LN(D13) -> 11.086747 | J13: =(D13*B13)/(287*350) -> 28.616287 | K13: =D13*(B14-B13) -> 58117
A14: -348 | B14: 44.91 | C14: 0.666 | D14: =C14*100000 -> 66600 | E14: =B14*1000000 -> 44910000 | G14: =(C15-C14)/(A15-A14) -> 0.015 | H14: =LN(B14) -> 3.8046605 | I14: =LN(D14) -> 11.10646 | J14: =(D14*B14)/(287*350) -> 29.776068 | K14: =D14*(B15-B14) -> 65268
A15: -347 | B15: 45.89 | C15: 0.681 | D15: =C15*100000 -> 68100 | E15: =B15*1000000 -> 45890000 | G15: =(C16-C15)/(A16-A15) -> 0.001 | H15: =LN(B15) -> 3.8262472 | I15: =LN(D15) -> 11.128732 | J15: =(D15*B15)/(287*350) -> 31.11109 | K15: =D15*(B16-B15) -> 70824
... A721: 359 | B721: 39.31 | C721: 1.005 | D721: =C721*100000 -> 100500 | E721: =B721*1000000 -> 39310000 | G721: =(C722-C721)/(A722-A721) -> 0.0027994429 | H721: =LN(B721) -> 3.6714789 | I721: =LN(D721) -> 11.517913 | J721: =(D721*B721)/(287*350) -> 39.329567 | K721: =D721*(B722-B721) -> -3950655

Sheet 4500
A1: C.A.(DEG) | B1: VOL(CC) | C1: MEAN(B) | D1: pressure (Pa) | E1: Volume (m^3) | G1: dp/dθ (bar/deg) | H1: Ln(volume) | I1: Ln(Pressure) | J1: Temperature (k) | K1: Work increment (J)
A2: -360 | B2: 39.27 | C2: 0.905 | D2: =C2*100000 -> 90500 | E2: =B2*1000000 -> 39270000 | G2: =(C3-C2)/(A3-A2) -> -0.014 | H2: =LN(B2) -> 3.6704609 | I2: =LN(D2) -> 11.413105 | J2: =(D2*B2)/(287*350) -> 35.380139 | K2: =D2*(B3-B2) -> 3620 | M2: Peak pressure (Bar): | N2: =MAX(C2:C721) -> 67.845
A3: -359 | B3: 39.31 | C3: 0.891 | D3: =C3*100000 -> 89100 | E3: =B3*1000000 -> 39310000 | G3: =(C4-C3)/(A4-A3) -> 0 | H3: =LN(B3) -> 3.6714789 | I3: =LN(D3) -> 11.397515 | J3: =(D3*B3)/(287*350) -> 34.868303 | K3: =D3*(B4-B3) -> 10692 | M3: Peak Temperature (K): | N3: =MAX(J2:J721) -> 3800.9775
A4: -358 | B4: 39.43 | C4: 0.891 | D4: =C4*100000 -> 89100 | E4: =B4*1000000 -> 39430000 | G4: =(C5-C4)/(A5-A4) -> -0.013 | H4: =LN(B4) -> 3.6745269 | I4: =LN(D4) -> 11.397515 | J4: =(D4*B4)/(287*350) -> 34.974744 | K4: =D4*(B5-B4) -> 17820
A5: -357 | B5: 39.63 | C5: 0.878 | D5: =C5*100000 -> 87800 | E5: =B5*1000000 -> 39630000 | G5: =(C6-C5)/(A6-A5) -> -0.021 | H5: =LN(B5) -> 3.6795864 | I5: =LN(D5) -> 11.382817 | J5: =(D5*B5)/(287*350) -> 34.639263 | K5: =D5*(B6-B5) -> 23706
A6: -356 | B6: 39.9 | C6: 0.857 | D6: =C6*100000 -> 85700 | E6: =B6*1000000 -> 39900000 | G6: =(C7-C6)/(A7-A6) -> -0.029 | H6: =LN(B6) -> 3.6863763 | I6: =LN(D6) -> 11.358608 | J6: =(D6*B6)/(287*350) -> 34.041115 | K6: =D6*(B7-B6) -> 30852
A7: -355 | B7: 40.26 | C7: 0.828 | D7: =C7*100000 -> 82800 | E7: =B7*1000000 -> 40260000 | G7: =(C8-C7)/(A8-A7) -> -0.033 | H7: =LN(B7) -> 3.6953584 | I7: =LN(D7) -> 11.324183 | J7: =(D7*B7)/(287*350) -> 33.185943 | K7: =D7*(B8-B7) -> 35604
A8: -354 | B8: 40.69 | C8: 0.795 | D8: =C8*100000 -> 79500 | E8: =B8*1000000 -> 40690000 | G8: =(C9-C8)/(A9-A8) -> -0.032 | H8: =LN(B8) -> 3.7059824 | I8: =LN(D8) -> 11.283512 | J8: =(D8*B8)/(287*350) -> 32.203634 | K8: =D8*(B9-B8) -> 40545
A9: -353 | B9: 41.2 | C9: 0.763 | D9: =C9*100000 -> 76300 | E9: =B9*1000000 -> 41200000 | G9: =(C10-C9)/(A10-A9) -> -0.023 | H9: =LN(B9) -> 3.7184383 | I9: =LN(D9) -> 11.242428 | J9: =(D9*B9)/(287*350) -> 31.294774 | K9: =D9*(B10-B9) -> 45017
A10: -352 | B10: 41.79 | C10: 0.74 | D10: =C10*100000 -> 74000 | E10: =B10*1000000 -> 41790000 | G10: =(C11-C10)/(A11-A10) -> -0.012 | H10: =LN(B10) -> 3.7326571 | I10: =LN(D10) -> 11.21182 | J10: =(D10*B10)/(287*350) -> 30.786063 | K10: =D10*(B11-B10) -> 48840
A11: -351 | B11: 42.45 | C11: 0.728 | D11: =C11*100000 -> 72800 | E11: =B11*1000000 -> 42450000 | G11: =(C12-C11)/(A12-A11) -> -0.008 | H11: =LN(B11) -> 3.7483269 | I11: =LN(D11) -> 11.195471 | J11: =(D11*B11)/(287*350) -> 30.765157 | K11: =D11*(B12-B11) -> 54600
A12: -350 | B12: 43.2 | C12: 0.72 | D12: =C12*100000 -> 72000 | E12: =B12*1000000 -> 43200000 | G12: =(C13-C12)/(A13-A12) -> -0.01 | H12: =LN(B12) -> 3.7658405 | I12: =LN(D12) -> 11.184421 | J12: =(D12*B12)/(287*350) -> 30.964659 | K12: =D12*(B13-B12) -> 59040
A13: -349 | B13: 44.02 | C13: 0.71 | D13: =C13*100000 -> 71000 | E13: =B13*1000000 -> 44020000 | G13: =(C14-C13)/(A14-A13) -> -0.007 | H13: =LN(B13) -> 3.7846441 | I13: =LN(D13) -> 11.170435 | J13: =(D13*B13)/(287*350) -> 31.114186 | K13: =D13*(B14-B13) -> 63190
A14: -348 | B14: 44.91 | C14: 0.703 | D14: =C14*100000 -> 70300 | E14: =B14*1000000 -> 44910000 | G14: =(C15-C14)/(A15-A14) -> -0.007 | H14: =LN(B14) -> 3.8046605 | I14: =LN(D14) -> 11.160527 | J14: =(D14*B14)/(287*350) -> 31.430294 | K14: =D14*(B15-B14) -> 68894
A15: -347 | B15: 45.89 | C15: 0.696 | D15: =C15*100000 -> 69600 | E15: =B15*1000000 -> 45890000 | G15: =(C16-C15)/(A16-A15) -> -0.005 | H15: =LN(B15) -> 3.8262472 | I15: =LN(D15) -> 11.15052 | J15: =(D15*B15)/(287*350) -> 31.796356 | K15: =D15*(B16-B15) -> 72384
... A721: 359 | B721: 39.31 | C721: 0.934 | D721: =C721*100000 -> 93400 | E721: =B721*1000000 -> 39310000 | G721: =(C722-C721)/(A722-A721) -> 0.0026016713 | H721: =LN(B721) -> 3.6714789 | I721: =LN(D721) -> 11.444647 | J721: =(D721*B721)/(287*350) -> 36.55106 | K721: =D721*(B722-B721) -> -3671554

Sheet 3500
A1: C.A.(DEG) | B1: VOL(CC) | C1: MEAN(B) | D1: pressure (Pa) | E1: Volume (m^3) | G1: dp/dθ (bar/deg) | H1: Ln(volume) | I1: Ln(Pressure) | J1: Temperature (k) | K1: Work increment (J)
A2: -360 | B2: 39.27 | C2: 0.831 | D2: =C2*100000 -> 83100 | E2: =B2*1000000 -> 39270000 | G2: =(C3-C2)/(A3-A2) -> 0.003 | H2: =LN(B2) -> 3.6704609 | I2: =LN(D2) -> 11.3278 | J2: =(D2*B2)/(287*350) -> 32.487178 | K2: =D2*(B3-B2) -> 3324 | M2: Peak pressure (Bar): | N2: =MAX(C2:C721) -> 66.38
A3: -359 | B3: 39.31 | C3: 0.834 | D3: =C3*100000 -> 83400 | E3: =B3*1000000 -> 39310000 | G3: =(C4-C3)/(A4-A3) -> 0.003 | H3: =LN(B3) -> 3.6714789 | I3: =LN(D3) -> 11.331404 | J3: =(D3*B3)/(287*350) -> 32.63767 | K3: =D3*(B4-B3) -> 10008 | M3: Peak Temperature (K): | N3: =MAX(J2:J721) -> 3629.3553
A4: -358 | B4: 39.43 | C4: 0.837 | D4: =C4*100000 -> 83700 | E4: =B4*1000000 -> 39430000 | G4: =(C5-C4)/(A5-A4) -> 0.008 | H4: =LN(B4) -> 3.6745269 | I4: =LN(D4) -> 11.334994 | J4: =(D4*B4)/(287*350) -> 32.855062 | K4: =D4*(B5-B4) -> 16740
A5: -357 | B5: 39.63 | C5: 0.845 | D5: =C5*100000 -> 84500 | E5: =B5*1000000 -> 39630000 | G5: =(C6-C5)/(A6-A5) -> 0.005 | H5: =LN(B5) -> 3.6795864 | I5: =LN(D5) -> 11.344507 | J5: =(D5*B5)/(287*350) -> 33.337332 | K5: =D5*(B6-B5) -> 22815
A6: -356 | B6: 39.9 | C6: 0.85 | D6: =C6*100000 -> 85000 | E6: =B6*1000000 -> 39900000 | G6: =(C7-C6)/(A7-A6) -> 0.002 | H6: =LN(B6) -> 3.6863763 | I6: =LN(D6) -> 11.350407 | J6: =(D6*B6)/(287*350) -> 33.763066 | K6: =D6*(B7-B6) -> 30600
A7: -355 | B7: 40.26 | C7: 0.852 | D7: =C7*100000 -> 85200 | E7: =B7*1000000 -> 40260000 | G7: =(C8-C7)/(A8-A7) -> -0.001 | H7: =LN(B7) -> 3.6953584 | I7: =LN(D7) -> 11.352757 | J7: =(D7*B7)/(287*350) -> 34.147855 | K7: =D7*(B8-B7) -> 36636
A8: -354 | B8: 40.69 | C8: 0.851 | D8: =C8*100000 -> 85100 | E8: =B8*1000000 -> 40690000 | G8: =(C9-C8)/(A9-A8) -> 0.002 | H8: =LN(B8) -> 3.7059824 | I8: =LN(D8) -> 11.351582 | J8: =(D8*B8)/(287*350) -> 34.472066 | K8: =D8*(B9-B8) -> 43401
A9: -353 | B9: 41.2 | C9: 0.853 | D9: =C9*100000 -> 85300 | E9: =B9*1000000 -> 41200000 | G9: =(C10-C9)/(A10-A9) -> -0.003 | H9: =LN(B9) -> 3.7184383 | I9: =LN(D9) -> 11.35393 | J9: =(D9*B9)/(287*350) -> 34.986162 | K9: =D9*(B10-B9) -> 50327
A10: -352 | B10: 41.79 | C10: 0.85 | D10: =C10*100000 -> 85000 | E10: =B10*1000000 -> 41790000 | G10: =(C11-C10)/(A11-A10) -> -0.002 | H10: =LN(B10) -> 3.7326571 | I10: =LN(D10) -> 11.350407 | J10: =(D10*B10)/(287*350) -> 35.362369 | K10: =D10*(B11-B10) -> 56100
A11: -351 | B11: 42.45 | C11: 0.848 | D11: =C11*100000 -> 84800 | E11: =B11*1000000 -> 42450000 | G11: =(C12-C11)/(A12-A11) -> -0.001 | H11: =LN(B11) -> 3.7483269 | I11: =LN(D11) -> 11.348051 | J11: =(D11*B11)/(287*350) -> 35.836336 | K11: =D11*(B12-B11) -> 63600
A12: -350 | B12: 43.2 | C12: 0.847 | D12: =C12*100000 -> 84700 | E12: =B12*1000000 -> 43200000 | G12: =(C13-C12)/(A13-A12) -> -0.005 | H12: =LN(B12) -> 3.7658405 | I12: =LN(D12) -> 11.346871 | J12: =(D12*B12)/(287*350) -> 36.426481 | K12: =D12*(B13-B12) -> 69454
A13: -349 | B13: 44.02 | C13: 0.842 | D13: =C13*100000 -> 84200 | E13: =B13*1000000 -> 44020000 | G13: =(C14-C13)/(A14-A13) -> -0.008 | H13: =LN(B13) -> 3.7846441 | I13: =LN(D13) -> 11.34095 | J13: =(D13*B13)/(287*350) -> 36.898795 | K13: =D13*(B14-B13) -> 74938
A14: -348 | B14: 44.91 | C14: 0.834 | D14: =C14*100000 -> 83400 | E14: =B14*1000000 -> 44910000 | G14: =(C15-C14)/(A15-A14) -> -0.006 | H14: =LN(B14) -> 3.8046605 | I14: =LN(D14) -> 11.331404 | J14: =(D14*B14)/(287*350) -> 37.287148 | K14: =D14*(B15-B14) -> 81732
A15: -347 | B15: 45.89 | C15: 0.828 | D15: =C15*100000 -> 82800 | E15: =B15*1000000 -> 45890000 | G15: =(C16-C15)/(A16-A15) -> -0.003 | H15: =LN(B15) -> 3.8262472 | I15: =LN(D15) -> 11.324183 | J15: =(D15*B15)/(287*350) -> 37.8267 | K15: =D15*(B16-B15) -> 86112
... A721: 359 | B721: 39.31 | C721: 0.819 | D721: =C721*100000 -> 81900 | E721: =B721*1000000 -> 39310000 | G721: =(C722-C721)/(A722-A721) -> 0.002281337 | H721: =LN(B721) -> 3.6714789 | I721: =LN(D721) -> 11.313254 | J721: =(D721*B721)/(287*350) -> 32.050662 | K721: =D721*(B722-B721) -> -3219489

Sheet 2000
A1: C.A.(DEG) | B1: VOL(CC) | C1: MEAN(B) | D1: pressure (Pa) | E1: Volume (m^3) | G1: dp/dθ (bar/deg) | H1: Ln(volume) | I1: Ln(Pressure) | J1: Temperature (k) | K1: Work increment (J)
A2: -360 | B2: 39.27 | C2: 1.001 | D2: =C2*100000 -> 100100 | E2: =B2*1000000 -> 39270000 | G2: =(C3-C2)/(A3-A2) -> -0.007 | H2: =LN(B2) -> 3.6704609 | I2: =LN(D2) -> 11.513925 | J2: =(D2*B2)/(287*350) -> 39.133171 | K2: =D2*(B3-B2) -> 4004 | M2: Peak pressure (Bar): | N2: =MAX(C2:C721) -> 62.166
A3: -359 | B3: 39.31 | C3: 0.994 | D3: =C3*100000 -> 99400 | E3: =B3*1000000 -> 39310000 | G3: =(C4-C3)/(A4-A3) -> 0.003 | H3: =LN(B3) -> 3.6714789 | I3: =LN(D3) -> 11.506907 | J3: =(D3*B3)/(287*350) -> 38.899094 | K3: =D3*(B4-B3) -> 11928 | M3: Peak Temperature (K): | N3: =MAX(J2:J721) -> 3632.7571
A4: -358 | B4: 39.43 | C4: 0.997 | D4: =C4*100000 -> 99700 | E4: =B4*1000000 -> 39430000 | G4: =(C5-C4)/(A5-A4) -> -0.004 | H4: =LN(B4) -> 3.6745269 | I4: =LN(D4) -> 11.509921 | J4: =(D4*B4)/(287*350) -> 39.1356 | K4: =D4*(B5-B4) -> 19940
A5: -357 | B5: 39.63 | C5: 0.993 | D5: =C5*100000 -> 99300 | E5: =B5*1000000 -> 39630000 | G5: =(C6-C5)/(A6-A5) -> 0.002 | H5: =LN(B5) -> 3.6795864 | I5: =LN(D5) -> 11.505901 | J5: =(D5*B5)/(287*350) -> 39.176297 | K5: =D5*(B6-B5) -> 26811
A6: -356 | B6: 39.9 | C6: 0.995 | D6: =C6*100000 -> 99500 | E6: =B6*1000000 -> 39900000 | G6: =(C7-C6)/(A7-A6) -> -0.004 | H6: =LN(B6) -> 3.6863763 | I6: =LN(D6) -> 11.507913 | J6: =(D6*B6)/(287*350) -> 39.522648 | K6: =D6*(B7-B6) -> 35820
A7: -355 | B7: 40.26 | C7: 0.991 | D7: =C7*100000 -> 99100 | E7: =B7*1000000 -> 40260000 | G7: =(C8-C7)/(A8-A7) -> -0.001 | H7: =LN(B7) -> 3.6953584 | I7: =LN(D7) -> 11.503885 | J7: =(D7*B7)/(287*350) -> 39.718925 | K7: =D7*(B8-B7) -> 42613
A8: -354 | B8: 40.69 | C8: 0.99 | D8: =C8*100000 -> 99000 | E8: =B8*1000000 -> 40690000 | G8: =(C9-C8)/(A9-A8) -> -0.005 | H8: =LN(B8) -> 3.7059824 | I8: =LN(D8) -> 11.502875 | J8: =(D8*B8)/(287*350) -> 40.102638 | K8: =D8*(B9-B8) -> 50490
A9: -353 | B9: 41.2 | C9: 0.985 | D9: =C9*100000 -> 98500 | E9: =B9*1000000 -> 41200000 | G9: =(C10-C9)/(A10-A9) -> -0.001 | H9: =LN(B9) -> 3.7184383 | I9: =LN(D9) -> 11.497812 | J9: =(D9*B9)/(287*350) -> 40.400199 | K9: =D9*(B10-B9) -> 58115
A10: -352 | B10: 41.79 | C10: 0.984 | D10: =C10*100000 -> 98400 | E10: =B10*1000000 -> 41790000 | G10: =(C11-C10)/(A11-A10) -> 0.003 | H10: =LN(B10) -> 3.7326571 | I10: =LN(D10) -> 11.496796 | J10: =(D10*B10)/(287*350) -> 40.937143 | K10: =D10*(B11-B10) -> 64944
A11: -351 | B11: 42.45 | C11: 0.987 | D11: =C11*100000 -> 98700 | E11: =B11*1000000 -> 42450000 | G11: =(C12-C11)/(A12-A11) -> 0.001 | H11: =LN(B11) -> 3.7483269 | I11: =LN(D11) -> 11.49984 | J11: =(D11*B11)/(287*350) -> 41.710453 | K11: =D11*(B12-B11) -> 74025
A12: -350 | B12: 43.2 | C12: 0.988 | D12: =C12*100000 -> 98800 | E12: =B12*1000000 -> 43200000 | G12: =(C13-C12)/(A13-A12) -> 0.003 | H12: =LN(B12) -> 3.7658405 | I12: =LN(D12) -> 11.500853 | J12: =(D12*B12)/(287*350) -> 42.490393 | K12: =D12*(B13-B12) -> 81016
A13: -349 | B13: 44.02 | C13: 0.991 | D13: =C13*100000 -> 99100 | E13: =B13*1000000 -> 44020000 | G13: =(C14-C13)/(A14-A13) -> 0.002 | H13: =LN(B13) -> 3.7846441 | I13: =LN(D13) -> 11.503885 | J13: =(D13*B13)/(287*350) -> 43.428392 | K13: =D13*(B14-B13) -> 88199
A14: -348 | B14: 44.91 | C14: 0.993 | D14: =C14*100000 -> 99300 | E14: =B14*1000000 -> 44910000 | G14: =(C15-C14)/(A15-A14) -> 0.006 | H14: =LN(B14) -> 3.8046605 | I14: =LN(D14) -> 11.505901 | J14: =(D14*B14)/(287*350) -> 44.395849 | K14: =D14*(B15-B14) -> 97314
A15: -347 | B15: 45.89 | C15: 0.999 | D15: =C15*100000 -> 99900 | E15: =B15*1000000 -> 45890000 | G15: =(C16-C15)/(A16-A15) -> 0.004 | H15: =LN(B15) -> 3.8262472 | I15: =LN(D15) -> 11.511925 | J15: =(D15*B15)/(287*350) -> 45.638736 | K15: =D15*(B16-B15) -> 103896
... A721: 359 | B721: 39.31 | C721: 1.001 | D721: =C721*100000 -> 100100 | E721: =B721*1000000 -> 39310000 | G721: =(C722-C721)/(A722-A721) -> 0.0027883008 | H721: =LN(B721) -> 3.6714789 | I721: =LN(D721) -> 11.513925 | J721: =(D721*B721)/(287*350) -> 39.173031 | K721: =D721*(B722-B721) -> -3934931

Sheet 1000
A1: C.A.(DEG) | B1: VOL(CC) | C1: MEAN(B) | D1: pressure (Pa) | E1: Volume (m^3) | G1: dp/dθ (bar/deg) | H1: Ln(volume) | I1: Ln(Pressure) | J1: Temperature (k) | K1: Work increment (J)
A2: -360 | B2: 39.27 | C2: 1.02 | D2: =C2*100000 -> 102000 | E2: =B2*1000000 -> 39270000 | G2: =(C3-C2)/(A3-A2) -> -0.003 | H2: =LN(B2) -> 3.6704609 | I2: =LN(D2) -> 11.532728 | J2: =(D2*B2)/(287*350) -> 39.875958 | K2: =D2*(B3-B2) -> 4080 | M2: Peak pressure (Bar): | N2: =MAX(C2:C721) -> 47.142
A3: -359 | B3: 39.31 | C3: 1.017 | D3: =C3*100000 -> 101700 | E3: =B3*1000000 -> 39310000 | G3: =(C4-C3)/(A4-A3) -> -0.002 | H3: =LN(B3) -> 3.6714789 | I3: =LN(D3) -> 11.529783 | J3: =(D3*B3)/(287*350) -> 39.799174 | K3: =D3*(B4-B3) -> 12204 | M3: Peak Temperature (K): | N3: =MAX(J2:J721) -> 2962.8511
A4: -358 | B4: 39.43 | C4: 1.015 | D4: =C4*100000 -> 101500 | E4: =B4*1000000 -> 39430000 | G4: =(C5-C4)/(A5-A4) -> -0.005 | H4: =LN(B4) -> 3.6745269 | I4: =LN(D4) -> 11.527814 | J4: =(D4*B4)/(287*350) -> 39.84216 | K4: =D4*(B5-B4) -> 20300
A5: -357 | B5: 39.63 | C5: 1.01 | D5: =C5*100000 -> 101000 | E5: =B5*1000000 -> 39630000 | G5: =(C6-C5)/(A6-A5) -> -0.005 | H5: =LN(B5) -> 3.6795864 | I5: =LN(D5) -> 11.522876 | J5: =(D5*B5)/(287*350) -> 39.846989 | K5: =D5*(B6-B5) -> 27270
A6: -356 | B6: 39.9 | C6: 1.005 | D6: =C6*100000 -> 100500 | E6: =B6*1000000 -> 39900000 | G6: =(C7-C6)/(A7-A6) -> 0 | H6: =LN(B6) -> 3.6863763 | I6: =LN(D6) -> 11.517913 | J6: =(D6*B6)/(287*350) -> 39.919861 | K6: =D6*(B7-B6) -> 36180
A7: -355 | B7: 40.26 | C7: 1.005 | D7: =C7*100000 -> 100500 | E7: =B7*1000000 -> 40260000 | G7: =(C8-C7)/(A8-A7) -> -0.005 | H7: =LN(B7) -> 3.6953584 | I7: =LN(D7) -> 11.517913 | J7: =(D7*B7)/(287*350) -> 40.28004 | K7: =D7*(B8-B7) -> 43215
A8: -354 | B8: 40.69 | C8: 1 | D8: =C8*100000 -> 100000 | E8: =B8*1000000 -> 40690000 | G8: =(C9-C8)/(A9-A8) -> 0 | H8: =LN(B8) -> 3.7059824 | I8: =LN(D8) -> 11.512925 | J8: =(D8*B8)/(287*350) -> 40.507715 | K8: =D8*(B9-B8) -> 51000
A9: -353 | B9: 41.2 | C9: 1 | D9: =C9*100000 -> 100000 | E9: =B9*1000000 -> 41200000 | G9: =(C10-C9)/(A10-A9) -> 0 | H9: =LN(B9) -> 3.7184383 | I9: =LN(D9) -> 11.512925 | J9: =(D9*B9)/(287*350) -> 41.015431 | K9: =D9*(B10-B9) -> 59000
A10: -352 | B10: 41.79 | C10: 1 | D10: =C10*100000 -> 100000 | E10: =B10*1000000 -> 41790000 | G10: =(C11-C10)/(A11-A10) -> -0.003 | H10: =LN(B10) -> 3.7326571 | I10: =LN(D10) -> 11.512925 | J10: =(D10*B10)/(287*350) -> 41.602787 | K10: =D10*(B11-B10) -> 66000
A11: -351 | B11: 42.45 | C11: 0.997 | D11: =C11*100000 -> 99700 | E11: =B11*1000000 -> 42450000 | G11: =(C12-C11)/(A12-A11) -> -0.002 | H11: =LN(B11) -> 3.7483269 | I11: =LN(D11) -> 11.509921 | J11: =(D11*B11)/(287*350) -> 42.133051 | K11: =D11*(B12-B11) -> 74775
A12: -350 | B12: 43.2 | C12: 0.995 | D12: =C12*100000 -> 99500 | E12: =B12*1000000 -> 43200000 | G12: =(C13-C12)/(A13-A12) -> -0.002 | H12: =LN(B12) -> 3.7658405 | I12: =LN(D12) -> 11.507913 | J12: =(D12*B12)/(287*350) -> 42.791439 | K12: =D12*(B13-B12) -> 81590
A13: -349 | B13: 44.02 | C13: 0.993 | D13: =C13*100000 -> 99300 | E13: =B13*1000000 -> 44020000 | G13: =(C14-C13)/(A14-A13) -> 0.003 | H13: =LN(B13) -> 3.7846441 | I13: =LN(D13) -> 11.505901 | J13: =(D13*B13)/(287*350) -> 43.516038 | K13: =D13*(B14-B13) -> 88377
A14: -348 | B14: 44.91 | C14: 0.996 | D14: =C14*100000 -> 99600 | E14: =B14*1000000 -> 44910000 | G14: =(C15-C14)/(A15-A14) -> 0.001 | H14: =LN(B14) -> 3.8046605 | I14: =LN(D14) -> 11.508917 | J14: =(D14*B14)/(287*350) -> 44.529975 | K14: =D14*(B15-B14) -> 97608
A15: -347 | B15: 45.89 | C15: 0.997 | D15: =C15*100000 -> 99700 | E15: =B15*1000000 -> 45890000 | G15: =(C16-C15)/(A16-A15) -> 0.002 | H15: =LN(B15) -> 3.8262472 | I15: =LN(D15) -> 11.509921 | J15: =(D15*B15)/(287*350) -> 45.547367 | K15: =D15*(B16-B15) -> 103688
... A721: 359 | B721: 39.31 | C721: 1.025 | D721: =C721*100000 -> 102500 | E721: =B721*1000000 -> 39310000 | G721: =(C722-C721)/(A722-A721) -> 0.0028551532 | H721: =LN(B721) -> 3.6714789 | I721: =LN(D721) -> 11.537618 | J721: =(D721*B721)/(287*350) -> 40.112245 | K721: =D721*(B722-B721) -> -4029275

Sheet comparison
A1: Pressure: | P1: Temperature | AE1: Volume:
B2: 6500 | C2: 5500 | D2: 4500 | E2: 3500 | F2: 2000 | G2: 1000 | Q2: 6500 | R2: 5500 | S2: 4500 | T2: 3500 | U2: 2000 | V2: 1000 | AE2: 39.27
A3: -360 | B3: 1.097 | C3: 0.992 | D3: 0.905 | E3: 0.831 | F3: 1.001 | G3: 1.02 | P3: -360 | Q3: 42.886202 | R3: 38.781324 | S3: 35.380139 | T3: 32.487178 | U3: 39.133171 | V3: 39.875958 | AE3: 39.31
A4: -359 | B4: 1.135 | C4: 0.972 | D4: 0.891 | E4: 0.834 | F4: 0.994 | G4: 1.017 | P4: -359 | Q4: 44.416974 | R4: 38.038148 | S4: 34.868303 | T4: 32.63767 | U4: 38.899094 | V4: 39.799174 | AE4: 39.43
A5: -358 | B5: 1.149 | C5: 0.932 | D5: 0.891 | E5: 0.837 | F5: 0.997 | G5: 1.015 | P5: -358 | Q5: 45.102111 | R5: 36.584131 | S5: 34.974744 | T5: 32.855062 | U5: 39.1356 | V5: 39.84216 | AE5: 39.63
A6: -357 | B6: 1.161 | C6: 0.905 | D6: 0.878 | E6: 0.845 | F6: 0.993 | G6: 1.01 | P6: -357 | Q6: 45.804311 | R6: 35.70448 | S6: 34.639263 | T6: 33.337332 | U6: 39.176297 | V6: 39.846989 | AE6: 39.9
A7: -356 | B7: 1.173 | C7: 0.895 | D7: 0.857 | E7: 0.85 | F7: 0.995 | G7: 1.005 | P7: -356 | Q7: 46.593031 | R7: 35.550523 | S7: 34.041115 | T7: 33.763066 | U7: 39.522648 | V7: 39.919861 | AE7: 40.26
A8: -355 | B8: 1.153 | C8: 0.883 | D8: 0.828 | E8: 0.852 | F8: 0.991 | G8: 1.005 | P8: -355 | Q8: 46.211827 | R8: 35.390324 | S8: 33.185943 | T8: 34.147855 | U8: 39.718925 | V8: 40.28004 | AE8: 40.69
A9: -354 | B9: 1.115 | C9: 0.844 | D9: 0.795 | E9: 0.851 | F9: 0.99 | G9: 1 | P9: -354 | Q9: 45.166103 | R9: 34.188512 | S9: 32.203634 | T9: 34.472066 | U9: 40.102638 | V9: 40.507715 | AE9: 41.2
A10: -353 | B10: 1.069 | C10: 0.798 | D10: 0.763 | E10: 0.853 | F10: 0.985 | G10: 1 | P10: -353 | Q10: 43.845495 | R10: 32.730314 | S10: 31.294774 | T10: 34.986162 | U10: 40.400199 | V10: 41.015431 | AE10: 41.79
A11: -352 | B11: 1.03 | C11: 0.751 | D11: 0.74 | E11: 0.85 | F11: 0.984 | G11: 1 | P11: -352 | Q11: 42.850871 | R11: 31.243693 | S11: 30.786063 | T11: 35.362369 | U11: 40.937143 | V11: 41.602787 | AE11: 42.45
A12: -351 | B12: 0.999 | C12: 0.704 | D12: 0.728 | E12: 0.848 | F12: 0.987 | G12: 0.997 | P12: -351 | Q12: 42.217571 | R12: 29.750921 | S12: 30.765157 | T12: 35.836336 | U12: 41.710453 | V12: 42.133051 | AE12: 43.2
A13: -350 | B13: 0.938 | C13: 0.665 | D13: 0.72 | E13: 0.847 | F13: 0.988 | G13: 0.995 | P13: -350 | Q13: 40.34007 | R13: 28.599303 | S13: 30.964659 | T13: 36.426481 | U13: 42.490393 | V13: 42.791439 | AE13: 44.02
A14: -349 | B14: 0.86 | C14: 0.653 | D14: 0.71 | E14: 0.842 | F14: 0.991 | G14: 0.993 | P14: -349 | Q14: 37.687606 | R14: 28.616287 | S14: 31.114186 | T14: 36.898795 | U14: 43.428392 | V14: 43.516038 | AE14: 44.91
... A59: -304 | B59: 0.654 | C59: 0.35 | D59: 0.754 | E59: 0.771 | F59: 0.958 | G59: 0.998 | P59: -304 | Q59: 96.29328 | R59: 51.533101 | S59: 111.01702 | T59: 113.52006 | U59: 141.05346 | V59: 146.94296 | AE59: 151.3
A60: -303 | B60: 0.654 | C60: 0.349 | D60: 0.753 | E60: 0.787 | F60: 0.95 | G60: 0.997 | M60: I | P60: -303 | Q60: 98.506919 | R60: 52.567148 | S60: 113.41852 | T60: 118.53967 | U60: 143.09109 | V60: 150.17033 | AE60: 154.72
A61: -302 | B61: 0.634 | C61: 0.35 | D61: 0.755 | E61: 0.793 | F61: 0.941 | G61: 0.998 | P61: -302 | Q61: 97.653041 | R61: 53.909408 | S61: 116.29029 | T61: 122.14332 | U61: 144.93929 | V61: 153.71883 | AE61: 158.16
A62: -301 | B62: 0.588 | C62: 0.349 | D62: 0.753 | E62: 0.796 | F62: 0.94 | G62: 0.998 | P62: -301 | Q62: 92.581463 | R62: 54.950562 | S62: 118.56096 | T62: 125.33137 | U62: 148.00438 | V62: 157.13657 | AE62: 161.63
A63: -300 | B63: 0.546 | C63: 0.369 | D63: 0.749 | E63: 0.807 | F63: 0.936 | G63: 0.995 | P63: -300 | Q63: 87.854634 | R63: 59.374286 | S63: 120.51854 | T63: 129.85108 | U63: 150.60794 | V63: 160.10139 | AE63: 165.12
A64: -299 | B64: 0.514 | C64: 0.4 | D64: 0.745 | E64: 0.822 | F64: 0.935 | G64: 0.994 | P64: -299 | Q64: 84.491468 | R64: 65.752115 | S64: 122.46332 | T64: 135.1206 | U64: 153.69557 | V64: 163.39401 | AE64: 168.63
A65: -298 | B65: 0.485 | C65: 0.433 | D65: 0.753 | E65: 0.826 | F65: 0.926 | G65: 0.989 | P65: -298 | Q65: 81.419164 | R65: 72.689686 | S65: 126.40955 | T65: 138.66439 | U65: 155.45185 | V65: 166.02794 | AE65: 172.16
A66: -297 | B66: 0.469 | C66: 0.444 | D66: 0.763 | E66: 0.824 | F66: 0.931 | G66: 0.986 | P66: -297 | Q66: 80.381324 | R66: 76.096605 | S66: 130.76962 | T66: 141.22433 | U66: 159.56293 | V66: 168.98931 | AE66: 175.7
A67: -296 | B67: 0.454 | C67: 0.451 | D67: 0.778 | E67: 0.828 | F67: 0.929 | G67: 0.985 | P67: -296 | Q67: 79.410453 | R67: 78.885714 | S67: 136.08223 | T67: 144.82787 | U67: 162.49408 | V67: 172.2892 | AE67: 179.26
A68: -295 | B68: 0.447 | C68: 0.451 | D68: 0.781 | E68: 0.832 | F68: 0.934 | G68: 0.988 | P68: -295 | Q68: 79.770254 | R68: 80.484082 | S68: 139.37487 | T68: 148.47618 | U68: 166.67879 | V68: 176.31546 | AE68: 182.83
A69: -294 | B69: 0.448 | C69: 0.437 | D69: 0.778 | E69: 0.827 | F69: 0.93 | G69: 0.99 | P69: -294 | Q69: 81.540906 | R69: 79.538785 | S69: 141.60452 | T69: 150.52306 | U69: 169.27018 | V69: 180.19084 | AE69: 186.42
A70: -293 | B70: 0.444 | C70: 0.416 | D70: 0.788 | E70: 0.832 | F70: 0.934 | G70: 0.991 | P70: -293 | Q70: 82.399681 | R70: 77.203305 | S70: 146.24088 | T70: 154.40661 | U70: 173.33627 | V70: 183.9146 | AE70: 190.02
A71: -292 | B71: 0.44 | C71: 0.408 | D71: 0.798 | E71: 0.835 | F71: 0.935 | G71: 0.993 | P71: -292 | Q71: 83.234246 | R71: 77.180846 | S71: 150.95666 | T71: 157.9559 | U71: 176.87277 | V71: 187.84456 | AE71: 193.62
A72: -291 | B72: 0.437 | C72: 0.403 | D72: 0.796 | E72: 0.829 | F72: 0.935 | G72: 0.989 | P72: -291 | Q72: 84.232892 | R72: 77.679303 | S72: 153.43108 | T72: 159.79192 | U72: 180.22369 | V72: 190.63233 | AE72: 197.24
... A721: 358 | B721: 1.045 | C721: 1.006 | D721: 0.961 | E721: 0.803 | F721: 1 | G721: 1.029 | P721: 358 | Q721: 41.019761 | R721: 39.48888 | S721: 37.722479 | T721: 31.520448 | U721: 39.25336 | V721: 40.391707 | AE721: 39.31
A722: 359 | B722: 1.063 | C722: 1.005 | D722: 0.934 | E722: 0.819 | F722: 1.001 | G722: 1.025 | P722: 359 | Q722: 41.599333 | R722: 39.329567 | S722: 36.55106 | T722: 32.050662 | U722: 39.173031 | V722: 40.112245

Sheet Sheet7
A1: Analysis:
A4: FORD SIGMA 1.6L ENGINE CYCLE ANALYSIS SUMMARY
A5: =====================================================
A7: Engine Specifications:
A8: Bore: 0.079 m
A9: Stroke: 0.0814 m
A10: Conrod Length: 0.137 m
A11: Compression Ratio: 11.16
A12: Swept Volume: 0.0003989 m³
A13: Clearance Volume: 0.0000393 m³
A15: Analysis Results:
A17: Parameter | B17: 6500 RPM | C17: 5500 | D17: 4500 RPM | E17: 3500 | F17: 2000 RPM | G17: 1000
A18: Peak Pressure (bar) | B18: 67.103 | C18: 61.254 | D18: 67.845 | E18: 66.38 | F18: 62.166 | G18: 47.142
A19: Crank Angle at Pmax (°aTDC) | B19: 15 | C19: 21 | D19: 17 | E19: 17 | F19: 20 | G19: 24
A20: Peak Temperature (K) | B20: 3717.18 | C20: 3890.2389 | D20: 3800.977 | E20: 3629.3553 | F20: 3632.757 | G20: 2962.8511
A21: Polytropic Index - Compression | B21: 1.2795 | C21: 1.2975 | D21: 1.304 | E21: 1.3153 | F21: 1.3104 | G21: 1.3192
A22: Polytropic Index - Expansion | B22: 1.3189 | C22: 1.3236 | D22: 1.3261 | E22: 1.3278 | F22: 1.3317 | G22: 1.4029
A23: Gross IMEP (bar) | B23: =SUM('6500'!K2:K721)/1000000/0.0003989/100000 -> 12.165204 | C23: =SUMIFS('5500'!K2:K721, '5500'!A2:A721, ">=-140", '5500'!A2:A721, "<=120")/1000000/0.0003989/100000 -> 13.045774 | D23: =SUMIFS('4500'!K2:K721, '4500'!A2:A721, ">=-140", '4500'!A2:A721, "<=120")/1000000/0.0003989/100000 -> 12.972573 | E23: =SUMIFS('3500'!K2:K721, '3500'!A2:A721, ">=-140", '3500'!A2:A721, "<=120")/1000000/0.0003989/100000 -> 12.282442 | F23: =SUMIFS('2000'!K2:K721, '2000'!A2:A721, ">=-140", '2000'!A2:A721, "<=120")/1000000/0.0003989/100000 -> 11.861051 | G23: =SUMIFS('1000'!K2:K721, '1000'!A2:A721, ">=-140", '1000'!A2:A721, "<=120")/1000000/0.0003989/100000 -> 8.7766188
A24: Pumping IMEP (bar) | B24: =SUMIFS('6500'!K2:K721, '6500'!A2:A721, ">120", '6500'!A2:A721, "<540")/1000000/0.0003989/100000 -> -0.82249077 | C24: =SUMIFS('5500'!K2:K721, '5500'!A2:A721, ">120", '5500'!A2:A721, "<540")/1000000/0.0003989/100000 -> -0.50888215 | D24: =SUMIFS('4500'!K2:K721, '4500'!A2:A721, ">120", '4500'!A2:A721, "<540")/1000000/0.0003989/100000 -> -0.3057171 | E24: =SUMIFS('3500'!K2:K721, '3500'!A2:A721, ">120", '3500'!A2:A721, "<540")/1000000/0.0003989/100000 -> -0.17651677 | F24: =SUMIFS('2000'!K2:K721, '2000'!A2:A721, ">120", '2000'!A2:A721, "<540")/1000000/0.0003989/100000 -> -0.091320406 | G24: =SUMIFS('1000'!K2:K721, '1000'!A2:A721, ">120", '1000'!A2:A721, "<540")/1000000/0.0003989/100000 -> -0.51470165
A25: Net IMEP (bar) | B25: =B23+B24 -> 11.342713 | C25: =C23+C24 -> 12.536892 | D25: =D23+D24 -> 12.666856 | E25: =E23+E24 -> 12.105925 | F25: =F23+F24 -> 11.769731 | G25: =G23+G24 -> 8.2619171
A26: Combustion Start (°bTDC) | B26: {=INDEX('6500'!A2:A721, MATCH(TRUE(), INDEX('6500'!G2:G721>0.1, 0), 0))-360} -> -431 | C26: {=INDEX('5500'!A2:A721, MATCH(TRUE(), INDEX('5500'!G2:G721>0.1, 0), 0))-360} -> -433 | D26: {=INDEX('4500'!A2:A721, MATCH(TRUE(), INDEX('4500'!G2:G721>0.1, 0), 0))-360} -> -428 | E26: {=INDEX('3500'!A2:A721, MATCH(TRUE(), INDEX('3500'!G2:G721>0.1, 0), 0))-360} -> -425 | F26: {=INDEX('2000'!A2:A721, MATCH(TRUE(), INDEX('2000'!G2:G721>0.1, 0), 0))-360} -> -425 | G26: {=INDEX('1000'!A2:A721, MATCH(TRUE(), INDEX('1000'!G2:G721>0.1, 0), 0))-360} -> -421
A27: Combustion End (°aTDC) | B27: =B19-5 -> 10 | C27: =C19-5 -> 16 | D27: =D19-5 -> 12 | E27: =E19-5 -> 12 | F27: =F19-5 -> 15 | G27: =G19-5 -> 19
A28: Combustion Duration (°CA) | B28: =B27-B26 -> 441 | C28: =C27-C26 -> 449 | D28: =D27-D26 -> 440 | E28: =E27-E26 -> 437 | F28: =F27-F26 -> 440 | G28: =G27-G26 -> 440

Sheet Task3
A1: ENGINE COMBUSTION PARAMETERS TABLE
A2: Parameter | B2: 6500 RPM | C2: 5500 RPM | D2: 4500 RPM | E2: 3500 RPM | F2: 2000 RPM | G2: 1000 RPM
A3: n_comp (Polytropic - Compression) | B3: 1.2795 | C3: 1.2975 | D3: 1.304 | E3: 1.3153 | F3: 1.3104 | G3: 1.3192
A4: n_exp (Polytropic - Expansion) | B4: 1.3189 | C4: 1.3236 | D4: 1.3261 | E4: 1.3278 | F4: 1.3317 | G4: 1.4029
A5: Wiebe m (Shape Factor) | B5: 2 | C5: 2 | D5: 2 | E5: 2 | F5: 2 | G5: 2
A6: Wiebe a (Efficiency Constant) | B6: 5 | C6: 5 | D6: 5 | E6: 5 | F6: 5 | G6: 5
A7: theta_SOC (Start of Combustion °) | B7: -21 | C7: -17 | D7: -23 | E7: -25 | F7: -26 | G7: -28
A8: Delta_theta_b (Combustion Dur. °) | B8: 45 | C8: 48 | D8: 50 | E8: 53 | F8: 58 | G8: 65
A9: Q_total (J) | B9: 764 | C9: 825 | D9: 834 | E9: 864 | F9: 888 | G9: 756
A10: Gamma | B10: 1.3 | C10: 1.3 | D10: 1.3 | E10: 1.3 | F10: 1.3 | G10: 1.3
A11: R_gas (J/kg.K) | B11: 287 | C11: 287 | D11: 287 | E11: 287 | F11: 287 | G11: 287
A12: T_ref at IVC (K) | B12: 320 | C12: 315 | D12: 318 | E12: 316 | F12: 310 | G12: 305
A13: IVC Angle (deg) | B13: -145 | C13: -145 | D13: -145 | E13: -148 | F13: -150 | G13: -155
A14: P_ivc (bar) - from data | B14: 1.504 | C14: 1.598 | D14: 1.459 | E14: 1.207 | F14: 1.226 | G14: 1.073
A15: P_ivc (Pa) | B15: =B14*100000 -> 150400 | C15: =C14*100000 -> 159800 | D15: =D14*100000 -> 145900 | E15: =E14*100000 -> 120700 | F15: =F14*100000 -> 122600 | G15: =G14*100000 -> 107300
A16: V_ivc (m3) - from data | B16: 0.00041202 | C16: 0.00041202 | D16: 0.00041202 | E16: 0.00041633 | F16: 0.000419 | G16: 0.0004249
A18: MFB / Wiebe Function and Heat Release Rate | AT18: Pressure Analysis
I19: 6500 RPM | O19: 5500 RPM | U19: 4500 RPM | AA19: 3500 RPM | AG19: 2000 RPM | AM19: 1000 RPM | AT19: 6500 RPM | BA19: 5500 RPM | BH19: 4500 RPM | BO19: 3500 RPM | BV19: 2000 RPM | CC19: 1000 RPM
I20: C.A.(DEG) | J20: Volume (m3) | K20: MFB | L20: Burn Rate (dx/dtheta) | M20: dQ/dtheta (J/deg) | N20: Cumulative Q (J) | O20: C.A.(DEG) | P20: Volume (m3) | Q20: MFB | R20: Burn Rate (dx/dtheta) | S20: dQ/dtheta (J/deg) | T20: Cumulative Q (J) | U20: C.A.(DEG) | V20: Volume (m3) | W20: MFB | X20: Burn Rate (dx/dtheta) | Y20: dQ/dtheta (J/deg) | Z20: Cumulative Q (J) | AA20: C.A.(DEG) | AB20: Volume (m3) | AC20: MFB | AD20: Burn Rate (dx/dtheta) | AE20: dQ/dtheta (J/deg) | AF20: Cumulative Q (J) | AG20: C.A.(DEG) | AH20: Volume (m3) | AI20: MFB | AJ20: Burn Rate (dx/dtheta) | AK20: dQ/dtheta (J/deg) | AL20: Cumulative Q (J) | AM20: C.A.(DEG) | AN20: Volume (m3) | AO20: MFB | AP20: Burn Rate (dx/dtheta) | AQ20: dQ/dtheta (J/deg) | AR20: Cumulative Q (J) | AT20: C.A.(DEG) | AU20: Volume (m3) | AV20: Real P (bar) | AW20: Motor P (bar) | AX20: Model P (bar) | AY20: Error (bar) | AZ20: Error (%) | BA20: C.A.(DEG) | BB20: Volume (m3) | BC20: Real P (bar) | BD20: Motor P (bar) | BE20: Model P (bar) | BF20: Error (bar) | BG20: Error (%) | BH20: C.A.(DEG) | BI20: Volume (m3) | BJ20: Real P (bar) | BK20: Motor P (bar) | BL20: Model P (bar) | BM20: Error (bar) | BN20: Error (%) | BO20: C.A.(DEG) | BP20: Volume (m3) | BQ20: Real P (bar) | BR20: Motor P (bar) | BS20: Model P (bar) | BT20: Error (bar) | BU20: Error (%) | BV20: C.A.(DEG) | BW20: Volume (m3) | BX20: Real P (bar) | BY20: Motor P (bar) | BZ20: Model P (bar) | CA20: Error (bar) | CB20: Error (%) | CC20: C.A.(DEG) | CD20: Volume (m3) | CE20: Real P (bar) | CF20: Motor P (bar) | CG20: Model P (bar) | CH20: Error (bar) | CI20: Error (%)
I21: -180 | J21: ='6500'!B182/1000000 -> 0.00043828 | K21: =IF(I21<$B$7,0,MIN(1,1-EXP(-$B$6*((I21-$B$7)/$B$8)^($B$5+1)))) -> 0 | L21: =(K22-K21) -> 0 | M21: =$B$9*L21 -> 0 | N21: =M21 -> 0 | O21: -180 | P21: ='5500'!B182/1000000 -> 0.00043828 | Q21: =IF(O21<$C$7,0,MIN(1,1-EXP(-$C$6*((O21-$C$7)/$C$8)^($C$5+1)))) -> 0 | R21: =(Q22-Q21) -> 0 | S21: =$C$9*R21 -> 0 | T21: =S21 -> 0 | U21: -180 | V21: ='4500'!B182/1000000 -> 0.00043828 | W21: =IF(U21<$D$7,0,MIN(1,1-EXP(-$D$6*((U21-$D$7)/$D$8)^($D$5+1)))) -> 0 | X21: =(W22-W21) -> 0 | Y21: =$D$9*X21 -> 0 | Z21: =Y21 -> 0 | AA21: -180 | AB21: ='3500'!B182/1000000 -> 0.00043828 | AC21: =IF(AA21<$E$7,0,MIN(1,1-EXP(-$E$6*((AA21-$E$7)/$E$8)^($E$5+1)))) -> 0 | AD21: =(AC22-AC21) -> 0 | AE21: =$E$9*AD21 -> 0 | AF21: =AE21 -> 0 | AG21: -180 | AH21: ='2000'!B182/1000000 -> 0.00043828 | AI21: =IF(AG21<$F$7,0,MIN(1,1-EXP(-$F$6*((AG21-$F$7)/$F$8)^($F$5+1)))) -> 0 | AJ21: =(AI22-AI21) -> 0 | AK21: =$F$9*AJ21 -> 0 | AL21: =AK21 -> 0 | AM21: -180 | AN21: ='1000'!B182/1000000 -> 0.00043828 | AO21: =IF(AM21<$G$7,0,MIN(1,1-EXP(-$G$6*((AM21-$G$7)/$G$8)^($G$5+1)))) -> 0 | AP21: =(AO22-AO21) -> 0 | AQ21: =$G$9*AP21 -> 0 | AR21: =AQ21 -> 0 | AT21: -180 | AU21: ='6500'!B182/1000000 -> 0.00043828 | AV21: ='6500'!C182 -> 1.143 | AW21: =IF(AT21<$B$13,0,IF(AT21<=0,$B$15*($B$16/AU21)^$B$3/100000,$B$15*($B$16/('6500'!B362/1000000))^$B$3*(('6500'!B362/1000000)/AU21)^$B$4/100000)) -> 0 | AX21: =AW21+IF(AT21<$B$7,0,($B$10-1)*N21/(AU21*100000)) -> 0 | AY21: =AX21-AV21 -> -1.143 | AZ21: =IF(AV21=0,0,AY21/AV21*100) -> -100 | BA21: -180 | BB21: ='5500'!B182/1000000 -> 0.00043828 | BC21: ='5500'!C182 -> 1.239 | BD21: =IF(BA21<$C$13,0,IF(BA21<=0,$C$15*($C$16/BB21)^$C$3/100000,$C$15*($C$16/('5500'!B362/1000000))^$C$3*(('5500'!B362/1000000)/BB21)^$C$4/100000)) -> 0 | BE21: =BD21+IF(BA21<$C$7,0,($C$10-1)*T21/(BB21*100000)) -> 0 | BF21: =BE21-BC21 -> -1.239 | BG21: =IF(BC21=0,0,BF21/BC21*100) -> -100 | BH21: -180 | BI21: ='4500'!B182/1000000 -> 0.00043828 | BJ21: ='4500'!C182 -> 1.24 | BK21: =IF(BH21<$D$13,0,IF(BH21<=0,$D$15*($D$16/BI21)^$D$3/100000,$D$15*($D$16/('4500'!B362/1000000))^$D$3*(('4500'!B362/1000000)/BI21)^$D$4/100000)) -> 0 | BL21: =BK21+IF(BH21<$D$7,0,($D$10-1)*Z21/(BI21*100000)) -> 0 | BM21: =BL21-BJ21 -> -1.24 | BN21: =IF(BJ21=0,0,BM21/BJ21*100) -> -100 | BO21: -180 | BP21: ='3500'!B182/1000000 -> 0.00043828 | BQ21: ='3500'!C182 -> 1.145 | BR21: =IF(BO21<$E$13,0,IF(BO21<=0,$E$15*($E$16/BP21)^$E$3/100000,$E$15*($E$16/('3500'!B362/1000000))^$E$3*(('3500'!B362/1000000)/BP21)^$E$4/100000)) -> 0 | BS21: =BR21+IF(BO21<$E$7,0,($E$10-1)*AF21/(BP21*100000)) -> 0 | BT21: =BS21-BQ21 -> -1.145 | BU21: =IF(BQ21=0,0,BT21/BQ21*100) -> -100 | BV21: -180 | BW21: ='2000'!B182/1000000 -> 0.00043828 | BX21: ='2000'!C182 -> 1.156 | BY21: =IF(BV21<$F$13,0,IF(BV21<=0,$F$15*($F$16/BW21)^$F$3/100000,$F$15*($F$16/('2000'!B362/1000000))^$F$3*(('2000'!B362/1000000)/BW21)^$F$4/100000)) -> 0 | BZ21: =BY21+IF(BV21<$F$7,0,($F$10-1)*AL21/(BW21*100000)) -> 0 | CA21: =BZ21-BX21 -> -1.156 | CB21: =IF(BX21=0,0,CA21/BX21*100) -> -100 | CC21: -180 | CD21: ='1000'!B182/1000000 -> 0.00043828 | CE21: ='1000'!C182 -> 1.077 | CF21: =IF(CC21<$G$13,0,IF(CC21<=0,$G$15*($G$16/CD21)^$G$3/100000,$G$15*($G$16/('1000'!B362/1000000))^$G$3*(('1000'!B362/1000000)/CD21)^$G$4/100000)) -> 0 | CG21: =CF21+IF(CC21<$G$7,0,($G$10-1)*AR21/(CD21*100000)) -> 0 | CH21: =CG21-CE21 -> -1.077 | CI21: =IF(CE21=0,0,CH21/CE21*100) -> -100
I22: -179 | J22: ='6500'!B183/1000000 -> 0.00043825 | K22: =IF(I22<$B$7,0,MIN(1,1-EXP(-$B$6*((I22-$B$7)/$B$8)^($B$5+1)))) -> 0 | L22: =(K23-K21)/2 -> 0 | M22: =$B$9*L22 -> 0 | N22: =N21+M22 -> 0 | O22: -179 | P22: ='5500'!B183/1000000 -> 0.00043825 | Q22: =IF(O22<$C$7,0,MIN(1,1-EXP(-$C$6*((O22-$C$7)/$C$8)^($C$5+1)))) -> 0 | R22: =(Q23-Q21)/2 -> 0 | S22: =$C$9*R22 -> 0 | T22: =T21+S22 -> 0 | U22: -179 | V22: ='4500'!B183/1000000 -> 0.00043825 | W22: =IF(U22<$D$7,0,MIN(1,1-EXP(-$D$6*((U22-$D$7)/$D$8)^($D$5+1)))) -> 0 | X22: =(W23-W21)/2 -> 0 | Y22: =$D$9*X22 -> 0 | Z22: =Z21+Y22 -> 0 | AA22: -179 | AB22: ='3500'!B183/1000000 -> 0.00043825 | AC22: =IF(AA22<$E$7,0,MIN(1,1-EXP(-$E$6*((AA22-$E$7)/$E$8)^($E$5+1)))) -> 0 | AD22: =(AC23-AC21)/2 -> 0 | AE22: =$E$9*AD22 -> 0 | AF22: =AF21+AE22 -> 0 | AG22: -179 | AH22: ='2000'!B183/1000000 -> 0.00043825 | AI22: =IF(AG22<$F$7,0,MIN(1,1-EXP(-$F$6*((AG22-$F$7)/$F$8)^($F$5+1)))) -> 0 | AJ22: =(AI23-AI21)/2 -> 0 | AK22: =$F$9*AJ22 -> 0 | AL22: =AL21+AK22 -> 0 | AM22: -179 | AN22: ='1000'!B183/1000000 -> 0.00043825 | AO22: =IF(AM22<$G$7,0,MIN(1,1-EXP(-$G$6*((AM22-$G$7)/$G$8)^($G$5+1)))) -> 0 | AP22: =(AO23-AO21)/2 -> 0 | AQ22: =$G$9*AP22 -> 0 | AR22: =AR21+AQ22 -> 0 | AT22: -179 | AU22: ='6500'!B183/1000000 -> 0.00043825 | AV22: ='6500'!C183 -> 1.167 | AW22: =IF(AT22<$B$13,0,IF(AT22<=0,$B$15*($B$16/AU22)^$B$3/100000,$B$15*($B$16/('6500'!B362/1000000))^$B$3*(('6500'!B362/1000000)/AU22)^$B$4/100000)) -> 0 | AX22: =AW22+IF(AT22<$B$7,0,($B$10-1)*N22/(AU22*100000)) -> 0 | AY22: =AX22-AV22 -> -1.167 | AZ22: =IF(AV22=0,0,AY22/AV22*100) -> -100 | BA22: -179 | BB22: ='5500'!B183/1000000 -> 0.00043825 | BC22: ='5500'!C183 -> 1.263 | BD22: =IF(BA22<$C$13,0,IF(BA22<=0,$C$15*($C$16/BB22)^$C$3/100000,$C$15*($C$16/('5500'!B362/1000000))^$C$3*(('5500'!B362/1000000)/BB22)^$C$4/100000)) -> 0 | BE22: =BD22+IF(BA22<$C$7,0,($C$10-1)*T22/(BB22*100000)) -> 0 | BF22: =BE22-BC22 -> -1.263 | BG22: =IF(BC22=0,0,BF22/BC22*100) -> -100 | BH22: -179 | BI22: ='4500'!B183/1000000 -> 0.00043825 | BJ22: ='4500'!C183 -> 1.241 | BK22: =IF(BH22<$D$13,0,IF(BH22<=0,$D$15*($D$16/BI22)^$D$3/100000,$D$15*($D$16/('4500'!B362/1000000))^$D$3*(('4500'!B362/1000000)/BI22)^$D$4/100000)) -> 0 | BL22: =BK22+IF(BH22<$D$7,0,($D$10-1)*Z22/(BI22*100000)) -> 0 | BM22: =BL22-BJ22 -> -1.241 | BN22: =IF(BJ22=0,0,BM22/BJ22*100) -> -100 | BO22: -179 | BP22: ='3500'!B183/1000000 -> 0.00043825 | BQ22: ='3500'!C183 -> 1.138 | BR22: =IF(BO22<$E$13,0,IF(BO22<=0,$E$15*($E$16/BP22)^$E$3/100000,$E$15*($E$16/('3500'!B362/1000000))^$E$3*(('3500'!B362/1000000)/BP22)^$E$4/100000)) -> 0 | BS22: =BR22+IF(BO22<$E$7,0,($E$10-1)*AF22/(BP22*100000)) -> 0 | BT22: =BS22-BQ22 -> -1.138 | BU22: =IF(BQ22=0,0,BT22/BQ22*100) -> -100 | BV22: -179 | BW22: ='2000'!B183/1000000 -> 0.00043825 | BX22: ='2000'!C183 -> 1.15 | BY22: =IF(BV22<$F$13,0,IF(BV22<=0,$F$15*($F$16/BW22)^$F$3/100000,$F$15*($F$16/('2000'!B362/1000000))^$F$3*(('2000'!B362/1000000)/BW22)^$F$4/100000)) -> 0 | BZ22: =BY22+IF(BV22<$F$7,0,($F$10-1)*AL22/(BW22*100000)) -> 0 | CA22: =BZ22-BX22 -> -1.15 | CB22: =IF(BX22=0,0,CA22/BX22*100) -> -100 | CC22: -179 | CD22: ='1000'!B183/1000000 -> 0.00043825 | CE22: ='1000'!C183 -> 1.076 | CF22: =IF(CC22<$G$13,0,IF(CC22<=0,$G$15*($G$16/CD22)^$G$3/100000,$G$15*($G$16/('1000'!B362/1000000))^$G$3*(('1000'!B362/1000000)/CD22)^$G$4/100000)) -> 0 | CG22: =CF22+IF(CC22<$G$7,0,($G$10-1)*AR22/(CD22*100000)) -> 0 | CH22: =CG22-CE22 -> -1.076 | CI22: =IF(CE22=0,0,CH22/CE22*100) -> -100
I23: -178 | J23: ='6500'!B184/1000000 -> 0.00043819 | K23: =IF(I23<$B$7,0,MIN(1,1-EXP(-$B$6*((I23-$B$7)/$B$8)^($B$5+1)))) -> 0 | L23: =(K24-K22)/2 -> 0 | M23: =$B$9*L23 -> 0 | N23: =N22+M23 -> 0 | O23: -178 | P23: ='5500'!B184/1000000 -> 0.00043819 | Q23: =IF(O23<$C$7,0,MIN(1,1-EXP(-$C$6*((O23-$C$7)/$C$8)^($C$5+1)))) -> 0 | R23: =(Q24-Q22)/2 -> 0 | S23: =$C$9*R23 -> 0 | T23: =T22+S23 -> 0 | U23: -178 | V23: ='4500'!B184/1000000 -> 0.00043819 | W23: =IF(U23<$D$7,0,MIN(1,1-EXP(-$D$6*((U23-$D$7)/$D$8)^($D$5+1)))) -> 0 | X23: =(W24-W22)/2 -> 0 | Y23: =$D$9*X23 -> 0 | Z23: =Z22+Y23 -> 0 | AA23: -178 | AB23: ='3500'!B184/1000000 -> 0.00043819 | AC23: =IF(AA23<$E$7,0,MIN(1,1-EXP(-$E$6*((AA23-$E$7)/$E$8)^($E$5+1)))) -> 0 | AD23: =(AC24-AC22)/2 -> 0 | AE23: =$E$9*AD23 -> 0 | AF23: =AF22+AE23 -> 0 | AG23: -178 | AH23: ='2000'!B184/1000000 -> 0.00043819 | AI23: =IF(AG23<$F$7,0,MIN(1,1-EXP(-$F$6*((AG23-$F$7)/$F$8)^($F$5+1)))) -> 0 | AJ23: =(AI24-AI22)/2 -> 0 | AK23: =$F$9*AJ23 -> 0 | AL23: =AL22+AK23 -> 0 | AM23: -178 | AN23: ='1000'!B184/1000000 -> 0.00043819 | AO23: =IF(AM23<$G$7,0,MIN(1,1-EXP(-$G$6*((AM23-$G$7)/$G$8)^($G$5+1)))) -> 0 | AP23: =(AO24-AO22)/2 -> 0 | AQ23: =$G$9*AP23 -> 0 | AR23: =AR22+AQ23 -> 0 | AT23: -178 | AU23: ='6500'!B184/1000000 -> 0.00043819 | AV23: ='6500'!C184 -> 1.193 | AW23: =IF(AT23<$B$13,0,IF(AT23<=0,$B$15*($B$16/AU23)^$B$3/100000,$B$15*($B$16/('6500'!B362/1000000))^$B$3*(('6500'!B362/1000000)/AU23)^$B$4/100000)) -> 0 | AX23: =AW23+IF(AT23<$B$7,0,($B$10-1)*N23/(AU23*100000)) -> 0 | AY23: =AX23-AV23 -> -1.193 | AZ23: =IF(AV23=0,0,AY23/AV23*100) -> -100 | BA23: -178 | BB23: ='5500'!B184/1000000 -> 0.00043819 | BC23: ='5500'!C184 -> 1.286 | BD23: =IF(BA23<$C$13,0,IF(BA23<=0,$C$15*($C$16/BB23)^$C$3/100000,$C$15*($C$16/('5500'!B362/1000000))^$C$3*(('5500'!B362/1000000)/BB23)^$C$4/100000)) -> 0 | BE23: =BD23+IF(BA23<$C$7,0,($C$10-1)*T23/(BB23*100000)) -> 0 | BF23: =BE23-BC23 -> -1.286 | BG23: =IF(BC23=0,0,BF23/BC23*100) -> -100 | BH23: -178 | BI23: ='4500'!B184/1000000 -> 0.00043819 | BJ23: ='4500'!C184 -> 1.243 | BK23: =IF(BH23<$D$13,0,IF(BH23<=0,$D$15*($D$16/BI23)^$D$3/100000,$D$15*($D$16/('4500'!B362/1000000))^$D$3*(('4500'!B362/1000000)/BI23)^$D$4/100000)) -> 0 | BL23: =BK23+IF(BH23<$D$7,0,($D$10-1)*Z23/(BI23*100000)) -> 0 | BM23: =BL23-BJ23 -> -1.243 | BN23: =IF(BJ23=0,0,BM23/BJ23*100) -> -100 | BO23: -178 | BP23: ='3500'!B184/1000000 -> 0.00043819 | BQ23: ='3500'!C184 -> 1.133 | BR23: =IF(BO23<$E$13,0,IF(BO23<=0,$E$15*($E$16/BP23)^$E$3/100000,$E$15*($E$16/('3500'!B362/1000000))^$E$3*(('3500'!B362/1000000)/BP23)^$E$4/100000)) -> 0 | BS23: =BR23+IF(BO23<$E$7,0,($E$10-1)*AF23/(BP23*100000)) -> 0 | BT23: =BS23-BQ23 -> -1.133 | BU23: =IF(BQ23=0,0,BT23/BQ23*100) -> -100 | BV23: -178 | BW23: ='2000'!B184/1000000 -> 0.00043819 | BX23: ='2000'!C184 -> 1.153 | BY23: =IF(BV23<$F$13,0,IF(BV23<=0,$F$15*($F$16/BW23)^$F$3/100000,$F$15*($F$16/('2000'!B362/1000000))^$F$3*(('2000'!B362/1000000)/BW23)^$F$4/100000)) -> 0 | BZ23: =BY23+IF(BV23<$F$7,0,($F$10-1)*AL23/(BW23*100000)) -> 0 | CA23: =BZ23-BX23 -> -1.153 | CB23: =IF(BX23=0,0,CA23/BX23*100) -> -100 | CC23: -178 | CD23: ='1000'!B184/1000000 -> 0.00043819 | CE23: ='1000'!C184 -> 1.086 | CF23: =IF(CC23<$G$13,0,IF(CC23<=0,$G$15*($G$16/CD23)^$G$3/100000,$G$15*($G$16/('1000'!B362/1000000))^$G$3*(('1000'!B362/1000000)/CD23)^$G$4/100000)) -> 0 | CG23: =CF23+IF(CC23<$G$7,0,($G$10-1)*AR23/(CD23*100000)) -> 0 | CH23: =CG23-CE23 -> -1.086 | CI23: =IF(CE23=0,0,CH23/CE23*100) -> -100
I24: -177 | J24: ='6500'!B185/1000000 -> 0.00043808 | K24: =IF(I24<$B$7,0,MIN(1,1-EXP(-$B$6*((I24-$B$7)/$B$8)^($B$5+1)))) -> 0 | L24: =(K25-K23)/2 -> 0 | M24: =$B$9*L24 -> 0 | N24: =N23+M24 -> 0 | O24: -177 | P24: ='5500'!B185/1000000 -> 0.00043808 | Q24: =IF(O24<$C$7,0,MIN(1,1-EXP(-$C$6*((O24-$C$7)/$C$8)^($C$5+1)))) -> 0 | R24: =(Q25-Q23)/2 -> 0 | S24: =$C$9*R24 -> 0 | T24: =T23+S24 -> 0 | U24: -177 | V24: ='4500'!B185/1000000 -> 0.00043808 | W24: =IF(U24<$D$7,0,MIN(1,1-EXP(-$D$6*((U24-$D$7)/$D$8)^($D$5+1)))) -> 0 | X24: =(W25-W23)/2 -> 0 | Y24: =$D$9*X24 -> 0 | Z24: =Z23+Y24 -> 0 | AA24: -177 | AB24: ='3500'!B185/1000000 -> 0.00043808 | AC24: =IF(AA24<$E$7,0,MIN(1,1-EXP(-$E$6*((AA24-$E$7)/$E$8)^($E$5+1)))) -> 0 | AD24: =(AC25-AC23)/2 -> 0 | AE24: =$E$9*AD24 -> 0 | AF24: =AF23+AE24 -> 0 | AG24: -177 | AH24: ='2000'!B185/1000000 -> 0.00043808 | AI24: =IF(AG24<$F$7,0,MIN(1,1-EXP(-$F$6*((AG24-$F$7)/$F$8)^($F$5+1)))) -> 0 | AJ24: =(AI25-AI23)/2 -> 0 | AK24: =$F$9*AJ24 -> 0 | AL24: =AL23+AK24 -> 0 | AM24: -177 | AN24: ='1000'!B185/1000000 -> 0.00043808 | AO24: =IF(AM24<$G$7,0,MIN(1,1-EXP(-$G$6*((AM24-$G$7)/$G$8)^($G$5+1)))) -> 0 | AP24: =(AO25-AO23)/2 -> 0 | AQ24: =$G$9*AP24 -> 0 | AR24: =AR23+AQ24 -> 0 | AT24: -177 | AU24: ='6500'!B185/1000000 -> 0.00043808 | AV24: ='6500'!C185 -> 1.224 | AW24: =IF(AT24<$B$13,0,IF(AT24<=0,$B$15*($B$16/AU24)^$B$3/100000,$B$15*($B$16/('6500'!B362/1000000))^$B$3*(('6500'!B362/1000000)/AU24)^$B$4/100000)) -> 0 | AX24: =AW24+IF(AT24<$B$7,0,($B$10-1)*N24/(AU24*100000)) -> 0 | AY24: =AX24-AV24 -> -1.224 | AZ24: =IF(AV24=0,0,AY24/AV24*100) -> -100 | BA24: -177 | BB24: ='5500'!B185/1000000 -> 0.00043808 | BC24: ='5500'!C185 -> 1.307 | BD24: =IF(BA24<$C$13,0,IF(BA24<=0,$C$15*($C$16/BB24)^$C$3/100000,$C$15*($C$16/('5500'!B362/1000000))^$C$3*(('5500'!B362/1000000)/BB24)^$C$4/100000)) -> 0 | BE24: =BD24+IF(BA24<$C$7,0,($C$10-1)*T24/(BB24*100000)) -> 0 | BF24: =BE24-BC24 -> -1.307 | BG24: =IF(BC24=0,0,BF24/BC24*100) -> -100 | BH24: -177 | BI24: ='4500'!B185/1000000 -> 0.00043808 | BJ24: ='4500'!C185 -> 1.247 | BK24: =IF(BH24<$D$13,0,IF(BH24<=0,$D$15*($D$16/BI24)^$D$3/100000,$D$15*($D$16/('4500'!B362/1000000))^$D$3*(('4500'!B362/1000000)/BI24)^$D$4/100000)) -> 0 | BL24: =BK24+IF(BH24<$D$7,0,($D$10-1)*Z24/(BI24*100000)) -> 0 | BM24: =BL24-BJ24 -> -1.247 | BN24: =IF(BJ24=0,0,BM24/BJ24*100) -> -100 | BO24: -177 | BP24: ='3500'!B185/1000000 -> 0.00043808 | BQ24: ='3500'!C185 -> 1.127 | BR24: =IF(BO24<$E$13,0,IF(BO24<=0,$E$15*($E$16/BP24)^$E$3/100000,$E$15*($E$16/('3500'!B362/1000000))^$E$3*(('3500'!B362/1000000)/BP24)^$E$4/100000)) -> 0 | BS24: =BR24+IF(BO24<$E$7,0,($E$10-1)*AF24/(BP24*100000)) -> 0 | BT24: =BS24-BQ24 -> -1.127 | BU24: =IF(BQ24=0,0,BT24/BQ24*100) -> -100 | BV24: -177 | BW24: ='2000'!B185/1000000 -> 0.00043808 | BX24: ='2000'!C185 -> 1.157 | BY24: =IF(BV24<$F$13,0,IF(BV24<=0,$F$15*($F$16/BW24)^$F$3/100000,$F$15*($F$16/('2000'!B362/1000000))^$F$3*(('2000'!B362/1000000)/BW24)^$F$4/100000)) -> 0 | BZ24: =BY24+IF(BV24<$F$7,0,($F$10-1)*AL24/(BW24*100000)) -> 0 | CA24: =BZ24-BX24 -> -1.157 | CB24: =IF(BX24=0,0,CA24/BX24*100) -> -100 | CC24: -177 | CD24: ='1000'!B185/1000000 -> 0.00043808 | CE24: ='1000'!C185 -> 1.078 | CF24: =IF(CC24<$G$13,0,IF(CC24<=0,$G$15*($G$16/CD24)^$G$3/100000,$G$15*($G$16/('1000'!B362/1000000))^$G$3*(('1000'!B362/1000000)/CD24)^$G$4/100000)) -> 0 | CG24: =CF24+IF(CC24<$G$7,0,($G$10-1)*AR24/(CD24*100000)) -> 0 | CH24: =CG24-CE24 -> -1.078 | CI24: =IF(CE24=0,0,CH24/CE24*100) -> -100
